{"text_format":"1","workbook":"xlsx","n_sheets":14,"sheets":["Veg Guide Data Base","Cover Crop Evaluator","Soils Data","Forestry Area","Job Sketch","Example 1a","Example 1b","Example 2","Example 3","Forestry Linear","Job  Sketch","Windbreak Example","Alley Cropping Example","Variance Request"],"not_rendered":{"charts":7,"images":26,"macros":1,"external_links":0,"defined_names":64,"comments":3,"pivot_tables":0},"unopened":[],"bounds":{"document_bytes":16777216,"sheet_cells":100000,"rows_first":2000,"rows_last":500,"rows_between":2000,"halvings":0,"cell_chars":16384,"cell_head_chars":4096},"cells_cut":0,"cells_raw":0,"read":"whole","date_system":"1900"}

{"sheet":"Veg Guide Data Base","index":0,"n_rows":3500,"n_cols":182,"rows_kept":1125,"cut":true,"hidden":false,"merged":[[7,36,7,38],[4,22,4,24],[6,36,6,38],[12,36,12,38],[0,31,0,39],[1,0,1,8],[2,31,2,39],[5,36,5,38],[4,36,4,38],[3,35,3,39],[2,22,2,24],[3,31,3,32],[3,22,3,24],[4,5,4,6],[4,7,4,8],[15,1,17,1],[15,2,17,2],[15,3,17,3],[15,19,17,19],[15,12,17,12],[15,17,17,17],[15,18,17,18],[15,16,17,16],[15,14,17,14],[15,11,17,11],[15,6,17,6],[15,7,17,7],[15,8,17,8],[15,9,17,9],[15,13,17,13],[15,10,17,10],[16,114,16,129],[16,52,16,60],[16,39,17,39],[15,4,17,4],[15,5,17,5],[16,38,17,38],[16,31,17,31],[16,32,17,32],[15,15,17,15],[15,44,16,44],[16,37,17,37],[16,33,16,34],[16,35,16,36],[13,34,15,35],[13,1,13,5],[13,15,13,18],[1498,47,1498,50],[1497,45,1497,46],[1497,47,1497,51],[16,210,16,225],[16,206,17,206],[16,207,17,207],[16,172,16,186],[16,187,16,201],[16,204,16,205],[16,202,17,202],[16,203,17,203],[16,133,16,149],[16,151,16,166],[16,77,16,106],[16,69,16,76],[16,61,16,68]],"bounds":{"rows_first":500,"rows_last":125,"rows_between":500,"halvings":2}}
[null,null,null,null,null,null,null,null,null,null,null,null,null,null,null,null,null,null,null,"1st Choice","2nd Choice","3rd Choice",null,"Search",null,null,null,{"$f":"VLOOKUP(C5,AL1376:AM1390,2,FALSE)","v":{"$error":"#N/A"}},{"$f":"VLOOKUP(C5,AL1376:AM1390,2,FALSE)","v":{"$error":"#N/A"}}]
["All Species",null,null,null,null,null,null,null,null,null,null,null,null,null,null,null,null,"Tree",null,{"$f":"IF($W$3=\"Tree\",1,0)","v":0},{"$f":"IF($W$4=\"Tree\",1,0)","v":0},{"$f":"IF($W$5=\"Tree\",1,0)","v":0},"Plant Type",null,null,null,null,null,{"$f":"VLOOKUP(AD1379,AF1375:AG1390,2,FALSE)","v":{"$error":"#N/A"}},null,null,null,null,null,null,null,null,null,null,null,null,null,null,null,null,null,1,{"$f":"VLOOKUP(A2,AU3:AV23,2,FALSE)","v":3},null,"Height","Rate"]
[null,null,null,null,null,null,null,"Irrigated","Native","Salt","Wind","Pollinator","N Fixer","Wet Soil","Full Sun","Part Shade","Introduced","Shrub",null,{"$f":"IF($W$3=\"Shrub\",1,0)","v":0},{"$f":"IF($W$4=\"Shrub\",1,0)","v":0},0,null,null,null,null,null,{"$f":"IF(OR(AB1=\"American Samoa\",AB1=\"Marianas\",AB1=\"Guam\",AB1=\"Marshall Islands\",AB1=\"Micronesia\",AB1=\"Palau\"),\"Tropical\",\"Subtropical\")","v":{"$error":"#N/A"}},null,null,null,null,null,null,null,null,null,null,null,null,{"$f":"IF(A2=\"Cover Crop (340)\",\"\",\"\")","v":""},null,null,{"$f":"IF(A2=\"Field Border (386)\",\"If shrubs are desired as part of this planting practice, then they should be entered into the narrative for this JS.\",\"\")","v":""},{"$f":"IF(A2=\"Hedgerow Planting (422)\",\"For Hedgerow Planting practices use jobsheet located in FOTG\",\"\")","v":""},{"$f":"IF(A2=\"Cover Crop (340)\",\"Click Here for Cover Crop Planning Worksheet\",\"\")","v":""},"All Species",3,null,"1-25","0-1","Tree",true]
[{"$f":"IF(OR(A2=\"Forest Farming (379)\",OR(A2=\"Riparian Forest Buffer (391)\",OR(A2=\"Silvopasture (381)\",OR(A2=\"Tree/Shrub Establishment (612)\",OR(A2=\"Alley Cropping (311)\"))))),A2,\"Use the Forestry Linear Template for the Selected Practice\")","v":"Use the Forestry Linear Template for the Selected Practice"},{"$f":"IF(OR(A2=\"Alley Cropping (311)\",OR(A2=\"Windbreak/Shelterbelt Establishment (380)\",OR(A2=\"Vegetative Barrier (601)\"))),A2,\"Use the Forestry Area Template for the Selected Practice\")","v":"Use the Forestry Area Template for the Selected Practice"},"Version: October 2015",null,null,null,null,false,false,false,false,false,false,false,false,false,false,"Vine-Woody",null,{"$f":"IF($W$3=\"Vine-Woody\",1,0)","v":0},{"$f":"IF($W$4=\"Vine-Woody\",1,0)","v":0},0,null,null,null,null,null,null,null,null,null,null,null,null,null,null,null,null,null,null,"",null,"2022-01-21","","","","Alley Cropping (311)",2,"0=Herb","25-40"," 1-3","Shrub",false]
[null,"Location=",{"$f":"AD1376","v":0},null,null,null,null,null,null,"Scientific Name 1",null,null,null,null,null,null,null,"Vine-Herbaceous",null,{"$f":"IF($W$3=\"Vine-Herbaceous\",1,0)","v":0},{"$f":"IF($W$4=\"Vine-Herbaceous\",1,0)","v":0},0,null,null,null,null,null,null,null,null,null,null,null,null,null,null,null,null,null,null,null,null,null,null,null,null,"Conservation Cover (327)",0,"1=Tree Area","40+","3+","Herbacious",false]
[null,"Rainfall of Site =",null,"inches","Spring",null,null,null,null,"Scientific Name 2",null,null,null,null,null,null,null,null,null,{"$f":"IF($W$3=\"Herbaceous\",1,0)","v":0},{"$f":"IF($W$4=\"Herbaceous\",1,0)","v":0},{"$f":"IF($W$5=\"Herbaceous\",1,0)","v":0},null,null,null,null,"\tEnance wildlilfe and beneficial insect habitat",null,null,null,null,null,null,null,null,null,null,null,null,null,null,null,"Click Here for Cover Crop Evaluator",null,null,null,"Cover Crop (340)",0,"2=Tree Line",null,null,null,{"$f":"IF(AND(BA3=FALSE,BA4=FALSE,BA5=FALSE),\"Yes\")","v":false}]
[null,"Elevation of Site =",null,null,"Summer",null,null,null,null,"Scientific Name 3","Varience ",null,null,{"$f":"'Veg Guide Data Base'!B1408","v":0},null,{"$f":"'Veg Guide Data Base'!B1408","v":0},null,null,null,{"$f":"SUM(T2:T6)","v":0},{"$f":"SUM(U2:U6)","v":0},{"$f":"SUM(V2:V6)","v":0},{"$f":"IF(T7+U7+V7=0,\"Yes\",\"No\")","v":"Yes"},null,null,null,null,null,null,null,null,null,null,null,null,null,null,null,null,null,null,null,null,null,null,null,"Critical Area Planting (342)",0]
[null,"Growing Season for Cover Crop",null,null,"Fall",null,null,null,null,"Scientific Name 4",true,null,null,null,null,null,null,null,null,null,null,null,null,null,null,null,null,null,null,null,null,null,null,null,null,null,null,null,null,null,null,null,null,null,null,null,"Critical Area Planting (Grassed Waterway) (342)",0,null,null,null,null,null,null,null,null,null,null,null,null,null,null,null,null,null,null,null,null,null,null,null,null,null,null,null,null,null,null,null,null,null,null,null,null,null,null,null,null,null,null,null,null,null,null,null,null,null,null,null,null,null,null,null,null,null,null,null,null,null,null,null,null,null,null,null,null,null,null,null,null,null,null,null,null,null,null,null,null,null,null,null,null,null,null,"Seedbed Prep"]
[null,null,null,null,"Winter",null,null,null,null,"Scientific Name 5",null,null,null,null,null,null,null,null,null,null,null,null,null,null,null,null,null,null,null,null,null,null,null,null,null,null,null,null,null,null,null,null,null,null,null,null,"Field Border (386)",0,null,null,null,null,null,null,null,null,null,null,null,null,null,null,null,null,null,null,null,null,null,null,null,null,null,null,null,null,null,null,null,null,null,null,null,null,null,null,null,null,null,null,null,null,null,null,null,null,null,null,null,null,null,null,null,null,null,null,null,null,null,null,null,null,null,null,null,null,null,null,null,null,null,null,null,null,null,null,null,null,null,null,null,null,null,null,"Good",0.75]
[null,null,"If shrubs are desired as part of this planting practice, then they should be entered into the narrative for this JS.",null,null,null,null,null,null,"Scientific Name 6",null,null,null,null,null,null,null,null,null,null,null,null,null,null,null,null,null,null,null,null,null,null,null,null,null,null,null,null,null,null,null,null,null,null,null,null,"Pasture and Hay Planting (512)",2,null,null,null,null,null,null,null,null,null,null,null,null,null,null,null,null,null,null,null,null,null,null,null,null,null,null,null,null,null,null,null,null,null,null,null,null,null,null,null,null,null,null,null,null,null,null,null,null,null,null,null,null,null,null,null,null,null,null,null,"End of List",{"$f":"DD10","v":"End of List"},null,null,null,null,null,null,null,null,null,null,null,null,null,null,null,null,null,null,null,null,null,null,null,null,null,"Average",1]
[null,null,null,null,null,null,null,null,null,"Scientific Name 7",null,null,null,null,null,null,null,null,null,null,null,null,null,null,null,null,null,null,null,null,null,null,null,null,null,null,null,null,null,null,null,null,null,null,null,null,"Hedgerow Planting (422)",0,null,null,null,null,null,null,null,null,null,null,null,null,null,null,null,null,null,null,null,null,null,null,null,null,null,null,null,null,null,null,null,null,null,null,null,null,null,null,null,null,null,null,null,null,null,null,null,null,null,null,null,null,null,null,null,null,null,null,null,null,null,null,null,null,null,null,null,null,null,null,null,null,null,null,null,null,null,null,null,null,null,null,null,null,null,null,"Poor",1.25]
["NO IR Equation",null,null,null,null,null,null,null,null,"Scientific Name 8",null,null,null,null,null,null,null,null,null,null,null,null,null,null,null,null,null,null,null,null,null,null,null,null,null,null,null,null,null,null,null,null,null,null,null,null,"Herbaceous Wind Barriers (603)",1,null,null,null,null,null,null,null,null,null,null,null,null,null,null,null,null,null,null,null,null,null,null,null,null,null,null,null,null,null,null,null,null,null,null,null,null,null,null,null,null,null,null,null,null,null,null,null,null,null,null,null,null,null,null,null,null,null,null,null,null,null,null,null,null,null,null,null,null,null,null,null,null,null,null,null,null,null,null,null,null,null,null,null,null,null,null,null,{"$f":"IF(AND($Q$1411=\"Broadcast Only\",A2=\"Range Planting (550)\"),2,IF(AND($Q$1411=\"Broadcast Only\",A2=\"Pasture and Hay Planting (512)\"),2,1))","v":1},"512/550 adjustment for broadcast only"]
[{"$f":"IF(A2=\"Hedgerow Planting (422)\", \"DB FILTERING ONLY, NO IR TEMPLATE PROVIDED\", \"\")","v":""},null,null,null,null,null,null,null,null,"Scientific Name 9",null,null,null,null,null,null,null,null,null,{"$f":"IF(T2=1,$R2,IF(T3=1,$R3,IF(T4=1,$R4,IF(T5=1,$R5,IF(T6=1,$R6,0)))))","v":0},{"$f":"IF(U2=1,$R2,IF(U3=1,$R3,IF(U4=1,$R4,IF(U5=1,$R5,IF(U6=1,$R6,0)))))","v":0},{"$f":"IF(V2=1,$R2,IF(V3=1,$R3,IF(V4=1,$R4,IF(V5=1,$R5,IF(V6=1,$R6,0)))))","v":0},null,null,null,null,null,null,null,null,null,null,null,null,null,null,null,null,null,null,null,null,null,null,null,null,"Forest Farming (379)",0,null,null,null,null,null,null,null,null,null,null,null,null,null,null,null,null,null,null,null,null,null,null,null,null,null,{"$f":"VLOOKUP(AZ13,$AZ$29:$BV$367,23,FALSE)","v":{"$error":"#N/A"}},null,null,null,null,null,null,null,null,null,null,null,null,null,null,null,null,null,null,null,null,null,null,null,null,null,null,null,null,null,null,null,null,null,null,null,null,null,null,null,null,null,null,null,null,null,null,null,null,null,null,null,null,null,null,null,null,null,null,null,null,null,{"$f":"IF(AND($Q$1411=\"Broadcast Only\",A3=\"Range Planting (550)\"),2,IF(AND($Q$1411=\"Broadcast Only\",A3=\"Pasture and Hay Planting (512)\"),2,1))","v":1}]
[{"$f":"IF(A2=\"Hedgerow Planting (422)\", \"RETURN TO PLANT LIST, IR TEMPLATE IN FOTG\", \"\")","v":""},"Additional Criteria Met Table",null,null,null,null,null,null,null,"Scientific Name 10",null,null,null,null,null,"Plant Type Table",null,null,null,null,null,null,null,null,null,null,null,null,null,null,null,null,null,null,null,null,null,null,null,"Approved",null,null,null,null,null,null,"Range Planting (550)",2,null,null,null,null,null,null,null,null,null,null,null,null,null,null,null,null,null,null,null,null,null,null,null,null,null,null,null,null,null,null,null,null,null,null,null,null,null,null,null,null,null,null,null,null,null,null,null,null,null,null,null,null,null,null,null,null,null,null,null,null,null,null,null,null,null,null,null,null,null,null,null,null,null,null,null,null,null,null,null,null,null,null,null,null,null,null,null,{"$f":"IF(OR(A2=\"Vegetative Barrier (601)\",A2=\"Herbaceous Wind Barriers (603)\"),1,VLOOKUP(EF7,EE9:EF11,2,FALSE))","v":{"$error":"#N/A"}}]
[null,{"$f":"IF(AND(C29=\"Yes\",D29=\"YES\",E29=\"Yes\",F29=\"yes\",G29=\"Yes\",H29=\"Yes\",I29=\"Yes\",J29=\"Yes\",N29=\"Yes\",Q29=\"Yes\",O29=\"Yes\",K29=\"Yes\",P29=\"Yes\"),\"Yes\",\"No\")","v":{"$error":"#N/A"}},null,null,null,null,null,null,null,null,null,null,null,null,null,null,null,null,null,null,null,null,null,null,null,null,null,null,null,null,null,null,null,null,null,null,null,null,null,null,null,null,null,null,null,null,"Riparian Forest Buffer (391)",2,null,null,null,null,null,null,null,null,null,null,null,null,null,null,null,null,null,null,null,null,null,null,null,null,null,null,null,null,null,null,null,null,null,null,null,null,null,null,null,null,null,null,null,null,null,null,null,null,null,null,null,null,null,null,null,null,null,null,null,null,null,null,null,null,null,null,null,null,null,null,null,null,null,null,null,null,null,null,null,null,null,null,null,null,null,null,null,{"$f":"EF14*EF12*EF13","v":{"$error":"#N/A"}}]
[null,"All Criteria","Practice","Rainfall/Irrigated","Elevation","Native","Wind","Salt","Pollinator","N-Fixer","Meet Sun Criteria?","Species Requires Sun","Species Requires Shade","Meet Wet Soil Criteria?","Meets Location Criteria?","Introduced","Plant Type Criteria Met?","1st Choice","2nd Choice ","3rd Choice",null,null,null,null,null,null,null,null,null,null,null,null,null,null,null,null,null,null,null,null,null,null,null,null,null,null,"Riparian Herbaceous Cover (390)",1,null,null,null,1,2,3,4,5,6,7,8,9,10,11,12,13,14,15,16,17,18,19,20,21,22,23,24,25,26,27,28,29,30,31,32,33,34,35,36,37,38,39,40,41,42,43,44,45,46,47,48,49,50,51,52,53,54,55,56,57,58,59,60,61,62,63,64,65,66,67,68,69,70,71,72,73,74,75,76,77,78,79,80,81,82,83,84,85,86,87,88,89,90,91,92,93,94,95,96,97,98,99,100,101,102,103,104,105,106,107,108,109,110,111,112,113,114,115,116,117,118]
[null,null,null,null,null,null,null,null,null,null,null,null,null,null,null,null,null,null,null,null,null,null,null,null,null,null,null,null,null,null,null,null,null,null,null,null,null,null,null,null,null,null,null,null,null,null,"Silvopasture (381)",1,null,null,null,null,"Common Names",null,null,null,null,null,null,null,null,"Adaptation",null,null,null,null,null,null,null,"Characteristics",null,null,null,null,null,null,null,"Distribution",null,null,null,null,null,null,null,null,null,null,null,null,null,null,null,null,null,null,null,null,null,null,null,null,null,null,null,null,null,null,null,null,null,null,null,null,"Table for Turning Species on and off (Yes = on)",null,null,null,null,null,null,null,null,null,null,null,null,null,null,null,null,null,null,"Planting Rate Table",null,null,null,null,null,null,null,null,null,null,null,null,null,null,null,null,null,"Planting Units Table"]
[null,null,null,null,null,null,null,null,null,null,null,null,null,null,null,null,null,null,null,null,"Native Status","WS/CS Cover Crops","Adjusted Min Elevation","Adjusted Max Elevation",null,null,null,null,null,null,null,null,null,null,null,null,null,null,null,null,null,null,null,null,null,null,"Tree/Shrub Establishment (612)",0,null,null,null,null,"Hawaii","Marianas","American Samoa","Palau","Pohnpei","Kosrae","Chuuk","Yap","Marshall Islands","Elev. Min. (ft.)","Elev. Max. (ft.)","Rainfall Min. (in.)","Rainfall Max. (in.)","Tolerant of Sun","Tolerant of Shade","Wind Tolerant","Salt Tolerant","Tolerant of Water Logged Soil","Type or Habit","N Fixer","Pollinator","HPWRA score","Height Class","Relative Growth Rate","Wind Ht. (ft.) 20-year (woody) 5-year (herb)","Hawaii","Hawaii Native","Kauai","Kauai Native","Lanai","Lanai Native","Maui","Maui Native","Molokai","Molokai Native","Oahu","Oahu Native","American Samoa","American Samoa Native","Marianas Limestone PM","Marianas Limestone PM Native","Marianas Volcanic PM","Marianas Volcanic PM Native","Pohnpei","Pohnpei Native","Kosrae","Kosrae Native","Chuuk","Chuuk Native","Yap","Yap Native","Palau","Palau Native","Marshall Islands","Marshall Islands Native","Notes for Planners","Notes for Data Archive","WS/CS for Cover Crops",null,null,null,null,"All Species","Alley Cropping (311)","Conservation Cover (327)","Cover Crop (340)","Critical Area Planting (342)","Critical Area Planting (Grassed Waterway) (342)","Field Border (386)","Pasture and Hay Planting (512)","Hedgerow Planting (422)","Herbaceous Wind Barriers (603)","Forest Farming (379)","Range Planting (550)","Riparian Forest Buffer (391)","Riparian Herbaceous Cover (390)","Silvopasture (381)","Tree/Shrub Establishment (612)","Vegetative Barrier (601)","Windbreak/Shelterbelt Establishment (380)",null,{"$f":"DL18","v":"Alley Cropping (311)"},{"$f":"DM18","v":"Conservation Cover (327)"},{"$f":"DN18","v":"Cover Crop (340)"},{"$f":"DO18","v":"Critical Area Planting (342)"},{"$f":"DP18","v":"Critical Area Planting (Grassed Waterway) (342)"},"Field Border (386)",{"$f":"DR18","v":"Pasture and Hay Planting (512)"},"Hedgerow Planting (422)","Herbaceous Wind Barriers (603)","Forest Farming (379)","Range Planting (550)","Riparian Forest Buffer (391)","Riparian Herbaceous Cover (390)","Silvopasture (381)","Tree/Shrub Establishment (612)","Vegetative Barrier (601)","Windbreak/Shelterbelt Establishment (380)",null,{"$f":"DL18","v":"Alley Cropping (311)"},{"$f":"DM18","v":"Conservation Cover (327)"},{"$f":"DN18","v":"Cover Crop (340)"},{"$f":"DO18","v":"Critical Area Planting (342)"},{"$f":"DP18","v":"Critical Area Planting (Grassed Waterway) (342)"},"Field Border (386)",{"$f":"DR18","v":"Pasture and Hay Planting (512)"},"Hedgerow Planting (422)","Herbaceous Wind Barriers (603)","Forest Farming (379)","Range Planting (550)","Riparian Forest Buffer (391)","Riparian Herbaceous Cover (390)","Silvopasture (381)","Tree/Shrub Establishment (612)","Vegetative Barrier (601)","Windbreak/Shelterbelt Establishment (380)",null,null,null,null,null,null,null,null,null,null,"Units"]
["Scientific Name 1",{"$f":"IF(A19<>AZ19,\"Yes\",\"No\")","v":"No"},{"$f":"INDEX($DK$29:$EC1536,MATCH(AG19,$AZ$29:$AZ1536,0),MATCH($A$2,$DK$18:$EC$18,0))","v":{"$error":"#N/A"}},{"$f":"IF(ISBLANK($C$6),\"No\",IF(AND($H$4=TRUE,BM19>$C$6),\"Yes\",IF(AND($C$6>=BL19,$C$6<=BM19),\"Yes\",\"No\")))","v":"No"},{"$f":"IF(ISBLANK($C$7),\"No\",IF(AND($C$7>=BJ19,$C$7<=BK19),\"Yes\",\"No\"))","v":"No"},{"$f":"IF($I$4=TRUE,INDEX($BZ$29:$DC1536,MATCH($A19,$AZ$29:$AZ$297,0),MATCH($AC$2,$BZ$18:$DC$18,0)),\"Yes\")","v":"Yes"},{"$f":"IF($K$4=TRUE,VLOOKUP(A19,$AZ$29:$BY$297,17,FALSE),\"Yes\")","v":"Yes"},{"$f":"IF($J$4=TRUE,VLOOKUP(A19,$AZ$29:$BY$297,18,FALSE),\"Yes\")","v":"Yes"},{"$f":"IF($L$4=TRUE,VLOOKUP(A19,$AZ$29:$BY$297,22,FALSE),\"Yes\")","v":"Yes"},{"$f":"IF($M$4=TRUE,VLOOKUP(A19,$AZ$29:$BY$297,21,FALSE),\"Yes\")","v":"Yes"},{"$f":"IF(AND(L19=\"Yes\",M19=\"Yes\"),\"Yes\",\"No\")","v":"Yes"},{"$f":"IF(AND($O$4=TRUE,BO19=\"Yes\"),\"no\",\"Yes\")","v":"Yes"},{"$f":"IF(AND($P$4=TRUE,BN19=\"Yes\"),\"No\",\"Yes\")","v":"Yes"},{"$f":"IF($N$4=TRUE,VLOOKUP(A19,$AZ$29:$BY$297,19,FALSE),\"Yes\")","v":"Yes"},{"$f":"IF($C$5=\"\",\"Yes\",INDEX($BZ$29:$DC$297,MATCH($A19,$AZ$29:$AZ$297,0),MATCH($AD$1379,$BZ$18:$DC$18,0)))","v":{"$error":"#N/A"}},{"$f":"IF(AND($Q$4=TRUE,U19=\"Yes\"),\"No\",IF(AND($Q$4=TRUE,U19=\"No\"),\"yes\",\"Yes\"))","v":{"$error":"#N/A"}},{"$f":"IF(OR(R19=\"Yes\",S19=\"Yes\",T19=\"Yes\"),\"Yes\",\"No\")","v":"Yes"},{"$f":"IF($W$7=\"Yes\",\"Yes\",IF($T$13=BS19,\"Yes\",\"No\"))","v":"Yes"},{"$f":"IF($W$7=\"Yes\",\"Yes\",IF($U$13=BS19,\"Yes\",\"No\"))","v":"Yes"},{"$f":"IF($W$7=\"Yes\",\"Yes\",IF($V$13=BS19,\"Yes\",\"No\"))","v":"Yes"},{"$f":"INDEX($BZ$29:$DC1536,MATCH($AG19,$AZ$29:$AZ$297,0),MATCH($AC$2,$BZ$18:$DC$18,0))","v":{"$error":"#N/A"}},{"$f":"IF(AND(C$7<=X19,C$7>=W19),\"Yes\",\"No\")","v":{"$error":"#N/A"}},{"$f":"IF(AF$1394=\"Tropical\",BJ19,IF(AND($C$8=\"Winter\",DF19=\"CS\"),BJ19-500,BJ19))","v":{"$error":"#N/A"}},{"$f":"IF(AF$1394=\"Tropical\",BK19,IF(AND($C$8=\"Winter\",DF19=\"WS\"),BK19-500,BK19))","v":{"$error":"#N/A"}},null,null,null,null,null,null,null,null,null,null,null,null,null,null,null,null,null,null,null,null,null,null,"Vegetative Barrier (601)",0,"Scientific Name 1","Common Name 1",null,"Scientific Name 1","Common Name 1",{"$f":"$BA19","v":"Common Name 1"},"Common Name 1","Common Name 1","Common Name 1","Common Name 1","Common Name 1","Common Name 1","Common Name 1",0,10000,0,500,"Yes","Yes","Yes","Yes","Yes",null,"Yes","Yes",{"$f":"VLOOKUP(AZ19,$AZ$29:$BV$367,23,FALSE)","v":{"$error":"#N/A"}},null,null,null,"Yes","Yes","Yes","Yes","Yes","Yes","Yes","Yes","Yes","Yes","Yes","Yes","Yes","Yes","Yes","Yes","Yes","Yes","Yes","Yes","Yes","Yes","Yes","Yes","Yes","Yes","Yes","Yes","Yes","Yes",null,null,null,null,null,null,null,"Yes","Yes","Yes","Yes","Yes","Yes","Yes","Yes","Yes","Yes","Yes","Yes","Yes","Yes","Yes","Yes","Yes","Yes",null,0,null,{"$f":"$EE19","v":0},0,0,0,0,null,{"$f":"$EE19","v":0},null,{"$f":"$EE19","v":0},null,{"$f":"$EE19","v":0},null,null,{"$f":"$EE19","v":0},null,null,0,null,{"$f":"$EW19","v":0},0,0,0,0,null,{"$f":"$EW19","v":0},null,{"$f":"$EW19","v":0},null,{"$f":"$EW19","v":0},null,null,{"$f":"$EW19","v":0},null,null,null,null,null,null,null,null,null,null,"Alley Cropping (311)","Ft",null,{"$f":"IF(A$2=\"Vegetative Barrier (601)\",\"Ft (1 Row)\",IF(A$2=\"Alley Cropping (311)\",\"Ft\",IF(A$2=\"Herbaceous Wind Barriers (603)\",\"Ft\",IF(A$2=\"Windbreak/Shelterbelt Establishment (380)\",\"Ft\",\"Ac\"))))","v":"Ac"},"Ac"]
["Scientific Name 2",{"$f":"IF(A20<>AZ20,\"Yes\",\"No\")","v":"No"},{"$f":"INDEX($DK$29:$EC1537,MATCH(AG20,$AZ$29:$AZ1537,0),MATCH($A$2,$DK$18:$EC$18,0))","v":{"$error":"#N/A"}},"No","No",{"$f":"IF($I$4=TRUE,INDEX($BZ$29:$DC1537,MATCH($A20,$AZ$29:$AZ$297,0),MATCH($AC$2,$BZ$18:$DC$18,0)),\"Yes\")","v":"Yes"},{"$f":"IF($K$4=TRUE,VLOOKUP(A20,$AZ$29:$BY$297,17,FALSE),\"Yes\")","v":"Yes"},{"$f":"IF($J$4=TRUE,VLOOKUP(A20,$AZ$29:$BY$297,18,FALSE),\"Yes\")","v":"Yes"},{"$f":"IF($L$4=TRUE,VLOOKUP(A20,$AZ$29:$BY$297,22,FALSE),\"Yes\")","v":"Yes"},{"$f":"IF($M$4=TRUE,VLOOKUP(A20,$AZ$29:$BY$297,21,FALSE),\"Yes\")","v":"Yes"},{"$f":"IF(AND(L20=\"Yes\",M20=\"Yes\"),\"Yes\",\"No\")","v":"Yes"},"Yes","Yes",{"$f":"IF($N$4=TRUE,VLOOKUP(A20,$AZ$29:$BY$297,19,FALSE),\"Yes\")","v":"Yes"},{"$f":"IF($C$5=\"\",\"Yes\",INDEX($BZ$29:$DC$297,MATCH($AG20,$AZ$29:$AZ$297,0),MATCH($AD$1379,$BZ$18:$DC$18,0)))","v":{"$error":"#N/A"}},{"$error":"#N/A"},"Yes","Yes","Yes","Yes",{"$f":"INDEX($BZ$29:$DC1537,MATCH($AG20,$AZ$29:$AZ$297,0),MATCH($AC$2,$BZ$18:$DC$18,0))","v":{"$error":"#N/A"}},{"$error":"#N/A"},{"$f":"IF(AF$1394=\"Tropical\",BJ20,IF(AND($C$8=\"Winter\",DF20=\"CS\"),BJ20-500,BJ20))","v":{"$error":"#N/A"}},{"$f":"IF(AF$1394=\"Tropical\",BK20,IF(AND($C$8=\"Winter\",DF20=\"WS\"),BK20-500,BK20))","v":{"$error":"#N/A"}},null,null,null,null,null,null,null,null,null,null,null,null,null,null,null,null,null,null,null,null,null,null,"Windbreak/Shelterbelt Establishment (380)",1,"Scientific Name 2","Common Name 2",null,"Scientific Name 2","Common Name 2","Common Name 2","Common Name 2","Common Name 2","Common Name 2","Common Name 2","Common Name 2","Common Name 2","Common Name 2",0,10000,0,500,"Yes","Yes","Yes","Yes","Yes",null,"Yes","Yes",{"$f":"VLOOKUP(AZ20,$AZ$29:$BV$367,23,FALSE)","v":{"$error":"#N/A"}},null,null,null,"Yes","Yes","Yes","Yes","Yes","Yes","Yes","Yes","Yes","Yes","Yes","Yes","Yes","Yes","Yes","Yes","Yes","Yes","Yes","Yes","Yes","Yes","Yes","Yes","Yes","Yes","Yes","Yes","Yes","Yes",null,null,null,null,null,null,null,"Yes","Yes","Yes","Yes","Yes","Yes","Yes","Yes","Yes","Yes","Yes","Yes","Yes","Yes","Yes","Yes","Yes","Yes",null,0,null,0,0,0,0,0,null,0,null,0,null,0,null,null,0,null,null,0,null,0,0,0,0,0,null,0,null,0,null,0,null,null,0,null,null,null,null,null,null,null,null,null,null,"Conservation Cover (327)","Ac",null,{"$f":"IF(A$2=\"Vegetative Barrier (601)\",\"Ft (2 Row)\",\"  \")","v":"  "},"  "]
["Scientific Name 3","No",{"$f":"INDEX($DK$29:$EC1538,MATCH(AG21,$AZ$29:$AZ1538,0),MATCH($A$2,$DK$18:$EC$18,0))","v":{"$error":"#N/A"}},"No","No",{"$f":"IF($I$4=TRUE,INDEX($BZ$29:$DC1538,MATCH($A21,$AZ$29:$AZ$297,0),MATCH($AC$2,$BZ$18:$DC$18,0)),\"Yes\")","v":"Yes"},"Yes","Yes","Yes","Yes","Yes","Yes","Yes","Yes",{"$error":"#N/A"},{"$error":"#N/A"},"Yes","Yes","Yes","Yes",{"$f":"INDEX($BZ$29:$DC1538,MATCH($AG21,$AZ$29:$AZ$297,0),MATCH($AC$2,$BZ$18:$DC$18,0))","v":{"$error":"#N/A"}},{"$error":"#N/A"},{"$error":"#N/A"},{"$error":"#N/A"},null,null,null,null,null,null,null,null,null,null,null,null,null,null,null,null,null,null,null,null,null,null,null,1,"Scientific Name 3","Common Name 3",null,"Scientific Name 3","Common Name 3","Common Name 3","Common Name 3","Common Name 3","Common Name 3","Common Name 3","Common Name 3","Common Name 3","Common Name 3",0,10000,0,500,"Yes","Yes","Yes","Yes","Yes",null,"Yes","Yes",{"$f":"VLOOKUP(AZ21,$AZ$29:$BV$367,23,FALSE)","v":{"$error":"#N/A"}},null,null,null,"Yes","Yes","Yes","Yes","Yes","Yes","Yes","Yes","Yes","Yes","Yes","Yes","Yes","Yes","Yes","Yes","Yes","Yes","Yes","Yes","Yes","Yes","Yes","Yes","Yes","Yes","Yes","Yes","Yes","Yes",null,null,null,null,null,null,null,"Yes","Yes","Yes","Yes","Yes","Yes","Yes","Yes","Yes","Yes","Yes","Yes","Yes","Yes","Yes","Yes","Yes","Yes",null,0,null,0,0,0,0,0,null,0,null,0,null,0,null,null,0,null,null,0,null,0,0,0,0,0,null,0,null,0,null,0,null,null,0,null,null,null,null,null,null,null,null,null,null,"Cover Crop (340)","Ac",null,{"$f":"IF(A2=\"Vegetative Barrier (601)\",\"Ft (3 Row)\",\"  \")","v":"  "},"  "]
["Scientific Name 4","No",{"$f":"INDEX($DK$29:$EC1539,MATCH(AG22,$AZ$29:$AZ1539,0),MATCH($A$2,$DK$18:$EC$18,0))","v":{"$error":"#N/A"}},"No","No",{"$f":"IF($I$4=TRUE,INDEX($BZ$29:$DC1539,MATCH($A22,$AZ$29:$AZ$297,0),MATCH($AC$2,$BZ$18:$DC$18,0)),\"Yes\")","v":"Yes"},"Yes","Yes","Yes","Yes","Yes","Yes","Yes","Yes",{"$error":"#N/A"},{"$error":"#N/A"},"Yes","Yes","Yes","Yes",{"$f":"INDEX($BZ$29:$DC1539,MATCH($AG22,$AZ$29:$AZ$297,0),MATCH($AC$2,$BZ$18:$DC$18,0))","v":{"$error":"#N/A"}},{"$error":"#N/A"},{"$error":"#N/A"},{"$error":"#N/A"},null,null,null,null,null,null,null,null,null,null,null,null,null,null,null,null,null,null,null,null,null,null,null,0,"Scientific Name 4","Common Name 4",null,"Scientific Name 4","Common Name 4","Common Name 4","Common Name 4","Common Name 4","Common Name 4","Common Name 4","Common Name 4","Common Name 4","Common Name 4",0,10000,0,500,"Yes","Yes","Yes","Yes","Yes",null,"Yes","Yes",{"$error":"#N/A"},null,null,null,"Yes","Yes","Yes","Yes","Yes","Yes","Yes","Yes","Yes","Yes","Yes","Yes","Yes","Yes","Yes","Yes","Yes","Yes","Yes","Yes","Yes","Yes","Yes","Yes","Yes","Yes","Yes","Yes","Yes","Yes",null,null,null,null,null,null,null,"Yes","Yes","Yes","Yes","Yes","Yes","Yes","Yes","Yes","Yes","Yes","Yes","Yes","Yes","Yes","Yes","Yes","Yes",null,0,null,0,0,0,0,0,null,0,null,0,null,0,null,null,0,null,null,0,null,0,0,0,0,0,null,0,null,0,null,0,null,null,0,null,null,null,null,null,null,null,null,null,null,"Critical Area Planting (342)","Ac"]
["Scientific Name 5","No",{"$f":"INDEX($DK$29:$EC1540,MATCH(AG23,$AZ$29:$AZ1540,0),MATCH($A$2,$DK$18:$EC$18,0))","v":{"$error":"#N/A"}},"No","No",{"$f":"IF($I$4=TRUE,INDEX($BZ$29:$DC1540,MATCH($A23,$AZ$29:$AZ$297,0),MATCH($AC$2,$BZ$18:$DC$18,0)),\"Yes\")","v":"Yes"},"Yes","Yes","Yes","Yes","Yes","Yes","Yes","Yes",{"$error":"#N/A"},{"$error":"#N/A"},"Yes","Yes","Yes","Yes",{"$f":"INDEX($BZ$29:$DC1540,MATCH($AG23,$AZ$29:$AZ$297,0),MATCH($AC$2,$BZ$18:$DC$18,0))","v":{"$error":"#N/A"}},{"$error":"#N/A"},{"$error":"#N/A"},{"$error":"#N/A"},null,null,null,null,null,null,null,null,null,null,null,null,null,null,null,null,null,null,null,null,null,null,null,2,"Scientific Name 5","Common Name 5",null,"Scientific Name 5","Common Name 5","Common Name 5","Common Name 5","Common Name 5","Common Name 5","Common Name 5","Common Name 5","Common Name 5","Common Name 5",0,10000,0,500,"Yes","Yes","Yes","Yes","Yes",null,"Yes","Yes",{"$error":"#N/A"},null,null,null,"Yes","Yes","Yes","Yes","Yes","Yes","Yes","Yes","Yes","Yes","Yes","Yes","Yes","Yes","Yes","Yes","Yes","Yes","Yes","Yes","Yes","Yes","Yes","Yes","Yes","Yes","Yes","Yes","Yes","Yes",null,null,null,null,null,null,null,"Yes","Yes","Yes","Yes","Yes","Yes","Yes","Yes","Yes","Yes","Yes","Yes","Yes","Yes","Yes","Yes","Yes","Yes",null,0,null,0,0,0,0,0,null,0,null,0,null,0,null,null,0,null,null,0,null,0,0,0,0,0,null,0,null,0,null,0,null,null,0,null,null,null,null,null,null,null,null,null,null,"Critical Area Planting (Grassed Waterway) (342)","Ac"]
["Scientific Name 6","No",{"$f":"INDEX($DK$29:$EC1541,MATCH(AG24,$AZ$29:$AZ1541,0),MATCH($A$2,$DK$18:$EC$18,0))","v":{"$error":"#N/A"}},"No","No",{"$f":"IF($I$4=TRUE,INDEX($BZ$29:$DC1541,MATCH($A24,$AZ$29:$AZ$297,0),MATCH($AC$2,$BZ$18:$DC$18,0)),\"Yes\")","v":"Yes"},"Yes","Yes","Yes","Yes","Yes","Yes","Yes","Yes",{"$error":"#N/A"},{"$error":"#N/A"},"Yes","Yes","Yes","Yes",{"$f":"INDEX($BZ$29:$DC1541,MATCH($AG24,$AZ$29:$AZ$297,0),MATCH($AC$2,$BZ$18:$DC$18,0))","v":{"$error":"#N/A"}},{"$error":"#N/A"},{"$error":"#N/A"},{"$error":"#N/A"},null,null,null,null,null,null,null,null,null,null,null,null,null,null,null,null,null,null,null,null,null,null,null,null,"Scientific Name 6","Common Name 6",null,"Scientific Name 6","Common Name 6","Common Name 6","Common Name 6","Common Name 6","Common Name 6","Common Name 6","Common Name 6","Common Name 6","Common Name 6",0,10000,0,500,"Yes","Yes","Yes","Yes","Yes",null,"Yes","Yes",{"$error":"#N/A"},null,null,null,"Yes","Yes","Yes","Yes","Yes","Yes","Yes","Yes","Yes","Yes","Yes","Yes","Yes","Yes","Yes","Yes","Yes","Yes","Yes","Yes","Yes","Yes","Yes","Yes","Yes","Yes","Yes","Yes","Yes","Yes",null,null,null,null,null,null,null,"Yes","Yes","Yes","Yes","Yes","Yes","Yes","Yes","Yes","Yes","Yes","Yes","Yes","Yes","Yes","Yes","Yes","Yes",null,0,null,0,0,0,0,0,null,0,null,0,null,0,null,null,0,null,null,0,null,0,0,0,0,0,null,0,null,0,null,0,null,null,0,null,null,null,null,null,null,null,null,null,null,"Field Border (386)","Ac"]
["Scientific Name 7","No",{"$f":"INDEX($DK$29:$EC1542,MATCH(AG25,$AZ$29:$AZ1542,0),MATCH($A$2,$DK$18:$EC$18,0))","v":{"$error":"#N/A"}},"No","No",{"$f":"IF($I$4=TRUE,INDEX($BZ$29:$DC1542,MATCH($A25,$AZ$29:$AZ$297,0),MATCH($AC$2,$BZ$18:$DC$18,0)),\"Yes\")","v":"Yes"},"Yes","Yes","Yes","Yes","Yes","Yes","Yes","Yes",{"$error":"#N/A"},{"$error":"#N/A"},"Yes","Yes","Yes","Yes",{"$f":"INDEX($BZ$29:$DC1542,MATCH($AG25,$AZ$29:$AZ$297,0),MATCH($AC$2,$BZ$18:$DC$18,0))","v":{"$error":"#N/A"}},{"$error":"#N/A"},{"$error":"#N/A"},{"$error":"#N/A"},null,null,null,null,null,null,null,null,null,null,null,null,null,null,null,null,null,null,null,null,null,null,null,null,"Scientific Name 7","Common Name 7",null,"Scientific Name 7","Common Name 7","Common Name 7","Common Name 7","Common Name 7","Common Name 7","Common Name 7","Common Name 7","Common Name 7","Common Name 7",0,10000,0,500,"Yes","Yes","Yes","Yes","Yes",null,"Yes","Yes",{"$error":"#N/A"},null,null,null,"Yes","Yes","Yes","Yes","Yes","Yes","Yes","Yes","Yes","Yes","Yes","Yes","Yes","Yes","Yes","Yes","Yes","Yes","Yes","Yes","Yes","Yes","Yes","Yes","Yes","Yes","Yes","Yes","Yes","Yes",null,null,null,null,null,null,null,"Yes","Yes","Yes","Yes","Yes","Yes","Yes","Yes","Yes","Yes","Yes","Yes","Yes","Yes","Yes","Yes","Yes","Yes",null,0,null,0,0,0,0,0,null,0,null,0,null,0,null,null,0,null,null,0,null,0,0,0,0,0,null,0,null,0,null,0,null,null,0,null,null,null,null,null,null,null,null,null,null,"Pasture and Hay Planting (512)","Ac"]
["Scientific Name 8","No",{"$f":"INDEX($DK$29:$EC1543,MATCH(AG26,$AZ$29:$AZ1543,0),MATCH($A$2,$DK$18:$EC$18,0))","v":{"$error":"#N/A"}},"No","No",{"$f":"IF($I$4=TRUE,INDEX($BZ$29:$DC1543,MATCH($A26,$AZ$29:$AZ$297,0),MATCH($AC$2,$BZ$18:$DC$18,0)),\"Yes\")","v":"Yes"},"Yes","Yes","Yes","Yes","Yes","Yes","Yes","Yes",{"$error":"#N/A"},{"$error":"#N/A"},"Yes","Yes","Yes","Yes",{"$f":"INDEX($BZ$29:$DC1543,MATCH($AG26,$AZ$29:$AZ$297,0),MATCH($AC$2,$BZ$18:$DC$18,0))","v":{"$error":"#N/A"}},{"$error":"#N/A"},{"$error":"#N/A"},{"$error":"#N/A"},null,null,null,null,null,null,null,null,null,null,null,null,null,null,null,null,null,null,null,null,null,null,null,null,"Scientific Name 8","Common Name 8",null,"Scientific Name 8","Common Name 8","Common Name 8","Common Name 8","Common Name 8","Common Name 8","Common Name 8","Common Name 8","Common Name 8","Common Name 8",0,10000,0,500,"Yes","Yes","Yes","Yes","Yes",null,"Yes","Yes",{"$error":"#N/A"},null,null,null,"Yes","Yes","Yes","Yes","Yes","Yes","Yes","Yes","Yes","Yes","Yes","Yes","Yes","Yes","Yes","Yes","Yes","Yes","Yes","Yes","Yes","Yes","Yes","Yes","Yes","Yes","Yes","Yes","Yes","Yes",null,null,null,null,null,null,null,"Yes","Yes","Yes","Yes","Yes","Yes","Yes","Yes","Yes","Yes","Yes","Yes","Yes","Yes","Yes","Yes","Yes","Yes",null,0,null,0,0,0,0,0,null,0,null,0,null,0,null,null,0,null,null,0,null,0,0,0,0,0,null,0,null,0,null,0,null,null,0,null,null,null,null,null,null,null,null,null,null,"Hedgerow Planting (422)","Ac"]
["Scientific Name 9","No",{"$f":"INDEX($DK$29:$EC1544,MATCH(AG27,$AZ$29:$AZ1544,0),MATCH($A$2,$DK$18:$EC$18,0))","v":{"$error":"#N/A"}},"No","No",{"$f":"IF($I$4=TRUE,INDEX($BZ$29:$DC1544,MATCH($A27,$AZ$29:$AZ$297,0),MATCH($AC$2,$BZ$18:$DC$18,0)),\"Yes\")","v":"Yes"},"Yes","Yes","Yes","Yes","Yes","Yes","Yes","Yes",{"$error":"#N/A"},{"$error":"#N/A"},"Yes","Yes","Yes","Yes",{"$f":"INDEX($BZ$29:$DC1544,MATCH($AG27,$AZ$29:$AZ$297,0),MATCH($AC$2,$BZ$18:$DC$18,0))","v":{"$error":"#N/A"}},{"$error":"#N/A"},{"$error":"#N/A"},{"$error":"#N/A"},null,null,null,null,null,null,null,null,null,null,null,null,null,null,null,null,null,null,null,null,null,null,null,null,"Scientific Name 9","Common Name 9",null,"Scientific Name 9","Common Name 9","Common Name 9","Common Name 9","Common Name 9","Common Name 9","Common Name 9","Common Name 9","Common Name 9","Common Name 9",0,10000,0,500,"Yes","Yes","Yes","Yes","Yes",null,"Yes","Yes",{"$error":"#N/A"},null,null,null,"Yes","Yes","Yes","Yes","Yes","Yes","Yes","Yes","Yes","Yes","Yes","Yes","Yes","Yes","Yes","Yes","Yes","Yes","Yes","Yes","Yes","Yes","Yes","Yes","Yes","Yes","Yes","Yes","Yes","Yes",null,null,null,null,null,null,null,"Yes","Yes","Yes","Yes","Yes","Yes","Yes","Yes","Yes","Yes","Yes","Yes","Yes","Yes","Yes","Yes","Yes","Yes",null,0,null,0,0,0,0,0,null,0,null,0,null,0,null,null,0,null,null,0,null,0,0,0,0,0,null,0,null,0,null,0,null,null,0,null,null,null,null,null,null,null,null,null,null,"Herbaceous Wind Barriers (603)","Ft"]
["Scientific Name 10","No",{"$f":"INDEX($DK$29:$EC1545,MATCH(AG28,$AZ$29:$AZ1545,0),MATCH($A$2,$DK$18:$EC$18,0))","v":{"$error":"#N/A"}},"No","No",{"$f":"IF($I$4=TRUE,INDEX($BZ$29:$DC1545,MATCH($A28,$AZ$29:$AZ$297,0),MATCH($AC$2,$BZ$18:$DC$18,0)),\"Yes\")","v":"Yes"},"Yes","Yes","Yes","Yes","Yes","Yes","Yes","Yes",{"$error":"#N/A"},{"$error":"#N/A"},"Yes","Yes","Yes","Yes",{"$f":"INDEX($BZ$29:$DC1545,MATCH($AG28,$AZ$29:$AZ$297,0),MATCH($AC$2,$BZ$18:$DC$18,0))","v":{"$error":"#N/A"}},{"$error":"#N/A"},{"$error":"#N/A"},{"$error":"#N/A"},null,null,null,null,null,null,null,null,null,null,null,null,null,null,null,null,null,null,null,null,null,null,null,null,"Scientific Name 10","Common Name 10",null,"Scientific Name 10","Common Name 10","Common Name 10","Common Name 10","Common Name 10","Common Name 10","Common Name 10","Common Name 10","Common Name 10","Common Name 10",0,10000,0,500,"Yes","Yes","Yes","Yes","Yes",null,"Yes","Yes",{"$error":"#N/A"},null,null,null,"Yes","Yes","Yes","Yes","Yes","Yes","Yes","Yes","Yes","Yes","Yes","Yes","Yes","Yes","Yes","Yes","Yes","Yes","Yes","Yes","Yes","Yes","Yes","Yes","Yes","Yes","Yes","Yes","Yes","Yes",null,null,null,null,null,null,null,"Yes","Yes","Yes","Yes","Yes","Yes","Yes","Yes","Yes","Yes","Yes","Yes","Yes","Yes","Yes","Yes","Yes","Yes",null,0,null,0,0,0,0,0,null,0,null,0,null,0,null,null,0,null,null,0,null,0,0,0,0,0,null,0,null,0,null,0,null,null,0,null,null,null,null,null,null,null,null,null,null,"Forest Farming (379)","Ac"]
[{"$f":"AZ29","v":"Abutilon incanum"},{"$f":"IF(A29=0,\"No\",IF(AND(C29=\"Yes\",D29=\"YES\",E29=\"Yes\",F29=\"yes\",G29=\"Yes\",H29=\"Yes\",I29=\"Yes\",J29=\"Yes\",N29=\"Yes\",Q29=\"Yes\",O29=\"Yes\",K29=\"Yes\",P29=\"Yes\",V29=\"Yes\"),\"Yes\",\"No\"))","v":{"$error":"#N/A"}},{"$f":"INDEX($DK$29:$EC$1000,MATCH(AZ29,$AZ$29:$AZ$1000,0),MATCH($A$2,$DK$18:$EC$18,0))","v":"Yes"},{"$f":"IF(ISBLANK($C$6),\"No\",IF(AND($H$4=TRUE,BM29>$C$6),\"Yes\",IF(AND($C$6>=BL29,$C$6<=BM29),\"Yes\",\"No\")))","v":"No"},"No",{"$f":"IF($I$4=TRUE,INDEX($BZ$29:$DC1546,MATCH($A29,$AZ$29:$AZ$1000,0),MATCH($AC$2,$BZ$18:$DC$18,0)),\"Yes\")","v":"Yes"},{"$f":"IF($K$4=TRUE,VLOOKUP(A29,$AZ$29:$BY$1000,17,FALSE),\"Yes\")","v":"Yes"},{"$f":"IF($J$4=TRUE,VLOOKUP(A29,$AZ$29:$BY$1000,18,FALSE),\"Yes\")","v":"Yes"},{"$f":"IF($L$4=TRUE,VLOOKUP(A29,$AZ$29:$BY$1000,22,FALSE),\"Yes\")","v":"Yes"},{"$f":"IF($M$4=TRUE,VLOOKUP(A29,$AZ$29:$BY$1000,21,FALSE),\"Yes\")","v":"Yes"},"Yes","Yes","Yes",{"$f":"IF($N$4=TRUE,VLOOKUP(A29,$AZ$29:$BY$1000,19,FALSE),\"Yes\")","v":"Yes"},{"$f":"IF($C$5=\"\",\"Yes\",INDEX($BZ$29:$DC$1000,MATCH($AZ29,$AZ$29:$AZ$1000,0),MATCH($AD$1379,$BZ$18:$DC$18,0)))","v":{"$error":"#N/A"}},{"$f":"IF(AND($Q$4=TRUE,U29=\"Yes\"),\"No\",IF(AND($Q$4=TRUE,U29=\"No\"),\"yes\",\"Yes\"))","v":{"$error":"#N/A"}},"Yes","Yes","Yes","Yes",{"$f":"INDEX($BZ$29:$DC$1000,MATCH($AZ29,$AZ$29:$AZ$1000,0),MATCH($AC$2,$BZ$18:$DC$18,0))","v":{"$error":"#N/A"}},{"$error":"#N/A"},{"$error":"#N/A"},{"$error":"#N/A"},null,null,null,null,null,null,null,null,null,null,null,null,null,null,null,null,null,null,null,null,null,null,null,null,null,null,null,"Abutilon incanum","mao, hoary abutilon","hoary abutilon","hoary abutilon","hoary abutilon","hoary abutilon","hoary abutilon","hoary abutilon","hoary abutilon","hoary abutilon",20,700,15,80,"Yes","No","Yes","Yes","No","Shrub","No","Yes","n/a","1-25","0-1",4,"Yes","No","Yes","Yes","Yes","Yes","Yes","Yes","Yes","Yes","Yes","Yes","No","No","No","No","No","No","No","No","No","No","No","No","No","No","No","No","No","No","Primarily in leeward, dry habitats.",null,null,null,null,null,null,"Yes","Yes","No","No","No","No","No","No","Yes","No","Yes","No","Yes","No","No","Yes","No","No",null,null,null,null,null,null,null,null,null,null,"",null,"",null,"","",null,null,null,null,null,null,null,null,null,null,null,null,"",null,"",null,"","",null,null,null,null,null,null,null,null,null,null,null,"Range Planting (550)","Ac"]
[{"$f":"AZ30","v":"Acacia koa"},{"$error":"#N/A"},{"$f":"INDEX($DK$29:$EC$1000,MATCH(AZ30,$AZ$29:$AZ$1000,0),MATCH($A$2,$DK$18:$EC$18,0))","v":"Yes"},{"$f":"IF(ISBLANK($C$6),\"No\",IF(AND($H$4=TRUE,BM30>$C$6),\"Yes\",IF(AND($C$6>=BL30,$C$6<=BM30),\"Yes\",\"No\")))","v":"No"},{"$f":"IF(ISBLANK($C$7),\"No\",IF(AND($C$7>=BJ30,$C$7<=BK30),\"Yes\",\"No\"))","v":"No"},{"$f":"IF($I$4=TRUE,INDEX($BZ$29:$DC1547,MATCH($A30,$AZ$29:$AZ$1000,0),MATCH($AC$2,$BZ$18:$DC$18,0)),\"Yes\")","v":"Yes"},{"$f":"IF($K$4=TRUE,VLOOKUP(A30,$AZ$29:$BY$1000,17,FALSE),\"Yes\")","v":"Yes"},{"$f":"IF($J$4=TRUE,VLOOKUP(A30,$AZ$29:$BY$1000,18,FALSE),\"Yes\")","v":"Yes"},{"$f":"IF($L$4=TRUE,VLOOKUP(A30,$AZ$29:$BY$1000,22,FALSE),\"Yes\")","v":"Yes"},{"$f":"IF($M$4=TRUE,VLOOKUP(A30,$AZ$29:$BY$1000,21,FALSE),\"Yes\")","v":"Yes"},{"$f":"IF(AND(L30=\"Yes\",M30=\"Yes\"),\"Yes\",\"No\")","v":"Yes"},{"$f":"IF(AND($O$4=TRUE,BO30=\"Yes\"),\"no\",\"Yes\")","v":"Yes"},{"$f":"IF(AND($P$4=TRUE,BN30=\"Yes\"),\"No\",\"Yes\")","v":"Yes"},{"$f":"IF($N$4=TRUE,VLOOKUP(A30,$AZ$29:$BY$1000,19,FALSE),\"Yes\")","v":"Yes"},{"$f":"IF($C$5=\"\",\"Yes\",INDEX($BZ$29:$DC$1000,MATCH($AZ30,$AZ$29:$AZ$1000,0),MATCH($AD$1379,$BZ$18:$DC$18,0)))","v":{"$error":"#N/A"}},{"$f":"IF(AND($Q$4=TRUE,U30=\"Yes\"),\"No\",IF(AND($Q$4=TRUE,U30=\"No\"),\"yes\",\"Yes\"))","v":{"$error":"#N/A"}},{"$f":"IF(OR(R30=\"Yes\",S30=\"Yes\",T30=\"Yes\"),\"Yes\",\"No\")","v":"Yes"},{"$f":"IF($W$7=\"Yes\",\"Yes\",IF($T$13=BS30,\"Yes\",\"No\"))","v":"Yes"},{"$f":"IF($W$7=\"Yes\",\"Yes\",IF($U$13=BS30,\"Yes\",\"No\"))","v":"Yes"},{"$f":"IF($W$7=\"Yes\",\"Yes\",IF($V$13=BS30,\"Yes\",\"No\"))","v":"Yes"},{"$f":"INDEX($BZ$29:$DC$1000,MATCH($AZ30,$AZ$29:$AZ$1000,0),MATCH($AC$2,$BZ$18:$DC$18,0))","v":{"$error":"#N/A"}},{"$error":"#N/A"},{"$error":"#N/A"},{"$error":"#N/A"},null,null,null,null,null,null,null,null,null,null,null,null,null,null,null,null,null,null,null,null,null,null,null,null,null,null,null,"Acacia koa","koa","koa","koa","koa","koa","koa","koa","koa","koa",200,6500,35,200,"Yes","No","No","No","No","Tree","Yes","Yes","n/a","40+","3+",60,"Yes","Yes","Yes","Yes","Yes","Yes","Yes","Yes","Yes","Yes","Yes","Yes","No","No","No","No","No","No","No","No","No","No","No","No","No","No","No","No","No","No","Koa and koaia are susceptible to koa wilt disease (Fusarium oxysporum f. sp. koae) - a soil-borne disease most often seen on trees planted below approximately 2,000 feet, particularly formerly cultivated sites.  Fast-growing, can grow in open, sunny areas; important for initial restoration & major component of many Hawaii forests.",null,null,null,null,null,null,"Yes","Yes","No","No","No","No","No","No","Yes","No","Yes","No","Yes","No","Yes","Yes","No","Yes",null,null,null,null,null,null,null,null,null,null,"10-20",null,"10-20",null,"10-20","10-20",null,null,null,null,null,null,null,null,null,null,null,null,"feet",null,"feet",null,"feet","feet",null,null,null,null,null,null,null,null,null,null,null,"Riparian Forest Buffer (391)","Ac"]
["Acacia koaia",{"$f":"IF(A31=0,\"No\",IF(AND(C31=\"Yes\",D31=\"YES\",E31=\"Yes\",F31=\"yes\",G31=\"Yes\",H31=\"Yes\",I31=\"Yes\",J31=\"Yes\",N31=\"Yes\",Q31=\"Yes\",O31=\"Yes\",K31=\"Yes\",P31=\"Yes\",V31=\"Yes\"),\"Yes\",\"No\"))","v":{"$error":"#N/A"}},"Yes","No","No",{"$f":"IF($I$4=TRUE,INDEX($BZ$29:$DC1548,MATCH($A31,$AZ$29:$AZ$1000,0),MATCH($AC$2,$BZ$18:$DC$18,0)),\"Yes\")","v":"Yes"},"Yes","Yes","Yes","Yes","Yes","Yes","Yes","Yes",{"$error":"#N/A"},{"$error":"#N/A"},"Yes","Yes","Yes","Yes",{"$error":"#N/A"},{"$error":"#N/A"},{"$error":"#N/A"},{"$error":"#N/A"},null,null,null,null,null,null,null,null,null,null,null,null,null,null,null,null,null,null,null,null,null,null,null,null,null,null,null,"Acacia koaia","koaia, koaie","koaia, koaie","koaia, koaie","koaia, koaie","koaia, koaie","koaia, koaie","koaia, koaie","koaia, koaie","koaia, koaie",200,6500,30,80,"Yes","No","Yes","No","No","Tree","Yes","Yes","n/a","25-40","1-3",25,"Yes","Yes","Yes","Yes","Yes","Yes","Yes","Yes","Yes","Yes","Yes","Yes","No","No","No","No","No","No","No","No","No","No","No","No","No","No","No","No","No","No","Koa and koaia are susceptible to koa wilt disease (Fusarium oxysporum f. sp. koae) - a soil-borne disease most often seen on trees planted below approximately 2,000 feet, particularly formerly cultivated sites.  More drought tolerant than Acacia koa.",null,null,null,null,null,null,"Yes","Yes","No","No","No","No","No","No","Yes","No","Yes","No","Yes","No","No","Yes","No","Yes",null,null,null,null,null,null,null,null,null,null,"8-15",null,"8-15",null,"8-15","8-15",null,null,null,null,null,null,null,null,null,null,null,null,"feet",null,"feet",null,"feet","feet",null,null,null,null,null,null,null,null,null,null,null,"Riparian Herbaceous Cover (390)","Ac"]
["Achyranthes splendens var. splendens",{"$error":"#N/A"},"Yes","No","No",{"$f":"IF($I$4=TRUE,INDEX($BZ$29:$DC1549,MATCH($A32,$AZ$29:$AZ$1000,0),MATCH($AC$2,$BZ$18:$DC$18,0)),\"Yes\")","v":"Yes"},"Yes","Yes","Yes","Yes","Yes","Yes","Yes","Yes",{"$error":"#N/A"},{"$error":"#N/A"},"Yes","Yes","Yes","Yes",{"$error":"#N/A"},{"$error":"#N/A"},{"$error":"#N/A"},{"$error":"#N/A"},null,null,null,null,null,null,null,null,null,null,null,null,null,null,null,null,null,null,null,null,null,null,null,null,null,null,null,"Achyranthes splendens var. splendens","Maui hinahina ewa, Maui chaff flower","Maui chaff flower","Maui chaff flower","Maui chaff flower","Maui chaff flower","Maui chaff flower","Maui chaff flower","Maui chaff flower","Maui chaff flower",20,1600,15,80,"Yes","No","Yes","No","No","Shrub","No","Yes","n/a","1-25","0-1",6,"Yes","No","Yes","No","Yes","Yes","Yes","Yes","Yes","No","Yes","No","No","No","No","No","No","No","No","No","No","No","No","No","No","No","No","No","No","No","Good year-round bee forage.",null,null,null,null,null,null,"Yes","Yes","No","No","No","No","No","No","Yes","No","Yes","No","Yes","No","No","Yes","No","Yes",null,null,null,null,null,null,null,null,null,null,"",null,"",null,"","",null,null,null,null,null,null,null,null,null,null,null,null,"",null,"",null,"","",null,null,null,null,null,null,null,null,null,null,null,"Silvopasture (381)","Ac"]
["Agathis robusta",{"$error":"#N/A"},"Yes","No","No",{"$f":"IF($I$4=TRUE,INDEX($BZ$29:$DC1550,MATCH($A33,$AZ$29:$AZ$1000,0),MATCH($AC$2,$BZ$18:$DC$18,0)),\"Yes\")","v":"Yes"},"Yes","Yes","Yes","Yes","Yes","Yes","Yes","Yes",{"$error":"#N/A"},{"$error":"#N/A"},"Yes","Yes","Yes","Yes",{"$error":"#N/A"},{"$error":"#N/A"},{"$error":"#N/A"},{"$error":"#N/A"},null,null,null,null,null,null,null,null,null,null,null,null,null,null,null,null,null,null,null,null,null,null,null,null,null,null,null,"Agathis robusta","Queensland kauri","Queensland kauri","Queensland kauri","Queensland kauri","Queensland kauri","Queensland kauri","Queensland kauri","Queensland kauri","Queensland kauri",20,3000,45,120,"Yes","No","No","No","No","Tree","No","No",-5,"40+","1-3",30,"Yes","No","Yes","No","Yes","No","Yes","No","Yes","No","Yes","No","No","No","No","No","No","No","No","No","No","No","No","No","No","No","No","No","No","No",null,null,null,null,null,null,null,"Yes","Yes","No","No","No","No","No","No","Yes","No","Yes","No","Yes","No","Yes","Yes","No","No",null,null,null,null,null,null,null,null,null,null,"8-15",null,"8-15",null,"8-15","8-15",null,null,null,null,null,null,null,null,null,null,null,null,null,null,null,null,null,null,null,null,null,null,null,null,null,null,null,null,null,"Tree/Shrub Establishment (612)","Ac"]
["Aglaia mariannensis",{"$error":"#N/A"},{"$f":"INDEX($DK$29:$EC$1000,MATCH(AZ34,$AZ$29:$AZ$1000,0),MATCH($A$2,$DK$18:$EC$18,0))","v":"Yes"},{"$f":"IF(ISBLANK($C$6),\"No\",IF(AND($H$4=TRUE,BM34>$C$6),\"Yes\",IF(AND($C$6>=BL34,$C$6<=BM34),\"Yes\",\"No\")))","v":"No"},{"$f":"IF(ISBLANK($C$7),\"No\",IF(AND($C$7>=BJ34,$C$7<=BK34),\"Yes\",\"No\"))","v":"No"},{"$f":"IF($I$4=TRUE,INDEX($BZ$29:$DC1551,MATCH($A34,$AZ$29:$AZ$1000,0),MATCH($AC$2,$BZ$18:$DC$18,0)),\"Yes\")","v":"Yes"},"Yes","Yes","Yes","Yes",{"$f":"IF(AND(L34=\"Yes\",M34=\"Yes\"),\"Yes\",\"No\")","v":"Yes"},{"$f":"IF(AND($O$4=TRUE,BO34=\"Yes\"),\"no\",\"Yes\")","v":"Yes"},{"$f":"IF(AND($P$4=TRUE,BN34=\"Yes\"),\"No\",\"Yes\")","v":"Yes"},"Yes",{"$error":"#N/A"},{"$f":"IF(AND($Q$4=TRUE,U34=\"Yes\"),\"No\",IF(AND($Q$4=TRUE,U34=\"No\"),\"yes\",\"Yes\"))","v":{"$error":"#N/A"}},{"$f":"IF(OR(R34=\"Yes\",S34=\"Yes\",T34=\"Yes\"),\"Yes\",\"No\")","v":"Yes"},{"$f":"IF($W$7=\"Yes\",\"Yes\",IF($T$13=BS34,\"Yes\",\"No\"))","v":"Yes"},{"$f":"IF($W$7=\"Yes\",\"Yes\",IF($U$13=BS34,\"Yes\",\"No\"))","v":"Yes"},{"$f":"IF($W$7=\"Yes\",\"Yes\",IF($V$13=BS34,\"Yes\",\"No\"))","v":"Yes"},{"$error":"#N/A"},{"$error":"#N/A"},{"$error":"#N/A"},{"$error":"#N/A"},null,null,null,null,null,null,null,null,null,null,null,null,null,null,null,null,null,null,null,null,null,null,null,null,null,null,null,"Aglaia mariannensis","mapunyao","mapunyao, maffinio","mapunyao","mesecheues","mesecheues","mapunyao","mapunyao","mapunyao","mapunyao",0,1700,80,120,"Yes","Yes","Yes","No","No","Tree","No","Yes","n/a","25-40","0-1",20,"No","No","No","No","No","No","No","No","No","No","No","No","No","No","Yes","Yes","Yes","Yes","No","No","No","No","No","No","No","No","Yes","No","No","No",null,null,null,null,null,null,null,"Yes","Yes","No","No","No","No","No","No","Yes","No","Yes","No","Yes","No","Yes","Yes","No","No",null,null,null,null,null,null,null,null,null,null,"8-15",null,"8-15",null,"8-15","8-15",null,null,null,null,null,null,null,null,null,null,null,null,"feet",null,"feet",null,"feet","feet",null,null,null,null,null,null,null,null,null,null,null,"Vegetative Barrier (601)","Ft"]
["Aglaia ponapensis",{"$error":"#N/A"},"Yes","No","No",{"$f":"IF($I$4=TRUE,INDEX($BZ$29:$DC1552,MATCH($A35,$AZ$29:$AZ$1000,0),MATCH($AC$2,$BZ$18:$DC$18,0)),\"Yes\")","v":"Yes"},"Yes","Yes","Yes","Yes","Yes","Yes","Yes","Yes",{"$error":"#N/A"},{"$error":"#N/A"},"Yes","Yes","Yes","Yes",{"$error":"#N/A"},{"$error":"#N/A"},{"$error":"#N/A"},{"$error":"#N/A"},null,null,null,null,null,null,null,null,null,null,null,null,null,null,null,null,null,null,null,null,null,null,null,null,null,null,null,"Aglaia ponapensis","Aglaia ponapensis","Aglaia ponapensis","Aglaia ponapensis","Aglaia ponapensis","marasau","Aglaia ponapensis","Aglaia ponapensis","Aglaia ponapensis","Aglaia ponapensis",0,2400,100,240,"Yes","Yes","No","No","No","Tree","No","Yes","n/a","25-40","1-3",20,"No","No","No","No","No","No","No","No","No","No","No","No","No","No","No","No","No","No","Yes","Yes","No","No","No","No","No","No","No","No","No","No",null,null,null,null,null,null,null,"Yes","Yes","No","No","No","No","No","No","Yes","No","Yes","No","Yes","No","Yes","Yes","No","No",null,null,null,null,null,null,null,null,null,null,"8-15",null,"8-15",null,"8-15","8-15",null,null,null,null,null,null,null,null,null,null,null,null,null,null,null,null,null,null,null,null,null,null,null,null,null,null,null,null,null,"Windbreak/Shelterbelt Establishment (380)","Ft"]
["Aglaia samoensis",{"$error":"#N/A"},"Yes","No","No",{"$f":"IF($I$4=TRUE,INDEX($BZ$29:$DC1553,MATCH($A36,$AZ$29:$AZ$1000,0),MATCH($AC$2,$BZ$18:$DC$18,0)),\"Yes\")","v":"Yes"},"Yes","Yes","Yes","Yes","Yes","Yes","Yes","Yes",{"$error":"#N/A"},{"$error":"#N/A"},"Yes","Yes","Yes","Yes",{"$error":"#N/A"},{"$error":"#N/A"},{"$error":"#N/A"},{"$error":"#N/A"},null,null,null,null,null,null,null,null,null,null,null,null,null,null,null,null,null,null,null,null,null,null,null,null,null,null,null,"Aglaia samoensis","lagaali","lagaali","lagaali","lagaali","lagaali","lagaali","lagaali","lagaali","lagaali",20,3200,80,200,"Yes","Yes","No","No","No","Tree","No","Yes","n/a","1-25","1-3",12,"No","No","No","No","No","No","No","No","No","No","No","No","Yes","Yes","No","No","No","No","No","No","No","No","No","No","No","No","No","No","No","No",null,"on IUCN Red List of Threatened Species; Am Samoa Nat'l Park site says it's common",null,null,null,null,null,"Yes","Yes","No","No","No","No","No","No","Yes","No","Yes","No","Yes","No","Yes","Yes","No","No",null,null,null,null,null,null,null,null,null,null,"8-15",null,"8-15",null,"8-15","8-15",null,null,null,null,null,null,null,null,null,null,null,null,"feet",null,"feet",null,"feet","feet"]
["Aidia cochinchinensis",{"$error":"#N/A"},"Yes","No","No",{"$f":"IF($I$4=TRUE,INDEX($BZ$29:$DC1554,MATCH($A37,$AZ$29:$AZ$1000,0),MATCH($AC$2,$BZ$18:$DC$18,0)),\"Yes\")","v":"Yes"},"Yes","Yes","Yes","Yes","Yes","Yes","Yes","Yes",{"$error":"#N/A"},{"$error":"#N/A"},"Yes","Yes","Yes","Yes",{"$error":"#N/A"},{"$error":"#N/A"},{"$error":"#N/A"},{"$error":"#N/A"},null,null,null,null,null,null,null,null,null,null,null,null,null,null,null,null,null,null,null,null,null,null,null,null,null,null,null,"Aidia cochinchinensis","ola mea","sumak","ola mea","chomail","kehnmant, ","kahmant, ","kahmant, ","gathimech","kielomar, randia, kutak",0,1700,70,240,"Yes","Yes","Yes","No","No","Tree","No","Yes","n/a","1-25","1-3",20,"No","No","No","No","No","No","No","No","No","No","No","No","Yes","Yes","Yes","Yes","No","No","Yes","Yes","Yes","Yes","Yes","No","Yes","Yes","Yes","Yes","Yes","No",null,null,null,null,null,null,null,"Yes","Yes","No","No","No","No","No","No","Yes","No","Yes","No","Yes","No","No","Yes","No","Yes",null,null,null,null,null,null,null,null,null,null,"8-12",null,"8-12",null,"8-12","8-12",null,null,null,null,null,null,null,null,null,null,null,null,"feet",null,"feet",null,"feet","feet",null,null,null,null,null,null,null,null,null,null,null,"Controlling Factors for JAA cbo(s) Agron IRs"]
["Ajuga reptans",{"$error":"#N/A"},"Yes","No","No",{"$f":"IF($I$4=TRUE,INDEX($BZ$29:$DC1555,MATCH($A38,$AZ$29:$AZ$1000,0),MATCH($AC$2,$BZ$18:$DC$18,0)),\"Yes\")","v":"Yes"},"Yes","Yes","Yes","Yes","Yes","Yes","Yes","Yes",{"$error":"#N/A"},{"$error":"#N/A"},"Yes","Yes","Yes","Yes",{"$error":"#N/A"},{"$error":"#N/A"},{"$error":"#N/A"},{"$error":"#N/A"},null,null,null,null,null,null,null,null,null,null,null,null,null,null,null,null,null,null,null,null,null,null,null,null,null,null,null,"Ajuga reptans","carpet bugle","carpet bugle","carpet bugle","carpet bugle","carpet bugle","carpet bugle","carpet bugle","carpet bugle","carpet bugle",20,3000,30,200,"Yes","Yes","No","No","No","Herb","No","No",11,"0-1","3+",0,"Yes","No","Yes","No","Yes","No","Yes","No","Yes","No","Yes","No","Yes","No","Yes","No","Yes","No","No","No","Yes","No","Yes","No","Yes","No","Yes","No","Yes","No",null,null,null,null,null,null,null,"Yes","No","No","No","Yes","No","Yes","No","No","No","No","No","No","Yes","No","No","No","No",null,null,null,null,80,null,40,null,null,null,"",null,"",null,"","",null,null,null,null,null,null,"bu/ac",null,"bu/ac",null,null,null,"",null,"",null,"","",null,null,null,null,null,null,null,null,null,null,null,"practice purpose (327, 340, 386)"]
["Aleurites moluccana",{"$f":"IF(A39=0,\"No\",IF(AND(C39=\"Yes\",D39=\"YES\",E39=\"Yes\",F39=\"yes\",G39=\"Yes\",H39=\"Yes\",I39=\"Yes\",J39=\"Yes\",N39=\"Yes\",Q39=\"Yes\",O39=\"Yes\",K39=\"Yes\",P39=\"Yes\",V39=\"Yes\"),\"Yes\",\"No\"))","v":{"$error":"#N/A"}},"Yes","No","No",{"$f":"IF($I$4=TRUE,INDEX($BZ$29:$DC1556,MATCH($A39,$AZ$29:$AZ$1000,0),MATCH($AC$2,$BZ$18:$DC$18,0)),\"Yes\")","v":"Yes"},"Yes","Yes","Yes","Yes","Yes","Yes","Yes","Yes",{"$error":"#N/A"},{"$error":"#N/A"},"Yes","Yes","Yes","Yes",{"$error":"#N/A"},{"$error":"#N/A"},{"$error":"#N/A"},{"$error":"#N/A"},null,null,null,null,null,null,null,null,null,null,null,null,null,null,null,null,null,null,null,null,null,null,null,null,null,null,null,"Aleurites moluccana","kukui, candlenut","lumbang, raguar, candlenut","lama, candlenut","sakan, candlenut","sakan, candlenut","candlenut","candlenut, lama, lumbang, sakan, raguar","candlenut, lama, lumbang, sakan, raguar","candlenut, lama, lumbang, sakan, raguar",20,2500,40,240,"Yes","Yes","Yes","No","No","Tree","No","No",12,"40+","3+",50,"Yes","No","Yes","No","Yes","No","Yes","No","Yes","No","Yes","No","Yes","No","Yes","Yes","Yes","Yes","Yes","No","Yes","No","No","No","Yes","No","Yes","No","Yes","No",null,null,null,null,null,null,null,"Yes","Yes","No","No","No","No","No","No","Yes","No","Yes","No","Yes","No","Yes","Yes","No","Yes",null,null,null,null,null,null,null,null,null,null,"10-20",null,"10-20",null,"10-20","10-20",null,null,null,null,null,null,null,null,null,null,null,null,"feet",null,"feet",null,"feet","feet",null,null,null,null,null,null,null,null,null,null,null,"slope (342, 601)"]
["Alphitonia ponderosa",{"$error":"#N/A"},"Yes","No","No",{"$f":"IF($I$4=TRUE,INDEX($BZ$29:$DC1557,MATCH($A40,$AZ$29:$AZ$1000,0),MATCH($AC$2,$BZ$18:$DC$18,0)),\"Yes\")","v":"Yes"},"Yes","Yes","Yes","Yes","Yes","Yes","Yes","Yes",{"$error":"#N/A"},{"$error":"#N/A"},"Yes","Yes","Yes","Yes",{"$error":"#N/A"},{"$error":"#N/A"},{"$error":"#N/A"},{"$error":"#N/A"},null,null,null,null,null,null,null,null,null,null,null,null,null,null,null,null,null,null,null,null,null,null,null,null,null,null,null,"Alphitonia ponderosa","kauila ","kauila ","kauila ","kauila ","kauila ","kauila ","kauila ","kauila ","kauila ",800,4100,20,120,"Yes","No","Yes","No","No","Tree","No","Yes","n/a","25-40","1-3",25,"Yes","Yes","Yes","Yes","Yes","Yes","Yes","Yes","Yes","Yes","Yes","Yes","No","No","No","No","No","No","No","No","No","No","No","No","No","No","No","No","No","No","Dry to dry-mesic sites",null,null,null,null,null,null,"Yes","No","No","No","No","No","No","No","Yes","No","Yes","No","Yes","No","No","Yes","No","Yes",null,null,null,null,null,null,null,null,null,null,"8-15",null,"8-15",null,"8-15","8-15",null,null,null,null,null,null,null,null,null,null,null,null,"feet",null,"feet",null,"feet","feet",null,null,null,null,null,null,null,null,null,null,null,"number of species planted (340, 390)"]
["Alphitonia zizyphoides",{"$error":"#N/A"},"Yes","No","No",{"$f":"IF($I$4=TRUE,INDEX($BZ$29:$DC1558,MATCH($A41,$AZ$29:$AZ$1000,0),MATCH($AC$2,$BZ$18:$DC$18,0)),\"Yes\")","v":"Yes"},"Yes","Yes","Yes","Yes","Yes","Yes","Yes","Yes",{"$error":"#N/A"},{"$error":"#N/A"},"Yes","Yes","Yes","Yes",{"$error":"#N/A"},{"$error":"#N/A"},{"$error":"#N/A"},{"$error":"#N/A"},null,null,null,null,null,null,null,null,null,null,null,null,null,null,null,null,null,null,null,null,null,null,null,null,null,null,null,"Alphitonia zizyphoides","toi","toi","toi","toi","toi","toi","toi","toi","toi",20,2300,70,160,"Yes","Yes","No","No","No","Tree","No","Yes",0,"40+","3+",80,"No","No","No","No","No","No","No","No","No","No","No","No","Yes","Yes","No","No","No","No","No","No","No","No","No","No","No","No","No","No","No","No","Good forage for honey bees.",null,null,null,null,null,null,"Yes","Yes","No","No","No","No","No","No","Yes","No","Yes","No","Yes","No","Yes","Yes","No","Yes",null,null,null,null,null,null,null,null,null,null,"10-40",null,"10-40",null,"10-40","10-40",null,null,null,null,null,null,null,null,null,null,null,null,"feet",null,"feet",null,"feet","feet",null,null,null,null,null,null,null,null,null,null,null,"area treated (603)"]
["Alpinia zerumbet",{"$error":"#N/A"},"Yes","No","No",{"$f":"IF($I$4=TRUE,INDEX($BZ$29:$DC1559,MATCH($A42,$AZ$29:$AZ$1000,0),MATCH($AC$2,$BZ$18:$DC$18,0)),\"Yes\")","v":"Yes"},"Yes","Yes","Yes","Yes","Yes","Yes","Yes","Yes",{"$error":"#N/A"},{"$error":"#N/A"},"Yes","Yes","Yes","Yes",{"$error":"#N/A"},{"$error":"#N/A"},{"$error":"#N/A"},{"$error":"#N/A"},null,null,null,4,null,null,null,null,null,null,null,null,null,null,null,null,null,null,null,null,null,null,null,null,null,null,null,"Alpinia zerumbet","shell ginger","shell ginger","shell ginger","shell ginger","shell ginger","shell ginger","shell ginger","shell ginger","shell ginger",20,2500,40,200,"No","No","Yes","No","No","Herb","No","No",10,"1-25","3+",6,"Yes","No","Yes","No","Yes","No","Yes","No","Yes","No","Yes","No","No","No","Yes","No","Yes","No","No","No","Yes","No","yes","No","Yes","No","Yes","No","Yes","No",null,null,null,null,null,null,null,"Yes","No","No","No","No","No","No","No","No","No","No","No","No","No","No","No","No","No",null,null,null,null,null,null,null,null,null,0,"",null,"",null,"","",null,null,null,null,null,null,null,null,null,null,null,null,"",null,"",null,"","",null,null,null,null,null,null,null,null,null,null,null,"type of site prep (342)"]
["Alternanthera tenella",{"$error":"#N/A"},"Yes","No","No",{"$f":"IF($I$4=TRUE,INDEX($BZ$29:$DC1560,MATCH($A43,$AZ$29:$AZ$1000,0),MATCH($AC$2,$BZ$18:$DC$18,0)),\"Yes\")","v":"Yes"},"Yes","Yes","Yes","Yes","Yes","Yes","Yes","Yes",{"$error":"#N/A"},{"$error":"#N/A"},"Yes","Yes","Yes","Yes",{"$error":"#N/A"},{"$error":"#N/A"},{"$error":"#N/A"},{"$error":"#N/A"},null,null,null,null,null,null,null,null,null,null,null,null,null,null,null,null,null,null,null,null,null,null,null,null,null,null,null,"Alternanthera tenella","joyweed","joyweed","joyweed","joyweed","joyweed","joyweed","joyweed","joyweed","joyweed",20,3000,30,200,"Yes","Yes","Yes","No","Yes","Herb","No","No","n/a","0-1","1-3",0,"Yes","No","Yes","No","Yes","No","Yes","No","Yes","No","Yes","No","Yes","No","Yes","No","Yes","No","No","No","Yes","No","Yes","No","Yes","No","Yes","No","Yes","No",null,null,null,null,null,null,null,"Yes","No","No","No","Yes","No","Yes","No","No","No","No","No","No","Yes","No","No","No","No",null,null,null,null,80,null,40,null,null,null,"",null,"",null,"","",null,null,null,null,null,null,"bu/ac",null,"bu/ac",null,null,null,"",null,"",null,"","",null,null,null,null,null,null,null,null,null,null,null,"weed pressure (390)"]
["Alyxia stellata",{"$error":"#N/A"},"Yes","No","No",{"$f":"IF($I$4=TRUE,INDEX($BZ$29:$DC1561,MATCH($A44,$AZ$29:$AZ$1000,0),MATCH($AC$2,$BZ$18:$DC$18,0)),\"Yes\")","v":"Yes"},"Yes","Yes","Yes","Yes","Yes","Yes","Yes","Yes",{"$error":"#N/A"},{"$error":"#N/A"},"Yes","Yes","Yes","Yes",{"$error":"#N/A"},{"$error":"#N/A"},{"$error":"#N/A"},{"$error":"#N/A"},null,null,null,null,null,null,null,null,null,null,null,null,null,null,null,null,null,null,null,null,null,null,null,null,null,null,null,"Alyxia stellata","maile","maile","nau, gau","maile","maile","maile","maile","maile","maile",150,6500,25,200,"No","Yes","Yes","No","No","Vine-woody","No","Yes","n/a","1-25","1-3",0,"Yes","Yes","Yes","Yes","Yes","Yes","Yes","Yes","Yes","Yes","Yes","Yes","Yes","Yes","No","No","No","No","No","No","No","No","No","No","No","No","No","No","No","No","Plant in sheltered spots with partial shade.",null,null,null,null,null,null,"Yes","Yes","No","No","No","No","No","No","Yes","No","Yes","No","Yes","No","No","Yes","No","No",null,null,null,null,null,null,null,null,null,null,"",null,"",null,"","",null,null,null,null,null,null,null,null,null,null,null,null,"",null,"",null,"","",null,null,null,null,null,null,null,null,null,null,null,"stream bank degradation (390)"]
["Anacardium occidentale",{"$error":"#N/A"},"Yes","No","No",{"$f":"IF($I$4=TRUE,INDEX($BZ$29:$DC1562,MATCH($A45,$AZ$29:$AZ$1000,0),MATCH($AC$2,$BZ$18:$DC$18,0)),\"Yes\")","v":"Yes"},"Yes","Yes","Yes","Yes","Yes","Yes","Yes","Yes",{"$error":"#N/A"},{"$error":"#N/A"},"Yes","Yes","Yes","Yes",{"$error":"#N/A"},{"$error":"#N/A"},{"$error":"#N/A"},{"$error":"#N/A"},null,null,null,null,null,null,null,null,null,null,null,null,null,null,null,null,null,null,null,null,null,null,null,null,null,null,null,"Anacardium occidentale","cashew","cashew, kasoi","cashew, teuila, apu initia","cashew","cashew","cashew","cashew","cashew","cashew",20,2300,35,240,"Yes","No","No","No","No","Tree","No","No",0,"25-40","1-3",30,"Yes","No","Yes","No","Yes","No","Yes","No","Yes","No","Yes","No","Yes","No","Yes","No","Yes","No","No","No","Yes","No","Yes","No","Yes","No","Yes","No","Yes","No","Known to spread, but not aggressively.",null,null,null,null,null,null,"Yes","Yes","No","No","No","No","No","No","Yes","No","Yes","No","Yes","No","Yes","Yes","No","No",null,null,null,null,null,null,null,null,null,null,"10-40",null,"10-40",null,"10-40","10-40",null,null,null,null,null,null,null,null,null,null,null,null,"feet",null,"feet",null,"feet","feet"]
["Annona cherimola",{"$error":"#N/A"},"Yes","No","No",{"$f":"IF($I$4=TRUE,INDEX($BZ$29:$DC1563,MATCH($A46,$AZ$29:$AZ$1000,0),MATCH($AC$2,$BZ$18:$DC$18,0)),\"Yes\")","v":"Yes"},"Yes","Yes","Yes","Yes","Yes","Yes","Yes","Yes",{"$error":"#N/A"},{"$error":"#N/A"},"Yes","Yes","Yes","Yes",{"$error":"#N/A"},{"$error":"#N/A"},{"$error":"#N/A"},{"$error":"#N/A"},null,null,null,null,null,null,null,null,null,null,null,null,null,null,null,null,null,null,null,null,null,null,null,null,null,null,null,"Annona cherimola","cherimoya, kelemoio","cherimoya","cherimoya","cherimoya","cherimoya","cherimoya","cherimoya","cherimoya","cherimoya",2500,6000,50,240,"Yes","No","No","No","No","Tree","No","No",-4,"1-25","1-3",20,"Yes","No","Yes","No","Yes","No","Yes","No","Yes","No","Yes","No","Yes","No","Yes","No","Yes","No","Yes","No","Yes","No","Yes","No","Yes","No","Yes","No","Yes","No","Known to spread, but not aggressively.",null,null,null,null,null,null,"Yes","Yes","No","No","No","No","No","No","Yes","No","Yes","No","Yes","No","Yes","Yes","No","No",null,null,null,null,null,null,null,null,null,null,"8-15",null,"8-15",null,"8-15","8-15",null,null,null,null,null,null,null,null,null,null,null,null,"feet",null,"feet",null,"feet","feet"]
["Annona muricata",{"$error":"#N/A"},"Yes","No","No",{"$f":"IF($I$4=TRUE,INDEX($BZ$29:$DC1564,MATCH($A47,$AZ$29:$AZ$1000,0),MATCH($AC$2,$BZ$18:$DC$18,0)),\"Yes\")","v":"Yes"},"Yes","Yes","Yes","Yes","Yes","Yes","Yes","Yes",{"$error":"#N/A"},{"$error":"#N/A"},"Yes","Yes","Yes","Yes",{"$error":"#N/A"},{"$error":"#N/A"},{"$error":"#N/A"},{"$error":"#N/A"},null,null,null,null,null,null,null,null,null,null,null,null,null,null,null,null,null,null,null,null,null,null,null,null,null,null,null,"Annona muricata","sour sop","laguanaha, soursop","sasalapa, sour sop","sausab, sour sop","sei, sour sop","sosap, sour sop","saasap, sasaf, sour sop","sausau, sour sop","jojaab, sour sop",20,1000,40,240,"Yes","Yes","Yes","No","No","Tree","No","No",-3,"1-25","1-3",25,"Yes","No","Yes","No","Yes","No","Yes","No","Yes","No","Yes","No","Yes","No","Yes","No","Yes","No","Yes","No","Yes","No","Yes","No","Yes","No","Yes","No","Yes","No",null,null,null,null,null,null,null,"Yes","Yes","No","No","No","No","No","No","Yes","No","Yes","No","Yes","No","Yes","Yes","No","Yes",null,null,null,null,null,null,null,null,null,null,"8-15",null,"8-15",null,"8-15","8-15",null,null,null,null,null,null,null,null,null,null,null,null,"feet",null,"feet",null,"feet","feet"]
["Annona squamosa",{"$error":"#N/A"},"Yes","No","No",{"$f":"IF($I$4=TRUE,INDEX($BZ$29:$DC1565,MATCH($A48,$AZ$29:$AZ$1000,0),MATCH($AC$2,$BZ$18:$DC$18,0)),\"Yes\")","v":"Yes"},"Yes","Yes","Yes","Yes","Yes","Yes","Yes","Yes",{"$error":"#N/A"},{"$error":"#N/A"},"Yes","Yes","Yes","Yes",{"$error":"#N/A"},{"$error":"#N/A"},{"$error":"#N/A"},{"$error":"#N/A"},null,null,null,null,null,null,null,null,null,null,null,null,null,null,null,null,null,null,null,null,null,null,null,null,null,null,null,"Annona squamosa","sugar apple","ates, sugar apple","sugar apple","ngel ra ngebard, sugar apple","tai, sugar apple","sugar apple","sugar apple","sugar apple","sugar apple",20,3500,30,240,"Yes","No","No","No","No","Tree","No","No",-2,"1-25","1-3",20,"Yes","No","Yes","No","Yes","No","Yes","No","Yes","No","Yes","No","Yes","No","Yes","No","Yes","No","Yes","No","Yes","No","Yes","No","Yes","No","Yes","No","Yes","No","Known to spread, but not aggressively.",null,null,null,null,null,null,"Yes","Yes","No","No","No","No","No","No","Yes","No","Yes","No","Yes","No","Yes","Yes","No","No",null,null,null,null,null,null,null,null,null,null,"8-15",null,"8-15",null,"8-15","8-15",null,null,null,null,null,null,null,null,null,null,null,null,"feet",null,"feet",null,"feet","feet"]
["Annona x atemoya",{"$error":"#N/A"},"Yes","No","No",{"$f":"IF($I$4=TRUE,INDEX($BZ$29:$DC1566,MATCH($A49,$AZ$29:$AZ$1000,0),MATCH($AC$2,$BZ$18:$DC$18,0)),\"Yes\")","v":"Yes"},"Yes","Yes","Yes","Yes","Yes","Yes","Yes","Yes",{"$error":"#N/A"},{"$error":"#N/A"},"Yes","Yes","Yes","Yes",{"$error":"#N/A"},{"$error":"#N/A"},{"$error":"#N/A"},{"$error":"#N/A"},null,null,null,null,null,null,null,null,null,null,null,null,null,null,null,null,null,null,null,null,null,null,null,null,null,null,null,"Annona x atemoya","atemoya","atemoya","atemoya","atemoya","atemoya","atemoya","atemoya","atemoya","atemoya",20,3500,50,240,"Yes","No","No","No","No","Tree","No","No",-2,"1-25","1-3",20,"Yes","No","Yes","No","Yes","No","Yes","No","Yes","No","Yes","No","Yes","No","Yes","No","Yes","No","Yes","No","Yes","No","Yes","No","Yes","No","Yes","No","Yes","No",null,null,null,null,null,null,null,"Yes","Yes","No","No","No","No","No","No","Yes","No","Yes","No","Yes","No","Yes","Yes","No","No",null,null,null,null,null,null,null,null,null,null,"8-15",null,"8-15",null,"8-15","8-15",null,null,null,null,null,null,null,null,null,null,null,null,"feet",null,"feet",null,"feet","feet",null,null,null,null,null,null,null,null,null,null,null,"Units for JAA cbo(s) Agron Irs"]
["Antidesma platyphyllum var. platyphyllum",{"$error":"#N/A"},"Yes","No","No",{"$f":"IF($I$4=TRUE,INDEX($BZ$29:$DC1567,MATCH($A50,$AZ$29:$AZ$1000,0),MATCH($AC$2,$BZ$18:$DC$18,0)),\"Yes\")","v":"Yes"},"Yes","Yes","Yes","Yes","Yes","Yes","Yes","Yes",{"$error":"#N/A"},{"$error":"#N/A"},"Yes","Yes","Yes","Yes",{"$error":"#N/A"},{"$error":"#N/A"},{"$error":"#N/A"},{"$error":"#N/A"},null,null,null,null,null,null,null,null,null,null,null,null,null,null,null,null,null,null,null,null,null,null,null,null,null,null,null,"Antidesma platyphyllum var. platyphyllum","hame - 1","hame - 1","hame - 1","hame - 1","hame - 1","hame - 1","hame - 1","hame - 1","hame - 1",500,5000,50,240,"Yes","Yes","No","No","No","Tree","No","Yes","n/a","25-40","1-3",30,"Yes","Yes","Yes","Yes","Yes","Yes","Yes","Yes","Yes","Yes","Yes","Yes","No","No","No","No","No","No","No","No","No","No","No","No","No","No","No","No","No","No","Mesic to Wet sites, plant in sheltered spots, may be better to add later as forest develops.",null,null,null,null,null,null,"Yes","Yes","No","No","No","No","No","No","Yes","No","Yes","No","Yes","No","No","Yes","No","No",null,null,null,null,null,null,null,null,null,null,"8-15",null,"8-15",null,"8-15","8-15",null,null,null,null,null,null,null,null,null,null,null,null,"feet",null,"feet",null,"feet","feet",null,null,null,null,null,null,null,null,null,null,null,"purpose"]
["Antidesma pulvinatum",{"$error":"#N/A"},"Yes","No","No",{"$f":"IF($I$4=TRUE,INDEX($BZ$29:$DC1568,MATCH($A51,$AZ$29:$AZ$1000,0),MATCH($AC$2,$BZ$18:$DC$18,0)),\"Yes\")","v":"Yes"},"Yes","Yes","Yes","Yes","Yes","Yes","Yes","Yes",{"$error":"#N/A"},{"$error":"#N/A"},"Yes","Yes","Yes","Yes",{"$error":"#N/A"},{"$error":"#N/A"},{"$error":"#N/A"},{"$error":"#N/A"},null,null,null,null,null,null,null,null,null,null,null,null,null,null,null,null,null,null,null,null,null,null,null,null,null,null,null,"Antidesma pulvinatum","hame - 2","hame - 2","hame - 2","hame - 2","hame - 2","hame - 2","hame - 2","hame - 2","hame - 2",100,4000,20,80,"Yes","Yes","Yes","No","No","Tree","No","Yes","n/a","25-40","1-3",20,"Yes","Yes","Yes","No","Yes","No","Yes","Yes","Yes","Yes","Yes","Yes","No","No","No","No","No","No","No","No","No","No","No","No","No","No","No","No","No","No","Dry to mesic sites, plant in sheltered spots, may be better to add later as forest develops.",null,null,null,null,null,null,"Yes","Yes","No","No","No","No","No","No","Yes","No","Yes","No","Yes","No","Yes","Yes","No","No",null,null,null,null,null,null,null,null,null,null,"8-15",null,"8-15",null,"8-15","8-15",null,null,null,null,null,null,null,null,null,null,null,null,"feet",null,"feet",null,"feet","feet",null,null,null,null,null,null,null,null,null,null,null,"number"]
["Arachis glabrata (hand planted)",{"$error":"#N/A"},"Yes","No","No",{"$f":"IF($I$4=TRUE,INDEX($BZ$29:$DC1569,MATCH($A52,$AZ$29:$AZ$1000,0),MATCH($AC$2,$BZ$18:$DC$18,0)),\"Yes\")","v":"Yes"},"Yes","Yes","Yes","Yes","Yes","Yes","Yes","Yes",{"$error":"#N/A"},{"$error":"#N/A"},"Yes","Yes","Yes","Yes",{"$error":"#N/A"},{"$error":"#N/A"},{"$error":"#N/A"},{"$error":"#N/A"},null,null,null,null,null,null,null,null,null,null,null,null,null,null,null,null,null,null,null,null,null,null,null,null,null,null,null,"Arachis glabrata (hand planted)","forage peanut (glabrata - hand planted)","forage peanut (glabrata - hand planted)","forage peanut (glabrata - hand planted)","forage peanut (glabrata - hand planted)","forage peanut (glabrata - hand planted)","forage peanut (glabrata - hand planted)","forage peanut (glabrata - hand planted)","forage peanut (glabrata - hand planted)","forage peanut (glabrata - hand planted)",0,3000,50,240,"Yes","No","Yes","No","No","Herb","Yes","No",-1,"0-1","1-3",0,"Yes","No","Yes","No","Yes","No","Yes","No","Yes","No","Yes","No","Yes","No","Yes","No","Yes","No","Yes","No","Yes","No","Yes","No","Yes","No","Yes","No","Yes","No",null,null,null,null,null,null,null,"Yes","No","Yes","No","Yes","No","Yes","No","No","No","No","No","No","Yes","No","No","No","No",null,null,1,null,1,null,1,null,null,null,"",null,"",null,"","",null,null,null,null,"4' x 4'",null,"3' x 3'",null,"4' x 4'",null,null,null,"",null,"",null,"","",null,null,null,null,null,null,null,null,null,null,null,"type"]
["Arachis glabrata (sprigged)",{"$error":"#N/A"},"Yes","No","No",{"$f":"IF($I$4=TRUE,INDEX($BZ$29:$DC1570,MATCH($A53,$AZ$29:$AZ$1000,0),MATCH($AC$2,$BZ$18:$DC$18,0)),\"Yes\")","v":"Yes"},"Yes","Yes","Yes","Yes","Yes","Yes","Yes","Yes",{"$error":"#N/A"},{"$error":"#N/A"},"Yes","Yes","Yes","Yes",{"$error":"#N/A"},{"$error":"#N/A"},{"$error":"#N/A"},{"$error":"#N/A"},null,null,null,null,null,null,null,null,null,null,null,null,null,null,null,null,null,null,null,null,null,null,null,null,null,null,null,"Arachis glabrata (sprigged)","forage peanut (glabrata - sprigged)","forage peanut (glabrata - sprigged)","forage peanut (glabrata - sprigged)","forage peanut (glabrata - sprigged)","forage peanut (glabrata - sprigged)","forage peanut (glabrata - sprigged)","forage peanut (glabrata - sprigged)","forage peanut (glabrata - sprigged)","forage peanut (glabrata - sprigged)",0,3000,50,240,"Yes","No","Yes","No","No","Herb","Yes","No",-1,"0-1","1-3",0,"Yes","No","Yes","No","Yes","No","Yes","No","Yes","No","Yes","No","Yes","No","Yes","No","Yes","No","Yes","No","Yes","No","Yes","No","Yes","No","Yes","No","Yes","No",null,null,null,null,null,null,null,"Yes","No","Yes","No","Yes","No","Yes","No","No","No","No","No","No","Yes","No","No","No","No",null,null,40,null,80,null,40,null,null,null,"",null,"",null,"","",null,null,null,null,"bu/ac",null,"bu/ac",null,"bu/ac",null,null,null,"",null,"",null,"","",null,null,null,null,null,null,null,null,null,null,null,"%"]
["Arachis pintoi (hand planted)",{"$error":"#N/A"},"Yes","No","No",{"$f":"IF($I$4=TRUE,INDEX($BZ$29:$DC1571,MATCH($A54,$AZ$29:$AZ$1000,0),MATCH($AC$2,$BZ$18:$DC$18,0)),\"Yes\")","v":"Yes"},"Yes","Yes","Yes","Yes","Yes","Yes","Yes","Yes",{"$error":"#N/A"},{"$error":"#N/A"},"Yes","Yes","Yes","Yes",{"$error":"#N/A"},{"$error":"#N/A"},{"$error":"#N/A"},{"$error":"#N/A"},null,null,null,null,null,null,null,null,null,null,null,null,null,null,null,null,null,null,null,null,null,null,null,null,null,null,null,"Arachis pintoi (hand planted)","forage peanut (pintoi - hand planted)","forage peanut (pintoi - hand planted)","forage peanut (pintoi - hand planted)","forage peanut (pintoi - hand planted)","forage peanut (pintoi - hand planted)","forage peanut (pintoi - hand planted)","forage peanut (pintoi - hand planted)","forage peanut (pintoi - hand planted)","forage peanut (pintoi - hand planted)",0,3000,50,240,"Yes","No","Yes","No","No","Herb","Yes","No",-1,"0-1","1-3",0,"Yes","No","Yes","No","Yes","No","Yes","No","Yes","No","Yes","No","Yes","No","Yes","No","Yes","No","Yes","No","Yes","No","Yes","No","Yes","No","Yes","No","Yes","No",null,null,null,null,null,null,null,"Yes","No","Yes","No","Yes","No","Yes","No","No","No","No","No","No","Yes","No","No","No","No",null,null,1,null,1,null,1,null,null,null,"",null,"",null,"","",null,null,null,null,"4' x 4'",null,"3' x 3'",null,"4' x 4'",null,null,null,"",null,"",null,"","",null,null,null,null,null,null,null,null,null,null,null,"forage species complexity"]
["Arachis pintoi (seeded)",{"$error":"#N/A"},"Yes","No","No",{"$f":"IF($I$4=TRUE,INDEX($BZ$29:$DC1572,MATCH($A55,$AZ$29:$AZ$1000,0),MATCH($AC$2,$BZ$18:$DC$18,0)),\"Yes\")","v":"Yes"},"Yes","Yes","Yes","Yes","Yes","Yes","Yes","Yes",{"$error":"#N/A"},{"$error":"#N/A"},"Yes","Yes","Yes","Yes",{"$error":"#N/A"},{"$error":"#N/A"},{"$error":"#N/A"},{"$error":"#N/A"},null,null,null,null,null,null,null,null,null,null,null,null,null,null,null,null,null,null,null,null,null,null,null,null,null,null,null,"Arachis pintoi (seeded)","forage peanut (pintoi - seeded)","forage peanut (pintoi - seeded)","forage peanut (pintoi - seeded)","forage peanut (pintoi - seeded)","forage peanut (pintoi - seeded)","forage peanut (pintoi - seeded)","forage peanut (pintoi - seeded)","forage peanut (pintoi - seeded)","forage peanut (pintoi - seeded)",0,3000,50,240,"Yes","No","Yes","No","No","Herb","Yes","No",-1,"0-1","1-3",0,"Yes","No","Yes","No","Yes","No","Yes","No","Yes","No","Yes","No","Yes","No","Yes","No","Yes","No","Yes","No","Yes","No","Yes","No","Yes","No","Yes","No","Yes","No",null,null,null,null,null,null,null,"Yes","No","Yes","No","Yes","No","Yes","No","No","No","No","No","No","Yes","No","No","No","No",null,null,20,null,40,null,20,null,null,null,"",null,"",null,"","",null,null,null,null,"lbs/ac",null,"lbs/ac",null,"lbs/ac",null,null,null,"",null,"",null,"","",null,null,null,null,null,null,null,null,null,null,null,"#ecol. sites or forage stblty grps/# of C"]
["Arachis pintoi (sprigged)",{"$error":"#N/A"},"Yes","No","No",{"$f":"IF($I$4=TRUE,INDEX($BZ$29:$DC1573,MATCH($A56,$AZ$29:$AZ$1000,0),MATCH($AC$2,$BZ$18:$DC$18,0)),\"Yes\")","v":"Yes"},"Yes","Yes","Yes","Yes","Yes","Yes","Yes","Yes",{"$error":"#N/A"},{"$error":"#N/A"},"Yes","Yes","Yes","Yes",{"$error":"#N/A"},{"$error":"#N/A"},{"$error":"#N/A"},{"$error":"#N/A"},null,null,null,null,null,null,null,null,null,null,null,null,null,null,null,null,null,null,null,null,null,null,null,null,null,null,null,"Arachis pintoi (sprigged)","forage peanut (pintoi - sprigged)","forage peanut (pintoi - sprigged)","forage peanut (pintoi - sprigged)","forage peanut (pintoi - sprigged)","forage peanut (pintoi - sprigged)","forage peanut (pintoi - sprigged)","forage peanut (pintoi - sprigged)","forage peanut (pintoi - sprigged)","forage peanut (pintoi - sprigged)",0,3000,50,240,"Yes","No","Yes","No","No","Herb","Yes","No",-1,"0-1","1-3",0,"Yes","No","Yes","No","Yes","No","Yes","No","Yes","No","Yes","No","Yes","No","Yes","No","Yes","No","Yes","No","Yes","No","Yes","No","Yes","No","Yes","No","Yes","No",null,null,null,null,null,null,null,"Yes","No","Yes","No","Yes","No","Yes","No","No","No","No","No","No","Yes","No","No","No","No",null,null,40,null,80,null,40,null,null,null,"",null,"",null,"","",null,null,null,null,"bu/ac",null,"bu/ac",null,"bu/ac",null,null,null,"",null,"",null,"","",null,null,null,null,null,null,null,null,null,null,null,"acres"]
["Araucaria columnaris",{"$error":"#N/A"},"Yes","No","No",{"$f":"IF($I$4=TRUE,INDEX($BZ$29:$DC1574,MATCH($A57,$AZ$29:$AZ$1000,0),MATCH($AC$2,$BZ$18:$DC$18,0)),\"Yes\")","v":"Yes"},"Yes","Yes","Yes","Yes","Yes","Yes","Yes","Yes",{"$error":"#N/A"},{"$error":"#N/A"},"Yes","Yes","Yes","Yes",{"$error":"#N/A"},{"$error":"#N/A"},{"$error":"#N/A"},{"$error":"#N/A"},null,null,null,null,null,null,null,null,null,null,null,null,null,null,null,null,null,null,null,null,null,null,null,null,null,null,null,"Araucaria columnaris","Cook pine","Cook pine","Cook pine","Cook pine","Cook pine","Cook pine","Cook pine","Cook pine","Cook pine",0,3000,30,240,"Yes","Yes","Yes","Yes","No","Tree","No","No",-5,"40+","1-3",60,"Yes","No","Yes","No","Yes","No","Yes","No","Yes","No","Yes","No","Yes","No","Yes","No","Yes","No","Yes","No","No","No","No","No","No","No","No","No","No","No",null,"Naturalized Guam and Lanai, Maui, Molokai and cultivated in Pohnpei",null,null,null,null,null,"Yes","Yes","No","No","No","No","No","No","Yes","No","Yes","No","Yes","No","Yes","Yes","No","Yes",null,null,null,null,null,null,null,null,null,null,"10-20",null,"10-20",null,"10-20","10-20",null,null,null,null,null,null,null,null,null,null,null,null,"feet",null,"feet",null,"feet","feet",null,null,null,null,null,null,null,null,null,null,null,"inches"]
["Araucaria heterophylla",{"$error":"#N/A"},"Yes","No","No",{"$f":"IF($I$4=TRUE,INDEX($BZ$29:$DC1575,MATCH($A58,$AZ$29:$AZ$1000,0),MATCH($AC$2,$BZ$18:$DC$18,0)),\"Yes\")","v":"Yes"},"Yes","Yes","Yes","Yes","Yes","Yes","Yes","Yes",{"$error":"#N/A"},{"$error":"#N/A"},"Yes","Yes","Yes","Yes",{"$error":"#N/A"},{"$error":"#N/A"},{"$error":"#N/A"},{"$error":"#N/A"},null,null,null,null,null,null,null,null,null,null,null,null,null,null,null,null,null,null,null,null,null,null,null,null,null,null,null,"Araucaria heterophylla","Norfolk Island pine","Norfolk Island pine","Norfolk Island pine","Norfolk Island pine","Norfolk Island pine","Norfolk Island pine","Norfolk Island pine","Norfolk Island pine","Norfolk Island pine",0,3000,30,240,"Yes","Yes","Yes","Yes","No","Tree","No","No",-5,"40+","1-3",60,"Yes","No","Yes","No","Yes","No","Yes","No","Yes","No","Yes","No","Yes","No","No","No","No","No","Yes","No","No","No","No","No","Yes","No","Yes","No","Yes","No",null,"Naturalized Guam, cultivated elsewhere",null,null,null,null,null,"Yes","Yes","No","No","No","No","No","No","Yes","No","Yes","No","Yes","No","Yes","Yes","No","Yes",null,null,null,null,null,null,null,null,null,null,"10-20",null,"10-20",null,"10-20","10-20",null,null,null,null,null,null,null,null,null,null,null,null,"feet",null,"feet",null,"feet","feet",null,null,null,null,null,null,null,null,null,null,null,"low, med, high rating"]
["Argemone glauca var decipeins",{"$error":"#N/A"},"Yes","No","No",{"$f":"IF($I$4=TRUE,INDEX($BZ$29:$DC1576,MATCH($A59,$AZ$29:$AZ$1000,0),MATCH($AC$2,$BZ$18:$DC$18,0)),\"Yes\")","v":"Yes"},"Yes","Yes","Yes","Yes","Yes","Yes","Yes","Yes",{"$error":"#N/A"},{"$error":"#N/A"},"Yes","Yes","Yes","Yes",{"$error":"#N/A"},{"$error":"#N/A"},{"$error":"#N/A"},{"$error":"#N/A"},null,null,null,null,null,null,null,null,null,null,null,null,null,null,null,null,null,null,null,null,null,null,null,null,null,null,null,"Argemone glauca var decipeins","pua kala, prickly poppy","prickly poppy","prickly poppy","prickly poppy","prickly poppy","prickly poppy","prickly poppy","prickly poppy","prickly poppy",2000,6250,15,60,"Yes","No","Yes","No","No","Herb","No","Yes","n/a","1-25","1-3",0,"Yes","Yes","Yes","No","Yes","No","Yes","No","Yes","No","Yes","No","No","No","No","No","No","No","No","No","No","No","No","No","No","No","No","No","No","No",null,null,null,null,null,null,null,"Yes","No","No","No","No","No","No","No","No","No","No","No","No","No","No","No","No","No",null,null,null,null,null,null,null,null,null,null,"",null,"",null,"","",null,null,null,null,null,null,null,null,null,null,null,null,"",null,"",null,"",""]
["Argemone glauca var glauca",{"$error":"#N/A"},"Yes","No","No",{"$f":"IF($I$4=TRUE,INDEX($BZ$29:$DC1577,MATCH($A60,$AZ$29:$AZ$1000,0),MATCH($AC$2,$BZ$18:$DC$18,0)),\"Yes\")","v":"Yes"},"Yes","Yes","Yes","Yes","Yes","Yes","Yes","Yes",{"$error":"#N/A"},{"$error":"#N/A"},"Yes","Yes","Yes","Yes",{"$error":"#N/A"},{"$error":"#N/A"},{"$error":"#N/A"},{"$error":"#N/A"},null,null,null,null,null,null,null,null,null,null,null,null,null,null,null,null,null,null,null,null,null,null,null,null,null,null,null,"Argemone glauca var glauca","pua kala, prickly poppy","prickly poppy","prickly poppy","prickly poppy","prickly poppy","prickly poppy","prickly poppy","prickly poppy","prickly poppy",20,1850,15,60,"Yes","No","Yes","No","No","Herb","No","Yes","n/a","1-25","1-3",0,"Yes","Yes","Yes","No","Yes","No","Yes","No","Yes","No","Yes","No","No","No","No","No","No","No","No","No","No","No","No","No","No","No","No","No","No","No",null,null,null,null,null,null,null,"Yes","No","No","No","No","No","No","No","No","No","No","No","No","No","No","No","No","No",null,null,null,null,null,null,null,null,null,null,"",null,"",null,"","",null,null,null,null,null,null,null,null,null,null,null,null,"",null,"",null,"",""]
["Artocarpus altilis",{"$error":"#N/A"},"Yes","No","No",{"$f":"IF($I$4=TRUE,INDEX($BZ$29:$DC1578,MATCH($A61,$AZ$29:$AZ$1000,0),MATCH($AC$2,$BZ$18:$DC$18,0)),\"Yes\")","v":"Yes"},"Yes","Yes","Yes","Yes","Yes","Yes","Yes","Yes",{"$error":"#N/A"},{"$error":"#N/A"},"Yes","Yes","Yes","Yes",{"$error":"#N/A"},{"$error":"#N/A"},{"$error":"#N/A"},{"$error":"#N/A"},null,null,null,null,null,null,null,null,null,null,null,null,null,null,null,null,null,null,null,null,null,null,null,null,null,null,null,"Artocarpus altilis","breadfruit, ulu","lemai, breadfruit","ulu, breadfruit","meduu, arando, breadfruit","mahi, mein sahrek, maiuhp, breadfruit","mos, ikunal, srafohn, breadfruit","mei, maichul, maieas, breadfruit","mei, mai, breadfruit","ma, me, bugurol, breadfruit",0,2500,40,240,"Yes","Yes","Yes","No","No","Tree","No","No",-12,"25-40","3+",40,"Yes","No","Yes","No","Yes","No","Yes","No","Yes","No","Yes","No","Yes","No","Yes","No","Yes","No","Yes","No","Yes","No","Yes","No","Yes","No","Yes","No","Yes","No","Uses include food, mulch, fodder, timber, minor forest products (latex from sap, fabric from pounded bark).",null,null,null,null,null,null,"Yes","Yes","No","No","No","No","No","No","Yes","No","Yes","No","Yes","No","Yes","Yes","No","Yes",null,null,null,null,null,null,null,null,null,null,"10-40",null,"10-40",null,"10-40","10-40",null,null,null,null,null,null,null,null,null,null,null,null,"feet",null,"feet",null,"feet","feet",null,null,null,null,null,null,null,null,null,null,null,"UserForm20 Entered Data"]
["Artocarpus heterophyllus",{"$f":"IF(A62=0,\"No\",IF(AND(C62=\"Yes\",D62=\"YES\",F62=\"yes\",G62=\"Yes\",H62=\"Yes\",I62=\"Yes\",J62=\"Yes\",N62=\"Yes\",Q62=\"Yes\",O62=\"Yes\",K62=\"Yes\",P62=\"Yes\",V62=\"Yes\"),\"Yes\",\"No\"))","v":{"$error":"#N/A"}},"Yes","No",{"$f":"IF(A$2=\"Cover Crop (340)\",\"Yes\",IF(ISBLANK($C$7),\"No\",IF(AND($C$7>=BJ62,$C$7<=BK62),\"Yes\",\"No\")))","v":"No"},{"$f":"IF($I$4=TRUE,INDEX($BZ$29:$DC1579,MATCH($A62,$AZ$29:$AZ$1000,0),MATCH($AC$2,$BZ$18:$DC$18,0)),\"Yes\")","v":"Yes"},"Yes","Yes","Yes","Yes","Yes","Yes","Yes","Yes",{"$error":"#N/A"},{"$error":"#N/A"},"Yes","Yes","Yes","Yes",{"$error":"#N/A"},{"$error":"#N/A"},{"$error":"#N/A"},{"$error":"#N/A"},null,null,null,null,null,null,null,null,null,null,null,null,null,null,null,null,null,null,null,null,null,null,null,null,null,null,null,"Artocarpus heterophyllus","jackfruit","jackfruit, lemasa","ulu initia, jackfruit","baramitis, jackfruit","jackfruit","jackfruit","jackfruit","dapanapan, maifai, jackfruit","jackfruit",0,3000,45,200,"Yes","Yes","Yes","No","No","Tree","No","No",1,"40+","1-3",50,"Yes","No","Yes","No","Yes","No","Yes","No","Yes","No","Yes","No","Yes","No","Yes","No","Yes","No","Yes","No","No","No","No","No","Yes","No","Yes","No","No","No",null,"Naturalized Guam and Palau, cultivated Pohnpei",null,null,null,null,null,"Yes","Yes","No","No","No","No","No","No","Yes","No","Yes","No","Yes","No","Yes","Yes","No","Yes",null,null,null,null,null,null,null,null,null,null,"10-40",null,"10-40",null,"10-40","10-40",null,null,null,null,null,null,null,null,null,null,null,null,"feet",null,"feet",null,"feet","feet"]
["Artocarpus mariannensis",{"$error":"#N/A"},"Yes","No",{"$f":"IF(A$2=\"Cover Crop (340)\",\"Yes\",IF(ISBLANK($C$7),\"No\",IF(AND($C$7>=BJ63,$C$7<=BK63),\"Yes\",\"No\")))","v":"No"},{"$f":"IF($I$4=TRUE,INDEX($BZ$29:$DC1580,MATCH($A63,$AZ$29:$AZ$1000,0),MATCH($AC$2,$BZ$18:$DC$18,0)),\"Yes\")","v":"Yes"},"Yes","Yes","Yes","Yes","Yes","Yes","Yes","Yes",{"$error":"#N/A"},{"$error":"#N/A"},"Yes","Yes","Yes","Yes",{"$error":"#N/A"},{"$error":"#N/A"},{"$error":"#N/A"},{"$error":"#N/A"},null,null,null,null,null,null,null,null,null,null,null,null,null,null,null,null,null,null,null,null,null,null,null,null,null,null,null,"Artocarpus mariannensis","seeded breadfruit","dugdug, dokdok, seeded breadfruit",null,"chebiei, meduuliou, seeded breadfruit","mei kole, maipah, seeded breadfruit","mos en Kosrae, seeded breadfruit","mei chocho, seeded breadfruit","maiyah, seeded breadfruit","mejwaan, seeded breadfruit",0,1700,40,150,"Yes","Yes","Yes","No","No","Tree","No","Yes","n/a","25-40","1-3",40,"No","No","No","No","No","No","No","No","No","No","No","No","No","No","Yes","Yes","Yes","Yes","Yes","No","Yes","No","Yes","No","Yes","No","Yes","No","Yes","No","Uses include food, mulch, fodder, timber, minor forest products (latex from sap, fabric from pounded bark).",null,null,null,null,null,null,"Yes","Yes","No","No","No","No","No","No","Yes","No","Yes","No","Yes","No","Yes","Yes","No","Yes",null,null,null,null,null,null,null,null,null,null,"10-40",null,"10-40",null,"10-40","10-40",null,null,null,null,null,null,null,null,null,null,null,null,"feet",null,"feet",null,"feet","feet"]
["Asplenium nidus",{"$error":"#N/A"},"Yes","No","No",{"$f":"IF($I$4=TRUE,INDEX($BZ$29:$DC1581,MATCH($A64,$AZ$29:$AZ$1000,0),MATCH($AC$2,$BZ$18:$DC$18,0)),\"Yes\")","v":"Yes"},"Yes","Yes","Yes","Yes","Yes","Yes","Yes","Yes",{"$error":"#N/A"},{"$error":"#N/A"},"Yes","Yes","Yes","Yes",{"$error":"#N/A"},{"$error":"#N/A"},{"$error":"#N/A"},{"$error":"#N/A"},null,null,null,null,null,null,null,null,null,null,null,null,null,null,null,null,null,null,null,null,null,null,null,null,null,null,null,"Asplenium nidus","bird's nest fern, ekaha","galak feda, bird's nest fern","laugapapa, bird's nest fern","buklbeluu, bird's nest fern","tehnlik, bird's nest fern","mihlihklihk, bird's nest fern","nnuk, bird's nest fern","chath, bird's nest fern","kartop, bird's nest fern",0,3150,20,120,"Yes","Yes","No","No","No","Herb","No","No","n/a","1-25","0-1",0,"Yes","Yes","Yes","Yes","Yes","Yes","Yes","Yes","Yes","Yes","Yes","Yes","Yes","Yes","Yes","Yes","Yes","Yes","Yes","Yes","Yes","Yes","Yes","Yes","Yes","No","Yes","Yes","Yes","No",null,null,null,null,null,null,null,"Yes","No","No","No","No","No","No","No","No","No","No","No","No","No","No","No","No","No",null,null,null,null,null,null,null,null,null,null,"",null,"",null,"","",null,null,null,null,null,null,null,null,null,null,null,null,"",null,"",null,"",""]
["Atuna racemosa",{"$error":"#N/A"},"Yes","No","No",{"$f":"IF($I$4=TRUE,INDEX($BZ$29:$DC1582,MATCH($A65,$AZ$29:$AZ$1000,0),MATCH($AC$2,$BZ$18:$DC$18,0)),\"Yes\")","v":"Yes"},"Yes","Yes","Yes","Yes","Yes","Yes","Yes","Yes",{"$error":"#N/A"},{"$error":"#N/A"},"Yes","Yes","Yes","Yes",{"$error":"#N/A"},{"$error":"#N/A"},{"$error":"#N/A"},{"$error":"#N/A"},null,null,null,null,null,null,null,null,null,null,null,null,null,null,null,null,null,null,null,null,null,null,null,null,null,null,null,"Atuna racemosa","ifiifi","ifiifi","ifiifi","ifiifi","ifiifi","ifiifi","ifiifi","ifiifi","ifiifi",0,1500,80,240,"Yes","Yes","No","No","No","Tree","No","No","n/a","40+","1-3",35,"No","No","No","No","No","No","No","No","No","No","No","No","Yes","No","No","No","No","No","No","No","No","No","No","No","No","No","No","No","No","No",null,null,null,null,null,null,null,"Yes","No","No","No","No","No","No","No","Yes","No","Yes","No","Yes","No","Yes","Yes","No","No",null,null,null,null,null,null,null,null,null,null,"10-20",null,"10-20",null,"10-20","10-20",null,null,null,null,null,null,null,null,null,null,null,null,"feet",null,"feet",null,"feet","feet"]
["Avena byzantina",{"$error":"#N/A"},"Yes","No","No",{"$f":"IF($I$4=TRUE,INDEX($BZ$29:$DC1583,MATCH($A66,$AZ$29:$AZ$1000,0),MATCH($AC$2,$BZ$18:$DC$18,0)),\"Yes\")","v":"Yes"},"Yes","Yes","Yes","Yes","Yes","Yes","Yes","Yes",{"$error":"#N/A"},{"$error":"#N/A"},"Yes","Yes","Yes","Yes",{"$error":"#N/A"},{"$error":"#N/A"},{"$error":"#N/A"},{"$error":"#N/A"},null,null,null,null,null,null,null,null,null,null,null,null,null,null,null,null,null,null,null,null,null,null,null,null,null,null,null,"Avena byzantina","oats, red","oats, red","oats, red","oats, red","oats, red","oats, red","oats, red","oats, red","oats, red",700,7000,40,150,"Yes","No","Yes","No","No","Herb","No","No","n/a","1-25","3+",0,"Yes","No","Yes","No","Yes","No","Yes","No","Yes","No","Yes","No","Yes","No","Yes","No","Yes","No","No","No","Yes","No","Yes","No","Yes","No","Yes","No","Yes","No","This species performs best in a soil with a pH range of 5.5-7.0.  When allowed to grow for 60 days a producer should expect 1.5 tons of above ground biomass which will contain approximately 16 lbs of Nitrogen per ton.",null,"CS",null,null,null,null,"Yes","No","No","Yes","No","No","No","No","No","No","No","No","No","No","No","No","No","No",null,null,null,70,null,null,null,null,null,null,"",null,"",null,"","",null,null,null,null,null,"lbs/ac",null,null,null,null,null,null,"",null,"",null,"",""]
["Avena sativa (alone)",{"$error":"#N/A"},"Yes","No","No",{"$f":"IF($I$4=TRUE,INDEX($BZ$29:$DC1584,MATCH($A67,$AZ$29:$AZ$1000,0),MATCH($AC$2,$BZ$18:$DC$18,0)),\"Yes\")","v":"Yes"},"Yes","Yes","Yes","Yes","Yes","Yes","Yes","Yes",{"$error":"#N/A"},{"$error":"#N/A"},"Yes","Yes","Yes","Yes",{"$error":"#N/A"},{"$error":"#N/A"},{"$error":"#N/A"},{"$error":"#N/A"},null,null,null,null,null,null,null,null,null,null,null,null,null,null,null,null,null,null,null,null,null,null,null,null,null,null,null,"Avena sativa (alone)","oats, common (alone)","oats, common","oats, common","oats, common","oats, common","oats, common","oats, common","oats, common","oats, common",700,7000,40,150,"Yes","No","Yes","No","Yes","Herb","No","No","n/a","1-25","3+",0,"Yes","No","Yes","No","Yes","No","Yes","No","Yes","No","Yes","No","Yes","No","Yes","No","Yes","No","No","No","Yes","No","Yes","No","Yes","No","Yes","No","Yes","No","This species performs best in a soil with a pH range of 5.5-7.0.  When allowed to grow for 60 days a producer should expect 1.5 tons of above ground biomass which will contain approximately 16 lbs of Nitrogen per ton.",null,"CS",null,null,null,null,"Yes","No","no","Yes","No","No","no","No","No","No","No","No","No","Yes","No","No","No","No",null,null,70,70,70,null,70,null,null,null,"",null,"",null,"","",null,null,null,null,"lbs/ac","lbs/ac","lbs/ac",null,"lbs/ac",null,null,null,"",null,"",null,"",""]
["Avena sativa (mixed)",{"$error":"#N/A"},"Yes","No","No",{"$f":"IF($I$4=TRUE,INDEX($BZ$29:$DC1585,MATCH($A68,$AZ$29:$AZ$1000,0),MATCH($AC$2,$BZ$18:$DC$18,0)),\"Yes\")","v":"Yes"},"Yes","Yes","Yes","Yes","Yes","Yes","Yes","Yes",{"$error":"#N/A"},{"$error":"#N/A"},"Yes","Yes","Yes","Yes",{"$error":"#N/A"},{"$error":"#N/A"},{"$error":"#N/A"},{"$error":"#N/A"},null,null,null,null,null,null,null,null,null,null,null,null,null,null,null,null,null,null,null,null,null,null,null,null,null,null,null,"Avena sativa (mixed)","oats, common (mixed)","oats, common","oats, common","oats, common","oats, common","oats, common","oats, common","oats, common","oats, common",700,7000,40,150,"Yes","No","Yes","No","Yes","Herb","No","No","n/a","1-25","3+",0,"Yes","No","Yes","No","Yes","No","Yes","No","Yes","No","Yes","No","Yes","No","Yes","No","Yes","No","No","No","Yes","No","Yes","No","Yes","No","Yes","No","Yes","No","This species performs best in a soil with a pH range of 5.5-7.0.  When allowed to grow for 60 days a producer should expect 1.5 tons of above ground biomass which will contain approximately 16 lbs of Nitrogen per ton.",null,null,null,null,null,null,"Yes","No","Yes","No","Yes","No","No","No","No","No","No","No","No","Yes","No","No","No","No",null,null,35,null,70,null,35,null,null,null,"",null,"",null,"","",null,null,null,null,"lbs/ac",null,"lbs/ac",null,"lbs/ac",null,null,null,"",null,"",null,"",""]
["Avena strigosa",{"$error":"#N/A"},"Yes","No","No",{"$f":"IF($I$4=TRUE,INDEX($BZ$29:$DC1586,MATCH($A69,$AZ$29:$AZ$1000,0),MATCH($AC$2,$BZ$18:$DC$18,0)),\"Yes\")","v":"Yes"},"Yes","Yes","Yes","Yes","Yes","Yes","Yes","Yes",{"$error":"#N/A"},{"$error":"#N/A"},"Yes","Yes","Yes","Yes",{"$error":"#N/A"},{"$error":"#N/A"},{"$error":"#N/A"},{"$error":"#N/A"},null,null,null,null,null,null,null,null,null,null,null,null,null,null,null,null,null,null,null,null,null,null,null,null,null,null,null,"Avena strigosa","oats, black","oats, black","oats, black","oats, black","oats, black","oats, black","oats, black","oats, black","oats, black",700,7000,40,150,"Yes","No","Yes","No","No","Herb","No","No","n/a","1-25","3+",0,"Yes","No","Yes","No","Yes","No","Yes","No","Yes","No","Yes","No","Yes","No","Yes","No","Yes","No","No","No","Yes","No","Yes","No","Yes","No","Yes","No","Yes","No","This species performs best in a soil with a pH range of 5.5-7.0.  When allowed to grow for 60 days a producer should expect 1.5 tons of above ground biomass which will contain approximately 16 lbs of Nitrogen per ton.",null,"CS",null,null,null,null,"Yes","No","No","Yes","No","No","No","No","No","No","No","No","No","No","No","No","No","No",null,null,null,70,null,null,null,null,null,null,"",null,"",null,"","",null,null,null,null,null,"lbs/ac",null,null,null,null,null,null,"",null,"",null,"",""]
["Averrhoa carambola",{"$error":"#N/A"},"Yes","No","No",{"$f":"IF($I$4=TRUE,INDEX($BZ$29:$DC1587,MATCH($A70,$AZ$29:$AZ$1000,0),MATCH($AC$2,$BZ$18:$DC$18,0)),\"Yes\")","v":"Yes"},"Yes","Yes","Yes","Yes","Yes","Yes","Yes","Yes",{"$error":"#N/A"},{"$error":"#N/A"},"Yes","Yes","Yes","Yes",{"$error":"#N/A"},{"$error":"#N/A"},{"$error":"#N/A"},{"$error":"#N/A"},null,null,null,null,null,null,null,null,null,null,null,null,null,null,null,null,null,null,null,null,null,null,null,null,null,null,null,"Averrhoa carambola","starfruit","starfruit, bilembines","starfruit","kemim, starfruit","ansu, starfruit","starfruit","starfruit","starfruit","starfruit",20,3000,70,240,"Yes","No","No","No","No","Tree","No","No",-1,"1-25","1-3",15,"Yes","No","Yes","No","Yes","No","Yes","No","Yes","No","Yes","No","Yes","No","Yes","No","Yes","No","Yes","No","Yes","No","Yes","No","Yes","No","Yes","No","Yes","No",null,null,null,null,null,null,null,"Yes","Yes","No","No","No","No","No","No","Yes","No","Yes","No","Yes","No","No","Yes","No","Yes",null,null,null,null,null,null,null,null,null,null,"8-12",null,"8-12",null,"8-12","8-12",null,null,null,null,null,null,null,null,null,null,null,null,"feet",null,"feet",null,"feet","feet"]
["Axonopus compressus",{"$error":"#N/A"},"Yes","No","No",{"$f":"IF($I$4=TRUE,INDEX($BZ$29:$DC1588,MATCH($A71,$AZ$29:$AZ$1000,0),MATCH($AC$2,$BZ$18:$DC$18,0)),\"Yes\")","v":"Yes"},"Yes","Yes","Yes","Yes","Yes","Yes","Yes","Yes",{"$error":"#N/A"},{"$error":"#N/A"},"Yes","Yes","Yes","Yes",{"$error":"#N/A"},{"$error":"#N/A"},{"$error":"#N/A"},{"$error":"#N/A"},null,null,null,null,null,null,null,null,null,null,null,null,null,null,null,null,null,null,null,null,null,null,null,null,null,null,null,"Axonopus compressus","broadleaf carpetgrass ","broadleaf carpetgrass ","broadleaf carpetgrass ","broadleaf carpetgrass ","broadleaf carpetgrass ","broadleaf carpetgrass ","broadleaf carpetgrass ","broadleaf carpetgrass ","broadleaf carpetgrass ",20,5000,45,240,"Yes","Yes","Yes","No","Yes","Herb","No","No",15,"0-1","3+",0,"Yes","No","Yes","No","Yes","No","Yes","No","Yes","No","Yes","No","Yes","No","Yes","No","Yes","No","Yes","No","Yes","No","Yes","No","Yes","No","Yes","No","Yes","No",null,null,null,null,null,null,null,"Yes","No","Yes","No","No","No","Yes","No","No","No","No","No","No","No","No","No","No","No",null,null,40,null,null,null,40,null,null,null,"",null,"",null,"","",null,null,null,null,"bu/ac",null,null,null,"bu/ac",null,null,null,"",null,"",null,"",""]
["Axonopus fissifolius (hand Planted)",{"$error":"#N/A"},"Yes","No","No",{"$f":"IF($I$4=TRUE,INDEX($BZ$29:$DC1589,MATCH($A72,$AZ$29:$AZ$1000,0),MATCH($AC$2,$BZ$18:$DC$18,0)),\"Yes\")","v":"Yes"},"Yes","Yes","Yes","Yes","Yes","Yes","Yes","Yes",{"$error":"#N/A"},{"$error":"#N/A"},"Yes","Yes","Yes","Yes",{"$error":"#N/A"},{"$error":"#N/A"},{"$error":"#N/A"},{"$error":"#N/A"},null,null,null,null,null,null,null,null,null,null,null,null,null,null,null,null,null,null,null,null,null,null,null,null,null,null,null,"Axonopus fissifolius (hand Planted)","narrowleaf carpetgrass (hand planted)","narrowleaf carpetgrass (hand planted)","narrowleaf carpetgrass (hand planted)","narrowleaf carpetgrass (hand planted)","narrowleaf carpetgrass (hand planted)","narrowleaf carpetgrass (hand planted)","narrowleaf carpetgrass (hand planted)","narrowleaf carpetgrass (hand planted)","narrowleaf carpetgrass (hand planted)",20,5000,40,240,"Yes","Yes","Yes","No","No","Herb","No","No",16,"0-1","3+",0,"Yes","No","Yes","No","Yes","No","Yes","No","Yes","No","Yes","No","Yes","No","Yes","No","Yes","No","Yes","No","Yes","No","Yes","No","Yes","No","Yes","No","Yes","No",null,null,null,null,null,null,null,"Yes","No","Yes","No","Yes","Yes","Yes","No","No","No","No","No","No","Yes","No","No","No","No",null,null,1,null,1,1,1,null,null,null,"",null,"",null,"","",null,null,null,null,"4' x 4'",null,"3' x 3'","3' x 3'","4' x 4'",null,null,null,"",null,"",null,"",""]
["Axonopus fissifolius (seeded)",{"$error":"#N/A"},"Yes","No","No",{"$f":"IF($I$4=TRUE,INDEX($BZ$29:$DC1590,MATCH($A73,$AZ$29:$AZ$1000,0),MATCH($AC$2,$BZ$18:$DC$18,0)),\"Yes\")","v":"Yes"},"Yes","Yes","Yes","Yes","Yes","Yes","Yes","Yes",{"$error":"#N/A"},{"$error":"#N/A"},"Yes","Yes","Yes","Yes",{"$error":"#N/A"},{"$error":"#N/A"},{"$error":"#N/A"},{"$error":"#N/A"},null,null,null,null,null,null,null,null,null,null,null,null,null,null,null,null,null,null,null,null,null,null,null,null,null,null,null,"Axonopus fissifolius (seeded)","narrowleaf carpetgrass (seeded)","narrowleaf carpetgrass (seeded)","narrowleaf carpetgrass (seeded)","narrowleaf carpetgrass (seeded)","narrowleaf carpetgrass (seeded)","narrowleaf carpetgrass (seeded)","narrowleaf carpetgrass (seeded)","narrowleaf carpetgrass (seeded)","narrowleaf carpetgrass (seeded)",20,5000,40,240,"Yes","Yes","Yes","No","No","Herb","No","No",16,"0-1","3+",0,"Yes","No","Yes","No","Yes","No","Yes","No","Yes","No","Yes","No","Yes","No","Yes","No","Yes","No","Yes","No","Yes","No","Yes","No","Yes","No","Yes","No","Yes","No",null,null,null,null,null,null,null,"Yes","No","Yes","No","Yes","Yes","Yes","No","No","No","No","No","No","Yes","No","No","No","No",null,null,20,null,40,40,20,null,null,null,"",null,"",null,"","",null,null,null,null,"lbs/ac",null,"lbs/ac","lbs/ac","lbs/ac",null,null,null,"",null,"",null,"",""]
["Axonopus fissifolius (sprigged)",{"$error":"#N/A"},"Yes","No","No",{"$f":"IF($I$4=TRUE,INDEX($BZ$29:$DC1591,MATCH($A74,$AZ$29:$AZ$1000,0),MATCH($AC$2,$BZ$18:$DC$18,0)),\"Yes\")","v":"Yes"},"Yes","Yes","Yes","Yes","Yes","Yes","Yes","Yes",{"$error":"#N/A"},{"$error":"#N/A"},"Yes","Yes","Yes","Yes",{"$error":"#N/A"},{"$error":"#N/A"},{"$error":"#N/A"},{"$error":"#N/A"},null,null,null,null,null,null,null,null,null,null,null,null,null,null,null,null,null,null,null,null,null,null,null,null,null,null,null,"Axonopus fissifolius (sprigged)","narrowleaf carpetgrass  (sprigged)","narrowleaf carpetgrass  (sprigged)","narrowleaf carpetgrass  (sprigged)","narrowleaf carpetgrass  (sprigged)","narrowleaf carpetgrass  (sprigged)","narrowleaf carpetgrass  (sprigged)","narrowleaf carpetgrass  (sprigged)","narrowleaf carpetgrass  (sprigged)","narrowleaf carpetgrass  (sprigged)",20,5000,40,240,"Yes","Yes","Yes","No","No","Herb","No","No",16,"0-1","3+",0,"Yes","No","Yes","No","Yes","No","Yes","No","Yes","No","Yes","No","Yes","No","Yes","No","Yes","No","Yes","No","Yes","No","Yes","No","Yes","No","Yes","No","Yes","No",null,null,null,null,null,null,null,"Yes","No","Yes","No","Yes","Yes","Yes","No","No","No","No","No","No","Yes","No","No","No","No",null,null,40,null,80,80,40,null,null,null,"",null,"",null,"","",null,null,null,null,"bu/ac",null,"bu/ac","bu/ac","bu/ac",null,null,null,"",null,"",null,"",""]
["Azadirachta indica",{"$error":"#N/A"},"Yes","No","No",{"$f":"IF($I$4=TRUE,INDEX($BZ$29:$DC1592,MATCH($A75,$AZ$29:$AZ$1000,0),MATCH($AC$2,$BZ$18:$DC$18,0)),\"Yes\")","v":"Yes"},"Yes","Yes","Yes","Yes","Yes","Yes","Yes","Yes",{"$error":"#N/A"},{"$error":"#N/A"},"Yes","Yes","Yes","Yes",{"$error":"#N/A"},{"$error":"#N/A"},{"$error":"#N/A"},{"$error":"#N/A"},null,null,null,null,null,null,null,null,null,null,null,null,null,null,null,null,null,null,null,null,null,null,null,null,null,null,null,"Azadirachta indica","neem, Indian lilac","neem, Indian lilac","neem, Indian lilac","neem, Indian lilac","neem, Indian lilac","neem, Indian lilac","neem, Indian lilac","neem, Indian lilac","neem, Indian lilac",0,2000,20,200,"Yes","No","Yes","No","No","Tree","No","No",9,"25-40","3+",30,"Yes","No","Yes","No","Yes","No","Yes","No","Yes","No","Yes","No","Yes","No","Yes","No","Yes","No","No","No","Yes","No","yes","No","Yes","No","Yes","No","Yes","No",null,null,null,null,null,null,null,"Yes","Yes","No","No","No","No","No","No","Yes","No","Yes","No","Yes","No","Yes","Yes","No","Yes",null,null,null,null,null,null,null,null,null,null,"10-20",null,"10-20",null,"10-20","10-20",null,null,null,null,null,null,null,null,null,null,null,null,"feet",null,"feet",null,"feet","feet"]
["Bactris gasipaes",{"$error":"#N/A"},"Yes","No","No",{"$f":"IF($I$4=TRUE,INDEX($BZ$29:$DC1593,MATCH($A76,$AZ$29:$AZ$1000,0),MATCH($AC$2,$BZ$18:$DC$18,0)),\"Yes\")","v":"Yes"},"Yes","Yes","Yes","Yes","Yes","Yes","Yes","Yes",{"$error":"#N/A"},{"$error":"#N/A"},"Yes","Yes","Yes","Yes",{"$error":"#N/A"},{"$error":"#N/A"},{"$error":"#N/A"},{"$error":"#N/A"},null,null,null,null,null,null,null,null,null,null,null,null,null,null,null,null,null,null,null,null,null,null,null,null,null,null,null,"Bactris gasipaes","peach palm","peach palm","peach palm","peach palm","peach palm","peach palm","peach palm","peach palm","peach palm",0,3000,75,200,"Yes","Yes","Yes","No","No","Tree","No","No",2,"25-40","1-3",35,"Yes","No","Yes","No","Yes","No","Yes","No","Yes","No","Yes","No","Yes","No","Yes","No","Yes","No","Yes","No","Yes","No","Yes","No","Yes","No","Yes","No","Yes","No",null,null,null,null,null,null,null,"Yes","Yes","No","No","No","No","No","No","Yes","No","Yes","No","Yes","No","Yes","Yes","No","Yes",null,null,null,null,null,null,null,null,null,null,"8-20",null,"8-20",null,"8-20","8-20",null,null,null,null,null,null,null,null,null,null,null,null,"feet",null,"feet",null,"feet","feet"]
["Bambusa spp. (clumping only)",{"$error":"#N/A"},"Yes","No","No",{"$f":"IF($I$4=TRUE,INDEX($BZ$29:$DC1594,MATCH($A77,$AZ$29:$AZ$1000,0),MATCH($AC$2,$BZ$18:$DC$18,0)),\"Yes\")","v":"Yes"},"Yes","Yes","Yes","Yes","Yes","Yes","Yes","Yes",{"$error":"#N/A"},{"$error":"#N/A"},"Yes","Yes","Yes","Yes",{"$error":"#N/A"},{"$error":"#N/A"},{"$error":"#N/A"},{"$error":"#N/A"},null,null,null,null,null,null,null,null,null,null,null,null,null,null,null,null,null,null,null,null,null,null,null,null,null,null,null,"Bambusa spp. (clumping only)","bamboo (clumping only), ohe","piao, piao palaoan, bamboo (clumping only)","ofe, ofe fiti, bamboo (clumping only)","bambuu, esel, bamboo (clumping only)","pehri, pehri en sapahn, bamboo (clumping only)","pambu, bamboo (clumping only)","iich, bamboo (clumping only)","moor, bamboo (clumping only)","bae, koba, bamboo (clumping only)",0,3000,40,200,"Yes","No","Yes","No","No","Tree","No","No",5,"25-40","3+",30,"Yes","No","Yes","No","Yes","No","Yes","No","Yes","No","Yes","No","Yes","No","Yes","No","Yes","No","Yes","No","Yes","No","Yes","No","Yes","No","Yes","No","Yes","No",null,null,null,null,null,null,null,"Yes","Yes","No","No","No","No","No","No","Yes","No","Yes","No","Yes","No","No","Yes","No","Yes",null,null,null,null,null,null,null,null,null,null,"8-20",null,"8-20",null,"8-20","8-20",null,null,null,null,null,null,null,null,null,null,null,null,"feet",null,"feet",null,"feet","feet"]
["Barringtonia asiatica",{"$error":"#N/A"},"Yes","No","No",{"$f":"IF($I$4=TRUE,INDEX($BZ$29:$DC1595,MATCH($A78,$AZ$29:$AZ$1000,0),MATCH($AC$2,$BZ$18:$DC$18,0)),\"Yes\")","v":"Yes"},"Yes","Yes","Yes","Yes","Yes","Yes","Yes","Yes",{"$error":"#N/A"},{"$error":"#N/A"},"Yes","Yes","Yes","Yes",{"$error":"#N/A"},{"$error":"#N/A"},{"$error":"#N/A"},{"$error":"#N/A"},null,null,null,null,null,null,null,null,null,null,null,null,null,null,null,null,null,null,null,null,null,null,null,null,null,null,null,"Barringtonia asiatica","fish poison tree  ","langasat, putting, fish poison tree  ","futu, fish poison tree  ","bduul, fish poison tree  ","wihnmar, angaiha, wihnsed, fish poison tree  ","bus bus, ghuul, fish poison tree  ","kuun, ghuul, azan, fish poison tree  ","ghuul, biuol, fish poison tree  ","wop, ob, fish poison tree  ",0,1150,50,200,"Yes","No","Yes","Yes","Yes","Tree","No","Yes",-8,"40+","1-3",30,"Yes","No","Yes","No","Yes","No","Yes","No","Yes","No","Yes","No","Yes","Yes","Yes","Yes","Yes","Yes","Yes","Yes","Yes","Yes","Yes","Yes","Yes","Yes","Yes","Yes","Yes","Yes","Uses include timber and mulch.",null,null,null,null,null,null,"Yes","Yes","No","No","No","No","No","No","Yes","No","Yes","No","Yes","No","Yes","Yes","No","Yes",null,null,null,null,null,null,null,null,null,null,"10-40",null,"10-40",null,"10-40","10-40",null,null,null,null,null,null,null,null,null,null,null,null,"feet",null,"feet",null,"feet","feet"]
["Barringtonia racemosa",{"$error":"#N/A"},"Yes","No","No",{"$f":"IF($I$4=TRUE,INDEX($BZ$29:$DC1596,MATCH($A79,$AZ$29:$AZ$1000,0),MATCH($AC$2,$BZ$18:$DC$18,0)),\"Yes\")","v":"Yes"},"Yes","Yes","Yes","Yes","Yes","Yes","Yes","Yes",{"$error":"#N/A"},{"$error":"#N/A"},"Yes","Yes","Yes","Yes",{"$error":"#N/A"},{"$error":"#N/A"},{"$error":"#N/A"},{"$error":"#N/A"},null,null,null,null,null,null,null,null,null,null,null,null,null,null,null,null,null,null,null,null,null,null,null,null,null,null,null,"Barringtonia racemosa","futu","langasat, longaasag","futu","wihmar, koranges","wih, kange, wihnmar","kwenguhl, wihmar","soon, guon, wihmar","wathol, wihmar","wihmar",0,1150,70,200,"Yes","Yes","Yes","Yes","Yes","Tree","No","Yes","n/a","25-40","1-3",20,"No","No","No","No","No","No","No","No","No","No","No","No","Yes","Yes","Yes","Yes","Yes","Yes","Yes","Yes","Yes","Yes","Yes","No","Yes","No","Yes","Yes","No","No",null,"Useful in riparian restoration projects per Orlo Steele, Hawaii Community College",null,null,null,null,null,"Yes","Yes","No","No","No","No","No","No","Yes","No","Yes","No","Yes","No","Yes","Yes","No","No",null,null,null,null,null,null,null,null,null,null,"10-40",null,"10-40",null,"10-40","10-40",null,null,null,null,null,null,null,null,null,null,null,null,"feet",null,"feet",null,"feet","feet",null,null,null,null,null,null,null,null,null,null,null,"UserForm6 Entered Data"]
["Barringtonia samoensis",{"$error":"#N/A"},"Yes","No","No",{"$f":"IF($I$4=TRUE,INDEX($BZ$29:$DC1597,MATCH($A80,$AZ$29:$AZ$1000,0),MATCH($AC$2,$BZ$18:$DC$18,0)),\"Yes\")","v":"Yes"},"Yes","Yes","Yes","Yes","Yes","Yes","Yes","Yes",{"$error":"#N/A"},{"$error":"#N/A"},"Yes","Yes","Yes","Yes",{"$error":"#N/A"},{"$error":"#N/A"},{"$error":"#N/A"},{"$error":"#N/A"},null,null,null,null,null,null,null,null,null,null,null,null,null,null,null,null,null,null,null,null,null,null,null,null,null,null,null,"Barringtonia samoensis","falaga","falaga","falaga","falaga","falaga","falaga","falaga","falaga","falaga",20,2000,80,200,"Yes","Yes","Yes","No","No","Tree","No","Yes","n/a","25-40","1-3",20,"No","No","No","No","No","No","No","No","No","No","No","No","Yes","Yes","Yes","Yes","Yes","Yes","No","No","No","No","No","No","No","No","No","No","No","No",null,"Useful in riparian restoration projects per Orlo Steele, Hawaii Community College",null,null,null,null,null,"Yes","Yes","No","No","No","No","No","No","Yes","No","Yes","No","Yes","No","Yes","Yes","No","No",null,null,null,null,null,null,null,null,null,null,"10-40",null,"10-40",null,"10-40","10-40",null,null,null,null,null,null,null,null,null,null,null,null,"feet",null,"feet",null,"feet","feet"]
["Bidens asymetrica",{"$error":"#N/A"},"Yes","No","No",{"$f":"IF($I$4=TRUE,INDEX($BZ$29:$DC1598,MATCH($A81,$AZ$29:$AZ$1000,0),MATCH($AC$2,$BZ$18:$DC$18,0)),\"Yes\")","v":"Yes"},"Yes","Yes","Yes","Yes","Yes","Yes","Yes","Yes",{"$error":"#N/A"},{"$error":"#N/A"},"Yes","Yes","Yes","Yes",{"$error":"#N/A"},{"$error":"#N/A"},{"$error":"#N/A"},{"$error":"#N/A"},null,null,null,null,null,null,null,null,null,null,null,null,null,null,null,null,null,null,null,null,null,null,null,null,null,null,null,"Bidens asymetrica","kookoolau - 1","kookoolau - 1","kookoolau - 1","kookoolau - 1","kookoolau - 1","kookoolau - 1","kookoolau - 1","kookoolau - 1","kookoolau - 1",1000,2000,50,120,"Yes","No","Yes","No","No","Herb","No","Yes","n/a","1-25","3+",0,"Yes","No","Yes","No","Yes","No","Yes","No","Yes","No","Yes","Yes","No","No","No","No","No","No","No","No","No","No","No","No","No","No","No","No","No","No",null,null,null,null,null,null,null,"Yes","No","No","No","No","No","No","No","No","No","No","No","No","No","No","No","No","No",null,null,null,null,null,null,null,null,null,null,"",null,"",null,"","",null,null,null,null,null,null,null,null,null,null,null,null,"",null,"",null,"",""]
["Bidens campylotheca subsp. campylotheca",{"$error":"#N/A"},"Yes","No","No",{"$f":"IF($I$4=TRUE,INDEX($BZ$29:$DC1599,MATCH($A82,$AZ$29:$AZ$1000,0),MATCH($AC$2,$BZ$18:$DC$18,0)),\"Yes\")","v":"Yes"},"Yes","Yes","Yes","Yes","Yes","Yes","Yes","Yes",{"$error":"#N/A"},{"$error":"#N/A"},"Yes","Yes","Yes","Yes",{"$error":"#N/A"},{"$error":"#N/A"},{"$error":"#N/A"},{"$error":"#N/A"},null,null,null,null,null,null,null,null,null,null,null,null,null,null,null,null,null,null,null,null,null,null,null,null,null,null,null,"Bidens campylotheca subsp. campylotheca","kookoolau - 2","kookoolau - 2","kookoolau - 2","kookoolau - 2","kookoolau - 2","kookoolau - 2","kookoolau - 2","kookoolau - 2","kookoolau - 2",350,6500,50,200,"Yes","Yes","No","No","No","Herb","No","Yes","n/a","1-25","3+",10,"Yes","Yes","Yes","Yes","Yes","Yes","Yes","No","Yes","No","Yes","Yes","No","No","No","No","No","No","No","No","No","No","No","No","No","No","No","No","No","No",null,null,null,null,null,null,null,"Yes","No","No","No","No","No","No","No","No","No","No","No","No","No","No","No","No","No",null,null,null,null,null,null,null,null,null,null,"",null,"",null,"","",null,null,null,null,null,null,null,null,null,null,null,null,"",null,"",null,"",""]
["Bidens cervicata",{"$error":"#N/A"},"Yes","No","No",{"$f":"IF($I$4=TRUE,INDEX($BZ$29:$DC1600,MATCH($A83,$AZ$29:$AZ$1000,0),MATCH($AC$2,$BZ$18:$DC$18,0)),\"Yes\")","v":"Yes"},"Yes","Yes","Yes","Yes","Yes","Yes","Yes","Yes",{"$error":"#N/A"},{"$error":"#N/A"},"Yes","Yes","Yes","Yes",{"$error":"#N/A"},{"$f":"IF(AND(C$7<=X83,C$7>=W83),\"Yes\",\"No\")","v":{"$error":"#N/A"}},{"$error":"#N/A"},{"$error":"#N/A"},null,null,null,null,null,null,null,null,null,null,null,null,null,null,null,null,null,null,null,null,null,null,null,null,null,null,null,"Bidens cervicata","kookoolau - 3","kookoolau - 3","kookoolau - 3","kookoolau - 3","kookoolau - 3","kookoolau - 3","kookoolau - 3","kookoolau - 3","kookoolau - 3",150,4000,15,120,"Yes","Yes","Yes","No","No","Herb","No","Yes","n/a","1-25","3+",6,"Yes","No","Yes","Yes","Yes","No","Yes","No","Yes","No","Yes","Yes","No","No","No","No","No","No","No","No","No","No","No","No","No","No","No","No","No","No",null,null,null,null,null,null,null,"Yes","No","No","No","No","No","No","No","No","No","No","No","No","No","No","No","No","No",null,null,null,null,null,null,null,null,null,null,"",null,"",null,"","",null,null,null,null,null,null,null,null,null,null,null,null,"",null,"",null,"",""]
["Bidens cosmoides",{"$error":"#N/A"},"Yes","No","No",{"$f":"IF($I$4=TRUE,INDEX($BZ$29:$DC1601,MATCH($A84,$AZ$29:$AZ$1000,0),MATCH($AC$2,$BZ$18:$DC$18,0)),\"Yes\")","v":"Yes"},"Yes","Yes","Yes","Yes","Yes","Yes","Yes","Yes",{"$error":"#N/A"},{"$error":"#N/A"},"Yes","Yes","Yes","Yes",{"$error":"#N/A"},{"$error":"#N/A"},{"$f":"IF(AF$1394=\"Tropical\",BJ84,IF(AND($C$8=\"Winter\",DF84=\"CS\"),BJ84-500,BJ84))","v":{"$error":"#N/A"}},{"$f":"IF(AF$1394=\"Tropical\",BK84,IF(AND($C$8=\"Winter\",DF84=\"WS\"),BK84-500,BK84))","v":{"$error":"#N/A"}},null,null,null,null,null,null,null,null,null,null,null,null,null,null,null,null,null,null,null,null,null,null,null,null,null,null,null,"Bidens cosmoides","poola nui","poola nui","poola nui","poola nui","poola nui","poola nui","poola nui","poola nui","poola nui",1150,4000,50,120,"No","Yes","No","No","No","Herb","No","Yes","n/a","1-25","3+",6,"Yes","No","Yes","Yes","Yes","No","Yes","No","Yes","No","Yes","No","No","No","No","No","No","No","No","No","No","No","No","No","No","No","No","No","No","No",null,null,null,null,null,null,null,"Yes","No","No","No","No","No","No","No","No","No","No","No","No","No","No","No","No","No",null,null,null,null,null,null,null,null,null,null,"",null,"",null,"","",null,null,null,null,null,null,null,null,null,null,null,null,"",null,"",null,"",""]
["Bidens forbesii subsp. forbesii",{"$error":"#N/A"},"Yes","No","No",{"$f":"IF($I$4=TRUE,INDEX($BZ$29:$DC1602,MATCH($A85,$AZ$29:$AZ$1000,0),MATCH($AC$2,$BZ$18:$DC$18,0)),\"Yes\")","v":"Yes"},"Yes","Yes","Yes","Yes","Yes","Yes","Yes","Yes",{"$error":"#N/A"},{"$error":"#N/A"},"Yes","Yes","Yes","Yes",{"$error":"#N/A"},{"$error":"#N/A"},{"$error":"#N/A"},{"$error":"#N/A"},null,null,null,null,null,null,null,null,null,null,null,null,null,null,null,null,null,null,null,null,null,null,null,null,null,null,null,"Bidens forbesii subsp. forbesii","kookoolau - 4","kookoolau - 4","kookoolau - 4","kookoolau - 4","kookoolau - 4","kookoolau - 4","kookoolau - 4","kookoolau - 4","kookoolau - 4",0,3300,15,75,"Yes","No","Yes","Yes","No","Herb","No","Yes","n/a","1-25","3+",6,"Yes","No","Yes","Yes","Yes","No","Yes","No","Yes","No","Yes","No","No","No","No","No","No","No","No","No","No","No","No","No","No","No","No","No","No","No",null,null,null,null,null,null,null,"Yes","No","No","No","No","No","No","No","No","No","No","No","No","No","No","No","No","No",null,null,null,null,null,null,null,null,null,null,"",null,"",null,"","",null,null,null,null,null,null,null,null,null,null,null,null,"",null,"",null,"",""]
["Bidens forbesii subsp. kahiliensis",{"$error":"#N/A"},"Yes","No","No",{"$f":"IF($I$4=TRUE,INDEX($BZ$29:$DC1603,MATCH($A86,$AZ$29:$AZ$1000,0),MATCH($AC$2,$BZ$18:$DC$18,0)),\"Yes\")","v":"Yes"},"Yes","Yes","Yes","Yes","Yes","Yes","Yes","Yes",{"$error":"#N/A"},{"$error":"#N/A"},"Yes","Yes","Yes","Yes",{"$error":"#N/A"},{"$error":"#N/A"},{"$error":"#N/A"},{"$error":"#N/A"},null,null,null,null,null,null,null,null,null,null,null,null,null,null,null,null,null,null,null,null,null,null,null,null,null,null,null,"Bidens forbesii subsp. kahiliensis","kookoolau - 5","kookoolau - 5","kookoolau - 5","kookoolau - 5","kookoolau - 5","kookoolau - 5","kookoolau - 5","kookoolau - 5","kookoolau - 5",2450,3300,15,75,"Yes","No","Yes","Yes","No","Herb","No","Yes","n/a","1-25","3+",6,"Yes","No","Yes","Yes","Yes","No","Yes","No","Yes","No","Yes","No","No","No","No","No","No","No","No","No","No","No","No","No","No","No","No","No","No","No",null,null,null,null,null,null,null,"Yes","No","No","No","No","No","No","No","No","No","No","No","No","No","No","No","No","No",null,null,null,null,null,null,null,null,null,null,"",null,"",null,"","",null,null,null,null,null,null,null,null,null,null,null,null,"",null,"",null,"",""]
["Bidens hawaiensis",{"$error":"#N/A"},"Yes","No","No",{"$f":"IF($I$4=TRUE,INDEX($BZ$29:$DC1604,MATCH($A87,$AZ$29:$AZ$1000,0),MATCH($AC$2,$BZ$18:$DC$18,0)),\"Yes\")","v":"Yes"},"Yes","Yes","Yes","Yes","Yes","Yes","Yes","Yes",{"$error":"#N/A"},{"$error":"#N/A"},"Yes","Yes","Yes","Yes",{"$error":"#N/A"},{"$error":"#N/A"},{"$error":"#N/A"},{"$error":"#N/A"},null,null,null,null,null,null,null,null,null,null,null,null,null,null,null,null,null,null,null,null,null,null,null,null,null,null,null,"Bidens hawaiensis","kookoolau - 6","kookoolau - 6","kookoolau - 6","kookoolau - 6","kookoolau - 6","kookoolau - 6","kookoolau - 6","kookoolau - 6","kookoolau - 6",150,4600,50,150,"Yes","Yes","Yes","No","No","Herb","No","Yes","n/a","1-25","3+",6,"Yes","Yes","Yes","No","Yes","No","Yes","No","Yes","No","Yes","No","No","No","No","No","No","No","No","No","No","No","No","No","No","No","No","No","No","No",null,null,null,null,null,null,null,"Yes","No","No","No","No","No","No","No","No","No","No","No","No","No","No","No","No","No",null,null,null,null,null,null,null,null,null,null,"",null,"",null,"","",null,null,null,null,null,null,null,null,null,null,null,null,"",null,"",null,"",""]
["Bidens hillebrandiana subsp. polycephala",{"$error":"#N/A"},"Yes","No","No",{"$f":"IF($I$4=TRUE,INDEX($BZ$29:$DC1605,MATCH($A88,$AZ$29:$AZ$1000,0),MATCH($AC$2,$BZ$18:$DC$18,0)),\"Yes\")","v":"Yes"},"Yes","Yes","Yes","Yes","Yes","Yes","Yes","Yes",{"$error":"#N/A"},{"$error":"#N/A"},"Yes","Yes","Yes","Yes",{"$error":"#N/A"},{"$error":"#N/A"},{"$error":"#N/A"},{"$error":"#N/A"},null,null,null,null,null,null,null,null,null,null,null,null,null,null,null,null,null,null,null,null,null,null,null,null,null,null,null,"Bidens hillebrandiana subsp. polycephala","kookoolau - 7","kookoolau - 7","kookoolau - 7","kookoolau - 7","kookoolau - 7","kookoolau - 7","kookoolau - 7","kookoolau - 7","kookoolau - 7",0,350,50,150,"Yes","No","Yes","Yes","No","Herb","No","Yes","n/a","0-1","0-1",1,"Yes","No","Yes","No","Yes","No","Yes","Yes","Yes","Yes","Yes","No","No","No","No","No","No","No","No","No","No","No","No","No","No","No","No","No","No","No",null,null,null,null,null,null,null,"Yes","No","No","No","No","No","No","No","No","No","No","No","No","No","No","No","No","No",null,null,null,null,null,null,null,null,null,null,"",null,"",null,"","",null,null,null,null,null,null,null,null,null,null,null,null,"",null,"",null,"",""]
["Bidens macrocarpa",{"$error":"#N/A"},"Yes","No","No",{"$f":"IF($I$4=TRUE,INDEX($BZ$29:$DC1606,MATCH($A89,$AZ$29:$AZ$1000,0),MATCH($AC$2,$BZ$18:$DC$18,0)),\"Yes\")","v":"Yes"},"Yes","Yes","Yes","Yes","Yes","Yes","Yes","Yes",{"$error":"#N/A"},{"$error":"#N/A"},"Yes","Yes","Yes","Yes",{"$error":"#N/A"},{"$error":"#N/A"},{"$error":"#N/A"},{"$error":"#N/A"},null,null,null,null,null,null,null,null,null,null,null,null,null,null,null,null,null,null,null,null,null,null,null,null,null,null,null,"Bidens macrocarpa","kookoolau - 8","kookoolau - 8","kookoolau - 8","kookoolau - 8","kookoolau - 8","kookoolau - 8","kookoolau - 8","kookoolau - 8","kookoolau - 8",1300,2500,50,200,"Yes","Yes","Yes","No","No","Herb","No","Yes","n/a","1-25","3+",6,"Yes","No","Yes","No","Yes","No","Yes","No","Yes","No","Yes","Yes","No","No","No","No","No","No","No","No","No","No","No","No","No","No","No","No","No","No",null,null,null,null,null,null,null,"Yes","No","No","No","No","No","No","No","No","No","No","No","No","No","No","No","No","No",null,null,null,null,null,null,null,null,null,null,"",null,"",null,"","",null,null,null,null,null,null,null,null,null,null,null,null,"",null,"",null,"",""]
["Bidens mauiensis",{"$error":"#N/A"},"Yes","No","No",{"$f":"IF($I$4=TRUE,INDEX($BZ$29:$DC1607,MATCH($A90,$AZ$29:$AZ$1000,0),MATCH($AC$2,$BZ$18:$DC$18,0)),\"Yes\")","v":"Yes"},"Yes","Yes","Yes","Yes","Yes","Yes","Yes","Yes",{"$error":"#N/A"},{"$error":"#N/A"},"Yes","Yes","Yes","Yes",{"$error":"#N/A"},{"$error":"#N/A"},{"$error":"#N/A"},{"$error":"#N/A"},null,null,null,null,null,null,null,null,null,null,null,null,null,null,null,null,null,null,null,null,null,null,null,null,null,null,null,"Bidens mauiensis","kookoolau - 9","kookoolau - 9","kookoolau - 9","kookoolau - 9","kookoolau - 9","kookoolau - 9","kookoolau - 9","kookoolau - 9","kookoolau - 9",150,2000,15,75,"Yes","No","Yes","Yes","No","Herb","No","Yes","n/a","0-1","0-1",1,"Yes","No","Yes","No","Yes","Yes","Yes","Yes","Yes","No","Yes","No","No","No","No","No","No","No","No","No","No","No","No","No","No","No","No","No","No","No",null,null,null,null,null,null,null,"Yes","No","No","No","No","No","No","No","No","No","No","No","No","No","No","No","No","No",null,null,null,null,null,null,null,null,null,null,"",null,"",null,"","",null,null,null,null,null,null,null,null,null,null,null,null,"",null,"",null,"","",null,null,null,null,null,null,null,null,null,null,null,false]
["Bidens menziesii subsp. filiformis",{"$error":"#N/A"},"Yes","No","No",{"$f":"IF($I$4=TRUE,INDEX($BZ$29:$DC1608,MATCH($A91,$AZ$29:$AZ$1000,0),MATCH($AC$2,$BZ$18:$DC$18,0)),\"Yes\")","v":"Yes"},"Yes","Yes","Yes","Yes","Yes","Yes","Yes","Yes",{"$error":"#N/A"},{"$error":"#N/A"},"Yes","Yes","Yes","Yes",{"$error":"#N/A"},{"$error":"#N/A"},{"$error":"#N/A"},{"$error":"#N/A"},null,null,null,null,null,null,null,null,null,null,null,null,null,null,null,null,null,null,null,null,null,null,null,null,null,null,null,"Bidens menziesii subsp. filiformis","kookoolau - 10","kookoolau - 10","kookoolau - 10","kookoolau - 10","kookoolau - 10","kookoolau - 10","kookoolau - 10","kookoolau - 10","kookoolau - 10",2500,7500,15,75,"Yes","No","Yes","No","No","Shrub","No","Yes","n/a","1-25","3+",10,"Yes","Yes","Yes","No","Yes","No","Yes","No","Yes","No","Yes","No","No","No","No","No","No","No","No","No","No","No","No","No","No","No","No","No","No","No","Short-lived but persistent due to re-seeding.",null,null,null,null,null,null,"Yes","Yes","No","No","No","No","No","No","Yes","No","Yes","No","Yes","No","No","Yes","No","No",null,null,null,null,null,null,null,null,null,null,"",null,"",null,"","",null,null,null,null,null,null,null,null,null,null,null,null,"",null,"",null,"","",null,null,null,null,null,null,null,null,null,null,null,false]
["Bidens menziesii subsp. menziesii",{"$error":"#N/A"},"Yes","No","No",{"$f":"IF($I$4=TRUE,INDEX($BZ$29:$DC1609,MATCH($A92,$AZ$29:$AZ$1000,0),MATCH($AC$2,$BZ$18:$DC$18,0)),\"Yes\")","v":"Yes"},"Yes","Yes","Yes","Yes","Yes","Yes","Yes","Yes",{"$error":"#N/A"},{"$error":"#N/A"},"Yes","Yes","Yes","Yes",{"$error":"#N/A"},{"$error":"#N/A"},{"$error":"#N/A"},{"$error":"#N/A"},null,null,null,null,null,null,null,null,null,null,null,null,null,null,null,null,null,null,null,null,null,null,null,null,null,null,null,"Bidens menziesii subsp. menziesii","kookoolau - 11","kookoolau - 11","kookoolau - 11","kookoolau - 11","kookoolau - 11","kookoolau - 11","kookoolau - 11","kookoolau - 11","kookoolau - 11",650,2400,15,75,"Yes","No","Yes","No","No","Shrub","No","Yes","n/a","1-25","3+",10,"Yes","No","Yes","No","Yes","No","Yes","Yes","Yes","Yes","Yes","No","No","No","No","No","No","No","No","No","No","No","No","No","No","No","No","No","No","No","Short-lived but persistent due to re-seeding.",null,null,null,null,null,null,"Yes","Yes","No","No","No","No","No","No","Yes","No","Yes","No","Yes","No","No","Yes","No","No",null,null,null,null,null,null,null,null,null,null,"",null,"",null,"","",null,null,null,null,null,null,null,null,null,null,null,null,"",null,"",null,"","",null,null,null,null,null,null,null,null,null,null,null,false]
["Bidens micrantha subsp. micrantha",{"$f":"IF(A93=0,\"No\",IF(AND(C93=\"Yes\",D93=\"YES\",E93=\"Yes\",F93=\"yes\",G93=\"Yes\",H93=\"Yes\",I93=\"Yes\",J93=\"Yes\",N93=\"Yes\",Q93=\"Yes\",O93=\"Yes\",K93=\"Yes\",P93=\"Yes\",V93=\"Yes\"),\"Yes\",\"No\"))","v":{"$error":"#N/A"}},"Yes","No","No",{"$f":"IF($I$4=TRUE,INDEX($BZ$29:$DC1610,MATCH($A93,$AZ$29:$AZ$1000,0),MATCH($AC$2,$BZ$18:$DC$18,0)),\"Yes\")","v":"Yes"},"Yes","Yes","Yes","Yes","Yes","Yes","Yes","Yes",{"$error":"#N/A"},{"$error":"#N/A"},"Yes","Yes","Yes","Yes",{"$error":"#N/A"},{"$error":"#N/A"},{"$error":"#N/A"},{"$error":"#N/A"},null,null,null,null,null,null,null,null,null,null,null,null,null,null,null,null,null,null,null,null,null,null,null,null,null,null,null,"Bidens micrantha subsp. micrantha","kookoolau - 12","kookoolau - 12","kookoolau - 12","kookoolau - 12","kookoolau - 12","kookoolau - 12","kookoolau - 12","kookoolau - 12","kookoolau - 12",2450,7600,15,75,"Yes","Yes","Yes","No","No","Herb","No","Yes","n/a","1-25","3+",6,"Yes","No","Yes","No","Yes","No","Yes","Yes","Yes","No","Yes","No","No","No","No","No","No","No","No","No","No","No","No","No","No","No","No","No","No","No",null,null,null,null,null,null,null,"Yes","No","No","No","No","No","No","No","No","No","No","No","No","No","No","No","No","No",null,null,null,null,null,null,null,null,null,null,"",null,"",null,"","",null,null,null,null,null,null,null,null,null,null,null,null,"",null,"",null,"","",null,null,null,null,null,null,null,null,null,null,null,false]
[{"$f":"AZ94","v":"Bidens molokaiensis"},{"$error":"#N/A"},"Yes","No","No",{"$f":"IF($I$4=TRUE,INDEX($BZ$29:$DC1611,MATCH($A94,$AZ$29:$AZ$1000,0),MATCH($AC$2,$BZ$18:$DC$18,0)),\"Yes\")","v":"Yes"},{"$f":"IF($K$4=TRUE,VLOOKUP(A94,$AZ$29:$BY$1000,17,FALSE),\"Yes\")","v":"Yes"},{"$f":"IF($J$4=TRUE,VLOOKUP(A94,$AZ$29:$BY$1000,18,FALSE),\"Yes\")","v":"Yes"},{"$f":"IF($L$4=TRUE,VLOOKUP(A94,$AZ$29:$BY$1000,22,FALSE),\"Yes\")","v":"Yes"},{"$f":"IF($M$4=TRUE,VLOOKUP(A94,$AZ$29:$BY$1000,21,FALSE),\"Yes\")","v":"Yes"},"Yes","Yes","Yes",{"$f":"IF($N$4=TRUE,VLOOKUP(A94,$AZ$29:$BY$1000,19,FALSE),\"Yes\")","v":"Yes"},{"$f":"IF($C$5=\"\",\"Yes\",INDEX($BZ$29:$DC$1000,MATCH($AZ94,$AZ$29:$AZ$1000,0),MATCH($AD$1379,$BZ$18:$DC$18,0)))","v":{"$error":"#N/A"}},{"$error":"#N/A"},"Yes","Yes","Yes","Yes",{"$f":"INDEX($BZ$29:$DC$1000,MATCH($AZ94,$AZ$29:$AZ$1000,0),MATCH($AC$2,$BZ$18:$DC$18,0))","v":{"$error":"#N/A"}},{"$error":"#N/A"},{"$error":"#N/A"},{"$error":"#N/A"},null,null,null,null,null,null,null,null,null,null,null,null,null,null,null,null,null,null,null,null,null,null,null,null,null,null,null,"Bidens molokaiensis","kookoolau - 13","kookoolau - 13","kookoolau - 13","kookoolau - 13","kookoolau - 13","kookoolau - 13","kookoolau - 13","kookoolau - 13","kookoolau - 13",0,800,15,120,"Yes","No","Yes","Yes","No","Herb","No","Yes","n/a","0-1","0-1",1,"Yes","No","Yes","No","Yes","No","Yes","No","Yes","Yes","Yes","Yes","No","No","No","No","No","No","No","No","No","No","No","No","No","No","No","No","No","No",null,null,null,null,null,null,null,"Yes","No","No","No","No","No","No","No","No","No","No","No","No","No","No","No","No","No",null,null,null,null,null,null,null,null,null,null,"",null,"",null,"","",null,null,null,null,null,null,null,null,null,null,null,null,"",null,"",null,"","",null,null,null,null,null,null,null,null,null,null,null,false]
["Bidens populifolia",{"$error":"#N/A"},"Yes","No","No",{"$f":"IF($I$4=TRUE,INDEX($BZ$29:$DC1612,MATCH($A95,$AZ$29:$AZ$1000,0),MATCH($AC$2,$BZ$18:$DC$18,0)),\"Yes\")","v":"Yes"},"Yes","Yes","Yes","Yes","Yes","Yes","Yes","Yes",{"$error":"#N/A"},{"$error":"#N/A"},"Yes","Yes","Yes","Yes",{"$error":"#N/A"},{"$error":"#N/A"},{"$error":"#N/A"},{"$error":"#N/A"},null,null,null,null,null,null,null,null,null,null,null,null,null,null,null,null,null,null,null,null,null,null,null,null,null,null,null,"Bidens populifolia","kookoolau - 14","kookoolau - 14","kookoolau - 14","kookoolau - 14","kookoolau - 14","kookoolau - 14","kookoolau - 14","kookoolau - 14","kookoolau - 14",150,2000,50,200,"Yes","Yes","Yes","No","No","Herb","No","Yes","n/a","0-1","1-3",2,"Yes","No","Yes","No","Yes","No","Yes","No","Yes","No","Yes","Yes","No","No","No","No","No","No","No","No","No","No","No","No","No","No","No","No","No","No",null,null,null,null,null,null,null,"Yes","No","No","No","No","No","No","No","No","No","No","No","No","No","No","No","No","No",null,null,null,null,null,null,null,null,null,null,"",null,"",null,"","",null,null,null,null,null,null,null,null,null,null,null,null,"",null,"",null,"","",null,null,null,null,null,null,null,null,null,null,null,false]
["Bidens sandvicensis subsp. confusa",{"$error":"#N/A"},"Yes","No","No",{"$f":"IF($I$4=TRUE,INDEX($BZ$29:$DC1613,MATCH($A96,$AZ$29:$AZ$1000,0),MATCH($AC$2,$BZ$18:$DC$18,0)),\"Yes\")","v":"Yes"},"Yes","Yes","Yes","Yes","Yes","Yes","Yes","Yes",{"$error":"#N/A"},{"$error":"#N/A"},"Yes","Yes","Yes","Yes",{"$error":"#N/A"},{"$error":"#N/A"},{"$error":"#N/A"},{"$error":"#N/A"},null,null,null,null,null,null,null,null,null,null,null,null,null,null,null,null,null,null,null,null,null,null,null,null,null,null,null,"Bidens sandvicensis subsp. confusa","kookoolau - 15","kookoolau - 15","kookoolau - 15","kookoolau - 15","kookoolau - 15","kookoolau - 15","kookoolau - 15","kookoolau - 15","kookoolau - 15",500,3000,50,120,"Yes","Yes","No","No","No","Herb","No","Yes","n/a","0-1","1-3",3,"Yes","No","Yes","Yes","Yes","No","Yes","No","Yes","No","Yes","No","No","No","No","No","No","No","No","No","No","No","No","No","No","No","No","No","No","No",null,null,null,null,null,null,null,"Yes","No","No","No","No","No","No","No","No","No","No","No","No","No","No","No","No","No",null,null,null,null,null,null,null,null,null,null,"",null,"",null,"","",null,null,null,null,null,null,null,null,null,null,null,null,"",null,"",null,"","",null,null,null,null,null,null,null,null,null,null,null,false]
["Bidens sandvicensis subsp. sandvicensis",{"$error":"#N/A"},"Yes","No","No",{"$f":"IF($I$4=TRUE,INDEX($BZ$29:$DC1614,MATCH($A97,$AZ$29:$AZ$1000,0),MATCH($AC$2,$BZ$18:$DC$18,0)),\"Yes\")","v":"Yes"},"Yes","Yes","Yes","Yes","Yes","Yes","Yes","Yes",{"$error":"#N/A"},{"$error":"#N/A"},"Yes","Yes","Yes","Yes",{"$error":"#N/A"},{"$error":"#N/A"},{"$error":"#N/A"},{"$error":"#N/A"},null,null,null,null,null,null,null,null,null,null,null,null,null,null,null,null,null,null,null,null,null,null,null,null,null,null,null,"Bidens sandvicensis subsp. sandvicensis","kookoolau - 16","kookoolau - 16","kookoolau - 16","kookoolau - 16","kookoolau - 16","kookoolau - 16","kookoolau - 16","kookoolau - 16","kookoolau - 16",500,3000,50,120,"Yes","Yes","No","No","No","Herb","No","Yes","n/a","0-1","1-3",3,"Yes","No","Yes","Yes","Yes","No","Yes","No","Yes","No","Yes","Yes","No","No","No","No","No","No","No","No","No","No","No","No","No","No","No","No","No","No",null,null,null,null,null,null,null,"Yes","No","No","No","No","No","No","No","No","No","No","No","No","No","No","No","No","No",null,null,null,null,null,null,null,null,null,null,"",null,"",null,"","",null,null,null,null,null,null,null,null,null,null,null,null,"",null,"",null,"","",null,null,null,null,null,null,null,null,null,null,null,false]
["Bidens torta",{"$error":"#N/A"},{"$f":"INDEX($DK$29:$EC$1000,MATCH(AZ98,$AZ$29:$AZ$1000,0),MATCH($A$2,$DK$18:$EC$18,0))","v":"Yes"},{"$f":"IF(ISBLANK($C$6),\"No\",IF(AND($H$4=TRUE,BM98>$C$6),\"Yes\",IF(AND($C$6>=BL98,$C$6<=BM98),\"Yes\",\"No\")))","v":"No"},"No",{"$f":"IF($I$4=TRUE,INDEX($BZ$29:$DC1615,MATCH($A98,$AZ$29:$AZ$1000,0),MATCH($AC$2,$BZ$18:$DC$18,0)),\"Yes\")","v":"Yes"},"Yes","Yes","Yes","Yes",{"$f":"IF(AND(L98=\"Yes\",M98=\"Yes\"),\"Yes\",\"No\")","v":"Yes"},{"$f":"IF(AND($O$4=TRUE,BO98=\"Yes\"),\"no\",\"Yes\")","v":"Yes"},{"$f":"IF(AND($P$4=TRUE,BN98=\"Yes\"),\"No\",\"Yes\")","v":"Yes"},"Yes",{"$error":"#N/A"},{"$f":"IF(AND($Q$4=TRUE,U98=\"Yes\"),\"No\",IF(AND($Q$4=TRUE,U98=\"No\"),\"yes\",\"Yes\"))","v":{"$error":"#N/A"}},{"$f":"IF(OR(R98=\"Yes\",S98=\"Yes\",T98=\"Yes\"),\"Yes\",\"No\")","v":"Yes"},{"$f":"IF($W$7=\"Yes\",\"Yes\",IF($T$13=BS98,\"Yes\",\"No\"))","v":"Yes"},{"$f":"IF($W$7=\"Yes\",\"Yes\",IF($U$13=BS98,\"Yes\",\"No\"))","v":"Yes"},{"$f":"IF($W$7=\"Yes\",\"Yes\",IF($V$13=BS98,\"Yes\",\"No\"))","v":"Yes"},{"$error":"#N/A"},{"$error":"#N/A"},{"$error":"#N/A"},{"$error":"#N/A"},null,null,null,null,null,null,null,null,null,null,null,null,null,null,null,null,null,null,null,null,null,null,null,null,null,null,null,"Bidens torta","kookoolau - 17","kookoolau - 17","kookoolau - 17","kookoolau - 17","kookoolau - 17","kookoolau - 17","kookoolau - 17","kookoolau - 17","kookoolau - 17",1000,4000,15,200,"Yes","Yes","Yes","No","Yes","Herb","No","Yes","n/a","1-25","3+",10,"Yes","No","Yes","No","Yes","No","Yes","No","Yes","No","Yes","Yes","No","No","No","No","No","No","No","No","No","No","No","No","No","No","No","No","No","No",null,null,null,null,null,null,null,"Yes","No","No","No","No","No","No","No","No","No","No","No","No","No","No","No","No","No",null,null,null,null,null,null,null,null,null,null,"",null,"",null,"","",null,null,null,null,null,null,null,null,null,null,null,null,"",null,"",null,"","",null,null,null,null,null,null,null,null,null,null,null,false]
["Bidens valida",{"$error":"#N/A"},"Yes","No","No",{"$f":"IF($I$4=TRUE,INDEX($BZ$29:$DC1616,MATCH($A99,$AZ$29:$AZ$1000,0),MATCH($AC$2,$BZ$18:$DC$18,0)),\"Yes\")","v":"Yes"},"Yes","Yes","Yes","Yes","Yes","Yes","Yes","Yes",{"$error":"#N/A"},{"$error":"#N/A"},"Yes","Yes","Yes","Yes",{"$error":"#N/A"},{"$error":"#N/A"},{"$error":"#N/A"},{"$error":"#N/A"},null,null,null,null,null,null,null,null,null,null,null,null,null,null,null,null,null,null,null,null,null,null,null,null,null,null,null,"Bidens valida","kookoolau - 18","kookoolau - 18","kookoolau - 18","kookoolau - 18","kookoolau - 18","kookoolau - 18","kookoolau - 18","kookoolau - 18","kookoolau - 18",1100,3000,50,200,"Yes","No","Yes","No","No","Herb","No","Yes","n/a","0-1","1-3",5,"Yes","No","Yes","Yes","Yes","No","Yes","No","Yes","No","Yes","No","No","No","No","No","No","No","No","No","No","No","No","No","No","No","No","No","No","No",null,null,null,null,null,null,null,"Yes","No","No","No","No","No","No","No","No","No","No","No","No","No","No","No","No","No",null,null,null,null,null,null,null,null,null,null,"",null,"",null,"","",null,null,null,null,null,null,null,null,null,null,null,null,"",null,"",null,"","",null,null,null,null,null,null,null,null,null,null,null,false]
["Bikkia tetrandra",{"$error":"#N/A"},"Yes","No","No",{"$f":"IF($I$4=TRUE,INDEX($BZ$29:$DC1617,MATCH($A100,$AZ$29:$AZ$1000,0),MATCH($AC$2,$BZ$18:$DC$18,0)),\"Yes\")","v":"Yes"},"Yes","Yes","Yes","Yes","Yes","Yes","Yes","Yes",{"$error":"#N/A"},{"$error":"#N/A"},"Yes","Yes","Yes","Yes",{"$error":"#N/A"},{"$error":"#N/A"},{"$error":"#N/A"},{"$error":"#N/A"},null,null,null,null,null,null,null,null,null,null,null,null,null,null,null,null,null,null,null,null,null,null,null,null,null,null,null,"Bikkia tetrandra","gausali","gausali","gausali","gausali","gausali","gausali","gausali","gausali","gausali",0,50,70,120,"Yes","Yes","Yes","Yes","No","Shrub","No","Yes","n/a","1-25","1-3",3,"No","No","No","No","No","No","No","No","No","No","No","No","No","No","Yes","Yes","No","No","No","No","No","No","No","No","No","No","No","No","No","No","Other than coastal strand forests this species grows almost exclusively on limestone cliff faces.",null,null,null,null,null,null,"Yes","No","No","No","No","No","No","No","Yes","No","Yes","No","Yes","No","No","Yes","No","No",null,null,null,null,null,null,null,null,null,null,"",null,"",null,"","",null,null,null,null,null,null,null,null,null,null,null,null,"",null,"",null,"","",null,null,null,null,null,null,null,null,null,null,null,false]
["Bischofia javanica",{"$error":"#N/A"},"Yes","No","No",{"$f":"IF($I$4=TRUE,INDEX($BZ$29:$DC1618,MATCH($A101,$AZ$29:$AZ$1000,0),MATCH($AC$2,$BZ$18:$DC$18,0)),\"Yes\")","v":"Yes"},"Yes","Yes","Yes","Yes","Yes","Yes","Yes","Yes",{"$error":"#N/A"},{"$error":"#N/A"},"Yes","Yes","Yes","Yes",{"$error":"#N/A"},{"$error":"#N/A"},{"$error":"#N/A"},{"$error":"#N/A"},null,null,null,null,null,null,null,null,null,null,null,null,null,null,null,null,null,null,null,null,null,null,null,null,null,null,null,"Bischofia javanica","bishopwood","bishopwood","oa, bishopwood","bishopwood","bishopwood","bishopwood","bishopwood","bishopwood","bishopwood",20,2800,80,200,"Yes","Yes","Yes","No","Yes","Tree","No","Yes",7,"40+","1-3",40,"No","No","No","No","No","No","No","No","No","No","No","No","Yes","Yes","No","No","No","No","No","No","No","No","No","No","No","No","No","No","No","No",null,null,null,null,null,null,null,"Yes","Yes","No","No","No","No","No","No","Yes","No","Yes","No","Yes","No","Yes","Yes","No","No",null,null,null,null,null,null,null,null,null,null,"10-40",null,"10-40",null,"10-40","10-40",null,null,null,null,null,null,null,null,null,null,null,null,"feet",null,"feet",null,"feet","feet",null,null,null,null,null,null,null,null,null,null,null,false]
["Bobea timonioides",{"$error":"#N/A"},"Yes","No","No",{"$f":"IF($I$4=TRUE,INDEX($BZ$29:$DC1619,MATCH($A102,$AZ$29:$AZ$1000,0),MATCH($AC$2,$BZ$18:$DC$18,0)),\"Yes\")","v":"Yes"},"Yes","Yes","Yes","Yes","Yes","Yes","Yes","Yes",{"$error":"#N/A"},{"$error":"#N/A"},"Yes","Yes","Yes","Yes",{"$error":"#N/A"},{"$error":"#N/A"},{"$error":"#N/A"},{"$error":"#N/A"},null,null,null,null,null,null,null,null,null,null,null,null,null,null,null,null,null,null,null,null,null,null,null,null,null,null,null,"Bobea timonioides","ahakea","ahakea","ahakea","ahakea","ahakea","ahakea","ahakea","ahakea","ahakea",800,1900,20,75,"Yes","Yes","No","No","No","Tree","No","Yes","n/a","25-40","1-3",20,"Yes","Yes","Yes","Yes","Yes","No","Yes","Yes","Yes","No","Yes","Yes","No","No","No","No","No","No","No","No","No","No","No","No","No","No","No","No","No","No",null,null,null,null,null,null,null,"Yes","Yes","No","No","No","No","No","No","Yes","No","Yes","No","Yes","No","Yes","Yes","No","No",null,null,null,null,null,null,null,null,null,null,"8-15",null,"8-15",null,"8-15","8-15",null,null,null,null,null,null,null,null,null,null,null,null,"feet",null,"feet",null,"feet","feet",null,null,null,null,null,null,null,null,null,null,null,false]
["Boehmeria grandis",{"$error":"#N/A"},"Yes","No","No",{"$f":"IF($I$4=TRUE,INDEX($BZ$29:$DC1620,MATCH($A103,$AZ$29:$AZ$1000,0),MATCH($AC$2,$BZ$18:$DC$18,0)),\"Yes\")","v":"Yes"},"Yes","Yes","Yes","Yes","Yes","Yes","Yes","Yes",{"$error":"#N/A"},{"$error":"#N/A"},"Yes","Yes","Yes","Yes",{"$error":"#N/A"},{"$error":"#N/A"},{"$error":"#N/A"},{"$error":"#N/A"},null,null,null,null,null,null,null,null,null,null,null,null,null,null,null,null,null,null,null,null,null,null,null,null,null,null,null,"Boehmeria grandis","akolea","akolea","akolea","akolea","akolea","akolea","akolea","akolea","akolea",500,3600,50,240,"No","Yes","Yes","No","Yes","Shrub","No","Yes","n/a","1-25","3+",6,"Yes","Yes","Yes","Yes","Yes","Yes","Yes","Yes","Yes","Yes","Yes","Yes","No","No","No","No","No","No","No","No","No","No","No","No","No","No","No","No","No","No","A host plant for Kamehameha butterfly caterpilars.",null,null,null,null,null,null,"Yes","Yes","No","No","No","No","No","No","Yes","No","Yes","No","Yes","No","No","Yes","No","No",null,null,null,null,null,null,null,null,null,null,"",null,"",null,"","",null,null,null,null,null,null,null,null,null,null,null,null,"",null,"",null,"","",null,null,null,null,null,null,null,null,null,null,null,false]
["Boerhavia acutifolia",{"$error":"#N/A"},"Yes","No","No",{"$f":"IF($I$4=TRUE,INDEX($BZ$29:$DC1621,MATCH($A104,$AZ$29:$AZ$1000,0),MATCH($AC$2,$BZ$18:$DC$18,0)),\"Yes\")","v":"Yes"},"Yes","Yes","Yes","Yes","Yes","Yes","Yes","Yes",{"$error":"#N/A"},{"$error":"#N/A"},"Yes","Yes","Yes","Yes",{"$error":"#N/A"},{"$error":"#N/A"},{"$error":"#N/A"},{"$error":"#N/A"},null,null,null,null,null,null,null,null,null,null,null,null,null,null,null,null,null,null,null,null,null,null,null,null,null,null,null,"Boerhavia acutifolia","alena, nena","alena, nena","alena, nena","alena, nena","alena, nena","alena, nena","alena, nena","alena, nena","alena, nena",0,160,15,75,"Yes","No","Yes","Yes","No","Herb","No","Yes","n/a","0-1","0-1",0,"Yes","Yes","Yes","Yes","Yes","Yes","Yes","Yes","Yes","Yes","Yes","Yes","No","No","No","No","No","No","No","No","No","No","No","No","No","No","No","No","No","No",null,null,null,null,null,null,null,"Yes","No","No","No","No","No","No","No","No","No","No","No","No","No","No","Yes","No","No",null,null,null,null,null,null,null,null,null,null,"",null,"",null,"","",null,null,null,null,null,null,null,null,null,null,null,null,"",null,"",null,"","",null,null,null,null,null,null,null,null,null,null,null,false]
["Boerhavia repens",{"$error":"#N/A"},"Yes","No","No",{"$f":"IF($I$4=TRUE,INDEX($BZ$29:$DC1622,MATCH($A105,$AZ$29:$AZ$1000,0),MATCH($AC$2,$BZ$18:$DC$18,0)),\"Yes\")","v":"Yes"},"Yes","Yes","Yes","Yes","Yes","Yes","Yes","Yes",{"$error":"#N/A"},{"$error":"#N/A"},"Yes","Yes","Yes","Yes",{"$error":"#N/A"},{"$error":"#N/A"},{"$error":"#N/A"},{"$error":"#N/A"},null,null,null,null,null,null,null,null,null,null,null,null,null,null,null,null,null,null,null,null,null,null,null,null,null,null,null,"Boerhavia repens","alena","alena","ufiatuli","alena","alena","alena","alena","alena","alena",0,160,15,75,"Yes","No","Yes","Yes","No","Herb","No","Yes","n/a","0-1","0-1",0,"Yes","Yes","Yes","Yes","Yes","Yes","Yes","Yes","Yes","Yes","Yes","Yes","Yes","Yes","Yes","Yes","Yes","Yes","No","No","No","No","No","No","No","No","No","No","No","No","Synonym = Boerhavia tetrandra.",null,null,null,null,null,null,"Yes","No","No","No","No","No","No","No","No","No","No","No","No","No","No","Yes","No","No",null,null,null,null,null,null,null,null,null,null,"",null,"",null,"","",null,null,null,null,null,null,null,null,null,null,null,null,"",null,"",null,"",""]
["Bougainvillea spectabilis",{"$error":"#N/A"},"No","No","No",{"$f":"IF($I$4=TRUE,INDEX($BZ$29:$DC1623,MATCH($A106,$AZ$29:$AZ$1000,0),MATCH($AC$2,$BZ$18:$DC$18,0)),\"Yes\")","v":"Yes"},"Yes","Yes","Yes","Yes","Yes","Yes","Yes","Yes",{"$error":"#N/A"},{"$error":"#N/A"},"Yes","Yes","Yes","Yes",{"$error":"#N/A"},{"$error":"#N/A"},{"$error":"#N/A"},{"$error":"#N/A"},null,null,null,null,null,null,null,null,null,null,null,null,null,null,null,null,null,null,null,null,null,null,null,null,null,null,null,"Bougainvillea spectabilis","bougainvillea","putitainubyu, bougainvillea","felila, bougainvillea","bougainvillea","silik, bougainvillea","bougainvillea","ira tong, bougainvillea","bougainvillea","ikdeelel, limpok, bougainvillea",0,2500,25,200,"Yes","No","Yes","Yes","No","Vine-woody","No","No",2,"1-25","3+",7,"Yes","No","Yes","No","Yes","No","Yes","No","Yes","No","Yes","No","Yes","No","Yes","No","Yes","No","Yes","No","Yes","No","Yes","No","Yes","No","Yes","No","Yes","No",null,null,null,null,null,null,null,"No","No","No","No","No","No","No","No","No","No","No","No","No","No","No","No","No","No",null,null,null,null,null,null,null,null,null,null,"",null,"",null,"","",null,null,null,null,null,null,null,null,null,null,null,null,"",null,"",null,"",""]
["Bromus catharticus (hand planted)",{"$error":"#N/A"},"Yes","No","No",{"$f":"IF($I$4=TRUE,INDEX($BZ$29:$DC1624,MATCH($A107,$AZ$29:$AZ$1000,0),MATCH($AC$2,$BZ$18:$DC$18,0)),\"Yes\")","v":"Yes"},"Yes","Yes","Yes","Yes","Yes","Yes","Yes","Yes",{"$error":"#N/A"},{"$error":"#N/A"},"Yes","Yes","Yes","Yes",{"$error":"#N/A"},{"$error":"#N/A"},{"$error":"#N/A"},{"$error":"#N/A"},null,null,null,null,null,null,null,null,null,null,null,null,null,null,null,null,null,null,null,null,null,null,null,null,null,null,null,"Bromus catharticus (hand planted)","hairy chess, rescue grass, prairie grass (hand planted)","hairy chess, rescue grass, prairie grass (hand planted)","hairy chess, rescue grass, prairie grass (hand planted)","hairy chess, rescue grass, prairie grass (hand planted)","hairy chess, rescue grass, prairie grass (hand planted)","hairy chess, rescue grass, prairie grass (hand planted)","hairy chess, rescue grass, prairie grass (hand planted)","hairy chess, rescue grass, prairie grass (hand planted)","hairy chess, rescue grass, prairie grass (hand planted)",3000,7000,25,100,"Yes","No","Yes","No","No","Herb","No","No",19,"0-1","1-3",0,"Yes","No","Yes","No","Yes","No","Yes","No","Yes","No","Yes","No","Yes","No","Yes","No","Yes","No","Yes","No","Yes","No","Yes","No","Yes","No","Yes","No","Yes","No",null,null,null,null,null,null,null,"Yes","No","No","No","Yes","No","No","No","No","No","No","No","No","No","No","No","No","No",null,null,null,null,1,null,null,null,null,null,"",null,"",null,"","",null,null,null,null,null,null,"3' x 3'",null,null,null,null,null,"",null,"",null,"",""]
["Bromus catharticus (seeded)",{"$error":"#N/A"},"Yes","No","No",{"$f":"IF($I$4=TRUE,INDEX($BZ$29:$DC1625,MATCH($A108,$AZ$29:$AZ$1000,0),MATCH($AC$2,$BZ$18:$DC$18,0)),\"Yes\")","v":"Yes"},"Yes","Yes","Yes","Yes","Yes","Yes","Yes","Yes",{"$error":"#N/A"},{"$error":"#N/A"},"Yes","Yes","Yes","Yes",{"$error":"#N/A"},{"$error":"#N/A"},{"$error":"#N/A"},{"$error":"#N/A"},null,null,null,null,null,null,null,null,null,null,null,null,null,null,null,null,null,null,null,null,null,null,null,null,null,null,null,"Bromus catharticus (seeded)","hairy chess, rescue grass, prairie grass (seeded)","hairy chess, rescue grass, prairie grass (seeded)","hairy chess, rescue grass, prairie grass (seeded)","hairy chess, rescue grass, prairie grass (seeded)","hairy chess, rescue grass, prairie grass (seeded)","hairy chess, rescue grass, prairie grass (seeded)","hairy chess, rescue grass, prairie grass (seeded)","hairy chess, rescue grass, prairie grass (seeded)","hairy chess, rescue grass, prairie grass (seeded)",3000,7000,25,100,"Yes","No","Yes","No","No","Herb","No","No",19,"0-1","1-3",0,"Yes","No","Yes","No","Yes","No","Yes","No","Yes","No","Yes","No","Yes","No","Yes","No","Yes","No","Yes","No","Yes","No","Yes","No","Yes","No","Yes","No","Yes","No",null,null,null,null,null,null,null,"Yes","No","No","No","Yes","No","No","No","No","No","No","No","No","No","No","No","No","No",null,null,null,null,20,null,null,null,null,null,"",null,"",null,"","",null,null,null,null,null,null,"lbs/ac",null,null,null,null,null,"",null,"",null,"",""]
["Bromus catharticus (sprigged)",{"$error":"#N/A"},"Yes","No","No",{"$f":"IF($I$4=TRUE,INDEX($BZ$29:$DC1626,MATCH($A109,$AZ$29:$AZ$1000,0),MATCH($AC$2,$BZ$18:$DC$18,0)),\"Yes\")","v":"Yes"},"Yes","Yes","Yes","Yes","Yes","Yes","Yes","Yes",{"$error":"#N/A"},{"$error":"#N/A"},"Yes","Yes","Yes","Yes",{"$error":"#N/A"},{"$error":"#N/A"},{"$error":"#N/A"},{"$error":"#N/A"},null,null,null,null,null,null,null,null,null,null,null,null,null,null,null,null,null,null,null,null,null,null,null,null,null,null,null,"Bromus catharticus (sprigged)","hairy chess, rescue grass, prairie grass (sprigged)","hairy chess, rescue grass, prairie grass (sprigged)","hairy chess, rescue grass, prairie grass (sprigged)","hairy chess, rescue grass, prairie grass (sprigged)","hairy chess, rescue grass, prairie grass (sprigged)","hairy chess, rescue grass, prairie grass (sprigged)","hairy chess, rescue grass, prairie grass (sprigged)","hairy chess, rescue grass, prairie grass (sprigged)","hairy chess, rescue grass, prairie grass (sprigged)",3000,7000,25,100,"Yes","No","Yes","No","No","Herb","No","No",19,"0-1","1-3",0,"Yes","No","Yes","No","Yes","No","Yes","No","Yes","No","Yes","No","Yes","No","Yes","No","Yes","No","Yes","No","Yes","No","Yes","No","Yes","No","Yes","No","Yes","No",null,null,null,null,null,null,null,"Yes","No","No","No","Yes","No","No","No","No","No","No","No","No","No","No","No","No","No",null,null,null,null,80,null,null,null,null,null,"",null,"",null,"","",null,null,null,null,null,null,"bu/ac",null,null,null,null,null,"",null,"",null,"",""]
["Broussaisia arguta",{"$error":"#N/A"},"Yes","No","No",{"$f":"IF($I$4=TRUE,INDEX($BZ$29:$DC1627,MATCH($A110,$AZ$29:$AZ$1000,0),MATCH($AC$2,$BZ$18:$DC$18,0)),\"Yes\")","v":"Yes"},"Yes","Yes","Yes","Yes","Yes","Yes","Yes","Yes",{"$error":"#N/A"},{"$error":"#N/A"},"Yes","Yes","Yes","Yes",{"$error":"#N/A"},{"$error":"#N/A"},{"$error":"#N/A"},{"$error":"#N/A"},null,null,null,null,null,null,null,null,null,null,null,null,null,null,null,null,null,null,null,null,null,null,null,null,null,null,null,"Broussaisia arguta","kanawao","kanawao","kanawao","kanawao","kanawao","kanawao","kanawao","kanawao","kanawao",1000,6700,75,240,"Yes","Yes","No","No","Yes","Shrub","No","Yes","n/a","1-25","0-1",12,"Yes","Yes","Yes","Yes","Yes","Yes","Yes","Yes","Yes","Yes","Yes","Yes","No","No","No","No","No","No","No","No","No","No","No","No","No","No","No","No","No","No",null,null,null,null,null,null,null,"Yes","Yes","No","No","No","No","No","No","Yes","No","Yes","No","Yes","No","No","Yes","No","No",null,null,null,null,null,null,null,null,null,null,"",null,"",null,"","",null,null,null,null,null,null,null,null,null,null,null,null,"",null,"",null,"",""]
["Broussonetia papyrifera",{"$error":"#N/A"},"Yes","No","No",{"$f":"IF($I$4=TRUE,INDEX($BZ$29:$DC1628,MATCH($A111,$AZ$29:$AZ$1000,0),MATCH($AC$2,$BZ$18:$DC$18,0)),\"Yes\")","v":"Yes"},"Yes","Yes","Yes","Yes","Yes","Yes","Yes","Yes",{"$error":"#N/A"},{"$error":"#N/A"},"Yes","Yes","Yes","Yes",{"$error":"#N/A"},{"$error":"#N/A"},{"$error":"#N/A"},{"$error":"#N/A"},null,null,null,null,null,null,null,null,null,null,null,null,null,null,null,null,null,null,null,null,null,null,null,null,null,null,null,"Broussonetia papyrifera","wauke, poaaha, paper mulberry","paper mulberry","ua, paper mulberry","paper mulberry","paper mulberry","paper mulberry","paper mulberry","paper mulberry","paper mulberry",20,2500,50,120,"Yes","Yes","No","No","No","Tree","No","No",3,"1-25","1-3",20,"Yes","No","Yes","No","Yes","No","Yes","No","Yes","No","Yes","No","Yes","No","No","No","No","No","Yes","No","No","No","No","No","Yes","No","No","No","No","No",null,null,null,null,null,null,null,"Yes","Yes","No","No","No","No","No","No","Yes","No","Yes","No","Yes","No","No","Yes","No","No",null,null,null,null,null,null,null,null,null,null,"8-15",null,"8-15",null,"8-15","8-15",null,null,null,null,null,null,null,null,null,null,null,null,"feet",null,"feet",null,"feet","feet"]
["Caesalpinia bonduc",{"$error":"#N/A"},"Yes","No","No",{"$f":"IF($I$4=TRUE,INDEX($BZ$29:$DC1629,MATCH($A112,$AZ$29:$AZ$1000,0),MATCH($AC$2,$BZ$18:$DC$18,0)),\"Yes\")","v":"Yes"},"Yes","Yes","Yes","Yes","Yes","Yes","Yes","Yes",{"$error":"#N/A"},{"$error":"#N/A"},"Yes","Yes","Yes","Yes",{"$error":"#N/A"},{"$error":"#N/A"},{"$error":"#N/A"},{"$error":"#N/A"},null,null,null,null,null,null,null,null,null,null,null,null,null,null,null,null,null,null,null,null,null,null,null,null,null,null,null,"Caesalpinia bonduc","kakalaioa, gray nicker bean","pacao, gray nicker bean","anoso, gray nicker bean","tochedulik, gray nicker bean","gray nicker bean","gray nicker bean","simota, gray nicker bean","gray nicker bean","jei ta, legulek, gray nicker bean",0,750,20,75,"Yes","No","Yes","Yes","No","Vine-woody","Yes","Yes",12,"1-25","3+",0,"Yes","Yes","Yes","Yes","Yes","Yes","Yes","Yes","Yes","Yes","Yes","Yes","Yes","Yes","Yes","Yes","Yes","Yes","Yes","Yes","Yes","Yes","No","No","Yes","Yes","Yes","Yes","Yes","No","Dry, mostly open, disturbed areas.",null,null,null,null,null,null,"Yes","No","No","No","No","No","No","No","No","No","No","No","Yes","No","No","Yes","No","No",null,null,null,null,null,null,null,null,null,null,"",null,"",null,"","",null,null,null,null,null,null,null,null,null,null,null,null,"",null,"",null,"",""]
["Cajanus cajan",{"$error":"#N/A"},"Yes","No","No",{"$f":"IF($I$4=TRUE,INDEX($BZ$29:$DC1630,MATCH($A113,$AZ$29:$AZ$1000,0),MATCH($AC$2,$BZ$18:$DC$18,0)),\"Yes\")","v":"Yes"},"Yes","Yes","Yes","Yes","Yes","Yes","Yes","Yes",{"$error":"#N/A"},{"$error":"#N/A"},"Yes","Yes","Yes","Yes",{"$error":"#N/A"},{"$error":"#N/A"},{"$error":"#N/A"},{"$error":"#N/A"},null,null,null,null,null,null,null,null,null,null,null,null,null,null,null,null,null,null,null,null,null,null,null,null,null,null,null,"Cajanus cajan","pigeon pea, pi nunu, pi pokoliko","lantaas, lenteha franchesa, pigeon pea","pigeon pea","pigeon pea","pigeon pea","pigeon pea","pigeon pea","pigeon pea","pigeon pea",20,2500,25,160,"Yes","No","Yes","No","No","Shrub","Yes","No",0,"1-25","3+",0,"Yes","No","Yes","No","Yes","No","Yes","No","Yes","No","Yes","No","Yes","No","Yes","No","Yes","No","Yes","No","Yes","No","Yes","No","Yes","No","Yes","No","Yes","No","A short-lived perennial (1-5 years).  This species performs best in a soil with a pH range of 6.0-8.0.  When allowed to grow for 90 days a producer should expect 2.5 tons of above ground biomass which will contain approximately 50 lbs of Nitrogen per ton.  Leaves suitable for livestock fodder.",null,"WS",null,null,null,null,"Yes","No","No","Yes","No","No","No","No","Yes","No","No","No","No","No","No","No","No","No",null,null,null,50,null,null,null,null,null,null,"",null,"",null,"","",null,null,null,null,null,"lbs/ac",null,null,null,null,null,null,"",null,"",null,"",""]
["Callistemon viminalis",{"$error":"#N/A"},"Yes","No","No",{"$f":"IF($I$4=TRUE,INDEX($BZ$29:$DC1631,MATCH($A114,$AZ$29:$AZ$1000,0),MATCH($AC$2,$BZ$18:$DC$18,0)),\"Yes\")","v":"Yes"},"Yes","Yes","Yes","Yes","Yes","Yes","Yes","Yes",{"$error":"#N/A"},{"$error":"#N/A"},"Yes","Yes","Yes","Yes",{"$error":"#N/A"},{"$error":"#N/A"},{"$error":"#N/A"},{"$error":"#N/A"},null,null,null,null,null,null,null,null,null,null,null,null,null,null,null,null,null,null,null,null,null,null,null,null,null,null,null,"Callistemon viminalis","weeping bottlebrush","weeping bottlebrush","weeping bottlebrush","weeping bottlebrush","weeping bottlebrush","weeping bottlebrush","weeping bottlebrush","weeping bottlebrush","weeping bottlebrush",20,2500,50,150,"Yes","No","Yes","No","No","Tree","No","No",3,"25-40","1-3",25,"Yes","No","Yes","No","Yes","No","Yes","No","Yes","No","Yes","No","Yes","No","Yes","No","Yes","No","Yes","No","Yes","No","Yes","No","Yes","No","Yes","No","Yes","No","Callistemon viminalis is good for bee forage.",null,null,null,null,null,null,"Yes","Yes","No","No","No","No","No","No","Yes","No","Yes","No","Yes","No","Yes","Yes","No","Yes",null,null,null,null,null,null,null,null,null,null,"10-20",null,"10-20",null,"10-20","10-20",null,null,null,null,null,null,null,null,null,null,null,null,"feet",null,"feet",null,"feet","feet"]
["Callitris columellaris",{"$error":"#N/A"},"Yes","No","No",{"$f":"IF($I$4=TRUE,INDEX($BZ$29:$DC1632,MATCH($A115,$AZ$29:$AZ$1000,0),MATCH($AC$2,$BZ$18:$DC$18,0)),\"Yes\")","v":"Yes"},"Yes","Yes","Yes","Yes","Yes","Yes","Yes","Yes",{"$error":"#N/A"},{"$error":"#N/A"},"Yes","Yes","Yes","Yes",{"$error":"#N/A"},{"$error":"#N/A"},{"$error":"#N/A"},{"$error":"#N/A"},null,null,null,null,null,null,null,null,null,null,null,null,null,null,null,null,null,null,null,null,null,null,null,null,null,null,null,"Callitris columellaris","white cypress-pine","white cypress-pine","white cypress-pine","white cypress-pine","white cypress-pine","white cypress-pine","white cypress-pine","white cypress-pine","white cypress-pine",20,1000,25,75,"Yes","No","Yes","Yes","No","Tree","No","No",4,"40+","1-3",50,"Yes","No","Yes","No","Yes","No","Yes","No","Yes","No","Yes","No","No","No","No","No","No","No","No","No","No","No","No","No","No","No","No","No","No","No",null,null,null,null,null,null,null,"Yes","No","No","No","No","No","No","No","Yes","No","No","No","No","No","No","Yes","No","Yes",null,null,null,null,null,null,null,null,null,null,"8-20",null,"8-20",null,"8-20","8-20",null,null,null,null,null,null,null,null,null,null,null,null,"feet",null,"feet",null,"feet","feet"]
["Calophyllum inophyllum",{"$error":"#N/A"},"Yes","No","No",{"$f":"IF($I$4=TRUE,INDEX($BZ$29:$DC1633,MATCH($A116,$AZ$29:$AZ$1000,0),MATCH($AC$2,$BZ$18:$DC$18,0)),\"Yes\")","v":"Yes"},"Yes","Yes","Yes","Yes","Yes","Yes","Yes","Yes",{"$error":"#N/A"},{"$error":"#N/A"},"Yes","Yes","Yes","Yes",{"$error":"#N/A"},{"$error":"#N/A"},{"$error":"#N/A"},{"$error":"#N/A"},null,null,null,null,null,null,null,null,null,null,null,null,null,null,null,null,null,null,null,null,null,null,null,null,null,null,null,"Calophyllum inophyllum","kamani, Alexandrian laurel","daok, raghisch, Alexandrian laurel","fetau, Alexandrian laurel","btaches, Alexandrian laurel","isou, hetau, Alexandrian laurel","ituu, Alexandrian laurel","rakich, weengu, Alexandrian laurel","biyuch, fotoi, Alexandrian laurel","lueg, jiro, Alexandrian laurel",0,1000,25,200,"Yes","Yes","Yes","Yes","Yes","Tree","No","Yes",6,"40+","1-3",40,"Yes","No","Yes","No","Yes","No","Yes","No","Yes","No","Yes","No","Yes","Yes","Yes","Yes","Yes","Yes","Yes","Yes","Yes","Yes","Yes","Yes","Yes","Yes","Yes","Yes","Yes","Yes",null,"Other suitable species exist in micronesia",null,null,null,null,null,"Yes","Yes","No","No","No","No","No","No","Yes","No","Yes","No","Yes","No","Yes","Yes","No","Yes",null,null,null,null,null,null,null,null,null,null,"10-20",null,"10-20",null,"10-20","10-20",null,null,null,null,null,null,null,null,null,null,null,null,"feet",null,"feet",null,"feet","feet"]
["Calophyllum inophyllum var. wakamatsui",{"$error":"#N/A"},"Yes","No","No",{"$f":"IF($I$4=TRUE,INDEX($BZ$29:$DC1634,MATCH($A117,$AZ$29:$AZ$1000,0),MATCH($AC$2,$BZ$18:$DC$18,0)),\"Yes\")","v":"Yes"},"Yes","Yes","Yes","Yes","Yes","Yes","Yes","Yes",{"$error":"#N/A"},{"$error":"#N/A"},"Yes","Yes","Yes","Yes",{"$error":"#N/A"},{"$error":"#N/A"},{"$error":"#N/A"},{"$error":"#N/A"},null,null,null,null,null,null,null,null,null,null,null,null,null,null,null,null,null,null,null,null,null,null,null,null,null,null,null,"Calophyllum inophyllum var. wakamatsui","btachesked, esemolech","btachesked, esemolech","btachesked, esemolech","chesemolech","btachesked, esemolech","btachesked, esemolech","btachesked, esemolech","btachesked, esemolech","btachesked, esemolech",0,1700,70,150,"Yes","No","Yes","Yes","Yes","Tree","No","Yes","n/a","40+","1-3",40,"No","No","No","No","No","No","No","No","No","No","No","No","No","No","No","No","No","No","No","No","No","No","No","No","No","No","Yes","Yes","No","No","Synonym = Calophyllum pelewense.",null,null,null,null,null,null,"Yes","Yes","No","No","No","No","No","No","Yes","No","Yes","No","Yes","No","Yes","Yes","No","Yes",null,null,null,null,null,null,null,null,null,null,"10-20",null,"10-20",null,"10-20","10-20",null,null,null,null,null,null,null,null,null,null,null,null,"feet",null,"feet",null,"feet","feet"]
["Calophyllum neo-ebudicum",{"$error":"#N/A"},"Yes","No","No",{"$f":"IF($I$4=TRUE,INDEX($BZ$29:$DC1635,MATCH($A118,$AZ$29:$AZ$1000,0),MATCH($AC$2,$BZ$18:$DC$18,0)),\"Yes\")","v":"Yes"},"Yes","Yes","Yes","Yes","Yes","Yes","Yes","Yes",{"$error":"#N/A"},{"$error":"#N/A"},"Yes","Yes","Yes","Yes",{"$error":"#N/A"},{"$error":"#N/A"},{"$error":"#N/A"},{"$error":"#N/A"},null,null,null,null,null,null,null,null,null,null,null,null,null,null,null,null,null,null,null,null,null,null,null,null,null,null,null,"Calophyllum neo-ebudicum","tamanu","tamanu","tamanu","tamanu","tamanu","tamanu","tamanu","tamanu","tamanu",20,2100,80,200,"Yes","No","Yes","No","No","Tree","No","Yes","n/a","40+","1-3",40,"No","No","No","No","No","No","No","No","No","No","No","No","Yes","Yes","No","No","No","No","No","No","No","No","No","No","No","No","No","No","No","No",null,null,null,null,null,null,null,"Yes","Yes","No","No","No","No","No","No","Yes","No","Yes","No","Yes","No","Yes","Yes","No","Yes",null,null,null,null,null,null,null,null,null,null,"10-20",null,"10-20",null,"10-20","10-20",null,null,null,null,null,null,null,null,null,null,null,null,"feet",null,"feet",null,"feet","feet"]
["Campnosperma brevipetiolata",{"$error":"#N/A"},"Yes","No","No",{"$f":"IF($I$4=TRUE,INDEX($BZ$29:$DC1636,MATCH($A119,$AZ$29:$AZ$1000,0),MATCH($AC$2,$BZ$18:$DC$18,0)),\"Yes\")","v":"Yes"},"Yes","Yes","Yes","Yes","Yes","Yes","Yes","Yes",{"$error":"#N/A"},{"$error":"#N/A"},"Yes","Yes","Yes","Yes",{"$error":"#N/A"},{"$error":"#N/A"},{"$error":"#N/A"},{"$error":"#N/A"},null,null,null,null,null,null,null,null,null,null,null,null,null,null,null,null,null,null,null,null,null,null,null,null,null,null,null,"Campnosperma brevipetiolata","Campnosperma brevipetiolata","Campnosperma brevipetiolata","Campnosperma brevipetiolata","kelelacharm","dohng, doling","elahk","Campnosperma brevipetiolata","ramliuw","Campnosperma brevipetiolata",0,2400,70,200,"Yes","Yes","Yes","No","Yes","Tree","No","Yes","n/a","40+","3+",50,"No","No","No","No","No","No","No","No","No","No","No","No","No","No","No","No","No","No","Yes","Yes","Yes","Yes","No","No","Yes","Yes","Yes","Yes","No","No",null,null,null,null,null,null,null,"Yes","No","No","No","No","No","No","No","Yes","No","Yes","No","Yes","No","Yes","Yes","No","No",null,null,null,null,null,null,null,null,null,null,"10-40",null,"10-40",null,"10-40","10-40"]
["Cananga odorata",{"$error":"#N/A"},"Yes","No","No",{"$f":"IF($I$4=TRUE,INDEX($BZ$29:$DC1637,MATCH($A120,$AZ$29:$AZ$1000,0),MATCH($AC$2,$BZ$18:$DC$18,0)),\"Yes\")","v":"Yes"},"Yes","Yes","Yes","Yes","Yes","Yes","Yes","Yes",{"$error":"#N/A"},{"$error":"#N/A"},"Yes","Yes","Yes","Yes",{"$error":"#N/A"},{"$error":"#N/A"},{"$error":"#N/A"},{"$error":"#N/A"},null,null,null,null,null,null,null,null,null,null,null,null,null,null,null,null,null,null,null,null,null,null,null,null,null,null,null,"Cananga odorata","ylang ylang, lanalana","alangilang, ylang ylang","mosooi, ylang ylang","chirang, irang, ylang ylang","pur n wai, seiren wai, ylang ylang","seirenwai, ylang ylang","pwalang, ylang ylang","ylang ylang","ilanilan, ylang ylang",20,2500,30,240,"Yes","Yes","No","No","No","Tree","No","No",3,"40+","3+",45,"Yes","No","Yes","No","Yes","No","Yes","No","Yes","No","Yes","No","Yes","No","Yes","No","Yes","No","Yes","No","Yes","No","Yes","No","Yes","No","Yes","No","Yes","No",null,null,null,null,null,null,null,"Yes","Yes","No","No","No","No","No","No","Yes","No","Yes","No","Yes","No","Yes","Yes","No","No",null,null,null,null,null,null,null,null,null,null,"8-20",null,"8-20",null,"8-20","8-20",null,null,null,null,null,null,null,null,null,null,null,null,"feet",null,"feet",null,"feet","feet"]
["Canarium vitiense",{"$error":"#N/A"},"Yes","No","No",{"$f":"IF($I$4=TRUE,INDEX($BZ$29:$DC1638,MATCH($A121,$AZ$29:$AZ$1000,0),MATCH($AC$2,$BZ$18:$DC$18,0)),\"Yes\")","v":"Yes"},"Yes","Yes","Yes","Yes","Yes","Yes","Yes","Yes",{"$error":"#N/A"},{"$error":"#N/A"},"Yes","Yes","Yes","Yes",{"$error":"#N/A"},{"$error":"#N/A"},{"$error":"#N/A"},{"$error":"#N/A"},null,null,null,null,null,null,null,null,null,null,null,null,null,null,null,null,null,null,null,null,null,null,null,null,null,null,null,"Canarium vitiense","maali","maali","maali","maali","maali","maali","maali","maali","maali",20,3000,80,240,"Yes","Yes","No","No","No","Tree","No","Yes","n/a","40+","1-3",35,"No","No","No","No","No","No","No","No","No","No","No","No","Yes","Yes","No","No","No","No","No","No","No","No","No","No","No","No","No","No","No","No",null,null,null,null,null,null,null,"Yes","No","No","No","No","No","No","No","Yes","No","Yes","No","Yes","No","Yes","Yes","No","No",null,null,null,null,null,null,null,null,null,null,"10-20",null,"10-20",null,"10-20","10-20",null,null,null,null,null,null,null,null,null,null,null,null,"feet",null,"feet",null,"feet","feet"]
["Canavalia cathartica",{"$error":"#N/A"},"Yes","No","No",{"$f":"IF($I$4=TRUE,INDEX($BZ$29:$DC1639,MATCH($A122,$AZ$29:$AZ$1000,0),MATCH($AC$2,$BZ$18:$DC$18,0)),\"Yes\")","v":"Yes"},"Yes","Yes","Yes","Yes","Yes","Yes","Yes","Yes",{"$error":"#N/A"},{"$error":"#N/A"},"Yes","Yes","Yes","Yes",{"$error":"#N/A"},{"$error":"#N/A"},{"$error":"#N/A"},{"$error":"#N/A"},null,null,null,null,null,null,null,null,null,null,null,null,null,null,null,null,null,null,null,null,null,null,null,null,null,null,null,"Canavalia cathartica","mauna loa","mauna loa","mauna loa","mauna loa","mauna loa","mauna loa","wenuka, cheechon, anikat, mauna loa","walmog, mauna loa","marlap",0,1150,20,120,"Yes","No","Yes","Yes","No","Vine-herb","Yes","Yes","n/a","1-25","3+",0,"Yes","No","Yes","No","Yes","No","Yes","No","Yes","No","Yes","No","Yes","Yes","Yes","Yes","Yes","Yes","Yes","No","Yes","Yes","Yes","No","Yes","Yes","Yes","Yes","Yes","No",null,null,null,null,null,null,null,"Yes","No","Yes","No","Yes","No","No","No","No","No","No","No","No","Yes","No","No","No","No",null,null,null,null,null,null,null,null,null,null,"",null,"",null,"","",null,null,null,null,null,null,null,null,null,null,null,null,"",null,"",null,"",""]
["Canavalia galeata",{"$error":"#N/A"},"Yes","No","No",{"$f":"IF($I$4=TRUE,INDEX($BZ$29:$DC1640,MATCH($A123,$AZ$29:$AZ$1000,0),MATCH($AC$2,$BZ$18:$DC$18,0)),\"Yes\")","v":"Yes"},"Yes","Yes","Yes","Yes","Yes","Yes","Yes","Yes",{"$error":"#N/A"},{"$error":"#N/A"},"Yes","Yes","Yes","Yes",{"$error":"#N/A"},{"$error":"#N/A"},{"$error":"#N/A"},{"$error":"#N/A"},null,null,null,null,null,null,null,null,null,null,null,null,null,null,null,null,null,null,null,null,null,null,null,null,null,null,null,"Canavalia galeata","awikiwiki - 1","awikiwiki - 1","awikiwiki - 1","awikiwiki - 1","awikiwiki - 1","awikiwiki - 1","awikiwiki - 1","awikiwiki - 1","awikiwiki - 1",600,2600,50,120,"Yes","No","Yes","No","No","Vine-herb","Yes","Yes","n/a","1-25","3+",0,"Yes","No","Yes","No","Yes","No","Yes","No","Yes","Yes","Yes","Yes","No","No","No","No","No","No","No","No","No","No","No","No","No","No","No","No","No","No",null,null,null,null,null,null,null,"Yes","No","Yes","No","Yes","No","No","No","No","No","No","No","No","Yes","No","No","No","No",null,null,null,null,null,null,null,null,null,null,"",null,"",null,"","",null,null,null,null,null,null,null,null,null,null,null,null,"",null,"",null,"",""]
["Canavalia hawaiiensis",{"$error":"#N/A"},"Yes","No","No",{"$f":"IF($I$4=TRUE,INDEX($BZ$29:$DC1641,MATCH($A124,$AZ$29:$AZ$1000,0),MATCH($AC$2,$BZ$18:$DC$18,0)),\"Yes\")","v":"Yes"},"Yes","Yes","Yes","Yes","Yes","Yes","Yes","Yes",{"$error":"#N/A"},{"$error":"#N/A"},"Yes","Yes","Yes","Yes",{"$error":"#N/A"},{"$error":"#N/A"},{"$error":"#N/A"},{"$error":"#N/A"},null,null,null,null,null,null,null,null,null,null,null,null,null,null,null,null,null,null,null,null,null,null,null,null,null,null,null,"Canavalia hawaiiensis","awikiwiki - 2","awikiwiki - 2","awikiwiki - 2","awikiwiki - 2","awikiwiki - 2","awikiwiki - 2","awikiwiki - 2","awikiwiki - 2","awikiwiki - 2",400,4000,20,120,"Yes","No","Yes","No","No","Vine-herb","Yes","Yes","n/a","1-25","3+",0,"Yes","Yes","Yes","No","Yes","Yes","Yes","Yes","Yes","No","Yes","No","No","No","No","No","No","No","No","No","No","No","No","No","No","No","No","No","No","No","Dry to mesic forest.",null,null,null,null,null,null,"Yes","No","Yes","No","Yes","No","No","No","No","No","No","No","No","Yes","No","No","No","No",null,null,null,null,null,null,null,null,null,null,"",null,"",null,"","",null,null,null,null,null,null,null,null,null,null,null,null,"",null,"",null,"",""]
["Canavalia rosea",{"$error":"#N/A"},"Yes","No","No",{"$f":"IF($I$4=TRUE,INDEX($BZ$29:$DC1642,MATCH($A125,$AZ$29:$AZ$1000,0),MATCH($AC$2,$BZ$18:$DC$18,0)),\"Yes\")","v":"Yes"},"Yes","Yes","Yes","Yes","Yes","Yes","Yes","Yes",{"$error":"#N/A"},{"$error":"#N/A"},"Yes","Yes","Yes","Yes",{"$error":"#N/A"},{"$error":"#N/A"},{"$error":"#N/A"},{"$error":"#N/A"},null,null,null,null,null,null,null,null,null,null,null,null,null,null,null,null,null,null,null,null,null,null,null,null,null,null,null,"Canavalia rosea","bay bean","bay bean","fue fai va`a, bay bean","keldellel, bay bean","wahntal, bay bean","bay bean","wenuka, cheechon, bay bean","bay bean","marlap, bay bean",0,50,70,120,"Yes","No","Yes","Yes","No","Vine-herb","Yes","Yes","n/a","1-25","3+",0,"No","No","No","No","No","No","No","No","No","No","No","No","Yes","Yes","Yes","Yes","No","No","Yes","Yes","No","No","Yes","Yes","Yes","Yes","Yes","Yes","Yes","Yes",null,null,null,null,null,null,null,"Yes","No","Yes","No","Yes","No","No","No","No","No","No","No","No","Yes","No","No","No","No",null,null,null,null,null,null,null,null,null,null,"",null,"",null,"","",null,null,null,null,null,null,null,null,null,null,null,null,"",null,"",null,"",""]
["Canavalia sericea",{"$error":"#N/A"},"Yes","No","No",{"$f":"IF($I$4=TRUE,INDEX($BZ$29:$DC1643,MATCH($A126,$AZ$29:$AZ$1000,0),MATCH($AC$2,$BZ$18:$DC$18,0)),\"Yes\")","v":"Yes"},"Yes","Yes","Yes","Yes","Yes","Yes","Yes","Yes",{"$error":"#N/A"},{"$error":"#N/A"},"Yes","Yes","Yes","Yes",{"$error":"#N/A"},{"$error":"#N/A"},{"$error":"#N/A"},{"$error":"#N/A"},null,null,null,null,null,null,null,null,null,null,null,null,null,null,null,null,null,null,null,null,null,null,null,null,null,null,null,"Canavalia sericea","silky jackbean","silky jackbean","fue fai va`a, silky jackbean","silky jackbean","silky jackbean","silky jackbean","silky jackbean","silky jackbean","marlap, silky jackbean",0,50,70,200,"Yes","No","Yes","Yes","No","Vine-herb","Yes","Yes",2,"1-25","3+",0,"Yes","No","Yes","No","Yes","No","Yes","No","Yes","No","Yes","No","Yes","Yes","No","No","No","No","No","No","No","No","No","No","No","No","No","No","Yes","No",null,null,null,null,null,null,null,"Yes","No","Yes","No","Yes","No","No","No","No","No","No","No","No","Yes","No","No","No","No",null,null,null,null,null,null,null,null,null,null,"",null,"",null,"","",null,null,null,null,null,null,null,null,null,null,null,null,"",null,"",null,"",""]
["Capparis cordifolia",{"$error":"#N/A"},"Yes","No",{"$f":"IF(A$2=\"Cover Crop (340)\",\"Yes\",IF(ISBLANK($C$7),\"No\",IF(AND($C$7>=BJ127,$C$7<=BK127),\"Yes\",\"No\")))","v":"No"},{"$f":"IF($I$4=TRUE,INDEX($BZ$29:$DC1644,MATCH($A127,$AZ$29:$AZ$1000,0),MATCH($AC$2,$BZ$18:$DC$18,0)),\"Yes\")","v":"Yes"},"Yes","Yes","Yes","Yes","Yes","Yes","Yes","Yes",{"$error":"#N/A"},{"$error":"#N/A"},"Yes","Yes","Yes","Yes",{"$error":"#N/A"},{"$error":"#N/A"},{"$error":"#N/A"},{"$error":"#N/A"},null,null,null,null,null,null,null,null,null,null,null,null,null,null,null,null,null,null,null,null,null,null,null,null,null,null,null,"Capparis cordifolia","caper","atkaparas, alcaparro","pulu","caper","caper","caper","caper","caper","caper",0,75,50,200,"Yes","No","Yes","Yes","No","Shrub","No","Yes","n/a","1-25","0-1",3,"No","No","No","No","No","No","No","No","No","No","No","No","Yes","Yes","Yes","Yes","No","No","Yes","Yes","Yes","Yes","No","No","No","No","Yes","Yes","No","No",null,null,null,null,null,null,null,"Yes","Yes","No","No","No","No","No","No","Yes","No","Yes","No","Yes","No","No","Yes","No","No",null,null,null,null,null,null,null,null,null,null,"",null,"",null,"","",null,null,null,null,null,null,null,null,null,null,null,null,"",null,"",null,"",""]
["Capparis sandwichiana",{"$error":"#N/A"},"Yes","No","No",{"$f":"IF($I$4=TRUE,INDEX($BZ$29:$DC1645,MATCH($A128,$AZ$29:$AZ$1000,0),MATCH($AC$2,$BZ$18:$DC$18,0)),\"Yes\")","v":"Yes"},"Yes","Yes","Yes","Yes","Yes","Yes","Yes","Yes",{"$error":"#N/A"},{"$error":"#N/A"},"Yes","Yes","Yes","Yes",{"$error":"#N/A"},{"$error":"#N/A"},{"$error":"#N/A"},{"$error":"#N/A"},null,null,null,null,null,null,null,null,null,null,null,null,null,null,null,null,null,null,null,null,null,null,null,null,null,null,null,"Capparis sandwichiana","maiapilo, pua pilo","maiapilo, pua pilo","maiapilo, pua pilo","maiapilo, pua pilo","maiapilo, pua pilo","maiapilo, pua pilo","maiapilo, pua pilo","maiapilo, pua pilo","maiapilo, pua pilo",0,1900,15,75,"Yes","No","Yes","Yes","No","Shrub","No","Yes","n/a","1-25","0-1",6,"Yes","Yes","Yes","Yes","Yes","Yes","Yes","Yes","Yes","Yes","Yes","Yes","No","No","No","No","No","No","No","No","No","No","No","No","No","No","No","No","No","No",null,null,null,null,null,null,null,"Yes","Yes","No","No","No","No","No","No","Yes","No","Yes","No","Yes","No","No","Yes","No","No",null,null,null,null,null,null,null,null,null,null,"",null,"",null,"","",null,null,null,null,null,null,null,null,null,null,null,null,"",null,"",null,"",""]
["Carex macloviana subsp. subfusca",{"$error":"#N/A"},"Yes","No","No",{"$f":"IF($I$4=TRUE,INDEX($BZ$29:$DC1646,MATCH($A129,$AZ$29:$AZ$1000,0),MATCH($AC$2,$BZ$18:$DC$18,0)),\"Yes\")","v":"Yes"},"Yes","Yes","Yes","Yes","Yes","Yes","Yes","Yes",{"$error":"#N/A"},{"$error":"#N/A"},"Yes","Yes","Yes","Yes",{"$error":"#N/A"},{"$error":"#N/A"},{"$error":"#N/A"},{"$error":"#N/A"},null,null,null,null,null,null,null,null,null,null,null,null,null,null,null,null,null,null,null,null,null,null,null,null,null,null,null,"Carex macloviana subsp. subfusca","carex - 1","carex - 1","carex - 1","carex - 1","carex - 1","carex - 1","carex - 1","carex - 1","carex - 1",3900,9000,15,75,"Yes","No","Yes","No","Yes","Herb","No","Yes","n/a","0-1","1-3",0,"Yes","Yes","Yes","No","Yes","No","Yes","Yes","Yes","No","Yes","No","No","No","No","No","No","No","No","No","No","No","No","No","No","No","No","No","No","No",null,null,null,null,null,null,null,"Yes","No","No","No","No","No","No","No","No","No","No","No","No","No","No","No","No","No",null,null,null,null,null,null,null,null,null,null,"",null,"",null,"","",null,null,null,null,null,null,null,null,null,null,null,null,"",null,"",null,"",""]
["Carex wahuensis subsp. rubiginosa",{"$error":"#N/A"},"Yes","No","No",{"$f":"IF($I$4=TRUE,INDEX($BZ$29:$DC1647,MATCH($A130,$AZ$29:$AZ$1000,0),MATCH($AC$2,$BZ$18:$DC$18,0)),\"Yes\")","v":"Yes"},"Yes","Yes","Yes","Yes","Yes","Yes","Yes","Yes",{"$error":"#N/A"},{"$error":"#N/A"},"Yes","Yes","Yes","Yes",{"$error":"#N/A"},{"$error":"#N/A"},{"$error":"#N/A"},{"$error":"#N/A"},null,null,null,null,null,null,null,null,null,null,null,null,null,null,null,null,null,null,null,null,null,null,null,null,null,null,null,"Carex wahuensis subsp. rubiginosa","carex - 2","carex - 2","carex - 2","carex - 2","carex - 2","carex - 2","carex - 2","carex - 2","carex - 2",800,8200,15,120,"Yes","Yes","Yes","No","No","Herb","No","Yes","n/a","0-1","1-3",0,"Yes","Yes","Yes","Yes","Yes","Yes","Yes","Yes","Yes","Yes","Yes","Yes","No","No","No","No","No","No","No","No","No","No","No","No","No","No","No","No","No","No",null,null,null,null,null,null,null,"Yes","No","No","No","No","No","No","No","No","No","No","No","No","No","No","No","No","No",null,null,null,null,null,null,null,null,null,null,"",null,"",null,"","",null,null,null,null,null,null,null,null,null,null,null,null,"",null,"",null,"",""]
["Carex wahuensis subsp. wahuensis",{"$error":"#N/A"},"Yes","No","No",{"$f":"IF($I$4=TRUE,INDEX($BZ$29:$DC1648,MATCH($A131,$AZ$29:$AZ$1000,0),MATCH($AC$2,$BZ$18:$DC$18,0)),\"Yes\")","v":"Yes"},"Yes","Yes","Yes","Yes","Yes","Yes","Yes","Yes",{"$error":"#N/A"},{"$error":"#N/A"},"Yes","Yes","Yes","Yes",{"$error":"#N/A"},{"$error":"#N/A"},{"$error":"#N/A"},{"$error":"#N/A"},null,null,null,null,null,null,null,null,null,null,null,null,null,null,null,null,null,null,null,null,null,null,null,null,null,null,null,"Carex wahuensis subsp. wahuensis","carex - 3","carex - 3","carex - 3","carex - 3","carex - 3","carex - 3","carex - 3","carex - 3","carex - 3",20,3300,15,120,"Yes","Yes","Yes","No","No","Herb","No","Yes","n/a","0-1","1-3",0,"Yes","Yes","Yes","Yes","Yes","Yes","Yes","Yes","Yes","Yes","Yes","Yes","No","No","No","No","No","No","No","No","No","No","No","No","No","No","No","No","No","No",null,null,null,null,null,null,null,"Yes","No","No","No","No","No","No","No","No","No","No","No","No","No","No","No","No","No",null,null,null,null,null,null,null,null,null,null,"",null,"",null,"","",null,null,null,null,null,null,null,null,null,null,null,null,"",null,"",null,"",""]
["Caryota mitis",{"$error":"#N/A"},"Yes","No","No",{"$f":"IF($I$4=TRUE,INDEX($BZ$29:$DC1649,MATCH($A132,$AZ$29:$AZ$1000,0),MATCH($AC$2,$BZ$18:$DC$18,0)),\"Yes\")","v":"Yes"},"Yes","Yes","Yes","Yes","Yes","Yes","Yes","Yes",{"$error":"#N/A"},{"$error":"#N/A"},"Yes","Yes","Yes","Yes",{"$error":"#N/A"},{"$error":"#N/A"},{"$error":"#N/A"},{"$error":"#N/A"},null,null,null,null,null,null,null,null,null,null,null,null,null,null,null,null,null,null,null,null,null,null,null,null,null,null,null,"Caryota mitis","fishtail palm","fishtail palm","fishtail palm","fishtail palm","fishtail palm","fishtail palm","fishtail palm","fishtail palm","fishtail palm",20,1000,60,200,"Yes","No","Yes","No","Yes","Tree","No","No",1,"25-40","1-3",20,"Yes","No","Yes","No","Yes","No","Yes","No","Yes","No","Yes","No","Yes","No","Yes","No","Yes","No","Yes","No","Yes","No","Yes","No","Yes","No","Yes","No","Yes","No",null,"Naturalized in Guam, CNMI and Palau, cultivated in Pohnpei",null,null,null,null,null,"Yes","No","No","No","No","No","No","No","Yes","No","No","No","No","No","No","Yes","No","Yes",null,null,null,null,null,null,null,null,null,null,"8-15",null,"8-15",null,"8-15","8-15",null,null,null,null,null,null,null,null,null,null,null,null,"feet",null,"feet",null,"feet","feet"]
["Casuarina cunninghamiana",{"$error":"#N/A"},"Yes","No","No",{"$f":"IF($I$4=TRUE,INDEX($BZ$29:$DC1650,MATCH($A133,$AZ$29:$AZ$1000,0),MATCH($AC$2,$BZ$18:$DC$18,0)),\"Yes\")","v":"Yes"},"Yes","Yes","Yes","Yes","Yes","Yes","Yes","Yes",{"$error":"#N/A"},{"$error":"#N/A"},"Yes","Yes","Yes","Yes",{"$error":"#N/A"},{"$error":"#N/A"},{"$error":"#N/A"},{"$error":"#N/A"},null,null,null,null,null,null,null,null,null,null,null,null,null,null,null,null,null,null,null,null,null,null,null,null,null,null,null,"Casuarina cunninghamiana","small cone ironwood","small cone ironwood","small cone ironwood","small cone ironwood","small cone ironwood","small cone ironwood","small cone ironwood","small cone ironwood","small cone ironwood",20,3000,25,120,"Yes","No","Yes","No","No","Tree","Yes","No",12,"40+","3+",70,"Yes","No","Yes","No","Yes","No","Yes","No","Yes","No","Yes","No","No","No","No","No","No","No","No","No","No","No","No","No","No","No","No","No","No","No","Dought tolerant.","Naturlized on Kauai and Maui",null,null,null,null,null,"Yes","Yes","No","No","No","No","No","No","Yes","No","Yes","No","Yes","No","Yes","Yes","No","Yes",null,null,null,null,null,null,null,null,null,null,"8-15",null,"8-15",null,"8-15","8-15",null,null,null,null,null,null,null,null,null,null,null,null,"feet",null,"feet",null,"feet","feet"]
["Casuarina equisetifolia",{"$error":"#N/A"},"Yes","No","No",{"$f":"IF($I$4=TRUE,INDEX($BZ$29:$DC1651,MATCH($A134,$AZ$29:$AZ$1000,0),MATCH($AC$2,$BZ$18:$DC$18,0)),\"Yes\")","v":"Yes"},"Yes","Yes","Yes","Yes","Yes","Yes","Yes","Yes",{"$error":"#N/A"},{"$error":"#N/A"},"Yes","Yes","Yes","Yes",{"$error":"#N/A"},{"$error":"#N/A"},{"$error":"#N/A"},{"$error":"#N/A"},null,null,null,null,null,null,null,null,null,null,null,null,null,null,null,null,null,null,null,null,null,null,null,null,null,null,null,"Casuarina equisetifolia","ironwood, paina","gago, ironwood","toa, ironwood","ngas, ironwood","wehku, ironwood","ironwood","weeku, neokuk, ironwood","laash, nach, ironwood","mejinoki, bulukam, pine tree",0,2500,15,200,"Yes","No","Yes","Yes","No","Tree","Yes","No",21,"40+","3+",70,"No","No","No","No","No","No","No","No","No","No","No","No","Yes","No","Yes","Yes","Yes","Yes","Yes","Yes","Yes","Yes","Yes","Yes","Yes","Yes","Yes","Yes","Yes","Yes","Drought tolerant.","Potentially invasive on Tau and Aunuu per Orlo Steele, Hawaii Community College",null,null,null,null,null,"Yes","Yes","No","No","No","No","No","No","Yes","No","Yes","No","Yes","No","Yes","Yes","No","Yes",null,null,null,null,null,null,null,null,null,null,"8-15",null,"8-15",null,"8-15","8-15",null,null,null,null,null,null,null,null,null,null,null,null,"feet",null,"feet",null,"feet","feet"]
["Ceiba pentandra",{"$error":"#N/A"},"Yes","No","No",{"$f":"IF($I$4=TRUE,INDEX($BZ$29:$DC1652,MATCH($A135,$AZ$29:$AZ$1000,0),MATCH($AC$2,$BZ$18:$DC$18,0)),\"Yes\")","v":"Yes"},"Yes","Yes","Yes","Yes","Yes","Yes","Yes","Yes",{"$error":"#N/A"},{"$error":"#N/A"},"Yes","Yes","Yes","Yes",{"$error":"#N/A"},{"$error":"#N/A"},{"$error":"#N/A"},{"$error":"#N/A"},null,null,null,null,null,null,null,null,null,null,null,null,null,null,null,null,null,null,null,null,null,null,null,null,null,null,null,"Ceiba pentandra","kapok","algodon de Manila, kapok","vavae, kapok","kalngebard, kapok","koatun, cottin, kapok","cutin, arughuschel, kapok","arughuschel, kkoton, kapok","batte ni gaken, arughuschel, kapok","bulik, kotin, kapok",20,4500,30,200,"Yes","No","Yes","No","No","Tree","No","No",2,"40+","1-3",50,"Yes","No","Yes","No","Yes","No","Yes","No","Yes","No","Yes","No","Yes","No","Yes","No","Yes","No","Yes","No","Yes","No","Yes","No","Yes","No","Yes","No","Yes","No","Has potential for use as live fence posts - grows from cuttings.",null,null,null,null,null,null,"Yes","Yes","No","No","No","No","No","No","Yes","No","Yes","No","Yes","No","Yes","Yes","No","No",null,null,null,null,null,null,null,null,null,null,"10-20",null,"10-20",null,"10-20","10-20",null,null,null,null,null,null,null,null,null,null,null,null,"feet",null,"feet",null,"feet","feet"]
["Cenchrus ciliaris",{"$error":"#N/A"},"Yes","No","No",{"$f":"IF($I$4=TRUE,INDEX($BZ$29:$DC1653,MATCH($A136,$AZ$29:$AZ$1000,0),MATCH($AC$2,$BZ$18:$DC$18,0)),\"Yes\")","v":"Yes"},"Yes","Yes","Yes","Yes","Yes","Yes","Yes","Yes",{"$error":"#N/A"},{"$error":"#N/A"},"Yes","Yes","Yes","Yes",{"$error":"#N/A"},{"$error":"#N/A"},{"$error":"#N/A"},{"$error":"#N/A"},null,null,null,null,null,null,null,null,null,null,null,null,null,null,null,null,null,null,null,null,null,null,null,null,null,null,null,"Cenchrus ciliaris","buffelgrass","buffelgrass","buffelgrass","buffelgrass","buffelgrass","buffelgrass","buffelgrass","buffelgrass","buffelgrass",0,3500,12,35,"Yes","No","Yes","No","No","Herb","No","No",19,"0-1","3+",0,"Yes","No","Yes","No","Yes","No","Yes","No","Yes","No","Yes","No","Yes","No","Yes","No","Yes","No","Yes","No","Yes","No","Yes","No","Yes","No","Yes","No","Yes","No","Significant differences in performance among varieties at different elevations.  Variety must be chosen carefully.",null,null,null,null,null,null,"Yes","No","No","No","No","No","No","Yes","No","No","No","Yes","No","No","No","No","No","No",null,null,null,null,null,null,null,5,null,null,"",2,"",null,"","",null,null,null,null,null,null,null,null,null,"lbs/ac",null,null,"","lbs/ac","",null,"",""]
["Cenchrus purpureus (hand planted)",{"$error":"#N/A"},"Yes","No","No",{"$f":"IF($I$4=TRUE,INDEX($BZ$29:$DC1654,MATCH($A137,$AZ$29:$AZ$1000,0),MATCH($AC$2,$BZ$18:$DC$18,0)),\"Yes\")","v":"Yes"},"Yes","Yes","Yes","Yes","Yes","Yes","Yes","Yes",{"$error":"#N/A"},{"$error":"#N/A"},"Yes","Yes","Yes","Yes",{"$error":"#N/A"},{"$error":"#N/A"},{"$error":"#N/A"},{"$error":"#N/A"},null,null,null,null,null,null,null,null,null,null,null,null,null,null,null,null,null,null,null,null,null,null,null,null,null,null,null,"Cenchrus purpureus (hand planted)","napier grass, elephant grass (hand planted)","napier grass, elephant grass (hand planted)","napier grass, elephant grass (hand planted)","napier grass, elephant grass (hand planted)","pukso, napier grass, elephant grass (hand planted)","napier grass, elephant grass (hand planted)","napier grass, elephant grass (hand planted)","napier grass, elephant grass (hand planted)","napier grass, elephant grass (hand planted)",0,3000,40,200,"Yes","No","Yes","No","Yes","Herb","No","No",16,"1-25","3+",12,"Yes","No","Yes","No","Yes","No","Yes","No","Yes","No","Yes","No","Yes","No","Yes","No","Yes","No","Yes","No","Yes","No","Yes","No","Yes","No","Yes","No","Yes","No","Synonym = Pennisetum purpureum",null,null,null,null,null,null,"Yes","No","No","No","Yes","No","No","No","Yes","Yes","No","No","No","Yes","No","No","Yes","No",null,null,null,null,1,null,null,1,null,1,"",1,"",null,"","",2,null,null,null,null,null,"3' x 3'",null,null,"6' x 6'",null,"per ft","","6' x 6'","",null,"","","per ft"]
["Cenchrus purpureus (seeded)",{"$error":"#N/A"},"Yes","No","No",{"$f":"IF($I$4=TRUE,INDEX($BZ$29:$DC1655,MATCH($A138,$AZ$29:$AZ$1000,0),MATCH($AC$2,$BZ$18:$DC$18,0)),\"Yes\")","v":"Yes"},"Yes","Yes","Yes","Yes","Yes","Yes","Yes","Yes",{"$error":"#N/A"},{"$error":"#N/A"},"Yes","Yes","Yes","Yes",{"$error":"#N/A"},{"$error":"#N/A"},{"$error":"#N/A"},{"$error":"#N/A"},null,null,null,null,null,null,null,null,null,null,null,null,null,null,null,null,null,null,null,null,null,null,null,null,null,null,null,"Cenchrus purpureus (seeded)","napier grass, elephant grass (seeded)","napier grass, elephant grass (seeded)","napier grass, elephant grass (seeded)","napier grass, elephant grass (seeded)","pukso, napier grass, elephant grass (seeded)","napier grass, elephant grass (seeded)","napier grass, elephant grass (seeded)","napier grass, elephant grass (seeded)","napier grass, elephant grass (seeded)",0,3000,40,200,"Yes","No","Yes","No","Yes","Herb","No","No",16,"1-25","3+",12,"Yes","No","Yes","No","Yes","No","Yes","No","Yes","No","Yes","No","Yes","No","Yes","No","Yes","No","Yes","No","Yes","No","Yes","No","Yes","No","Yes","No","Yes","No","Synonym = Pennisetum purpureum",null,null,null,null,null,null,"Yes","No","No","No","Yes","No","No","No","Yes","Yes","No","No","No","Yes","No","No","No","No",null,null,null,null,20,null,null,null,null,1,"",null,"",null,"","",2,null,null,null,null,null,"lbs/ac",null,null,null,null,"per ft","",null,"",null,"","","per ft"]
["Cenchrus purpureus (sprigged)",{"$error":"#N/A"},"Yes","No","No",{"$f":"IF($I$4=TRUE,INDEX($BZ$29:$DC1656,MATCH($A139,$AZ$29:$AZ$1000,0),MATCH($AC$2,$BZ$18:$DC$18,0)),\"Yes\")","v":"Yes"},"Yes","Yes","Yes","Yes","Yes","Yes","Yes","Yes",{"$error":"#N/A"},{"$error":"#N/A"},"Yes","Yes","Yes","Yes",{"$error":"#N/A"},{"$error":"#N/A"},{"$error":"#N/A"},{"$error":"#N/A"},null,null,null,null,null,null,null,null,null,null,null,null,null,null,null,null,null,null,null,null,null,null,null,null,null,null,null,"Cenchrus purpureus (sprigged)","napier grass, elephant grass (sprigged)","napier grass, elephant grass (sprigged)","napier grass, elephant grass (sprigged)","napier grass, elephant grass (sprigged)","pukso, napier grass, elephant grass (sprigged)","napier grass, elephant grass (sprigged)","napier grass, elephant grass (sprigged)","napier grass, elephant grass (sprigged)","napier grass, elephant grass (sprigged)",0,3000,40,200,"Yes","No","Yes","No","Yes","Herb","No","No",16,"1-25","3+",12,"Yes","No","Yes","No","Yes","No","Yes","No","Yes","No","Yes","No","Yes","No","Yes","No","Yes","No","Yes","No","Yes","No","Yes","No","Yes","No","Yes","No","Yes","No","Recommended spacing for planted stolons is 6' x 6', Synonym = Pennisetum purpureum",null,null,null,null,null,null,"Yes","No","No","No","Yes","No","No","Yes","Yes","Yes","No","Yes","No","Yes","No","No","No","No",null,null,null,null,80,null,null,40,null,1,"",40,"",null,"","",2,null,null,null,null,null,"bu/ac",null,null,"bu/ac",null,"per ft","","bu/ac","",null,"","","per ft"]
["Cenchrus purpureus x Pennisetum glaucum",{"$error":"#N/A"},"Yes","No","No",{"$f":"IF($I$4=TRUE,INDEX($BZ$29:$DC1657,MATCH($A140,$AZ$29:$AZ$1000,0),MATCH($AC$2,$BZ$18:$DC$18,0)),\"Yes\")","v":"Yes"},"Yes","Yes","Yes","Yes","Yes","Yes","Yes","Yes",{"$error":"#N/A"},{"$error":"#N/A"},"Yes","Yes","Yes","Yes",{"$error":"#N/A"},{"$error":"#N/A"},{"$error":"#N/A"},{"$error":"#N/A"},null,null,null,null,null,null,null,null,null,null,null,null,null,null,null,null,null,null,null,null,null,null,null,null,null,null,null,"Cenchrus purpureus x Pennisetum glaucum","napier x pearl millet hybrid","napier x pearl millet hybrid","napier x pearl millet hybrid","napier x pearl millet hybrid","napier x pearl millet hybrid","napier x pearl millet hybrid","napier x pearl millet hybrid","napier x pearl millet hybrid","napier x pearl millet hybrid",0,3000,40,200,"Yes","No","Yes","No","No","Herb","No","No","n/a","1-25","3+",12,"Yes","No","Yes","No","Yes","No","Yes","No","Yes","No","Yes","No","Yes","No","Yes","No","Yes","No","Yes","No","Yes","No","Yes","No","Yes","No","Yes","No","Yes","No",null,null,null,null,null,null,null,"Yes","No","No","No","No","No","No","No","Yes","Yes","No","No","No","No","No","No","Yes","No",null,null,null,null,null,null,null,null,null,1,"",null,"",null,"","",2,null,null,null,null,null,null,null,null,null,null,"per ft","",null,"",null,"","","per ft"]
["Cerbera dilatata ",{"$error":"#N/A"},"Yes","No","No",{"$f":"IF($I$4=TRUE,INDEX($BZ$29:$DC1658,MATCH($A141,$AZ$29:$AZ$1000,0),MATCH($AC$2,$BZ$18:$DC$18,0)),\"Yes\")","v":"Yes"},"Yes","Yes","Yes","Yes","Yes","Yes","Yes","Yes",{"$error":"#N/A"},{"$error":"#N/A"},"Yes","Yes","Yes","Yes",{"$error":"#N/A"},{"$error":"#N/A"},{"$error":"#N/A"},{"$error":"#N/A"},null,null,null,null,null,null,null,null,null,null,null,null,null,null,null,null,null,null,null,null,null,null,null,null,null,null,null,"Cerbera dilatata ","grey milkwood","chiute, chuti, grey milkwood","grey milkwood","apilas, grey milkwood","apilas, grey milkwood","apilas, grey milkwood","apilas, grey milkwood","apilas, grey milkwood","grey milkwood",0,1500,60,120,"Yes","No","Yes","No","No","Tree","No","No","n/a","1-25","1-3",20,"No","No","No","No","No","No","No","No","No","No","No","No","No","No","Yes","No","Yes","Yes","Yes","Yes","No","No","No","No","No","No","No","No","No","No","There are two other Cerbera species in Micronesia",null,null,null,null,null,null,"Yes","Yes","No","No","No","No","No","No","Yes","No","Yes","No","Yes","No","No","Yes","No","Yes",null,null,null,null,null,null,null,null,null,null,"8-15",null,"8-15",null,"8-15","8-15",null,null,null,null,null,null,null,null,null,null,null,null,"feet",null,"feet",null,"feet","feet"]
["Cerbera manghas",{"$error":"#N/A"},"Yes","No","No",{"$f":"IF($I$4=TRUE,INDEX($BZ$29:$DC1659,MATCH($A142,$AZ$29:$AZ$1000,0),MATCH($AC$2,$BZ$18:$DC$18,0)),\"Yes\")","v":"Yes"},"Yes","Yes","Yes","Yes","Yes","Yes","Yes","Yes",{"$error":"#N/A"},{"$error":"#N/A"},"Yes","Yes","Yes","Yes",{"$error":"#N/A"},{"$error":"#N/A"},{"$error":"#N/A"},{"$error":"#N/A"},null,null,null,null,null,null,null,null,null,null,null,null,null,null,null,null,null,null,null,null,null,null,null,null,null,null,null,"Cerbera manghas","pink-eyed cerbera","pink-eyed cerbera","leva, pink-eyed cerbera","chemeridech, pink-eyed cerbera","pink-eyed cerbera","sos, pink-eyed cerbera","seewuriinen, raatta, pink-eyed cerbera","pink-eyed cerbera","pink-eyed cerbera",0,2100,70,200,"Yes","No","Yes","Yes","No","Tree","No","Yes",1,"25-40","0-1",12,"No","No","No","No","No","No","No","No","No","No","No","No","Yes","Yes","No","No","No","No","Yes","Yes","Yes","Yes","Yes","Yes","Yes","Yes","Yes","Yes","No","No",null,null,null,null,null,null,null,"Yes","Yes","No","No","No","No","No","No","Yes","No","Yes","No","Yes","No","Yes","Yes","No","No",null,null,null,null,null,null,null,null,null,null,"8-20",null,"8-20",null,"8-20","8-20",null,null,null,null,null,null,null,null,null,null,null,null,"feet",null,"feet",null,"feet","feet"]
["Chamaecyparis lawsoniana",{"$error":"#N/A"},"Yes","No","No",{"$f":"IF($I$4=TRUE,INDEX($BZ$29:$DC1660,MATCH($A143,$AZ$29:$AZ$1000,0),MATCH($AC$2,$BZ$18:$DC$18,0)),\"Yes\")","v":"Yes"},"Yes","Yes","Yes","Yes","Yes","Yes","Yes","Yes",{"$error":"#N/A"},{"$error":"#N/A"},"Yes","Yes","Yes","Yes",{"$error":"#N/A"},{"$error":"#N/A"},{"$error":"#N/A"},{"$error":"#N/A"},null,null,null,null,null,null,null,null,null,null,null,null,null,null,null,null,null,null,null,null,null,null,null,null,null,null,null,"Chamaecyparis lawsoniana","Lawson’s cypress","Lawson’s cypress","Lawson’s cypress","Lawson’s cypress","Lawson’s cypress","Lawson’s cypress","Lawson’s cypress","Lawson’s cypress","Lawson’s cypress",2500,6000,40,120,"Yes","No","Yes","No","No","Tree","No","No","n/a","40+","1-3",50,"Yes","No","Yes","No","Yes","No","Yes","No","Yes","No","Yes","No","No","No","No","No","No","No","No","No","No","No","No","No","No","No","No","No","No","No",null,null,null,null,null,null,null,"Yes","Yes","No","No","No","No","No","No","Yes","No","Yes","No","Yes","No","Yes","Yes","No","Yes",null,null,null,null,null,null,null,null,null,null,"8-20",null,"8-20",null,"8-20","8-20",null,null,null,null,null,null,null,null,null,null,null,null,"feet",null,"feet",null,"feet","feet"]
["Charpentiera obovata",{"$error":"#N/A"},"Yes","No","No",{"$f":"IF($I$4=TRUE,INDEX($BZ$29:$DC1661,MATCH($A144,$AZ$29:$AZ$1000,0),MATCH($AC$2,$BZ$18:$DC$18,0)),\"Yes\")","v":"Yes"},"Yes","Yes","Yes","Yes","Yes","Yes","Yes","Yes",{"$error":"#N/A"},{"$error":"#N/A"},"Yes","Yes","Yes","Yes",{"$error":"#N/A"},{"$error":"#N/A"},{"$error":"#N/A"},{"$error":"#N/A"},null,null,null,null,null,null,null,null,null,null,null,null,null,null,null,null,null,null,null,null,null,null,null,null,null,null,null,"Charpentiera obovata","papala","papala","papala","papala","papala","papala","papala","papala","papala",600,5700,50,150,"Yes","Yes","No","No","No","Tree","No","Yes","n/a","1-25","1-3",15,"Yes","Yes","Yes","Yes","Yes","Yes","Yes","Yes","Yes","Yes","Yes","Yes","No","No","No","No","No","No","No","No","No","No","No","No","No","No","No","No","No","No","Mesic to sometimes wet forest.",null,null,null,null,null,null,"Yes","Yes","No","No","No","No","No","No","Yes","No","Yes","No","Yes","No","No","Yes","No","No",null,null,null,null,null,null,null,null,null,null,"8-15",null,"8-15",null,"8-15","8-15",null,null,null,null,null,null,null,null,null,null,null,null,"feet",null,"feet",null,"feet","feet"]
["Cheirodendron trigynum supsp. helleri",{"$error":"#N/A"},"Yes","No","No",{"$f":"IF($I$4=TRUE,INDEX($BZ$29:$DC1662,MATCH($A145,$AZ$29:$AZ$1000,0),MATCH($AC$2,$BZ$18:$DC$18,0)),\"Yes\")","v":"Yes"},"Yes","Yes","Yes","Yes","Yes","Yes","Yes","Yes",{"$error":"#N/A"},{"$error":"#N/A"},"Yes","Yes","Yes","Yes",{"$error":"#N/A"},{"$error":"#N/A"},{"$error":"#N/A"},{"$error":"#N/A"},null,null,null,null,null,null,null,null,null,null,null,null,null,null,null,null,null,null,null,null,null,null,null,null,null,null,null,"Cheirodendron trigynum supsp. helleri","olapa, lapalapa - 1","olapa, lapalapa - 1","olapa, lapalapa - 1","olapa, lapalapa - 1","olapa, lapalapa - 1","olapa, lapalapa - 1","olapa, lapalapa - 1","olapa, lapalapa - 1","olapa, lapalapa - 1",1400,4100,50,200,"Yes","Yes","No","No","Yes","Tree","No","Yes","n/a","25-40","1-3",30,"Yes","No","Yes","Yes","Yes","No","Yes","No","Yes","No","Yes","No","No","No","No","No","No","No","No","No","No","No","No","No","No","No","No","No","No","No","Mesic to Wet sites, plant in sheltered spots, may be better to add later as forest develops.",null,null,null,null,null,null,"Yes","No","No","No","No","No","No","No","Yes","No","Yes","No","Yes","No","No","Yes","No","No",null,null,null,null,null,null,null,null,null,null,"10-20",null,"10-20",null,"10-20","10-20",null,null,null,null,null,null,null,null,null,null,null,null,"feet",null,"feet",null,"feet","feet"]
["Cheirodendron trigynum supsp. trigynum",{"$error":"#N/A"},"Yes","No","No",{"$f":"IF($I$4=TRUE,INDEX($BZ$29:$DC1663,MATCH($A146,$AZ$29:$AZ$1000,0),MATCH($AC$2,$BZ$18:$DC$18,0)),\"Yes\")","v":"Yes"},"Yes","Yes","Yes","Yes","Yes","Yes","Yes","Yes",{"$error":"#N/A"},{"$error":"#N/A"},"Yes","Yes","Yes","Yes",{"$error":"#N/A"},{"$error":"#N/A"},{"$error":"#N/A"},{"$error":"#N/A"},null,null,null,null,null,null,null,null,null,null,null,null,null,null,null,null,null,null,null,null,null,null,null,null,null,null,null,"Cheirodendron trigynum supsp. trigynum","olapa, lapalapa - 2","olapa, lapalapa - 2","olapa, lapalapa - 2","olapa, lapalapa - 2","olapa, lapalapa - 2","olapa, lapalapa - 2","olapa, lapalapa - 2","olapa, lapalapa - 2","olapa, lapalapa - 2",1000,7150,50,200,"Yes","Yes","No","No","Yes","Tree","No","Yes","n/a","25-40","1-3",30,"Yes","Yes","Yes","No","Yes","Yes","Yes","Yes","Yes","Yes","Yes","Yes","No","No","No","No","No","No","No","No","No","No","No","No","No","No","No","No","No","No","Mesic to Wet sites, plant in sheltered spots, may be better to add later as forest develops.",null,null,null,null,null,null,"Yes","No","No","No","No","No","No","No","Yes","No","Yes","No","Yes","No","No","Yes","No","No",null,null,null,null,null,null,null,null,null,null,"10-20",null,"10-20",null,"10-20","10-20",null,null,null,null,null,null,null,null,null,null,null,null,"feet",null,"feet",null,"feet","feet"]
["Chenopodium oahuense",{"$error":"#N/A"},"Yes","No","No",{"$f":"IF($I$4=TRUE,INDEX($BZ$29:$DC1664,MATCH($A147,$AZ$29:$AZ$1000,0),MATCH($AC$2,$BZ$18:$DC$18,0)),\"Yes\")","v":"Yes"},"Yes","Yes","Yes","Yes","Yes","Yes","Yes","Yes",{"$error":"#N/A"},{"$error":"#N/A"},"Yes","Yes","Yes","Yes",{"$error":"#N/A"},{"$f":"IF(AND(C$7<=X147,C$7>=W147),\"Yes\",\"No\")","v":{"$error":"#N/A"}},{"$error":"#N/A"},{"$error":"#N/A"},null,null,null,null,null,null,null,null,null,null,null,null,null,null,null,null,null,null,null,null,null,null,null,null,null,null,null,"Chenopodium oahuense","aweoweo, aheahea","aweoweo, aheahea","aweoweo, aheahea","aweoweo, aheahea","aweoweo, aheahea","aweoweo, aheahea","aweoweo, aheahea","aweoweo, aheahea","aweoweo, aheahea",0,8200,15,80,"Yes","No","Yes","Yes","No","Shrub","No","Yes","n/a","1-25","0-1",2,"Yes","Yes","Yes","Yes","Yes","Yes","Yes","Yes","Yes","Yes","Yes","Yes","No","No","No","No","No","No","No","No","No","No","No","No","No","No","No","No","No","No",null,null,null,null,null,null,null,"Yes","Yes","No","No","No","No","No","No","Yes","No","Yes","No","Yes","No","No","Yes","No","No",null,null,null,null,null,null,null,null,null,null,"",null,"",null,"","",null,null,null,null,null,null,null,null,null,null,null,null,"",null,"",null,"",""]
["Chloris gayana",{"$error":"#N/A"},"Yes","No","No",{"$f":"IF($I$4=TRUE,INDEX($BZ$29:$DC1665,MATCH($A148,$AZ$29:$AZ$1000,0),MATCH($AC$2,$BZ$18:$DC$18,0)),\"Yes\")","v":"Yes"},"Yes","Yes","Yes","Yes","Yes","Yes","Yes","Yes",{"$error":"#N/A"},{"$error":"#N/A"},"Yes","Yes","Yes","Yes",{"$error":"#N/A"},{"$error":"#N/A"},{"$f":"IF(AF$1394=\"Tropical\",BJ148,IF(AND($C$8=\"Winter\",DF148=\"CS\"),BJ148-500,BJ148))","v":{"$error":"#N/A"}},{"$f":"IF(AF$1394=\"Tropical\",BK148,IF(AND($C$8=\"Winter\",DF148=\"WS\"),BK148-500,BK148))","v":{"$error":"#N/A"}},null,null,null,null,null,null,null,null,null,null,null,null,null,null,null,null,null,null,null,null,null,null,null,null,null,null,null,"Chloris gayana","Rhodesgrass","Rhodesgrass","Rhodesgrass","Rhodesgrass","Rhodesgrass","Rhodesgrass","Rhodesgrass","Rhodesgrass","Rhodesgrass",0,3000,25,45,"Yes","No","Yes","Yes","No","Herb","No","No",15,"0-1","3+",0,"Yes","No","Yes","No","Yes","No","Yes","No","Yes","No","Yes","No","Yes","No","Yes","No","Yes","No","Yes","No","Yes","No","Yes","No","Yes","No","Yes","No","Yes","No",null,null,null,null,null,null,null,"Yes","No","Yes","No","Yes","No","Yes","Yes","No","No","No","Yes","No","Yes","No","No","Yes","No",null,null,6,null,20,null,10,5,null,null,"",2,"",null,"","",2,null,null,null,"lbs/ac",null,"lbs/ac",null,"lbs/ac","lbs/ac",null,null,"","lbs/ac","",null,"","","per ft"]
["Chrysodracon aurea",{"$error":"#N/A"},"Yes","No","No",{"$f":"IF($I$4=TRUE,INDEX($BZ$29:$DC1666,MATCH($A149,$AZ$29:$AZ$1000,0),MATCH($AC$2,$BZ$18:$DC$18,0)),\"Yes\")","v":"Yes"},"Yes","Yes","Yes","Yes","Yes","Yes","Yes","Yes",{"$error":"#N/A"},{"$error":"#N/A"},"Yes","Yes","Yes","Yes",{"$error":"#N/A"},{"$error":"#N/A"},{"$error":"#N/A"},{"$error":"#N/A"},null,null,null,null,null,null,null,null,null,null,null,null,null,null,null,null,null,null,null,null,null,null,null,null,null,null,null,"Chrysodracon aurea","hala pepe - 1","hala pepe - 1","hala pepe - 1","hala pepe - 1","hala pepe - 1","hala pepe - 1","hala pepe - 1","hala pepe - 1","hala pepe - 1",400,3500,50,120,"Yes","Yes","No","No","No","Tree","No","Yes","n/a","1-25","0-1",10,"Yes","No","Yes","Yes","Yes","No","Yes","Yes","No","Yes","No","No","No","No","No","No","No","No","No","No","No","No","No","No","No","No","No","No","No","No","Mesic forest.  Synonym = Pleomele aurea.",null,null,null,null,null,null,"Yes","Yes","No","No","No","No","No","No","Yes","No","Yes","No","Yes","No","No","Yes","No","No",null,null,null,null,null,null,null,null,null,null,"8-12",null,"8-12",null,"8-12","8-12",null,null,null,null,null,null,null,null,null,null,null,null,"feet",null,"feet",null,"feet","feet"]
["Chrysodracon auwahiensis",{"$error":"#N/A"},"Yes","No","No",{"$f":"IF($I$4=TRUE,INDEX($BZ$29:$DC1667,MATCH($A150,$AZ$29:$AZ$1000,0),MATCH($AC$2,$BZ$18:$DC$18,0)),\"Yes\")","v":"Yes"},"Yes","Yes","Yes","Yes","Yes","Yes","Yes","Yes",{"$error":"#N/A"},{"$error":"#N/A"},"Yes","Yes","Yes","Yes",{"$error":"#N/A"},{"$error":"#N/A"},{"$error":"#N/A"},{"$error":"#N/A"},null,null,null,null,null,null,null,null,null,null,null,null,null,null,null,null,null,null,null,null,null,null,null,null,null,null,null,"Chrysodracon auwahiensis","hala pepe - 2","hala pepe - 2","hala pepe - 2","hala pepe - 2","hala pepe - 2","hala pepe - 2","hala pepe - 2","hala pepe - 2","hala pepe - 2",400,4000,50,120,"Yes","Yes","No","No","No","Tree","No","Yes","n/a","1-25","0-1",10,"Yes","No","Yes","No","Yes","No","Yes","Yes","Yes","Yes","Yes","No","No","No","No","No","No","No","No","No","No","No","No","No","No","No","No","No","No","No","Mesic forest.  Synonym = Pleomele auwahiensis.",null,null,null,null,null,null,"Yes","Yes","No","No","No","No","No","No","Yes","No","Yes","No","Yes","No","No","Yes","No","No",null,null,null,null,null,null,null,null,null,null,"8-12",null,"8-12",null,"8-12","8-12",null,null,null,null,null,null,null,null,null,null,null,null,"feet",null,"feet",null,"feet","feet"]
["Chrysodracon halapepe",{"$error":"#N/A"},"Yes","No","No",{"$f":"IF($I$4=TRUE,INDEX($BZ$29:$DC1668,MATCH($A151,$AZ$29:$AZ$1000,0),MATCH($AC$2,$BZ$18:$DC$18,0)),\"Yes\")","v":"Yes"},"Yes","Yes","Yes","Yes","Yes","Yes","Yes","Yes",{"$error":"#N/A"},{"$error":"#N/A"},"Yes","Yes","Yes","Yes",{"$error":"#N/A"},{"$error":"#N/A"},{"$error":"#N/A"},{"$error":"#N/A"},null,null,null,null,null,null,null,null,null,null,null,null,null,null,null,null,null,null,null,null,null,null,null,null,null,null,null,"Chrysodracon halapepe","hala pepe - 3","hala pepe - 3","hala pepe - 3","hala pepe - 3","hala pepe - 3","hala pepe - 3","hala pepe - 3","hala pepe - 3","hala pepe - 3",400,4000,25,120,"Yes","Yes","No","No","No","Tree","No","Yes","n/a","1-25","0-1",10,"Yes","No","Yes","No","Yes","No","Yes","No","Yes","No","Yes","Yes","No","No","No","No","No","No","No","No","No","No","No","No","No","No","No","No","No","No","Dry to occassionally mesic forest.  Synonym = Pleomele halapepe.",null,null,null,null,null,null,"Yes","Yes","No","No","No","No","No","No","Yes","No","Yes","No","Yes","No","No","Yes","No","No",null,null,null,null,null,null,null,null,null,null,"8-12",null,"8-12",null,"8-12","8-12",null,null,null,null,null,null,null,null,null,null,null,null,"feet",null,"feet",null,"feet","feet"]
["Chrysopogon zizanioides \"sunshine\" (hand planted)",{"$error":"#N/A"},"Yes","No","No",{"$f":"IF($I$4=TRUE,INDEX($BZ$29:$DC1669,MATCH($A152,$AZ$29:$AZ$1000,0),MATCH($AC$2,$BZ$18:$DC$18,0)),\"Yes\")","v":"Yes"},"Yes","Yes","Yes","Yes","Yes","Yes","Yes","Yes",{"$error":"#N/A"},{"$error":"#N/A"},"Yes","Yes","Yes","Yes",{"$error":"#N/A"},{"$error":"#N/A"},{"$error":"#N/A"},{"$error":"#N/A"},null,null,null,null,null,null,null,null,null,null,null,null,null,null,null,null,null,null,null,null,null,null,null,null,null,null,null,"Chrysopogon zizanioides \"sunshine\" (hand planted)","vetivergrass, sunshine variety (hand planted)","vetivergrass, sunshine variety (hand planted)","vetivergrass, sunshine variety (hand planted)","vetivergrass, sunshine variety (hand planted)","vetivergrass, sunshine variety (hand planted)","vetivergrass, sunshine variety (hand planted)","vetivergrass, sunshine variety (hand planted)","vetivergrass, sunshine variety (hand planted)","vetivergrass, sunshine variety (hand planted)",20,3000,35,200,"Yes","No","Yes","No","No","Herb","No","No",9,"1-25","3+",3,"Yes","No","Yes","No","Yes","No","Yes","No","Yes","No","Yes","No","Yes","No","Yes","No","Yes","No","Yes","No","Yes","No","Yes","No","Yes","No","Yes","No","Yes","No",null,null,null,null,null,null,null,"Yes","No","No","No","Yes","No","Yes","No","No","No","No","No","No","Yes","No","No","Yes","No",null,null,null,null,1,null,1,null,null,null,"",null,"",null,"","",2,null,null,null,null,null,"3' x 3'",null,"4' x 4'",null,null,null,"",null,"",null,"","","per ft"]
["Chrysopogon zizanioides \"sunshine\" (sprigged)",{"$error":"#N/A"},"Yes","No","No",{"$f":"IF($I$4=TRUE,INDEX($BZ$29:$DC1670,MATCH($A153,$AZ$29:$AZ$1000,0),MATCH($AC$2,$BZ$18:$DC$18,0)),\"Yes\")","v":"Yes"},"Yes","Yes","Yes","Yes","Yes","Yes","Yes","Yes",{"$error":"#N/A"},{"$error":"#N/A"},"Yes","Yes","Yes","Yes",{"$error":"#N/A"},{"$error":"#N/A"},{"$error":"#N/A"},{"$error":"#N/A"},null,null,null,null,null,null,null,null,null,null,null,null,null,null,null,null,null,null,null,null,null,null,null,null,null,null,null,"Chrysopogon zizanioides \"sunshine\" (sprigged)","vetivergrass, sunshine variety (sprigged)","vetivergrass, sunshine variety (sprigged)","vetivergrass, sunshine variety (sprigged)","vetivergrass, sunshine variety (sprigged)","vetivergrass, sunshine variety (sprigged)","vetivergrass, sunshine variety (sprigged)","vetivergrass, sunshine variety (sprigged)","vetivergrass, sunshine variety (sprigged)","vetivergrass, sunshine variety (sprigged)",20,3000,35,200,"Yes","No","Yes","No","No","Herb","No","No",9,"1-25","3+",3,"Yes","No","Yes","No","Yes","No","Yes","No","Yes","No","Yes","No","Yes","No","Yes","No","Yes","No","Yes","No","Yes","No","Yes","No","Yes","No","Yes","No","Yes","No",null,null,null,null,null,null,null,"Yes","No","No","No","Yes","No","Yes","No","No","No","No","No","No","Yes","No","No","No","No",null,null,null,null,80,null,40,null,null,null,"",null,"",null,"","",null,null,null,null,null,null,"bu/ac",null,"bu/ac",null,null,null,"",null,"",null,"",""]
["Cibotium chamissoi",{"$error":"#N/A"},"Yes","No","No",{"$f":"IF($I$4=TRUE,INDEX($BZ$29:$DC1671,MATCH($A154,$AZ$29:$AZ$1000,0),MATCH($AC$2,$BZ$18:$DC$18,0)),\"Yes\")","v":"Yes"},"Yes","Yes","Yes","Yes","Yes","Yes","Yes","Yes",{"$error":"#N/A"},{"$error":"#N/A"},"Yes","Yes","Yes","Yes",{"$error":"#N/A"},{"$error":"#N/A"},{"$error":"#N/A"},{"$error":"#N/A"},null,null,null,null,null,null,null,null,null,null,null,null,null,null,null,null,null,null,null,null,null,null,null,null,null,null,null,"Cibotium chamissoi","hapuu","hapuu","hapuu","hapuu","hapuu","hapuu","hapuu","hapuu","hapuu",500,4000,50,200,"No","Yes","No","No","No","Shrub","No","No","n/a","1-25","0-1",10,"Yes","Yes","Yes","No","Yes","Yes","Yes","Yes","Yes","Yes","Yes","Yes","No","No","No","No","No","No","No","No","No","No","No","No","No","No","No","No","No","No",null,null,null,null,null,null,null,"Yes","No","No","No","No","No","No","No","Yes","No","Yes","No","Yes","No","No","Yes","No","No",null,null,null,null,null,null,null,null,null,null,"",null,"",null,"","",null,null,null,null,null,null,null,null,null,null,null,null,"",null,"",null,"",""]
["Cibotium glaucum",{"$error":"#N/A"},"Yes","No","No",{"$f":"IF($I$4=TRUE,INDEX($BZ$29:$DC1672,MATCH($A155,$AZ$29:$AZ$1000,0),MATCH($AC$2,$BZ$18:$DC$18,0)),\"Yes\")","v":"Yes"},"Yes","Yes","Yes","Yes","Yes","Yes","Yes","Yes",{"$error":"#N/A"},{"$error":"#N/A"},"Yes","Yes","Yes","Yes",{"$error":"#N/A"},{"$error":"#N/A"},{"$error":"#N/A"},{"$error":"#N/A"},null,null,null,null,null,null,null,null,null,null,null,null,null,null,null,null,null,null,null,null,null,null,null,null,null,null,null,"Cibotium glaucum","hapuu pulu","hapuu pulu","hapuu pulu","hapuu pulu","hapuu pulu","hapuu pulu","hapuu pulu","hapuu pulu","hapuu pulu",350,5600,50,200,"No","Yes","No","No","No","Shrub","No","No","n/a","1-25","0-1",10,"Yes","Yes","Yes","Yes","Yes","Yes","Yes","Yes","Yes","Yes","Yes","Yes","No","No","No","No","No","No","No","No","No","No","No","No","No","No","No","No","No","No",null,null,null,null,null,null,null,"Yes","No","No","No","No","No","No","No","Yes","No","Yes","No","Yes","No","No","Yes","No","No",null,null,null,null,null,null,null,null,null,null,"",null,"",null,"","",null,null,null,null,null,null,null,null,null,null,null,null,"",null,"",null,"",""]
["Cibotium menziesii",{"$error":"#N/A"},"Yes","No","No",{"$f":"IF($I$4=TRUE,INDEX($BZ$29:$DC1673,MATCH($A156,$AZ$29:$AZ$1000,0),MATCH($AC$2,$BZ$18:$DC$18,0)),\"Yes\")","v":"Yes"},"Yes","Yes","Yes","Yes","Yes","Yes","Yes","Yes",{"$error":"#N/A"},{"$error":"#N/A"},"Yes","Yes","Yes","Yes",{"$error":"#N/A"},{"$error":"#N/A"},{"$error":"#N/A"},{"$error":"#N/A"},null,null,null,null,null,null,null,null,null,null,null,null,null,null,null,null,null,null,null,null,null,null,null,null,null,null,null,"Cibotium menziesii","hapuu ii, hapuu kane","hapuu ii, hapuu kane","hapuu ii, hapuu kane","hapuu ii, hapuu kane","hapuu ii, hapuu kane","hapuu ii, hapuu kane","hapuu ii, hapuu kane","hapuu ii, hapuu kane","hapuu ii, hapuu kane",800,4600,70,200,"No","Yes","No","No","No","Shrub","No","No","n/a","1-25","0-1",10,"Yes","Yes","Yes","Yes","Yes","Yes","Yes","Yes","Yes","Yes","Yes","Yes","No","No","No","No","No","No","No","No","No","No","No","No","No","No","No","No","No","No",null,null,null,null,null,null,null,"Yes","No","No","No","No","No","No","No","Yes","No","Yes","No","Yes","No","No","Yes","No","No",null,null,null,null,null,null,null,null,null,null,"",null,"",null,"","",null,null,null,null,null,null,null,null,null,null,null,null,"",null,"",null,"",""]
["Citrus maxima",{"$f":"IF(A157=0,\"No\",IF(AND(C157=\"Yes\",D157=\"YES\",E157=\"Yes\",F157=\"yes\",G157=\"Yes\",H157=\"Yes\",I157=\"Yes\",J157=\"Yes\",N157=\"Yes\",Q157=\"Yes\",O157=\"Yes\",K157=\"Yes\",P157=\"Yes\",V157=\"Yes\"),\"Yes\",\"No\"))","v":{"$error":"#N/A"}},"Yes","No","No",{"$f":"IF($I$4=TRUE,INDEX($BZ$29:$DC1674,MATCH($A157,$AZ$29:$AZ$1000,0),MATCH($AC$2,$BZ$18:$DC$18,0)),\"Yes\")","v":"Yes"},"Yes","Yes","Yes","Yes","Yes","Yes","Yes","Yes",{"$error":"#N/A"},{"$error":"#N/A"},"Yes","Yes","Yes","Yes",{"$error":"#N/A"},{"$error":"#N/A"},{"$error":"#N/A"},{"$error":"#N/A"},null,null,null,null,null,null,null,null,null,null,null,null,null,null,null,null,null,null,null,null,null,null,null,null,null,null,null,"Citrus maxima","pummelo","kahet magas, pummelo","pummelo","jabong, pummelo","pummelo","pummelo","pummelo","pummelo","pummelo",0,2500,35,200,"Yes","No","Yes","No","No","Tree","No","No",0,"1-25","0-1",20,"Yes","No","Yes","No","Yes","No","Yes","No","Yes","No","Yes","No","Yes","No","Yes","No","Yes","No","Yes","No","Yes","No","Yes","No","Yes","No","Yes","No","Yes","No",null,null,null,null,null,null,null,"Yes","Yes","No","No","No","No","No","No","Yes","No","Yes","No","Yes","No","No","Yes","No","Yes",null,null,null,null,null,null,null,null,null,null,"8-15",null,"8-15",null,"8-15","8-15",null,null,null,null,null,null,null,null,null,null,null,null,"feet",null,"feet",null,"feet","feet"]
[{"$f":"AZ158","v":"Citrus spp."},{"$error":"#N/A"},"Yes","No","No",{"$f":"IF($I$4=TRUE,INDEX($BZ$29:$DC1675,MATCH($A158,$AZ$29:$AZ$1000,0),MATCH($AC$2,$BZ$18:$DC$18,0)),\"Yes\")","v":"Yes"},{"$f":"IF($K$4=TRUE,VLOOKUP(A158,$AZ$29:$BY$1000,17,FALSE),\"Yes\")","v":"Yes"},{"$f":"IF($J$4=TRUE,VLOOKUP(A158,$AZ$29:$BY$1000,18,FALSE),\"Yes\")","v":"Yes"},{"$f":"IF($L$4=TRUE,VLOOKUP(A158,$AZ$29:$BY$1000,22,FALSE),\"Yes\")","v":"Yes"},{"$f":"IF($M$4=TRUE,VLOOKUP(A158,$AZ$29:$BY$1000,21,FALSE),\"Yes\")","v":"Yes"},"Yes","Yes","Yes",{"$f":"IF($N$4=TRUE,VLOOKUP(A158,$AZ$29:$BY$1000,19,FALSE),\"Yes\")","v":"Yes"},{"$f":"IF($C$5=\"\",\"Yes\",INDEX($BZ$29:$DC$1000,MATCH($AZ158,$AZ$29:$AZ$1000,0),MATCH($AD$1379,$BZ$18:$DC$18,0)))","v":{"$error":"#N/A"}},{"$error":"#N/A"},"Yes","Yes","Yes","Yes",{"$f":"INDEX($BZ$29:$DC$1000,MATCH($AZ158,$AZ$29:$AZ$1000,0),MATCH($AC$2,$BZ$18:$DC$18,0))","v":{"$error":"#N/A"}},{"$error":"#N/A"},{"$error":"#N/A"},{"$error":"#N/A"},null,null,null,null,null,null,null,null,null,null,null,null,null,null,null,null,null,null,null,null,null,null,null,null,null,null,null,"Citrus spp.","citrus","citrus","moli, citrus","bekersiu, charitol, citrus","citrus","muh, citrus","kurukur, citrus","iumwul, citrus","laim, citrus",0,2500,35,200,"Yes","No","Yes","No","No","Tree","No","No",0,"1-25","0-1",15,"Yes","No","Yes","No","Yes","No","Yes","No","Yes","No","Yes","No","Yes","No","Yes","No","Yes","No","Yes","No","Yes","No","Yes","No","Yes","No","Yes","No","Yes","No","Good forage for honey bees.",null,null,null,null,null,null,"Yes","Yes","No","No","No","No","No","No","Yes","No","Yes","No","Yes","No","No","Yes","No","Yes",null,null,null,null,null,null,null,null,null,null,"8-15",null,"8-15",null,"8-15","8-15",null,null,null,null,null,null,null,null,null,null,null,null,"feet",null,"feet",null,"feet","feet"]
["Citrus x Citrofortunella mitis",{"$error":"#N/A"},"Yes","No","No",{"$f":"IF($I$4=TRUE,INDEX($BZ$29:$DC1676,MATCH($A159,$AZ$29:$AZ$1000,0),MATCH($AC$2,$BZ$18:$DC$18,0)),\"Yes\")","v":"Yes"},"Yes","Yes","Yes","Yes","Yes","Yes","Yes","Yes",{"$error":"#N/A"},{"$error":"#N/A"},"Yes","Yes","Yes","Yes",{"$error":"#N/A"},{"$error":"#N/A"},{"$error":"#N/A"},{"$error":"#N/A"},null,null,null,null,null,null,null,null,null,null,null,null,null,null,null,null,null,null,null,null,null,null,null,null,null,null,null,"Citrus x Citrofortunella mitis","calamansi, calamondin","calamansi, calamondin","calamansi, calamondin","calamansi, calamondin","calamansi, calamondin","calamansi, calamondin","calamansi, calamondin","calamansi, calamondin","calamansi, calamondin",0,1500,30,200,"Yes","No","Yes","Yes","No","Tree","No","No",0,"1-25","0-1",15,"Yes","No","Yes","No","Yes","No","Yes","No","Yes","No","Yes","No","Yes","No","Yes","No","Yes","No","Yes","No","Yes","No","Yes","No","Yes","No","Yes","No","Yes","No","Good forage for honey bees.",null,null,null,null,null,null,"Yes","Yes","No","No","No","No","No","No","Yes","No","Yes","No","Yes","No","No","Yes","No","No",null,null,null,null,null,null,null,null,null,null,"8-15",null,"8-15",null,"8-15","8-15",null,null,null,null,null,null,null,null,null,null,null,null,"feet",null,"feet",null,"feet","feet"]
["Claoxylon sandwicense",{"$error":"#N/A"},"Yes","No","No",{"$f":"IF($I$4=TRUE,INDEX($BZ$29:$DC1677,MATCH($A160,$AZ$29:$AZ$1000,0),MATCH($AC$2,$BZ$18:$DC$18,0)),\"Yes\")","v":"Yes"},"Yes","Yes","Yes","Yes","Yes","Yes","Yes","Yes",{"$error":"#N/A"},{"$error":"#N/A"},"Yes","Yes","Yes","Yes",{"$error":"#N/A"},{"$error":"#N/A"},{"$error":"#N/A"},{"$error":"#N/A"},null,null,null,null,null,null,null,null,null,null,null,null,null,null,null,null,null,null,null,null,null,null,null,null,null,null,null,"Claoxylon sandwicense","poola","poola","poola","poola","poola","poola","poola","poola","poola",1150,5000,50,120,"No","Yes","No","No","No","Shrub","No","Yes","n/a","1-25","0-1",12,"Yes","Yes","Yes","Yes","Yes","Yes","Yes","Yes","Yes","Yes","Yes","Yes","No","No","No","No","No","No","No","No","No","No","No","No","No","No","No","No","No","No",null,null,null,null,null,null,null,"Yes","No","No","No","No","No","No","No","Yes","No","Yes","No","Yes","No","No","Yes","No","No",null,null,null,null,null,null,null,null,null,null,"",null,"",null,"","",null,null,null,null,null,null,null,null,null,null,null,null,"",null,"",null,"",""]
["Clermontia grandiflora subsp. grandiflora",{"$error":"#N/A"},"Yes","No","No",{"$f":"IF($I$4=TRUE,INDEX($BZ$29:$DC1678,MATCH($A161,$AZ$29:$AZ$1000,0),MATCH($AC$2,$BZ$18:$DC$18,0)),\"Yes\")","v":"Yes"},"Yes","Yes","Yes","Yes","Yes","Yes","Yes","Yes",{"$error":"#N/A"},{"$error":"#N/A"},"Yes","Yes","Yes","Yes",{"$error":"#N/A"},{"$error":"#N/A"},{"$error":"#N/A"},{"$error":"#N/A"},null,null,null,null,null,null,null,null,null,null,null,null,null,null,null,null,null,null,null,null,null,null,null,null,null,null,null,"Clermontia grandiflora subsp. grandiflora","oha wai - 1","oha wai - 1","oha wai - 1","oha wai - 1","oha wai - 1","oha wai - 1","oha wai - 1","oha wai - 1","oha wai - 1",2500,5500,100,200,"Yes","Yes","No","No","Yes","Shrub","No","Yes","n/a","1-25","0-1",10,"Yes","No","Yes","No","Yes","No","Yes","Yes","Yes","No","Yes","No","No","No","No","No","No","No","No","No","No","No","No","No","No","No","No","No","No","No",null,null,null,null,null,null,null,"Yes","No","No","No","No","No","No","No","Yes","No","Yes","No","Yes","No","No","Yes","No","No",null,null,null,null,null,null,null,null,null,null,"",null,"",null,"","",null,null,null,null,null,null,null,null,null,null,null,null,"",null,"",null,"",""]
["Clermontia grandiflora subsp. munroi",{"$error":"#N/A"},{"$f":"INDEX($DK$29:$EC$1000,MATCH(AZ162,$AZ$29:$AZ$1000,0),MATCH($A$2,$DK$18:$EC$18,0))","v":"Yes"},{"$f":"IF(ISBLANK($C$6),\"No\",IF(AND($H$4=TRUE,BM162>$C$6),\"Yes\",IF(AND($C$6>=BL162,$C$6<=BM162),\"Yes\",\"No\")))","v":"No"},"No",{"$f":"IF($I$4=TRUE,INDEX($BZ$29:$DC1679,MATCH($A162,$AZ$29:$AZ$1000,0),MATCH($AC$2,$BZ$18:$DC$18,0)),\"Yes\")","v":"Yes"},"Yes","Yes","Yes","Yes",{"$f":"IF(AND(L162=\"Yes\",M162=\"Yes\"),\"Yes\",\"No\")","v":"Yes"},{"$f":"IF(AND($O$4=TRUE,BO162=\"Yes\"),\"no\",\"Yes\")","v":"Yes"},{"$f":"IF(AND($P$4=TRUE,BN162=\"Yes\"),\"No\",\"Yes\")","v":"Yes"},"Yes",{"$error":"#N/A"},{"$f":"IF(AND($Q$4=TRUE,U162=\"Yes\"),\"No\",IF(AND($Q$4=TRUE,U162=\"No\"),\"yes\",\"Yes\"))","v":{"$error":"#N/A"}},{"$f":"IF(OR(R162=\"Yes\",S162=\"Yes\",T162=\"Yes\"),\"Yes\",\"No\")","v":"Yes"},{"$f":"IF($W$7=\"Yes\",\"Yes\",IF($T$13=BS162,\"Yes\",\"No\"))","v":"Yes"},{"$f":"IF($W$7=\"Yes\",\"Yes\",IF($U$13=BS162,\"Yes\",\"No\"))","v":"Yes"},{"$f":"IF($W$7=\"Yes\",\"Yes\",IF($V$13=BS162,\"Yes\",\"No\"))","v":"Yes"},{"$error":"#N/A"},{"$error":"#N/A"},{"$error":"#N/A"},{"$error":"#N/A"},null,null,null,null,null,null,null,null,null,null,null,null,null,null,null,null,null,null,null,null,null,null,null,null,null,null,null,"Clermontia grandiflora subsp. munroi","oha wai - 2","oha wai - 2","oha wai - 2","oha wai - 2","oha wai - 2","oha wai - 2","oha wai - 2","oha wai - 2","oha wai - 2",2000,2500,100,200,"Yes","Yes","No","No","Yes","Shrub","No","Yes","n/a","1-25","0-1",10,"Yes","No","Yes","No","Yes","Yes","Yes","Yes","Yes","Yes","Yes","No","No","No","No","No","No","No","No","No","No","No","No","No","No","No","No","No","No","No",null,null,null,null,null,null,null,"Yes","No","No","No","No","No","No","No","Yes","No","Yes","No","Yes","No","No","Yes","No","No",null,null,null,null,null,null,null,null,null,null,"",null,"",null,"","",null,null,null,null,null,null,null,null,null,null,null,null,"",null,"",null,"",""]
["Clermontia kohalae",{"$error":"#N/A"},"Yes","No","No",{"$f":"IF($I$4=TRUE,INDEX($BZ$29:$DC1680,MATCH($A163,$AZ$29:$AZ$1000,0),MATCH($AC$2,$BZ$18:$DC$18,0)),\"Yes\")","v":"Yes"},"Yes","Yes","Yes","Yes","Yes","Yes","Yes","Yes",{"$error":"#N/A"},{"$error":"#N/A"},"Yes","Yes","Yes","Yes",{"$error":"#N/A"},{"$error":"#N/A"},{"$error":"#N/A"},{"$error":"#N/A"},null,null,null,null,null,null,null,null,null,null,null,null,null,null,null,null,null,null,null,null,null,null,null,null,null,null,null,"Clermontia kohalae","oha wai - 3","oha wai - 3","oha wai - 3","oha wai - 3","oha wai - 3","oha wai - 3","oha wai - 3","oha wai - 3","oha wai - 3",1200,4500,100,200,"Yes","Yes","No","No","Yes","Shrub","No","Yes","n/a","1-25","0-1",10,"Yes","Yes","Yes","No","Yes","No","Yes","No","Yes","No","Yes","No","No","No","No","No","No","No","No","No","No","No","No","No","No","No","No","No","No","No","Wet forests of Kohala and Hamakua.",null,null,null,null,null,null,"Yes","No","No","No","No","No","No","No","Yes","No","Yes","No","Yes","No","No","Yes","No","No",null,null,null,null,null,null,null,null,null,null,"",null,"",null,"","",null,null,null,null,null,null,null,null,null,null,null,null,"",null,"",null,"",""]
["Clermontia montis-loa",{"$error":"#N/A"},"Yes","No","No",{"$f":"IF($I$4=TRUE,INDEX($BZ$29:$DC1681,MATCH($A164,$AZ$29:$AZ$1000,0),MATCH($AC$2,$BZ$18:$DC$18,0)),\"Yes\")","v":"Yes"},"Yes","Yes","Yes","Yes","Yes","Yes","Yes","Yes",{"$error":"#N/A"},{"$error":"#N/A"},"Yes","Yes","Yes","Yes",{"$error":"#N/A"},{"$error":"#N/A"},{"$error":"#N/A"},{"$error":"#N/A"},null,null,null,null,null,null,null,null,null,null,null,null,null,null,null,null,null,null,null,null,null,null,null,null,null,null,null,"Clermontia montis-loa","oha wai - 4","oha wai - 4","oha wai - 4","oha wai - 4","oha wai - 4","oha wai - 4","oha wai - 4","oha wai - 4","oha wai - 4",3400,5600,100,200,"Yes","Yes","No","No","Yes","Shrub","No","Yes","n/a","1-25","0-1",10,"Yes","Yes","Yes","No","Yes","No","Yes","No","Yes","No","Yes","No","No","No","No","No","No","No","No","No","No","No","No","No","No","No","No","No","No","No","Wet forests of Kohala and Hamakua.",null,null,null,null,null,null,"Yes","No","No","No","No","No","No","No","Yes","No","Yes","No","Yes","No","No","Yes","No","No",null,null,null,null,null,null,null,null,null,null,"",null,"",null,"","",null,null,null,null,null,null,null,null,null,null,null,null,"",null,"",null,"",""]
["Clermontia parvifolia",{"$error":"#N/A"},"Yes","No","No",{"$f":"IF($I$4=TRUE,INDEX($BZ$29:$DC1682,MATCH($A165,$AZ$29:$AZ$1000,0),MATCH($AC$2,$BZ$18:$DC$18,0)),\"Yes\")","v":"Yes"},"Yes","Yes","Yes","Yes","Yes","Yes","Yes","Yes",{"$error":"#N/A"},{"$error":"#N/A"},"Yes","Yes","Yes","Yes",{"$error":"#N/A"},{"$error":"#N/A"},{"$error":"#N/A"},{"$error":"#N/A"},null,null,null,null,null,null,null,null,null,null,null,null,null,null,null,null,null,null,null,null,null,null,null,null,null,null,null,"Clermontia parvifolia","oha wai - 5","oha wai - 5","oha wai - 5","oha wai - 5","oha wai - 5","oha wai - 5","oha wai - 5","oha wai - 5","oha wai - 5",400,4800,100,200,"Yes","Yes","No","No","Yes","Shrub","No","Yes","n/a","1-25","0-1",6,"Yes","Yes","Yes","No","Yes","No","Yes","No","Yes","No","Yes","No","No","No","No","No","No","No","No","No","No","No","No","No","No","No","No","No","No","No","Wet forests of Kohala and Hamakua.",null,null,null,null,null,null,"Yes","No","No","No","No","No","No","No","Yes","No","Yes","No","Yes","No","No","Yes","No","No",null,null,null,null,null,null,null,null,null,null,"",null,"",null,"","",null,null,null,null,null,null,null,null,null,null,null,null,"",null,"",null,"",""]
["Clerodendrum inerme",{"$error":"#N/A"},"Yes","No","No",{"$f":"IF($I$4=TRUE,INDEX($BZ$29:$DC1683,MATCH($A166,$AZ$29:$AZ$1000,0),MATCH($AC$2,$BZ$18:$DC$18,0)),\"Yes\")","v":"Yes"},"Yes","Yes","Yes","Yes","Yes","Yes","Yes","Yes",{"$error":"#N/A"},{"$error":"#N/A"},"Yes","Yes","Yes","Yes",{"$error":"#N/A"},{"$error":"#N/A"},{"$error":"#N/A"},{"$error":"#N/A"},null,null,null,null,null,null,null,null,null,null,null,null,null,null,null,null,null,null,null,null,null,null,null,null,null,null,null,"Clerodendrum inerme","seaside clerodendrum","lodugao, seaside clerodendrum","aloalo tai, seaside clerodendrum","chemrert, habiya, seaside clerodendrum","ilau, seaside clerodendrum","kwacwak, seaside clerodendrum","apwech, abot, seaside clerodendrum","lruch, ara, seaside clerodendrum","wulej, ulij, seaside clerodendrum",0,50,80,200,"Yes","Yes","Yes","Yes","Yes","Shrub","No","Yes","n/a","1-25","1-3",12,"No","No","No","No","No","No","No","No","No","No","No","No","Yes","Yes","Yes","Yes","Yes","Yes","Yes","Yes","Yes","Yes","Yes","Yes","Yes","Yes","Yes","Yes","Yes","Yes",null,"Synonym = Volkameria inermis",null,null,null,null,null,"Yes","No","No","No","No","No","No","No","Yes","No","Yes","No","Yes","No","No","Yes","No","No",null,null,null,null,null,null,null,null,null,null,"",null,"",null,"","",null,null,null,null,null,null,null,null,null,null,null,null,"",null,"",null,"",""]
["Coccoloba uvifera",{"$error":"#N/A"},"Yes","No","No",{"$f":"IF($I$4=TRUE,INDEX($BZ$29:$DC1684,MATCH($A167,$AZ$29:$AZ$1000,0),MATCH($AC$2,$BZ$18:$DC$18,0)),\"Yes\")","v":"Yes"},"Yes","Yes","Yes","Yes","Yes","Yes","Yes","Yes",{"$error":"#N/A"},{"$error":"#N/A"},"Yes","Yes","Yes","Yes",{"$error":"#N/A"},{"$error":"#N/A"},{"$error":"#N/A"},{"$error":"#N/A"},null,null,null,null,null,null,null,null,null,null,null,null,null,null,null,null,null,null,null,null,null,null,null,null,null,null,null,"Coccoloba uvifera","seagrape","seagrape","seagrape","seagrape","seagrape","seagrape","seagrape","seagrape","seagrape",0,500,20,80,"Yes","No","Yes","Yes","No","Tree","No","No",7,"25-40","1-3",25,"Yes","No","Yes","No","Yes","No","Yes","No","Yes","No","Yes","No","No","No","Yes","No","Yes","No","Yes","No","Yes","No","Yes","No","Yes","No","Yes","No","Yes","No",null,"Naturalized Hawaii and Guam",null,null,null,null,null,"Yes","Yes","No","No","No","No","No","No","Yes","No","Yes","No","Yes","No","Yes","Yes","No","Yes",null,null,null,null,null,null,null,null,null,null,"10-20",null,"10-20",null,"10-20","10-20",null,null,null,null,null,null,null,null,null,null,null,null,"feet",null,"feet",null,"feet","feet"]
["Cocculus orbiculatus",{"$error":"#N/A"},"Yes","No","No",{"$f":"IF($I$4=TRUE,INDEX($BZ$29:$DC1685,MATCH($A168,$AZ$29:$AZ$1000,0),MATCH($AC$2,$BZ$18:$DC$18,0)),\"Yes\")","v":"Yes"},"Yes","Yes","Yes","Yes","Yes","Yes","Yes","Yes",{"$error":"#N/A"},{"$error":"#N/A"},"Yes","Yes","Yes","Yes",{"$error":"#N/A"},{"$error":"#N/A"},{"$error":"#N/A"},{"$error":"#N/A"},null,null,null,null,null,null,null,null,null,null,null,null,null,null,null,null,null,null,null,null,null,null,null,null,null,null,null,"Cocculus orbiculatus","huehue","huehue","huehue","huehue","huehue","huehue","huehue","huehue","huehue",0,4600,15,100,"Yes","Yes","Yes","No","No","Vine-herb","No","Yes","n/a","1-25","1-3",0,"Yes","Yes","Yes","Yes","Yes","Yes","Yes","Yes","Yes","Yes","Yes","Yes","No","No","No","No","No","No","No","No","No","No","No","No","No","No","No","No","No","No","Open areas such as grasslands, raised coralline plains, talus slopes, on dry a'a lava, and in crevices of pahoehoe lava, and in mesic to dry forest.",null,null,null,null,null,null,"Yes","No","No","No","No","No","No","No","No","No","No","No","No","Yes","No","No","No","No",null,null,null,null,null,null,null,null,null,null,"",null,"",null,"","",null,null,null,null,null,null,null,null,null,null,null,null,"",null,"",null,"",""]
["Cocos nucifera (dwarf)",{"$error":"#N/A"},"Yes","No","No",{"$f":"IF($I$4=TRUE,INDEX($BZ$29:$DC1686,MATCH($A169,$AZ$29:$AZ$1000,0),MATCH($AC$2,$BZ$18:$DC$18,0)),\"Yes\")","v":"Yes"},"Yes","Yes","Yes","Yes","Yes","Yes","Yes","Yes",{"$error":"#N/A"},{"$error":"#N/A"},"Yes","Yes","Yes","Yes",{"$error":"#N/A"},{"$error":"#N/A"},{"$error":"#N/A"},{"$error":"#N/A"},null,null,null,null,null,null,null,null,null,null,null,null,null,null,null,null,null,null,null,null,null,null,null,null,null,null,null,"Cocos nucifera (dwarf)","coconut (dwarf), niu leka","niyok, coconut (dwarf)","niu, coconut (dwarf)","iru, lius, coconut (dwarf)","ni, coconut (dwarf)","lu, koanu, coconut (dwarf)","nu, coconut (dwarf)","lu, coconut (dwarf)","ni, nimaro, coconut (dwarf)",0,2000,20,250,"Yes","No","Yes","Yes","Yes","Tree","No","No",-4,"25-40","1-3",20,"Yes","No","Yes","No","Yes","No","Yes","No","Yes","No","Yes","No","Yes","Yes","Yes","No","Yes","No","Yes","No","Yes","No","Yes","No","Yes","No","Yes","No","Yes","No","In Guam coconut and other palms are susceptible to attack by the coconut rhinoceros beetle (Oryctes rhinoceros) which can cause serious damage to the trees.  Good forage for honey bees.",null,null,null,null,null,null,"Yes","Yes","No","No","No","No","No","No","Yes","No","Yes","No","Yes","No","Yes","Yes","No","Yes",null,null,null,null,null,null,null,null,null,null,"10-20",null,"10-20",null,"10-20","10-20",null,null,null,null,null,null,null,null,null,null,null,null,"feet",null,"feet",null,"feet","feet"]
["Cocos nucifera (tall)",{"$error":"#N/A"},"Yes","No","No",{"$f":"IF($I$4=TRUE,INDEX($BZ$29:$DC1687,MATCH($A170,$AZ$29:$AZ$1000,0),MATCH($AC$2,$BZ$18:$DC$18,0)),\"Yes\")","v":"Yes"},"Yes","Yes","Yes","Yes","Yes","Yes","Yes","Yes",{"$error":"#N/A"},{"$error":"#N/A"},"Yes","Yes","Yes","Yes",{"$error":"#N/A"},{"$error":"#N/A"},{"$error":"#N/A"},{"$error":"#N/A"},null,null,null,null,null,null,null,null,null,null,null,null,null,null,null,null,null,null,null,null,null,null,null,null,null,null,null,"Cocos nucifera (tall)","coconut (tall), niu","niyok, coconut (tall)","niu, coconut (tall)","iru, lius, coconut (tall)","ni, coconut (tall)","lu, koanu, coconut (tall)","nu, coconut (tall)","lu, coconut (tall)","ni, nimaro, coconut (tall)",0,2000,20,250,"Yes","No","Yes","Yes","Yes","Tree","No","No",-4,"40+","1-3",50,"Yes","No","Yes","No","Yes","No","Yes","No","Yes","No","Yes","No","Yes","Yes","Yes","No","Yes","No","Yes","No","Yes","No","Yes","No","Yes","No","Yes","No","Yes","No","For windbreaks tall coconut palms must be planted in multiple-row sets with rows of other short-stature species planted to windward of the coconut palms.  In Guam coconut and other palms are susceptible to attack by the coconut rhinoceros beetle (Oryctes rhinoceros) which can cause serious damage to the trees.  Good forage for honey bees.",null,null,null,null,null,null,"Yes","Yes","No","No","No","No","No","No","Yes","No","Yes","No","Yes","No","Yes","Yes","No","Yes",null,null,null,null,null,null,null,null,null,null,"10-20",null,"10-20",null,"10-20","10-20",null,null,null,null,null,null,null,null,null,null,null,null,"feet",null,"feet",null,"feet","feet"]
["Codiaeum variegatum",{"$error":"#N/A"},"Yes","No","No",{"$f":"IF($I$4=TRUE,INDEX($BZ$29:$DC1688,MATCH($A171,$AZ$29:$AZ$1000,0),MATCH($AC$2,$BZ$18:$DC$18,0)),\"Yes\")","v":"Yes"},"Yes","Yes","Yes","Yes","Yes","Yes","Yes","Yes",{"$error":"#N/A"},{"$error":"#N/A"},"Yes","Yes","Yes","Yes",{"$error":"#N/A"},{"$error":"#N/A"},{"$error":"#N/A"},{"$error":"#N/A"},null,null,null,null,null,null,null,null,null,null,null,null,null,null,null,null,null,null,null,null,null,null,null,null,null,null,null,"Codiaeum variegatum","croton","croton, buena vista","croton","kesuk, croton","kurotong, croton","croton","croton","gachug, croton","croton, ut",0,2500,35,200,"Yes","No","Yes","Yes","No","Shrub","No","No",-4,"1-25","0-1",10,"Yes","No","Yes","No","Yes","No","Yes","No","Yes","No","Yes","No","Yes","No","Yes","No","Yes","No","Yes","No","Yes","No","Yes","No","Yes","No","Yes","No","Yes","No",null,null,null,null,null,null,null,"Yes","Yes","No","No","No","No","No","No","Yes","No","Yes","No","Yes","No","No","Yes","No","Yes",null,null,null,null,null,null,null,null,null,null,"",null,"",null,"","",null,null,null,null,null,null,null,null,null,null,null,null,"",null,"",null,"",""]
["Coffea arabica",{"$error":"#N/A"},"No","No","No",{"$f":"IF($I$4=TRUE,INDEX($BZ$29:$DC1689,MATCH($A172,$AZ$29:$AZ$1000,0),MATCH($AC$2,$BZ$18:$DC$18,0)),\"Yes\")","v":"Yes"},"Yes","Yes","Yes","Yes","Yes","Yes","Yes","Yes",{"$error":"#N/A"},{"$error":"#N/A"},"Yes","Yes","Yes","Yes",{"$error":"#N/A"},{"$error":"#N/A"},{"$error":"#N/A"},{"$error":"#N/A"},null,null,null,null,null,null,null,null,null,null,null,null,null,null,null,null,null,null,null,null,null,null,null,null,null,null,null,"Coffea arabica","coffee","coffee, kafe","coffee","coffee, kohi","coffee","coffee","coffee","coffee","coffee",20,4000,45,220,"Yes","Yes","No","No","No","Shrub","No","No",9,"1-25","1-3",12,"Yes","No","Yes","No","Yes","No","Yes","No","Yes","No","Yes","No","Yes","No","Yes","No","Yes","No","Yes","No","Yes","No","Yes","No","Yes","No","Yes","No","Yes","No",null,null,null,null,null,null,null,"No","No","No","No","No","No","No","No","No","No","No","No","No","No","No","No","No","No",null,null,null,null,null,null,null,null,null,null,"",null,"",null,"","",null,null,null,null,null,null,null,null,null,null,null,null,"",null,"",null,"",""]
["Colubrina asiatica",{"$error":"#N/A"},"Yes","No","No",{"$f":"IF($I$4=TRUE,INDEX($BZ$29:$DC1690,MATCH($A173,$AZ$29:$AZ$1000,0),MATCH($AC$2,$BZ$18:$DC$18,0)),\"Yes\")","v":"Yes"},"Yes","Yes","Yes","Yes","Yes","Yes","Yes","Yes",{"$error":"#N/A"},{"$error":"#N/A"},"Yes","Yes","Yes","Yes",{"$error":"#N/A"},{"$error":"#N/A"},{"$error":"#N/A"},{"$error":"#N/A"},null,null,null,null,null,null,null,null,null,null,null,null,null,null,null,null,null,null,null,null,null,null,null,null,null,null,null,"Colubrina asiatica","anapanapa","gasoso","fisoa","derikl","anapanapa","la","anapanapa","anapanapa","anapanapa",0,325,25,120,"Yes","No","Yes","Yes","Yes","Shrub","No","Yes","n/a","1-25","1-3",4,"No","Yes","Yes","Yes","Yes","No","Yes","Yes","Yes","Yes","Yes","Yes","Yes","Yes","No","No","No","No","No","No","Yes","No","No","No","No","No","No","No","No","No",null,null,null,null,null,null,null,"Yes","No","No","No","No","No","No","No","Yes","No","Yes","No","Yes","No","No","Yes","No","No",null,null,null,null,null,null,null,null,null,null,"",null,"",null,"","",null,null,null,null,null,null,null,null,null,null,null,null,"",null,"",null,"",""]
["Coprosma ernodeoides",{"$error":"#N/A"},"Yes","No","No",{"$f":"IF($I$4=TRUE,INDEX($BZ$29:$DC1691,MATCH($A174,$AZ$29:$AZ$1000,0),MATCH($AC$2,$BZ$18:$DC$18,0)),\"Yes\")","v":"Yes"},"Yes","Yes","Yes","Yes","Yes","Yes","Yes","Yes",{"$error":"#N/A"},{"$error":"#N/A"},"Yes","Yes","Yes","Yes",{"$error":"#N/A"},{"$error":"#N/A"},{"$error":"#N/A"},{"$error":"#N/A"},null,null,null,null,null,null,null,null,null,null,null,null,null,null,null,null,null,null,null,null,null,null,null,null,null,null,null,"Coprosma ernodeoides","kukaenene","kukaenene","kukaenene","kukaenene","kukaenene","kukaenene","kukaenene","kukaenene","kukaenene",4000,8500,20,120,"Yes","No","Yes","No","No","Shrub","No","Yes","n/a","0-1","1-3",0,"Yes","Yes","Yes","No","Yes","No","Yes","Yes","Yes","No","Yes","No","No","No","No","No","No","No","No","No","No","No","No","No","No","No","No","No","No","No",null,null,null,null,null,null,null,"Yes","No","No","No","No","No","No","No","Yes","No","Yes","No","Yes","No","No","Yes","No","No",null,null,null,null,null,null,null,null,null,null,"",null,"",null,"","",null,null,null,null,null,null,null,null,null,null,null,null,"",null,"",null,"",""]
["Coprosma montana",{"$error":"#N/A"},"Yes","No","No",{"$f":"IF($I$4=TRUE,INDEX($BZ$29:$DC1692,MATCH($A175,$AZ$29:$AZ$1000,0),MATCH($AC$2,$BZ$18:$DC$18,0)),\"Yes\")","v":"Yes"},"Yes","Yes","Yes","Yes","Yes","Yes","Yes","Yes",{"$error":"#N/A"},{"$error":"#N/A"},"Yes","Yes","Yes","Yes",{"$error":"#N/A"},{"$error":"#N/A"},{"$error":"#N/A"},{"$error":"#N/A"},null,null,null,null,null,null,null,null,null,null,null,null,null,null,null,null,null,null,null,null,null,null,null,null,null,null,null,"Coprosma montana","pilo - 1","pilo - 1","pilo - 1","pilo - 1","pilo - 1","pilo - 1","pilo - 1","pilo - 1","pilo - 1",4000,10000,20,80,"Yes","No","Yes","No","No","Shrub","No","Yes","n/a","1-25","1-3",15,"Yes","Yes","Yes","No","Yes","No","Yes","Yes","Yes","Yes","Yes","No","No","No","No","No","No","No","No","No","No","No","No","No","No","No","No","No","No","No",null,null,null,null,null,null,null,"Yes","Yes","No","No","No","No","No","No","Yes","No","Yes","No","Yes","No","No","Yes","No","No",null,null,null,null,null,null,null,null,null,null,"",null,"",null,"","",null,null,null,null,null,null,null,null,null,null,null,null,"",null,"",null,"",""]
["Coprosma ochracea",{"$error":"#N/A"},"Yes","No","No",{"$f":"IF($I$4=TRUE,INDEX($BZ$29:$DC1693,MATCH($A176,$AZ$29:$AZ$1000,0),MATCH($AC$2,$BZ$18:$DC$18,0)),\"Yes\")","v":"Yes"},"Yes","Yes","Yes","Yes","Yes","Yes","Yes","Yes",{"$error":"#N/A"},{"$error":"#N/A"},"Yes","Yes","Yes","Yes",{"$error":"#N/A"},{"$error":"#N/A"},{"$error":"#N/A"},{"$error":"#N/A"},null,null,null,null,null,null,null,null,null,null,null,null,null,null,null,null,null,null,null,null,null,null,null,null,null,null,null,"Coprosma ochracea","pilo - 2","pilo - 2","pilo - 2","pilo - 2","pilo - 2","pilo - 2","pilo - 2","pilo - 2","pilo - 2",2500,8700,80,200,"Yes","No","Yes","No","Yes","Shrub","No","Yes","n/a","1-25","1-3",12,"Yes","Yes","Yes","No","Yes","Yes","Yes","Yes","Yes","Yes","Yes","Yes","No","No","No","No","No","No","No","No","No","No","No","No","No","No","No","No","No","No",null,null,null,null,null,null,null,"Yes","No","No","No","No","No","No","No","Yes","No","No","No","Yes","No","No","Yes","No","No",null,null,null,null,null,null,null,null,null,null,"",null,"",null,"","",null,null,null,null,null,null,null,null,null,null,null,null,"",null,"",null,"",""]
["Coprosma rhynchocarpa",{"$error":"#N/A"},"Yes","No","No",{"$f":"IF($I$4=TRUE,INDEX($BZ$29:$DC1694,MATCH($A177,$AZ$29:$AZ$1000,0),MATCH($AC$2,$BZ$18:$DC$18,0)),\"Yes\")","v":"Yes"},"Yes","Yes","Yes","Yes","Yes","Yes","Yes","Yes",{"$error":"#N/A"},{"$error":"#N/A"},"Yes","Yes","Yes","Yes",{"$error":"#N/A"},{"$error":"#N/A"},{"$error":"#N/A"},{"$error":"#N/A"},null,null,null,null,null,null,null,null,null,null,null,null,null,null,null,null,null,null,null,null,null,null,null,null,null,null,null,"Coprosma rhynchocarpa","pilo - 3","pilo - 3","pilo - 3","pilo - 3","pilo - 3","pilo - 3","pilo - 3","pilo - 3","pilo - 3",1600,7400,50,150,"Yes","No","Yes","No","No","Tree","No","Yes","n/a","1-25","1-3",20,"Yes","Yes","Yes","No","Yes","No","Yes","Yes","Yes","No","Yes","No","No","No","No","No","No","No","No","No","No","No","No","No","No","No","No","No","No","No","Good for sun or shade, fast-growing.",null,null,null,null,null,null,"Yes","Yes","No","No","No","No","No","No","Yes","No","Yes","No","Yes","No","Yes","Yes","No","No",null,null,null,null,null,null,null,null,null,null,"8-15",null,"8-15",null,"8-15","8-15",null,null,null,null,null,null,null,null,null,null,null,null,"feet",null,"feet",null,"feet","feet"]
["Cordia subcordata",{"$error":"#N/A"},"Yes","No","No",{"$f":"IF($I$4=TRUE,INDEX($BZ$29:$DC1695,MATCH($A178,$AZ$29:$AZ$1000,0),MATCH($AC$2,$BZ$18:$DC$18,0)),\"Yes\")","v":"Yes"},"Yes","Yes","Yes","Yes","Yes","Yes","Yes","Yes",{"$error":"#N/A"},{"$error":"#N/A"},"Yes","Yes","Yes","Yes",{"$error":"#N/A"},{"$error":"#N/A"},{"$error":"#N/A"},{"$error":"#N/A"},null,null,null,null,null,null,null,null,null,null,null,null,null,null,null,null,null,null,null,null,null,null,null,null,null,null,null,"Cordia subcordata","kou, sea trumpet","niyoron, sea trumpet","tauanave, sea trumpet","kalau, badrirt, sea trumpet","ikoik, ahlew, sea trumpet","ikoik, sea trumpet","anau, anne, sea trumpet","galu, ganow,  sea trumpet","ko, kono, sea trumpet",0,500,25,200,"Yes","No","Yes","Yes","No","Tree","No","Yes",-3,"25-40","1-3",35,"Yes","Yes","Yes","Yes","Yes","Yes","Yes","Yes","Yes","Yes","Yes","Yes","Yes","Yes","Yes","Yes","Yes","Yes","Yes","Yes","Yes","Yes","Yes","Yes","Yes","Yes","Yes","Yes","Yes","Yes",null,null,null,null,null,null,null,"Yes","Yes","No","No","No","No","No","No","Yes","No","Yes","No","Yes","No","Yes","Yes","No","Yes",null,null,null,null,null,null,null,null,null,null,"10-20",null,"10-20",null,"10-20","10-20",null,null,null,null,null,null,null,null,null,null,null,null,"feet",null,"feet",null,"feet","feet"]
["Cordyline fruticosa",{"$error":"#N/A"},"Yes","No","No",{"$f":"IF($I$4=TRUE,INDEX($BZ$29:$DC1696,MATCH($A179,$AZ$29:$AZ$1000,0),MATCH($AC$2,$BZ$18:$DC$18,0)),\"Yes\")","v":"Yes"},"Yes","Yes","Yes","Yes","Yes","Yes","Yes","Yes",{"$error":"#N/A"},{"$error":"#N/A"},"Yes","Yes","Yes","Yes",{"$error":"#N/A"},{"$error":"#N/A"},{"$error":"#N/A"},{"$error":"#N/A"},null,null,null,null,null,null,null,null,null,null,null,null,null,null,null,null,null,null,null,null,null,null,null,null,null,null,null,"Cordyline fruticosa","ti, ki, lai","ti ","ti, lau ti","sis","dihng ","ingingkal","ira, tiin","riich, ti ","ti ",0,3000,30,220,"Yes","No","Yes","Yes","No","Shrub","No","No",4,"1-25","1-3",10,"Yes","No","Yes","No","Yes","No","Yes","No","Yes","No","Yes","No","Yes","No","Yes","Yes","Yes","Yes","Yes","No","Yes","No","Yes","No","Yes","No","Yes","Yes","Yes","No","Grows from cuttings.","Indigenous in Guam, CNMI, Palau, Cultivated in Pohnpei, Aboriginal intro Hawaii and AmSam",null,null,null,null,null,"Yes","Yes","No","No","No","No","No","No","Yes","No","Yes","No","Yes","No","No","Yes","No","Yes",null,null,null,null,null,null,null,null,null,null,"",null,"",null,"","",null,null,null,null,null,null,null,null,null,null,null,null,"",null,"",null,"",""]
["Corymbia citriodora ",{"$error":"#N/A"},"Yes","No","No",{"$f":"IF($I$4=TRUE,INDEX($BZ$29:$DC1697,MATCH($A180,$AZ$29:$AZ$1000,0),MATCH($AC$2,$BZ$18:$DC$18,0)),\"Yes\")","v":"Yes"},"Yes","Yes","Yes","Yes","Yes","Yes","Yes","Yes",{"$error":"#N/A"},{"$error":"#N/A"},"Yes","Yes","Yes","Yes",{"$error":"#N/A"},{"$error":"#N/A"},{"$error":"#N/A"},{"$error":"#N/A"},null,null,null,null,null,null,null,null,null,null,null,null,null,null,null,null,null,null,null,null,null,null,null,null,null,null,null,"Corymbia citriodora ","lemon-scented gum","lemon-scented gum","lemon-scented gum","lemon-scented gum","lemon-scented gum","lemon-scented gum","lemon-scented gum","lemon-scented gum","lemon-scented gum",100,3600,25,100,"Yes","No","Yes","No","No","Tree","No","No",10,"40+","3+",60,"Yes","No","Yes","No","Yes","No","Yes","No","Yes","No","Yes","No","No","No","No","No","No","No","No","No","No","No","No","No","No","No","No","No","No","No",null,null,null,null,null,null,null,"Yes","Yes","No","No","No","No","No","No","Yes","No","Yes","No","Yes","No","Yes","Yes","No","Yes",null,null,null,null,null,null,null,null,null,null,"10-20",null,"10-20",null,"10-20","10-20",null,null,null,null,null,null,null,null,null,null,null,null,"feet",null,"feet",null,"feet","feet"]
["Crotalaria juncea",{"$error":"#N/A"},"Yes","No","No",{"$f":"IF($I$4=TRUE,INDEX($BZ$29:$DC1698,MATCH($A181,$AZ$29:$AZ$1000,0),MATCH($AC$2,$BZ$18:$DC$18,0)),\"Yes\")","v":"Yes"},"Yes","Yes","Yes","Yes","Yes","Yes","Yes","Yes",{"$error":"#N/A"},{"$error":"#N/A"},"Yes","Yes","Yes","Yes",{"$error":"#N/A"},{"$error":"#N/A"},{"$error":"#N/A"},{"$error":"#N/A"},null,null,null,null,null,null,null,null,null,null,null,null,null,null,null,null,null,null,null,null,null,null,null,null,null,null,null,"Crotalaria juncea","sunn hemp","sunn hemp","sunn hemp","sunn hemp","sunn hemp","sunn hemp","sunn hemp","sunn hemp","sunn hemp",20,2500,20,200,"Yes","No","No","No","No","Herb","Yes","Yes",1,"1-25","3+",0,"Yes","No","Yes","No","Yes","No","Yes","No","Yes","No","Yes","No","Yes","No","Yes","No","Yes","No","Yes","No","Yes","No","Yes","No","Yes","No","Yes","No","Yes","No","This species performs best in a soil with a pH range of 5.0-7.0.  When allowed to grow for 60 days a producer should expect 2.5 tons of above ground biomass which will contain approximately 65 lbs of Nitrogen per ton.",null,"WS",null,null,null,null,"Yes","No","No","Yes","No","No","No","No","No","No","No","No","No","No","No","No","No","No",null,null,null,50,40,null,null,null,null,null,"",null,"",null,"","",null,null,null,null,null,"lbs/ac","lbs/ac",null,null,null,null,null,"",null,"",null,"",""]
["Cryptomaria japonica",{"$error":"#N/A"},"Yes","No","No",{"$f":"IF($I$4=TRUE,INDEX($BZ$29:$DC1699,MATCH($A182,$AZ$29:$AZ$1000,0),MATCH($AC$2,$BZ$18:$DC$18,0)),\"Yes\")","v":"Yes"},"Yes","Yes","Yes","Yes","Yes","Yes","Yes","Yes",{"$error":"#N/A"},{"$error":"#N/A"},"Yes","Yes","Yes","Yes",{"$error":"#N/A"},{"$error":"#N/A"},{"$error":"#N/A"},{"$error":"#N/A"},null,null,null,null,null,null,null,null,null,null,null,null,null,null,null,null,null,null,null,null,null,null,null,null,null,null,null,"Cryptomaria japonica","sugi","sugi","sugi","sugi","sugi","sugi","sugi","sugi","sugi",1500,6000,50,120,"Yes","No","Yes","No","No","Tree","No","No",-3,"40+","1-3",45,"Yes","No","Yes","No","Yes","No","Yes","No","Yes","No","Yes","No","No","No","Yes","No","Yes","No","No","No","No","No","No","No","No","No","No","No","No","No",null,null,null,null,null,null,null,"Yes","Yes","No","No","No","No","No","No","Yes","No","Yes","No","Yes","No","Yes","Yes","No","Yes",null,null,null,null,null,null,null,null,null,null,"8-15",null,"8-15",null,"8-15","8-15",null,null,null,null,null,null,null,null,null,null,null,null,"feet",null,"feet",null,"feet","feet"]
["Cunninghamia lanceolata",{"$error":"#N/A"},"Yes","No","No",{"$f":"IF($I$4=TRUE,INDEX($BZ$29:$DC1700,MATCH($A183,$AZ$29:$AZ$1000,0),MATCH($AC$2,$BZ$18:$DC$18,0)),\"Yes\")","v":"Yes"},"Yes","Yes","Yes","Yes","Yes","Yes","Yes","Yes",{"$error":"#N/A"},{"$error":"#N/A"},"Yes","Yes","Yes","Yes",{"$error":"#N/A"},{"$error":"#N/A"},{"$error":"#N/A"},{"$error":"#N/A"},null,null,null,null,null,null,null,null,null,null,null,null,null,null,null,null,null,null,null,null,null,null,null,null,null,null,null,"Cunninghamia lanceolata","Chinese fir","Chinese fir","Chinese fir","Chinese fir","Chinese fir","Chinese fir","Chinese fir","Chinese fir","Chinese fir",2000,6000,40,120,"Yes","No","Yes","No","No","Tree","No","No",3,"40+","1-3",45,"Yes","No","Yes","No","Yes","No","Yes","No","Yes","No","Yes","No","No","No","No","No","No","No","No","No","No","No","No","No","No","No","No","No","No","No",null,null,null,null,null,null,null,"Yes","Yes","No","No","No","No","No","No","Yes","No","Yes","No","Yes","No","Yes","Yes","No","Yes",null,null,null,null,null,null,null,null,null,null,"8-15",null,"8-15",null,"8-15","8-15",null,null,null,null,null,null,null,null,null,null,null,null,"feet",null,"feet",null,"feet","feet"]
["Cupressus lusitanica",{"$error":"#N/A"},"Yes","No","No",{"$f":"IF($I$4=TRUE,INDEX($BZ$29:$DC1701,MATCH($A184,$AZ$29:$AZ$1000,0),MATCH($AC$2,$BZ$18:$DC$18,0)),\"Yes\")","v":"Yes"},"Yes","Yes","Yes","Yes","Yes","Yes","Yes","Yes",{"$error":"#N/A"},{"$error":"#N/A"},"Yes","Yes","Yes","Yes",{"$error":"#N/A"},{"$error":"#N/A"},{"$error":"#N/A"},{"$error":"#N/A"},null,null,null,null,null,null,null,null,null,null,null,null,null,null,null,null,null,null,null,null,null,null,null,null,null,null,null,"Cupressus lusitanica","Mexican (Portugese) cypress","Mexican (Portugese) cypress","Mexican (Portugese) cypress","Mexican (Portugese) cypress","Mexican (Portugese) cypress","Mexican (Portugese) cypress","Mexican (Portugese) cypress","Mexican (Portugese) cypress","Mexican (Portugese) cypress",20,3000,40,120,"Yes","No","Yes","No","No","Tree","No","No",6,"40+","1-3",45,"Yes","No","Yes","No","Yes","No","Yes","No","Yes","No","Yes","No","No","No","No","No","No","No","No","No","No","No","No","No","No","No","No","No","No","No",null,null,null,null,null,null,null,"Yes","Yes","No","No","No","No","No","No","Yes","No","Yes","No","Yes","No","Yes","Yes","No","Yes",null,null,null,null,null,null,null,null,null,null,"8-20",null,"8-20",null,"8-20","8-20",null,null,null,null,null,null,null,null,null,null,null,null,"feet",null,"feet",null,"feet","feet"]
["Cupressus macrocarpa",{"$error":"#N/A"},"Yes","No","No",{"$f":"IF($I$4=TRUE,INDEX($BZ$29:$DC1702,MATCH($A185,$AZ$29:$AZ$1000,0),MATCH($AC$2,$BZ$18:$DC$18,0)),\"Yes\")","v":"Yes"},"Yes","Yes","Yes","Yes","Yes","Yes","Yes","Yes",{"$error":"#N/A"},{"$error":"#N/A"},"Yes","Yes","Yes","Yes",{"$error":"#N/A"},{"$error":"#N/A"},{"$error":"#N/A"},{"$error":"#N/A"},null,null,null,null,null,null,null,null,null,null,null,null,null,null,null,null,null,null,null,null,null,null,null,null,null,null,null,"Cupressus macrocarpa","Monterey cypress","Monterey cypress","Monterey cypress","Monterey cypress","Monterey cypress","Monterey cypress","Monterey cypress","Monterey cypress","Monterey cypress",1500,5000,40,120,"Yes","No","Yes","No","No","Tree","No","No",7,"40+","0-1",40,"Yes","No","Yes","No","Yes","No","Yes","No","Yes","No","Yes","No","No","No","No","No","No","No","No","No","No","No","No","No","No","No","No","No","No","No","Monterey cypress should only be planted in deeper soils.","naturalized in E. Maui",null,null,null,null,null,"Yes","Yes","No","No","No","No","No","No","Yes","No","Yes","No","Yes","No","Yes","Yes","No","Yes",null,null,null,null,null,null,null,null,null,null,"8-20",null,"8-20",null,"8-20","8-20",null,null,null,null,null,null,null,null,null,null,null,null,"feet",null,"feet",null,"feet","feet"]
["Cupressus sempervirens",{"$error":"#N/A"},"Yes","No","No",{"$f":"IF($I$4=TRUE,INDEX($BZ$29:$DC1703,MATCH($A186,$AZ$29:$AZ$1000,0),MATCH($AC$2,$BZ$18:$DC$18,0)),\"Yes\")","v":"Yes"},"Yes","Yes","Yes","Yes","Yes","Yes","Yes","Yes",{"$error":"#N/A"},{"$error":"#N/A"},"Yes","Yes","Yes","Yes",{"$error":"#N/A"},{"$error":"#N/A"},{"$error":"#N/A"},{"$error":"#N/A"},null,null,null,null,null,null,null,null,null,null,null,null,null,null,null,null,null,null,null,null,null,null,null,null,null,null,null,"Cupressus sempervirens","Italian cypress","Italian cypress","Italian cypress","Italian cypress","Italian cypress","Italian cypress","Italian cypress","Italian cypress","Italian cypress",20,4000,30,120,"Yes","No","Yes","No","No","Tree","No","No",9,"25-40","0-1",40,"Yes","No","Yes","No","Yes","No","Yes","No","Yes","No","Yes","No","No","No","Yes","No","Yes","No","No","No","No","No","No","No","No","No","No","No","No","No",null,"Naturalized in Guam",null,null,null,null,null,"Yes","No","No","No","No","No","No","No","Yes","No","No","No","No","No","No","Yes","No","Yes",null,null,null,null,null,null,null,null,null,null,"8-20",null,"8-20",null,"8-20","8-20",null,null,null,null,null,null,null,null,null,null,null,null,"feet",null,"feet",null,"feet","feet"]
["Cycas micronesica",{"$error":"#N/A"},"Yes","No","No",{"$f":"IF($I$4=TRUE,INDEX($BZ$29:$DC1704,MATCH($A187,$AZ$29:$AZ$1000,0),MATCH($AC$2,$BZ$18:$DC$18,0)),\"Yes\")","v":"Yes"},"Yes","Yes","Yes","Yes","Yes","Yes","Yes","Yes",{"$error":"#N/A"},{"$error":"#N/A"},"Yes","Yes","Yes","Yes",{"$error":"#N/A"},{"$error":"#N/A"},{"$error":"#N/A"},{"$error":"#N/A"},null,null,null,null,null,null,null,null,null,null,null,null,null,null,null,null,null,null,null,null,null,null,null,null,null,null,null,"Cycas micronesica","fadang","fadang","fadang","kokael","fadang","fadang","fadang","fadang","fadang",0,1700,80,300,"Yes","Yes","Yes","Yes","no","Tree","Yes","Yes","n/a","1-25","0-1",20,"No","No","No","No","No","No","No","No","No","No","No","No","No","No","Yes","Yes","Yes","Yes","No","No","No","No","No","No","Yes","Yes","Yes","Yes","No","No","Under threat from invasive arthropods.",null,null,null,null,null,null,"Yes","No","No","No","No","No","No","No","Yes","No","Yes","No","Yes","No","No","Yes","no","Yes",null,null,null,null,null,null,null,null,null,null,"8-15",null,"8-15",null,"8-15","8-15",null,null,null,null,null,null,null,null,null,null,null,null,"feet",null,"feet",null,"feet","feet"]
["Cymbopogon citratus (hand planted)",{"$error":"#N/A"},"Yes","No","No",{"$f":"IF($I$4=TRUE,INDEX($BZ$29:$DC1705,MATCH($A188,$AZ$29:$AZ$1000,0),MATCH($AC$2,$BZ$18:$DC$18,0)),\"Yes\")","v":"Yes"},"Yes","Yes","Yes","Yes","Yes","Yes","Yes","Yes",{"$error":"#N/A"},{"$error":"#N/A"},"Yes","Yes","Yes","Yes",{"$error":"#N/A"},{"$error":"#N/A"},{"$error":"#N/A"},{"$error":"#N/A"},null,null,null,null,null,null,null,null,null,null,null,null,null,null,null,null,null,null,null,null,null,null,null,null,null,null,null,"Cymbopogon citratus (hand planted)","lemongrass (hand planted)","lemongrass (hand planted)","lemongrass (hand planted)","lemongrass (hand planted)","lemongrass (hand planted)","lemongrass (hand planted)","lemongrass (hand planted)","lemongrass (hand planted)","lemongrass (hand planted)",0,4000,50,200,"Yes","No","Yes","No","No","Herb","No","No",-2,"1-25","1-3",3,"Yes","No","Yes","No","Yes","No","Yes","No","Yes","No","Yes","No","Yes","No","Yes","No","Yes","No","Yes","No","Yes","No","Yes","No","Yes","No","Yes","No","Yes","No",null,null,null,null,null,null,null,"Yes","No","No","No","No","No","No","No","Yes","No","No","No","No","No","No","No","Yes","No",null,null,null,null,null,null,null,null,null,null,"",null,"",null,"","",2,null,null,null,null,null,null,null,null,null,null,null,"",null,"",null,"","","per ft"]
["Cynodon dactylon (hand planted)",{"$error":"#N/A"},"Yes","No","No",{"$f":"IF($I$4=TRUE,INDEX($BZ$29:$DC1706,MATCH($A189,$AZ$29:$AZ$1000,0),MATCH($AC$2,$BZ$18:$DC$18,0)),\"Yes\")","v":"Yes"},"Yes","Yes","Yes","Yes","Yes","Yes","Yes","Yes",{"$error":"#N/A"},{"$error":"#N/A"},"Yes","Yes","Yes","Yes",{"$error":"#N/A"},{"$error":"#N/A"},{"$error":"#N/A"},{"$error":"#N/A"},null,null,null,null,null,null,null,null,null,null,null,null,null,null,null,null,null,null,null,null,null,null,null,null,null,null,null,"Cynodon dactylon (hand planted)","Bermudagrass (hand planted)","Bermudagrass (hand planted)","Bermudagrass (hand planted)","Bermudagrass (hand planted)","Bermudagrass (hand planted)","Bermudagrass (hand planted)","Bermudagrass (hand planted)","Bermudagrass (hand planted)","Bermudagrass (hand planted)",0,3000,20,170,"Yes","No","Yes","Yes","No","Herb","No","No",22,"0-1","3+",0,"Yes","No","Yes","No","Yes","No","Yes","No","Yes","No","Yes","No","Yes","No","Yes","No","Yes","No","Yes","No","Yes","No","Yes","No","Yes","No","Yes","No","Yes","No",null,null,null,null,null,null,null,"Yes","No","Yes","No","Yes","Yes","Yes","No","No","No","No","No","No","Yes","No","No","No","No",null,null,1,null,1,1,1,1,null,null,"",1,"",null,"","",null,null,null,null,"4' x 4'",null,"3' x 3'","3' x 3'","4' x 4'","6' x 6'",null,null,"","6' x 6'","",null,"",""]
["Cynodon dactylon (seeded)",{"$error":"#N/A"},"Yes","No","No",{"$f":"IF($I$4=TRUE,INDEX($BZ$29:$DC1707,MATCH($A190,$AZ$29:$AZ$1000,0),MATCH($AC$2,$BZ$18:$DC$18,0)),\"Yes\")","v":"Yes"},"Yes","Yes","Yes","Yes","Yes","Yes","Yes","Yes",{"$error":"#N/A"},{"$error":"#N/A"},"Yes","Yes","Yes","Yes",{"$error":"#N/A"},{"$error":"#N/A"},{"$error":"#N/A"},{"$error":"#N/A"},null,null,null,null,null,null,null,null,null,null,null,null,null,null,null,null,null,null,null,null,null,null,null,null,null,null,null,"Cynodon dactylon (seeded)","Bermudagrass (seeded)","Bermudagrass (seeded)","Bermudagrass (seeded)","Bermudagrass (seeded)","Bermudagrass (seeded)","Bermudagrass (seeded)","Bermudagrass (seeded)","Bermudagrass (seeded)","Bermudagrass (seeded)",0,3000,20,170,"Yes","No","Yes","Yes","No","Herb","No","No",22,"0-1","3+",0,"Yes","No","Yes","No","Yes","No","Yes","No","Yes","No","Yes","No","Yes","No","Yes","No","Yes","No","Yes","No","Yes","No","Yes","No","Yes","No","Yes","No","Yes","No",null,null,null,null,null,null,null,"Yes","No","Yes","No","Yes","Yes","Yes","Yes","No","No","No","Yes","No","No","No","No","No","No",null,null,6,null,35,35,6,5,null,null,"",2,"",null,"","",null,null,null,null,"lbs/ac",null,"lbs/ac","lbs/ac","lbs/ac","lbs/ac",null,null,"","lbs/ac","",null,"",""]
["Cynodon dactylon (sprigged)",{"$error":"#N/A"},"Yes","No",{"$f":"IF(A$2=\"Cover Crop (340)\",\"Yes\",IF(ISBLANK($C$7),\"No\",IF(AND($C$7>=BJ191,$C$7<=BK191),\"Yes\",\"No\")))","v":"No"},{"$f":"IF($I$4=TRUE,INDEX($BZ$29:$DC1708,MATCH($A191,$AZ$29:$AZ$1000,0),MATCH($AC$2,$BZ$18:$DC$18,0)),\"Yes\")","v":"Yes"},"Yes","Yes","Yes","Yes","Yes","Yes","Yes","Yes",{"$error":"#N/A"},{"$error":"#N/A"},"Yes","Yes","Yes","Yes",{"$error":"#N/A"},{"$error":"#N/A"},{"$error":"#N/A"},{"$error":"#N/A"},null,null,null,null,null,null,null,null,null,null,null,null,null,null,null,null,null,null,null,null,null,null,null,null,null,null,null,"Cynodon dactylon (sprigged)","Bermudagrass (sprigged)","Bermudagrass (sprigged)","Bermudagrass (sprigged)","Bermudagrass (sprigged)","Bermudagrass (sprigged)","Bermudagrass (sprigged)","Bermudagrass (sprigged)","Bermudagrass (sprigged)","Bermudagrass (sprigged)",0,3000,20,170,"Yes","No","Yes","Yes","No","Herb","No","No",22,"0-1","3+",0,"Yes","No","Yes","No","Yes","No","Yes","No","Yes","No","Yes","No","Yes","No","Yes","No","Yes","No","Yes","No","Yes","No","Yes","No","Yes","No","Yes","No","Yes","No","Recommended spacing for planted stolons is 6' x 6'",null,null,null,null,null,null,"Yes","No","Yes","No","Yes","Yes","Yes","Yes","No","No","No","Yes","No","No","No","No","No","No",null,null,40,null,80,80,40,40,null,null,"",40,"",null,"","",null,null,null,null,"bu/ac",null,"bu/ac","bu/ac","bu/ac","bu/ac",null,null,"","bu/ac","",null,"",""]
["Cynodon nlemfuensis (hand planted)",{"$error":"#N/A"},"Yes","No","No",{"$f":"IF($I$4=TRUE,INDEX($BZ$29:$DC1709,MATCH($A192,$AZ$29:$AZ$1000,0),MATCH($AC$2,$BZ$18:$DC$18,0)),\"Yes\")","v":"Yes"},"Yes","Yes","Yes","Yes","Yes","Yes","Yes","Yes",{"$error":"#N/A"},{"$error":"#N/A"},"Yes","Yes","Yes","Yes",{"$error":"#N/A"},{"$error":"#N/A"},{"$error":"#N/A"},{"$error":"#N/A"},null,null,null,null,null,null,null,null,null,null,null,null,null,null,null,null,null,null,null,null,null,null,null,null,null,null,null,"Cynodon nlemfuensis (hand planted)","stargrass, Puerto Rican(hand planted)","yerba estrella, stargrass, Puerto Rican(hand planted)","stargrass, Puerto Rican(hand planted)","stargrass, Puerto Rican(hand planted)","stargrass, Puerto Rican(hand planted)","stargrass, Puerto Rican(hand planted)","stargrass, Puerto Rican(hand planted)","stargrass, Puerto Rican(hand planted)","stargrass, Puerto Rican(hand planted)",0,3000,20,80,"Yes","No","Yes","Yes","No","Herb","No","No","n/a","0-1","3+",0,"Yes","No","Yes","No","Yes","No","Yes","No","Yes","No","Yes","No","Yes","No","Yes","No","Yes","No","Yes","No","Yes","No","Yes","No","Yes","No","Yes","No","Yes","No",null,null,null,null,null,null,null,"Yes","No","No","No","Yes","No","Yes","No","No","No","No","No","No","Yes","No","No","No","No",null,null,null,null,1,null,1,1,null,null,"",1,"",null,"","",null,null,null,null,null,null,"3' x 3'",null,"4' x 4'","6' x 6'",null,null,"","6' x 6'","",null,"",""]
["Cynodon nlemfuensis (sprigged)",{"$error":"#N/A"},"Yes","No","No",{"$f":"IF($I$4=TRUE,INDEX($BZ$29:$DC1710,MATCH($A193,$AZ$29:$AZ$1000,0),MATCH($AC$2,$BZ$18:$DC$18,0)),\"Yes\")","v":"Yes"},"Yes","Yes","Yes","Yes","Yes","Yes","Yes","Yes",{"$error":"#N/A"},{"$error":"#N/A"},"Yes","Yes","Yes","Yes",{"$error":"#N/A"},{"$error":"#N/A"},{"$error":"#N/A"},{"$error":"#N/A"},null,null,null,null,null,null,null,null,null,null,null,null,null,null,null,null,null,null,null,null,null,null,null,null,null,null,null,"Cynodon nlemfuensis (sprigged)","stargrass, Puerto Rican (sprigged)","yerba estrella, stargrass, Puerto Rican (sprigged)","stargrass, Puerto Rican (sprigged)","stargrass, Puerto Rican (sprigged)","stargrass, Puerto Rican (sprigged)","stargrass, Puerto Rican (sprigged)","stargrass, Puerto Rican (sprigged)","stargrass, Puerto Rican (sprigged)","stargrass, Puerto Rican (sprigged)",0,3000,20,80,"Yes","No","Yes","Yes","No","Herb","No","No","n/a","0-1","3+",0,"Yes","No","Yes","No","Yes","No","Yes","No","Yes","No","Yes","No","Yes","No","Yes","No","Yes","No","Yes","No","Yes","No","Yes","No","Yes","No","Yes","No","Yes","No","Recommended spacing for planted stolons is 6' x 6'",null,null,null,null,null,null,"Yes","No","No","No","Yes","No","Yes","Yes","No","No","No","Yes","No","Yes","No","No","No","No",null,null,null,null,80,null,40,40,null,null,"",40,"",null,"","",null,null,null,null,null,null,"bu/ac",null,"bu/ac","bu/ac",null,null,"","bu/ac","",null,"",""]
["Cynodon plectostachyus (hand Planted)",{"$error":"#N/A"},"Yes","No","No",{"$f":"IF($I$4=TRUE,INDEX($BZ$29:$DC1711,MATCH($A194,$AZ$29:$AZ$1000,0),MATCH($AC$2,$BZ$18:$DC$18,0)),\"Yes\")","v":"Yes"},"Yes","Yes","Yes","Yes","Yes","Yes","Yes","Yes",{"$error":"#N/A"},{"$error":"#N/A"},"Yes","Yes","Yes","Yes",{"$error":"#N/A"},{"$error":"#N/A"},{"$error":"#N/A"},{"$error":"#N/A"},null,null,null,null,null,null,null,null,null,null,null,null,null,null,null,null,null,null,null,null,null,null,null,null,null,null,null,"Cynodon plectostachyus (hand Planted)","stargrass, South Point (hand planted)","stargrass, South Point (hand planted)","stargrass, South Point (hand planted)","stargrass, South Point (hand planted)","stargrass, South Point (hand planted)","stargrass, South Point (hand planted)","stargrass, South Point (hand planted)","stargrass, South Point (hand planted)","stargrass, South Point (hand planted)",0,3000,20,80,"Yes","No","Yes","Yes","No","Herb","No","No","n/a","0-1","3+",0,"Yes","No","Yes","No","Yes","No","Yes","No","Yes","No","Yes","No","Yes","No","Yes","No","Yes","No","Yes","No","Yes","No","Yes","No","Yes","No","Yes","No","Yes","No",null,null,null,null,null,null,null,"Yes","No","No","No","Yes","No","Yes","No","No","No","No","No","No","Yes","No","No","No","No",null,null,null,null,1,null,1,1,null,null,"",1,"",null,"","",null,null,null,null,null,null,"3' x 3'",null,"4' x 4'","6' x 6'",null,null,"","6' x 6'","",null,"",""]
["Cynodon plectostachyus (sprigged)",{"$error":"#N/A"},"Yes","No","No",{"$f":"IF($I$4=TRUE,INDEX($BZ$29:$DC1712,MATCH($A195,$AZ$29:$AZ$1000,0),MATCH($AC$2,$BZ$18:$DC$18,0)),\"Yes\")","v":"Yes"},"Yes","Yes","Yes","Yes","Yes","Yes","Yes","Yes",{"$error":"#N/A"},{"$error":"#N/A"},"Yes","Yes","Yes","Yes",{"$error":"#N/A"},{"$error":"#N/A"},{"$error":"#N/A"},{"$error":"#N/A"},null,null,null,null,null,null,null,null,null,null,null,null,null,null,null,null,null,null,null,null,null,null,null,null,null,null,null,"Cynodon plectostachyus (sprigged)","stargrass, South Point (sprigged)","stargrass, South Point (sprigged)","stargrass, South Point (sprigged)","stargrass, South Point (sprigged)","stargrass, South Point (sprigged)","stargrass, South Point (sprigged)","stargrass, South Point (sprigged)","stargrass, South Point (sprigged)","stargrass, South Point (sprigged)",0,3000,20,80,"Yes","No","Yes","Yes","No","Herb","No","No","n/a","0-1","3+",0,"Yes","No","Yes","No","Yes","No","Yes","No","Yes","No","Yes","No","Yes","No","Yes","No","Yes","No","Yes","No","Yes","No","Yes","No","Yes","No","Yes","No","Yes","No","Recommended spacing for planted stolons is 6' x 6'",null,null,null,null,null,null,"Yes","No","No","No","Yes","No","Yes","Yes","No","No","No","Yes","No","Yes","No","No","No","No",null,null,null,null,80,null,40,40,null,null,"",40,"",null,"","",null,null,null,null,null,null,"bu/ac",null,"bu/ac","bu/ac",null,null,"","bu/ac","",null,"",""]
["Cynometra ramiflora",{"$error":"#N/A"},"Yes","No","No",{"$f":"IF($I$4=TRUE,INDEX($BZ$29:$DC1713,MATCH($A196,$AZ$29:$AZ$1000,0),MATCH($AC$2,$BZ$18:$DC$18,0)),\"Yes\")","v":"Yes"},"Yes","Yes","Yes","Yes","Yes","Yes","Yes","Yes",{"$error":"#N/A"},{"$error":"#N/A"},"Yes","Yes","Yes","Yes",{"$error":"#N/A"},{"$error":"#N/A"},{"$error":"#N/A"},{"$error":"#N/A"},null,null,null,null,null,null,null,null,null,null,null,null,null,null,null,null,null,null,null,null,null,null,null,null,null,null,null,"Cynometra ramiflora","gulos","gulos","gulos","kelengui","koamoau, kahsilah","koamoau, kahsilah","koamoau, kahsilah","koamoau, kahsilah","gulos",0,1700,70,120,"Yes","Yes","Yes","Yes","Yes","Tree","No","Yes","n/a","1-25","1-3",20,"No","No","No","No","No","No","No","No","No","No","No","No","No","No","Yes","Yes","Yes","Yes","Yes","Yes","Yes","No","Yes","No","Yes","No","Yes","Yes","No","No",null,null,null,null,null,null,null,"Yes","Yes","No","No","No","No","No","No","Yes","No","Yes","No","Yes","No","No","Yes","No","Yes",null,null,null,null,null,null,null,null,null,null,"8-15",null,"8-15",null,"8-15","8-15",null,null,null,null,null,null,null,null,null,null,null,null,"feet",null,"feet",null,"feet","feet"]
["Cyperus javanicus ",{"$error":"#N/A"},"Yes","No","No",{"$f":"IF($I$4=TRUE,INDEX($BZ$29:$DC1714,MATCH($A197,$AZ$29:$AZ$1000,0),MATCH($AC$2,$BZ$18:$DC$18,0)),\"Yes\")","v":"Yes"},"Yes","Yes","Yes","Yes","Yes","Yes","Yes","Yes",{"$error":"#N/A"},{"$error":"#N/A"},"Yes","Yes","Yes","Yes",{"$error":"#N/A"},{"$error":"#N/A"},{"$error":"#N/A"},{"$error":"#N/A"},null,null,null,null,null,null,null,null,null,null,null,null,null,null,null,null,null,null,null,null,null,null,null,null,null,null,null,"Cyperus javanicus ","marsh cyperus","marsh cyperus","marsh cyperus","marsh cyperus","use, marsh cyperus","mahtok, marsh cyperus","nikaunon, marsh cyperus","pulpul, marsh cyperus","sap sap, ujoet, marsh cyperus",0,500,80,200,"Yes","No","Yes","No","Yes","Herb","No","No","n/a","0-1","3+",0,"Yes","Yes","Yes","Yes","Yes","Yes","Yes","Yes","Yes","Yes","Yes","Yes","Yes","Yes","Yes","Yes","Yes","Yes","Yes","Yes","Yes","Yes","Yes","Yes","Yes","Yes","Yes","Yes","Yes","Yes",null,null,null,null,null,null,null,"Yes","No","No","No","No","No","No","No","No","No","No","No","No","Yes","No","No","No","No",null,null,null,null,null,null,null,null,null,null,"",null,"",null,"","",null,null,null,null,null,null,null,null,null,null,null,null,"",null,"",null,"",""]
["Cyperus polystachyos",{"$error":"#N/A"},"Yes","No","No",{"$f":"IF($I$4=TRUE,INDEX($BZ$29:$DC1715,MATCH($A198,$AZ$29:$AZ$1000,0),MATCH($AC$2,$BZ$18:$DC$18,0)),\"Yes\")","v":"Yes"},"Yes","Yes","Yes","Yes","Yes","Yes","Yes","Yes",{"$error":"#N/A"},{"$error":"#N/A"},"Yes","Yes","Yes","Yes",{"$error":"#N/A"},{"$error":"#N/A"},{"$error":"#N/A"},{"$error":"#N/A"},null,null,null,null,null,null,null,null,null,null,null,null,null,null,null,null,null,null,null,null,null,null,null,null,null,null,null,"Cyperus polystachyos","bunchy sedge, Texan flatsedge","bunchy sedge, Texan flatsedge","bunchy sedge, Texan flatsedge","bunchy sedge, Texan flatsedge","bunchy sedge, Texan flatsedge","bunchy sedge, Texan flatsedge","bunchy sedge, Texan flatsedge","bunchy sedge, Texan flatsedge","bunchy sedge, Texan flatsedge",0,5200,50,200,"Yes","No","Yes","No","Yes","Herb","No","No","n/a","0-1","3+",0,"Yes","Yes","Yes","Yes","Yes","Yes","Yes","Yes","Yes","Yes","Yes","Yes","Yes","No","Yes","Yes","Yes","Yes","Yes","No","Yes","Yes","Yes","Yes","Yes","Yes","Yes","Yes","Yes","Yes",null,null,null,null,null,null,null,"Yes","No","no","No","No","No","no","No","No","No","No","No","No","Yes","No","No","No","No",null,null,null,null,null,null,null,null,null,null,"",null,"",null,"","",null,null,null,null,null,null,null,null,null,null,null,null,"",null,"",null,"",""]
["Dactylis glomerata",{"$error":"#N/A"},"Yes","No","No",{"$f":"IF($I$4=TRUE,INDEX($BZ$29:$DC1716,MATCH($A199,$AZ$29:$AZ$1000,0),MATCH($AC$2,$BZ$18:$DC$18,0)),\"Yes\")","v":"Yes"},"Yes","Yes","Yes","Yes","Yes","Yes","Yes","Yes",{"$error":"#N/A"},{"$error":"#N/A"},"Yes","Yes","Yes","Yes",{"$error":"#N/A"},{"$error":"#N/A"},{"$error":"#N/A"},{"$error":"#N/A"},null,null,null,null,null,null,null,null,null,null,null,null,null,null,null,null,null,null,null,null,null,null,null,null,null,null,null,"Dactylis glomerata","orchardgrass","orchardgrass","orchardgrass","orchardgrass","orchardgrass","orchardgrass","orchardgrass","orchardgrass","orchardgrass",3000,7000,40,100,"Yes","No","Yes","No","No","Herb","No","No",18,"0-1","3+",0,"Yes","No","Yes","No","Yes","No","Yes","No","Yes","No","Yes","No","Yes","No","Yes","No","Yes","No","Yes","No","Yes","No","Yes","No","Yes","No","Yes","No","Yes","No",null,null,"CS",null,null,null,null,"Yes","No","Yes","No","Yes","No","Yes","Yes","No","No","No","Yes","No","Yes","No","No","No","No",null,null,12,null,70,null,12,10,null,null,"",4,"",null,"","",null,null,null,null,"lbs/ac",null,"lbs/ac",null,"lbs/ac","lbs/ac",null,null,"","lbs/ac","",null,"",""]
["Dalbergia retusa",{"$error":"#N/A"},"Yes","No","No",{"$f":"IF($I$4=TRUE,INDEX($BZ$29:$DC1717,MATCH($A200,$AZ$29:$AZ$1000,0),MATCH($AC$2,$BZ$18:$DC$18,0)),\"Yes\")","v":"Yes"},"Yes","Yes","Yes","Yes","Yes","Yes","Yes","Yes",{"$error":"#N/A"},{"$error":"#N/A"},"Yes","Yes","Yes","Yes",{"$error":"#N/A"},{"$error":"#N/A"},{"$error":"#N/A"},{"$error":"#N/A"},null,null,null,null,null,null,null,null,null,null,null,null,null,null,null,null,null,null,null,null,null,null,null,null,null,null,null,"Dalbergia retusa","Nicaraguan rosewood, cocobolo","Nicaraguan rosewood, cocobolo","Nicaraguan rosewood, cocobolo","Nicaraguan rosewood, cocobolo","Nicaraguan rosewood, cocobolo","Nicaraguan rosewood, cocobolo","Nicaraguan rosewood, cocobolo","Nicaraguan rosewood, cocobolo","Nicaraguan rosewood, cocobolo",100,2500,20,80,"Yes","No","No","Yes","No","Tree","Yes","No",0,"40+","1-3",50,"Yes","No","Yes","No","Yes","No","Yes","No","Yes","No","Yes","No","Yes","No","Yes","No","Yes","No","Yes","No","Yes","No","Yes","No","Yes","No","Yes","No","Yes","No",null,null,null,null,null,null,null,"Yes","Yes","No","No","No","No","No","No","Yes","No","Yes","No","Yes","No","Yes","Yes","No","No",null,null,null,null,null,null,null,null,null,null,"10-20",null,"10-20",null,"10-20","10-20",null,null,null,null,null,null,null,null,null,null,null,null,"feet",null,"feet",null,"feet","feet"]
["Dalbergia tucurensis",{"$error":"#N/A"},"Yes","No","No",{"$f":"IF($I$4=TRUE,INDEX($BZ$29:$DC1718,MATCH($A201,$AZ$29:$AZ$1000,0),MATCH($AC$2,$BZ$18:$DC$18,0)),\"Yes\")","v":"Yes"},"Yes","Yes","Yes","Yes","Yes","Yes","Yes","Yes",{"$error":"#N/A"},{"$error":"#N/A"},"Yes","Yes","Yes","Yes",{"$error":"#N/A"},{"$error":"#N/A"},{"$error":"#N/A"},{"$error":"#N/A"},null,null,null,null,null,null,null,null,null,null,null,null,null,null,null,null,null,null,null,null,null,null,null,null,null,null,null,"Dalbergia tucurensis","Guatemalan rosewood","Guatemalan rosewood","Guatemalan rosewood","Guatemalan rosewood","Guatemalan rosewood","Guatemalan rosewood","Guatemalan rosewood","Guatemalan rosewood","Guatemalan rosewood",100,2500,35,80,"Yes","No","No","Yes","No","Tree","Yes","No","n/a","25-40","1-3",40,"Yes","No","Yes","No","Yes","No","Yes","No","Yes","No","Yes","No","Yes","No","Yes","No","Yes","No","Yes","No","Yes","No","Yes","No","Yes","No","Yes","No","Yes","No",null,null,null,null,null,null,null,"Yes","Yes","No","No","No","No","No","No","Yes","No","Yes","No","Yes","No","Yes","Yes","No","No",null,null,null,null,null,null,null,null,null,null,"10-20",null,"10-20",null,"10-20","10-20",null,null,null,null,null,null,null,null,null,null,null,null,"feet",null,"feet",null,"feet","feet"]
["Decaspermum fruticosum",{"$error":"#N/A"},"Yes","No","No",{"$f":"IF($I$4=TRUE,INDEX($BZ$29:$DC1719,MATCH($A202,$AZ$29:$AZ$1000,0),MATCH($AC$2,$BZ$18:$DC$18,0)),\"Yes\")","v":"Yes"},"Yes","Yes","Yes","Yes","Yes","Yes","Yes","Yes",{"$error":"#N/A"},{"$error":"#N/A"},"Yes","Yes","Yes","Yes",{"$error":"#N/A"},{"$error":"#N/A"},{"$error":"#N/A"},{"$error":"#N/A"},null,null,null,null,null,null,null,null,null,null,null,null,null,null,null,null,null,null,null,null,null,null,null,null,null,null,null,"Decaspermum fruticosum","nuanua","abas","nuanua","kerdak, kertaku","kerdak, kertaku","kerdak, kertaku","kerdak, kertaku","kerdak, kertaku","kerdak, kertaku",300,1650,70,200,"Yes","Yes","No","No","No","Shrub","No","Yes","n/a","1-25","1-3",5,"No","No","No","No","No","No","No","No","No","No","No","No","Yes","Yes","Yes","No","Yes","Yes","No","No","No","No","No","No","No","No","No","No","No","No",null,null,null,null,null,null,null,"Yes","Yes","No","No","No","No","No","No","Yes","No","Yes","No","Yes","No","No","Yes","No","No",null,null,null,null,null,null,null,null,null,null,"",null,"",null,"","",null,null,null,null,null,null,null,null,null,null,null,null,"",null,"",null,"",""]
["Dendrocnide latifolia",{"$error":"#N/A"},"Yes","No","No",{"$f":"IF($I$4=TRUE,INDEX($BZ$29:$DC1720,MATCH($A203,$AZ$29:$AZ$1000,0),MATCH($AC$2,$BZ$18:$DC$18,0)),\"Yes\")","v":"Yes"},"Yes","Yes","Yes","Yes","Yes","Yes","Yes","Yes",{"$error":"#N/A"},{"$error":"#N/A"},"Yes","Yes","Yes","Yes",{"$error":"#N/A"},{"$error":"#N/A"},{"$error":"#N/A"},{"$error":"#N/A"},null,null,null,null,null,null,null,null,null,null,null,null,null,null,null,null,null,null,null,null,null,null,null,null,null,null,null,"Dendrocnide latifolia","kahtat, kahtl, katud","kahtat, kahtl, katud","kahtat, kahtl, katud","kahtat, kahtl, katud","kahtat, kahtl, katud","kahtat, kahtl, katud","kahtat, kahtl, katud","kahtat, kahtl, katud","kahtat, kahtl, katud",20,1650,70,240,"No","Yes","No","No","No","Tree","No","Yes","n/a","25-40","1-3",20,"No","No","No","No","No","No","No","No","No","No","No","No","No","No","Yes","Yes","Yes","Yes","Yes","Yes","Yes","Yes","No","No","No","No","No","No","No","No","Provides forage for wildlife including fruit bats.",null,null,null,null,null,null,"Yes","Yes","No","No","No","No","No","No","Yes","No","Yes","No","Yes","No","No","Yes","No","No",null,null,null,null,null,null,null,null,null,null,"10-20",null,"10-20",null,"10-20","10-20",null,null,null,null,null,null,null,null,null,null,null,null,"feet",null,"feet",null,"feet","feet"]
["Dendrolobium umbellatum",{"$error":"#N/A"},"Yes","No","No",{"$f":"IF($I$4=TRUE,INDEX($BZ$29:$DC1721,MATCH($A204,$AZ$29:$AZ$1000,0),MATCH($AC$2,$BZ$18:$DC$18,0)),\"Yes\")","v":"Yes"},"Yes","Yes","Yes","Yes","Yes","Yes","Yes","Yes",{"$error":"#N/A"},{"$error":"#N/A"},"Yes","Yes","Yes","Yes",{"$error":"#N/A"},{"$error":"#N/A"},{"$error":"#N/A"},{"$error":"#N/A"},null,null,null,null,null,null,null,null,null,null,null,null,null,null,null,null,null,null,null,null,null,null,null,null,null,null,null,"Dendrolobium umbellatum","bush tick-trefoil","palaga hilitai, bush tick-trefoil","lala, bush tick-trefoil","bush tick-trefoil","likartikitik, bush tick-trefoil","bush tick-trefoil","bush tick-trefoil","bush tick-trefoil","bush tick-trefoil",0,850,70,240,"Yes","No","Yes","Yes","No","Shrub","Yes","Yes","n/a","1-25","1-3",15,"No","No","No","No","No","No","No","No","No","No","No","No","Yes","Yes","Yes","Yes","No","No","Yes","Yes","Yes","Yes","No","No","Yes","Yes","Yes","Yes","No","No",null,null,null,null,null,null,null,"Yes","Yes","No","No","No","No","No","No","Yes","No","Yes","No","Yes","No","Yes","Yes","No","No",null,null,null,null,null,null,null,null,null,null,"",null,"",null,"","",null,null,null,null,null,null,null,null,null,null,null,null,"",null,"",null,"",""]
["Desmodium heterophyllum (hand planted)",{"$error":"#N/A"},"Yes","No","No",{"$f":"IF($I$4=TRUE,INDEX($BZ$29:$DC1722,MATCH($A205,$AZ$29:$AZ$1000,0),MATCH($AC$2,$BZ$18:$DC$18,0)),\"Yes\")","v":"Yes"},"Yes","Yes","Yes","Yes","Yes","Yes","Yes","Yes",{"$error":"#N/A"},{"$error":"#N/A"},"Yes","Yes","Yes","Yes",{"$error":"#N/A"},{"$error":"#N/A"},{"$error":"#N/A"},{"$error":"#N/A"},null,null,null,null,null,null,null,null,null,null,null,null,null,null,null,null,null,null,null,null,null,null,null,null,null,null,null,"Desmodium heterophyllum (hand planted)","hetero (hand planted)","hetero (hand planted)","hetero (hand planted)","hetero (hand planted)","hetero (hand planted)","hetero (hand planted)","hetero (hand planted)","hetero (hand planted)","hetero (hand planted)",0,2500,60,160,"Yes","Yes","Yes","No","No","Herb","Yes","No","n/a","0-1","3+",0,"Yes","No","Yes","No","Yes","No","Yes","No","Yes","No","Yes","No","Yes","No","Yes","No","Yes","No","Yes","No","Yes","No","Yes","No","Yes","No","Yes","No","Yes","No",null,null,null,null,null,null,null,"Yes","No","Yes","No","Yes","No","Yes","No","No","No","No","No","No","Yes","No","No","No","No",null,null,1,null,1,null,1,null,null,null,"",null,"",null,"","",null,null,null,null,"4' x 4'",null,"3' x 3'",null,"4' x 4'",null,null,null,"",null,"",null,"",""]
["Desmodium heterophyllum (seeded)",{"$error":"#N/A"},"Yes","No","No",{"$f":"IF($I$4=TRUE,INDEX($BZ$29:$DC1723,MATCH($A206,$AZ$29:$AZ$1000,0),MATCH($AC$2,$BZ$18:$DC$18,0)),\"Yes\")","v":"Yes"},"Yes","Yes","Yes","Yes","Yes","Yes","Yes","Yes",{"$error":"#N/A"},{"$error":"#N/A"},"Yes","Yes","Yes","Yes",{"$error":"#N/A"},{"$error":"#N/A"},{"$error":"#N/A"},{"$error":"#N/A"},null,null,null,null,null,null,null,null,null,null,null,null,null,null,null,null,null,null,null,null,null,null,null,null,null,null,null,"Desmodium heterophyllum (seeded)","hetero (seeded)","hetero (seeded)","hetero (seeded)","hetero (seeded)","hetero (seeded)","hetero (seeded)","hetero (seeded)","hetero (seeded)","hetero (seeded)",0,2500,60,160,"Yes","Yes","Yes","No","No","Herb","Yes","No","n/a","0-1","3+",0,"Yes","No","Yes","No","Yes","No","Yes","No","Yes","No","Yes","No","Yes","No","Yes","No","Yes","No","Yes","No","Yes","No","Yes","No","Yes","No","Yes","No","Yes","No",null,null,null,null,null,null,null,"Yes","No","Yes","No","Yes","No","Yes","No","No","No","No","No","No","Yes","No","No","No","No",null,null,10,null,20,null,10,null,null,null,"",null,"",null,"","",null,null,null,null,"lbs/ac",null,"lbs/ac",null,"lbs/ac",null,null,null,"",null,"",null,"",""]
["Desmodium heterophyllum (sprigged)",{"$error":"#N/A"},"Yes","No","No",{"$f":"IF($I$4=TRUE,INDEX($BZ$29:$DC1724,MATCH($A207,$AZ$29:$AZ$1000,0),MATCH($AC$2,$BZ$18:$DC$18,0)),\"Yes\")","v":"Yes"},"Yes","Yes","Yes","Yes","Yes","Yes","Yes","Yes",{"$error":"#N/A"},{"$error":"#N/A"},"Yes","Yes","Yes","Yes",{"$error":"#N/A"},{"$error":"#N/A"},{"$error":"#N/A"},{"$error":"#N/A"},null,null,null,null,null,null,null,null,null,null,null,null,null,null,null,null,null,null,null,null,null,null,null,null,null,null,null,"Desmodium heterophyllum (sprigged)","hetero (sprigged)","hetero (sprigged)","hetero (sprigged)","hetero (sprigged)","hetero (sprigged)","hetero (sprigged)","hetero (sprigged)","hetero (sprigged)","hetero (sprigged)",0,2500,60,160,"Yes","Yes","Yes","No","No","Herb","Yes","No","n/a","0-1","3+",0,"Yes","No","Yes","No","Yes","No","Yes","No","Yes","No","Yes","No","Yes","No","Yes","No","Yes","No","Yes","No","Yes","No","Yes","No","Yes","No","Yes","No","Yes","No",null,null,null,null,null,null,null,"Yes","No","Yes","No","Yes","No","Yes","No","No","No","No","No","No","Yes","No","No","No","No",null,null,40,null,80,null,40,null,null,null,"",null,"",null,"","",null,null,null,null,"bu/ac",null,"bu/ac",null,"bu/ac",null,null,null,"",null,"",null,"",""]
["Desmodium incanum",{"$error":"#N/A"},"Yes","No","No",{"$f":"IF($I$4=TRUE,INDEX($BZ$29:$DC1725,MATCH($A208,$AZ$29:$AZ$1000,0),MATCH($AC$2,$BZ$18:$DC$18,0)),\"Yes\")","v":"Yes"},"Yes","Yes","Yes","Yes","Yes","Yes","Yes","Yes",{"$error":"#N/A"},{"$error":"#N/A"},"Yes","Yes","Yes","Yes",{"$error":"#N/A"},{"$error":"#N/A"},{"$error":"#N/A"},{"$error":"#N/A"},null,null,null,null,null,null,null,null,null,null,null,null,null,null,null,null,null,null,null,null,null,null,null,null,null,null,null,"Desmodium incanum","Spanish clover, kaimi clover, lattil pako ","Spanish clover, kaimi clover, lattil pako ","Spanish clover, kaimi clover, lattil pako ","Spanish clover, kaimi clover, lattil pako ","Spanish clover, kaimi clover, lattil pako ","Spanish clover, kaimi clover, lattil pako ","Spanish clover, kaimi clover, lattil pako ","Spanish clover, kaimi clover, lattil pako ","lattil pako, Spanish clover",0,3000,40,120,"Yes","Yes","Yes","No","No","Herb","Yes","No","n/a","0-1","3+",0,"Yes","No","Yes","No","Yes","No","Yes","No","Yes","No","Yes","No","Yes","No","Yes","No","Yes","No","Yes","No","Yes","No","Yes","No","Yes","No","Yes","No","Yes","No",null,null,null,null,null,null,null,"Yes","No","Yes","No","Yes","No","Yes","Yes","No","No","No","Yes","No","Yes","No","No","No","No",null,null,10,null,20,null,10,5,null,null,"",2,"",null,"","",null,null,null,null,"lbs/ac",null,"lbs/ac",null,"lbs/ac","lbs/ac",null,null,"","lbs/ac","",null,"",""]
["Desmodium intortum",{"$error":"#N/A"},"Yes","No","No",{"$f":"IF($I$4=TRUE,INDEX($BZ$29:$DC1726,MATCH($A209,$AZ$29:$AZ$1000,0),MATCH($AC$2,$BZ$18:$DC$18,0)),\"Yes\")","v":"Yes"},"Yes","Yes","Yes","Yes","Yes","Yes","Yes","Yes",{"$error":"#N/A"},{"$error":"#N/A"},"Yes","Yes","Yes","Yes",{"$error":"#N/A"},{"$error":"#N/A"},{"$error":"#N/A"},{"$error":"#N/A"},null,null,null,null,null,null,null,null,null,null,null,null,null,null,null,null,null,null,null,null,null,null,null,null,null,null,null,"Desmodium intortum","Greenleaf desmodium","Greenleaf desmodium","Greenleaf desmodium","Greenleaf desmodium","Greenleaf desmodium","Greenleaf desmodium","Greenleaf desmodium","Greenleaf desmodium","Greenleaf desmodium",0,3000,60,120,"Yes","Yes","Yes","No","No","Herb","Yes","No","n/a","0-1","3+",0,"Yes","No","Yes","No","Yes","No","Yes","No","Yes","No","Yes","No","Yes","No","Yes","No","Yes","No","Yes","No","Yes","No","Yes","No","Yes","No","Yes","No","Yes","No",null,null,null,null,null,null,null,"Yes","No","Yes","No","Yes","No","Yes","Yes","No","No","No","Yes","No","Yes","No","No","No","No",null,null,10,null,20,null,10,5,null,null,"",2,"",null,"","",null,null,null,null,"lbs/ac",null,"lbs/ac",null,"lbs/ac","lbs/ac",null,null,"","lbs/ac","",null,"",""]
["Desmodium triflorum (hand planted)",{"$error":"#N/A"},"Yes","No","No",{"$f":"IF($I$4=TRUE,INDEX($BZ$29:$DC1727,MATCH($A210,$AZ$29:$AZ$1000,0),MATCH($AC$2,$BZ$18:$DC$18,0)),\"Yes\")","v":"Yes"},"Yes","Yes","Yes","Yes","Yes","Yes","Yes","Yes",{"$error":"#N/A"},{"$error":"#N/A"},"Yes","Yes","Yes","Yes",{"$error":"#N/A"},{"$error":"#N/A"},{"$error":"#N/A"},{"$error":"#N/A"},null,null,null,null,null,null,null,null,null,null,null,null,null,null,null,null,null,null,null,null,null,null,null,null,null,null,null,"Desmodium triflorum (hand planted)","three–flowered beggarweed (hand planted)","agsom, three–flowered beggarweed (hand planted)","three–flowered beggarweed (hand planted)","three–flowered beggarweed (hand planted)","three–flowered beggarweed (hand planted)","three–flowered beggarweed (hand planted)","three–flowered beggarweed (hand planted)","three–flowered beggarweed (hand planted)","three–flowered beggarweed (hand planted)",0,2500,60,160,"Yes","Yes","Yes","No","Yes","Herb","Yes","No","n/a","0-1","3+",0,"Yes","No","Yes","No","Yes","No","Yes","No","Yes","No","Yes","No","Yes","No","Yes","No","Yes","No","Yes","No","Yes","No","Yes","No","Yes","No","Yes","No","Yes","No",null,null,null,null,null,null,null,"Yes","No","Yes","No","Yes","No","Yes","No","No","No","No","No","No","Yes","No","No","No","No",null,null,1,null,1,null,1,null,null,null,"",null,"",null,"","",null,null,null,null,"4' x 4'",null,"3' x 3'",null,"4' x 4'",null,null,null,"",null,"",null,"",""]
["Desmodium triflorum (seeded)",{"$error":"#N/A"},"Yes","No","No",{"$f":"IF($I$4=TRUE,INDEX($BZ$29:$DC1728,MATCH($A211,$AZ$29:$AZ$1000,0),MATCH($AC$2,$BZ$18:$DC$18,0)),\"Yes\")","v":"Yes"},"Yes","Yes","Yes","Yes","Yes","Yes","Yes","Yes",{"$error":"#N/A"},{"$error":"#N/A"},"Yes","Yes","Yes","Yes",{"$error":"#N/A"},{"$f":"IF(AND(C$7<=X211,C$7>=W211),\"Yes\",\"No\")","v":{"$error":"#N/A"}},{"$error":"#N/A"},{"$error":"#N/A"},null,null,null,null,null,null,null,null,null,null,null,null,null,null,null,null,null,null,null,null,null,null,null,null,null,null,null,"Desmodium triflorum (seeded)","three–flowered beggarweed (seeded)","agsom, three–flowered beggarweed (seeded)","three–flowered beggarweed (seeded)","three–flowered beggarweed (seeded)","three–flowered beggarweed (seeded)","three–flowered beggarweed (seeded)","three–flowered beggarweed (seeded)","three–flowered beggarweed (seeded)","three–flowered beggarweed (seeded)",0,2500,60,160,"Yes","Yes","Yes","No","Yes","Herb","Yes","No","n/a","0-1","3+",0,"Yes","No","Yes","No","Yes","No","Yes","No","Yes","No","Yes","No","Yes","No","Yes","No","Yes","No","Yes","No","Yes","No","Yes","No","Yes","No","Yes","No","Yes","No",null,null,null,null,null,null,null,"Yes","No","Yes","No","Yes","No","Yes","No","No","No","No","No","No","Yes","No","No","No","No",null,null,10,null,20,null,10,null,null,null,"",null,"",null,"","",null,null,null,null,"lbs/ac",null,"lbs/ac",null,"lbs/ac",null,null,null,"",null,"",null,"",""]
["Desmodium triflorum (sprigged)",{"$error":"#N/A"},"Yes","No","No",{"$f":"IF($I$4=TRUE,INDEX($BZ$29:$DC1729,MATCH($A212,$AZ$29:$AZ$1000,0),MATCH($AC$2,$BZ$18:$DC$18,0)),\"Yes\")","v":"Yes"},"Yes","Yes","Yes","Yes","Yes","Yes","Yes","Yes",{"$error":"#N/A"},{"$error":"#N/A"},"Yes","Yes","Yes","Yes",{"$error":"#N/A"},{"$error":"#N/A"},{"$f":"IF(AF$1394=\"Tropical\",BJ212,IF(AND($C$8=\"Winter\",DF212=\"CS\"),BJ212-500,BJ212))","v":{"$error":"#N/A"}},{"$f":"IF(AF$1394=\"Tropical\",BK212,IF(AND($C$8=\"Winter\",DF212=\"WS\"),BK212-500,BK212))","v":{"$error":"#N/A"}},null,null,null,null,null,null,null,null,null,null,null,null,null,null,null,null,null,null,null,null,null,null,null,null,null,null,null,"Desmodium triflorum (sprigged)","three–flowered beggarweed (sprigged)","agsom, three–flowered beggarweed (sprigged)","three–flowered beggarweed (sprigged)","three–flowered beggarweed (sprigged)","three–flowered beggarweed (sprigged)","three–flowered beggarweed (sprigged)","three–flowered beggarweed (sprigged)","three–flowered beggarweed (sprigged)","three–flowered beggarweed (sprigged)",0,2500,60,160,"Yes","Yes","Yes","No","Yes","Herb","Yes","No","n/a","0-1","3+",0,"Yes","No","Yes","No","Yes","No","Yes","No","Yes","No","Yes","No","Yes","No","Yes","No","Yes","No","Yes","No","Yes","No","Yes","No","Yes","No","Yes","No","Yes","No",null,null,null,null,null,null,null,"Yes","No","Yes","No","Yes","No","Yes","No","No","No","No","No","No","Yes","No","No","No","No",null,null,40,null,80,null,40,null,null,null,"",null,"",null,"","",null,null,null,null,"bu/ac",null,"bu/ac",null,"bu/ac",null,null,null,"",null,"",null,"",""]
["Dichondra repens",{"$error":"#N/A"},"Yes","No","No",{"$f":"IF($I$4=TRUE,INDEX($BZ$29:$DC1730,MATCH($A213,$AZ$29:$AZ$1000,0),MATCH($AC$2,$BZ$18:$DC$18,0)),\"Yes\")","v":"Yes"},"Yes","Yes","Yes","Yes","Yes","Yes","Yes","Yes",{"$error":"#N/A"},{"$error":"#N/A"},"Yes","Yes","Yes","Yes",{"$error":"#N/A"},{"$error":"#N/A"},{"$error":"#N/A"},{"$error":"#N/A"},null,null,null,null,null,null,null,null,null,null,null,null,null,null,null,null,null,null,null,null,null,null,null,null,null,null,null,"Dichondra repens","dichondra","dichondra","dichondra","dichondra","dichondra","dichondra","dichondra","dichondra","dichondra",0,4000,30,200,"Yes","No","Yes","No","No","Herb","No","No","n/a","0-1","3+",0,"Yes","No","Yes","No","Yes","No","Yes","No","Yes","No","Yes","No","Yes","No","Yes","No","Yes","No","Yes","No","Yes","No","Yes","No","Yes","No","Yes","No","Yes","No",null,null,null,null,null,null,null,"Yes","No","No","No","Yes","No","Yes","No","No","No","No","No","No","Yes","No","No","No","No",null,null,null,null,80,null,40,null,null,null,"",null,"",null,"","",null,null,null,null,null,null,"bu/ac",null,"bu/ac",null,null,null,"",null,"",null,"",""]
["Digitaria eriantha (hand planted)",{"$error":"#N/A"},"Yes","No","No",{"$f":"IF($I$4=TRUE,INDEX($BZ$29:$DC1731,MATCH($A214,$AZ$29:$AZ$1000,0),MATCH($AC$2,$BZ$18:$DC$18,0)),\"Yes\")","v":"Yes"},"Yes","Yes","Yes","Yes","Yes","Yes","Yes","Yes",{"$error":"#N/A"},{"$error":"#N/A"},"Yes","Yes","Yes","Yes",{"$error":"#N/A"},{"$error":"#N/A"},{"$error":"#N/A"},{"$error":"#N/A"},null,null,null,null,null,null,null,null,null,null,null,null,null,null,null,null,null,null,null,null,null,null,null,null,null,null,null,"Digitaria eriantha (hand planted)","digitgrass (hand planted)","digitgrass (hand planted)","digitgrass (hand planted)","digitgrass (hand planted)","digitgrass (hand planted)","digitgrass (hand planted)","digitgrass (hand planted)","digitgrass (hand planted)","digitgrass (hand planted)",20,3500,50,160,"Yes","No","Yes","No","No","Herb","No","No",8,"0-1","3+",0,"Yes","No","Yes","No","Yes","No","Yes","No","Yes","No","Yes","No","Yes","No","Yes","No","Yes","No","Yes","No","Yes","No","Yes","No","Yes","No","Yes","No","Yes","No",null,null,null,null,null,null,null,"Yes","No","Yes","No","Yes","Yes","Yes","No","No","No","No","No","No","Yes","No","No","No","No",null,null,1,null,1,1,1,1,null,null,"",1,"",null,"","",null,null,null,null,"4' x 4'",null,"3' x 3'","3' x 3'","4' x 4'","6' x 6'",null,null,"","6' x 6'","",null,"",""]
["Digitaria eriantha (sprigged)",{"$error":"#N/A"},"Yes","No","No",{"$f":"IF($I$4=TRUE,INDEX($BZ$29:$DC1732,MATCH($A215,$AZ$29:$AZ$1000,0),MATCH($AC$2,$BZ$18:$DC$18,0)),\"Yes\")","v":"Yes"},"Yes","Yes","Yes","Yes","Yes","Yes","Yes","Yes",{"$error":"#N/A"},{"$error":"#N/A"},"Yes","Yes","Yes","Yes",{"$error":"#N/A"},{"$error":"#N/A"},{"$error":"#N/A"},{"$error":"#N/A"},null,null,null,null,null,null,null,null,null,null,null,null,null,null,null,null,null,null,null,null,null,null,null,null,null,null,null,"Digitaria eriantha (sprigged)","digitgrass (sprigged)","digitgrass (sprigged)","digitgrass (sprigged)","digitgrass (sprigged)","digitgrass (sprigged)","digitgrass (sprigged)","digitgrass (sprigged)","digitgrass (sprigged)","digitgrass (sprigged)",20,3500,50,160,"Yes","No","Yes","No","No","Herb","No","No",8,"0-1","3+",0,"Yes","No","Yes","No","Yes","No","Yes","No","Yes","No","Yes","No","Yes","No","Yes","No","Yes","No","Yes","No","Yes","No","Yes","No","Yes","No","Yes","No","Yes","No","Recommended spacing for planted stolons is 6' x 6'",null,null,null,null,null,null,"Yes","No","Yes","No","Yes","Yes","Yes","Yes","No","No","No","Yes","No","Yes","No","No","No","No",null,null,40,null,80,80,40,40,null,null,"",40,"",null,"","",null,null,null,null,"bu/ac",null,"bu/ac","bu/ac","bu/ac","bu/ac",null,null,"","bu/ac","",null,"",""]
["Dimocarpus longan",{"$error":"#N/A"},"Yes","No","No",{"$f":"IF($I$4=TRUE,INDEX($BZ$29:$DC1733,MATCH($A216,$AZ$29:$AZ$1000,0),MATCH($AC$2,$BZ$18:$DC$18,0)),\"Yes\")","v":"Yes"},"Yes","Yes","Yes","Yes","Yes","Yes","Yes","Yes",{"$error":"#N/A"},{"$error":"#N/A"},"Yes","Yes","Yes","Yes",{"$error":"#N/A"},{"$error":"#N/A"},{"$error":"#N/A"},{"$error":"#N/A"},null,null,null,null,null,null,null,null,null,null,null,null,null,null,null,null,null,null,null,null,null,null,null,null,null,null,null,"Dimocarpus longan","longan","longan","longan","longan","longan","longan","longan","longan","longan",20,2450,50,120,"Yes","No","No","No","No","Tree","No","No",-2,"25-40","1-3",20,"Yes","No","Yes","No","Yes","No","Yes","No","Yes","No","Yes","No","Yes","No","Yes","No","Yes","No","Yes","No","Yes","No","Yes","No","Yes","No","Yes","No","Yes","No","Cooler temperatures associated with higher elevations will favor fruiting.",null,null,null,null,null,null,"Yes","No","No","No","No","No","No","No","Yes","No","Yes","No","Yes","No","Yes","Yes","No","No",null,null,null,null,null,null,null,null,null,null,"10-20",null,"10-20",null,"10-20","10-20",null,null,null,null,null,null,null,null,null,null,null,null,"feet",null,"feet",null,"feet","feet"]
["Dimorphotheca sinuata",{"$error":"#N/A"},"Yes","No","No",{"$f":"IF($I$4=TRUE,INDEX($BZ$29:$DC1734,MATCH($A217,$AZ$29:$AZ$1000,0),MATCH($AC$2,$BZ$18:$DC$18,0)),\"Yes\")","v":"Yes"},"Yes","Yes","Yes","Yes","Yes","Yes","Yes","Yes",{"$error":"#N/A"},{"$error":"#N/A"},"Yes","Yes","Yes","Yes",{"$error":"#N/A"},{"$error":"#N/A"},{"$error":"#N/A"},{"$error":"#N/A"},null,null,null,null,null,null,null,null,null,null,null,null,null,null,null,null,null,null,null,null,null,null,null,null,null,null,null,"Dimorphotheca sinuata","cape marigold","cape marigold","cape marigold","cape marigold","cape marigold","cape marigold","cape marigold","cape marigold","cape marigold",20,3000,20,200,"Yes","No","Yes","No","No","Herb","No","No","n/a","0-1","3+",0,"Yes","No","Yes","No","Yes","No","Yes","No","Yes","No","Yes","No","Yes","No","Yes","No","Yes","No","Yes","No","Yes","No","Yes","No","Yes","No","Yes","No","Yes","No",null,null,null,null,null,null,null,"Yes","No","No","No","Yes","No","Yes","No","No","No","No","No","No","Yes","No","No","No","No",null,null,null,null,80,null,40,null,null,null,"",null,"",null,"","",null,null,null,null,null,null,"bu/ac",null,"bu/ac",null,null,null,"",null,"",null,"",""]
["Diospyros sandwicensis",{"$error":"#N/A"},"Yes","No","No",{"$f":"IF($I$4=TRUE,INDEX($BZ$29:$DC1735,MATCH($A218,$AZ$29:$AZ$1000,0),MATCH($AC$2,$BZ$18:$DC$18,0)),\"Yes\")","v":"Yes"},"Yes","Yes","Yes","Yes","Yes","Yes","Yes","Yes",{"$error":"#N/A"},{"$error":"#N/A"},"Yes","Yes","Yes","Yes",{"$error":"#N/A"},{"$error":"#N/A"},{"$error":"#N/A"},{"$error":"#N/A"},null,null,null,null,null,null,null,null,null,null,null,null,null,null,null,null,null,null,null,null,null,null,null,null,null,null,null,"Diospyros sandwicensis","lama","lama","lama","lama","lama","lama","lama","lama","lama",20,4000,15,150,"Yes","Yes","Yes","No","No","Tree","No","Yes","n/a","1-25","0-1",15,"Yes","Yes","Yes","Yes","Yes","Yes","Yes","Yes","Yes","Yes","Yes","Yes","No","No","No","No","No","No","No","No","No","No","No","No","No","No","No","No","No","No","Dry to mesic forest.",null,null,null,null,null,null,"Yes","Yes","No","No","No","No","No","No","Yes","No","Yes","No","Yes","No","Yes","Yes","No","Yes",null,null,null,null,null,null,null,null,null,null,"8-20",null,"8-20",null,"8-20","8-20",null,null,null,null,null,null,null,null,null,null,null,null,"feet",null,"feet",null,"feet","feet"]
["Discocalyx megacarpa",{"$error":"#N/A"},"Yes","No","No",{"$f":"IF($I$4=TRUE,INDEX($BZ$29:$DC1736,MATCH($A219,$AZ$29:$AZ$1000,0),MATCH($AC$2,$BZ$18:$DC$18,0)),\"Yes\")","v":"Yes"},"Yes","Yes","Yes","Yes","Yes","Yes","Yes","Yes",{"$error":"#N/A"},{"$error":"#N/A"},"Yes","Yes","Yes","Yes",{"$error":"#N/A"},{"$error":"#N/A"},{"$error":"#N/A"},{"$error":"#N/A"},null,null,null,null,null,null,null,null,null,null,null,null,null,null,null,null,null,null,null,null,null,null,null,null,null,null,null,"Discocalyx megacarpa","otot","otot","otot","otot","otot","otot","otot","otot","otot",100,1700,70,120,"Yes","Yes","Yes","No","No","Shrub","No","Yes","n/a","1-25","1-3",5,"No","No","No","No","No","No","No","No","No","No","No","No","No","No","Yes","Yes","No","No","No","No","No","No","No","No","No","No","No","No","No","No",null,null,null,null,null,null,null,"Yes","Yes","No","No","No","No","No","No","Yes","No","Yes","No","Yes","No","No","Yes","No","No",null,null,null,null,null,null,null,null,null,null,"",null,"",null,"","",null,null,null,null,null,null,null,null,null,null,null,null,"",null,"",null,"",""]
["Dodonaea viscosa",{"$error":"#N/A"},"Yes","No","No",{"$f":"IF($I$4=TRUE,INDEX($BZ$29:$DC1737,MATCH($A220,$AZ$29:$AZ$1000,0),MATCH($AC$2,$BZ$18:$DC$18,0)),\"Yes\")","v":"Yes"},"Yes","Yes","Yes","Yes","Yes","Yes","Yes","Yes",{"$error":"#N/A"},{"$error":"#N/A"},"Yes","Yes","Yes","Yes",{"$error":"#N/A"},{"$error":"#N/A"},{"$error":"#N/A"},{"$error":"#N/A"},null,null,null,null,null,null,null,null,null,null,null,null,null,null,null,null,null,null,null,null,null,null,null,null,null,null,null,"Dodonaea viscosa","aalii, hopbush","lampuaye, hopbush","hopbush","mesechelangel, hopbush","hopbush","hopbush","hopbush","hopbush","kamen, kaming, hopbush",0,7000,20,200,"Yes","No","Yes","No","No","Shrub","No","Yes","n/a","1-25","0-1",10,"Yes","Yes","Yes","Yes","Yes","Yes","Yes","Yes","Yes","Yes","Yes","Yes","No","No","Yes","Yes","Yes","Yes","Yes","No","Yes","No","Yes","No","Yes","No","Yes","Yes","Yes","No","Open sites such as ridges and lava fields, sometimes successional on lava or in pastures, ranging from coastal dunes, low-elevation shrubland communities to dry, mesic and wet forest, also subalpine shrubland.",null,null,null,null,null,null,"Yes","Yes","No","No","No","No","No","No","Yes","No","Yes","No","Yes","No","No","Yes","No","Yes",null,null,null,null,null,null,null,null,null,null,"",null,"",null,"","",null,null,null,null,null,null,null,null,null,null,null,null,"",null,"",null,"",""]
["Dracaena deremensis",{"$f":"IF(A221=0,\"No\",IF(AND(C221=\"Yes\",D221=\"YES\",E221=\"Yes\",F221=\"yes\",G221=\"Yes\",H221=\"Yes\",I221=\"Yes\",J221=\"Yes\",N221=\"Yes\",Q221=\"Yes\",O221=\"Yes\",K221=\"Yes\",P221=\"Yes\",V221=\"Yes\"),\"Yes\",\"No\"))","v":{"$error":"#N/A"}},"Yes","No","No",{"$f":"IF($I$4=TRUE,INDEX($BZ$29:$DC1738,MATCH($A221,$AZ$29:$AZ$1000,0),MATCH($AC$2,$BZ$18:$DC$18,0)),\"Yes\")","v":"Yes"},"Yes","Yes","Yes","Yes","Yes","Yes","Yes","Yes",{"$error":"#N/A"},{"$error":"#N/A"},"Yes","Yes","Yes","Yes",{"$error":"#N/A"},{"$error":"#N/A"},{"$error":"#N/A"},{"$error":"#N/A"},null,null,null,null,null,null,null,null,null,null,null,null,null,null,null,null,null,null,null,null,null,null,null,null,null,null,null,"Dracaena deremensis","striped dracaena","striped dracaena","striped dracaena","striped dracaena","striped dracaena","striped dracaena","striped dracaena","striped dracaena","striped dracaena",0,2000,50,200,"Yes","Yes","Yes","No","No","Shrub","No","No","n/a","1-25","1-3",10,"Yes","No","Yes","No","Yes","No","Yes","No","Yes","No","Yes","No","Yes","No","Yes","No","Yes","No","Yes","No","Yes","No","Yes","No","Yes","No","Yes","No","Yes","No","Grows from cuttings.",null,null,null,null,null,null,"Yes","Yes","No","No","No","No","No","No","Yes","No","Yes","No","Yes","No","No","Yes","No","Yes",null,null,null,null,null,null,null,null,null,null,"",null,"",null,"","",null,null,null,null,null,null,null,null,null,null,null,null,"",null,"",null,"",""]
[{"$f":"AZ222","v":"Dracaena fragrans"},{"$error":"#N/A"},"Yes","No","No",{"$f":"IF($I$4=TRUE,INDEX($BZ$29:$DC1739,MATCH($A222,$AZ$29:$AZ$1000,0),MATCH($AC$2,$BZ$18:$DC$18,0)),\"Yes\")","v":"Yes"},{"$f":"IF($K$4=TRUE,VLOOKUP(A222,$AZ$29:$BY$1000,17,FALSE),\"Yes\")","v":"Yes"},{"$f":"IF($J$4=TRUE,VLOOKUP(A222,$AZ$29:$BY$1000,18,FALSE),\"Yes\")","v":"Yes"},{"$f":"IF($L$4=TRUE,VLOOKUP(A222,$AZ$29:$BY$1000,22,FALSE),\"Yes\")","v":"Yes"},{"$f":"IF($M$4=TRUE,VLOOKUP(A222,$AZ$29:$BY$1000,21,FALSE),\"Yes\")","v":"Yes"},"Yes","Yes","Yes",{"$f":"IF($N$4=TRUE,VLOOKUP(A222,$AZ$29:$BY$1000,19,FALSE),\"Yes\")","v":"Yes"},{"$f":"IF($C$5=\"\",\"Yes\",INDEX($BZ$29:$DC$1000,MATCH($AZ222,$AZ$29:$AZ$1000,0),MATCH($AD$1379,$BZ$18:$DC$18,0)))","v":{"$error":"#N/A"}},{"$error":"#N/A"},"Yes","Yes","Yes","Yes",{"$f":"INDEX($BZ$29:$DC$1000,MATCH($AZ222,$AZ$29:$AZ$1000,0),MATCH($AC$2,$BZ$18:$DC$18,0))","v":{"$error":"#N/A"}},{"$error":"#N/A"},{"$error":"#N/A"},{"$error":"#N/A"},null,null,null,null,null,null,null,null,null,null,null,null,null,null,null,null,null,null,null,null,null,null,null,null,null,null,null,"Dracaena fragrans","cornstalk dracaena","cornstalk dracaena","cornstalk dracaena","cornstalk dracaena","cornstalk dracaena","cornstalk dracaena","cornstalk dracaena","cornstalk dracaena","cornstalk dracaena",0,2000,50,200,"Yes","Yes","Yes","No","No","Shrub","No","No",0,"1-25","1-3",15,"Yes","No","Yes","No","Yes","No","Yes","No","Yes","No","Yes","No","Yes","No","Yes","No","Yes","No","Yes","No","Yes","No","Yes","No","Yes","No","Yes","No","Yes","No","Grows from cuttings.",null,null,null,null,null,null,"Yes","Yes","No","No","No","No","No","No","Yes","No","Yes","No","Yes","No","No","Yes","No","Yes",null,null,null,null,null,null,null,null,null,null,"",null,"",null,"","",null,null,null,null,null,null,null,null,null,null,null,null,"",null,"",null,"",""]
["Dracaena reflexa",{"$error":"#N/A"},"Yes","No","No",{"$f":"IF($I$4=TRUE,INDEX($BZ$29:$DC1740,MATCH($A223,$AZ$29:$AZ$1000,0),MATCH($AC$2,$BZ$18:$DC$18,0)),\"Yes\")","v":"Yes"},"Yes","Yes","Yes","Yes","Yes","Yes","Yes","Yes",{"$error":"#N/A"},{"$error":"#N/A"},"Yes","Yes","Yes","Yes",{"$error":"#N/A"},{"$error":"#N/A"},{"$error":"#N/A"},{"$error":"#N/A"},null,null,null,null,null,null,null,null,null,null,null,null,null,null,null,null,null,null,null,null,null,null,null,null,null,null,null,"Dracaena reflexa","song of India","song of India","song of India","song of India","song of India","song of India","song of India","song of India","song of India",0,4000,20,200,"Yes","Yes","Yes","No","No","Shrub","No","No",-1,"1-25","0-1",12,"Yes","No","Yes","No","Yes","No","Yes","No","Yes","No","Yes","No","Yes","No","Yes","No","Yes","No","Yes","No","Yes","No","Yes","No","Yes","No","Yes","No","Yes","No","Grows from cuttings.",null,null,null,null,null,null,"Yes","Yes","No","No","No","No","No","No","Yes","No","Yes","No","Yes","No","No","Yes","No","Yes"]
["Dubautia arboria",{"$error":"#N/A"},"Yes","No","No",{"$f":"IF($I$4=TRUE,INDEX($BZ$29:$DC1741,MATCH($A224,$AZ$29:$AZ$1000,0),MATCH($AC$2,$BZ$18:$DC$18,0)),\"Yes\")","v":"Yes"},"Yes","Yes","Yes","Yes","Yes","Yes","Yes","Yes",{"$error":"#N/A"},{"$error":"#N/A"},"Yes","Yes","Yes","Yes",{"$error":"#N/A"},{"$error":"#N/A"},{"$error":"#N/A"},{"$error":"#N/A"},null,null,null,null,null,null,null,null,null,null,null,null,null,null,null,null,null,null,null,null,null,null,null,null,null,null,null,"Dubautia arboria","naenae - 1","naenae - 3","naenae - 3","naenae - 3","naenae - 3","naenae - 3","naenae - 3","naenae - 3","naenae - 3",7000,10000,15,80,"Yes","No","No","No","No","Tree","No","Yes","n/a","1-25","1-3",8,"Yes","Yes","Yes","No","Yes","No","Yes","Yes","Yes","No","Yes","No","No","No","No","No","No","No","No","No","No","No","No","No","No","No","No","No","No","No",null,null,null,null,null,null,null,"Yes","No","No","No","No","No","No","No","Yes","No","No","No","Yes","No","No","Yes","No","No",null,null,null,null,null,null,null,null,null,null,"6-10",null,"6-10",null,"6-10","6-10",null,null,null,null,null,null,null,null,null,null,null,null,"feet",null,"feet",null,"feet","feet"]
["Dubautia scabra subsp. leiophylla",{"$error":"#N/A"},"Yes","No","No",{"$f":"IF($I$4=TRUE,INDEX($BZ$29:$DC1742,MATCH($A225,$AZ$29:$AZ$1000,0),MATCH($AC$2,$BZ$18:$DC$18,0)),\"Yes\")","v":"Yes"},"Yes","Yes","Yes","Yes","Yes","Yes","Yes","Yes",{"$error":"#N/A"},{"$error":"#N/A"},"Yes","Yes","Yes","Yes",{"$error":"#N/A"},{"$error":"#N/A"},{"$error":"#N/A"},{"$error":"#N/A"},null,null,null,null,null,null,null,null,null,null,null,null,null,null,null,null,null,null,null,null,null,null,null,null,null,null,null,"Dubautia scabra subsp. leiophylla","naenae - 2","naenae - 2","naenae - 2","naenae - 2","naenae - 2","naenae - 2","naenae - 2","naenae - 2","naenae - 2",250,8200,75,200,"Yes","No","No","No","No","Shrub","No","Yes","n/a","0-1","1-3",0,"Yes","Yes","Yes","No","Yes","Yes","Yes","Yes","Yes","Yes","Yes","No","No","No","No","No","No","No","No","No","No","No","No","No","No","No","No","No","No","No",null,null,null,null,null,null,null,"Yes","No","No","No","No","No","No","No","Yes","No","No","No","Yes","No","No","Yes","No","No",null,null,null,null,null,null,null,null,null,null,"",null,"",null,"","",null,null,null,null,null,null,null,null,null,null,null,null,"",null,"",null,"",""]
["Dubautia scabra subsp. scabra",{"$error":"#N/A"},{"$f":"INDEX($DK$29:$EC$1000,MATCH(AZ226,$AZ$29:$AZ$1000,0),MATCH($A$2,$DK$18:$EC$18,0))","v":"Yes"},{"$f":"IF(ISBLANK($C$6),\"No\",IF(AND($H$4=TRUE,BM226>$C$6),\"Yes\",IF(AND($C$6>=BL226,$C$6<=BM226),\"Yes\",\"No\")))","v":"No"},"No",{"$f":"IF($I$4=TRUE,INDEX($BZ$29:$DC1743,MATCH($A226,$AZ$29:$AZ$1000,0),MATCH($AC$2,$BZ$18:$DC$18,0)),\"Yes\")","v":"Yes"},"Yes","Yes","Yes","Yes",{"$f":"IF(AND(L226=\"Yes\",M226=\"Yes\"),\"Yes\",\"No\")","v":"Yes"},{"$f":"IF(AND($O$4=TRUE,BO226=\"Yes\"),\"no\",\"Yes\")","v":"Yes"},{"$f":"IF(AND($P$4=TRUE,BN226=\"Yes\"),\"No\",\"Yes\")","v":"Yes"},"Yes",{"$error":"#N/A"},{"$f":"IF(AND($Q$4=TRUE,U226=\"Yes\"),\"No\",IF(AND($Q$4=TRUE,U226=\"No\"),\"yes\",\"Yes\"))","v":{"$error":"#N/A"}},{"$f":"IF(OR(R226=\"Yes\",S226=\"Yes\",T226=\"Yes\"),\"Yes\",\"No\")","v":"Yes"},{"$f":"IF($W$7=\"Yes\",\"Yes\",IF($T$13=BS226,\"Yes\",\"No\"))","v":"Yes"},{"$f":"IF($W$7=\"Yes\",\"Yes\",IF($U$13=BS226,\"Yes\",\"No\"))","v":"Yes"},{"$f":"IF($W$7=\"Yes\",\"Yes\",IF($V$13=BS226,\"Yes\",\"No\"))","v":"Yes"},{"$error":"#N/A"},{"$error":"#N/A"},{"$error":"#N/A"},{"$error":"#N/A"},null,null,null,null,null,null,null,null,null,null,null,null,null,null,null,null,null,null,null,null,null,null,null,null,null,null,null,"Dubautia scabra subsp. scabra","naenae - 3","naenae - 3","naenae - 3","naenae - 3","naenae - 3","naenae - 3","naenae - 3","naenae - 3","naenae - 3",250,8200,75,200,"Yes","No","No","No","No","Shrub","No","Yes","n/a","0-1","1-3",0,"Yes","Yes","Yes","No","Yes","No","Yes","Yes","Yes","No","Yes","No","No","No","No","No","No","No","No","No","No","No","No","No","No","No","No","No","No","No",null,null,null,null,null,null,null,"Yes","No","No","No","No","No","No","No","Yes","No","No","No","Yes","No","No","Yes","No","No",null,null,null,null,null,null,null,null,null,null,"",null,"",null,"","",null,null,null,null,null,null,null,null,null,null,null,null,"",null,"",null,"",""]
["Durio zibethinus",{"$error":"#N/A"},"Yes","No","No",{"$f":"IF($I$4=TRUE,INDEX($BZ$29:$DC1744,MATCH($A227,$AZ$29:$AZ$1000,0),MATCH($AC$2,$BZ$18:$DC$18,0)),\"Yes\")","v":"Yes"},"Yes","Yes","Yes","Yes","Yes","Yes","Yes","Yes",{"$error":"#N/A"},{"$error":"#N/A"},"Yes","Yes","Yes","Yes",{"$error":"#N/A"},{"$error":"#N/A"},{"$error":"#N/A"},{"$error":"#N/A"},null,null,null,null,null,null,null,null,null,null,null,null,null,null,null,null,null,null,null,null,null,null,null,null,null,null,null,"Durio zibethinus","durian","durian","durian","durian","durian","durian","durian","durian","durian",20,1600,60,240,"Yes","Yes","No","No","No","Tree","No","No",-2,"40+","1-3",40,"Yes","No","Yes","No","Yes","No","Yes","No","Yes","No","Yes","No","Yes","No","Yes","No","Yes","No","Yes","No","Yes","No","Yes","No","Yes","No","Yes","No","Yes","No",null,null,null,null,null,null,null,"Yes","Yes","No","No","No","No","No","No","Yes","No","Yes","No","Yes","No","Yes","Yes","No","No",null,null,null,null,null,null,null,null,null,null,"10-20",null,"10-20",null,"10-20","10-20",null,null,null,null,null,null,null,null,null,null,null,null,"feet",null,"feet",null,"feet","feet"]
["Dypsis lutescens",{"$error":"#N/A"},"Yes","No","No",{"$f":"IF($I$4=TRUE,INDEX($BZ$29:$DC1745,MATCH($A228,$AZ$29:$AZ$1000,0),MATCH($AC$2,$BZ$18:$DC$18,0)),\"Yes\")","v":"Yes"},"Yes","Yes","Yes","Yes","Yes","Yes","Yes","Yes",{"$error":"#N/A"},{"$error":"#N/A"},"Yes","Yes","Yes","Yes",{"$error":"#N/A"},{"$error":"#N/A"},{"$error":"#N/A"},{"$error":"#N/A"},null,null,null,null,null,null,null,null,null,null,null,null,null,null,null,null,null,null,null,null,null,null,null,null,null,null,null,"Dypsis lutescens","areca palm","areca palm","areca palm","areca palm","areca palm","areca palm","areca palm","areca palm","areca palm",0,2000,40,150,"Yes","Yes","Yes","Yes","No","Tree","No","No",2,"25-40","1-3",25,"Yes","No","Yes","No","Yes","No","Yes","No","Yes","No","Yes","No","Yes","No","No","No","No","No","No","No","Yes","No","Yes","No","Yes","No","No","No","No","No","Synonym = Chrysalidocarpus lutescens.","Naturalized in Guam, CNMI and Palau, cultivated in Pohnpei",null,null,null,null,null,"Yes","Yes","No","No","No","No","No","No","Yes","No","Yes","No","Yes","No","No","Yes","No","Yes",null,null,null,null,null,null,null,null,null,null,"10-40",null,"10-40",null,"10-40","10-40",null,null,null,null,null,null,null,null,null,null,null,null,"feet",null,"feet",null,"feet","feet"]
["Dysoxylum maota",{"$error":"#N/A"},"Yes","No","No",{"$f":"IF($I$4=TRUE,INDEX($BZ$29:$DC1746,MATCH($A229,$AZ$29:$AZ$1000,0),MATCH($AC$2,$BZ$18:$DC$18,0)),\"Yes\")","v":"Yes"},"Yes","Yes","Yes","Yes","Yes","Yes","Yes","Yes",{"$error":"#N/A"},{"$error":"#N/A"},"Yes","Yes","Yes","Yes",{"$error":"#N/A"},{"$error":"#N/A"},{"$error":"#N/A"},{"$error":"#N/A"},null,null,null,null,null,null,null,null,null,null,null,null,null,null,null,null,null,null,null,null,null,null,null,null,null,null,null,"Dysoxylum maota","maota","maota","maota","maota","maota","maota","maota","maota","maota",20,1500,80,200,"Yes","Yes","No","No","No","Tree","No","Yes","n/a","25-40","1-3",30,"No","No","No","No","No","No","No","No","No","No","No","No","Yes","Yes","No","No","No","No","No","No","No","No","No","No","No","No","No","No","No","No","Forage and roosting habitat for bats in American Samoa.",null,null,null,null,null,null,"Yes","No","No","No","No","No","No","No","Yes","No","Yes","No","Yes","No","Yes","Yes","No","No",null,null,null,null,null,null,null,null,null,null,"10-20",null,"10-20",null,"10-20","10-20",null,null,null,null,null,null,null,null,null,null,null,null,"feet",null,"feet",null,"feet","feet"]
["Echinochloa colona ",{"$error":"#N/A"},"Yes","No","No",{"$f":"IF($I$4=TRUE,INDEX($BZ$29:$DC1747,MATCH($A230,$AZ$29:$AZ$1000,0),MATCH($AC$2,$BZ$18:$DC$18,0)),\"Yes\")","v":"Yes"},"Yes","Yes","Yes","Yes","Yes","Yes","Yes","Yes",{"$error":"#N/A"},{"$error":"#N/A"},"Yes","Yes","Yes","Yes",{"$error":"#N/A"},{"$error":"#N/A"},{"$error":"#N/A"},{"$error":"#N/A"},null,null,null,null,null,null,null,null,null,null,null,null,null,null,null,null,null,null,null,null,null,null,null,null,null,null,null,"Echinochloa colona ","jungle rice","jungle rice","jungle rice","jungle rice","jungle rice","jungle rice","jungle rice","jungle rice","jungle rice",0,900,80,200,"Yes","No","Yes","No","Yes","Herb","No","No","n/a","0-1","3+",0,"Yes","No","Yes","No","Yes","No","Yes","No","Yes","No","Yes","No","Yes","No","Yes","No","Yes","No","Yes","No","Yes","No","Yes","No","Yes","No","Yes","No","Yes","No",null,null,null,null,null,null,null,"Yes","No","No","No","No","No","No","No","No","No","No","No","No","Yes","No","No","No","No",null,null,null,null,null,null,null,null,null,null,"",null,"",null,"","",null,null,null,null,null,null,null,null,null,null,null,null,"",null,"",null,"",""]
["Echinochloa crus-galli",{"$error":"#N/A"},"Yes","No","No",{"$f":"IF($I$4=TRUE,INDEX($BZ$29:$DC1748,MATCH($A231,$AZ$29:$AZ$1000,0),MATCH($AC$2,$BZ$18:$DC$18,0)),\"Yes\")","v":"Yes"},"Yes","Yes","Yes","Yes","Yes","Yes","Yes","Yes",{"$error":"#N/A"},{"$error":"#N/A"},"Yes","Yes","Yes","Yes",{"$error":"#N/A"},{"$error":"#N/A"},{"$error":"#N/A"},{"$error":"#N/A"},null,null,null,null,null,null,null,null,null,null,null,null,null,null,null,null,null,null,null,null,null,null,null,null,null,null,null,"Echinochloa crus-galli","barnyardgrass","barnyardgrass","barnyardgrass","barnyardgrass","barnyardgrass","barnyardgrass","barnyardgrass","barnyardgrass","barnyardgrass",0,1700,80,200,"Yes","No","Yes","No","Yes","Herb","No","No","n/a","0-1","3+",0,"Yes","No","Yes","No","Yes","No","Yes","No","Yes","No","Yes","No","Yes","No","Yes","No","Yes","No","Yes","No","Yes","No","Yes","No","Yes","No","Yes","No","Yes","No",null,null,null,null,null,null,null,"Yes","No","No","No","No","No","No","No","No","No","No","No","No","Yes","No","No","No","No",null,null,null,null,null,null,null,null,null,null,"",null,"",null,"","",null,null,null,null,null,null,null,null,null,null,null,null,"",null,"",null,"",""]
["Elaeocarpus angustifolius",{"$error":"#N/A"},"Yes","No","No",{"$f":"IF($I$4=TRUE,INDEX($BZ$29:$DC1749,MATCH($A232,$AZ$29:$AZ$1000,0),MATCH($AC$2,$BZ$18:$DC$18,0)),\"Yes\")","v":"Yes"},"Yes","Yes","Yes","Yes","Yes","Yes","Yes","Yes",{"$error":"#N/A"},{"$error":"#N/A"},"Yes","Yes","Yes","Yes",{"$error":"#N/A"},{"$error":"#N/A"},{"$error":"#N/A"},{"$error":"#N/A"},null,null,null,null,null,null,null,null,null,null,null,null,null,null,null,null,null,null,null,null,null,null,null,null,null,null,null,"Elaeocarpus angustifolius","blue marble","blue marble","sapatua, blue marble","dekemerir, blue marble","blue marble","blue marble","blue marble","blue marble","blue marble",20,3600,50,200,"Yes","No","No","No","No","Tree","No","No",4,"40+","3+",60,"Yes","No","Yes","No","Yes","No","Yes","No","Yes","No","Yes","No","Yes","No","Yes","No","No","No","No","No","No","No","No","No","No","No","Yes","No","Yes","No",null,null,null,null,null,null,null,"Yes","No","No","No","No","No","No","No","Yes","No","Yes","No","Yes","No","Yes","Yes","No","No",null,null,null,null,null,null,null,null,null,null,"10-20",null,"10-20",null,"10-20","10-20"]
["Elaeocarpus carolinensis",{"$error":"#N/A"},"Yes","No","No",{"$f":"IF($I$4=TRUE,INDEX($BZ$29:$DC1750,MATCH($A233,$AZ$29:$AZ$1000,0),MATCH($AC$2,$BZ$18:$DC$18,0)),\"Yes\")","v":"Yes"},"Yes","Yes","Yes","Yes","Yes","Yes","Yes","Yes",{"$error":"#N/A"},{"$error":"#N/A"},"Yes","Yes","Yes","Yes",{"$error":"#N/A"},{"$error":"#N/A"},{"$error":"#N/A"},{"$error":"#N/A"},null,null,null,null,null,null,null,null,null,null,null,null,null,null,null,null,null,null,null,null,null,null,null,null,null,null,null,"Elaeocarpus carolinensis","sadak","sadak","sadak","sadak","sadak","sadak","sadak","sadak","sadak",20,1600,60,200,"Yes","No","No","No","No","Tree","No","Yes","n/a","25-40","1-3",30,"Yes","No","Yes","No","Yes","No","Yes","No","Yes","No","Yes","No","Yes","No","Yes","No","No","No","Yes","Yes","Yes","Yes","Yes","Yes","Yes","Yes","Yes","Yes","Yes","No",null,null,null,null,null,null,null,"Yes","Yes","No","No","No","No","No","No","Yes","No","Yes","No","Yes","No","Yes","Yes","No","No",null,null,null,null,null,null,null,null,null,null,"10-20",null,"10-20",null,"10-20","10-20"]
["Elaeocarpus joga",{"$error":"#N/A"},"Yes","No","No",{"$f":"IF($I$4=TRUE,INDEX($BZ$29:$DC1751,MATCH($A234,$AZ$29:$AZ$1000,0),MATCH($AC$2,$BZ$18:$DC$18,0)),\"Yes\")","v":"Yes"},"Yes","Yes","Yes","Yes","Yes","Yes","Yes","Yes",{"$error":"#N/A"},{"$error":"#N/A"},"Yes","Yes","Yes","Yes",{"$error":"#N/A"},{"$error":"#N/A"},{"$error":"#N/A"},{"$error":"#N/A"},null,null,null,null,null,null,null,null,null,null,null,null,null,null,null,null,null,null,null,null,null,null,null,null,null,null,null,"Elaeocarpus joga","Shiva's tears","yoga, Shiva's tears","Shiva's tears","ghumar, dekemerir, Shiva's tears","ghumar, Shiva's tears","ghumar, Shiva's tears","ghumar, Shiva's tears","ghumar, Shiva's tears","Shiva's tears",20,1700,60,120,"Yes","No","Yes","No","No","Tree","No","Yes","n/a","40+","1-3",30,"No","No","No","No","No","No","No","No","No","No","No","No","No","No","Yes","Yes","No","Yes","No","No","No","No","No","No","No","No","Yes","Yes","No","No",null,null,null,null,null,null,null,"Yes","Yes","No","No","No","No","No","No","Yes","No","Yes","No","Yes","No","Yes","Yes","No","No",null,null,null,null,null,null,null,null,null,null,"10-20",null,"10-20",null,"10-20","10-20",null,null,null,null,null,null,null,null,null,null,null,null,"feet",null,"feet",null,"feet","feet"]
["Elatostema calcareum",{"$error":"#N/A"},"Yes","No","No",{"$f":"IF($I$4=TRUE,INDEX($BZ$29:$DC1752,MATCH($A235,$AZ$29:$AZ$1000,0),MATCH($AC$2,$BZ$18:$DC$18,0)),\"Yes\")","v":"Yes"},"Yes","Yes","Yes","Yes","Yes","Yes","Yes","Yes",{"$error":"#N/A"},{"$error":"#N/A"},"Yes","Yes","Yes","Yes",{"$error":"#N/A"},{"$error":"#N/A"},{"$error":"#N/A"},{"$error":"#N/A"},null,null,null,null,null,null,null,null,null,null,null,null,null,null,null,null,null,null,null,null,null,null,null,null,null,null,null,"Elatostema calcareum","tapun ayuyu","tapun ayuyu","tapun ayuyu","tapun ayuyu","tapun ayuyu","tapun ayuyu","tapun ayuyu","tapun ayuyu","tapun ayuyu",0,1700,70,120,"No","Yes","No","No","No","Herb","No","Yes","n/a","1-25","3+",0,"No","No","No","No","No","No","No","No","No","No","No","No","No","No","Yes","Yes","No","No","No","No","No","No","No","No","No","No","Yes","Yes","No","No",null,null,null,null,null,null,null,"Yes","No","No","No","No","No","No","No","No","No","No","No","No","Yes","No","No","No","No",null,null,null,null,null,null,null,null,null,null,"",null,"",null,"","",null,null,null,null,null,null,null,null,null,null,null,null,"",null,"",null,"",""]
["Eleocharis geniculata ",{"$error":"#N/A"},"Yes","No","No",{"$f":"IF($I$4=TRUE,INDEX($BZ$29:$DC1753,MATCH($A236,$AZ$29:$AZ$1000,0),MATCH($AC$2,$BZ$18:$DC$18,0)),\"Yes\")","v":"Yes"},"Yes","Yes","Yes","Yes","Yes","Yes","Yes","Yes",{"$error":"#N/A"},{"$error":"#N/A"},"Yes","Yes","Yes","Yes",{"$error":"#N/A"},{"$error":"#N/A"},{"$error":"#N/A"},{"$error":"#N/A"},null,null,null,null,null,null,null,null,null,null,null,null,null,null,null,null,null,null,null,null,null,null,null,null,null,null,null,"Eleocharis geniculata ","spike rush","spike rush","spike rush","spike rush","spike rush","spike rush","spike rush","spike rush","spike rush",0,2400,80,200,"Yes","No","Yes","Yes","Yes","Herb","No","No","n/a","0-1","3+",0,"Yes","No","Yes","No","Yes","No","Yes","No","Yes","No","Yes","No","Yes","No","Yes","No","Yes","No","Yes","No","Yes","No","Yes","No","Yes","No","Yes","Yes","Yes","No",null,null,null,null,null,null,null,"Yes","No","No","No","No","No","No","No","No","No","No","No","No","Yes","No","No","No","No",null,null,null,null,null,null,null,null,null,null,"",null,"",null,"","",null,null,null,null,null,null,null,null,null,null,null,null,"",null,"",null,"",""]
["Enterolobium cyclocarpum",{"$error":"#N/A"},"Yes","No","No",{"$f":"IF($I$4=TRUE,INDEX($BZ$29:$DC1754,MATCH($A237,$AZ$29:$AZ$1000,0),MATCH($AC$2,$BZ$18:$DC$18,0)),\"Yes\")","v":"Yes"},"Yes","Yes","Yes","Yes","Yes","Yes","Yes","Yes",{"$error":"#N/A"},{"$error":"#N/A"},"Yes","Yes","Yes","Yes",{"$error":"#N/A"},{"$error":"#N/A"},{"$error":"#N/A"},{"$error":"#N/A"},null,null,null,null,null,null,null,null,null,null,null,null,null,null,null,null,null,null,null,null,null,null,null,null,null,null,null,"Enterolobium cyclocarpum","ear pod","ear pod","ear pod","ear pod","ear pod","ear pod","ear pod","ear pod","ear pod",0,4000,30,100,"Yes","No","No","No","No","Tree","Yes","No",3,"40+","3+",60,"Yes","No","Yes","No","Yes","No","Yes","No","Yes","No","Yes","No","Yes","No","Yes","No","Yes","No","Yes","No","Yes","No","Yes","No","Yes","No","Yes","No","Yes","No",null,null,null,null,null,null,null,"Yes","Yes","No","No","No","No","No","No","Yes","No","Yes","No","Yes","No","Yes","Yes","No","No",null,null,null,null,null,null,null,null,null,null,"10-40",null,"10-40",null,"10-40","10-40",null,null,null,null,null,null,null,null,null,null,null,null,"feet",null,"feet",null,"feet","feet"]
["Eragrostis variabilis",{"$error":"#N/A"},"Yes","No","No",{"$f":"IF($I$4=TRUE,INDEX($BZ$29:$DC1755,MATCH($A238,$AZ$29:$AZ$1000,0),MATCH($AC$2,$BZ$18:$DC$18,0)),\"Yes\")","v":"Yes"},"Yes","Yes","Yes","Yes","Yes","Yes","Yes","Yes",{"$error":"#N/A"},{"$error":"#N/A"},"Yes","Yes","Yes","Yes",{"$error":"#N/A"},{"$error":"#N/A"},{"$error":"#N/A"},{"$error":"#N/A"},null,null,null,null,null,null,null,null,null,null,null,null,null,null,null,null,null,null,null,null,null,null,null,null,null,null,null,"Eragrostis variabilis","emoloa, kawelu ","emoloa, kawelu ","emoloa, kawelu ","emoloa, kawelu ","emoloa, kawelu ","emoloa, kawelu ","emoloa, kawelu ","emoloa, kawelu ","emoloa, kawelu ",0,3500,50,160,"Yes","Yes","Yes","No","No","Herb","No","No","n/a","0-1","1-3",0,"Yes","Yes","Yes","Yes","Yes","Yes","Yes","Yes","Yes","Yes","Yes","Yes","Yes","Yes","Yes","Yes","Yes","Yes","Yes","Yes","Yes","Yes","Yes","Yes","Yes","Yes","Yes","Yes","Yes","Yes",null,null,null,null,null,null,null,"Yes","No","Yes","No","Yes","No","Yes","No","No","No","No","No","No","Yes","No","No","No","No",null,null,6,null,10,null,6,5,null,null,"",2,"",null,"","",null,null,null,null,"lbs/ac",null,"lbs/ac",null,"lbs/ac","lbs/ac",null,null,"","lbs/ac","",null,"",""]
["Eremochloa ophiuroides (hand planted)",{"$error":"#N/A"},"Yes","No","No",{"$f":"IF($I$4=TRUE,INDEX($BZ$29:$DC1756,MATCH($A239,$AZ$29:$AZ$1000,0),MATCH($AC$2,$BZ$18:$DC$18,0)),\"Yes\")","v":"Yes"},"Yes","Yes","Yes","Yes","Yes","Yes","Yes","Yes",{"$error":"#N/A"},{"$error":"#N/A"},"Yes","Yes","Yes","Yes",{"$error":"#N/A"},{"$error":"#N/A"},{"$error":"#N/A"},{"$error":"#N/A"},null,null,null,null,null,null,null,null,null,null,null,null,null,null,null,null,null,null,null,null,null,null,null,null,null,null,null,"Eremochloa ophiuroides (hand planted)","centipedegrass (hand planted)","centipedegrass (hand planted)","centipedegrass (hand planted)","centipedegrass (hand planted)","centipedegrass (hand planted)","centipedegrass (hand planted)","centipedegrass (hand planted)","centipedegrass (hand planted)","centipedegrass (hand planted)",0,2500,40,200,"Yes","No","Yes","No","No","Herb","No","No",8,"0-1","3+",0,"Yes","No","Yes","No","Yes","No","Yes","No","Yes","No","Yes","No","Yes","No","Yes","No","Yes","No","Yes","No","Yes","No","Yes","No","Yes","No","Yes","No","Yes","No",null,null,null,null,null,null,null,"Yes","No","No","No","Yes","Yes","Yes","No","No","No","No","No","No","Yes","No","No","No","No",null,null,null,null,1,1,1,null,null,null,"",null,"",null,"","",null,null,null,null,null,null,"3' x 3'","3' x 3'","4' x 4'",null,null,null,"",null,"",null,"",""]
["Eremochloa ophiuroides (seeded)",{"$error":"#N/A"},"Yes","No","No",{"$f":"IF($I$4=TRUE,INDEX($BZ$29:$DC1757,MATCH($A240,$AZ$29:$AZ$1000,0),MATCH($AC$2,$BZ$18:$DC$18,0)),\"Yes\")","v":"Yes"},"Yes","Yes","Yes","Yes","Yes","Yes","Yes","Yes",{"$error":"#N/A"},{"$error":"#N/A"},"Yes","Yes","Yes","Yes",{"$error":"#N/A"},{"$error":"#N/A"},{"$error":"#N/A"},{"$error":"#N/A"},null,null,null,null,null,null,null,null,null,null,null,null,null,null,null,null,null,null,null,null,null,null,null,null,null,null,null,"Eremochloa ophiuroides (seeded)","centipedegrass (seeded)","centipedegrass (seeded)","centipedegrass (seeded)","centipedegrass (seeded)","centipedegrass (seeded)","centipedegrass (seeded)","centipedegrass (seeded)","centipedegrass (seeded)","centipedegrass (seeded)",0,2500,40,200,"Yes","No","Yes","No","No","Herb","No","No",8,"0-1","3+",0,"Yes","No","Yes","No","Yes","No","Yes","No","Yes","No","Yes","No","Yes","No","Yes","No","Yes","No","Yes","No","Yes","No","Yes","No","Yes","No","Yes","No","Yes","No",null,null,null,null,null,null,null,"Yes","No","No","No","Yes","Yes","Yes","No","No","No","No","No","No","Yes","No","No","No","No",null,null,null,null,20,20,10,null,null,null,"",null,"",null,"","",null,null,null,null,null,null,"lbs/ac","lbs/ac","lbs/ac",null,null,null,"",null,"",null,"",""]
["Eremochloa ophiuroides (sprigged)",{"$error":"#N/A"},"Yes","No","No",{"$f":"IF($I$4=TRUE,INDEX($BZ$29:$DC1758,MATCH($A241,$AZ$29:$AZ$1000,0),MATCH($AC$2,$BZ$18:$DC$18,0)),\"Yes\")","v":"Yes"},"Yes","Yes","Yes","Yes","Yes","Yes","Yes","Yes",{"$error":"#N/A"},{"$error":"#N/A"},"Yes","Yes","Yes","Yes",{"$error":"#N/A"},{"$error":"#N/A"},{"$error":"#N/A"},{"$error":"#N/A"},null,null,null,null,null,null,null,null,null,null,null,null,null,null,null,null,null,null,null,null,null,null,null,null,null,null,null,"Eremochloa ophiuroides (sprigged)","centipedegrass (sprigged)","centipedegrass (sprigged)","centipedegrass (sprigged)","centipedegrass (sprigged)","centipedegrass (sprigged)","centipedegrass (sprigged)","centipedegrass (sprigged)","centipedegrass (sprigged)","centipedegrass (sprigged)",0,2500,40,200,"Yes","No","Yes","No","No","Herb","No","No",8,"0-1","3+",0,"Yes","No","Yes","No","Yes","No","Yes","No","Yes","No","Yes","No","Yes","No","Yes","No","Yes","No","Yes","No","Yes","No","Yes","No","Yes","No","Yes","No","Yes","No",null,null,null,null,null,null,null,"Yes","No","No","No","Yes","Yes","Yes","No","No","No","No","No","No","Yes","No","No","No","No",null,null,null,null,80,80,40,null,null,null,"",null,"",null,"","",null,null,null,null,null,null,"bu/ac","bu/ac","bu/ac",null,null,null,"",null,"",null,"",""]
["Erythrina sandwicensis",{"$error":"#N/A"},"Yes","No","No",{"$f":"IF($I$4=TRUE,INDEX($BZ$29:$DC1759,MATCH($A242,$AZ$29:$AZ$1000,0),MATCH($AC$2,$BZ$18:$DC$18,0)),\"Yes\")","v":"Yes"},"Yes","Yes","Yes","Yes","Yes","Yes","Yes","Yes",{"$error":"#N/A"},{"$error":"#N/A"},"Yes","Yes","Yes","Yes",{"$error":"#N/A"},{"$error":"#N/A"},{"$error":"#N/A"},{"$error":"#N/A"},null,null,null,null,null,null,null,null,null,null,null,null,null,null,null,null,null,null,null,null,null,null,null,null,null,null,null,"Erythrina sandwicensis","wiliwili","wiliwili","wiliwili","wiliwili","wiliwili","wiliwili","wiliwili","wiliwili","wiliwili",0,2000,15,80,"Yes","No","Yes","No","No","Tree","Yes","Yes","n/a","25-40","1-3",20,"Yes","Yes","Yes","Yes","Yes","Yes","Yes","Yes","Yes","Yes","Yes","Yes","No","No","No","No","No","No","No","No","No","No","No","No","No","No","No","No","No","No","Dry forest.",null,null,null,null,null,null,"Yes","Yes","No","No","No","No","No","No","Yes","No","Yes","No","Yes","No","Yes","Yes","No","No",null,null,null,null,null,null,null,null,null,null,"10-20",null,"10-20",null,"10-20","10-20",null,null,null,null,null,null,null,null,null,null,null,null,"feet",null,"feet",null,"feet","feet"]
["Erythrina variagata",{"$error":"#N/A"},"Yes","No","No",{"$f":"IF($I$4=TRUE,INDEX($BZ$29:$DC1760,MATCH($A243,$AZ$29:$AZ$1000,0),MATCH($AC$2,$BZ$18:$DC$18,0)),\"Yes\")","v":"Yes"},"Yes","Yes","Yes","Yes","Yes","Yes","Yes","Yes",{"$error":"#N/A"},{"$error":"#N/A"},"Yes","Yes","Yes","Yes",{"$error":"#N/A"},{"$error":"#N/A"},{"$error":"#N/A"},{"$error":"#N/A"},null,null,null,null,null,null,null,null,null,null,null,null,null,null,null,null,null,null,null,null,null,null,null,null,null,null,null,"Erythrina variagata","coral tree","gaogao, gabgab, coral tree","gatae, coral tree","roro, coral tree","pahr, parepein, coral tree","coral tree","paar, coral tree","raar, coral tree","coral tree",0,1700,20,60,"Yes","No","Yes","Yes","Yes","Tree","No","Yes","n/a","25-40","1-3",40,"No","No","No","No","No","No","No","No","No","No","No","No","Yes","Yes","No","Yes","No","Yes","Yes","Yes","Yes","No","Yes","No","Yes","No","Yes","Yes","No","No",null,"Not available in State of Hawaii or Marianas archipelago due to Erythrina gall wasp.",null,null,null,null,null,"Yes","Yes","No","No","No","No","No","No","Yes","No","Yes","No","Yes","No","Yes","Yes","No","No",null,null,null,null,null,null,null,null,null,null,"10-40",null,"10-40",null,"10-40","10-40",null,null,null,null,null,null,null,null,null,null,null,null,"feet",null,"feet",null,"feet","feet"]
["Eucalyptus camaldulensis",{"$error":"#N/A"},"Yes","No","No",{"$f":"IF($I$4=TRUE,INDEX($BZ$29:$DC1761,MATCH($A244,$AZ$29:$AZ$1000,0),MATCH($AC$2,$BZ$18:$DC$18,0)),\"Yes\")","v":"Yes"},"Yes","Yes","Yes","Yes","Yes","Yes","Yes","Yes",{"$error":"#N/A"},{"$error":"#N/A"},"Yes","Yes","Yes","Yes",{"$error":"#N/A"},{"$error":"#N/A"},{"$error":"#N/A"},{"$error":"#N/A"},null,null,null,null,null,null,null,null,null,null,null,null,null,null,null,null,null,null,null,null,null,null,null,null,null,null,null,"Eucalyptus camaldulensis","red river gum","red river gum","red river gum","red river gum","red river gum","red river gum","red river gum","red river gum","red river gum",20,4900,10,30,"Yes","No","Yes","Yes","Yes","Tree","No","No",12,"40+","3+",60,"Yes","No","Yes","No","Yes","No","Yes","No","Yes","No","Yes","No","No","No","No","No","No","No","No","No","No","No","No","No","No","No","No","No","No","No","Suitable for very dry areas in Hawaii.  Good forage for honey bees.","Maximum rainfall intentionally limited because this species has invasive potential.",null,null,null,null,null,"Yes","Yes","No","No","No","No","No","No","Yes","No","Yes","No","Yes","No","Yes","Yes","No","Yes",null,null,null,null,null,null,null,null,null,null,"10-20",null,"10-20",null,"10-20","10-20",null,null,null,null,null,null,null,null,null,null,null,null,"feet",null,"feet",null,"feet","feet"]
["Eucalyptus crebra",{"$error":"#N/A"},"Yes","No","No",{"$f":"IF($I$4=TRUE,INDEX($BZ$29:$DC1762,MATCH($A245,$AZ$29:$AZ$1000,0),MATCH($AC$2,$BZ$18:$DC$18,0)),\"Yes\")","v":"Yes"},"Yes","Yes","Yes","Yes","Yes","Yes","Yes","Yes",{"$error":"#N/A"},{"$error":"#N/A"},"Yes","Yes","Yes","Yes",{"$error":"#N/A"},{"$error":"#N/A"},{"$error":"#N/A"},{"$error":"#N/A"},null,null,null,null,null,null,null,null,null,null,null,null,null,null,null,null,null,null,null,null,null,null,null,null,null,null,null,"Eucalyptus crebra","narrow-leaved ironbark","narrow-leaved ironbark","narrow-leaved ironbark","narrow-leaved ironbark","narrow-leaved ironbark","narrow-leaved ironbark","narrow-leaved ironbark","narrow-leaved ironbark","narrow-leaved ironbark",20,3500,20,70,"Yes","No","Yes","No","No","Tree","No","No",-1,"25-40","1-3",40,"Yes","No","Yes","No","Yes","No","Yes","No","Yes","No","Yes","No","No","No","No","No","No","No","No","No","No","No","No","No","No","No","No","No","No","No","Good forage for honey bees.",null,null,null,null,null,null,"Yes","Yes","No","No","No","No","No","No","Yes","No","Yes","No","Yes","No","Yes","Yes","No","Yes",null,null,null,null,null,null,null,null,null,null,"10-20",null,"10-20",null,"10-20","10-20",null,null,null,null,null,null,null,null,null,null,null,null,"feet",null,"feet",null,"feet","feet"]
["Eucalyptus deglupta",{"$error":"#N/A"},"Yes","No","No",{"$f":"IF($I$4=TRUE,INDEX($BZ$29:$DC1763,MATCH($A246,$AZ$29:$AZ$1000,0),MATCH($AC$2,$BZ$18:$DC$18,0)),\"Yes\")","v":"Yes"},"Yes","Yes","Yes","Yes","Yes","Yes","Yes","Yes",{"$error":"#N/A"},{"$error":"#N/A"},"Yes","Yes","Yes","Yes",{"$error":"#N/A"},{"$error":"#N/A"},{"$error":"#N/A"},{"$error":"#N/A"},null,null,null,null,null,null,null,null,null,null,null,null,null,null,null,null,null,null,null,null,null,null,null,null,null,null,null,"Eucalyptus deglupta","Mindanao gum, rainbow gum","Mindanao gum, rainbow gum","Mindanao gum, rainbow gum","Mindanao gum, rainbow gum","Mindanao gum, rainbow gum","Mindanao gum, rainbow gum","Mindanao gum, rainbow gum","Mindanao gum, rainbow gum","Mindanao gum, rainbow gum",20,3500,30,160,"Yes","No","Yes","No","No","Tree","No","No",2,"40+","3+",80,"Yes","No","Yes","No","Yes","No","Yes","No","Yes","No","Yes","No","Yes","No","Yes","No","Yes","No","Yes","No","Yes","No","No","No","No","No","Yes","No","No","No",null,null,null,null,null,null,null,"Yes","Yes","No","No","No","No","No","No","Yes","No","Yes","No","Yes","No","Yes","Yes","No","Yes",null,null,null,null,null,null,null,null,null,null,"10-20",null,"10-20",null,"10-20","10-20",null,null,null,null,null,null,null,null,null,null,null,null,"feet",null,"feet",null,"feet","feet"]
["Eucalyptus microcorys",{"$error":"#N/A"},"Yes","No","No",{"$f":"IF($I$4=TRUE,INDEX($BZ$29:$DC1764,MATCH($A247,$AZ$29:$AZ$1000,0),MATCH($AC$2,$BZ$18:$DC$18,0)),\"Yes\")","v":"Yes"},"Yes","Yes","Yes","Yes","Yes","Yes","Yes","Yes",{"$error":"#N/A"},{"$error":"#N/A"},"Yes","Yes","Yes","Yes",{"$error":"#N/A"},{"$error":"#N/A"},{"$error":"#N/A"},{"$error":"#N/A"},null,null,null,null,null,null,null,null,null,null,null,null,null,null,null,null,null,null,null,null,null,null,null,null,null,null,null,"Eucalyptus microcorys","tallowwood","tallowwood","tallowwood","tallowwood","tallowwood","tallowwood","tallowwood","tallowwood","tallowwood",20,3500,40,160,"Yes","No","Yes","No","No","Tree","No","No",1,"40+","3+",70,"Yes","No","Yes","No","Yes","No","Yes","No","Yes","No","Yes","No","No","No","No","No","No","No","No","No","No","No","No","No","No","No","No","No","No","No","Good forage for honey bees.",null,null,null,null,null,null,"Yes","Yes","No","No","No","No","No","No","Yes","No","Yes","No","Yes","No","Yes","Yes","No","Yes",null,null,null,null,null,null,null,null,null,null,"10-20",null,"10-20",null,"10-20","10-20",null,null,null,null,null,null,null,null,null,null,null,null,"feet",null,"feet",null,"feet","feet"]
["Eucalyptus robusta",{"$error":"#N/A"},"Yes","No","No",{"$f":"IF($I$4=TRUE,INDEX($BZ$29:$DC1765,MATCH($A248,$AZ$29:$AZ$1000,0),MATCH($AC$2,$BZ$18:$DC$18,0)),\"Yes\")","v":"Yes"},"Yes","Yes","Yes","Yes","Yes","Yes","Yes","Yes",{"$error":"#N/A"},{"$error":"#N/A"},"Yes","Yes","Yes","Yes",{"$error":"#N/A"},{"$error":"#N/A"},{"$error":"#N/A"},{"$error":"#N/A"},null,null,null,null,null,null,null,null,null,null,null,null,null,null,null,null,null,null,null,null,null,null,null,null,null,null,null,"Eucalyptus robusta","swamp mahogany","swamp mahogany","swamp mahogany","swamp mahogany","swamp mahogany","swamp mahogany","swamp mahogany","swamp mahogany","swamp mahogany",100,3500,40,160,"Yes","Yes","Yes","No","Yes","Tree","No","No",3,"40+","3+",50,"Yes","No","Yes","No","Yes","No","Yes","No","Yes","No","Yes","No","No","No","No","No","No","No","No","No","No","No","No","No","No","No","No","No","No","No","Good forage for honey bees.",null,null,null,null,null,null,"Yes","No","No","No","No","No","No","No","Yes","No","Yes","No","Yes","No","Yes","Yes","No","Yes",null,null,null,null,null,null,null,null,null,null,"10-20",null,"10-20",null,"10-20","10-20",null,null,null,null,null,null,null,null,null,null,null,null,"feet",null,"feet",null,"feet","feet"]
["Eucalyptus sideroxylon",{"$error":"#N/A"},"Yes","No","No",{"$f":"IF($I$4=TRUE,INDEX($BZ$29:$DC1766,MATCH($A249,$AZ$29:$AZ$1000,0),MATCH($AC$2,$BZ$18:$DC$18,0)),\"Yes\")","v":"Yes"},"Yes","Yes","Yes","Yes","Yes","Yes","Yes","Yes",{"$error":"#N/A"},{"$error":"#N/A"},"Yes","Yes","Yes","Yes",{"$error":"#N/A"},{"$error":"#N/A"},{"$error":"#N/A"},{"$error":"#N/A"},null,null,null,null,null,null,null,null,null,null,null,null,null,null,null,null,null,null,null,null,null,null,null,null,null,null,null,"Eucalyptus sideroxylon","red ironbark","red ironbark","red ironbark","red ironbark","red ironbark","red ironbark","red ironbark","red ironbark","red ironbark",20,3500,20,50,"Yes","No","Yes","No","No","Tree","No","No",2,"25-40","1-3",40,"Yes","No","Yes","No","Yes","No","Yes","No","Yes","No","Yes","No","No","No","No","No","No","No","No","No","No","No","No","No","No","No","No","No","No","No","Good forage for honey bees.",null,null,null,null,null,null,"Yes","Yes","No","No","No","No","No","No","Yes","No","Yes","No","Yes","No","Yes","Yes","No","Yes",null,null,null,null,null,null,null,null,null,null,"10-20",null,"10-20",null,"10-20","10-20",null,null,null,null,null,null,null,null,null,null,null,null,"feet",null,"feet",null,"feet","feet"]
["Eugenia palumbis",{"$error":"#N/A"},"Yes","No","No",{"$f":"IF($I$4=TRUE,INDEX($BZ$29:$DC1767,MATCH($A250,$AZ$29:$AZ$1000,0),MATCH($AC$2,$BZ$18:$DC$18,0)),\"Yes\")","v":"Yes"},"Yes","Yes","Yes","Yes","Yes","Yes","Yes","Yes",{"$error":"#N/A"},{"$error":"#N/A"},"Yes","Yes","Yes","Yes",{"$error":"#N/A"},{"$error":"#N/A"},{"$error":"#N/A"},{"$error":"#N/A"},null,null,null,null,null,null,null,null,null,null,null,null,null,null,null,null,null,null,null,null,null,null,null,null,null,null,null,"Eugenia palumbis","agatelang, doni chaca","agatelang, doni chaca","agatelang, doni chaca","agatelang, doni chaca","aghotoleng","aghotoleng","aghotoleng","aghotoleng","agatelang, doni chaca",20,1700,70,120,"Yes","Yes","Yes","Yes","No","Shrub","No","Yes","n/a","1-25","1-3",12,"No","No","No","No","No","No","No","No","No","No","No","No","No","No","Yes","Yes","No","No","No","No","No","No","No","No","No","No","No","No","No","No",null,null,null,null,null,null,null,"Yes","Yes","No","No","No","No","No","No","Yes","No","Yes","No","Yes","No","No","Yes","No","No",null,null,null,null,null,null,null,null,null,null,"",null,"",null,"","",null,null,null,null,null,null,null,null,null,null,null,null,"",null,"",null,"",""]
["Eugenia reinwardtiana",{"$error":"#N/A"},"Yes","No","No",{"$f":"IF($I$4=TRUE,INDEX($BZ$29:$DC1768,MATCH($A251,$AZ$29:$AZ$1000,0),MATCH($AC$2,$BZ$18:$DC$18,0)),\"Yes\")","v":"Yes"},"Yes","Yes","Yes","Yes","Yes","Yes","Yes","Yes",{"$error":"#N/A"},{"$error":"#N/A"},"Yes","Yes","Yes","Yes",{"$error":"#N/A"},{"$error":"#N/A"},{"$error":"#N/A"},{"$error":"#N/A"},null,null,null,null,null,null,null,null,null,null,null,null,null,null,null,null,null,null,null,null,null,null,null,null,null,null,null,"Eugenia reinwardtiana","nioi, mountain stopper","aabang, mountain stopper","unuoi, mountain stopper","kesiill, mountain stopper","mountain stopper","mountain stopper","mountain stopper","alfanispan, mountain stopper","mountain stopper",20,1700,70,150,"Yes","Yes","Yes","No","No","Tree","No","Yes","n/a","25-40","1-3",20,"Yes","No","Yes","Yes","Yes","No","Yes","Yes","Yes","Yes","Yes","Yes","Yes","Yes","Yes","Yes","No","No","No","No","No","No","No","No","Yes","Yes","Yes","Yes","No","No",null,null,null,null,null,null,null,"Yes","Yes","No","No","No","No","No","No","Yes","No","Yes","No","Yes","No","No","Yes","No","No",null,null,null,null,null,null,null,null,null,null,"8-12",null,"8-12",null,"8-12","8-12",null,null,null,null,null,null,null,null,null,null,null,null,"feet",null,"feet",null,"feet","feet"]
["Euphorbia celastroides var. amplectens",{"$error":"#N/A"},"Yes","No","No",{"$f":"IF($I$4=TRUE,INDEX($BZ$29:$DC1769,MATCH($A252,$AZ$29:$AZ$1000,0),MATCH($AC$2,$BZ$18:$DC$18,0)),\"Yes\")","v":"Yes"},"Yes","Yes","Yes","Yes","Yes","Yes","Yes","Yes",{"$error":"#N/A"},{"$error":"#N/A"},"Yes","Yes","Yes","Yes",{"$error":"#N/A"},{"$error":"#N/A"},{"$error":"#N/A"},{"$error":"#N/A"},null,null,null,null,null,null,null,null,null,null,null,null,null,null,null,null,null,null,null,null,null,null,null,null,null,null,null,"Euphorbia celastroides var. amplectens","akoko - 1","akoko - 1","akoko - 1","akoko - 1","akoko - 1","akoko - 1","akoko - 1","akoko - 1","akoko - 1",800,5900,25,120,"Yes","No","No","No","No","Shrub","No","Yes","n/a","1-25","1-3",6,"Yes","Yes","Yes","Yes","Yes","Yes","Yes","Yes","Yes","Yes","Yes","Yes","No","No","No","No","No","No","No","No","No","No","No","No","No","No","No","No","No","No","Upland form, mesic forest.  Synonym for genus = Chamaesycee.",null,null,null,null,null,null,"Yes","Yes","No","No","No","No","No","No","Yes","No","Yes","No","Yes","No","No","Yes","No","No",null,null,null,null,null,null,null,null,null,null,"",null,"",null,"","",null,null,null,null,null,null,null,null,null,null,null,null,"",null,"",null,"",""]
["Euphorbia celastroides var. stokesii",{"$error":"#N/A"},"Yes","No","No",{"$f":"IF($I$4=TRUE,INDEX($BZ$29:$DC1770,MATCH($A253,$AZ$29:$AZ$1000,0),MATCH($AC$2,$BZ$18:$DC$18,0)),\"Yes\")","v":"Yes"},"Yes","Yes","Yes","Yes","Yes","Yes","Yes","Yes",{"$error":"#N/A"},{"$error":"#N/A"},"Yes","Yes","Yes","Yes",{"$error":"#N/A"},{"$error":"#N/A"},{"$error":"#N/A"},{"$error":"#N/A"},null,null,null,null,null,null,null,null,null,null,null,null,null,null,null,null,null,null,null,null,null,null,null,null,null,null,null,"Euphorbia celastroides var. stokesii","akoko - 2","akoko - 2","akoko - 2","akoko - 2","akoko - 2","akoko - 2","akoko - 2","akoko - 2","akoko - 2",0,800,15,120,"Yes","No","Yes","Yes","No","Shrub","No","Yes","n/a","1-25","1-3",3,"Yes","No","Yes","Yes","Yes","No","Yes","No","Yes","Yes","Yes","No","No","No","No","No","No","No","No","No","No","No","No","No","No","No","No","No","No","No","Coastal form.  Synonym for genus = Chamaesycee.",null,null,null,null,null,null,"Yes","Yes","No","No","No","No","No","No","Yes","No","Yes","No","Yes","No","No","Yes","No","No",null,null,null,null,null,null,null,null,null,null,"",null,"",null,"","",null,null,null,null,null,null,null,null,null,null,null,null,"",null,"",null,"",""]
["Euphorbia degeneri",{"$error":"#N/A"},"Yes","No","No",{"$f":"IF($I$4=TRUE,INDEX($BZ$29:$DC1771,MATCH($A254,$AZ$29:$AZ$1000,0),MATCH($AC$2,$BZ$18:$DC$18,0)),\"Yes\")","v":"Yes"},"Yes","Yes","Yes","Yes","Yes","Yes","Yes","Yes",{"$error":"#N/A"},{"$error":"#N/A"},"Yes","Yes","Yes","Yes",{"$error":"#N/A"},{"$error":"#N/A"},{"$error":"#N/A"},{"$error":"#N/A"},null,null,null,null,null,null,null,null,null,null,null,null,null,null,null,null,null,null,null,null,null,null,null,null,null,null,null,"Euphorbia degeneri","akoko - 3","akoko - 3","akoko - 3","akoko - 3","akoko - 3","akoko - 3","akoko - 3","akoko - 3","akoko - 3",0,800,15,120,"Yes","No","Yes","Yes","No","Shrub","No","Yes","n/a","0-1","1-3",0,"Yes","Yes","Yes","Yes","Yes","No","Yes","Yes","Yes","Yes","Yes","Yes","No","No","No","No","No","No","No","No","No","No","No","No","No","No","No","No","No","No","Synonym = Chamaesycee degeneri.",null,null,null,null,null,null,"Yes","Yes","No","No","No","No","No","No","Yes","No","Yes","No","Yes","No","No","Yes","No","No",null,null,null,null,null,null,null,null,null,null,"",null,"",null,"","",null,null,null,null,null,null,null,null,null,null,null,null,"",null,"",null,"",""]
["Euphorbia multiformis var. microphylla",{"$error":"#N/A"},"Yes","No",{"$f":"IF(A$2=\"Cover Crop (340)\",\"Yes\",IF(ISBLANK($C$7),\"No\",IF(AND($C$7>=BJ255,$C$7<=BK255),\"Yes\",\"No\")))","v":"No"},{"$f":"IF($I$4=TRUE,INDEX($BZ$29:$DC1772,MATCH($A255,$AZ$29:$AZ$1000,0),MATCH($AC$2,$BZ$18:$DC$18,0)),\"Yes\")","v":"Yes"},"Yes","Yes","Yes","Yes","Yes","Yes","Yes","Yes",{"$error":"#N/A"},{"$error":"#N/A"},"Yes","Yes","Yes","Yes",{"$error":"#N/A"},{"$error":"#N/A"},{"$error":"#N/A"},{"$error":"#N/A"},null,null,null,null,null,null,null,null,null,null,null,null,null,null,null,null,null,null,null,null,null,null,null,null,null,null,null,"Euphorbia multiformis var. microphylla","akoko - 4","akoko - 4","akoko - 4","akoko - 4","akoko - 4","akoko - 4","akoko - 4","akoko - 4","akoko - 4",400,1650,25,200,"Yes","Yes","No","No","No","Shrub","No","Yes","n/a","1-25","1-3",4,"Yes","No","Yes","No","Yes","No","Yes","Yes","Yes","Yes","Yes","Yes","No","No","No","No","No","No","No","No","No","No","No","No","No","No","No","No","No","No","Synonym for genus = Chamaesycee.",null,null,null,null,null,null,"Yes","Yes","No","No","No","No","No","No","Yes","No","Yes","No","Yes","No","No","Yes","No","No",null,null,null,null,null,null,null,null,null,null,"",null,"",null,"","",null,null,null,null,null,null,null,null,null,null,null,null,"",null,"",null,"",""]
["Euphorbia multiformis var. multiformis",{"$error":"#N/A"},"Yes","No","No",{"$f":"IF($I$4=TRUE,INDEX($BZ$29:$DC1773,MATCH($A256,$AZ$29:$AZ$1000,0),MATCH($AC$2,$BZ$18:$DC$18,0)),\"Yes\")","v":"Yes"},"Yes","Yes","Yes","Yes","Yes","Yes","Yes","Yes",{"$error":"#N/A"},{"$error":"#N/A"},"Yes","Yes","Yes","Yes",{"$error":"#N/A"},{"$error":"#N/A"},{"$error":"#N/A"},{"$error":"#N/A"},null,null,null,null,null,null,null,null,null,null,null,null,null,null,null,null,null,null,null,null,null,null,null,null,null,null,null,"Euphorbia multiformis var. multiformis","akoko - 5","akoko - 5","akoko - 5","akoko - 5","akoko - 5","akoko - 5","akoko - 5","akoko - 5","akoko - 5",400,1650,25,200,"Yes","Yes","No","No","No","Shrub","No","Yes","n/a","1-25","1-3",4,"Yes","No","Yes","No","Yes","No","Yes","Yes","Yes","No","Yes","Yes","No","No","No","No","No","No","No","No","No","No","No","No","No","No","No","No","No","No","Synonym for genus = Chamaesycee.",null,null,null,null,null,null,"Yes","Yes","No","No","No","No","No","No","Yes","No","Yes","No","Yes","No","No","Yes","No","No",null,null,null,null,null,null,null,null,null,null,"",null,"",null,"","",null,null,null,null,null,null,null,null,null,null,null,null,"",null,"",null,"",""]
["Euphorbia olowaluana",{"$error":"#N/A"},"Yes","No","No",{"$f":"IF($I$4=TRUE,INDEX($BZ$29:$DC1774,MATCH($A257,$AZ$29:$AZ$1000,0),MATCH($AC$2,$BZ$18:$DC$18,0)),\"Yes\")","v":"Yes"},"Yes","Yes","Yes","Yes","Yes","Yes","Yes","Yes",{"$error":"#N/A"},{"$error":"#N/A"},"Yes","Yes","Yes","Yes",{"$error":"#N/A"},{"$error":"#N/A"},{"$error":"#N/A"},{"$error":"#N/A"},null,null,null,null,null,null,null,null,null,null,null,null,null,null,null,null,null,null,null,null,null,null,null,null,null,null,null,"Euphorbia olowaluana","akoko - 6","akoko - 6","akoko - 6","akoko - 6","akoko - 6","akoko - 6","akoko - 6","akoko - 6","akoko - 6",2000,9200,20,70,"Yes","No","Yes","No","No","Tree","No","Yes","n/a","1-25","1-3",10,"Yes","Yes","Yes","No","Yes","No","Yes","Yes","Yes","No","Yes","No","No","No","No","No","No","No","No","No","No","No","No","No","No","No","No","No","No","No","Synonym = Chamaesycee olowaluana",null,null,null,null,null,null,"Yes","Yes","No","No","No","No","No","No","Yes","No","Yes","No","Yes","No","No","Yes","No","No",null,null,null,null,null,null,null,null,null,null,"8-12",null,"8-12",null,"8-12","8-12",null,null,null,null,null,null,null,null,null,null,null,null,"feet",null,"feet",null,"feet","feet"]
["Fagopyrum esculentum",{"$error":"#N/A"},"Yes","No","No",{"$f":"IF($I$4=TRUE,INDEX($BZ$29:$DC1775,MATCH($A258,$AZ$29:$AZ$1000,0),MATCH($AC$2,$BZ$18:$DC$18,0)),\"Yes\")","v":"Yes"},"Yes","Yes","Yes","Yes","Yes","Yes","Yes","Yes",{"$error":"#N/A"},{"$error":"#N/A"},"Yes","Yes","Yes","Yes",{"$error":"#N/A"},{"$error":"#N/A"},{"$error":"#N/A"},{"$error":"#N/A"},null,null,null,null,null,null,null,null,null,null,null,null,null,null,null,null,null,null,null,null,null,null,null,null,null,null,null,"Fagopyrum esculentum","buckwheat","buckwheat","buckwheat","buckwheat","buckwheat","buckwheat","buckwheat","buckwheat","buckwheat",20,4000,40,200,"Yes","No","Yes","No","No","Herb","No","No",-6,"1-25","3+",0,"Yes","No","Yes","No","Yes","No","Yes","No","Yes","No","Yes","No","Yes","No","Yes","No","Yes","No","Yes","No","Yes","No","Yes","No","Yes","No","Yes","No","Yes","No","This species performs best in a soil with a pH range of 4.5-6.5.  When allowed to grow for 30 days a producer should expect 1.5 tons of above ground biomass which will contain approximately 18 lbs of Nitrogen per ton.",null,"CS",null,null,null,null,"Yes","No","No","Yes","No","No","No","No","No","No","No","No","No","Yes","No","No","No","No",null,null,null,60,60,null,null,null,null,null,"",null,"",null,"","",null,null,null,null,null,"lbs/ac","lbs/ac",null,null,null,null,null,"",null,"",null,"",""]
["Fagraea berteroana",{"$error":"#N/A"},"Yes","No","No",{"$f":"IF($I$4=TRUE,INDEX($BZ$29:$DC1776,MATCH($A259,$AZ$29:$AZ$1000,0),MATCH($AC$2,$BZ$18:$DC$18,0)),\"Yes\")","v":"Yes"},"Yes","Yes","Yes","Yes","Yes","Yes","Yes","Yes",{"$error":"#N/A"},{"$error":"#N/A"},"Yes","Yes","Yes","Yes",{"$error":"#N/A"},{"$error":"#N/A"},{"$error":"#N/A"},{"$error":"#N/A"},null,null,null,null,null,null,null,null,null,null,null,null,null,null,null,null,null,null,null,null,null,null,null,null,null,null,null,"Fagraea berteroana","pua kine kine","wengu","pualulu","chelilai","seir, berteroana","berteroana","seewur peengas, apet","berteroana","berteroana",20,3000,40,200,"Yes","No","No","No","No","Tree","No","Yes",-1,"1-25","3+",12,"Yes","No","Yes","No","Yes","No","Yes","No","Yes","No","Yes","No","Yes","Yes","Yes","No","Yes","No","Yes","No","Yes","No","Yes","No","Yes","No","Yes","No","Yes","No","Synonym = Fagraea berteriana.",null,null,null,null,null,null,"Yes","Yes","No","No","No","No","No","No","Yes","No","Yes","No","Yes","No","No","Yes","No","No",null,null,null,null,null,null,null,null,null,null,"8-12",null,"8-12",null,"8-12","8-12",null,null,null,null,null,null,null,null,null,null,null,null,"feet",null,"feet",null,"feet","feet"]
["Fagraea ksid",{"$error":"#N/A"},"Yes","No","No",{"$f":"IF($I$4=TRUE,INDEX($BZ$29:$DC1777,MATCH($A260,$AZ$29:$AZ$1000,0),MATCH($AC$2,$BZ$18:$DC$18,0)),\"Yes\")","v":"Yes"},"Yes","Yes","Yes","Yes","Yes","Yes","Yes","Yes",{"$error":"#N/A"},{"$error":"#N/A"},"Yes","Yes","Yes","Yes",{"$error":"#N/A"},{"$error":"#N/A"},{"$error":"#N/A"},{"$error":"#N/A"},null,null,null,null,null,null,null,null,null,null,null,null,null,null,null,null,null,null,null,null,null,null,null,null,null,null,null,"Fagraea ksid","Fagraea ksid","Fagraea ksid","Fagraea ksid","ksid","Fagraea ksid","Fagraea ksid","Fagraea ksid","Fagraea ksid","Fagraea ksid",20,800,70,170,"Yes","No","No","No","No","Tree","No","Yes","n/a","1-25","3+",12,"No","No","No","No","No","No","No","No","No","No","No","No","No","No","No","No","No","No","No","No","No","No","No","No","No","No","Yes","Yes","No","No",null,null,null,null,null,null,null,"Yes","Yes","No","No","No","No","No","No","Yes","No","Yes","No","Yes","No","No","Yes","No","No",null,null,null,null,null,null,null,null,null,null,"8-12",null,"8-12",null,"8-12","8-12",null,null,null,null,null,null,null,null,null,null,null,null,"feet",null,"feet",null,"feet","feet"]
["Ficus carica",{"$error":"#N/A"},"Yes","No","No",{"$f":"IF($I$4=TRUE,INDEX($BZ$29:$DC1778,MATCH($A261,$AZ$29:$AZ$1000,0),MATCH($AC$2,$BZ$18:$DC$18,0)),\"Yes\")","v":"Yes"},"Yes","Yes","Yes","Yes","Yes","Yes","Yes","Yes",{"$error":"#N/A"},{"$error":"#N/A"},"Yes","Yes","Yes","Yes",{"$error":"#N/A"},{"$error":"#N/A"},{"$error":"#N/A"},{"$error":"#N/A"},null,null,null,null,null,null,null,null,null,null,null,null,null,null,null,null,null,null,null,null,null,null,null,null,null,null,null,"Ficus carica","fig (common)","fig (common), higos","fig (common)","uosech, fig (common)","fig (common)","fig (common)","fig (common)","fig (common)","wojke piik, fig (common)",20,5000,20,80,"Yes","No","No","No","No","Tree","No","No",2,"1-25","3+",12,"Yes","No","Yes","No","Yes","No","Yes","No","Yes","No","Yes","No","Yes","No","Yes","No","Yes","No","Yes","No","Yes","No","Yes","No","Yes","No","Yes","No","Yes","No",null,null,null,null,null,null,null,"Yes","Yes","No","No","No","No","No","No","Yes","No","Yes","No","Yes","No","No","Yes","No","No",null,null,null,null,null,null,null,null,null,null,"8-12",null,"8-12",null,"8-12","8-12",null,null,null,null,null,null,null,null,null,null,null,null,"feet",null,"feet",null,"feet","feet"]
["Ficus copiosa",{"$error":"#N/A"},"Yes","No","No",{"$f":"IF($I$4=TRUE,INDEX($BZ$29:$DC1779,MATCH($A262,$AZ$29:$AZ$1000,0),MATCH($AC$2,$BZ$18:$DC$18,0)),\"Yes\")","v":"Yes"},"Yes","Yes","Yes","Yes","Yes","Yes","Yes","Yes",{"$error":"#N/A"},{"$error":"#N/A"},"Yes","Yes","Yes","Yes",{"$error":"#N/A"},{"$error":"#N/A"},{"$error":"#N/A"},{"$error":"#N/A"},null,null,null,null,null,null,null,null,null,null,null,null,null,null,null,null,null,null,null,null,null,null,null,null,null,null,null,"Ficus copiosa","plentiful fig","plentiful fig","plentiful fig","badhahal, bedegal, plentiful fig","plentiful fig","plentiful fig","plentiful fig","plentiful fig","plentiful fig",20,2600,70,170,"Yes","Yes","Yes","No","No","Shrub","No","Yes","n/a","1-25","1-3",6,"No","No","No","No","No","No","No","No","No","No","No","No","No","No","No","No","No","No","No","No","No","No","No","No","Yes","Yes","Yes","Yes","No","No",null,null,null,null,null,null,null,"Yes","No","No","No","No","No","No","No","Yes","No","Yes","No","Yes","No","No","Yes","No","No",null,null,null,null,null,null,null,null,null,null,"",null,"",null,"","",null,null,null,null,null,null,null,null,null,null,null,null,"",null,"",null,"",""]
["Ficus godeffroyi",{"$error":"#N/A"},"Yes","No","No",{"$f":"IF($I$4=TRUE,INDEX($BZ$29:$DC1780,MATCH($A263,$AZ$29:$AZ$1000,0),MATCH($AC$2,$BZ$18:$DC$18,0)),\"Yes\")","v":"Yes"},"Yes","Yes","Yes","Yes","Yes","Yes","Yes","Yes",{"$error":"#N/A"},{"$error":"#N/A"},"Yes","Yes","Yes","Yes",{"$error":"#N/A"},{"$error":"#N/A"},{"$error":"#N/A"},{"$error":"#N/A"},null,null,null,null,null,null,null,null,null,null,null,null,null,null,null,null,null,null,null,null,null,null,null,null,null,null,null,"Ficus godeffroyi","mati","mati","mati","mati","mati","mati","mati","mati","mati",20,3000,70,200,"Yes","Yes","Yes","No","No","Tree","No","Yes","n/a","1-25","1-3",15,"No","No","No","No","No","No","No","No","No","No","No","No","Yes","Yes","No","No","No","No","No","No","No","No","No","No","No","No","No","No","No","No",null,null,null,null,null,null,null,"Yes","No","No","No","No","No","No","No","Yes","No","Yes","No","Yes","No","No","Yes","No","No",null,null,null,null,null,null,null,null,null,null,"10-20",null,"10-20",null,"10-20","10-20",null,null,null,null,null,null,null,null,null,null,null,null,"feet",null,"feet",null,"feet","feet"]
["Ficus microcarpa var. latifolia",{"$error":"#N/A"},"Yes","No","No",{"$f":"IF($I$4=TRUE,INDEX($BZ$29:$DC1781,MATCH($A264,$AZ$29:$AZ$1000,0),MATCH($AC$2,$BZ$18:$DC$18,0)),\"Yes\")","v":"Yes"},"Yes","Yes","Yes","Yes","Yes","Yes","Yes","Yes",{"$error":"#N/A"},{"$error":"#N/A"},"Yes","Yes","Yes","Yes",{"$error":"#N/A"},{"$error":"#N/A"},{"$error":"#N/A"},{"$error":"#N/A"},null,null,null,null,null,null,null,null,null,null,null,null,null,null,null,null,null,null,null,null,null,null,null,null,null,null,null,"Ficus microcarpa var. latifolia","Chinese banyan - 1","Chinese banyan","Chinese banyan - 1","badhahal, lulk, Chinese banyan - 1","Chinese banyan - 1","Chinese banyan - 1","Chinese banyan - 1","Chinese banyan - 1","Chinese banyan - 1",20,1700,20,200,"Yes","Yes","Yes","No","No","Tree","No","Yes",10,"25-40","1-3",20,"No","No","No","No","No","No","No","No","No","No","No","No","No","No","No","No","No","No","No","No","No","No","No","No","No","No","Yes","Yes","No","No",null,null,null,null,null,null,null,"Yes","No","No","No","No","No","No","No","Yes","No","No","No","Yes","No","Yes","Yes","No","No",null,null,null,null,null,null,null,null,null,null,"10-40",null,"10-40",null,"10-40","10-40",null,null,null,null,null,null,null,null,null,null,null,null,"feet",null,"feet",null,"feet","feet"]
["Ficus microcarpa var. microcarpa",{"$error":"#N/A"},"Yes","No","No",{"$f":"IF($I$4=TRUE,INDEX($BZ$29:$DC1782,MATCH($A265,$AZ$29:$AZ$1000,0),MATCH($AC$2,$BZ$18:$DC$18,0)),\"Yes\")","v":"Yes"},"Yes","Yes","Yes","Yes","Yes","Yes","Yes","Yes",{"$error":"#N/A"},{"$error":"#N/A"},"Yes","Yes","Yes","Yes",{"$error":"#N/A"},{"$error":"#N/A"},{"$error":"#N/A"},{"$error":"#N/A"},null,null,null,null,null,null,null,null,null,null,null,null,null,null,null,null,null,null,null,null,null,null,null,null,null,null,null,"Ficus microcarpa var. microcarpa","Chinese banyan - 2","nunu","Chinese banyan - 2","badhahal, lulk, Chinese banyan - 2","Chinese banyan - 2","Chinese banyan - 2","Chinese banyan - 2","Chinese banyan - 2","Chinese banyan - 2",20,1700,20,200,"Yes","Yes","Yes","No","No","Tree","No","Yes",10,"25-40","1-3",20,"No","No","No","No","No","No","No","No","No","No","No","No","No","No","Yes","Yes","No","No","No","No","Yes","Yes","No","No","Yes","Yes","Yes","Yes","No","No",null,null,null,null,null,null,null,"Yes","No","No","No","No","No","No","No","Yes","No","No","No","Yes","No","Yes","Yes","No","No",null,null,null,null,null,null,null,null,null,null,"10-40",null,"10-40",null,"10-40","10-40",null,null,null,null,null,null,null,null,null,null,null,null,"feet",null,"feet",null,"feet","feet"]
["Ficus obliqua",{"$error":"#N/A"},"Yes","No","No",{"$f":"IF($I$4=TRUE,INDEX($BZ$29:$DC1783,MATCH($A266,$AZ$29:$AZ$1000,0),MATCH($AC$2,$BZ$18:$DC$18,0)),\"Yes\")","v":"Yes"},"Yes","Yes","Yes","Yes","Yes","Yes","Yes","Yes",{"$error":"#N/A"},{"$error":"#N/A"},"Yes","Yes","Yes","Yes",{"$error":"#N/A"},{"$error":"#N/A"},{"$error":"#N/A"},{"$error":"#N/A"},null,null,null,null,null,null,null,null,null,null,null,null,null,null,null,null,null,null,null,null,null,null,null,null,null,null,null,"Ficus obliqua","aoa","aoa","aoa","aoa","aoa","aoa","aoa","aoa","aoa",20,3000,70,200,"Yes","Yes","Yes","No","No","Tree","No","Yes","n/a","40+","1-3",25,"No","No","No","No","No","No","No","No","No","No","No","No","Yes","Yes","No","No","No","No","No","No","No","No","No","No","No","No","No","No","No","No",null,null,null,null,null,null,null,"Yes","No","No","No","No","No","No","No","Yes","No","No","No","Yes","No","Yes","Yes","No","No",null,null,null,null,null,null,null,null,null,null,"10-40",null,"10-40",null,"10-40","10-40",null,null,null,null,null,null,null,null,null,null,null,null,"feet",null,"feet",null,"feet","feet"]
["Ficus prolixa",{"$error":"#N/A"},"Yes","No","No",{"$f":"IF($I$4=TRUE,INDEX($BZ$29:$DC1784,MATCH($A267,$AZ$29:$AZ$1000,0),MATCH($AC$2,$BZ$18:$DC$18,0)),\"Yes\")","v":"Yes"},"Yes","Yes","Yes","Yes","Yes","Yes","Yes","Yes",{"$error":"#N/A"},{"$error":"#N/A"},"Yes","Yes","Yes","Yes",{"$error":"#N/A"},{"$error":"#N/A"},{"$error":"#N/A"},{"$error":"#N/A"},null,null,null,null,null,null,null,null,null,null,null,null,null,null,null,null,null,null,null,null,null,null,null,null,null,null,null,"Ficus prolixa","banyan","nunu, banyan","aoa, banyan","badhahal, lulk, banyan","aiau, banyan","kohnyah, banyan","aaw, kiliau, banyan","aw, banyan","banyan",20,1700,50,200,"Yes","Yes","Yes","No","No","Tree","No","Yes","n/a","25-40","1-3",20,"No","No","No","No","No","No","No","No","No","No","No","No","Yes","Yes","Yes","Yes","Yes","Yes","Yes","Yes","Yes","Yes","Yes","Yes","Yes","Yes","Yes","Yes","No","No",null,null,null,null,null,null,null,"Yes","No","No","No","No","No","No","No","Yes","No","No","No","Yes","No","Yes","Yes","No","No",null,null,null,null,null,null,null,null,null,null,"10-40",null,"10-40",null,"10-40","10-40",null,null,null,null,null,null,null,null,null,null,null,null,"feet",null,"feet",null,"feet","feet"]
["Ficus saffordii",{"$error":"#N/A"},"Yes","No","No",{"$f":"IF($I$4=TRUE,INDEX($BZ$29:$DC1785,MATCH($A268,$AZ$29:$AZ$1000,0),MATCH($AC$2,$BZ$18:$DC$18,0)),\"Yes\")","v":"Yes"},"Yes","Yes","Yes","Yes","Yes","Yes","Yes","Yes",{"$error":"#N/A"},{"$error":"#N/A"},"Yes","Yes","Yes","Yes",{"$error":"#N/A"},{"$error":"#N/A"},{"$error":"#N/A"},{"$error":"#N/A"},null,null,null,null,null,null,null,null,null,null,null,null,null,null,null,null,null,null,null,null,null,null,null,null,null,null,null,"Ficus saffordii","nunu","nunu","nunu","badhahal, lulk","nunu","nunu","nunu","nunu","nunu",20,1700,70,200,"Yes","Yes","Yes","No","No","Tree","No","Yes","n/a","25-40","1-3",15,"No","No","No","No","No","No","No","No","No","No","No","No","No","No","Yes","Yes","No","No","No","No","No","No","No","No","No","No","yes","Yes","No","No",null,null,null,null,null,null,null,"Yes","No","No","No","No","No","No","No","Yes","No","No","No","Yes","No","Yes","Yes","No","No",null,null,null,null,null,null,null,null,null,null,"10-40",null,"10-40",null,"10-40","10-40",null,null,null,null,null,null,null,null,null,null,null,null,"feet",null,"feet",null,"feet","feet"]
["Ficus sagitata",{"$error":"#N/A"},"Yes","No","No",{"$f":"IF($I$4=TRUE,INDEX($BZ$29:$DC1786,MATCH($A269,$AZ$29:$AZ$1000,0),MATCH($AC$2,$BZ$18:$DC$18,0)),\"Yes\")","v":"Yes"},"Yes","Yes","Yes","Yes","Yes","Yes","Yes","Yes",{"$error":"#N/A"},{"$error":"#N/A"},"Yes","Yes","Yes","Yes",{"$error":"#N/A"},{"$error":"#N/A"},{"$error":"#N/A"},{"$error":"#N/A"},null,null,null,null,null,null,null,null,null,null,null,null,null,null,null,null,null,null,null,null,null,null,null,null,null,null,null,"Ficus sagitata","badhahal, lulk - 1","badhahal, lulk - 1","badhahal, lulk - 1","badhahal, lulk - 1","badhahal, lulk - 1","badhahal, lulk - 1","badhahal, lulk - 1","badhahal, lulk - 1","badhahal, lulk - 1",20,800,70,170,"Yes","Yes","Yes","No","No","Shrub","No","Yes","n/a","1-25","1-3",5,"No","No","No","No","No","No","No","No","No","No","No","No","No","No","No","No","No","No","No","No","No","No","No","No","No","No","Yes","Yes","No","No",null,null,null,null,null,null,null,"Yes","No","No","No","No","No","No","No","Yes","No","Yes","No","Yes","No","No","Yes","No","No",null,null,null,null,null,null,null,null,null,null,"",null,"",null,"","",null,null,null,null,null,null,null,null,null,null,null,null,"",null,"",null,"",""]
["Ficus scabra",{"$error":"#N/A"},"Yes","No","No",{"$f":"IF($I$4=TRUE,INDEX($BZ$29:$DC1787,MATCH($A270,$AZ$29:$AZ$1000,0),MATCH($AC$2,$BZ$18:$DC$18,0)),\"Yes\")","v":"Yes"},"Yes","Yes","Yes","Yes","Yes","Yes","Yes","Yes",{"$error":"#N/A"},{"$error":"#N/A"},"Yes","Yes","Yes","Yes",{"$error":"#N/A"},{"$error":"#N/A"},{"$error":"#N/A"},{"$error":"#N/A"},null,null,null,null,null,null,null,null,null,null,null,null,null,null,null,null,null,null,null,null,null,null,null,null,null,null,null,"Ficus scabra","mati vao, mati ata, purple fig","mati vao, mati ata, purple fig","mati vao, mati ata, purple fig","mati vao, mati ata, purple fig","mati vao, mati ata, purple fig","mati vao, mati ata, purple fig","mati vao, mati ata, purple fig","mati vao, mati ata, purple fig","mati vao, mati ata, purple fig",0,1000,70,200,"Yes","Yes","Yes","No","No","Tree","No","Yes","n/a","1-25","1-3",15,"No","No","No","No","No","No","No","No","No","No","No","No","Yes","Yes","No","No","No","No","No","No","No","No","No","No","No","No","No","No","No","No",null,null,null,null,null,null,null,"Yes","No","No","No","No","No","No","No","Yes","No","No","No","Yes","No","Yes","Yes","No","No",null,null,null,null,null,null,null,null,null,null,"10-40",null,"10-40",null,"10-40","10-40",null,null,null,null,null,null,null,null,null,null,null,null,"feet",null,"feet",null,"feet","feet"]
["Ficus senfftiana",{"$error":"#N/A"},"Yes","No","No",{"$f":"IF($I$4=TRUE,INDEX($BZ$29:$DC1788,MATCH($A271,$AZ$29:$AZ$1000,0),MATCH($AC$2,$BZ$18:$DC$18,0)),\"Yes\")","v":"Yes"},"Yes","Yes","Yes","Yes","Yes","Yes","Yes","Yes",{"$error":"#N/A"},{"$error":"#N/A"},"Yes","Yes","Yes","Yes",{"$error":"#N/A"},{"$error":"#N/A"},{"$error":"#N/A"},{"$error":"#N/A"},null,null,null,null,null,null,null,null,null,null,null,null,null,null,null,null,null,null,null,null,null,null,null,null,null,null,null,"Ficus senfftiana","badhahal, lulk - 2","badhahal, lulk - 2","badhahal, lulk - 2","badhahal, lulk - 2","badhahal, lulk - 2","badhahal, lulk - 2","badhahal, lulk - 2","badhahal, lulk - 2","badhahal, lulk - 2",0,300,70,170,"Yes","Yes","Yes","No","No","Tree","No","Yes","n/a","1-25","1-3",15,"No","No","No","No","No","No","No","No","No","No","No","No","No","No","No","No","No","No","No","No","No","No","No","No","Yes","Yes","Yes","Yes","No","No",null,null,null,null,null,null,null,"Yes","No","No","No","No","No","No","No","Yes","No","Yes","No","Yes","No","No","Yes","No","No",null,null,null,null,null,null,null,null,null,null,"10-20",null,"10-20",null,"10-20","10-20",null,null,null,null,null,null,null,null,null,null,null,null,"feet",null,"feet",null,"feet","feet"]
["Ficus tikoua",{"$error":"#N/A"},"Yes","No","No",{"$f":"IF($I$4=TRUE,INDEX($BZ$29:$DC1789,MATCH($A272,$AZ$29:$AZ$1000,0),MATCH($AC$2,$BZ$18:$DC$18,0)),\"Yes\")","v":"Yes"},"Yes","Yes","Yes","Yes","Yes","Yes","Yes","Yes",{"$error":"#N/A"},{"$error":"#N/A"},"Yes","Yes","Yes","Yes",{"$error":"#N/A"},{"$f":"IF(AND(C$7<=X272,C$7>=W272),\"Yes\",\"No\")","v":{"$error":"#N/A"}},{"$error":"#N/A"},{"$error":"#N/A"},null,null,null,null,null,null,null,null,null,null,null,null,null,null,null,null,null,null,null,null,null,null,null,null,null,null,null,"Ficus tikoua","Waipahu fig","Waipahu fig","Waipahu fig","Waipahu fig","Waipahu fig","Waipahu fig","Waipahu fig","Waipahu fig","Waipahu fig",20,2000,40,200,"Yes","Yes","Yes","No","No","Shrub","No","No",-3,"1-25","1-3",2,"Yes","No","Yes","No","Yes","No","Yes","No","Yes","No","Yes","No","No","No","No","No","No","No","No","No","No","No","No","No","No","No","No","No","No","No","Used as a ground cover.",null,null,null,null,null,null,"Yes","No","No","No","No","No","No","No","Yes","No","Yes","No","Yes","No","No","Yes","No","No",null,null,null,null,null,null,null,null,null,null,"",null,"",null,"","",null,null,null,null,null,null,null,null,null,null,null,null,"",null,"",null,"",""]
["Ficus tinctoria",{"$error":"#N/A"},"Yes","No","No",{"$f":"IF($I$4=TRUE,INDEX($BZ$29:$DC1790,MATCH($A273,$AZ$29:$AZ$1000,0),MATCH($AC$2,$BZ$18:$DC$18,0)),\"Yes\")","v":"Yes"},"Yes","Yes","Yes","Yes","Yes","Yes","Yes","Yes",{"$error":"#N/A"},{"$error":"#N/A"},"Yes","Yes","Yes","Yes",{"$error":"#N/A"},{"$error":"#N/A"},{"$error":"#N/A"},{"$error":"#N/A"},null,null,null,null,null,null,null,null,null,null,null,null,null,null,null,null,null,null,null,null,null,null,null,null,null,null,null,"Ficus tinctoria","dyer's fig","hoda, dyer's fig","mati, dyer's fig","oseked, dyer's fig","nihn, dyer's fig","srah, dyer's fig","awen, apwinis, dyer's fig","wachguy, dyer's fig","topodo, tebro, dyer's fig",0,1700,50,200,"Yes","Yes","Yes","Yes","No","Tree","No","Yes","n/a","1-25","1-3",15,"No","No","No","No","No","No","No","No","No","No","No","No","Yes","Yes","Yes","Yes","Yes","Yes","Yes","Yes","Yes","Yes","Yes","No","Yes","No","Yes","No","Yes","No",null,null,null,null,null,null,null,"Yes","No","No","No","No","No","No","No","Yes","No","Yes","No","Yes","No","No","Yes","No","No",null,null,null,null,null,null,null,null,null,null,"10-20",null,"10-20",null,"10-20","10-20",null,null,null,null,null,null,null,null,null,null,null,null,"feet",null,"feet",null,"feet","feet"]
["Filicium decipiens",{"$error":"#N/A"},"Yes","No","No",{"$f":"IF($I$4=TRUE,INDEX($BZ$29:$DC1791,MATCH($A274,$AZ$29:$AZ$1000,0),MATCH($AC$2,$BZ$18:$DC$18,0)),\"Yes\")","v":"Yes"},"Yes","Yes","Yes","Yes","Yes","Yes","Yes","Yes",{"$error":"#N/A"},{"$error":"#N/A"},"Yes","Yes","Yes","Yes",{"$error":"#N/A"},{"$error":"#N/A"},{"$error":"#N/A"},{"$error":"#N/A"},null,null,null,null,null,null,null,null,null,null,null,null,null,null,null,null,null,null,null,null,null,null,null,null,null,null,null,"Filicium decipiens","fern tree ","fern tree ","fern tree ","fern tree ","fern tree ","fern tree ","fern tree ","fern tree ","fern tree ",20,3000,40,80,"Yes","Yes","No","No","No","Tree","No","No",5,"25-40","1-3",30,"Yes","No","Yes","No","Yes","No","Yes","No","Yes","No","Yes","No","No","No","Yes","No","Yes","No","No","No","No","No","No","No","No","No","No","No","No","No",null,"Naturalized Guam, Hawaii, Maui and Oahu",null,null,null,null,null,"Yes","Yes","No","No","No","No","No","No","Yes","No","Yes","No","Yes","No","Yes","Yes","No","No",null,null,null,null,null,null,null,null,null,null,"10-20",null,"10-20",null,"10-20","10-20",null,null,null,null,null,null,null,null,null,null,null,null,"feet",null,"feet",null,"feet","feet"]
["Fimbristylis cymosa",{"$error":"#N/A"},"Yes","No","No",{"$f":"IF($I$4=TRUE,INDEX($BZ$29:$DC1792,MATCH($A275,$AZ$29:$AZ$1000,0),MATCH($AC$2,$BZ$18:$DC$18,0)),\"Yes\")","v":"Yes"},"Yes","Yes","Yes","Yes","Yes","Yes","Yes","Yes",{"$error":"#N/A"},{"$error":"#N/A"},"Yes","Yes","Yes","Yes",{"$error":"#N/A"},{"$f":"IF(AND(C$7<=X275,C$7>=W275),\"Yes\",\"No\")","v":{"$error":"#N/A"}},{"$error":"#N/A"},{"$error":"#N/A"},null,null,null,null,null,null,null,null,null,null,null,null,null,null,null,null,null,null,null,null,null,null,null,null,null,null,null,"Fimbristylis cymosa","mauuakiaki, tropical fimbry","tropical fimbry","tropical fimbry","tropical fimbry","tropical fimbry","tropical fimbry","enenikke, pwuker, tropical fimbry","tropical fimbry","padalij aan, tropical fimbry",0,200,15,200,"Yes","No","Yes","Yes","Yes","Herb","No","Yes","n/a","0-1","0-1",0,"Yes","Yes","Yes","Yes","Yes","Yes","Yes","Yes","Yes","Yes","Yes","Yes","Yes","Yes","Yes","Yes","Yes","Yes","Yes","Yes","Yes","Yes","Yes","Yes","Yes","Yes","Yes","Yes","Yes","Yes",null,null,null,null,null,null,null,"Yes","No","No","No","No","No","No","No","No","No","No","No","No","No","No","No","No","No",null,null,null,null,null,null,null,null,null,null,"",null,"",null,"","",null,null,null,null,null,null,null,null,null,null,null,null,"",null,"",null,"",""]
["Flacourtia rukam",{"$error":"#N/A"},"Yes","No","No",{"$f":"IF($I$4=TRUE,INDEX($BZ$29:$DC1793,MATCH($A276,$AZ$29:$AZ$1000,0),MATCH($AC$2,$BZ$18:$DC$18,0)),\"Yes\")","v":"Yes"},"Yes","Yes","Yes","Yes","Yes","Yes","Yes","Yes",{"$error":"#N/A"},{"$error":"#N/A"},"Yes","Yes","Yes","Yes",{"$error":"#N/A"},{"$error":"#N/A"},{"$f":"IF(AF$1394=\"Tropical\",BJ276,IF(AND($C$8=\"Winter\",DF276=\"CS\"),BJ276-500,BJ276))","v":{"$error":"#N/A"}},{"$f":"IF(AF$1394=\"Tropical\",BK276,IF(AND($C$8=\"Winter\",DF276=\"WS\"),BK276-500,BK276))","v":{"$error":"#N/A"}},null,null,null,null,null,null,null,null,null,null,null,null,null,null,null,null,null,null,null,null,null,null,null,null,null,null,null,"Flacourtia rukam","filimoto, Indian plum","filimoto, Indian plum","filimoto, Indian plum","filimoto, Indian plum","filimoto, Indian plum","filimoto, Indian plum","filimoto, Indian plum","filimoto, Indian plum","filimoto, Indian plum",20,2500,80,200,"Yes","Yes","No","No","No","Tree","No","Yes","n/a","25-40","1-3",30,"No","No","No","No","No","No","No","No","No","No","No","No","Yes","Yes","No","No","No","No","No","No","No","No","No","No","No","No","No","No","No","No","Fruit is edible.",null,null,null,null,null,null,"Yes","Yes","No","No","No","No","No","No","Yes","No","Yes","No","Yes","No","Yes","Yes","No","No",null,null,null,null,null,null,null,null,null,null,"10-20",null,"10-20",null,"10-20","10-20",null,null,null,null,null,null,null,null,null,null,null,null,"feet",null,"feet",null,"feet","feet"]
["Flueggea flexuosa",{"$error":"#N/A"},"Yes","No","No",{"$f":"IF($I$4=TRUE,INDEX($BZ$29:$DC1794,MATCH($A277,$AZ$29:$AZ$1000,0),MATCH($AC$2,$BZ$18:$DC$18,0)),\"Yes\")","v":"Yes"},"Yes","Yes","Yes","Yes","Yes","Yes","Yes","Yes",{"$error":"#N/A"},{"$error":"#N/A"},"Yes","Yes","Yes","Yes",{"$error":"#N/A"},{"$error":"#N/A"},{"$error":"#N/A"},{"$error":"#N/A"},null,null,null,null,null,null,null,null,null,null,null,null,null,null,null,null,null,null,null,null,null,null,null,null,null,null,null,"Flueggea flexuosa","poumuli ","poumuli ","poumuli ","poumuli ","poumuli ","poumuli ","poumuli ","poumuli ","poumuli ",0,2000,70,175,"Yes","No","Yes","No","No","Tree","No","No",7,"25-40","1-3",45,"No","No","No","No","No","No","No","No","No","No","No","No","Yes","No","No","No","No","No","No","No","No","No","No","No","No","No","No","No","No","No",null,"Naturalized on Tau (American Samoa)",null,null,null,null,null,"Yes","Yes","No","No","No","No","No","No","Yes","No","Yes","No","Yes","No","Yes","Yes","No","Yes",null,null,null,null,null,null,null,null,null,null,"10-20",null,"10-20",null,"10-20","10-20",null,null,null,null,null,null,null,null,null,null,null,null,"feet",null,"feet",null,"feet","feet"]
["Garcinia mangostana",{"$error":"#N/A"},"Yes","No","No",{"$f":"IF($I$4=TRUE,INDEX($BZ$29:$DC1795,MATCH($A278,$AZ$29:$AZ$1000,0),MATCH($AC$2,$BZ$18:$DC$18,0)),\"Yes\")","v":"Yes"},"Yes","Yes","Yes","Yes","Yes","Yes","Yes","Yes",{"$error":"#N/A"},{"$error":"#N/A"},"Yes","Yes","Yes","Yes",{"$error":"#N/A"},{"$error":"#N/A"},{"$error":"#N/A"},{"$error":"#N/A"},null,null,null,null,null,null,null,null,null,null,null,null,null,null,null,null,null,null,null,null,null,null,null,null,null,null,null,"Garcinia mangostana","mangosteen","mangosteen","mangosteen","mangosteen","mangosteen","mangosteen","mangosteen","mangosteen","mangosteen",20,1500,60,240,"Yes","Yes","No","No","No","Tree","No","No",-5,"40+","1-3",20,"Yes","No","Yes","No","Yes","No","Yes","No","Yes","No","Yes","No","Yes","No","Yes","No","Yes","No","Yes","No","Yes","No","Yes","No","Yes","No","Yes","No","Yes","No","Expect reliable fruiting only below 1,000 foot elevation.  Fruiting typically begins 8-10+ years after seedlings are planted.",null,null,null,null,null,null,"Yes","Yes","No","No","No","No","No","No","Yes","No","Yes","No","Yes","No","No","Yes","No","No",null,null,null,null,null,null,null,null,null,null,"10-20",null,"10-20",null,"10-20","10-20",null,null,null,null,null,null,null,null,null,null,null,null,"feet",null,"feet",null,"feet","feet"]
["Gardenia taitensis",{"$error":"#N/A"},"Yes","No","No",{"$f":"IF($I$4=TRUE,INDEX($BZ$29:$DC1796,MATCH($A279,$AZ$29:$AZ$1000,0),MATCH($AC$2,$BZ$18:$DC$18,0)),\"Yes\")","v":"Yes"},"Yes","Yes","Yes","Yes","Yes","Yes","Yes","Yes",{"$error":"#N/A"},{"$error":"#N/A"},"Yes","Yes","Yes","Yes",{"$error":"#N/A"},{"$f":"IF(AND(C$7<=X279,C$7>=W279),\"Yes\",\"No\")","v":{"$error":"#N/A"}},{"$error":"#N/A"},{"$error":"#N/A"},null,null,null,null,null,null,null,null,null,null,null,null,null,null,null,null,null,null,null,null,null,null,null,null,null,null,null,"Gardenia taitensis","Tahitian gardenia, tiare","Tahitian gardenia, tiare","pua Samoa, Tahitian gardenia","Tahitian gardenia, tiare","Tahitian gardenia, tiare","Tahitian gardenia, tiare","Tahitian gardenia, tiare","Tahitian gardenia, tiare","Tahitian gardenia, tiare",20,500,40,200,"Yes","No","Yes","Yes","No","Shrub","No","No",-4,"1-25","1-3",8,"Yes","No","Yes","No","Yes","No","Yes","No","Yes","No","Yes","No","Yes","No","Yes","No","Yes","No","Yes","No","Yes","No","Yes","No","Yes","No","Yes","No","Yes","No",null,null,null,null,null,null,null,"Yes","Yes","No","No","No","No","No","No","Yes","No","Yes","No","Yes","No","No","Yes","No","No",null,null,null,null,null,null,null,null,null,null,"",null,"",null,"","",null,null,null,null,null,null,null,null,null,null,null,null,"",null,"",null,"",""]
["Geniostoma micranthum",{"$error":"#N/A"},"Yes","No","No",{"$f":"IF($I$4=TRUE,INDEX($BZ$29:$DC1797,MATCH($A280,$AZ$29:$AZ$1000,0),MATCH($AC$2,$BZ$18:$DC$18,0)),\"Yes\")","v":"Yes"},"Yes","Yes","Yes","Yes","Yes","Yes","Yes","Yes",{"$error":"#N/A"},{"$error":"#N/A"},"Yes","Yes","Yes","Yes",{"$error":"#N/A"},{"$f":"IF(AND(C$7<=X280,C$7>=W280),\"Yes\",\"No\")","v":{"$error":"#N/A"}},{"$error":"#N/A"},{"$error":"#N/A"},null,null,null,null,null,null,null,null,null,null,null,null,null,null,null,null,null,null,null,null,null,null,null,null,null,null,null,"Geniostoma micranthum","mahlok hayu, annaser","mahlok hayu, annaser","mahlok hayu, annaser","mahlok hayu, annaser","mahlok hayu, annaser","mahlok hayu, annaser","mahlok hayu, annaser","mahlok hayu, annaser","mahlok hayu, annaser",100,1700,70,120,"Yes","Yes","Yes","No","No","Shrub","No","Yes","n/a","1-25","1-3",8,"No","No","No","No","No","No","No","No","No","No","No","No","No","No","Yes","Yes","Yes","Yes","No","No","No","No","No","No","No","No","No","No","No","No",null,null,null,null,null,null,null,"Yes","Yes","No","No","No","No","No","No","Yes","No","Yes","No","Yes","No","No","Yes","No","Yes",null,null,null,null,null,null,null,null,null,null,"",null,"",null,"","",null,null,null,null,null,null,null,null,null,null,null,null,"",null,"",null,"",""]
["Gliricidia sepium",{"$error":"#N/A"},"Yes","No","No",{"$f":"IF($I$4=TRUE,INDEX($BZ$29:$DC1798,MATCH($A281,$AZ$29:$AZ$1000,0),MATCH($AC$2,$BZ$18:$DC$18,0)),\"Yes\")","v":"Yes"},"Yes","Yes","Yes","Yes","Yes","Yes","Yes","Yes",{"$error":"#N/A"},{"$error":"#N/A"},"Yes","Yes","Yes","Yes",{"$error":"#N/A"},{"$error":"#N/A"},{"$error":"#N/A"},{"$error":"#N/A"},null,null,null,null,null,null,null,null,null,null,null,null,null,null,null,null,null,null,null,null,null,null,null,null,null,null,null,"Gliricidia sepium","quick stick, mother of cocoa","quick stick, mother of cocoa","quick stick, mother of cocoa","rechesengel, quick stick, mother of cocoa","quick stick, mother of cocoa","quick stick, mother of cocoa","quick stick, mother of cocoa","quick stick, mother of cocoa","quick stick, mother of cocoa",0,3000,25,200,"Yes","No","Yes","Yes","Yes","Tree","Yes","No",2,"25-40","3+",30,"Yes","No","Yes","No","Yes","No","Yes","No","Yes","No","Yes","No","Yes","No","Yes","No","Yes","No","Yes","No","Yes","No","Yes","No","Yes","No","Yes","No","Yes","No","Grows from cuttings.  Good forage for honey bees.  Leaves suitable for livestock fodder - wilt for 12-24 hours prior to intake to improve palatability.  Drought tolerant.","Naturalized in Guam and Palau, cultivated in Kosrae and Pohnpei",null,null,null,null,null,"Yes","Yes","No","No","No","No","No","No","Yes","No","Yes","No","Yes","No","Yes","Yes","No","Yes",null,null,null,null,null,null,null,null,null,null,"8-20",null,"8-20",null,"8-20","8-20",null,null,null,null,null,null,null,null,null,null,null,null,"feet",null,"feet",null,"feet","feet"]
["Glochidion marianum",{"$error":"#N/A"},"Yes","No","No",{"$f":"IF($I$4=TRUE,INDEX($BZ$29:$DC1799,MATCH($A282,$AZ$29:$AZ$1000,0),MATCH($AC$2,$BZ$18:$DC$18,0)),\"Yes\")","v":"Yes"},"Yes","Yes","Yes","Yes","Yes","Yes","Yes","Yes",{"$error":"#N/A"},{"$error":"#N/A"},"Yes","Yes","Yes","Yes",{"$error":"#N/A"},{"$error":"#N/A"},{"$error":"#N/A"},{"$error":"#N/A"},null,null,null,null,null,null,null,null,null,null,null,null,null,null,null,null,null,null,null,null,null,null,null,null,null,null,null,"Glochidion marianum","abas duendes, chosga","abas duendes, chosga","abas duendes, chosga","iodel","kewikid en lohl","abas duendes, chosga","abas duendes, chosga","ngumol","abas duendes, chosga",20,1700,70,120,"Yes","Yes","Yes","No","Yes","Tree","No","Yes","n/a","1-25","1-3",15,"No","No","No","No","No","No","No","No","No","No","No","No","No","No","Yes","Yes","Yes","Yes","Yes","Yes","No","No","No","No","Yes","Yes","Yes","Yes","No","No",null,null,null,null,null,null,null,"Yes","Yes","No","No","No","No","No","No","Yes","No","No","No","Yes","No","No","Yes","No","Yes",null,null,null,null,null,null,null,null,null,null,"8-12",null,"8-12",null,"8-12","8-12",null,null,null,null,null,null,null,null,null,null,null,null,"feet",null,"feet",null,"feet","feet"]
["Glycine max",{"$error":"#N/A"},"Yes","No","No",{"$f":"IF($I$4=TRUE,INDEX($BZ$29:$DC1800,MATCH($A283,$AZ$29:$AZ$1000,0),MATCH($AC$2,$BZ$18:$DC$18,0)),\"Yes\")","v":"Yes"},"Yes","Yes","Yes","Yes","Yes","Yes","Yes","Yes",{"$error":"#N/A"},{"$error":"#N/A"},"Yes","Yes","Yes","Yes",{"$error":"#N/A"},{"$error":"#N/A"},{"$error":"#N/A"},{"$error":"#N/A"},null,null,null,null,null,null,null,null,null,null,null,null,null,null,null,null,null,null,null,null,null,null,null,null,null,null,null,"Glycine max","soybean","soybean","soybean","soybean","soybean","soybean","soybean","soybean","soybean",20,2500,40,200,"Yes","No","No","No","No","Herb","Yes","No","n/a","0-1","3+",0,"Yes","No","Yes","No","Yes","No","Yes","No","Yes","No","Yes","No","Yes","No","Yes","No","Yes","No","Yes","No","Yes","No","Yes","No","Yes","No","Yes","No","Yes","No","This species performs best in a soil with a pH range of 5.5-8.3.  When allowed to grow for 90 days a producer should expect 1.5 tons of above ground biomass which will contain approximately 65 lbs of Nitrogen per ton.",null,"WS",null,null,null,null,"Yes","No","No","Yes","No","No","No","No","No","No","No","No","No","No","No","No","No","No",null,null,null,75,null,null,null,null,null,null,"",null,"",null,"","",null,null,null,null,null,"lbs/ac",null,null,null,null,null,null,"",null,"",null,"",""]
["Gmelina palawensis",{"$error":"#N/A"},"Yes","No","No",{"$f":"IF($I$4=TRUE,INDEX($BZ$29:$DC1801,MATCH($A284,$AZ$29:$AZ$1000,0),MATCH($AC$2,$BZ$18:$DC$18,0)),\"Yes\")","v":"Yes"},"Yes","Yes","Yes","Yes","Yes","Yes","Yes","Yes",{"$error":"#N/A"},{"$error":"#N/A"},"Yes","Yes","Yes","Yes",{"$error":"#N/A"},{"$error":"#N/A"},{"$error":"#N/A"},{"$error":"#N/A"},null,null,null,null,null,null,null,null,null,null,null,null,null,null,null,null,null,null,null,null,null,null,null,null,null,null,null,"Gmelina palawensis","Gmelina palawensis","Gmelina palawensis","Gmelina palawensis","blacheos","Gmelina palawensis","Gmelina palawensis","Gmelina palawensis","Gmelina palawensis","Gmelina palawensis",20,800,70,170,"Yes","Yes","No","No","No","Tree","No","Yes","n/a","1-25","1-3",10,"No","No","No","No","No","No","No","No","No","No","No","No","No","No","No","No","No","No","No","No","No","No","No","No","No","No","Yes","Yes","No","No",null,null,null,null,null,null,null,"Yes","Yes","No","No","No","No","No","No","Yes","No","Yes","No","Yes","No","No","Yes","No","No",null,null,null,null,null,null,null,null,null,null,"8-12",null,"8-12",null,"8-12","8-12",null,null,null,null,null,null,null,null,null,null,null,null,"feet",null,"feet",null,"feet","feet"]
["Gossypium hirsutum",{"$f":"IF(A285=0,\"No\",IF(AND(C285=\"Yes\",D285=\"YES\",E285=\"Yes\",F285=\"yes\",G285=\"Yes\",H285=\"Yes\",I285=\"Yes\",J285=\"Yes\",N285=\"Yes\",Q285=\"Yes\",O285=\"Yes\",K285=\"Yes\",P285=\"Yes\",V285=\"Yes\"),\"Yes\",\"No\"))","v":{"$error":"#N/A"}},"Yes","No","No",{"$f":"IF($I$4=TRUE,INDEX($BZ$29:$DC1802,MATCH($A285,$AZ$29:$AZ$1000,0),MATCH($AC$2,$BZ$18:$DC$18,0)),\"Yes\")","v":"Yes"},"Yes","Yes","Yes","Yes","Yes","Yes","Yes","Yes",{"$error":"#N/A"},{"$error":"#N/A"},"Yes","Yes","Yes","Yes",{"$error":"#N/A"},{"$error":"#N/A"},{"$error":"#N/A"},{"$error":"#N/A"},null,null,null,null,null,null,null,null,null,null,null,null,null,null,null,null,null,null,null,null,null,null,null,null,null,null,null,"Gossypium hirsutum","upland cotton","algodon, upland cotton","vavae, upland cotton","upland cotton","upland cotton","upland cotton","upland cotton","batey, upland cotton","upland cotton",0,350,30,200,"Yes","No","Yes","Yes","No","Shrub","No","Yes",9,"1-25","3+",4,"Yes","No","Yes","No","Yes","No","Yes","No","Yes","No","Yes","No","Yes","Yes","Yes","Yes","Yes","Yes","No","No","No","No","No","No","Yes","Yes","No","No","No","No",null,null,null,null,null,null,null,"Yes","Yes","No","No","No","No","No","No","Yes","No","Yes","No","Yes","No","No","Yes","No","No",null,null,null,null,null,null,null,null,null,null,"",null,"",null,"","",null,null,null,null,null,null,null,null,null,null,null,null,"",null,"",null,"",""]
[{"$f":"AZ286","v":"Gossypium tomentosum"},{"$error":"#N/A"},"Yes","No","No",{"$f":"IF($I$4=TRUE,INDEX($BZ$29:$DC1803,MATCH($A286,$AZ$29:$AZ$1000,0),MATCH($AC$2,$BZ$18:$DC$18,0)),\"Yes\")","v":"Yes"},{"$f":"IF($K$4=TRUE,VLOOKUP(A286,$AZ$29:$BY$1000,17,FALSE),\"Yes\")","v":"Yes"},{"$f":"IF($J$4=TRUE,VLOOKUP(A286,$AZ$29:$BY$1000,18,FALSE),\"Yes\")","v":"Yes"},{"$f":"IF($L$4=TRUE,VLOOKUP(A286,$AZ$29:$BY$1000,22,FALSE),\"Yes\")","v":"Yes"},{"$f":"IF($M$4=TRUE,VLOOKUP(A286,$AZ$29:$BY$1000,21,FALSE),\"Yes\")","v":"Yes"},"Yes","Yes","Yes",{"$f":"IF($N$4=TRUE,VLOOKUP(A286,$AZ$29:$BY$1000,19,FALSE),\"Yes\")","v":"Yes"},{"$f":"IF($C$5=\"\",\"Yes\",INDEX($BZ$29:$DC$1000,MATCH($AZ286,$AZ$29:$AZ$1000,0),MATCH($AD$1379,$BZ$18:$DC$18,0)))","v":{"$error":"#N/A"}},{"$error":"#N/A"},"Yes","Yes","Yes","Yes",{"$f":"INDEX($BZ$29:$DC$1000,MATCH($AZ286,$AZ$29:$AZ$1000,0),MATCH($AC$2,$BZ$18:$DC$18,0))","v":{"$error":"#N/A"}},{"$error":"#N/A"},{"$error":"#N/A"},{"$error":"#N/A"},null,null,null,null,null,null,null,null,null,null,null,null,null,null,null,null,null,null,null,null,null,null,null,null,null,null,null,"Gossypium tomentosum","mao, huluhulu, Hawaiian cotton","mao, huluhulu, Hawaiian cotton","mao, huluhulu, Hawaiian cotton","mao, huluhulu, Hawaiian cotton","mao, huluhulu, Hawaiian cotton","mao, huluhulu, Hawaiian cotton","mao, huluhulu, Hawaiian cotton","mao, huluhulu, Hawaiian cotton","mao, huluhulu, Hawaiian cotton",0,1000,15,100,"Yes","No","Yes","Yes","No","Shrub","No","Yes","n/a","1-25","1-3",4,"Yes","No","Yes","Yes","Yes","Yes","Yes","Yes","Yes","Yes","Yes","Yes","No","No","No","No","No","No","No","No","No","No","No","No","No","No","No","No","No","No","Typically found in arid, rocky or clay coastal plains.",null,null,null,null,null,null,"Yes","Yes","No","No","No","No","No","No","Yes","No","Yes","No","Yes","No","No","Yes","No","No",null,null,null,null,null,null,null,null,null,null,"",null,"",null,"","",null,null,null,null,null,null,null,null,null,null,null,null,"",null,"",null,"",""]
["Grewia crenata",{"$error":"#N/A"},"Yes","No","No",{"$f":"IF($I$4=TRUE,INDEX($BZ$29:$DC1804,MATCH($A287,$AZ$29:$AZ$1000,0),MATCH($AC$2,$BZ$18:$DC$18,0)),\"Yes\")","v":"Yes"},"Yes","Yes","Yes","Yes","Yes","Yes","Yes","Yes",{"$error":"#N/A"},{"$error":"#N/A"},"Yes","Yes","Yes","Yes",{"$error":"#N/A"},{"$error":"#N/A"},{"$error":"#N/A"},{"$error":"#N/A"},null,null,null,null,null,null,null,null,null,null,null,null,null,null,null,null,null,null,null,null,null,null,null,null,null,null,null,"Grewia crenata","angilao","angilao","fau ui","angilao","angilao","angilao","angilao","angilao","angilao",0,500,70,200,"Yes","No","No","No","No","Tree","No","Yes","n/a","1-25","1-3",10,"No","No","No","No","No","No","No","No","No","No","No","No","Yes","Yes","Yes","Yes","No","No","No","No","No","No","No","No","No","No","No","No","No","No",null,null,null,null,null,null,null,"Yes","Yes","No","No","No","No","No","No","Yes","No","Yes","No","Yes","No","No","Yes","No","No",null,null,null,null,null,null,null,null,null,null,"8-12",null,"8-12",null,"8-12","8-12",null,null,null,null,null,null,null,null,null,null,null,null,"feet",null,"feet",null,"feet","feet"]
["Guamia mariannae",{"$error":"#N/A"},"Yes","No","No",{"$f":"IF($I$4=TRUE,INDEX($BZ$29:$DC1805,MATCH($A288,$AZ$29:$AZ$1000,0),MATCH($AC$2,$BZ$18:$DC$18,0)),\"Yes\")","v":"Yes"},"Yes","Yes","Yes","Yes","Yes","Yes","Yes","Yes",{"$error":"#N/A"},{"$error":"#N/A"},"Yes","Yes","Yes","Yes",{"$error":"#N/A"},{"$error":"#N/A"},{"$error":"#N/A"},{"$error":"#N/A"},null,null,null,null,null,null,null,null,null,null,null,null,null,null,null,null,null,null,null,null,null,null,null,null,null,null,null,"Guamia mariannae","paipai","paipai, pac pac","paipai","paipai","peipei","peipei","peipei","peipei","paipai",20,1700,80,120,"Yes","Yes","Yes","No","No","Tree","No","Yes","n/a","1-25","0-1",15,"No","No","No","No","No","No","No","No","No","No","No","No","No","No","Yes","Yes","No","No","No","No","No","No","No","No","No","No","No","No","No","No","Other Guamia endemics are present in FSM, RMI, ROP.",null,null,null,null,null,null,"Yes","Yes","No","No","No","No","No","No","Yes","No","Yes","No","Yes","No","Yes","Yes","No","No",null,null,null,null,null,null,null,null,null,null,"8-15",null,"8-15",null,"8-15","8-15",null,null,null,null,null,null,null,null,null,null,null,null,"feet",null,"feet",null,"feet","feet"]
["Guettarda speciosa",{"$error":"#N/A"},"Yes","No","No",{"$f":"IF($I$4=TRUE,INDEX($BZ$29:$DC1806,MATCH($A289,$AZ$29:$AZ$1000,0),MATCH($AC$2,$BZ$18:$DC$18,0)),\"Yes\")","v":"Yes"},"Yes","Yes","Yes","Yes","Yes","Yes","Yes","Yes",{"$error":"#N/A"},{"$error":"#N/A"},"Yes","Yes","Yes","Yes",{"$error":"#N/A"},{"$error":"#N/A"},{"$error":"#N/A"},{"$error":"#N/A"},null,null,null,null,null,null,null,null,null,null,null,null,null,null,null,null,null,null,null,null,null,null,null,null,null,null,null,"Guettarda speciosa","beach gardenia","panao, mosor, beach gardenia","pua pua, beach gardenia","blau, beach gardenia","ihd, eet, beach gardenia","kienglak, beach gardenia","mwoosor, mwewukkay, beach gardenia","balaaw, blow, beach gardenia","wut, bwikow utlomar, beach gardenia",0,1700,50,200,"Yes","No","Yes","Yes","No","Tree","No","Yes",-1,"1-25","1-3",15,"No","No","No","No","No","No","No","No","No","No","No","No","Yes","Yes","Yes","Yes","Yes","Yes","Yes","Yes","Yes","Yes","Yes","Yes","Yes","Yes","Yes","Yes","Yes","Yes","Mariana fruit bat feeds on fruits& flowers.  Uses include timber.",null,null,null,null,null,null,"Yes","Yes","No","No","No","No","No","No","Yes","No","Yes","No","Yes","No","Yes","Yes","No","Yes",null,null,null,null,null,null,null,null,null,null,"8-12",null,"8-12",null,"8-12","8-12",null,null,null,null,null,null,null,null,null,null,null,null,"feet",null,"feet",null,"feet","feet"]
["Heliotropium anomalum",{"$error":"#N/A"},{"$f":"INDEX($DK$29:$EC$1000,MATCH(AZ290,$AZ$29:$AZ$1000,0),MATCH($A$2,$DK$18:$EC$18,0))","v":"Yes"},{"$f":"IF(ISBLANK($C$6),\"No\",IF(AND($H$4=TRUE,BM290>$C$6),\"Yes\",IF(AND($C$6>=BL290,$C$6<=BM290),\"Yes\",\"No\")))","v":"No"},"No",{"$f":"IF($I$4=TRUE,INDEX($BZ$29:$DC1807,MATCH($A290,$AZ$29:$AZ$1000,0),MATCH($AC$2,$BZ$18:$DC$18,0)),\"Yes\")","v":"Yes"},"Yes","Yes","Yes","Yes",{"$f":"IF(AND(L290=\"Yes\",M290=\"Yes\"),\"Yes\",\"No\")","v":"Yes"},{"$f":"IF(AND($O$4=TRUE,BO290=\"Yes\"),\"no\",\"Yes\")","v":"Yes"},{"$f":"IF(AND($P$4=TRUE,BN290=\"Yes\"),\"No\",\"Yes\")","v":"Yes"},"Yes",{"$error":"#N/A"},{"$f":"IF(AND($Q$4=TRUE,U290=\"Yes\"),\"No\",IF(AND($Q$4=TRUE,U290=\"No\"),\"yes\",\"Yes\"))","v":{"$error":"#N/A"}},{"$f":"IF(OR(R290=\"Yes\",S290=\"Yes\",T290=\"Yes\"),\"Yes\",\"No\")","v":"Yes"},{"$f":"IF($W$7=\"Yes\",\"Yes\",IF($T$13=BS290,\"Yes\",\"No\"))","v":"Yes"},{"$f":"IF($W$7=\"Yes\",\"Yes\",IF($U$13=BS290,\"Yes\",\"No\"))","v":"Yes"},{"$f":"IF($W$7=\"Yes\",\"Yes\",IF($V$13=BS290,\"Yes\",\"No\"))","v":"Yes"},{"$error":"#N/A"},{"$error":"#N/A"},{"$error":"#N/A"},{"$error":"#N/A"},null,null,null,null,null,null,null,null,null,null,null,null,null,null,null,null,null,null,null,null,null,null,null,null,null,null,null,"Heliotropium anomalum","hinahina, polynesian heliotrope","polynesian heliotrope","polynesian heliotrope","polynesian heliotrope","polynesian heliotrope","polynesian heliotrope","polynesian heliotrope","polynesian heliotrope","polynesian heliotrope",0,200,15,120,"Yes","No","Yes","Yes","No","Herb","No","Yes","n/a","0-1","0-1",0,"Yes","Yes","Yes","Yes","Yes","Yes","Yes","Yes","Yes","Yes","Yes","Yes","No","No","Yes","Yes","Yes","Yes","No","No","No","No","No","No","No","No","No","No","No","No",null,null,null,null,null,null,null,"Yes","No","No","No","No","No","No","No","No","No","No","No","No","No","No","No","No","No",null,null,null,null,null,null,null,null,null,null,"",null,"",null,"","",null,null,null,null,null,null,null,null,null,null,null,null,"",null,"",null,"",""]
["Heliotropium curassavicum",{"$error":"#N/A"},"Yes","No","No",{"$f":"IF($I$4=TRUE,INDEX($BZ$29:$DC1808,MATCH($A291,$AZ$29:$AZ$1000,0),MATCH($AC$2,$BZ$18:$DC$18,0)),\"Yes\")","v":"Yes"},"Yes","Yes","Yes","Yes","Yes","Yes","Yes","Yes",{"$error":"#N/A"},{"$error":"#N/A"},"Yes","Yes","Yes","Yes",{"$error":"#N/A"},{"$error":"#N/A"},{"$error":"#N/A"},{"$error":"#N/A"},null,null,null,null,null,null,null,null,null,null,null,null,null,null,null,null,null,null,null,null,null,null,null,null,null,null,null,"Heliotropium curassavicum","nena, seaside heliotrope","seaside heliotrope","seaside heliotrope","seaside heliotrope","seaside heliotrope","seaside heliotrope","seaside heliotrope","seaside heliotrope","seaside heliotrope",0,200,15,200,"Yes","No","Yes","Yes","No","Herb","No","Yes","n/a","0-1","0-1",0,"Yes","Yes","Yes","Yes","Yes","Yes","Yes","Yes","Yes","Yes","Yes","Yes","No","No","No","No","No","No","No","No","No","No","No","No","No","No","No","No","No","No",null,null,null,null,null,null,null,"Yes","No","No","No","No","No","No","No","No","No","No","No","No","Yes","No","No","No","No",null,null,null,null,null,null,null,null,null,null,"",null,"",null,"","",null,null,null,null,null,null,null,null,null,null,null,null,"",null,"",null,"",""]
["Heliotropium foertherianum",{"$error":"#N/A"},"Yes","No","No",{"$f":"IF($I$4=TRUE,INDEX($BZ$29:$DC1809,MATCH($A292,$AZ$29:$AZ$1000,0),MATCH($AC$2,$BZ$18:$DC$18,0)),\"Yes\")","v":"Yes"},"Yes","Yes","Yes","Yes","Yes","Yes","Yes","Yes",{"$error":"#N/A"},{"$error":"#N/A"},"Yes","Yes","Yes","Yes",{"$error":"#N/A"},{"$error":"#N/A"},{"$error":"#N/A"},{"$error":"#N/A"},null,null,null,null,null,null,null,null,null,null,null,null,null,null,null,null,null,null,null,null,null,null,null,null,null,null,null,"Heliotropium foertherianum","tree heliotrope","hunig, bunek, tree heliotrope","tausuni, tree heliotrope","aseri, rirs, tree heliotrope","titin, amunusut, tree heliotrope","sruhsruh, sasran, tree heliotrope","amoloset, neet, tree heliotrope","chen, chel, tree heliotrope","kirin, kiden, tree heliotrope",0,100,20,200,"Yes","No","Yes","Yes","No","Tree","No","Yes",4,"1-25","3+",15,"No","No","No","No","No","No","No","No","No","No","No","No","Yes","Yes","Yes","Yes","No","No","Yes","Yes","Yes","No","Yes","No","Yes","No","Yes","Yes","Yes","Yes","Good forage for honey bees.","Indigenous in parts of the Western Pacifc.  Plant only in non-coastal sites in Hawaii.",null,null,null,null,null,"Yes","Yes","No","No","No","No","No","No","Yes","No","Yes","No","Yes","No","Yes","Yes","No","Yes",null,null,null,null,null,null,null,null,null,null,"8-15",null,"8-15",null,"8-15","8-15",null,null,null,null,null,null,null,null,null,null,null,null,"feet",null,"feet",null,"feet","feet"]
["Hemarthria altissma",{"$error":"#N/A"},"Yes","No","No",{"$f":"IF($I$4=TRUE,INDEX($BZ$29:$DC1810,MATCH($A293,$AZ$29:$AZ$1000,0),MATCH($AC$2,$BZ$18:$DC$18,0)),\"Yes\")","v":"Yes"},"Yes","Yes","Yes","Yes","Yes","Yes","Yes","Yes",{"$error":"#N/A"},{"$error":"#N/A"},"Yes","Yes","Yes","Yes",{"$error":"#N/A"},{"$error":"#N/A"},{"$error":"#N/A"},{"$error":"#N/A"},null,null,null,null,null,null,null,null,null,null,null,null,null,null,null,null,null,null,null,null,null,null,null,null,null,null,null,"Hemarthria altissma","Limpograss","Limpograss","Limpograss","Limpograss","Limpograss","Limpograss","Limpograss","Limpograss","Limpograss",20,4000,60,200,"Yes","No","Yes","No","No","Herb","No","No","n/a","0-1","1-3",0,"Yes","No","Yes","No","Yes","No","Yes","No","Yes","No","Yes","No","Yes","No","Yes","No","Yes","No","Yes","No","Yes","No","Yes","No","Yes","No","Yes","No","Yes","No",null,null,null,null,null,null,null,"Yes","No","No","No","No","No","No","Yes","No","No","No","Yes","No","No","No","No","No","No",null,null,null,null,null,null,null,40,null,null,"",40,"",null,"","",null,null,null,null,null,null,null,null,null,"bu/ac",null,null,"","bu/ac","",null,"",""]
["Hemerocallis aurantiaca",{"$error":"#N/A"},"Yes","No","No",{"$f":"IF($I$4=TRUE,INDEX($BZ$29:$DC1811,MATCH($A294,$AZ$29:$AZ$1000,0),MATCH($AC$2,$BZ$18:$DC$18,0)),\"Yes\")","v":"Yes"},"Yes","Yes","Yes","Yes","Yes","Yes","Yes","Yes",{"$error":"#N/A"},{"$error":"#N/A"},"Yes","Yes","Yes","Yes",{"$error":"#N/A"},{"$error":"#N/A"},{"$error":"#N/A"},{"$error":"#N/A"},null,null,null,null,null,null,null,null,null,null,null,null,null,null,null,null,null,null,null,null,null,null,null,null,null,null,null,"Hemerocallis aurantiaca","day lily","day lily","day lily","day lily","day lily","day lily","day lily","day lily","day lily",20,4000,30,200,"Yes","No","Yes","No","No","Herb","No","No","n/a","1-25","1-3",0,"Yes","No","Yes","No","Yes","No","Yes","No","Yes","No","Yes","No","Yes","No","Yes","No","Yes","No","Yes","No","Yes","No","Yes","No","Yes","No","Yes","No","Yes","No",null,null,null,null,null,null,null,"Yes","No","No","No","Yes","No","Yes","No","No","No","No","No","No","Yes","No","No","No","No",null,null,null,null,80,null,40,null,null,null,"",null,"",null,"","",null,null,null,null,null,null,"bu/ac",null,"bu/ac",null,null,null,"",null,"",null,"",""]
["Heritiera littoralis",{"$error":"#N/A"},"Yes","No","No",{"$f":"IF($I$4=TRUE,INDEX($BZ$29:$DC1812,MATCH($A295,$AZ$29:$AZ$1000,0),MATCH($AC$2,$BZ$18:$DC$18,0)),\"Yes\")","v":"Yes"},"Yes","Yes","Yes","Yes","Yes","Yes","Yes","Yes",{"$error":"#N/A"},{"$error":"#N/A"},"Yes","Yes","Yes","Yes",{"$error":"#N/A"},{"$error":"#N/A"},{"$error":"#N/A"},{"$error":"#N/A"},null,null,null,null,null,null,null,null,null,null,null,null,null,null,null,null,null,null,null,null,null,null,null,null,null,null,null,"Heritiera littoralis","looking glass tree","ufa, hufa, looking glass tree","looking glass tree","akabibukk, chabibech","mwuropw en sed, marapinset","lum","cheepwech, zwobott","rung, rum","looking glass tree",0,1700,70,120,"Yes","Yes","Yes","Yes","Yes","Tree","No","Yes",-2,"25-40","1-3",20,"Yes","No","Yes","No","Yes","No","Yes","No","Yes","No","Yes","No","No","No","Yes","Yes","Yes","Yes","Yes","Yes","Yes","Yes","Yes","Yes","Yes","Yes","Yes","Yes","No","No",null,null,null,null,null,null,null,"Yes","No","No","No","No","No","No","No","Yes","No","Yes","No","Yes","No","No","Yes","No","Yes",null,null,null,null,null,null,null,null,null,null,"10-40",null,"10-40",null,"10-40","10-40",null,null,null,null,null,null,null,null,null,null,null,null,"feet",null,"feet",null,"feet","feet"]
["Hernandia labyrinthica",{"$error":"#N/A"},"Yes","No","No",{"$f":"IF($I$4=TRUE,INDEX($BZ$29:$DC1813,MATCH($A296,$AZ$29:$AZ$1000,0),MATCH($AC$2,$BZ$18:$DC$18,0)),\"Yes\")","v":"Yes"},"Yes","Yes","Yes","Yes","Yes","Yes","Yes","Yes",{"$error":"#N/A"},{"$error":"#N/A"},"Yes","Yes","Yes","Yes",{"$error":"#N/A"},{"$error":"#N/A"},{"$error":"#N/A"},{"$error":"#N/A"},null,null,null,null,null,null,null,null,null,null,null,null,null,null,null,null,null,null,null,null,null,null,null,null,null,null,null,"Hernandia labyrinthica","nonak, oschal","nonak, oschal","nonak, oschal","nonak, oschal","nonak, oschal","nonak, oschal","nonak, oschal","nonak, oschal","nonak, oschal",20,1700,70,120,"Yes","Yes","Yes","Yes","Yes","Tree","No","Yes","n/a","25-40","1-3",40,"No","No","No","No","No","No","No","No","No","No","No","No","No","No","Yes","Yes","Yes","Yes","No","No","No","No","No","No","No","No","No","No","No","No",null,null,null,null,null,null,null,"Yes","Yes","No","No","No","No","No","No","Yes","No","Yes","No","Yes","No","Yes","Yes","No","Yes",null,null,null,null,null,null,null,null,null,null,"10-40",null,"10-40",null,"10-40","10-40",null,null,null,null,null,null,null,null,null,null,null,null,"feet",null,"feet",null,"feet","feet"]
["Hernandia nymphaeifolia",{"$error":"#N/A"},"Yes","No","No",{"$f":"IF($I$4=TRUE,INDEX($BZ$29:$DC1814,MATCH($A297,$AZ$29:$AZ$1000,0),MATCH($AC$2,$BZ$18:$DC$18,0)),\"Yes\")","v":"Yes"},"Yes","Yes","Yes","Yes","Yes","Yes","Yes","Yes",{"$error":"#N/A"},{"$error":"#N/A"},"Yes","Yes","Yes","Yes",{"$error":"#N/A"},{"$error":"#N/A"},{"$error":"#N/A"},{"$error":"#N/A"},null,null,null,null,null,null,null,null,null,null,null,null,null,null,null,null,null,null,null,null,null,null,null,null,null,null,null,"Hernandia nymphaeifolia","lantern tree","nonak, lantern tree","pua, lantern tree","lantern tree","pingaping, lantern tree","lantern tree","achorong, ekurang, lantern tree","gachal, lantern tree","pi pi, lantern tree",0,1000,60,200,"Yes","No","Yes","Yes","No","Tree","No","Yes",-5,"25-40","3+",30,"No","No","No","No","No","No","No","No","No","No","No","No","Yes","Yes","Yes","Yes","Yes","Yes","Yes","Yes","Yes","No","Yes","Yes","Yes","Yes","Yes","Yes","Yes","Yes",null,null,null,null,null,null,null,"Yes","Yes","No","No","No","No","No","No","Yes","No","Yes","No","Yes","No","Yes","Yes","No","No",null,null,null,null,null,null,null,null,null,null,"10-40",null,"10-40",null,"10-40","10-40",null,null,null,null,null,null,null,null,null,null,null,null,"feet",null,"feet",null,"feet","feet"]
["Hernandia sonora",{"$error":"#N/A"},"Yes","No","No",{"$f":"IF($I$4=TRUE,INDEX($BZ$29:$DC1815,MATCH($A298,$AZ$29:$AZ$1000,0),MATCH($AC$2,$BZ$18:$DC$18,0)),\"Yes\")","v":"Yes"},"Yes","Yes","Yes","Yes","Yes","Yes","Yes","Yes",{"$error":"#N/A"},{"$error":"#N/A"},"Yes","Yes","Yes","Yes",{"$error":"#N/A"},{"$error":"#N/A"},{"$error":"#N/A"},{"$error":"#N/A"},null,null,null,null,null,null,null,null,null,null,null,null,null,null,null,null,null,null,null,null,null,null,null,null,null,null,null,"Hernandia sonora","mago, toporite","nonak","mago","dogo, doko","ahkaran, pingapin","pung pung","agran, akurang","gachal, gochol, koral","bing bing, pin pin",0,1700,70,120,"Yes","Yes","Yes","Yes","Yes","Tree","No","Yes",-5,"40+","3+",35,"No","No","No","No","No","No","No","No","No","No","No","No","Yes","Yes","Yes","Yes","No","No","Yes","Yes","Yes","Yes","No","No","Yes","Yes","Yes","Yes","Yes","Yes",null,null,null,null,null,null,null,"Yes","No","No","No","No","No","No","No","Yes","No","Yes","No","Yes","No","Yes","Yes","No","Yes",null,null,null,null,null,null,null,null,null,null,"10-40",null,"10-40",null,"10-40","10-40",null,null,null,null,null,null,null,null,null,null,null,null,"feet",null,"feet",null,"feet","feet"]
["Heteropogon contortus",{"$error":"#N/A"},"Yes","No","No",{"$f":"IF($I$4=TRUE,INDEX($BZ$29:$DC1816,MATCH($A299,$AZ$29:$AZ$1000,0),MATCH($AC$2,$BZ$18:$DC$18,0)),\"Yes\")","v":"Yes"},"Yes","Yes","Yes","Yes","Yes","Yes","Yes","Yes",{"$error":"#N/A"},{"$error":"#N/A"},"Yes","Yes","Yes","Yes",{"$error":"#N/A"},{"$error":"#N/A"},{"$error":"#N/A"},{"$error":"#N/A"},null,null,null,null,null,null,null,null,null,null,null,null,null,null,null,null,null,null,null,null,null,null,null,null,null,null,null,"Heteropogon contortus","piligrass, tanglehead ","piligrass, tanglehead ","piligrass, tanglehead ","piligrass, tanglehead ","piligrass, tanglehead ","piligrass, tanglehead ","piligrass, tanglehead ","piligrass, tanglehead ","piligrass, tanglehead ",20,2000,15,90,"Yes","No","Yes","No","No","Herb","No","No","n/a","1-25","3+",0,"Yes","Yes","Yes","Yes","Yes","Yes","Yes","Yes","Yes","Yes","Yes","Yes","Yes","No","Yes","No","Yes","No","Yes","No","Yes","No","Yes","No","Yes","No","Yes","No","Yes","No",null,null,null,null,null,null,null,"Yes","No","Yes","No","Yes","No","Yes","No","No","No","No","No","No","Yes","No","No","No","No",null,null,6,null,10,null,6,5,null,null,"",2,"",null,"","",null,null,null,null,"lbs/ac",null,"lbs/ac",null,"lbs/ac","lbs/ac",null,null,"","lbs/ac","",null,"",""]
["Hibiscus arnottianus subsp. arnottianus",{"$error":"#N/A"},"Yes","No","No",{"$f":"IF($I$4=TRUE,INDEX($BZ$29:$DC1817,MATCH($A300,$AZ$29:$AZ$1000,0),MATCH($AC$2,$BZ$18:$DC$18,0)),\"Yes\")","v":"Yes"},"Yes","Yes","Yes","Yes","Yes","Yes","Yes","Yes",{"$error":"#N/A"},{"$error":"#N/A"},"Yes","Yes","Yes","Yes",{"$error":"#N/A"},{"$error":"#N/A"},{"$error":"#N/A"},{"$error":"#N/A"},null,null,null,null,null,null,null,null,null,null,null,null,null,null,null,null,null,null,null,null,null,null,null,null,null,null,null,"Hibiscus arnottianus subsp. arnottianus","kokio keokeo, Hawaiian white hibiscus - 1","Hawaiian white hibiscus - 1","Hawaiian white hibiscus - 1","Hawaiian white hibiscus - 1","Hawaiian white hibiscus - 1","Hawaiian white hibiscus - 1","Hawaiian white hibiscus - 1","Hawaiian white hibiscus - 1","Hawaiian white hibiscus - 1",0,3000,30,200,"Yes","Yes","No","No","No","Shrub","No","Yes","n/a","1-25","1-3",15,"Yes","No","Yes","No","Yes","No","Yes","No","Yes","No","Yes","Yes","No","No","No","No","No","No","No","No","No","No","No","No","No","No","No","No","No","No",null,null,null,null,null,null,null,"Yes","Yes","No","No","No","No","No","No","Yes","No","Yes","No","Yes","No","No","Yes","No","Yes",null,null,null,null,null,null,null,null,null,null,"",null,"",null,"","",null,null,null,null,null,null,null,null,null,null,null,null,"",null,"",null,"",""]
["Hibiscus arnottianus subsp. punaluuensis",{"$error":"#N/A"},"Yes","No","No",{"$f":"IF($I$4=TRUE,INDEX($BZ$29:$DC1818,MATCH($A301,$AZ$29:$AZ$1000,0),MATCH($AC$2,$BZ$18:$DC$18,0)),\"Yes\")","v":"Yes"},"Yes","Yes","Yes","Yes","Yes","Yes","Yes","Yes",{"$error":"#N/A"},{"$error":"#N/A"},"Yes","Yes","Yes","Yes",{"$error":"#N/A"},{"$error":"#N/A"},{"$error":"#N/A"},{"$error":"#N/A"},null,null,null,null,null,null,null,null,null,null,null,null,null,null,null,null,null,null,null,null,null,null,null,null,null,null,null,"Hibiscus arnottianus subsp. punaluuensis","kokio keokeo, Hawaiian white hibiscus - 2","Hawaiian white hibiscus - 2","Hawaiian white hibiscus - 2","Hawaiian white hibiscus - 2","Hawaiian white hibiscus - 2","Hawaiian white hibiscus - 2","Hawaiian white hibiscus - 2","Hawaiian white hibiscus - 2","Hawaiian white hibiscus - 2",0,3000,30,200,"Yes","Yes","No","No","No","Shrub","No","Yes","n/a","1-25","1-3",15,"Yes","No","Yes","No","Yes","No","Yes","No","Yes","No","Yes","Yes","No","No","No","No","No","No","No","No","No","No","No","No","No","No","No","No","No","No",null,null,null,null,null,null,null,"Yes","Yes","No","No","No","No","No","No","Yes","No","Yes","No","Yes","No","No","Yes","No","Yes",null,null,null,null,null,null,null,null,null,null,"",null,"",null,"","",null,null,null,null,null,null,null,null,null,null,null,null,"",null,"",null,"",""]
["Hibiscus kokio subsp. kokio",{"$error":"#N/A"},"Yes","No","No",{"$f":"IF($I$4=TRUE,INDEX($BZ$29:$DC1819,MATCH($A302,$AZ$29:$AZ$1000,0),MATCH($AC$2,$BZ$18:$DC$18,0)),\"Yes\")","v":"Yes"},"Yes","Yes","Yes","Yes","Yes","Yes","Yes","Yes",{"$error":"#N/A"},{"$error":"#N/A"},"Yes","Yes","Yes","Yes",{"$error":"#N/A"},{"$error":"#N/A"},{"$error":"#N/A"},{"$error":"#N/A"},null,null,null,null,null,null,null,null,null,null,null,null,null,null,null,null,null,null,null,null,null,null,null,null,null,null,null,"Hibiscus kokio subsp. kokio","kokio","kokio","kokio","kokio","kokio","kokio","kokio","kokio","kokio",20,2600,30,220,"Yes","Yes","No","No","No","Shrub","No","Yes","n/a","1-25","1-3",10,"Yes","Yes","Yes","Yes","Yes","No","Yes","Yes","Yes","Yes","Yes","Yes","No","No","No","No","No","No","No","No","No","No","No","No","No","No","No","No","No","No","Red flower.",null,null,null,null,null,null,"Yes","Yes","No","No","No","No","No","No","Yes","No","Yes","No","Yes","No","No","Yes","No","No",null,null,null,null,null,null,null,null,null,null,"",null,"",null,"","",null,null,null,null,null,null,null,null,null,null,null,null,"",null,"",null,"",""]
["Hibiscus rosa-sinensis",{"$error":"#N/A"},"Yes","No","No",{"$f":"IF($I$4=TRUE,INDEX($BZ$29:$DC1820,MATCH($A303,$AZ$29:$AZ$1000,0),MATCH($AC$2,$BZ$18:$DC$18,0)),\"Yes\")","v":"Yes"},"Yes","Yes","Yes","Yes","Yes","Yes","Yes","Yes",{"$error":"#N/A"},{"$error":"#N/A"},"Yes","Yes","Yes","Yes",{"$error":"#N/A"},{"$error":"#N/A"},{"$error":"#N/A"},{"$error":"#N/A"},null,null,null,null,null,null,null,null,null,null,null,null,null,null,null,null,null,null,null,null,null,null,null,null,null,null,null,"Hibiscus rosa-sinensis","hibiscus (Chinese), aloalo","flores rosa, gumamela, red hibiscus","aute, Chinese hibiscus","bussonge, Chinese hibiscus","keleu en wai, Chinese hibiscus","Chinese hibiscus","Chinese hibiscus","falus, floras, Chinese hibiscus","buroro, ros, Chinese/red hibiscus",0,3000,30,200,"Yes","Yes","No","No","No","Shrub","No","No",-2,"1-25","1-3",15,"Yes","No","Yes","No","Yes","No","Yes","No","Yes","No","Yes","No","Yes","No","Yes","No","Yes","No","Yes","No","Yes","No","Yes","No","Yes","No","Yes","No","Yes","No",null,null,null,null,null,null,null,"Yes","Yes","No","No","No","No","No","No","Yes","No","Yes","No","Yes","No","No","Yes","No","Yes",null,null,null,null,null,null,null,null,null,null,"",null,"",null,"","",null,null,null,null,null,null,null,null,null,null,null,null,"",null,"",null,"",""]
["Hibiscus tiliaceus",{"$error":"#N/A"},"Yes","No","No",{"$f":"IF($I$4=TRUE,INDEX($BZ$29:$DC1821,MATCH($A304,$AZ$29:$AZ$1000,0),MATCH($AC$2,$BZ$18:$DC$18,0)),\"Yes\")","v":"Yes"},"Yes","Yes","Yes","Yes","Yes","Yes","Yes","Yes",{"$error":"#N/A"},{"$error":"#N/A"},"Yes","Yes","Yes","Yes",{"$error":"#N/A"},{"$error":"#N/A"},{"$error":"#N/A"},{"$error":"#N/A"},null,null,null,null,null,null,null,null,null,null,null,null,null,null,null,null,null,null,null,null,null,null,null,null,null,null,null,"Hibiscus tiliaceus","hau, sea hibiscus","pago, sea hibiscus","fau, sea hibiscus","ermall, cheramal, sea hibiscus","kalau, hau, sea hibiscus","lo, sea hibiscus","kilife, sinife, sea hibiscus","gaal, sea hibiscus","loo, law, sea hibiscus",0,2000,30,200,"Yes","Yes","Yes","Yes","Yes","Tree","No","No","n/a","1-25","3+",20,"No","No","No","No","No","No","No","No","No","No","No","No","Yes","Yes","Yes","Yes","Yes","Yes","Yes","No","Yes","Yes","Yes","Yes","Yes","Yes","Yes","Yes","Yes","Yes",null,null,null,null,null,null,null,"Yes","No","No","No","No","No","No","No","Yes","No","No","No","Yes","No","No","Yes","No","Yes",null,null,null,null,null,null,null,null,null,null,"8-12",null,"8-12",null,"8-12","8-12",null,null,null,null,null,null,null,null,null,null,null,null,"feet",null,"feet",null,"feet","feet"]
["Hordeum vulgare",{"$error":"#N/A"},"Yes","No","No",{"$f":"IF($I$4=TRUE,INDEX($BZ$29:$DC1822,MATCH($A305,$AZ$29:$AZ$1000,0),MATCH($AC$2,$BZ$18:$DC$18,0)),\"Yes\")","v":"Yes"},"Yes","Yes","Yes","Yes","Yes","Yes","Yes","Yes",{"$error":"#N/A"},{"$error":"#N/A"},"Yes","Yes","Yes","Yes",{"$error":"#N/A"},{"$error":"#N/A"},{"$error":"#N/A"},{"$error":"#N/A"},null,null,null,null,null,null,null,null,null,null,null,null,null,null,null,null,null,null,null,null,null,null,null,null,null,null,null,"Hordeum vulgare","barley ","barley ","barley ","barley ","barley ","barley ","barley ","barley ","barley ",1500,4000,40,200,"Yes","No","Yes","Yes","No","Herb","No","No","n/a","1-25","3+",0,"Yes","No","Yes","No","Yes","No","Yes","No","Yes","No","Yes","No","Yes","No","Yes","No","Yes","No","Yes","No","Yes","No","Yes","No","Yes","No","Yes","No","Yes","No","This species performs best in a soil with a pH range of 5.0-8.3.  When allowed to grow for 90 days a producer should expect 1.0 tons of above ground biomass which will contain approximately 18 lbs of Nitrogen per ton.",null,"CS",null,null,null,null,"Yes","No","No","Yes","No","No","No","No","No","No","No","No","No","Yes","No","No","No","No",null,null,null,70,70,null,null,null,null,null,"",null,"",null,"","",null,null,null,null,null,"lbs/ac","lbs/ac",null,null,null,null,null,"",null,"",null,"",""]
["Horsfieldia palauensis",{"$error":"#N/A"},"Yes","No","No",{"$f":"IF($I$4=TRUE,INDEX($BZ$29:$DC1823,MATCH($A306,$AZ$29:$AZ$1000,0),MATCH($AC$2,$BZ$18:$DC$18,0)),\"Yes\")","v":"Yes"},"Yes","Yes","Yes","Yes","Yes","Yes","Yes","Yes",{"$error":"#N/A"},{"$error":"#N/A"},"Yes","Yes","Yes","Yes",{"$error":"#N/A"},{"$error":"#N/A"},{"$error":"#N/A"},{"$error":"#N/A"},null,null,null,null,null,null,null,null,null,null,null,null,null,null,null,null,null,null,null,null,null,null,null,null,null,null,null,"Horsfieldia palauensis","Horsfieldia palauensis","Horsfieldia palauensis","Horsfieldia palauensis","ersachel","Horsfieldia palauensis","Horsfieldia palauensis","Horsfieldia palauensis","Horsfieldia palauensis","Horsfieldia palauensis",20,800,70,170,"Yes","No","No","No","No","Tree","No","Yes","n/a","1-25","1-3",10,"No","No","No","No","No","No","No","No","No","No","No","No","No","No","No","No","No","No","No","No","No","No","No","No","No","No","Yes","Yes","No","No",null,null,null,null,null,null,null,"Yes","Yes","No","No","No","No","No","No","Yes","No","Yes","No","Yes","No","No","Yes","No","No",null,null,null,null,null,null,null,null,null,null,"8-15",null,"8-15",null,"8-15","8-15",null,null,null,null,null,null,null,null,null,null,null,null,"feet",null,"feet",null,"feet","feet"]
["Hymenaea courbaril",{"$error":"#N/A"},"Yes","No","No",{"$f":"IF($I$4=TRUE,INDEX($BZ$29:$DC1824,MATCH($A307,$AZ$29:$AZ$1000,0),MATCH($AC$2,$BZ$18:$DC$18,0)),\"Yes\")","v":"Yes"},"Yes","Yes","Yes","Yes","Yes","Yes","Yes","Yes",{"$error":"#N/A"},{"$error":"#N/A"},"Yes","Yes","Yes","Yes",{"$error":"#N/A"},{"$error":"#N/A"},{"$error":"#N/A"},{"$error":"#N/A"},null,null,null,null,null,null,null,null,null,null,null,null,null,null,null,null,null,null,null,null,null,null,null,null,null,null,null,"Hymenaea courbaril","West Indian locust, Brazilian cherry","West Indian locust, Brazilian cherry","West Indian locust, Brazilian cherry","West Indian locust, Brazilian cherry","West Indian locust, Brazilian cherry","West Indian locust, Brazilian cherry","West Indian locust, Brazilian cherry","West Indian locust, Brazilian cherry","West Indian locust, Brazilian cherry",20,2500,35,160,"Yes","No","No","No","Yes","Tree","Yes","No",0,"25-40","1-3",20,"Yes","No","Yes","No","Yes","No","Yes","No","Yes","No","Yes","No","Yes","No","Yes","No","Yes","No","Yes","No","Yes","No","Yes","No","Yes","No","Yes","No","Yes","No",null,null,null,null,null,null,null,"Yes","No","No","No","No","No","No","No","Yes","No","Yes","No","Yes","No","Yes","Yes","No","No",null,null,null,null,null,null,null,null,null,null,"10-20",null,"10-20",null,"10-20","10-20",null,null,null,null,null,null,null,null,null,null,null,null,"feet",null,"feet",null,"feet","feet"]
["Ilex anomala",{"$error":"#N/A"},"Yes","No","No",{"$f":"IF($I$4=TRUE,INDEX($BZ$29:$DC1825,MATCH($A308,$AZ$29:$AZ$1000,0),MATCH($AC$2,$BZ$18:$DC$18,0)),\"Yes\")","v":"Yes"},"Yes","Yes","Yes","Yes","Yes","Yes","Yes","Yes",{"$error":"#N/A"},{"$error":"#N/A"},"Yes","Yes","Yes","Yes",{"$error":"#N/A"},{"$error":"#N/A"},{"$error":"#N/A"},{"$error":"#N/A"},null,null,null,null,null,null,null,null,null,null,null,null,null,null,null,null,null,null,null,null,null,null,null,null,null,null,null,"Ilex anomala","kawau","kawau","kawau","kawau","kawau","kawau","kawau","kawau","kawau",20,6400,70,250,"Yes","Yes","No","No","No","Tree","No","Yes","n/a","1-25","0-1",15,"Yes","Yes","Yes","Yes","Yes","Yes","Yes","Yes","Yes","Yes","Yes","Yes","No","No","No","No","No","No","No","No","No","No","No","No","No","No","No","No","No","No",null,null,null,null,null,null,null,"Yes","Yes","No","No","No","No","No","No","Yes","No","Yes","No","Yes","No","No","Yes","No","No",null,null,null,null,null,null,null,null,null,null,"8-15",null,"8-15",null,"8-15","8-15",null,null,null,null,null,null,null,null,null,null,null,null,"feet",null,"feet",null,"feet","feet"]
["Inga edulis",{"$error":"#N/A"},"Yes","No","No",{"$f":"IF($I$4=TRUE,INDEX($BZ$29:$DC1826,MATCH($A309,$AZ$29:$AZ$1000,0),MATCH($AC$2,$BZ$18:$DC$18,0)),\"Yes\")","v":"Yes"},"Yes","Yes","Yes","Yes","Yes","Yes","Yes","Yes",{"$error":"#N/A"},{"$error":"#N/A"},"Yes","Yes","Yes","Yes",{"$error":"#N/A"},{"$error":"#N/A"},{"$error":"#N/A"},{"$error":"#N/A"},null,null,null,null,null,null,null,null,null,null,null,null,null,null,null,null,null,null,null,null,null,null,null,null,null,null,null,"Inga edulis","ice cream bean","ice cream bean","ice cream bean","ice cream bean","ice cream bean","ice cream bean","ice cream bean","ice cream bean","ice cream bean",20,5000,45,120,"Yes","No","No","No","Yes","Tree","Yes","No",3,"25-40","3+",15,"Yes","No","Yes","No","Yes","No","Yes","No","Yes","No","Yes","No","Yes","No","Yes","No","Yes","No","Yes","No","Yes","No","Yes","No","Yes","No","Yes","No","Yes","No","Leaves suitable for livestock fodder.",null,null,null,null,null,null,"Yes","Yes","No","No","No","No","No","No","Yes","No","Yes","No","Yes","No","Yes","Yes","No","No",null,null,null,null,null,null,null,null,null,null,"8-20",null,"8-20",null,"8-20","8-20",null,null,null,null,null,null,null,null,null,null,null,null,"feet",null,"feet",null,"feet","feet"]
["Inocarpus fagifer",{"$error":"#N/A"},"Yes","No","No",{"$f":"IF($I$4=TRUE,INDEX($BZ$29:$DC1827,MATCH($A310,$AZ$29:$AZ$1000,0),MATCH($AC$2,$BZ$18:$DC$18,0)),\"Yes\")","v":"Yes"},"Yes","Yes","Yes","Yes","Yes","Yes","Yes","Yes",{"$error":"#N/A"},{"$error":"#N/A"},"Yes","Yes","Yes","Yes",{"$error":"#N/A"},{"$error":"#N/A"},{"$error":"#N/A"},{"$error":"#N/A"},null,null,null,null,null,null,null,null,null,null,null,null,null,null,null,null,null,null,null,null,null,null,null,null,null,null,null,"Inocarpus fagifer","Tahitian chestnut","budo buoy, Tahitian chestnut","ifi, Tahitian chestnut","keam, Tahitian chestnut","mwuropw, ihi, marap, Tahitian chestnut","kihrak, Tahitian chestnut","anilla, kurrak, Tahitian chestnut","buoy, bloy, Tahitian chestnut","kurak, Tahitian chestnut",20,1500,60,240,"Yes","Yes","Yes","Yes","Yes","Tree","No","No",-3,"40+","1-3",40,"Yes","No","Yes","No","Yes","No","Yes","No","Yes","No","Yes","No","Yes","No","Yes","No","Yes","No","Yes","No","Yes","No","Yes","No","Yes","No","Yes","No","Yes","No",null,null,null,null,null,null,null,"Yes","No","No","No","No","No","No","No","Yes","No","Yes","No","Yes","No","Yes","Yes","No","Yes",null,null,null,null,null,null,null,null,null,null,"10-20",null,"10-20",null,"10-20","10-20",null,null,null,null,null,null,null,null,null,null,null,null,"feet",null,"feet",null,"feet","feet"]
["Intsia bijuga",{"$error":"#N/A"},"Yes","No","No",{"$f":"IF($I$4=TRUE,INDEX($BZ$29:$DC1828,MATCH($A311,$AZ$29:$AZ$1000,0),MATCH($AC$2,$BZ$18:$DC$18,0)),\"Yes\")","v":"Yes"},"Yes","Yes","Yes","Yes","Yes","Yes","Yes","Yes",{"$error":"#N/A"},{"$error":"#N/A"},"Yes","Yes","Yes","Yes",{"$error":"#N/A"},{"$error":"#N/A"},{"$error":"#N/A"},{"$error":"#N/A"},null,null,null,null,null,null,null,null,null,null,null,null,null,null,null,null,null,null,null,null,null,null,null,null,null,null,null,"Intsia bijuga","ipil-ipil","ifit, ifil, ipil-ipil","ifilele, ipil-ipil","dort, ipil-ipil","choyo, show, ipil-ipil","ifil, ipil-ipil","kuren, nityanmis, ipil-ipil","dort, thort, ipil-ipil","kubok, kubuk, ipil-ipil",0,1700,60,200,"Yes","Yes","Yes","Yes","Yes","Tree","Yes","Yes",-6,"40+","1-3",50,"No","No","No","No","No","No","No","No","No","No","No","No","Yes","Yes","Yes","Yes","Yes","Yes","Yes","Yes","Yes","No","Yes","No","Yes","Yes","Yes","Yes","Yes","No","Good forage for honey bees.",null,null,null,null,null,null,"Yes","Yes","No","No","No","No","No","No","Yes","No","Yes","No","Yes","No","Yes","Yes","No","Yes",null,null,null,null,null,null,null,null,null,null,"10-40",null,"10-40",null,"10-40","10-40",null,null,null,null,null,null,null,null,null,null,null,null,"feet",null,"feet",null,"feet","feet"]
["Ipomoea batatas",{"$error":"#N/A"},"Yes","No","No",{"$f":"IF($I$4=TRUE,INDEX($BZ$29:$DC1829,MATCH($A312,$AZ$29:$AZ$1000,0),MATCH($AC$2,$BZ$18:$DC$18,0)),\"Yes\")","v":"Yes"},"Yes","Yes","Yes","Yes","Yes","Yes","Yes","Yes",{"$error":"#N/A"},{"$error":"#N/A"},"Yes","Yes","Yes","Yes",{"$error":"#N/A"},{"$error":"#N/A"},{"$error":"#N/A"},{"$error":"#N/A"},null,null,null,null,null,null,null,null,null,null,null,null,null,null,null,null,null,null,null,null,null,null,null,null,null,null,null,"Ipomoea batatas","sweet potato","sweet potato","sweet potato","sweet potato","sweet potato","sweet potato","sweet potato","sweet potato","juweet, biteto, sweet potato",20,4500,20,200,"Yes","Yes","No","No","No","Herb","No","Yes",2,"0-1","3+",0,"Yes","No","Yes","No","Yes","No","Yes","No","Yes","No","Yes","No","Yes","No","Yes","No","Yes","No","Yes","No","Yes","No","Yes","No","Yes","No","Yes","No","Yes","No","Low-elevation, dry, often disturbed areas (usually below 500 feet in elevation).",null,null,null,null,null,null,"Yes","No","No","No","No","No","No","No","No","No","No","No","No","No","No","No","No","No",null,null,null,null,null,null,null,null,null,null,"",null,"",null,"","",null,null,null,null,null,null,null,null,null,null,null,null,"",null,"",null,"",""]
["Ipomoea indica",{"$error":"#N/A"},"Yes","No","No",{"$f":"IF($I$4=TRUE,INDEX($BZ$29:$DC1830,MATCH($A313,$AZ$29:$AZ$1000,0),MATCH($AC$2,$BZ$18:$DC$18,0)),\"Yes\")","v":"Yes"},"Yes","Yes","Yes","Yes","Yes","Yes","Yes","Yes",{"$error":"#N/A"},{"$error":"#N/A"},"Yes","Yes","Yes","Yes",{"$error":"#N/A"},{"$error":"#N/A"},{"$error":"#N/A"},{"$error":"#N/A"},null,null,null,null,null,null,null,null,null,null,null,null,null,null,null,null,null,null,null,null,null,null,null,null,null,null,null,"Ipomoea indica","koali awa, ocean blue morning glory","ocean blue morning glory","ocean blue morning glory","ocean blue morning glory","ocean blue morning glory","ocean blue morning glory","ocean blue morning glory","ocean blue morning glory","ocean blue morning glory",20,4100,15,120,"Yes","No","Yes","Yes","No","Herb","No","Yes","n/a","0-1","3+",0,"Yes","Yes","Yes","Yes","Yes","Yes","Yes","Yes","Yes","Yes","Yes","Yes","Yes","Yes","Yes","Yes","Yes","Yes","Yes","Yes","Yes","Yes","Yes","Yes","Yes","Yes","Yes","Yes","Yes","Yes","Low-elevation, dry, often disturbed areas (usually below 500 feet in elevation).",null,null,null,null,null,null,"Yes","No","No","No","No","No","No","No","No","No","No","No","No","No","No","No","No","No",null,null,null,null,null,null,null,null,null,null,"",null,"",null,"","",null,null,null,null,null,null,null,null,null,null,null,null,"",null,"",null,"",""]
["Ipomoea pes-caprae",{"$error":"#N/A"},"Yes","No","No",{"$f":"IF($I$4=TRUE,INDEX($BZ$29:$DC1831,MATCH($A314,$AZ$29:$AZ$1000,0),MATCH($AC$2,$BZ$18:$DC$18,0)),\"Yes\")","v":"Yes"},"Yes","Yes","Yes","Yes","Yes","Yes","Yes","Yes",{"$error":"#N/A"},{"$error":"#N/A"},"Yes","Yes","Yes","Yes",{"$error":"#N/A"},{"$error":"#N/A"},{"$error":"#N/A"},{"$error":"#N/A"},null,null,null,null,null,null,null,null,null,null,null,null,null,null,null,null,null,null,null,null,null,null,null,null,null,null,null,"Ipomoea pes-caprae","pohuehue, beach morning glory","alahai tasi, beach morning glory","fue moa, beach morning glory","kebeaschol, beach morning glory","sonsol, beach morning glory","ooba, owopuk, beach morning glory","beach morning glory","beach morning glory","topo, beach morning glory",0,500,20,200,"Yes","No","Yes","Yes","Yes","Vine-Herb","No","Yes","n/a","0-1","3+",0,"Yes","Yes","Yes","Yes","Yes","Yes","Yes","Yes","Yes","Yes","Yes","Yes","Yes","Yes","Yes","Yes","Yes","Yes","Yes","Yes","Yes","Yes","Yes","Yes","Yes","Yes","Yes","Yes","Yes","Yes",null,null,null,null,null,null,null,"Yes","No","Yes","No","Yes","No","No","No","No","No","No","No","No","Yes","No","No","No","No",null,null,null,null,80,null,null,null,null,null,"",null,"",null,"","",null,null,null,null,null,null,"bu/ac",null,null,null,null,null,"",null,"",null,"",""]
["Ipomoea tuboides",{"$error":"#N/A"},"Yes","No","No",{"$f":"IF($I$4=TRUE,INDEX($BZ$29:$DC1832,MATCH($A315,$AZ$29:$AZ$1000,0),MATCH($AC$2,$BZ$18:$DC$18,0)),\"Yes\")","v":"Yes"},"Yes","Yes","Yes","Yes","Yes","Yes","Yes","Yes",{"$error":"#N/A"},{"$error":"#N/A"},"Yes","Yes","Yes","Yes",{"$error":"#N/A"},{"$error":"#N/A"},{"$error":"#N/A"},{"$error":"#N/A"},null,null,null,null,null,null,null,null,null,null,null,null,null,null,null,null,null,null,null,null,null,null,null,null,null,null,null,"Ipomoea tuboides","Hawaiian moon flower","Hawaiian moon flower","Hawaiian moon flower","Hawaiian moon flower","Hawaiian moon flower","Hawaiian moon flower","Hawaiian moon flower","Hawaiian moon flower","Hawaiian moon flower",0,2000,15,120,"Yes","Yes","No","No","No","Herb","No","Yes","n/a","0-1","3+",0,"Yes","Yes","Yes","Yes","Yes","Yes","Yes","Yes","Yes","Yes","Yes","Yes","No","No","No","No","No","No","No","No","No","No","No","No","No","No","No","No","No","No","Arid rocky talus slopes or a'a lava.",null,null,null,null,null,null,"Yes","No","No","No","No","No","No","No","No","No","No","No","No","No","No","No","No","No",null,null,null,null,null,null,null,null,null,null,"",null,"",null,"","",null,null,null,null,null,null,null,null,null,null,null,null,"",null,"",null,"",""]
["Ischaemum polystachyum (hand planted)",{"$error":"#N/A"},"Yes","No","No",{"$f":"IF($I$4=TRUE,INDEX($BZ$29:$DC1833,MATCH($A316,$AZ$29:$AZ$1000,0),MATCH($AC$2,$BZ$18:$DC$18,0)),\"Yes\")","v":"Yes"},"Yes","Yes","Yes","Yes","Yes","Yes","Yes","Yes",{"$error":"#N/A"},{"$error":"#N/A"},"Yes","Yes","Yes","Yes",{"$error":"#N/A"},{"$error":"#N/A"},{"$error":"#N/A"},{"$error":"#N/A"},null,null,null,null,null,null,null,null,null,null,null,null,null,null,null,null,null,null,null,null,null,null,null,null,null,null,null,"Ischaemum polystachyum (hand planted)","Baron’s grass, paddlegrass, reh padil  (hand planted)","Baron’s grass, paddlegrass, reh padil  (hand planted)","Baron’s grass, paddlegrass, reh padil  (hand planted)","Baron’s grass, paddlegrass, reh padil  (hand planted)","Baron’s grass, paddlegrass, reh padil  (hand planted)","Baron’s grass, paddlegrass, reh padil  (hand planted)","Baron’s grass, paddlegrass, reh padil  (hand planted)","Baron’s grass, paddlegrass, reh padil  (hand planted)","Baron’s grass, paddlegrass, reh padil  (hand planted)",20,3000,50,200,"Yes","No","Yes","No","No","Herb","No","No","n/a","0-1","3+",0,"Yes","No","Yes","No","Yes","No","Yes","No","Yes","No","Yes","No","Yes","No","Yes","No","Yes","No","Yes","No","Yes","No","Yes","No","Yes","No","Yes","No","Yes","No",null,null,null,null,null,null,null,"Yes","No","Yes","No","Yes","No","Yes","No","No","No","No","No","No","Yes","No","No","No","No",null,null,1,null,1,null,1,1,null,null,"",1,"",null,"","",null,null,null,null,"4' x 4'",null,"3' x 3'",null,"4' x 4'","6' x 6'",null,null,"","6' x 6'","",null,"",""]
["Ischaemum polystachyum (sprigged)",{"$error":"#N/A"},"Yes","No","No",{"$f":"IF($I$4=TRUE,INDEX($BZ$29:$DC1834,MATCH($A317,$AZ$29:$AZ$1000,0),MATCH($AC$2,$BZ$18:$DC$18,0)),\"Yes\")","v":"Yes"},"Yes","Yes","Yes","Yes","Yes","Yes","Yes","Yes",{"$error":"#N/A"},{"$error":"#N/A"},"Yes","Yes","Yes","Yes",{"$error":"#N/A"},{"$error":"#N/A"},{"$error":"#N/A"},{"$error":"#N/A"},null,null,null,null,null,null,null,null,null,null,null,null,null,null,null,null,null,null,null,null,null,null,null,null,null,null,null,"Ischaemum polystachyum (sprigged)","Baron’s grass, paddlegrass, reh padil  (sprigged)","Baron’s grass, paddlegrass, reh padil  (sprigged)","Baron’s grass, paddlegrass, reh padil  (sprigged)","Baron’s grass, paddlegrass, reh padil  (sprigged)","Baron’s grass, paddlegrass, reh padil  (sprigged)","Baron’s grass, paddlegrass, reh padil  (sprigged)","Baron’s grass, paddlegrass, reh padil  (sprigged)","Baron’s grass, paddlegrass, reh padil  (sprigged)","Baron’s grass, paddlegrass, reh padil  (sprigged)",20,3000,50,200,"Yes","No","Yes","No","No","Herb","No","No","n/a","0-1","3+",0,"Yes","No","Yes","No","Yes","No","Yes","No","Yes","No","Yes","No","Yes","No","Yes","No","Yes","No","Yes","No","Yes","No","Yes","No","Yes","No","Yes","No","Yes","No","Recommended spacing for planted stolons is 6' x 6'",null,null,null,null,null,null,"Yes","No","Yes","No","Yes","No","Yes","Yes","No","No","No","Yes","No","Yes","No","No","No","No",null,null,40,null,80,null,40,40,null,null,"",40,"",null,"","",null,null,null,null,"bu/ac",null,"bu/ac",null,"bu/ac","bu/ac ",null,null,"","bu/ac","",null,"",""]
["Jacquemontia sandwicensis",{"$error":"#N/A"},"Yes","No","No",{"$f":"IF($I$4=TRUE,INDEX($BZ$29:$DC1835,MATCH($A318,$AZ$29:$AZ$1000,0),MATCH($AC$2,$BZ$18:$DC$18,0)),\"Yes\")","v":"Yes"},"Yes","Yes","Yes","Yes","Yes","Yes","Yes","Yes",{"$error":"#N/A"},{"$error":"#N/A"},"Yes","Yes","Yes","Yes",{"$error":"#N/A"},{"$error":"#N/A"},{"$error":"#N/A"},{"$error":"#N/A"},null,null,null,null,null,null,null,null,null,null,null,null,null,null,null,null,null,null,null,null,null,null,null,null,null,null,null,"Jacquemontia sandwicensis","pauohiiaka, kakuaohiiaka","pauohiiaka, kakuaohiiaka","pauohiiaka, kakuaohiiaka","pauohiiaka, kakuaohiiaka","pauohiiaka, kakuaohiiaka","pauohiiaka, kakuaohiiaka","pauohiiaka, kakuaohiiaka","pauohiiaka, kakuaohiiaka","pauohiiaka, kakuaohiiaka",0,500,20,80,"Yes","No","Yes","Yes","No","Vine-Herb","No","Yes","n/a","0-1","3+",0,"Yes","Yes","Yes","Yes","Yes","Yes","Yes","Yes","Yes","Yes","Yes","Yes","No","No","No","No","No","No","No","No","No","No","No","No","No","No","No","No","No","No",null,"This is actually a synonym for Jacquemontia ovalifolia ssp. Sandwicensis, but shorter name fits better in jobsheet template for now.",null,null,null,null,null,"Yes","No","Yes","No","Yes","No","No","No","No","No","No","No","No","Yes","No","No","No","No",null,null,null,null,null,null,null,null,null,null,"",null,"",null,"","",null,null,null,null,null,null,null,null,null,null,null,null,"",null,"",null,"",""]
["Juniperus bermudiana",{"$error":"#N/A"},"Yes","No",{"$f":"IF(A$2=\"Cover Crop (340)\",\"Yes\",IF(ISBLANK($C$7),\"No\",IF(AND($C$7>=BJ319,$C$7<=BK319),\"Yes\",\"No\")))","v":"No"},{"$f":"IF($I$4=TRUE,INDEX($BZ$29:$DC1836,MATCH($A319,$AZ$29:$AZ$1000,0),MATCH($AC$2,$BZ$18:$DC$18,0)),\"Yes\")","v":"Yes"},"Yes","Yes","Yes","Yes","Yes","Yes","Yes","Yes",{"$error":"#N/A"},{"$error":"#N/A"},"Yes","Yes","Yes","Yes",{"$error":"#N/A"},{"$error":"#N/A"},{"$error":"#N/A"},{"$error":"#N/A"},null,null,null,null,null,null,null,null,null,null,null,null,null,null,null,null,null,null,null,null,null,null,null,null,null,null,null,"Juniperus bermudiana","Bermuda juniper","Bermuda juniper","Bermuda juniper","Bermuda juniper","Bermuda juniper","Bermuda juniper","Bermuda juniper","Bermuda juniper","Bermuda juniper",0,3500,40,120,"Yes","No","Yes","Yes","No","Tree","No","No",7,"25-40","1-3",40,"Yes","No","Yes","No","Yes","No","Yes","No","Yes","No","Yes","No","No","No","No","No","No","No","No","No","No","No","No","No","No","No","No","No","No","No",null,null,null,null,null,null,null,"Yes","Yes","No","No","No","No","No","No","Yes","No","Yes","No","Yes","No","Yes","Yes","No","No",null,null,null,null,null,null,null,null,null,null,"10-20",null,"10-20",null,"10-20","10-20",null,null,null,null,null,null,null,null,null,null,null,null,"feet",null,"feet",null,"feet","feet"]
["Kadua affinis",{"$error":"#N/A"},"Yes","No","No",{"$f":"IF($I$4=TRUE,INDEX($BZ$29:$DC1837,MATCH($A320,$AZ$29:$AZ$1000,0),MATCH($AC$2,$BZ$18:$DC$18,0)),\"Yes\")","v":"Yes"},"Yes","Yes","Yes","Yes","Yes","Yes","Yes","Yes",{"$error":"#N/A"},{"$error":"#N/A"},"Yes","Yes","Yes","Yes",{"$error":"#N/A"},{"$error":"#N/A"},{"$error":"#N/A"},{"$error":"#N/A"},null,null,null,null,null,null,null,null,null,null,null,null,null,null,null,null,null,null,null,null,null,null,null,null,null,null,null,"Kadua affinis","manono - 1","manono - 1","manono - 1","manono - 1","manono - 1","manono - 1","manono - 1","manono - 1","manono - 1",600,6700,35,250,"Yes","Yes","No","No","Yes","Shrub","No","Yes","n/a","1-25","0-1",3,"Yes","Yes","Yes","Yes","Yes","Yes","Yes","Yes","Yes","Yes","Yes","Yes","No","No","No","No","No","No","No","No","No","No","No","No","No","No","No","No","No","No","Mesic to wet forest.",null,null,null,null,null,null,"Yes","Yes","No","No","No","No","No","No","Yes","No","Yes","No","Yes","No","No","Yes","No","No",null,null,null,null,null,null,null,null,null,null,"",null,"",null,"","",null,null,null,null,null,null,null,null,null,null,null,null,"",null,"",null,"",""]
["Khaya senegalensis",{"$error":"#N/A"},"Yes","No","No",{"$f":"IF($I$4=TRUE,INDEX($BZ$29:$DC1838,MATCH($A321,$AZ$29:$AZ$1000,0),MATCH($AC$2,$BZ$18:$DC$18,0)),\"Yes\")","v":"Yes"},"Yes","Yes","Yes","Yes","Yes","Yes","Yes","Yes",{"$error":"#N/A"},{"$error":"#N/A"},"Yes","Yes","Yes","Yes",{"$error":"#N/A"},{"$error":"#N/A"},{"$error":"#N/A"},{"$error":"#N/A"},null,null,null,null,null,null,null,null,null,null,null,null,null,null,null,null,null,null,null,null,null,null,null,null,null,null,null,"Khaya senegalensis","African mahogany","African mahogany","African mahogany","African mahogany","African mahogany","African mahogany","African mahogany","African mahogany","African mahogany",20,4500,20,120,"Yes","No","No","No","Yes","Tree","No","No",0,"40+","1-3",50,"Yes","No","Yes","No","Yes","No","Yes","No","Yes","No","Yes","No","Yes","No","Yes","No","Yes","No","Yes","No","Yes","No","Yes","No","Yes","No","Yes","No","Yes","No",null,null,null,null,null,null,null,"Yes","Yes","No","No","No","No","No","No","Yes","No","Yes","No","Yes","No","Yes","Yes","No","No",null,null,null,null,null,null,null,null,null,null,"10-20",null,"10-20",null,"10-20","10-20",null,null,null,null,null,null,null,null,null,null,null,null,"feet",null,"feet",null,"feet","feet"]
["Kleinhovia hospita",{"$error":"#N/A"},"Yes","No","No",{"$f":"IF($I$4=TRUE,INDEX($BZ$29:$DC1839,MATCH($A322,$AZ$29:$AZ$1000,0),MATCH($AC$2,$BZ$18:$DC$18,0)),\"Yes\")","v":"Yes"},"Yes","Yes","Yes","Yes","Yes","Yes","Yes","Yes",{"$error":"#N/A"},{"$error":"#N/A"},"Yes","Yes","Yes","Yes",{"$error":"#N/A"},{"$error":"#N/A"},{"$error":"#N/A"},{"$error":"#N/A"},null,null,null,null,null,null,null,null,null,null,null,null,null,null,null,null,null,null,null,null,null,null,null,null,null,null,null,"Kleinhovia hospita","guest tree","guest tree","fu`afu`a","madudin","keleu en and","guest tree","manou, aunenipuin","guest tree","guest tree",20,1600,70,200,"Yes","No","No","No","No","Tree","No","Yes","n/a","1-25","3+",20,"No","No","No","No","No","No","No","No","No","No","No","No","Yes","Yes","Yes","Yes","Yes","Yes","Yes","Yes","Yes","Yes","Yes","Yes","Yes","Yes","Yes","Yes","No","No",null,null,null,null,null,null,null,"Yes","No","No","No","No","No","No","No","Yes","No","Yes","No","Yes","No","Yes","Yes","No","No",null,null,null,null,null,null,null,null,null,null,"8-15",null,"8-15",null,"8-15","8-15",null,null,null,null,null,null,null,null,null,null,null,null,"feet",null,"feet",null,"feet","feet"]
["Lablab purpureus",{"$error":"#N/A"},"Yes","No","No",{"$f":"IF($I$4=TRUE,INDEX($BZ$29:$DC1840,MATCH($A323,$AZ$29:$AZ$1000,0),MATCH($AC$2,$BZ$18:$DC$18,0)),\"Yes\")","v":"Yes"},"Yes","Yes","Yes","Yes","Yes","Yes","Yes","Yes",{"$error":"#N/A"},{"$error":"#N/A"},"Yes","Yes","Yes","Yes",{"$error":"#N/A"},{"$error":"#N/A"},{"$error":"#N/A"},{"$error":"#N/A"},null,null,null,null,null,null,null,null,null,null,null,null,null,null,null,null,null,null,null,null,null,null,null,null,null,null,null,"Lablab purpureus","lablab, dolichos","lablab, dolichos","lablab, dolichos","lablab, dolichos","lablab, dolichos","lablab, dolichos","lablab, dolichos","lablab, dolichos","lablab, dolichos",20,4000,20,120,"Yes","No","Yes","No","No","Vine-Herb","Yes","No","n/a","0-1","3+",0,"Yes","No","Yes","No","Yes","No","Yes","No","Yes","No","Yes","No","Yes","No","Yes","No","Yes","No","Yes","No","Yes","No","Yes","No","Yes","No","Yes","No","Yes","No","This species performs best in a soil with a pH range of 4.5-6.5.  When allowed to grow for 60 days a producer should expect 2.5 tons of above ground biomass which will contain approximately 50 lbs of Nitrogen per ton.",null,"WS",null,null,null,null,"Yes","No","Yes","Yes","No","No","No","No","No","No","No","No","No","Yes","No","No","No","No",null,null,null,60,60,null,null,null,null,null,"",null,"",null,"","",null,null,null,null,null,"lbs/ac","lbs/ac",null,null,null,null,null,"",null,"",null,"",""]
["Leptecophylla tameiameiae",{"$error":"#N/A"},"Yes","No","No",{"$f":"IF($I$4=TRUE,INDEX($BZ$29:$DC1841,MATCH($A324,$AZ$29:$AZ$1000,0),MATCH($AC$2,$BZ$18:$DC$18,0)),\"Yes\")","v":"Yes"},"Yes","Yes","Yes","Yes","Yes","Yes","Yes","Yes",{"$error":"#N/A"},{"$error":"#N/A"},"Yes","Yes","Yes","Yes",{"$error":"#N/A"},{"$error":"#N/A"},{"$error":"#N/A"},{"$error":"#N/A"},null,null,null,null,null,null,null,null,null,null,null,null,null,null,null,null,null,null,null,null,null,null,null,null,null,null,null,"Leptecophylla tameiameiae","pukiawe","pukiawe","pukiawe","pukiawe","pukiawe","pukiawe","pukiawe","pukiawe","pukiawe",20,10000,35,200,"Yes","Yes","Yes","No","Yes","Shrub","No","Yes","n/a","1-25","0-1",6,"Yes","Yes","Yes","Yes","Yes","Yes","Yes","Yes","Yes","Yes","Yes","Yes","No","No","No","No","No","No","No","No","No","No","No","No","No","No","No","No","No","No",null,null,null,null,null,null,null,"Yes","Yes","No","No","No","No","No","No","Yes","No","Yes","No","Yes","No","No","Yes","No","No",null,null,null,null,null,null,null,null,null,null,"",null,"",null,"","",null,null,null,null,null,null,null,null,null,null,null,null,"",null,"",null,"",""]
["Leucaena leucocephala subsp. glabrata",{"$error":"#N/A"},"Yes","No","No",{"$f":"IF($I$4=TRUE,INDEX($BZ$29:$DC1842,MATCH($A325,$AZ$29:$AZ$1000,0),MATCH($AC$2,$BZ$18:$DC$18,0)),\"Yes\")","v":"Yes"},"Yes","Yes","Yes","Yes","Yes","Yes","Yes","Yes",{"$error":"#N/A"},{"$error":"#N/A"},"Yes","Yes","Yes","Yes",{"$error":"#N/A"},{"$error":"#N/A"},{"$error":"#N/A"},{"$error":"#N/A"},null,null,null,null,null,null,null,null,null,null,null,null,null,null,null,null,null,null,null,null,null,null,null,null,null,null,null,"Leucaena leucocephala subsp. glabrata","Leuceana hybrids, KX2, KX3, KX4","Leuceana hybrids, KX2, KX3, KX4","Leuceana hybrids, KX2, KX3, KX4","Leuceana hybrids, KX2, KX3, KX4","Leuceana hybrids, KX2, KX3, KX4","Leuceana hybrids, KX2, KX3, KX4","Leuceana hybrids, KX2, KX3, KX4","Leuceana hybrids, KX2, KX3, KX4","Leuceana hybrids, KX2, KX3, KX4",0,2500,30,100,"Yes","No","Yes","No","No","Tree","Yes","No",3,"1-25","3+",25,"Yes","No","Yes","No","Yes","No","Yes","No","Yes","No","Yes","No","Yes","No","Yes","No","Yes","No","Yes","No","Yes","No","Yes","No","Yes","No","Yes","No","Yes","No",null,null,null,null,null,null,null,"Yes","Yes","No","No","No","No","No","No","Yes","No","Yes","No","Yes","No","Yes","Yes","No","No",null,null,null,null,null,null,null,null,null,null,"8-15",null,"8-15",null,"8-15","8-15",null,null,null,null,null,null,null,null,null,null,null,null,"feet",null,"feet",null,"feet","feet"]
["Lipochaeta heterophylla",{"$error":"#N/A"},"Yes","No","No",{"$f":"IF($I$4=TRUE,INDEX($BZ$29:$DC1843,MATCH($A326,$AZ$29:$AZ$1000,0),MATCH($AC$2,$BZ$18:$DC$18,0)),\"Yes\")","v":"Yes"},"Yes","Yes","Yes","Yes","Yes","Yes","Yes","Yes",{"$error":"#N/A"},{"$error":"#N/A"},"Yes","Yes","Yes","Yes",{"$error":"#N/A"},{"$error":"#N/A"},{"$error":"#N/A"},{"$error":"#N/A"},null,null,null,null,null,null,null,null,null,null,null,null,null,null,null,null,null,null,null,null,null,null,null,null,null,null,null,"Lipochaeta heterophylla","nehe - 1","nehe - 1","nehe - 1","nehe - 1","nehe - 1","nehe - 1","nehe - 1","nehe - 1","nehe - 1",0,1300,20,120,"Yes","No","No","Yes","No","Herb","No","Yes","n/a","0-1","3+",0,"Yes","No","Yes","No","Yes","Yes","Yes","Yes","Yes","Yes","Yes","No","No","No","No","No","No","No","No","No","No","No","No","No","No","No","No","No","No","No",null,null,null,null,null,null,null,"Yes","No","No","No","No","No","No","No","No","No","No","No","No","No","No","No","No","No",null,null,null,null,null,null,null,null,null,null,"",null,"",null,"","",null,null,null,null,null,null,null,null,null,null,null,null,"",null,"",null,"",""]
["Lipochaeta lobata subsp. lobata",{"$error":"#N/A"},"Yes","No","No",{"$f":"IF($I$4=TRUE,INDEX($BZ$29:$DC1844,MATCH($A327,$AZ$29:$AZ$1000,0),MATCH($AC$2,$BZ$18:$DC$18,0)),\"Yes\")","v":"Yes"},"Yes","Yes","Yes","Yes","Yes","Yes","Yes","Yes",{"$error":"#N/A"},{"$error":"#N/A"},"Yes","Yes","Yes","Yes",{"$error":"#N/A"},{"$error":"#N/A"},{"$error":"#N/A"},{"$error":"#N/A"},null,null,null,null,null,null,null,null,null,null,null,null,null,null,null,null,null,null,null,null,null,null,null,null,null,null,null,"Lipochaeta lobata subsp. lobata","nehe - 2","nehe - 2","nehe - 2","nehe - 2","nehe - 2","nehe - 2","nehe - 2","nehe - 2","nehe - 2",0,1300,20,120,"Yes","No","No","Yes","No","Herb","No","Yes","n/a","0-1","3+",0,"Yes","No","Yes","No","Yes","No","Yes","Yes","Yes","No","Yes","Yes","No","No","No","No","No","No","No","No","No","No","No","No","No","No","No","No","No","No",null,null,null,null,null,null,null,"Yes","No","No","No","No","No","No","No","No","No","No","No","No","No","No","No","No","No",null,null,null,null,null,null,null,null,null,null,"",null,"",null,"","",null,null,null,null,null,null,null,null,null,null,null,null,"",null,"",null,"",""]
["Lipochaeta rockii",{"$error":"#N/A"},"Yes","No","No",{"$f":"IF($I$4=TRUE,INDEX($BZ$29:$DC1845,MATCH($A328,$AZ$29:$AZ$1000,0),MATCH($AC$2,$BZ$18:$DC$18,0)),\"Yes\")","v":"Yes"},"Yes","Yes","Yes","Yes","Yes","Yes","Yes","Yes",{"$error":"#N/A"},{"$error":"#N/A"},"Yes","Yes","Yes","Yes",{"$error":"#N/A"},{"$error":"#N/A"},{"$error":"#N/A"},{"$error":"#N/A"},null,null,null,null,null,null,null,null,null,null,null,null,null,null,null,null,null,null,null,null,null,null,null,null,null,null,null,"Lipochaeta rockii","nehe - 3","nehe - 3","nehe - 3","nehe - 3","nehe - 3","nehe - 3","nehe - 3","nehe - 3","nehe - 3",20,1800,20,120,"Yes","No","No","Yes","No","Herb","No","Yes","n/a","0-1","3+",0,"Yes","Yes","Yes","No","Yes","No","Yes","Yes","Yes","Yes","Yes","No","No","No","No","No","No","No","No","No","No","No","No","No","No","No","No","No","No","No",null,null,null,null,null,null,null,"Yes","No","No","No","No","No","No","No","No","No","No","No","No","No","No","No","No","No",null,null,null,null,null,null,null,null,null,null,"",null,"",null,"","",null,null,null,null,null,null,null,null,null,null,null,null,"",null,"",null,"",""]
["Litchee chinensis",{"$error":"#N/A"},"Yes","No","No",{"$f":"IF($I$4=TRUE,INDEX($BZ$29:$DC1846,MATCH($A329,$AZ$29:$AZ$1000,0),MATCH($AC$2,$BZ$18:$DC$18,0)),\"Yes\")","v":"Yes"},"Yes","Yes","Yes","Yes","Yes","Yes","Yes","Yes",{"$error":"#N/A"},{"$error":"#N/A"},"Yes","Yes","Yes","Yes",{"$error":"#N/A"},{"$error":"#N/A"},{"$error":"#N/A"},{"$error":"#N/A"},null,null,null,null,null,null,null,null,null,null,null,null,null,null,null,null,null,null,null,null,null,null,null,null,null,null,null,"Litchee chinensis","lychee","lychee","lychee","litchi","lychee","lychee","lychee","lychee","lychee",20,2500,50,140,"Yes","No","Yes","No","No","Tree","No","No",0,"25-40","1-3",15,"Yes","No","Yes","No","Yes","No","Yes","No","Yes","No","Yes","No","Yes","No","Yes","No","Yes","No","Yes","No","Yes","No","Yes","No","Yes","No","Yes","No","Yes","No",null,null,null,null,null,null,null,"Yes","No","No","No","No","No","No","No","Yes","No","Yes","No","Yes","No","Yes","Yes","No","No",null,null,null,null,null,null,null,null,null,null,"10-40",null,"10-40",null,"10-40","10-40",null,null,null,null,null,null,null,null,null,null,null,null,"feet",null,"feet",null,"feet","feet"]
["Lolium multiflorum ",{"$error":"#N/A"},"Yes","No","No",{"$f":"IF($I$4=TRUE,INDEX($BZ$29:$DC1847,MATCH($A330,$AZ$29:$AZ$1000,0),MATCH($AC$2,$BZ$18:$DC$18,0)),\"Yes\")","v":"Yes"},"Yes","Yes","Yes","Yes","Yes","Yes","Yes","Yes",{"$error":"#N/A"},{"$error":"#N/A"},"Yes","Yes","Yes","Yes",{"$error":"#N/A"},{"$error":"#N/A"},{"$error":"#N/A"},{"$error":"#N/A"},null,null,null,null,null,null,null,null,null,null,null,null,null,null,null,null,null,null,null,null,null,null,null,null,null,null,null,"Lolium multiflorum ","annual ryegrass - 1","annual ryegrass - 1","annual ryegrass - 1","annual ryegrass - 1","annual ryegrass - 1","annual ryegrass - 1","annual ryegrass - 1","annual ryegrass - 1","annual ryegrass - 1",20,7000,40,150,"Yes","No","Yes","No","No","Herb","No","No",9,"0-1","3+",0,"Yes","No","Yes","No","Yes","No","Yes","No","Yes","No","Yes","No","Yes","No","Yes","No","Yes","No","Yes","No","Yes","No","Yes","No","Yes","No","Yes","No","Yes","No","This species performs best in a soil with a pH range of 5.5-7.0.  When allowed to grow for 90 days a producer should expect 1.0 tons of above ground biomass which will contain approximately 13 lbs of Nitrogen per ton.",null,null,null,null,null,null,"Yes","No","Yes","No","Yes","No","No","No","No","No","No","No","No","Yes","No","No","No","No",null,null,20,40,40,null,20,null,null,null,"",null,"",null,"","",null,null,null,null,"lbs/ac","lbs/ac","lbs/ac",null,"lbs/ac",null,null,null,"",null,"",null,"",""]
["Lolium multiflorum (alone)",{"$error":"#N/A"},"Yes","No","No",{"$f":"IF($I$4=TRUE,INDEX($BZ$29:$DC1848,MATCH($A331,$AZ$29:$AZ$1000,0),MATCH($AC$2,$BZ$18:$DC$18,0)),\"Yes\")","v":"Yes"},"Yes","Yes","Yes","Yes","Yes","Yes","Yes","Yes",{"$error":"#N/A"},{"$error":"#N/A"},"Yes","Yes","Yes","Yes",{"$error":"#N/A"},{"$error":"#N/A"},{"$error":"#N/A"},{"$error":"#N/A"},null,null,null,null,null,null,null,null,null,null,null,null,null,null,null,null,null,null,null,null,null,null,null,null,null,null,null,"Lolium multiflorum (alone)","annual ryegrass - 2","annual ryegrass - 2","annual ryegrass - 2","annual ryegrass - 2","annual ryegrass - 2","annual ryegrass - 2","annual ryegrass - 2","annual ryegrass - 2","annual ryegrass - 2",20,7000,40,150,"Yes","No","Yes","No","No","Herb","No","No",9,"0-1","3+",0,"Yes","No","Yes","No","Yes","No","Yes","No","Yes","No","Yes","No","Yes","No","Yes","No","Yes","No","Yes","No","Yes","No","Yes","No","Yes","No","Yes","No","Yes","No","This species performs best in a soil with a pH range of 5.5-7.0.  When allowed to grow for 90 days a producer should expect 1.0 tons of above ground biomass which will contain approximately 13 lbs of Nitrogen per ton.",null,"CS",null,null,null,null,"Yes","No","No","Yes","No","No","No","No","No","No","No","No","No","No","No","No","No","No",null,null,10,40,null,null,10,null,null,null,"",null,"",null,"","",null,null,null,null,"lbs/ac","lbs/ac",null,null,"lbs/ac",null,null,null,"",null,"",null,"",""]
["Lolium perenne",{"$error":"#N/A"},"Yes","No","No",{"$f":"IF($I$4=TRUE,INDEX($BZ$29:$DC1849,MATCH($A332,$AZ$29:$AZ$1000,0),MATCH($AC$2,$BZ$18:$DC$18,0)),\"Yes\")","v":"Yes"},"Yes","Yes","Yes","Yes","Yes","Yes","Yes","Yes",{"$error":"#N/A"},{"$error":"#N/A"},"Yes","Yes","Yes","Yes",{"$error":"#N/A"},{"$error":"#N/A"},{"$error":"#N/A"},{"$error":"#N/A"},null,null,null,null,null,null,null,null,null,null,null,null,null,null,null,null,null,null,null,null,null,null,null,null,null,null,null,"Lolium perenne","perennial ryegrass","perennial ryegrass","perennial ryegrass","perennial ryegrass","perennial ryegrass","perennial ryegrass","perennial ryegrass","perennial ryegrass","perennial ryegrass",1500,7000,40,100,"Yes","No","Yes","No","No","Herb","No","No",15,"0-1","3+",0,"Yes","No","Yes","No","Yes","No","Yes","No","Yes","No","Yes","No","Yes","No","Yes","No","Yes","No","Yes","No","Yes","No","Yes","No","Yes","No","Yes","No","Yes","No",null,null,null,null,null,null,null,"Yes","No","Yes","No","Yes","No","No","Yes","No","No","No","Yes","No","Yes","No","No","No","No",null,null,24,null,40,null,24,10,null,null,"",10,"",null,"","",null,null,null,null,"lbs/ac","lbs/ac","lbs/ac",null,"lbs/ac","lbs/ac",null,null,"","lbs/ac","",null,"",""]
["Lophostemon confertus",{"$error":"#N/A"},"Yes","No","No",{"$f":"IF($I$4=TRUE,INDEX($BZ$29:$DC1850,MATCH($A333,$AZ$29:$AZ$1000,0),MATCH($AC$2,$BZ$18:$DC$18,0)),\"Yes\")","v":"Yes"},"Yes","Yes","Yes","Yes","Yes","Yes","Yes","Yes",{"$error":"#N/A"},{"$error":"#N/A"},"Yes","Yes","Yes","Yes",{"$error":"#N/A"},{"$error":"#N/A"},{"$error":"#N/A"},{"$error":"#N/A"},null,null,null,null,null,null,null,null,null,null,null,null,null,null,null,null,null,null,null,null,null,null,null,null,null,null,null,"Lophostemon confertus","brushbox","brushbox","brushbox","brushbox","brushbox","brushbox","brushbox","brushbox","brushbox",20,3000,40,120,"Yes","No","Yes","No","No","Tree","No","No",-3,"40+","3+",70,"Yes","No","Yes","No","Yes","No","Yes","No","Yes","No","Yes","No","No","No","No","No","No","No","No","No","No","No","No","No","No","No","No","No","No","No",null,"Naturalized on Oahu, possibly on Hawaii, Kauai, Lanai, Maui, Molokai",null,null,null,null,null,"Yes","Yes","No","No","No","No","No","No","Yes","No","Yes","No","Yes","No","Yes","Yes","No","Yes",null,null,null,null,null,null,null,null,null,null,"10-20",null,"10-20",null,"10-20","10-20",null,null,null,null,null,null,null,null,null,null,null,null,"feet",null,"feet",null,"feet","feet"]
["Lotus pedunculatus",{"$error":"#N/A"},"Yes","No","No",{"$f":"IF($I$4=TRUE,INDEX($BZ$29:$DC1851,MATCH($A334,$AZ$29:$AZ$1000,0),MATCH($AC$2,$BZ$18:$DC$18,0)),\"Yes\")","v":"Yes"},"Yes","Yes","Yes","Yes","Yes","Yes","Yes","Yes",{"$error":"#N/A"},{"$error":"#N/A"},"Yes","Yes","Yes","Yes",{"$error":"#N/A"},{"$error":"#N/A"},{"$error":"#N/A"},{"$error":"#N/A"},null,null,null,null,null,null,null,null,null,null,null,null,null,null,null,null,null,null,null,null,null,null,null,null,null,null,null,"Lotus pedunculatus","big trefoil","big trefoil","big trefoil","big trefoil","big trefoil","big trefoil","big trefoil","big trefoil","big trefoil",1500,6000,50,100,"Yes","No","Yes","No","No","Herb","Yes","No","n/a","0-1","3+",0,"Yes","No","Yes","No","Yes","No","Yes","No","Yes","No","Yes","No","Yes","No","Yes","No","Yes","No","Yes","No","Yes","No","Yes","No","Yes","No","Yes","No","Yes","No",null,null,null,null,null,null,null,"Yes","No","Yes","No","Yes","No","Yes","Yes","No","No","No","Yes","No","Yes","No","No","No","No",null,null,10,null,20,null,10,5,null,null,"",2,"",null,"","",null,null,null,null,"lbs/ac",null,"lbs/ac",null,"lbs/ac","lbs/ac",null,null,"","lbs/ac","",null,"",""]
["Lumnitzera littorea",{"$error":"#N/A"},"Yes","No","No",{"$f":"IF($I$4=TRUE,INDEX($BZ$29:$DC1852,MATCH($A335,$AZ$29:$AZ$1000,0),MATCH($AC$2,$BZ$18:$DC$18,0)),\"Yes\")","v":"Yes"},"Yes","Yes","Yes","Yes","Yes","Yes","Yes","Yes",{"$error":"#N/A"},{"$error":"#N/A"},"Yes","Yes","Yes","Yes",{"$error":"#N/A"},{"$error":"#N/A"},{"$error":"#N/A"},{"$error":"#N/A"},null,null,null,null,null,null,null,null,null,null,null,null,null,null,null,null,null,null,null,null,null,null,null,null,null,null,null,"Lumnitzera littorea","black mangrove","nana, black mangrove","black mangrove","mekekad, black mangrove","weingal, black mangrove","ci, oi, black mangrove","weey, black mangrove","yiiy, wei, black mangrove","kimeme, black mangrove",0,50,30,200,"Yes","Yes","Yes","Yes","Yes","Tree","No","Yes","n/a","40+","1-3",20,"No","No","No","No","No","No","No","No","No","No","No","No","No","No","Yes","Yes","Yes","Yes","Yes","Yes","Yes","Yes","Yes","Yes","Yes","Yes","Yes","Yes","Yes","Yes",null,null,null,null,null,null,null,"Yes","No","No","No","No","No","No","No","Yes","No","Yes","No","Yes","No","No","Yes","No","Yes",null,null,null,null,null,null,null,null,null,null,"8-15",null,"8-15",null,"8-15","8-15",null,null,null,null,null,null,null,null,null,null,null,null,"feet",null,"feet",null,"feet","feet"]
["Lycium sandwicense",{"$error":"#N/A"},"Yes","No","No",{"$f":"IF($I$4=TRUE,INDEX($BZ$29:$DC1853,MATCH($A336,$AZ$29:$AZ$1000,0),MATCH($AC$2,$BZ$18:$DC$18,0)),\"Yes\")","v":"Yes"},"Yes","Yes","Yes","Yes","Yes","Yes","Yes","Yes",{"$error":"#N/A"},{"$error":"#N/A"},"Yes","Yes","Yes","Yes",{"$error":"#N/A"},{"$error":"#N/A"},{"$error":"#N/A"},{"$error":"#N/A"},null,null,null,null,null,null,null,null,null,null,null,null,null,null,null,null,null,null,null,null,null,null,null,null,null,null,null,"Lycium sandwicense","ohelo kai","ohelo kai","ohelo kai","ohelo kai","ohelo kai","ohelo kai","ohelo kai","ohelo kai","ohelo kai",0,150,15,120,"Yes","No","Yes","Yes","No","Shrub","No","Yes","n/a","1-25","1-3",2,"Yes","Yes","Yes","Yes","Yes","Yes","Yes","Yes","Yes","Yes","Yes","Yes","No","No","No","No","No","No","No","No","No","No","No","No","No","No","No","No","No","No",null,null,null,null,null,null,null,"Yes","Yes","No","No","No","No","No","No","Yes","No","Yes","No","Yes","No","No","Yes","No","No",null,null,null,null,null,null,null,null,null,null,"",null,"",null,"","",null,null,null,null,null,null,null,null,null,null,null,null,"",null,"",null,"",""]
["Macadamia integrifolia",{"$error":"#N/A"},"Yes","No","No",{"$f":"IF($I$4=TRUE,INDEX($BZ$29:$DC1854,MATCH($A337,$AZ$29:$AZ$1000,0),MATCH($AC$2,$BZ$18:$DC$18,0)),\"Yes\")","v":"Yes"},"Yes","Yes","Yes","Yes","Yes","Yes","Yes","Yes",{"$error":"#N/A"},{"$error":"#N/A"},"Yes","Yes","Yes","Yes",{"$error":"#N/A"},{"$error":"#N/A"},{"$error":"#N/A"},{"$error":"#N/A"},null,null,null,null,null,null,null,null,null,null,null,null,null,null,null,null,null,null,null,null,null,null,null,null,null,null,null,"Macadamia integrifolia","macadamia nut","macadamia nut, pengua","macadamia nut","macadamia nut","macadamia nut","macadamia nut","macadamia nut","macadamia nut","macadamia nut",20,2500,60,120,"Yes","Yes","No","No","No","Tree","No","No",-1,"25-40","1-3",20,"Yes","No","Yes","No","Yes","No","Yes","No","Yes","No","Yes","No","Yes","No","Yes","No","Yes","No","Yes","No","Yes","No","Yes","No","Yes","No","Yes","No","Yes","No",null,null,null,null,null,null,null,"Yes","No","No","No","No","No","No","No","Yes","No","Yes","No","Yes","No","Yes","Yes","No","No",null,null,null,null,null,null,null,null,null,null,"10-40",null,"10-40",null,"10-40","10-40",null,null,null,null,null,null,null,null,null,null,null,null,"feet",null,"feet",null,"feet","feet"]
["Macaranga carolinensis",{"$error":"#N/A"},"Yes","No","No",{"$f":"IF($I$4=TRUE,INDEX($BZ$29:$DC1855,MATCH($A338,$AZ$29:$AZ$1000,0),MATCH($AC$2,$BZ$18:$DC$18,0)),\"Yes\")","v":"Yes"},"Yes","Yes","Yes","Yes","Yes","Yes","Yes","Yes",{"$error":"#N/A"},{"$error":"#N/A"},"Yes","Yes","Yes","Yes",{"$error":"#N/A"},{"$error":"#N/A"},{"$error":"#N/A"},{"$error":"#N/A"},null,null,null,null,null,null,null,null,null,null,null,null,null,null,null,null,null,null,null,null,null,null,null,null,null,null,null,"Macaranga carolinensis","Macaranga carolinensis","Macaranga carolinensis","Macaranga carolinensis","bedel","apwid","lo lacp","Macaranga carolinensis","bith","Macaranga carolinensis",20,1600,60,240,"Yes","No","No","No","No","Tree","No","Yes","n/a","25-40","3+",30,"No","No","No","No","No","No","No","No","No","No","No","No","No","No","No","No","No","No","Yes","Yes","Yes","Yes","Yes","Yes","Yes","Yes","Yes","Yes","No","No",null,null,null,null,null,null,null,"Yes","Yes","No","No","No","No","No","No","Yes","No","Yes","No","Yes","No","Yes","Yes","No","No",null,null,null,null,null,null,null,null,null,null,"10-20",null,"10-20",null,"10-20","10-20"]
["Macaranga thompsonii",{"$error":"#N/A"},"Yes","No","No",{"$f":"IF($I$4=TRUE,INDEX($BZ$29:$DC1856,MATCH($A339,$AZ$29:$AZ$1000,0),MATCH($AC$2,$BZ$18:$DC$18,0)),\"Yes\")","v":"Yes"},"Yes","Yes","Yes","Yes","Yes","Yes","Yes","Yes",{"$error":"#N/A"},{"$error":"#N/A"},"Yes","Yes","Yes","Yes",{"$error":"#N/A"},{"$f":"IF(AND(C$7<=X339,C$7>=W339),\"Yes\",\"No\")","v":{"$error":"#N/A"}},{"$error":"#N/A"},{"$error":"#N/A"},null,null,null,null,null,null,null,null,null,null,null,null,null,null,null,null,null,null,null,null,null,null,null,null,null,null,null,"Macaranga thompsonii","pengua","pengua","pengua","bwengwa","bwengwa","bwengwa","bwengwa","bwengwa","pengua",20,1700,80,120,"Yes","Yes","Yes","No","No","Tree","No","Yes","n/a","40+","1-3",40,"No","No","No","No","No","No","No","No","No","No","No","No","No","No","Yes","Yes","No","No","No","No","No","No","No","No","No","No","No","No","No","No",null,null,null,null,null,null,null,"Yes","Yes","No","No","No","No","No","No","Yes","No","Yes","No","Yes","No","Yes","Yes","No","No",null,null,null,null,null,null,null,null,null,null,"8-15",null,"8-15",null,"8-15","8-15",null,null,null,null,null,null,null,null,null,null,null,null,"feet",null,"feet",null,"feet","feet"]
["Magnolia grandiflora",{"$error":"#N/A"},"Yes","No","No",{"$f":"IF($I$4=TRUE,INDEX($BZ$29:$DC1857,MATCH($A340,$AZ$29:$AZ$1000,0),MATCH($AC$2,$BZ$18:$DC$18,0)),\"Yes\")","v":"Yes"},"Yes","Yes","Yes","Yes","Yes","Yes","Yes","Yes",{"$error":"#N/A"},{"$error":"#N/A"},"Yes","Yes","Yes","Yes",{"$error":"#N/A"},{"$error":"#N/A"},{"$f":"IF(AF$1394=\"Tropical\",BJ340,IF(AND($C$8=\"Winter\",DF340=\"CS\"),BJ340-500,BJ340))","v":{"$error":"#N/A"}},{"$f":"IF(AF$1394=\"Tropical\",BK340,IF(AND($C$8=\"Winter\",DF340=\"WS\"),BK340-500,BK340))","v":{"$error":"#N/A"}},null,null,null,null,null,null,null,null,null,null,null,null,null,null,null,null,null,null,null,null,null,null,null,null,null,null,null,"Magnolia grandiflora","Southern magnolia","Southern magnolia","Southern magnolia","Southern magnolia","Southern magnolia","Southern magnolia","Southern magnolia","Southern magnolia","Southern magnolia",20,4200,45,120,"Yes","Yes","Yes","No","No","Tree","No","No",0,"40+","1-3",30,"Yes","No","Yes","No","Yes","No","Yes","No","Yes","No","Yes","No","No","No","No","No","No","No","No","No","No","No","No","No","No","No","No","No","No","No",null,null,null,null,null,null,null,"Yes","Yes","No","No","No","No","No","No","Yes","No","Yes","No","Yes","No","Yes","Yes","No","Yes",null,null,null,null,null,null,null,null,null,null,"10-20",null,"10-20",null,"10-20","10-20",null,null,null,null,null,null,null,null,null,null,null,null,"feet",null,"feet",null,"feet","feet"]
["Mammea odorata",{"$error":"#N/A"},"Yes","No","No",{"$f":"IF($I$4=TRUE,INDEX($BZ$29:$DC1858,MATCH($A341,$AZ$29:$AZ$1000,0),MATCH($AC$2,$BZ$18:$DC$18,0)),\"Yes\")","v":"Yes"},"Yes","Yes","Yes","Yes","Yes","Yes","Yes","Yes",{"$error":"#N/A"},{"$error":"#N/A"},"Yes","Yes","Yes","Yes",{"$error":"#N/A"},{"$error":"#N/A"},{"$error":"#N/A"},{"$error":"#N/A"},null,null,null,null,null,null,null,null,null,null,null,null,null,null,null,null,null,null,null,null,null,null,null,null,null,null,null,"Mammea odorata","mammee apple","chopak","mammee apple","ongolbesachel, odebisech","luas","mammee apple","lifaus","libdal, lubodol, lifos","ljo, mammee apple",20,1700,70,200,"Yes","Yes","Yes","Yes","No","Tree","No","Yes","n/a","25-40","1-3",20,"No","No","No","No","No","No","No","No","No","No","No","No","No","No","Yes","Yes","No","No","Yes","Yes","No","No","Yes","Yes","Yes","Yes","Yes","Yes","Yes","No",null,null,null,null,null,null,null,"Yes","Yes","No","No","No","No","No","No","Yes","No","Yes","No","No","No","No","Yes","No","Yes",null,null,null,null,null,null,null,null,null,null,"8-15",null,"8-15",null,"8-15","8-15",null,null,null,null,null,null,null,null,null,null,null,null,"feet",null,"feet",null,"feet","feet"]
["Mangifera indica",{"$error":"#N/A"},"Yes","No","No",{"$f":"IF($I$4=TRUE,INDEX($BZ$29:$DC1859,MATCH($A342,$AZ$29:$AZ$1000,0),MATCH($AC$2,$BZ$18:$DC$18,0)),\"Yes\")","v":"Yes"},"Yes","Yes","Yes","Yes","Yes","Yes","Yes","Yes",{"$error":"#N/A"},{"$error":"#N/A"},"Yes","Yes","Yes","Yes",{"$error":"#N/A"},{"$error":"#N/A"},{"$error":"#N/A"},{"$error":"#N/A"},null,null,null,null,null,null,null,null,null,null,null,null,null,null,null,null,null,null,null,null,null,null,null,null,null,null,null,"Mangifera indica","mango, manako","mangga, mangga carabao, mango","mago, mango","iedel, mango","kehngid, mango","macngko, mango","kangit, mahnko, mango","mangueira, mahnka, mango","manko, mango",0,2000,25,200,"Yes","Yes","Yes","No","Yes","Tree","No","No",1,"40+","1-3",60,"Yes","No","Yes","No","Yes","No","Yes","No","Yes","No","Yes","No","Yes","No","Yes","No","Yes","No","Yes","No","Yes","No","Yes","No","Yes","No","Yes","No","Yes","No","Good forage for honey bees.  Drought tolerant.","Naturalized CNMI, Guam, Hawaii, Palau",null,null,null,null,null,"Yes","Yes","No","No","No","No","No","No","Yes","No","Yes","No","Yes","No","Yes","Yes","No","Yes",null,null,null,null,null,null,null,null,null,null,"10-40",null,"10-40",null,"10-40","10-40",null,null,null,null,null,null,null,null,null,null,null,null,"feet",null,"feet",null,"feet","feet"]
["Manilkara udoido",{"$error":"#N/A"},"Yes","No","No",{"$f":"IF($I$4=TRUE,INDEX($BZ$29:$DC1860,MATCH($A343,$AZ$29:$AZ$1000,0),MATCH($AC$2,$BZ$18:$DC$18,0)),\"Yes\")","v":"Yes"},"Yes","Yes","Yes","Yes","Yes","Yes","Yes","Yes",{"$error":"#N/A"},{"$error":"#N/A"},"Yes","Yes","Yes","Yes",{"$error":"#N/A"},{"$error":"#N/A"},{"$error":"#N/A"},{"$error":"#N/A"},null,null,null,null,null,null,null,null,null,null,null,null,null,null,null,null,null,null,null,null,null,null,null,null,null,null,null,"Manilkara udoido","Manilkara udoido","Manilkara udoido","Manilkara udoido","udeuidl","Manilkara udoido","Manilkara udoido","Manilkara udoido","Manilkara udoido","Manilkara udoido",20,800,70,170,"Yes","Yes","No","No","No","Tree","No","Yes","n/a","1-25","1-3",10,"No","No","No","No","No","No","No","No","No","No","No","No","No","No","No","No","No","No","No","No","No","No","No","No","No","No","Yes","Yes","No","No",null,null,null,null,null,null,null,"Yes","Yes","No","No","No","No","No","No","Yes","No","Yes","No","Yes","No","No","Yes","No","No",null,null,null,null,null,null,null,null,null,null,"8-12",null,"8-12",null,"8-12","8-12",null,null,null,null,null,null,null,null,null,null,null,null,"feet",null,"feet",null,"feet","feet"]
["Maytenus thompsonii",{"$error":"#N/A"},"Yes","No","No",{"$f":"IF($I$4=TRUE,INDEX($BZ$29:$DC1861,MATCH($A344,$AZ$29:$AZ$1000,0),MATCH($AC$2,$BZ$18:$DC$18,0)),\"Yes\")","v":"Yes"},"Yes","Yes","Yes","Yes","Yes","Yes","Yes","Yes",{"$error":"#N/A"},{"$error":"#N/A"},"Yes","Yes","Yes","Yes",{"$error":"#N/A"},{"$error":"#N/A"},{"$error":"#N/A"},{"$error":"#N/A"},null,null,null,null,null,null,null,null,null,null,null,null,null,null,null,null,null,null,null,null,null,null,null,null,null,null,null,"Maytenus thompsonii","luluhot","luluhot","luluhot","luluhot","luluhot","luluhot","luluhot","luluhot","luluhot",0,1700,80,120,"Yes","Yes","Yes","No","No","Shrub","No","Yes","n/a","1-25","1-3",12,"No","No","No","No","No","No","No","No","No","No","No","No","No","No","Yes","Yes","No","No","No","No","No","No","No","No","No","No","No","No","No","No","Other Maytenus endemics are present in FSM, RMI, ROP.",null,null,null,null,null,null,"Yes","Yes","No","No","No","No","No","No","Yes","No","Yes","No","Yes","No","Yes","Yes","No","No",null,null,null,null,null,null,null,null,null,null,"",null,"",null,"","",null,null,null,null,null,null,null,null,null,null,null,null,"",null,"",null,"",""]
["Medicago sativa",{"$error":"#N/A"},"Yes","No","No",{"$f":"IF($I$4=TRUE,INDEX($BZ$29:$DC1862,MATCH($A345,$AZ$29:$AZ$1000,0),MATCH($AC$2,$BZ$18:$DC$18,0)),\"Yes\")","v":"Yes"},"Yes","Yes","Yes","Yes","Yes","Yes","Yes","Yes",{"$error":"#N/A"},{"$error":"#N/A"},"Yes","Yes","Yes","Yes",{"$error":"#N/A"},{"$error":"#N/A"},{"$error":"#N/A"},{"$error":"#N/A"},null,null,null,null,null,null,null,null,null,null,null,null,null,null,null,null,null,null,null,null,null,null,null,null,null,null,null,"Medicago sativa","alfalfa","alfalfa","alfalfa","alfalfa","alfalfa","alfalfa","alfalfa","alfalfa","alfalfa",20,4000,50,200,"Yes","No","Yes","No","No","Herb","Yes","No",12,"0-1","3+",0,"Yes","No","Yes","No","Yes","No","Yes","No","Yes","No","Yes","No","Yes","No","Yes","No","Yes","No","Yes","No","Yes","No","Yes","No","Yes","No","Yes","No","Yes","No","This species performs best in a soil with a pH range of 6.0-8.0.  When allowed to grow for 90 days a producer should expect 1.5 tons of above ground biomass which will contain approximately 85 lbs of Nitrogen per ton.",null,"WS",null,null,null,null,"Yes","No","Yes","Yes","No","No","Yes","Yes","No","No","No","No","No","No","No","No","No","No",null,null,20,20,null,null,20,20,null,null,"",null,"",null,"","",null,null,null,null,"lbs/ac","lbs/ac",null,null,"lbs/ac","lbs/ac",null,null,"",null,"",null,"",""]
["Melanolepis multiglandulosa",{"$error":"#N/A"},"Yes","No","No",{"$f":"IF($I$4=TRUE,INDEX($BZ$29:$DC1863,MATCH($A346,$AZ$29:$AZ$1000,0),MATCH($AC$2,$BZ$18:$DC$18,0)),\"Yes\")","v":"Yes"},"Yes","Yes","Yes","Yes","Yes","Yes","Yes","Yes",{"$error":"#N/A"},{"$error":"#N/A"},"Yes","Yes","Yes","Yes",{"$error":"#N/A"},{"$error":"#N/A"},{"$error":"#N/A"},{"$error":"#N/A"},null,null,null,null,null,null,null,null,null,null,null,null,null,null,null,null,null,null,null,null,null,null,null,null,null,null,null,"Melanolepis multiglandulosa","alum","alum","alum","alum","alum","alum","alum","alum","alum",0,1700,70,120,"Yes","Yes","No","Yes","Yes","Tree","No","Yes","n/a","25-40","3+",25,"No","No","No","No","No","No","No","No","No","No","No","No","No","No","Yes","Yes","Yes","Yes","No","No","No","No","No","No","No","No","No","No","No","No",null,null,null,null,null,null,null,"Yes","Yes","No","No","No","No","No","No","Yes","No","Yes","No","Yes","No","Yes","Yes","No","Yes",null,null,null,null,null,null,null,null,null,null,"8-12",null,"8-12",null,"8-12","8-12",null,null,null,null,null,null,null,null,null,null,null,null,"feet",null,"feet",null,"feet","feet"]
["Melanthera lavarum",{"$error":"#N/A"},"Yes","No","No",{"$f":"IF($I$4=TRUE,INDEX($BZ$29:$DC1864,MATCH($A347,$AZ$29:$AZ$1000,0),MATCH($AC$2,$BZ$18:$DC$18,0)),\"Yes\")","v":"Yes"},"Yes","Yes","Yes","Yes","Yes","Yes","Yes","Yes",{"$error":"#N/A"},{"$error":"#N/A"},"Yes","Yes","Yes","Yes",{"$error":"#N/A"},{"$error":"#N/A"},{"$error":"#N/A"},{"$error":"#N/A"},null,null,null,null,null,null,null,null,null,null,null,null,null,null,null,null,null,null,null,null,null,null,null,null,null,null,null,"Melanthera lavarum","nehe","nehe","nehe","nehe","nehe","nehe","nehe","nehe","nehe",0,1800,20,120,"Yes","No","Yes","Yes","No","Shrub","No","Yes","n/a","1-25","0-1",2,"Yes","Yes","Yes","No","Yes","Yes","Yes","Yes","Yes","Yes","Yes","No","No","No","No","No","No","No","No","No","No","No","No","No","No","No","No","No","No","No",null,null,null,null,null,null,null,"Yes","Yes","No","No","No","No","No","No","Yes","No","Yes","No","Yes","No","No","Yes","No","No",null,null,null,null,null,null,null,null,null,null,"",null,"",null,"","",null,null,null,null,null,null,null,null,null,null,null,null,"",null,"",null,"",""]
["Melicope anisata",{"$error":"#N/A"},"Yes","No","No",{"$f":"IF($I$4=TRUE,INDEX($BZ$29:$DC1865,MATCH($A348,$AZ$29:$AZ$1000,0),MATCH($AC$2,$BZ$18:$DC$18,0)),\"Yes\")","v":"Yes"},"Yes","Yes","Yes","Yes","Yes","Yes","Yes","Yes",{"$error":"#N/A"},{"$error":"#N/A"},"Yes","Yes","Yes","Yes",{"$error":"#N/A"},{"$error":"#N/A"},{"$error":"#N/A"},{"$error":"#N/A"},null,null,null,null,null,null,null,null,null,null,null,null,null,null,null,null,null,null,null,null,null,null,null,null,null,null,null,"Melicope anisata","mokihana","mokihana","mokihana","mokihana","mokihana","mokihana","mokihana","mokihana","mokihana",2500,4000,40,200,"No","Yes","No","No","No","Tree","No","Yes","n/a","1-25","0-1",10,"Yes","No","Yes","Yes","Yes","No","Yes","No","Yes","No","Yes","No","No","No","No","No","No","No","No","No","No","No","No","No","No","No","No","No","No","No","Famed for use in lei.",null,null,null,null,null,null,"Yes","No","No","No","No","No","No","No","Yes","No","Yes","No","Yes","No","No","Yes","No","No",null,null,null,null,null,null,null,null,null,null,"8-12",null,"8-12",null,"8-12","8-12",null,null,null,null,null,null,null,null,null,null,null,null,"feet",null,"feet",null,"feet","feet"]
["Melicope barbigera",{"$f":"IF(A349=0,\"No\",IF(AND(C349=\"Yes\",D349=\"YES\",E349=\"Yes\",F349=\"yes\",G349=\"Yes\",H349=\"Yes\",I349=\"Yes\",J349=\"Yes\",N349=\"Yes\",Q349=\"Yes\",O349=\"Yes\",K349=\"Yes\",P349=\"Yes\",V349=\"Yes\"),\"Yes\",\"No\"))","v":{"$error":"#N/A"}},"Yes","No","No",{"$f":"IF($I$4=TRUE,INDEX($BZ$29:$DC1866,MATCH($A349,$AZ$29:$AZ$1000,0),MATCH($AC$2,$BZ$18:$DC$18,0)),\"Yes\")","v":"Yes"},"Yes","Yes","Yes","Yes","Yes","Yes","Yes","Yes",{"$error":"#N/A"},{"$error":"#N/A"},"Yes","Yes","Yes","Yes",{"$error":"#N/A"},{"$error":"#N/A"},{"$error":"#N/A"},{"$error":"#N/A"},null,null,null,null,null,null,null,null,null,null,null,null,null,null,null,null,null,null,null,null,null,null,null,null,null,null,null,"Melicope barbigera","uahiapele","uahiapele","uahiapele","uahiapele","uahiapele","uahiapele","uahiapele","uahiapele","uahiapele",2800,4000,40,120,"Yes","Yes","No","No","No","Tree","No","Yes","n/a","1-25","0-1",15,"Yes","No","Yes","Yes","Yes","No","Yes","No","Yes","No","Yes","No","No","No","No","No","No","No","No","No","No","No","No","No","No","No","No","No","No","No",null,null,null,null,null,null,null,"Yes","Yes","No","No","No","No","No","No","Yes","No","Yes","No","Yes","No","No","Yes","No","No",null,null,null,null,null,null,null,null,null,null,"8-12",null,"8-12",null,"8-12","8-12",null,null,null,null,null,null,null,null,null,null,null,null,"feet",null,"feet",null,"feet","feet"]
[{"$f":"AZ350","v":"Melicope cinerea"},{"$error":"#N/A"},"Yes","No","No",{"$f":"IF($I$4=TRUE,INDEX($BZ$29:$DC1867,MATCH($A350,$AZ$29:$AZ$1000,0),MATCH($AC$2,$BZ$18:$DC$18,0)),\"Yes\")","v":"Yes"},{"$f":"IF($K$4=TRUE,VLOOKUP(A350,$AZ$29:$BY$1000,17,FALSE),\"Yes\")","v":"Yes"},{"$f":"IF($J$4=TRUE,VLOOKUP(A350,$AZ$29:$BY$1000,18,FALSE),\"Yes\")","v":"Yes"},{"$f":"IF($L$4=TRUE,VLOOKUP(A350,$AZ$29:$BY$1000,22,FALSE),\"Yes\")","v":"Yes"},{"$f":"IF($M$4=TRUE,VLOOKUP(A350,$AZ$29:$BY$1000,21,FALSE),\"Yes\")","v":"Yes"},"Yes","Yes","Yes",{"$f":"IF($N$4=TRUE,VLOOKUP(A350,$AZ$29:$BY$1000,19,FALSE),\"Yes\")","v":"Yes"},{"$f":"IF($C$5=\"\",\"Yes\",INDEX($BZ$29:$DC$1000,MATCH($AZ350,$AZ$29:$AZ$1000,0),MATCH($AD$1379,$BZ$18:$DC$18,0)))","v":{"$error":"#N/A"}},{"$error":"#N/A"},"Yes","Yes","Yes","Yes",{"$f":"INDEX($BZ$29:$DC$1000,MATCH($AZ350,$AZ$29:$AZ$1000,0),MATCH($AC$2,$BZ$18:$DC$18,0))","v":{"$error":"#N/A"}},{"$error":"#N/A"},{"$error":"#N/A"},{"$error":"#N/A"},null,null,null,null,null,null,null,null,null,null,null,null,null,null,null,null,null,null,null,null,null,null,null,null,null,null,null,"Melicope cinerea","alani","alani","alani","alani","alani","alani","alani","alani","alani",800,2700,40,170,"Yes","Yes","No","No","No","Tree","No","Yes","n/a","1-25","0-1",8,"Yes","No","Yes","No","Yes","No","Yes","No","Yes","No","Yes","Yes","No","No","No","No","No","No","No","No","No","No","No","No","No","No","No","No","No","No",null,null,null,null,null,null,null,"Yes","Yes","No","No","No","No","No","No","Yes","No","Yes","No","Yes","No","No","Yes","No","No",null,null,null,null,null,null,null,null,null,null,"8-12",null,"8-12",null,"8-12","8-12",null,null,null,null,null,null,null,null,null,null,null,null,"feet",null,"feet",null,"feet","feet"]
["Melicope clusiifolia",{"$error":"#N/A"},"Yes","No","No",{"$f":"IF($I$4=TRUE,INDEX($BZ$29:$DC1868,MATCH($A351,$AZ$29:$AZ$1000,0),MATCH($AC$2,$BZ$18:$DC$18,0)),\"Yes\")","v":"Yes"},"Yes","Yes","Yes","Yes","Yes","Yes","Yes","Yes",{"$error":"#N/A"},{"$error":"#N/A"},"Yes","Yes","Yes","Yes",{"$error":"#N/A"},{"$error":"#N/A"},{"$error":"#N/A"},{"$error":"#N/A"},null,null,null,null,null,null,null,null,null,null,null,null,null,null,null,null,null,null,null,null,null,null,null,null,null,null,null,"Melicope clusiifolia","kukaemoa","kukaemoa","kukaemoa","kukaemoa","kukaemoa","kukaemoa","kukaemoa","kukaemoa","kukaemoa",800,2700,40,200,"Yes","Yes","No","No","No","Tree","No","Yes","n/a","1-25","0-1",10,"Yes","Yes","Yes","Yes","Yes","Yes","Yes","Yes","Yes","Yes","Yes","Yes","No","No","No","No","No","No","No","No","No","No","No","No","No","No","No","No","No","No",null,null,null,null,null,null,null,"Yes","Yes","No","No","No","No","No","No","Yes","No","Yes","No","Yes","No","No","Yes","No","No",null,null,null,null,null,null,null,null,null,null,"8-12",null,"8-12",null,"8-12","8-12",null,null,null,null,null,null,null,null,null,null,null,null,"feet",null,"feet",null,"feet","feet"]
["Melicope elliptica",{"$error":"#N/A"},"Yes","No","No",{"$f":"IF($I$4=TRUE,INDEX($BZ$29:$DC1869,MATCH($A352,$AZ$29:$AZ$1000,0),MATCH($AC$2,$BZ$18:$DC$18,0)),\"Yes\")","v":"Yes"},"Yes","Yes","Yes","Yes","Yes","Yes","Yes","Yes",{"$error":"#N/A"},{"$error":"#N/A"},"Yes","Yes","Yes","Yes",{"$error":"#N/A"},{"$error":"#N/A"},{"$error":"#N/A"},{"$error":"#N/A"},null,null,null,null,null,null,null,null,null,null,null,null,null,null,null,null,null,null,null,null,null,null,null,null,null,null,null,"Melicope elliptica","leiohiiaka","leiohiiaka","leiohiiaka","leiohiiaka","leiohiiaka","leiohiiaka","leiohiiaka","leiohiiaka","leiohiiaka",1000,2800,40,120,"Yes","Yes","No","No","No","Tree","No","Yes","n/a","1-25","0-1",10,"Yes","No","Yes","No","Yes","No","Yes","Yes","Yes","Yes","Yes","Yes","No","No","No","No","No","No","No","No","No","No","No","No","No","No","No","No","No","No",null,null,null,null,null,null,null,"Yes","Yes","No","No","No","No","No","No","Yes","No","Yes","No","Yes","No","No","Yes","No","No",null,null,null,null,null,null,null,null,null,null,"8-12",null,"8-12",null,"8-12","8-12",null,null,null,null,null,null,null,null,null,null,null,null,"feet",null,"feet",null,"feet","feet"]
["Melicope hosakae",{"$error":"#N/A"},"Yes","No","No",{"$f":"IF($I$4=TRUE,INDEX($BZ$29:$DC1870,MATCH($A353,$AZ$29:$AZ$1000,0),MATCH($AC$2,$BZ$18:$DC$18,0)),\"Yes\")","v":"Yes"},"Yes","Yes","Yes","Yes","Yes","Yes","Yes","Yes",{"$error":"#N/A"},{"$error":"#N/A"},"Yes","Yes","Yes","Yes",{"$error":"#N/A"},{"$error":"#N/A"},{"$error":"#N/A"},{"$error":"#N/A"},null,null,null,null,null,null,null,null,null,null,null,null,null,null,null,null,null,null,null,null,null,null,null,null,null,null,null,"Melicope hosakae","alani","alani","alani","alani","alani","alani","alani","alani","alani",1000,2900,40,120,"Yes","Yes","No","No","No","Shrub","No","Yes","n/a","1-25","0-1",6,"Yes","No","Yes","No","Yes","No","Yes","No","Yes","No","Yes","Yes","No","No","No","No","No","No","No","No","No","No","No","No","No","No","No","No","No","No","Synonym = Melicope honoluluensis.",null,null,null,null,null,null,"Yes","Yes","No","No","No","No","No","No","Yes","No","Yes","No","Yes","No","No","Yes","No","No",null,null,null,null,null,null,null,null,null,null,"",null,"",null,"","",null,null,null,null,null,null,null,null,null,null,null,null,"",null,"",null,"",""]
["Melilotus alba",{"$error":"#N/A"},{"$f":"INDEX($DK$29:$EC$1000,MATCH(AZ354,$AZ$29:$AZ$1000,0),MATCH($A$2,$DK$18:$EC$18,0))","v":"Yes"},{"$f":"IF(ISBLANK($C$6),\"No\",IF(AND($H$4=TRUE,BM354>$C$6),\"Yes\",IF(AND($C$6>=BL354,$C$6<=BM354),\"Yes\",\"No\")))","v":"No"},"No",{"$f":"IF($I$4=TRUE,INDEX($BZ$29:$DC1871,MATCH($A354,$AZ$29:$AZ$1000,0),MATCH($AC$2,$BZ$18:$DC$18,0)),\"Yes\")","v":"Yes"},"Yes","Yes","Yes","Yes",{"$f":"IF(AND(L354=\"Yes\",M354=\"Yes\"),\"Yes\",\"No\")","v":"Yes"},{"$f":"IF(AND($O$4=TRUE,BO354=\"Yes\"),\"no\",\"Yes\")","v":"Yes"},{"$f":"IF(AND($P$4=TRUE,BN354=\"Yes\"),\"No\",\"Yes\")","v":"Yes"},"Yes",{"$error":"#N/A"},{"$f":"IF(AND($Q$4=TRUE,U354=\"Yes\"),\"No\",IF(AND($Q$4=TRUE,U354=\"No\"),\"yes\",\"Yes\"))","v":{"$error":"#N/A"}},{"$f":"IF(OR(R354=\"Yes\",S354=\"Yes\",T354=\"Yes\"),\"Yes\",\"No\")","v":"Yes"},{"$f":"IF($W$7=\"Yes\",\"Yes\",IF($T$13=BS354,\"Yes\",\"No\"))","v":"Yes"},{"$f":"IF($W$7=\"Yes\",\"Yes\",IF($U$13=BS354,\"Yes\",\"No\"))","v":"Yes"},{"$f":"IF($W$7=\"Yes\",\"Yes\",IF($V$13=BS354,\"Yes\",\"No\"))","v":"Yes"},{"$error":"#N/A"},{"$error":"#N/A"},{"$error":"#N/A"},{"$error":"#N/A"},null,null,null,null,null,null,null,null,null,null,null,null,null,null,null,null,null,null,null,null,null,null,null,null,null,null,null,"Melilotus alba","clover, sweet - 1","clover, sweet - 1","clover, sweet - 1","clover, sweet - 1","clover, sweet - 1","clover, sweet - 1","clover, sweet - 1","clover, sweet - 1","clover, sweet - 1",20,2500,40,200,"Yes","No","Yes","No","No","Herb","Yes","No","n/a","0-1","3+",0,"Yes","No","Yes","No","Yes","No","Yes","No","Yes","No","Yes","No","Yes","No","Yes","No","Yes","No","Yes","No","Yes","No","Yes","No","Yes","No","Yes","No","Yes","No","This species performs best in a soil with a pH range of 6.0-8.0.  When allowed to grow for 90 days a producer should expect 2.5 tons of above ground biomass which will contain approximately 63 lbs of Nitrogen per ton.",null,"CS",null,null,null,null,"Yes","No","No","Yes","No","No","No","No","No","No","No","No","No","No","No","No","No","No",null,null,null,20,null,null,null,null,null,null,"",null,"",null,"","",null,null,null,null,null,"lbs/ac",null,null,null,null,null,null,"",null,"",null,"",""]
["Melilotus officinalis",{"$error":"#N/A"},"Yes","No","No",{"$f":"IF($I$4=TRUE,INDEX($BZ$29:$DC1872,MATCH($A355,$AZ$29:$AZ$1000,0),MATCH($AC$2,$BZ$18:$DC$18,0)),\"Yes\")","v":"Yes"},"Yes","Yes","Yes","Yes","Yes","Yes","Yes","Yes",{"$error":"#N/A"},{"$error":"#N/A"},"Yes","Yes","Yes","Yes",{"$error":"#N/A"},{"$error":"#N/A"},{"$error":"#N/A"},{"$error":"#N/A"},null,null,null,null,null,null,null,null,null,null,null,null,null,null,null,null,null,null,null,null,null,null,null,null,null,null,null,"Melilotus officinalis","clover, sweet - 2","clover, sweet - 2","clover, sweet - 2","clover, sweet - 2","clover, sweet - 2","clover, sweet - 2","clover, sweet - 2","clover, sweet - 2","clover, sweet - 2",20,2500,40,200,"Yes","No","Yes","No","No","Herb","Yes","No",14,"0-1","3+",0,"Yes","No","Yes","No","Yes","No","Yes","No","Yes","No","Yes","No","Yes","No","Yes","No","Yes","No","Yes","No","Yes","No","Yes","No","Yes","No","Yes","No","Yes","No","This species performs best in a soil with a pH range of 6.0-8.0.  When allowed to grow for 90 days a producer should expect 2.5 tons of above ground biomass which will contain approximately 63 lbs of Nitrogen per ton.",null,"CS",null,null,null,null,"Yes","No","No","Yes","No","No","No","No","No","No","No","No","No","No","No","No","No","No",null,null,null,20,null,null,null,null,null,null,"",null,"",null,"","",null,null,null,null,null,"lbs/ac",null,null,null,null,null,null,"",null,"",null,"",""]
["Melochia villosissima",{"$error":"#N/A"},"Yes","No","No",{"$f":"IF($I$4=TRUE,INDEX($BZ$29:$DC1873,MATCH($A356,$AZ$29:$AZ$1000,0),MATCH($AC$2,$BZ$18:$DC$18,0)),\"Yes\")","v":"Yes"},"Yes","Yes","Yes","Yes","Yes","Yes","Yes","Yes",{"$error":"#N/A"},{"$error":"#N/A"},"Yes","Yes","Yes","Yes",{"$error":"#N/A"},{"$error":"#N/A"},{"$error":"#N/A"},{"$error":"#N/A"},null,null,null,null,null,null,null,null,null,null,null,null,null,null,null,null,null,null,null,null,null,null,null,null,null,null,null,"Melochia villosissima","bede, kethoal, tup","sayafe, atmahayan","bede, kethoal, tup","bede, kethoal, tup","bede, kethoal, tup","bede, kethoal, tup","bede, kethoal, tup","bede, kethoal, tup","bede, kethoal, tup",20,1700,70,200,"Yes","Yes","No","No","No","Tree","No","Yes","n/a","1-25","3+",15,"No","No","No","No","No","No","No","No","No","No","No","No","No","No","No","No","No","No","Yes","Yes","Yes","Yes","No","No","No","No","Yes","Yes","No","No",null,null,null,null,null,null,null,"Yes","Yes","No","No","No","No","No","No","Yes","No","Yes","No","Yes","No","Yes","Yes","No","No",null,null,null,null,null,null,null,null,null,null,"8-15",null,"8-15",null,"8-15","8-15",null,null,null,null,null,null,null,null,null,null,null,null,"feet",null,"feet",null,"feet","feet"]
["Melochia villosissima var. compacta",{"$error":"#N/A"},"Yes","No","No",{"$f":"IF($I$4=TRUE,INDEX($BZ$29:$DC1874,MATCH($A357,$AZ$29:$AZ$1000,0),MATCH($AC$2,$BZ$18:$DC$18,0)),\"Yes\")","v":"Yes"},"Yes","Yes","Yes","Yes","Yes","Yes","Yes","Yes",{"$error":"#N/A"},{"$error":"#N/A"},"Yes","Yes","Yes","Yes",{"$error":"#N/A"},{"$error":"#N/A"},{"$error":"#N/A"},{"$error":"#N/A"},null,null,null,null,null,null,null,null,null,null,null,null,null,null,null,null,null,null,null,null,null,null,null,null,null,null,null,"Melochia villosissima var. compacta","sayafe, atmahayan","sayafe, atmahayan","sayafe, atmahayan","sayafe, atmahayan","sayafe, atmahayan","sayafe, atmahayan","sayafe, atmahayan","sayafe, atmahayan","sayafe, atmahayan",20,1700,70,120,"Yes","Yes","No","No","No","Tree","No","Yes","n/a","1-25","3+",15,"No","No","No","No","No","No","No","No","No","No","No","No","No","No","Yes","Yes","No","No","No","No","No","No","No","No","No","No","No","No","No","No",null,null,null,null,null,null,null,"Yes","Yes","No","No","No","No","No","No","Yes","No","Yes","No","Yes","No","Yes","Yes","No","No",null,null,null,null,null,null,null,null,null,null,"8-15",null,"8-15",null,"8-15","8-15",null,null,null,null,null,null,null,null,null,null,null,null,"feet",null,"feet",null,"feet","feet"]
["Merrilliodendron megacarpum",{"$error":"#N/A"},"Yes","No","No",{"$f":"IF($I$4=TRUE,INDEX($BZ$29:$DC1875,MATCH($A358,$AZ$29:$AZ$1000,0),MATCH($AC$2,$BZ$18:$DC$18,0)),\"Yes\")","v":"Yes"},"Yes","Yes","Yes","Yes","Yes","Yes","Yes","Yes",{"$error":"#N/A"},{"$error":"#N/A"},"Yes","Yes","Yes","Yes",{"$error":"#N/A"},{"$error":"#N/A"},{"$error":"#N/A"},{"$error":"#N/A"},null,null,null,null,null,null,null,null,null,null,null,null,null,null,null,null,null,null,null,null,null,null,null,null,null,null,null,"Merrilliodendron megacarpum","faniok","faniok","faniok","faniok","faniok","faniok","faniok","faniok","faniok",20,1700,70,200,"Yes","Yes","No","No","No","Tree","No","Yes","n/a","25-40","1-3",25,"No","No","No","No","No","No","No","No","No","No","No","No","No","No","Yes","Yes","No","No","Yes","Yes","Yes","No","Yes","No","Yes","No","Yes","No","No","No",null,null,null,null,null,null,null,"Yes","Yes","No","No","No","No","No","No","Yes","No","Yes","No","Yes","No","No","Yes","No","No",null,null,null,null,null,null,null,null,null,null,"8-15",null,"8-15",null,"8-15","8-15",null,null,null,null,null,null,null,null,null,null,null,null,"feet",null,"feet",null,"feet","feet"]
["Metrosideros collina",{"$error":"#N/A"},"Yes","No","No",{"$f":"IF($I$4=TRUE,INDEX($BZ$29:$DC1876,MATCH($A359,$AZ$29:$AZ$1000,0),MATCH($AC$2,$BZ$18:$DC$18,0)),\"Yes\")","v":"Yes"},"Yes","Yes","Yes","Yes","Yes","Yes","Yes","Yes",{"$error":"#N/A"},{"$error":"#N/A"},"Yes","Yes","Yes","Yes",{"$error":"#N/A"},{"$error":"#N/A"},{"$error":"#N/A"},{"$error":"#N/A"},null,null,null,null,null,null,null,null,null,null,null,null,null,null,null,null,null,null,null,null,null,null,null,null,null,null,null,"Metrosideros collina","anume, vunga","anume, vunga","anume, vunga","anume, vunga","anume, vunga","anume, vunga","anume, vunga","anume, vunga","anume, vunga",20,2150,70,200,"Yes","Yes","No","No","No","Tree","No","Yes",3,"25-40","0-1",10,"No","No","No","No","No","No","No","No","No","No","No","No","Yes","Yes","No","No","No","No","No","No","No","No","No","No","No","No","No","No","No","No","Good forage for honey bees.",null,null,null,null,null,null,"Yes","Yes","No","No","No","No","No","No","Yes","No","Yes","No","Yes","No","No","Yes","No","No",null,null,null,null,null,null,null,null,null,null,"8-20",null,"8-20",null,"8-20","8-20",null,null,null,null,null,null,null,null,null,null,null,null,"feet",null,"feet",null,"feet","feet"]
["Metrosideros polymorpha",{"$error":"#N/A"},"Yes","No","No",{"$f":"IF($I$4=TRUE,INDEX($BZ$29:$DC1877,MATCH($A360,$AZ$29:$AZ$1000,0),MATCH($AC$2,$BZ$18:$DC$18,0)),\"Yes\")","v":"Yes"},"Yes","Yes","Yes","Yes","Yes","Yes","Yes","Yes",{"$error":"#N/A"},{"$error":"#N/A"},"Yes","Yes","Yes","Yes",{"$error":"#N/A"},{"$error":"#N/A"},{"$error":"#N/A"},{"$error":"#N/A"},null,null,null,null,null,null,null,null,null,null,null,null,null,null,null,null,null,null,null,null,null,null,null,null,null,null,null,"Metrosideros polymorpha","ohia, ohia lehua","ohia, ohia lehua","ohia, ohia lehua","ohia, ohia lehua","ohia, ohia lehua","ohia, ohia lehua","ohia, ohia lehua","ohia, ohia lehua","ohia, ohia lehua",0,7250,25,240,"Yes","Yes","Yes","No","Yes","Tree","No","Yes","n/a","40+","1-3",30,"Yes","Yes","Yes","Yes","Yes","Yes","Yes","Yes","Yes","Yes","Yes","Yes","No","No","No","No","No","No","No","No","No","No","No","No","No","No","No","No","No","No","Good forage for honey bees.",null,null,null,null,null,null,"Yes","Yes","No","No","No","No","No","No","Yes","No","Yes","No","Yes","No","Yes","Yes","No","Yes",null,null,null,null,null,null,null,null,null,null,"8-20",null,"8-20",null,"8-20","8-20",null,null,null,null,null,null,null,null,null,null,null,null,"feet",null,"feet",null,"feet","feet"]
["Metroxylon amicarum",{"$error":"#N/A"},"Yes","No","No",{"$f":"IF($I$4=TRUE,INDEX($BZ$29:$DC1878,MATCH($A361,$AZ$29:$AZ$1000,0),MATCH($AC$2,$BZ$18:$DC$18,0)),\"Yes\")","v":"Yes"},"Yes","Yes","Yes","Yes","Yes","Yes","Yes","Yes",{"$error":"#N/A"},{"$error":"#N/A"},"Yes","Yes","Yes","Yes",{"$error":"#N/A"},{"$error":"#N/A"},{"$error":"#N/A"},{"$error":"#N/A"},null,null,null,null,null,null,null,null,null,null,null,null,null,null,null,null,null,null,null,null,null,null,null,null,null,null,null,"Metroxylon amicarum","ivory nut palm","ivory nut palm","ivory nut palm","ivory nut palm","oahs, ivory nut palm","ivory nut palm","ivory nut palm","ivory nut palm","ivory nut palm",20,2300,80,250,"Yes","Yes","No","Yes","Yes","Tree","No","No",0,"25-40","1-3",30,"No","No","No","No","No","No","No","No","No","No","No","No","No","No","Yes","Yes","Yes","Yes","Yes","Yes","Yes","No","Yes","Yes","Yes","No","Yes","Yes","Yes","Yes",null,null,null,null,null,null,null,"Yes","Yes","No","No","No","No","No","No","Yes","No","Yes","No","Yes","No","Yes","Yes","No","No",null,null,null,null,null,null,null,null,null,null,"8-20",null,"8-20",null,"8-20","8-20",null,null,null,null,null,null,null,null,null,null,null,null,"feet",null,"feet",null,"feet","feet"]
["Metroxylon sagu",{"$error":"#N/A"},"Yes","No","No",{"$f":"IF($I$4=TRUE,INDEX($BZ$29:$DC1879,MATCH($A362,$AZ$29:$AZ$1000,0),MATCH($AC$2,$BZ$18:$DC$18,0)),\"Yes\")","v":"Yes"},"Yes","Yes","Yes","Yes","Yes","Yes","Yes","Yes",{"$error":"#N/A"},{"$error":"#N/A"},"Yes","Yes","Yes","Yes",{"$error":"#N/A"},{"$error":"#N/A"},{"$error":"#N/A"},{"$error":"#N/A"},null,null,null,null,null,null,null,null,null,null,null,null,null,null,null,null,null,null,null,null,null,null,null,null,null,null,null,"Metroxylon sagu","sago palm","sago palm","sago palm","sago palm","sago palm","sago palm","sago palm","sago palm","sago palm",20,2300,80,250,"Yes","Yes","No","Yes","Yes","Tree","No","No","n/a","25-40","1-3",30,"No","No","No","No","No","No","No","No","No","No","No","No","Yes","No","Yes","No","Yes","No","Yes","No","Yes","No","Yes","No","Yes","No","Yes","No","Yes","No",null,null,null,null,null,null,null,"Yes","Yes","No","No","No","No","No","No","Yes","No","Yes","No","Yes","No","Yes","Yes","No","No",null,null,null,null,null,null,null,null,null,null,"8-20",null,"8-20",null,"8-20","8-20",null,null,null,null,null,null,null,null,null,null,null,null,"feet",null,"feet",null,"feet","feet"]
["Microlepia strigosa var. strigosa",{"$error":"#N/A"},"Yes","No","No",{"$f":"IF($I$4=TRUE,INDEX($BZ$29:$DC1880,MATCH($A363,$AZ$29:$AZ$1000,0),MATCH($AC$2,$BZ$18:$DC$18,0)),\"Yes\")","v":"Yes"},"Yes","Yes","Yes","Yes","Yes","Yes","Yes","Yes",{"$error":"#N/A"},{"$error":"#N/A"},"Yes","Yes","Yes","Yes",{"$error":"#N/A"},{"$error":"#N/A"},{"$error":"#N/A"},{"$error":"#N/A"},null,null,null,null,null,null,null,null,null,null,null,null,null,null,null,null,null,null,null,null,null,null,null,null,null,null,null,"Microlepia strigosa var. strigosa","palapalai","palapalai","palapalai","palapalai","palapalai","palapalai","palapalai","palapalai","palapalai",20,5800,80,250,"No","Yes","No","No","No","Herb","No","No","n/a","0-1","0-1",0,"Yes","Yes","Yes","Yes","Yes","Yes","Yes","Yes","Yes","Yes","Yes","Yes","No","No","No","No","No","No","No","No","No","No","No","No","No","No","No","No","No","No","Good for partial shade.  Important to begin re-establishment of low fern layer.  Available from nurseries or divide your own plants.",null,null,null,null,null,null,"Yes","No","No","No","No","No","No","No","No","No","No","No","No","No","No","No","No","No",null,null,null,null,null,null,null,null,null,null,"",null,"",null,"","",null,null,null,null,null,null,null,null,null,null,null,null,"",null,"",null,"",""]
["Micromelum minutum",{"$error":"#N/A"},"Yes","No","No",{"$f":"IF($I$4=TRUE,INDEX($BZ$29:$DC1881,MATCH($A364,$AZ$29:$AZ$1000,0),MATCH($AC$2,$BZ$18:$DC$18,0)),\"Yes\")","v":"Yes"},"Yes","Yes","Yes","Yes","Yes","Yes","Yes","Yes",{"$error":"#N/A"},{"$error":"#N/A"},"Yes","Yes","Yes","Yes",{"$error":"#N/A"},{"$error":"#N/A"},{"$error":"#N/A"},{"$error":"#N/A"},null,null,null,null,null,null,null,null,null,null,null,null,null,null,null,null,null,null,null,null,null,null,null,null,null,null,null,"Micromelum minutum","talafalu","talafalu","talafalu","Micromelum minutum","talafalu","talafalu","talafalu","talafalu","talafalu",0,1000,70,200,"Yes","Yes","No","No","No","Shrub","No","Yes","n/a","1-25","1-3",6,"No","No","No","No","No","No","No","No","No","No","No","No","Yes","Yes","No","No","No","No","No","No","No","No","No","No","No","No","Yes","Yes","No","No",null,null,null,null,null,null,null,"Yes","Yes","No","No","No","No","No","No","Yes","No","Yes","No","Yes","No","No","Yes","No","No",null,null,null,null,null,null,null,null,null,null,"",null,"",null,"","",null,null,null,null,null,null,null,null,null,null,null,null,"",null,"",null,"",""]
["Millettia laurenti",{"$error":"#N/A"},"Yes","No","No",{"$f":"IF($I$4=TRUE,INDEX($BZ$29:$DC1882,MATCH($A365,$AZ$29:$AZ$1000,0),MATCH($AC$2,$BZ$18:$DC$18,0)),\"Yes\")","v":"Yes"},"Yes","Yes","Yes","Yes","Yes","Yes","Yes","Yes",{"$error":"#N/A"},{"$error":"#N/A"},"Yes","Yes","Yes","Yes",{"$error":"#N/A"},{"$error":"#N/A"},{"$error":"#N/A"},{"$error":"#N/A"},null,null,null,null,null,null,null,null,null,null,null,null,null,null,null,null,null,null,null,null,null,null,null,null,null,null,null,"Millettia laurenti","wenge","wenge","wenge","wenge","wenge","wenge","wenge","wenge","wenge",20,3000,80,200,"Yes","Yes","No","No","No","Tree","Yes","No","n/a","40+","1-3",40,"Yes","No","Yes","No","Yes","No","Yes","No","Yes","No","Yes","No","Yes","No","Yes","No","Yes","No","Yes","No","Yes","No","Yes","No","Yes","No","Yes","No","Yes","No","Highly valued African dark hardwood","IUCN Red List status - Aileen Yeh has supplied this species",null,null,null,null,null,"Yes","No","No","No","No","No","No","No","Yes","No","Yes","No","Yes","No","Yes","Yes","No","No",null,null,null,null,null,null,null,null,null,null,"10-20",null,"10-20",null,"10-20","10-20"]
["Millettia pinnata",{"$error":"#N/A"},"Yes","No","No",{"$f":"IF($I$4=TRUE,INDEX($BZ$29:$DC1883,MATCH($A366,$AZ$29:$AZ$1000,0),MATCH($AC$2,$BZ$18:$DC$18,0)),\"Yes\")","v":"Yes"},"Yes","Yes","Yes","Yes","Yes","Yes","Yes","Yes",{"$error":"#N/A"},{"$error":"#N/A"},"Yes","Yes","Yes","Yes",{"$error":"#N/A"},{"$error":"#N/A"},{"$error":"#N/A"},{"$error":"#N/A"},null,null,null,null,null,null,null,null,null,null,null,null,null,null,null,null,null,null,null,null,null,null,null,null,null,null,null,"Millettia pinnata","Indian beech","Indian beech","Indian beech","kisaks, Indian beech","Indian beech","Indian beech","Indian beech","Indian beech","Indian beech",0,100,70,200,"Yes","Yes","No","No","No","Tree","No","Yes",7,"40+","1-3",25,"No","No","No","No","No","No","No","No","No","No","No","No","Yes","Yes","No","No","No","No","No","No","No","No","No","No","No","No","Yes","No","No","No","Synonym = Pongamia pinnata.",null,null,null,null,null,null,"Yes","No","No","No","No","No","No","No","Yes","No","Yes","No","Yes","No","Yes","Yes","No","Yes",null,null,null,null,null,null,null,null,null,null,"10-20",null,"10-20",null,"10-20","10-20",null,null,null,null,null,null,null,null,null,null,null,null,"feet",null,"feet",null,"feet","feet"]
["Morinda citrifolia",{"$error":"#N/A"},"Yes","No","No",{"$f":"IF($I$4=TRUE,INDEX($BZ$29:$DC1884,MATCH($A367,$AZ$29:$AZ$1000,0),MATCH($AC$2,$BZ$18:$DC$18,0)),\"Yes\")","v":"Yes"},"Yes","Yes","Yes","Yes","Yes","Yes","Yes","Yes",{"$error":"#N/A"},{"$error":"#N/A"},"Yes","Yes","Yes","Yes",{"$error":"#N/A"},{"$error":"#N/A"},{"$error":"#N/A"},{"$error":"#N/A"},null,null,null,null,null,null,null,null,null,null,null,null,null,null,null,null,null,null,null,null,null,null,null,null,null,null,null,"Morinda citrifolia","noni, Indian mulberry","lada, Indian mulberry","nonu, nonu atoni, Indian mulberry","kesengel, lel, Indian mulberry","weipwul, nen, Indian mulberry","i, ee, Indian mulberry","nen, nopwur, Indian mulberry","mangalwag, lol, Indian mulberry","nen, nin, Indian mulberry",0,1800,20,240,"Yes","Yes","Yes","Yes","No","Tree","No","No",10,"1-25","1-3",15,"Yes","No","Yes","No","Yes","No","Yes","No","Yes","No","Yes","No","Yes","No","Yes","Yes","Yes","Yes","Yes","Yes","Yes","No","Yes","No","Yes","No","Yes","Yes","Yes","No",null,null,null,null,null,null,null,"Yes","Yes","No","No","No","No","No","No","Yes","No","Yes","No","Yes","No","Yes","Yes","No","Yes",null,null,null,null,null,null,null,null,null,null,"8-12",null,"8-12",null,"8-12","8-12",null,null,null,null,null,null,null,null,null,null,null,null,"feet",null,"feet",null,"feet","feet"]
["Moringa oleifera",{"$error":"#N/A"},"Yes","No","No",{"$f":"IF($I$4=TRUE,INDEX($BZ$29:$DC1885,MATCH($A368,$AZ$29:$AZ$1000,0),MATCH($AC$2,$BZ$18:$DC$18,0)),\"Yes\")","v":"Yes"},"Yes","Yes","Yes","Yes","Yes","Yes","Yes","Yes",{"$error":"#N/A"},{"$error":"#N/A"},"Yes","Yes","Yes","Yes",{"$error":"#N/A"},{"$error":"#N/A"},{"$error":"#N/A"},{"$error":"#N/A"},null,null,null,null,null,null,null,null,null,null,null,null,null,null,null,null,null,null,null,null,null,null,null,null,null,null,null,"Moringa oleifera","kalamunggay, malunggay","katdes, malongay","malunggay","malunkai, drumstick tree","malunggay","malunggay","malunggay","malunggay","malunggay",20,4000,20,200,"Yes","No","Yes","No","No","Shrub","No","No",1,"1-25","3+",20,"Yes","No","Yes","No","Yes","No","Yes","No","Yes","No","Yes","No","Yes","No","Yes","No","Yes","No","Yes","No","Yes","No","Yes","No","Yes","No","Yes","No","Yes","No","When planted as cuttings for windbreaks, advise Cooperators to top at 3-5 foot height one or more times to lower shoot to root ratios, and encourage dense canopies.  Good forage for honey bees.  Leaves and green stems suitable for livestock fodder.  Drought tolerant.",null,null,null,null,null,null,"Yes","Yes","No","No","No","No","No","No","Yes","No","Yes","No","Yes","No","Yes","Yes","No","Yes",null,null,null,null,null,null,null,null,null,null,"8-20",null,"8-20",null,"8-20","8-20",null,null,null,null,null,null,null,null,null,null,null,null,"feet",null,"feet",null,"feet","feet"]
["Mucuna gigantea",{"$error":"#N/A"},"Yes","No","No",{"$f":"IF($I$4=TRUE,INDEX($BZ$29:$DC1886,MATCH($A369,$AZ$29:$AZ$1000,0),MATCH($AC$2,$BZ$18:$DC$18,0)),\"Yes\")","v":"Yes"},"Yes","Yes","Yes","Yes","Yes","Yes","Yes","Yes",{"$error":"#N/A"},{"$error":"#N/A"},"Yes","Yes","Yes","Yes",{"$error":"#N/A"},{"$error":"#N/A"},{"$error":"#N/A"},{"$error":"#N/A"},null,null,null,null,null,null,null,null,null,null,null,null,null,null,null,null,null,null,null,null,null,null,null,null,null,null,null,"Mucuna gigantea","kaee, sea bean - 1","bayogo dikeke, gayetan, sea bean - 1","fue inu, tupe, sea bean - 1","sea bean - 1","sea bean - 1","sea bean - 1","sea bean - 1","sea bean - 1","sea bean - 1",0,700,70,200,"Yes","No","Yes","Yes","No","Vine-woody","Yes","Yes","n/a","1-25","3+",0,"No","No","No","No","No","No","No","No","No","No","No","No","Yes","Yes","Yes","Yes","Yes","Yes","Yes","Yes","Yes","Yes","Yes","Yes","Yes","Yes","Yes","Yes","No","No",null,null,null,null,null,null,null,"Yes","No","No","No","No","No","No","No","Yes","No","Yes","No","Yes","No","No","Yes","No","No",null,null,null,null,null,null,null,null,null,null,"",null,"",null,"","",null,null,null,null,null,null,null,null,null,null,null,null,"",null,"",null,"",""]
["Mucuna gigantea subsp. gigantea",{"$error":"#N/A"},"Yes","No","No",{"$f":"IF($I$4=TRUE,INDEX($BZ$29:$DC1887,MATCH($A370,$AZ$29:$AZ$1000,0),MATCH($AC$2,$BZ$18:$DC$18,0)),\"Yes\")","v":"Yes"},"Yes","Yes","Yes","Yes","Yes","Yes","Yes","Yes",{"$error":"#N/A"},{"$error":"#N/A"},"Yes","Yes","Yes","Yes",{"$error":"#N/A"},{"$error":"#N/A"},{"$error":"#N/A"},{"$error":"#N/A"},null,null,null,null,null,null,null,null,null,null,null,null,null,null,null,null,null,null,null,null,null,null,null,null,null,null,null,"Mucuna gigantea subsp. gigantea","kaee, sea bean - 2","bayogo dikeke, gayetan, sea bean - 2","fue inu, tupe, sea bean - 2","sea bean - 2","sea bean - 2","sea bean - 2","sea bean - 2","sea bean - 2","sea bean - 2",0,1000,20,120,"Yes","No","Yes","Yes","No","Vine-woody","Yes","Yes","n/a","1-25","3+",0,"Yes","Yes","Yes","Yes","Yes","No","Yes","Yes","Yes","Yes","Yes","Yes","No","No","No","No","No","No","No","No","No","No","No","No","No","No","No","No","No","No",null,null,null,null,null,null,null,"Yes","No","No","No","No","No","No","No","Yes","No","Yes","No","Yes","No","No","Yes","No","No",null,null,null,null,null,null,null,null,null,null,"",null,"",null,"","",null,null,null,null,null,null,null,null,null,null,null,null,"",null,"",null,"",""]
["Murraya paniculata",{"$error":"#N/A"},"Yes","No","No",{"$f":"IF($I$4=TRUE,INDEX($BZ$29:$DC1888,MATCH($A371,$AZ$29:$AZ$1000,0),MATCH($AC$2,$BZ$18:$DC$18,0)),\"Yes\")","v":"Yes"},"Yes","Yes","Yes","Yes","Yes","Yes","Yes","Yes",{"$error":"#N/A"},{"$error":"#N/A"},"Yes","Yes","Yes","Yes",{"$error":"#N/A"},{"$error":"#N/A"},{"$error":"#N/A"},{"$error":"#N/A"},null,null,null,null,null,null,null,null,null,null,null,null,null,null,null,null,null,null,null,null,null,null,null,null,null,null,null,"Murraya paniculata","mock orange","mock orange","mock orange","mock orange","mock orange","mock orange","mock orange","mock orange","mock orange",20,4200,30,90,"Yes","No","Yes","No","No","Shrub","No","No",6,"1-25","1-3",10,"Yes","No","Yes","No","Yes","No","Yes","No","Yes","No","Yes","No","No","No","No","No","No","No","No","No","No","No","No","No","No","No","No","No","No","No",null,null,null,null,null,null,null,"Yes","Yes","No","No","No","No","No","No","Yes","No","Yes","No","Yes","No","No","Yes","No","Yes",null,null,null,null,null,null,null,null,null,null,"",null,"",null,"","",null,null,null,null,null,null,null,null,null,null,null,null,"",null,"",null,"",""]
["Musa 'dwarf Brazilian'",{"$error":"#N/A"},"Yes","No","No",{"$f":"IF($I$4=TRUE,INDEX($BZ$29:$DC1889,MATCH($A372,$AZ$29:$AZ$1000,0),MATCH($AC$2,$BZ$18:$DC$18,0)),\"Yes\")","v":"Yes"},"Yes","Yes","Yes","Yes","Yes","Yes","Yes","Yes",{"$error":"#N/A"},{"$error":"#N/A"},"Yes","Yes","Yes","Yes",{"$error":"#N/A"},{"$error":"#N/A"},{"$error":"#N/A"},{"$error":"#N/A"},null,null,null,null,null,null,null,null,null,null,null,null,null,null,null,null,null,null,null,null,null,null,null,null,null,null,null,"Musa 'dwarf Brazilian'","banana, apple banana, maia","chotda, aga, banana, Saba banana","fai, banana","tuu, banana","uht, banana","usr, banana","uchu, banana","dinaey, paw, banana","banana",0,3500,50,240,"Yes","Yes","Yes","No","Yes","Tree","No","No","n/a","1-25","3+",15,"Yes","No","Yes","No","Yes","No","Yes","No","Yes","No","Yes","No","Yes","No","Yes","No","Yes","No","Yes","No","Yes","No","Yes","No","Yes","No","Yes","No","Yes","No",null,null,null,null,null,null,null,"Yes","Yes","No","No","No","No","No","No","Yes","No","Yes","No","Yes","No","No","Yes","No","Yes",null,null,null,null,null,null,null,null,null,null,"8-12",null,"8-12",null,"8-12","8-12",null,null,null,null,null,null,null,null,null,null,null,null,"feet",null,"feet",null,"feet","feet"]
["Musa x paradisiaca",{"$error":"#N/A"},"Yes","No","No",{"$f":"IF($I$4=TRUE,INDEX($BZ$29:$DC1890,MATCH($A373,$AZ$29:$AZ$1000,0),MATCH($AC$2,$BZ$18:$DC$18,0)),\"Yes\")","v":"Yes"},"Yes","Yes","Yes","Yes","Yes","Yes","Yes","Yes",{"$error":"#N/A"},{"$error":"#N/A"},"Yes","Yes","Yes","Yes",{"$error":"#N/A"},{"$error":"#N/A"},{"$error":"#N/A"},{"$error":"#N/A"},null,null,null,null,null,null,null,null,null,null,null,null,null,null,null,null,null,null,null,null,null,null,null,null,null,null,null,"Musa x paradisiaca","banana, plantain","chotda, aga, banana, plantain","banana, plantain","banana, plantain","uht, banana, plantain","banana, plantain","banana, plantain","banana, plantain","banana, plantain",0,3500,50,240,"Yes","Yes","No","No","Yes","Tree","No","No","n/a","1-25","3+",15,"Yes","No","Yes","No","Yes","No","Yes","No","Yes","No","Yes","No","Yes","No","Yes","No","Yes","No","Yes","No","Yes","No","Yes","No","Yes","No","Yes","No","Yes","No",null,null,null,null,null,null,null,"Yes","Yes","No","No","No","No","No","No","Yes","No","Yes","No","Yes","No","No","Yes","No","No",null,null,null,null,null,null,null,null,null,null,"8-12",null,"8-12",null,"8-12","8-12",null,null,null,null,null,null,null,null,null,null,null,null,"feet",null,"feet",null,"feet","feet"]
["Myoporum sandwicense",{"$error":"#N/A"},"Yes","No","No",{"$f":"IF($I$4=TRUE,INDEX($BZ$29:$DC1891,MATCH($A374,$AZ$29:$AZ$1000,0),MATCH($AC$2,$BZ$18:$DC$18,0)),\"Yes\")","v":"Yes"},"Yes","Yes","Yes","Yes","Yes","Yes","Yes","Yes",{"$error":"#N/A"},{"$error":"#N/A"},"Yes","Yes","Yes","Yes",{"$error":"#N/A"},{"$error":"#N/A"},{"$error":"#N/A"},{"$error":"#N/A"},null,null,null,null,null,null,null,null,null,null,null,null,null,null,null,null,null,null,null,null,null,null,null,null,null,null,null,"Myoporum sandwicense","naio","naio","naio","naio","naio","naio","naio","naio","naio",0,7500,20,160,"Yes","No","Yes","Yes","No","Shrub","No","Yes","n/a","1-25","1-3",15,"No","Yes","Yes","Yes","Yes","Yes","Yes","Yes","Yes","Yes","Yes","Yes","No","No","No","No","No","No","No","No","No","No","No","No","No","No","No","No","No","No","Typically in shrub form below 2,000 foot elevation.  Ranges widely from coastal strand vegetation, dry forest, a'a lava flows, mesic forest, wet forest to subalpine forest.","Not available for Hawaii island (Big Island) due to naio thrip",null,null,null,null,null,"Yes","Yes","No","No","No","No","No","No","Yes","No","Yes","No","Yes","No","No","Yes","No","Yes",null,null,null,null,null,null,null,null,null,null,"",null,"",null,"","",null,null,null,null,null,null,null,null,null,null,null,null,"",null,"",null,"",""]
["Myrciaria cauliflora",{"$error":"#N/A"},"Yes","No","No",{"$f":"IF($I$4=TRUE,INDEX($BZ$29:$DC1892,MATCH($A375,$AZ$29:$AZ$1000,0),MATCH($AC$2,$BZ$18:$DC$18,0)),\"Yes\")","v":"Yes"},"Yes","Yes","Yes","Yes","Yes","Yes","Yes","Yes",{"$error":"#N/A"},{"$error":"#N/A"},"Yes","Yes","Yes","Yes",{"$error":"#N/A"},{"$error":"#N/A"},{"$error":"#N/A"},{"$error":"#N/A"},null,null,null,null,null,null,null,null,null,null,null,null,null,null,null,null,null,null,null,null,null,null,null,null,null,null,null,"Myrciaria cauliflora","jaboticaba","jaboticaba","jaboticaba","jaboticaba","jaboticaba","jaboticaba","jaboticaba","jaboticaba","jaboticaba",20,3500,50,200,"Yes","Yes","No","No","Yes","Tree","No","No",-2,"1-25","0-1",15,"Yes","No","Yes","No","Yes","No","Yes","No","Yes","No","Yes","No","Yes","No","Yes","No","Yes","No","Yes","No","Yes","No","Yes","No","Yes","No","Yes","No","Yes","No",null,null,null,null,null,null,null,"Yes","Yes","No","No","No","No","No","No","Yes","No","Yes","No","Yes","No","No","Yes","No","No",null,null,null,null,null,null,null,null,null,null,"8-15",null,"8-15",null,"8-15","8-15",null,null,null,null,null,null,null,null,null,null,null,null,"feet",null,"feet",null,"feet","feet"]
["Myrsine lanaiensis",{"$error":"#N/A"},"Yes","No","No",{"$f":"IF($I$4=TRUE,INDEX($BZ$29:$DC1893,MATCH($A376,$AZ$29:$AZ$1000,0),MATCH($AC$2,$BZ$18:$DC$18,0)),\"Yes\")","v":"Yes"},"Yes","Yes","Yes","Yes","Yes","Yes","Yes","Yes",{"$error":"#N/A"},{"$error":"#N/A"},"Yes","Yes","Yes","Yes",{"$error":"#N/A"},{"$error":"#N/A"},{"$error":"#N/A"},{"$error":"#N/A"},null,null,null,null,null,null,null,null,null,null,null,null,null,null,null,null,null,null,null,null,null,null,null,null,null,null,null,"Myrsine lanaiensis","kolea","kolea","kolea","kolea","kolea","kolea","kolea","kolea","kolea",1000,7500,20,120,"Yes","Yes","Yes","No","No","Tree","No","Yes","n/a","1-25","0-1",10,"Yes","Yes","Yes","Yes","Yes","Yes","Yes","Yes","Yes","Yes","Yes","Yes","No","No","No","No","No","No","No","No","No","No","No","No","No","No","No","No","No","No",null,null,null,null,null,null,null,"Yes","Yes","No","No","No","No","No","No","Yes","No","Yes","No","Yes","No","No","Yes","No","No",null,null,null,null,null,null,null,null,null,null,"8-15",null,"8-15",null,"8-15","8-15",null,null,null,null,null,null,null,null,null,null,null,null,"feet",null,"feet",null,"feet","feet"]
["Myrsine lessertiana",{"$error":"#N/A"},"Yes","No","No",{"$f":"IF($I$4=TRUE,INDEX($BZ$29:$DC1894,MATCH($A377,$AZ$29:$AZ$1000,0),MATCH($AC$2,$BZ$18:$DC$18,0)),\"Yes\")","v":"Yes"},"Yes","Yes","Yes","Yes","Yes","Yes","Yes","Yes",{"$error":"#N/A"},{"$error":"#N/A"},"Yes","Yes","Yes","Yes",{"$error":"#N/A"},{"$error":"#N/A"},{"$error":"#N/A"},{"$error":"#N/A"},null,null,null,null,null,null,null,null,null,null,null,null,null,null,null,null,null,null,null,null,null,null,null,null,null,null,null,"Myrsine lessertiana","kolea lau nui","kolea lau nui","kolea lau nui","kolea lau nui","kolea lau nui","kolea lau nui","kolea lau nui","kolea lau nui","kolea lau nui",850,7000,20,200,"Yes","Yes","No","No","No","Tree","No","Yes","n/a","1-25","0-1",12,"Yes","Yes","Yes","Yes","Yes","Yes","Yes","Yes","Yes","Yes","Yes","Yes","No","No","No","No","No","No","No","No","No","No","No","No","No","No","No","No","No","No",null,null,null,null,null,null,null,"Yes","Yes","No","No","No","No","No","No","Yes","No","Yes","No","Yes","No","No","Yes","No","No",null,null,null,null,null,null,null,null,null,null,"8-15",null,"8-15",null,"8-15","8-15",null,null,null,null,null,null,null,null,null,null,null,null,"feet",null,"feet",null,"feet","feet"]
["Myrsine sandwicensis",{"$error":"#N/A"},"Yes","No","No",{"$f":"IF($I$4=TRUE,INDEX($BZ$29:$DC1895,MATCH($A378,$AZ$29:$AZ$1000,0),MATCH($AC$2,$BZ$18:$DC$18,0)),\"Yes\")","v":"Yes"},"Yes","Yes","Yes","Yes","Yes","Yes","Yes","Yes",{"$error":"#N/A"},{"$error":"#N/A"},"Yes","Yes","Yes","Yes",{"$error":"#N/A"},{"$error":"#N/A"},{"$error":"#N/A"},{"$error":"#N/A"},null,null,null,null,null,null,null,null,null,null,null,null,null,null,null,null,null,null,null,null,null,null,null,null,null,null,null,"Myrsine sandwicensis","kolea lau lii","kolea lau lii","kolea lau lii","kolea lau lii","kolea lau lii","kolea lau lii","kolea lau lii","kolea lau lii","kolea lau lii",600,4800,50,250,"Yes","Yes","No","No","Yes","Shrub","No","Yes","n/a","1-25","0-1",6,"Yes","Yes","Yes","No","Yes","Yes","Yes","Yes","Yes","Yes","Yes","Yes","No","No","No","No","No","No","No","No","No","No","No","No","No","No","No","No","No","No",null,null,null,null,null,null,null,"Yes","Yes","No","No","No","No","No","No","Yes","No","Yes","No","Yes","No","No","Yes","No","No",null,null,null,null,null,null,null,null,null,null,"",null,"",null,"","",null,null,null,null,null,null,null,null,null,null,null,null,"",null,"",null,"",""]
["Neonauclea forsteri",{"$error":"#N/A"},"Yes","No","No",{"$f":"IF($I$4=TRUE,INDEX($BZ$29:$DC1896,MATCH($A379,$AZ$29:$AZ$1000,0),MATCH($AC$2,$BZ$18:$DC$18,0)),\"Yes\")","v":"Yes"},"Yes","Yes","Yes","Yes","Yes","Yes","Yes","Yes",{"$error":"#N/A"},{"$error":"#N/A"},"Yes","Yes","Yes","Yes",{"$error":"#N/A"},{"$error":"#N/A"},{"$error":"#N/A"},{"$error":"#N/A"},null,null,null,null,null,null,null,null,null,null,null,null,null,null,null,null,null,null,null,null,null,null,null,null,null,null,null,"Neonauclea forsteri","afa","afa","afa","afa","afa","afa","afa","afa","afa",20,3100,70,200,"Yes","No","No","No","No","Tree","No","Yes","n/a","1-25","1-3",12,"No","No","No","No","No","No","No","No","No","No","No","No","Yes","Yes","No","No","No","No","No","No","No","No","No","No","No","No","No","No","No","No",null,null,null,null,null,null,null,"Yes","Yes","No","No","No","No","No","No","Yes","No","Yes","No","Yes","No","No","Yes","No","No",null,null,null,null,null,null,null,null,null,null,"8-15",null,"8-15",null,"8-15","8-15",null,null,null,null,null,null,null,null,null,null,null,null,"feet",null,"feet",null,"feet","feet"]
["Nephelium lappaceum",{"$error":"#N/A"},"Yes","No","No",{"$f":"IF($I$4=TRUE,INDEX($BZ$29:$DC1897,MATCH($A380,$AZ$29:$AZ$1000,0),MATCH($AC$2,$BZ$18:$DC$18,0)),\"Yes\")","v":"Yes"},"Yes","Yes","Yes","Yes","Yes","Yes","Yes","Yes",{"$error":"#N/A"},{"$error":"#N/A"},"Yes","Yes","Yes","Yes",{"$error":"#N/A"},{"$error":"#N/A"},{"$error":"#N/A"},{"$error":"#N/A"},null,null,null,null,null,null,null,null,null,null,null,null,null,null,null,null,null,null,null,null,null,null,null,null,null,null,null,"Nephelium lappaceum","rambutan","rambutan","rambutan","rambotang, rambutan","rambutan","rambutan","rambutan","rambutan","rambutan",20,2000,70,200,"Yes","No","No","No","No","Tree","No","No",-5,"25-40","1-3",20,"Yes","No","Yes","No","Yes","No","Yes","No","Yes","No","Yes","No","Yes","No","Yes","No","Yes","No","Yes","No","Yes","No","Yes","No","Yes","No","Yes","No","Yes","No",null,null,null,null,null,null,null,"Yes","No","No","No","No","No","No","No","Yes","No","Yes","No","Yes","No","No","Yes","No","No",null,null,null,null,null,null,null,null,null,null,"10-40",null,"10-40",null,"10-40","10-40",null,null,null,null,null,null,null,null,null,null,null,null,"feet",null,"feet",null,"feet","feet"]
["Nephelium ramboutan-ake",{"$error":"#N/A"},"Yes","No","No",{"$f":"IF($I$4=TRUE,INDEX($BZ$29:$DC1898,MATCH($A381,$AZ$29:$AZ$1000,0),MATCH($AC$2,$BZ$18:$DC$18,0)),\"Yes\")","v":"Yes"},"Yes","Yes","Yes","Yes","Yes","Yes","Yes","Yes",{"$error":"#N/A"},{"$error":"#N/A"},"Yes","Yes","Yes","Yes",{"$error":"#N/A"},{"$error":"#N/A"},{"$error":"#N/A"},{"$error":"#N/A"},null,null,null,null,null,null,null,null,null,null,null,null,null,null,null,null,null,null,null,null,null,null,null,null,null,null,null,"Nephelium ramboutan-ake","pulasan","pulasan","pulasan","pulasan","pulasan","pulasan","pulasan","pulasan","pulasan",20,2000,70,200,"Yes","No","No","No","No","Tree","No","No","n/a","25-40","1-3",20,"Yes","No","Yes","No","Yes","No","Yes","No","Yes","No","Yes","No","Yes","No","Yes","No","Yes","No","Yes","No","Yes","No","Yes","No","Yes","No","Yes","No","Yes","No",null,null,null,null,null,null,null,"Yes","No","No","No","No","No","No","No","Yes","No","Yes","No","Yes","No","No","Yes","No","No",null,null,null,null,null,null,null,null,null,null,"10-40",null,"10-40",null,"10-40","10-40",null,null,null,null,null,null,null,null,null,null,null,null,"feet",null,"feet",null,"feet","feet"]
["Nerium oleander",{"$error":"#N/A"},"Yes","No","No",{"$f":"IF($I$4=TRUE,INDEX($BZ$29:$DC1899,MATCH($A382,$AZ$29:$AZ$1000,0),MATCH($AC$2,$BZ$18:$DC$18,0)),\"Yes\")","v":"Yes"},"Yes","Yes","Yes","Yes","Yes","Yes","Yes","Yes",{"$error":"#N/A"},{"$error":"#N/A"},"Yes","Yes","Yes","Yes",{"$error":"#N/A"},{"$error":"#N/A"},{"$error":"#N/A"},{"$error":"#N/A"},null,null,null,null,null,null,null,null,null,null,null,null,null,null,null,null,null,null,null,null,null,null,null,null,null,null,null,"Nerium oleander","oleander, oliana","adelfa, oleander","oleander","oleander","ulianter, oleander","oleander","wiliancher, oleander","oleander","oliaanta, oleander",0,3000,20,200,"Yes","No","Yes","Yes","No","Shrub","No","No",6,"1-25","3+",15,"Yes","No","Yes","No","Yes","No","Yes","No","Yes","No","Yes","No","Yes","No","Yes","No","Yes","No","Yes","No","Yes","No","Yes","No","Yes","No","Yes","No","Yes","No","The entire oleander plant contains poisons that are toxic when ingested and potentially through topical contact.  Avoid smoke when the plant is burned or contact with water in which the plant has been immersed.",null,null,null,null,null,null,"Yes","Yes","No","No","No","No","No","No","Yes","No","No","No","Yes","No","No","Yes","No","Yes",null,null,null,null,null,null,null,null,null,null,"",null,"",null,"","",null,null,null,null,null,null,null,null,null,null,null,null,"",null,"",null,"",""]
["Nesoluma polynesicum",{"$error":"#N/A"},"Yes","No",{"$f":"IF(A$2=\"Cover Crop (340)\",\"Yes\",IF(ISBLANK($C$7),\"No\",IF(AND($C$7>=BJ383,$C$7<=BK383),\"Yes\",\"No\")))","v":"No"},{"$f":"IF($I$4=TRUE,INDEX($BZ$29:$DC1900,MATCH($A383,$AZ$29:$AZ$1000,0),MATCH($AC$2,$BZ$18:$DC$18,0)),\"Yes\")","v":"Yes"},"Yes","Yes","Yes","Yes","Yes","Yes","Yes","Yes",{"$error":"#N/A"},{"$error":"#N/A"},"Yes","Yes","Yes","Yes",{"$error":"#N/A"},{"$error":"#N/A"},{"$error":"#N/A"},{"$error":"#N/A"},null,null,null,null,null,null,null,null,null,null,null,null,null,null,null,null,null,null,null,null,null,null,null,null,null,null,null,"Nesoluma polynesicum","keahi","keahi","keahi","keahi","keahi","keahi","keahi","keahi","keahi",400,2100,15,90,"Yes","No","Yes","No","No","Tree","No","Yes","n/a","1-25","0-1",10,"Yes","Yes","Yes","Yes","Yes","Yes","Yes","Yes","Yes","Yes","Yes","Yes","No","No","No","No","No","No","No","No","No","No","No","No","No","No","No","No","No","No","Species of Concern.",null,null,null,null,null,null,"Yes","Yes","No","No","No","No","No","No","Yes","No","Yes","No","Yes","No","No","Yes","No","Yes",null,null,null,null,null,null,null,null,null,null,"8-15",null,"8-15",null,"8-15","8-15",null,null,null,null,null,null,null,null,null,null,null,null,"feet",null,"feet",null,"feet","feet"]
["Nestegis sandwicensis",{"$error":"#N/A"},"Yes","No","No",{"$f":"IF($I$4=TRUE,INDEX($BZ$29:$DC1901,MATCH($A384,$AZ$29:$AZ$1000,0),MATCH($AC$2,$BZ$18:$DC$18,0)),\"Yes\")","v":"Yes"},"Yes","Yes","Yes","Yes","Yes","Yes","Yes","Yes",{"$error":"#N/A"},{"$error":"#N/A"},"Yes","Yes","Yes","Yes",{"$error":"#N/A"},{"$error":"#N/A"},{"$error":"#N/A"},{"$error":"#N/A"},null,null,null,null,null,null,null,null,null,null,null,null,null,null,null,null,null,null,null,null,null,null,null,null,null,null,null,"Nestegis sandwicensis","olopua","olopua","olopua","olopua","olopua","olopua","olopua","olopua","olopua",20,4300,20,120,"Yes","Yes","Yes","No","No","Tree","No","Yes","n/a","1-25","0-1",10,"Yes","Yes","Yes","Yes","Yes","Yes","Yes","Yes","Yes","Yes","Yes","Yes","No","No","No","No","No","No","No","No","No","No","No","No","No","No","No","No","No","No","Dry to mesic forest.",null,null,null,null,null,null,"Yes","Yes","No","No","No","No","No","No","Yes","No","Yes","No","Yes","No","No","Yes","No","Yes",null,null,null,null,null,null,null,null,null,null,"8-15",null,"8-15",null,"8-15","8-15",null,null,null,null,null,null,null,null,null,null,null,null,"feet",null,"feet",null,"feet","feet"]
["Nothocestrum longifolium",{"$error":"#N/A"},"Yes","No","No",{"$f":"IF($I$4=TRUE,INDEX($BZ$29:$DC1902,MATCH($A385,$AZ$29:$AZ$1000,0),MATCH($AC$2,$BZ$18:$DC$18,0)),\"Yes\")","v":"Yes"},"Yes","Yes","Yes","Yes","Yes","Yes","Yes","Yes",{"$error":"#N/A"},{"$error":"#N/A"},"Yes","Yes","Yes","Yes",{"$error":"#N/A"},{"$error":"#N/A"},{"$error":"#N/A"},{"$error":"#N/A"},null,null,null,null,null,null,null,null,null,null,null,null,null,null,null,null,null,null,null,null,null,null,null,null,null,null,null,"Nothocestrum longifolium","aiea, halena","aiea, halena","aiea, halena","aiea, halena","aiea, halena","aiea, halena","aiea, halena","aiea, halena","aiea, halena",1100,5300,70,200,"Yes","Yes","No","No","No","Shrub","No","Yes","n/a","1-25","0-1",10,"Yes","Yes","Yes","Yes","Yes","Yes","Yes","Yes","Yes","Yes","Yes","Yes","No","No","No","No","No","No","No","No","No","No","No","No","No","No","No","No","No","No",null,null,null,null,null,null,null,"Yes","Yes","No","No","No","No","No","No","Yes","No","Yes","No","Yes","No","No","Yes","No","No"]
["Nototrichium sandwicense",{"$error":"#N/A"},"Yes","No","No",{"$f":"IF($I$4=TRUE,INDEX($BZ$29:$DC1903,MATCH($A386,$AZ$29:$AZ$1000,0),MATCH($AC$2,$BZ$18:$DC$18,0)),\"Yes\")","v":"Yes"},"Yes","Yes","Yes","Yes","Yes","Yes","Yes","Yes",{"$error":"#N/A"},{"$error":"#N/A"},"Yes","Yes","Yes","Yes",{"$error":"#N/A"},{"$error":"#N/A"},{"$error":"#N/A"},{"$error":"#N/A"},null,null,null,null,null,null,null,null,null,null,null,null,null,null,null,null,null,null,null,null,null,null,null,null,null,null,null,"Nototrichium sandwicense","kului ","kului ","kului ","kului ","kului ","kului ","kului ","kului ","kului ",0,2500,20,75,"Yes","No","No","No","No","Shrub","No","Yes","n/a","1-25","3+",8,"Yes","Yes","Yes","Yes","Yes","Yes","Yes","Yes","Yes","Yes","Yes","Yes","No","No","No","No","No","No","No","No","No","No","No","No","No","No","No","No","No","No","Open dry forest, on exposed ridges and lava fields, good year-round bee forage.",null,null,null,null,null,null,"Yes","Yes","No","No","No","No","No","No","Yes","No","Yes","No","Yes","No","No","Yes","No","No",null,null,null,null,null,null,null,null,null,null,"",null,"",null,"","",null,null,null,null,null,null,null,null,null,null,null,null,"",null,"",null,"",""]
["Ochrosia compta",{"$error":"#N/A"},"Yes","No","No",{"$f":"IF($I$4=TRUE,INDEX($BZ$29:$DC1904,MATCH($A387,$AZ$29:$AZ$1000,0),MATCH($AC$2,$BZ$18:$DC$18,0)),\"Yes\")","v":"Yes"},"Yes","Yes","Yes","Yes","Yes","Yes","Yes","Yes",{"$error":"#N/A"},{"$error":"#N/A"},"Yes","Yes","Yes","Yes",{"$error":"#N/A"},{"$error":"#N/A"},{"$error":"#N/A"},{"$error":"#N/A"},null,null,null,null,null,null,null,null,null,null,null,null,null,null,null,null,null,null,null,null,null,null,null,null,null,null,null,"Ochrosia compta","holei - 1","holei - 1","holei - 1","holei - 1","holei - 1","holei - 1","holei - 1","holei - 1","holei - 1",500,3000,20,120,"Yes","Yes","No","No","No","Tree","No","Yes","n/a","1-25","1-3",10,"Yes","No","Yes","No","Yes","No","Yes","Yes","Yes","Yes","Yes","yes","No","No","No","No","No","No","No","No","No","No","No","No","No","No","No","No","No","No","On Maui, kown from East Maui only.  Dry to mesic forest.","Rare candidate species",null,null,null,null,null,"Yes","Yes","No","No","No","No","No","No","Yes","No","Yes","No","Yes","No","No","Yes","No","No",null,null,null,null,null,null,null,null,null,null,"8-15",null,"8-15",null,"8-15","8-15",null,null,null,null,null,null,null,null,null,null,null,null,"feet",null,"feet",null,"feet","feet"]
["Ochrosia mariannensis",{"$error":"#N/A"},"Yes","No","No",{"$f":"IF($I$4=TRUE,INDEX($BZ$29:$DC1905,MATCH($A388,$AZ$29:$AZ$1000,0),MATCH($AC$2,$BZ$18:$DC$18,0)),\"Yes\")","v":"Yes"},"Yes","Yes","Yes","Yes","Yes","Yes","Yes","Yes",{"$error":"#N/A"},{"$error":"#N/A"},"Yes","Yes","Yes","Yes",{"$error":"#N/A"},{"$error":"#N/A"},{"$error":"#N/A"},{"$error":"#N/A"},null,null,null,null,null,null,null,null,null,null,null,null,null,null,null,null,null,null,null,null,null,null,null,null,null,null,null,"Ochrosia mariannensis","lipstick tree, langiti","langiti, lipstick tree","langiti, lipstick tree","langiti, lipstick tree","langiti, lipstick tree","langiti, lipstick tree","langiti, lipstick tree","langiti, lipstick tree","langiti, lipstick tree",0,1700,60,120,"Yes","No","No","No","No","Tree","No","Yes","n/a","1-25","1-3",10,"No","No","No","No","No","No","No","No","No","No","No","No","No","No","Yes","Yes","Yes","Yes","No","No","No","No","No","No","No","No","No","No","No","No",null,null,null,null,null,null,null,"Yes","Yes","No","No","No","No","No","No","Yes","No","Yes","No","Yes","No","No","Yes","No","No",null,null,null,null,null,null,null,null,null,null,"8-15",null,"8-15",null,"8-15","8-15",null,null,null,null,null,null,null,null,null,null,null,null,"feet",null,"feet",null,"feet","feet"]
["Ochrosia oppositifolia",{"$error":"#N/A"},"Yes","No","No",{"$f":"IF($I$4=TRUE,INDEX($BZ$29:$DC1906,MATCH($A389,$AZ$29:$AZ$1000,0),MATCH($AC$2,$BZ$18:$DC$18,0)),\"Yes\")","v":"Yes"},"Yes","Yes","Yes","Yes","Yes","Yes","Yes","Yes",{"$error":"#N/A"},{"$error":"#N/A"},"Yes","Yes","Yes","Yes",{"$error":"#N/A"},{"$error":"#N/A"},{"$error":"#N/A"},{"$error":"#N/A"},null,null,null,null,null,null,null,null,null,null,null,null,null,null,null,null,null,null,null,null,null,null,null,null,null,null,null,"Ochrosia oppositifolia","fagot, fago","fagot, fago, faag","fagot, fago","uaoch, kitee","kitee, kacshpar","kitee","uma","uma, umo, mo","kish par, kojbar",0,1700,80,200,"Yes","Yes","Yes","Yes","No","Tree","No","Yes","n/a","25-40","1-3",30,"No","No","No","No","No","No","No","No","No","No","No","No","No","No","Yes","Yes","Yes","Yes","Yes","Yes","Yes","Yes","Yes","Yes","Yes","Yes","Yes","Yes","Yes","Yes","Synonym = Neisosperma oppositifolium",null,null,null,null,null,null,"Yes","Yes","No","No","No","No","No","No","Yes","No","Yes","No","Yes","No","Yes","Yes","No","Yes",null,null,null,null,null,null,null,null,null,null,"8-15",null,"8-15",null,"8-15","8-15",null,null,null,null,null,null,null,null,null,null,null,null,"feet",null,"feet",null,"feet","feet"]
["Osteomeles anthyllidifolia",{"$error":"#N/A"},"Yes","No","No",{"$f":"IF($I$4=TRUE,INDEX($BZ$29:$DC1907,MATCH($A390,$AZ$29:$AZ$1000,0),MATCH($AC$2,$BZ$18:$DC$18,0)),\"Yes\")","v":"Yes"},"Yes","Yes","Yes","Yes","Yes","Yes","Yes","Yes",{"$error":"#N/A"},{"$error":"#N/A"},"Yes","Yes","Yes","Yes",{"$error":"#N/A"},{"$error":"#N/A"},{"$error":"#N/A"},{"$error":"#N/A"},null,null,null,null,null,null,null,null,null,null,null,null,null,null,null,null,null,null,null,null,null,null,null,null,null,null,null,"Osteomeles anthyllidifolia","ulei ","ulei ","ulei ","ulei ","ulei ","ulei ","ulei ","ulei ","ulei ",0,7600,15,120,"Yes","Yes","Yes","Yes","No","Shrub","No","Yes","n/a","1-25","1-3",3,"Yes","Yes","Yes","Yes","Yes","Yes","Yes","Yes","Yes","Yes","Yes","Yes","No","No","No","No","No","No","No","No","No","No","No","No","No","No","No","No","No","No","Coastal cliffs, open lava fields, dry shrubland and dry to mesic forest.",null,null,null,null,null,null,"Yes","Yes","No","No","No","No","No","No","No","No","Yes","No","Yes","No","No","Yes","No","Yes",null,null,null,null,null,null,null,null,null,null,"",null,"",null,"","",null,null,null,null,null,null,null,null,null,null,null,null,"",null,"",null,"",""]
["Osteospermum fruiticosum",{"$error":"#N/A"},"Yes","No","No",{"$f":"IF($I$4=TRUE,INDEX($BZ$29:$DC1908,MATCH($A391,$AZ$29:$AZ$1000,0),MATCH($AC$2,$BZ$18:$DC$18,0)),\"Yes\")","v":"Yes"},"Yes","Yes","Yes","Yes","Yes","Yes","Yes","Yes",{"$error":"#N/A"},{"$error":"#N/A"},"Yes","Yes","Yes","Yes",{"$error":"#N/A"},{"$error":"#N/A"},{"$error":"#N/A"},{"$error":"#N/A"},null,null,null,null,null,null,null,null,null,null,null,null,null,null,null,null,null,null,null,null,null,null,null,null,null,null,null,"Osteospermum fruiticosum","trailing African daisy","trailing African daisy","trailing African daisy","trailing African daisy","trailing African daisy","trailing African daisy","trailing African daisy","trailing African daisy","trailing African daisy",20,4000,40,200,"Yes","No","Yes","No","No","Herb","No","No",3,"0-1","3+",0,"Yes","No","Yes","No","Yes","No","Yes","No","Yes","No","Yes","No","Yes","No","Yes","No","Yes","No","Yes","No","Yes","No","Yes","No","Yes","No","Yes","No","Yes","No",null,null,null,null,null,null,null,"Yes","No","No","No","Yes","No","Yes","No","No","No","No","No","No","Yes","No","No","No","No",null,null,null,null,80,null,40,null,null,null,"",null,"",null,"","",null,null,null,null,null,null,"bu/ac",null,"bu/ac",null,null,null,"",null,"",null,"",""]
["Pachira aquatica",{"$error":"#N/A"},"Yes","No","No",{"$f":"IF($I$4=TRUE,INDEX($BZ$29:$DC1909,MATCH($A392,$AZ$29:$AZ$1000,0),MATCH($AC$2,$BZ$18:$DC$18,0)),\"Yes\")","v":"Yes"},"Yes","Yes","Yes","Yes","Yes","Yes","Yes","Yes",{"$error":"#N/A"},{"$error":"#N/A"},"Yes","Yes","Yes","Yes",{"$error":"#N/A"},{"$error":"#N/A"},{"$error":"#N/A"},{"$error":"#N/A"},null,null,null,null,null,null,null,null,null,null,null,null,null,null,null,null,null,null,null,null,null,null,null,null,null,null,null,"Pachira aquatica","Malabar chestnut","Malabar chestnut","Malabar chestnut","guinea chestnut, miich era ngebard","Malabar chestnut","Malabar chestnut","Malabar chestnut","Malabar chestnut","Malabar chestnut",20,3000,40,80,"Yes","No","No","No","Yes","Tree","No","No",-6,"25-40","1-3",15,"Yes","No","Yes","No","Yes","No","Yes","No","Yes","No","Yes","No","Yes","No","Yes","No","Yes","No","Yes","No","Yes","No","Yes","No","Yes","No","Yes","No","Yes","No","Prefers wet/humid lowland sites, grows in swamps and along rivers, may be susceptible to excessive sunlight or wind.  Nuts are edible.",null,null,null,null,null,null,"Yes","Yes","No","No","No","No","No","No","Yes","No","Yes","No","Yes","No","Yes","Yes","No","No",null,null,null,null,null,null,null,null,null,null,"10-20",null,"10-20",null,"10-20","10-20",null,null,null,null,null,null,null,null,null,null,null,null,"feet",null,"feet",null,"feet","feet"]
["Palaquium stehlinii",{"$error":"#N/A"},"Yes","No","No",{"$f":"IF($I$4=TRUE,INDEX($BZ$29:$DC1910,MATCH($A393,$AZ$29:$AZ$1000,0),MATCH($AC$2,$BZ$18:$DC$18,0)),\"Yes\")","v":"Yes"},"Yes","Yes","Yes","Yes","Yes","Yes","Yes","Yes",{"$error":"#N/A"},{"$error":"#N/A"},"Yes","Yes","Yes","Yes",{"$error":"#N/A"},{"$error":"#N/A"},{"$error":"#N/A"},{"$error":"#N/A"},null,null,null,null,null,null,null,null,null,null,null,null,null,null,null,null,null,null,null,null,null,null,null,null,null,null,null,"Palaquium stehlinii","gasu, nasu","gasu, nasu","gasu, nasu","gasu, nasu","gasu, nasu","gasu, nasu","gasu, nasu","gasu, nasu","gasu, nasu",20,2450,70,200,"Yes","Yes","No","No","No","Tree","No","Yes","n/a","25-40","1-3",20,"No","No","No","No","No","No","No","No","No","No","No","No","Yes","Yes","No","No","No","No","No","No","No","No","No","No","No","No","No","No","No","No",null,null,null,null,null,null,null,"Yes","Yes","No","No","No","No","No","No","Yes","No","Yes","No","Yes","No","No","Yes","No","No",null,null,null,null,null,null,null,null,null,null,"8-12",null,"8-12",null,"8-12","8-12",null,null,null,null,null,null,null,null,null,null,null,null,"feet",null,"feet",null,"feet","feet"]
["Pandanus dubius",{"$error":"#N/A"},"Yes","No","No",{"$f":"IF($I$4=TRUE,INDEX($BZ$29:$DC1911,MATCH($A394,$AZ$29:$AZ$1000,0),MATCH($AC$2,$BZ$18:$DC$18,0)),\"Yes\")","v":"Yes"},"Yes","Yes","Yes","Yes","Yes","Yes","Yes","Yes",{"$error":"#N/A"},{"$error":"#N/A"},"Yes","Yes","Yes","Yes",{"$error":"#N/A"},{"$error":"#N/A"},{"$error":"#N/A"},{"$error":"#N/A"},null,null,null,null,null,null,null,null,null,null,null,null,null,null,null,null,null,null,null,null,null,null,null,null,null,null,null,"Pandanus dubius","screw pine","pahong, screw pine","screw pine","poghu, beku, screw pine","kiparenai, kienpel, screw pine","poghu, meu yok, screw pine","poghu, poak, screw pine","poghu, screw pine","screw pine",20,1700,40,240,"Yes","Yes","Yes","No","No","Tree","No","No","n/a","1-25","1-3",15,"No","No","No","No","No","No","No","No","No","No","No","No","No","No","Yes","Yes","Yes","Yes","Yes","Yes","Yes","No","Yes","No","Yes","No","Yes","No","Yes","No",null,"P. dubius natualized in Palau, indigenous to Guam, CNMI",null,null,null,null,null,"Yes","Yes","No","No","No","No","No","No","Yes","No","Yes","No","Yes","No","No","Yes","No","Yes",null,null,null,null,null,null,null,null,null,null,"8-15",null,"8-15",null,"8-15","8-15",null,null,null,null,null,null,null,null,null,null,null,null,"feet",null,"feet",null,"feet","feet"]
["Pandanus tectorius",{"$error":"#N/A"},"Yes","No","No",{"$f":"IF($I$4=TRUE,INDEX($BZ$29:$DC1912,MATCH($A395,$AZ$29:$AZ$1000,0),MATCH($AC$2,$BZ$18:$DC$18,0)),\"Yes\")","v":"Yes"},"Yes","Yes","Yes","Yes","Yes","Yes","Yes","Yes",{"$error":"#N/A"},{"$error":"#N/A"},"Yes","Yes","Yes","Yes",{"$error":"#N/A"},{"$error":"#N/A"},{"$error":"#N/A"},{"$error":"#N/A"},null,null,null,null,null,null,null,null,null,null,null,null,null,null,null,null,null,null,null,null,null,null,null,null,null,null,null,"Pandanus tectorius","hala, screwpine","kafu, screwpine","fala, laufala, screwpine","ongor, screwpine","deipw, kipar, screwpine","mweng, me ale, screwpine","deipw, fach, screwpine","choi, fach, screwpine","bop, mwajaal, screwpine",0,2000,40,240,"Yes","Yes","Yes","Yes","Yes","Tree","No","No","n/a","1-25","1-3",15,"Yes","Yes","Yes","Yes","Yes","Yes","Yes","Yes","Yes","Yes","Yes","Yes","Yes","Yes","Yes","Yes","Yes","Yes","Yes","Yes","Yes","Yes","Yes","Yes","Yes","Yes","Yes","Yes","Yes","Yes","Good forage for honey bees.",null,null,null,null,null,null,"Yes","Yes","No","No","No","No","No","No","Yes","No","Yes","No","Yes","No","No","Yes","No","Yes",null,null,null,null,null,null,null,null,null,null,"8-15",null,"8-15",null,"8-15","8-15",null,null,null,null,null,null,null,null,null,null,null,null,"feet",null,"feet",null,"feet","feet"]
["Paspalum atratum",{"$error":"#N/A"},"Yes","No","No",{"$f":"IF($I$4=TRUE,INDEX($BZ$29:$DC1913,MATCH($A396,$AZ$29:$AZ$1000,0),MATCH($AC$2,$BZ$18:$DC$18,0)),\"Yes\")","v":"Yes"},"Yes","Yes","Yes","Yes","Yes","Yes","Yes","Yes",{"$error":"#N/A"},{"$error":"#N/A"},"Yes","Yes","Yes","Yes",{"$error":"#N/A"},{"$error":"#N/A"},{"$error":"#N/A"},{"$error":"#N/A"},null,null,null,null,null,null,null,null,null,null,null,null,null,null,null,null,null,null,null,null,null,null,null,null,null,null,null,"Paspalum atratum","Ubon' grass, Atra paspalum","Ubon' grass, Atra paspalum","Ubon' grass, Atra paspalum","Ubon' grass, Atra paspalum","Ubon' grass, Atra paspalum","Ubon' grass, Atra paspalum","Ubon' grass, Atra paspalum","Ubon' grass, Atra paspalum","Ubon' grass, Atra paspalum",0,2000,60,200,"Yes","Yes","Yes","No","Yes","Herb","No","No",8,"0-1","1-3",0,"Yes","No","Yes","No","Yes","No","Yes","No","Yes","No","Yes","No","Yes","No","No","No","Yes","No","Yes","No","Yes","No","Yes","No","Yes","No","Yes","No","Yes","No","Successful on soils from sands to clays, tolerate poorly drained, acid, low fertility conditions, responds well to N.  Tolerant of flooding but wont grow in permanent water.  Reports of seed dormancy from low to quite high.  Germination improved by removal of the lemma and palea.  Seed has limited shelf life (<1 year)",null,null,null,null,null,null,"Yes","No","No","No","No","No","No","Yes","No","No","No","Yes","No","No","No","No","No","No",null,null,null,null,null,null,null,5,null,null,null,5,null,null,null,null,null,null,null,null,null,null,null,null,null,"lbs/ac",null,null,null,"lbs/ac"]
["Paspalum hieronymi (hand planted)",{"$error":"#N/A"},"Yes","No","No",{"$f":"IF($I$4=TRUE,INDEX($BZ$29:$DC1914,MATCH($A397,$AZ$29:$AZ$1000,0),MATCH($AC$2,$BZ$18:$DC$18,0)),\"Yes\")","v":"Yes"},"Yes","Yes","Yes","Yes","Yes","Yes","Yes","Yes",{"$error":"#N/A"},{"$error":"#N/A"},"Yes","Yes","Yes","Yes",{"$error":"#N/A"},{"$error":"#N/A"},{"$error":"#N/A"},{"$error":"#N/A"},null,null,null,null,null,null,null,null,null,null,null,null,null,null,null,null,null,null,null,null,null,null,null,null,null,null,null,"Paspalum hieronymi (hand planted)","Tropic Lalo paspalum (hand planted)","Tropic Lalo paspalum (hand planted)","Tropic Lalo paspalum (hand planted)","Tropic Lalo paspalum (hand planted)","Tropic Lalo paspalum (hand planted)","Tropic Lalo paspalum (hand planted)","Tropic Lalo paspalum (hand planted)","Tropic Lalo paspalum (hand planted)","Tropic Lalo paspalum (hand planted)",20,3000,50,150,"Yes","No","Yes","No","No","Herb","No","No","n/a","0-1","3+",0,"Yes","No","Yes","No","Yes","No","Yes","No","Yes","No","Yes","No","Yes","No","Yes","No","Yes","No","Yes","No","Yes","No","Yes","No","Yes","No","Yes","No","Yes","No",null,null,null,null,null,null,null,"Yes","No","Yes","No","Yes","Yes","Yes","No","No","No","No","No","No","Yes","No","No","No","No",null,null,1,null,1,1,1,null,null,null,"",null,"",null,"","",null,null,null,null,"4' x 4'",null,"3' x 3'","3' x 3'","4' x 4'",null,null,null,"",null,"",null,"",""]
["Paspalum hieronymi (sprigged)",{"$error":"#N/A"},"Yes","No","No",{"$f":"IF($I$4=TRUE,INDEX($BZ$29:$DC1915,MATCH($A398,$AZ$29:$AZ$1000,0),MATCH($AC$2,$BZ$18:$DC$18,0)),\"Yes\")","v":"Yes"},"Yes","Yes","Yes","Yes","Yes","Yes","Yes","Yes",{"$error":"#N/A"},{"$error":"#N/A"},"Yes","Yes","Yes","Yes",{"$error":"#N/A"},{"$error":"#N/A"},{"$error":"#N/A"},{"$error":"#N/A"},null,null,null,null,null,null,null,null,null,null,null,null,null,null,null,null,null,null,null,null,null,null,null,null,null,null,null,"Paspalum hieronymi (sprigged)","Tropic Lalo paspalum (sprigged)","Tropic Lalo paspalum (sprigged)","Tropic Lalo paspalum (sprigged)","Tropic Lalo paspalum (sprigged)","Tropic Lalo paspalum (sprigged)","Tropic Lalo paspalum (sprigged)","Tropic Lalo paspalum (sprigged)","Tropic Lalo paspalum (sprigged)","Tropic Lalo paspalum (sprigged)",20,3000,50,150,"Yes","No","Yes","No","No","Herb","No","No","n/a","0-1","3+",0,"Yes","No","Yes","No","Yes","No","Yes","No","Yes","No","Yes","No","Yes","No","Yes","No","Yes","No","Yes","No","Yes","No","Yes","No","Yes","No","Yes","No","Yes","No",null,null,null,null,null,null,null,"Yes","No","Yes","No","Yes","Yes","Yes","No","No","No","No","No","No","Yes","No","No","No","No",null,null,40,null,80,80,40,null,null,null,"",null,"",null,"","",null,null,null,null,"bu/ac",null,"bu/ac","bu/ac","bu/ac",null,null,null,"",null,"",null,"",""]
["Paspalum notatum (seeded)",{"$error":"#N/A"},"Yes","No","No",{"$f":"IF($I$4=TRUE,INDEX($BZ$29:$DC1916,MATCH($A399,$AZ$29:$AZ$1000,0),MATCH($AC$2,$BZ$18:$DC$18,0)),\"Yes\")","v":"Yes"},"Yes","Yes","Yes","Yes","Yes","Yes","Yes","Yes",{"$error":"#N/A"},{"$error":"#N/A"},"Yes","Yes","Yes","Yes",{"$error":"#N/A"},{"$error":"#N/A"},{"$error":"#N/A"},{"$error":"#N/A"},null,null,null,null,null,null,null,null,null,null,null,null,null,null,null,null,null,null,null,null,null,null,null,null,null,null,null,"Paspalum notatum (seeded)","bahia grass","bahia grass","bahia grass","bahia grass","bahia grass","bahia grass","bahia grass","bahia grass","bahia grass",20,2500,40,150,"Yes","Yes","Yes","No","Yes","Herb","No","No",16,"0-1","3+",0,"Yes","No","Yes","No","Yes","No","Yes","No","Yes","No","Yes","No","No","No","Yes","No","Yes","No","No","No","No","No","No","No","No","No","No","No","No","No",null,null,null,null,null,null,null,"Yes","No","Yes","No","Yes","Yes","No","Yes","No","No","No","Yes","No","No","No","No","No","No",null,null,null,null,null,null,null,4,null,null,null,4,"",null,"","",null,null,null,null,null,null,null,null,null,"lb/ac",null,null,"","lbs/ac","",null,"",""]
["Paspalum notatum (sprigged)",{"$error":"#N/A"},"Yes","No","No",{"$f":"IF($I$4=TRUE,INDEX($BZ$29:$DC1917,MATCH($A400,$AZ$29:$AZ$1000,0),MATCH($AC$2,$BZ$18:$DC$18,0)),\"Yes\")","v":"Yes"},"Yes","Yes","Yes","Yes","Yes","Yes","Yes","Yes",{"$error":"#N/A"},{"$error":"#N/A"},"Yes","Yes","Yes","Yes",{"$error":"#N/A"},{"$error":"#N/A"},{"$error":"#N/A"},{"$error":"#N/A"},null,null,null,null,null,null,null,null,null,null,null,null,null,null,null,null,null,null,null,null,null,null,null,null,null,null,null,"Paspalum notatum (sprigged)","bahia grass","bahia grass","bahia grass","bahia grass","bahia grass","bahia grass","bahia grass","bahia grass","bahia grass",20,2500,40,150,"Yes","Yes","Yes","No","Yes","Herb","No","No",16,"0-1","3+",0,"Yes","No","Yes","No","Yes","No","Yes","No","Yes","No","Yes","No","No","No","Yes","No","Yes","No","No","No","No","No","No","No","No","No","No","No","No","No","Recommended spacing for planted stolons is 6' x 6'",null,null,null,null,null,null,"Yes","No","Yes","No","Yes","Yes","No","Yes","No","No","No","Yes","No","No","No","No","No","No",null,null,null,null,null,null,null,40,null,null,"",40,"",null,"","",null,null,null,null,null,null,null,null,null,"bu/ac",null,null,"","bu/ac","",null,"",""]
["Paspalum vaginatum (hand planted)",{"$error":"#N/A"},"Yes","No","No",{"$f":"IF($I$4=TRUE,INDEX($BZ$29:$DC1918,MATCH($A401,$AZ$29:$AZ$1000,0),MATCH($AC$2,$BZ$18:$DC$18,0)),\"Yes\")","v":"Yes"},"Yes","Yes","Yes","Yes","Yes","Yes","Yes","Yes",{"$error":"#N/A"},{"$error":"#N/A"},"Yes","Yes","Yes","Yes",{"$error":"#N/A"},{"$error":"#N/A"},{"$error":"#N/A"},{"$error":"#N/A"},null,null,null,null,null,null,null,null,null,null,null,null,null,null,null,null,null,null,null,null,null,null,null,null,null,null,null,"Paspalum vaginatum (hand planted)","seashore paspalum (hand planted)","seashore paspalum (hand planted)","seashore paspalum (hand planted)","seashore paspalum (hand planted)","seashore paspalum (hand planted)","seashore paspalum (hand planted)","seashore paspalum (hand planted)","seashore paspalum (hand planted)","aiju, kubuk, seashore paspalum (hand planted)",0,1000,40,200,"Yes","No","Yes","Yes","Yes","Herb","No","No",7,"0-1","3+",0,"Yes","No","Yes","No","Yes","No","Yes","No","Yes","No","Yes","No","Yes","No","Yes","No","Yes","No","Yes","No","Yes","No","Yes","No","Yes","No","Yes","No","Yes","No",null,null,null,null,null,null,null,"Yes","No","No","No","Yes","No","Yes","No","No","No","No","No","No","Yes","No","No","No","No",null,null,null,null,1,null,1,null,null,null,"",null,"",null,"","",null,null,null,null,null,null,"3' x 3'",null,"4' x 4'",null,null,null,"",null,"",null,"",""]
["Paspalum vaginatum (sprigged)",{"$error":"#N/A"},"Yes","No","No",{"$f":"IF($I$4=TRUE,INDEX($BZ$29:$DC1919,MATCH($A402,$AZ$29:$AZ$1000,0),MATCH($AC$2,$BZ$18:$DC$18,0)),\"Yes\")","v":"Yes"},"Yes","Yes","Yes","Yes","Yes","Yes","Yes","Yes",{"$error":"#N/A"},{"$error":"#N/A"},"Yes","Yes","Yes","Yes",{"$error":"#N/A"},{"$error":"#N/A"},{"$error":"#N/A"},{"$error":"#N/A"},null,null,null,null,null,null,null,null,null,null,null,null,null,null,null,null,null,null,null,null,null,null,null,null,null,null,null,"Paspalum vaginatum (sprigged)","seashore paspalum (sprigged)","seashore paspalum (sprigged)","seashore paspalum (sprigged)","seashore paspalum (sprigged)","seashore paspalum (sprigged)","seashore paspalum (sprigged)","seashore paspalum (sprigged)","seashore paspalum (sprigged)","seashore paspalum (sprigged)",0,1000,40,200,"Yes","No","Yes","Yes","Yes","Herb","No","No",7,"0-1","3+",0,"Yes","No","Yes","No","Yes","No","Yes","No","Yes","No","Yes","No","Yes","No","Yes","No","Yes","No","Yes","No","Yes","No","Yes","No","Yes","No","Yes","No","Yes","No",null,null,null,null,null,null,null,"Yes","No","No","No","Yes","No","Yes","No","No","No","No","No","No","Yes","No","No","No","No",null,null,null,null,80,null,40,null,null,null,"",null,"",null,"","",null,null,null,null,null,null,"bu/ac",null,"bu/ac",null,null,null,"",null,"",null,"",""]
["Pennisetum glaucum",{"$error":"#N/A"},"Yes","No","No",{"$f":"IF($I$4=TRUE,INDEX($BZ$29:$DC1920,MATCH($A403,$AZ$29:$AZ$1000,0),MATCH($AC$2,$BZ$18:$DC$18,0)),\"Yes\")","v":"Yes"},"Yes","Yes","Yes","Yes","Yes","Yes","Yes","Yes",{"$error":"#N/A"},{"$error":"#N/A"},"Yes","Yes","Yes","Yes",{"$error":"#N/A"},{"$f":"IF(AND(C$7<=X403,C$7>=W403),\"Yes\",\"No\")","v":{"$error":"#N/A"}},{"$error":"#N/A"},{"$error":"#N/A"},null,null,null,null,null,null,null,null,null,null,null,null,null,null,null,null,null,null,null,null,null,null,null,null,null,null,null,"Pennisetum glaucum","millet, pearl millet ","millet, pearl millet ","millet, pearl millet ","millet, pearl millet ","millet, pearl millet ","millet, pearl millet ","millet, pearl millet ","millet, pearl millet ","millet, pearl millet ",20,2500,40,200,"Yes","No","Yes","No","No","Herb","No","No",3,"0-1","3+",0,"Yes","No","Yes","No","Yes","No","Yes","No","Yes","No","Yes","No","Yes","No","Yes","No","Yes","No","Yes","No","Yes","No","Yes","No","Yes","No","Yes","No","Yes","No","This species performs best in a soil with a pH range of 5.5-8.3.  When allowed to grow for 60 days a producer should expect 2.0 tons of above ground biomass which will contain approximately 19 lbs of Nitrogen per ton.",null,"WS",null,null,null,null,"Yes","No","No","Yes","No","No","No","No","No","No","No","No","No","No","No","No","No","No",null,null,null,50,null,null,null,null,null,null,"",null,"",null,"","",null,null,null,null,null,"lbs/ac",null,null,null,null,null,null,"",null,"",null,"",""]
["Perrottetia sandwicensis",{"$error":"#N/A"},"Yes","No","No",{"$f":"IF($I$4=TRUE,INDEX($BZ$29:$DC1921,MATCH($A404,$AZ$29:$AZ$1000,0),MATCH($AC$2,$BZ$18:$DC$18,0)),\"Yes\")","v":"Yes"},"Yes","Yes","Yes","Yes","Yes","Yes","Yes","Yes",{"$error":"#N/A"},{"$error":"#N/A"},"Yes","Yes","Yes","Yes",{"$error":"#N/A"},{"$error":"#N/A"},{"$f":"IF(AF$1394=\"Tropical\",BJ404,IF(AND($C$8=\"Winter\",DF404=\"CS\"),BJ404-500,BJ404))","v":{"$error":"#N/A"}},{"$f":"IF(AF$1394=\"Tropical\",BK404,IF(AND($C$8=\"Winter\",DF404=\"WS\"),BK404-500,BK404))","v":{"$error":"#N/A"}},null,null,null,null,null,null,null,null,null,null,null,null,null,null,null,null,null,null,null,null,null,null,null,null,null,null,null,"Perrottetia sandwicensis","olomea","olomea","olomea","olomea","olomea","olomea","olomea","olomea","olomea",1000,4100,80,250,"No","Yes","No","No","No","Shrub","No","Yes","n/a","1-25","1-3",10,"Yes","Yes","Yes","Yes","Yes","Yes","Yes","Yes","Yes","Yes","Yes","Yes","No","No","No","No","No","No","No","No","No","No","No","No","No","No","No","No","No","No","Wet forests, up to 5,900 feet on Maui.",null,null,null,null,null,null,"Yes","No","No","No","No","No","No","No","Yes","No","Yes","No","Yes","No","No","Yes","No","No",null,null,null,null,null,null,null,null,null,null,"",null,"",null,"","",null,null,null,null,null,null,null,null,null,null,null,null,"",null,"",null,"",""]
["Persea americana",{"$error":"#N/A"},"Yes","No","No",{"$f":"IF($I$4=TRUE,INDEX($BZ$29:$DC1922,MATCH($A405,$AZ$29:$AZ$1000,0),MATCH($AC$2,$BZ$18:$DC$18,0)),\"Yes\")","v":"Yes"},"Yes","Yes","Yes","Yes","Yes","Yes","Yes","Yes",{"$error":"#N/A"},{"$error":"#N/A"},"Yes","Yes","Yes","Yes",{"$error":"#N/A"},{"$error":"#N/A"},{"$error":"#N/A"},{"$error":"#N/A"},null,null,null,null,null,null,null,null,null,null,null,null,null,null,null,null,null,null,null,null,null,null,null,null,null,null,null,"Persea americana","avocado","alageta, avocado","avota, avocado","bata, avocado","apokado, avocado","avocado","avocado","avocado","avocado",20,2000,30,200,"Yes","Yes","Yes","No","No","Tree","No","No",3,"25-40","1-3",30,"Yes","No","Yes","No","Yes","No","Yes","No","Yes","No","Yes","No","Yes","No","Yes","No","Yes","No","Yes","No","Yes","No","Yes","No","Yes","No","Yes","No","Yes","No","Good forage for honey bees.",null,null,null,null,null,null,"Yes","Yes","No","No","No","No","No","No","Yes","No","Yes","No","Yes","No","Yes","Yes","No","Yes",null,null,null,null,null,null,null,null,null,null,"10-30",null,"10-30",null,"10-30","10-30",null,null,null,null,null,null,null,null,null,null,null,null,"feet",null,"feet",null,"feet","feet"]
["Phyla nodiflora",{"$error":"#N/A"},"Yes","No","No",{"$f":"IF($I$4=TRUE,INDEX($BZ$29:$DC1923,MATCH($A406,$AZ$29:$AZ$1000,0),MATCH($AC$2,$BZ$18:$DC$18,0)),\"Yes\")","v":"Yes"},"Yes","Yes","Yes","Yes","Yes","Yes","Yes","Yes",{"$error":"#N/A"},{"$error":"#N/A"},"Yes","Yes","Yes","Yes",{"$error":"#N/A"},{"$error":"#N/A"},{"$error":"#N/A"},{"$error":"#N/A"},null,null,null,null,null,null,null,null,null,null,null,null,null,null,null,null,null,null,null,null,null,null,null,null,null,null,null,"Phyla nodiflora","Turkey tangle, frog fruit","Turkey tangle, frog fruit","Turkey tangle, frog fruit","Turkey tangle, frog fruit","Turkey tangle, frog fruit","Turkey tangle, frog fruit","Turkey tangle, frog fruit","Turkey tangle, frog fruit","Turkey tangle, frog fruit",0,2500,40,200,"Yes","No","Yes","Yes","Yes","Herb","No","No",5,"0-1","3+",0,"Yes","No","Yes","No","Yes","No","Yes","No","Yes","No","Yes","No","Yes","No","Yes","No","Yes","No","Yes","No","Yes","No","Yes","No","Yes","No","Yes","No","Yes","No",null,null,null,null,null,null,null,"Yes","No","No","No","Yes","No","Yes","No","No","No","No","No","No","Yes","No","No","No","No",null,null,null,null,80,null,40,null,null,null,"",null,"",null,"","",null,null,null,null,null,null,"bu/ac",null,"bu/ac",null,null,null,"",null,"",null,"",""]
["Piper guahamense",{"$error":"#N/A"},"Yes","No","No",{"$f":"IF($I$4=TRUE,INDEX($BZ$29:$DC1924,MATCH($A407,$AZ$29:$AZ$1000,0),MATCH($AC$2,$BZ$18:$DC$18,0)),\"Yes\")","v":"Yes"},"Yes","Yes","Yes","Yes","Yes","Yes","Yes","Yes",{"$error":"#N/A"},{"$error":"#N/A"},"Yes","Yes","Yes","Yes",{"$error":"#N/A"},{"$error":"#N/A"},{"$error":"#N/A"},{"$error":"#N/A"},null,null,null,null,null,null,null,null,null,null,null,null,null,null,null,null,null,null,null,null,null,null,null,null,null,null,null,"Piper guahamense","pupulun aniti, wild piper","pupulun aniti, wild piper","pupulun aniti, wild piper","pupulun aniti, wild piper","pupulun aniti, wild piper","pupulun aniti, wild piper","pupulun aniti, wild piper","pupulun aniti, wild piper","pupulun aniti, wild piper",20,1700,70,120,"No","Yes","No","No","Yes","Shrub","No","Yes","n/a","1-25","1-3",5,"No","No","No","No","No","No","No","No","No","No","No","No","No","No","Yes","Yes","No","No","No","No","No","No","No","No","No","No","No","No","No","No",null,null,null,null,null,null,null,"Yes","Yes","No","No","No","No","No","No","Yes","No","Yes","No","Yes","No","No","Yes","No","No",null,null,null,null,null,null,null,null,null,null,"",null,"",null,"","",null,null,null,null,null,null,null,null,null,null,null,null,"",null,"",null,"",""]
["Piper nigrum",{"$error":"#N/A"},"Yes","No","No",{"$f":"IF($I$4=TRUE,INDEX($BZ$29:$DC1925,MATCH($A408,$AZ$29:$AZ$1000,0),MATCH($AC$2,$BZ$18:$DC$18,0)),\"Yes\")","v":"Yes"},"Yes","Yes","Yes","Yes","Yes","Yes","Yes","Yes",{"$error":"#N/A"},{"$error":"#N/A"},"Yes","Yes","Yes","Yes",{"$error":"#N/A"},{"$error":"#N/A"},{"$error":"#N/A"},{"$error":"#N/A"},null,null,null,null,null,null,null,null,null,null,null,null,null,null,null,null,null,null,null,null,null,null,null,null,null,null,null,"Piper nigrum","black pepper","black pepper","black pepper","black pepper","peper, black pepper","black pepper","black pepper","black pepper","black pepper",20,2000,80,240,"Yes","Yes","No","No","No","Vine-woody","No","No",6,"1-25","1-3",0,"Yes","No","Yes","No","Yes","No","Yes","No","Yes","No","Yes","No","Yes","No","Yes","No","Yes","No","Yes","No","Yes","No","Yes","No","Yes","No","Yes","No","Yes","No",null,null,null,null,null,null,null,"Yes","Yes","No","No","No","No","No","No","Yes","No","Yes","No","Yes","No","No","Yes","No","No",null,null,null,null,null,null,null,null,null,null,"",null,"",null,"","",null,null,null,null,null,null,null,null,null,null,null,null,"",null,"",null,"",""]
["Pipturus albidus",{"$error":"#N/A"},"Yes","No","No",{"$f":"IF($I$4=TRUE,INDEX($BZ$29:$DC1926,MATCH($A409,$AZ$29:$AZ$1000,0),MATCH($AC$2,$BZ$18:$DC$18,0)),\"Yes\")","v":"Yes"},"Yes","Yes","Yes","Yes","Yes","Yes","Yes","Yes",{"$error":"#N/A"},{"$error":"#N/A"},"Yes","Yes","Yes","Yes",{"$error":"#N/A"},{"$error":"#N/A"},{"$error":"#N/A"},{"$error":"#N/A"},null,null,null,null,null,null,null,null,null,null,null,null,null,null,null,null,null,null,null,null,null,null,null,null,null,null,null,"Pipturus albidus","mamaki","mamaki","mamaki","mamaki","mamaki","mamaki","mamaki","mamaki","mamaki",20,6000,35,280,"Yes","Yes","No","No","No","Shrub","No","Yes","n/a","1-25","1-3",10,"Yes","Yes","Yes","Yes","Yes","Yes","Yes","Yes","Yes","Yes","Yes","Yes","No","No","No","No","No","No","No","No","No","No","No","No","No","No","No","No","No","No","Fast-growing, can grow in partial sun.  Useful during initial stages of restoration but will diminish as forest matures and shade increases.  Mesic to Wet Mesic forests",null,null,null,null,null,null,"Yes","Yes","No","No","No","No","No","No","Yes","No","Yes","No","Yes","No","No","Yes","No","No",null,null,null,null,null,null,null,null,null,null,"",null,"",null,"","",null,null,null,null,null,null,null,null,null,null,null,null,"",null,"",null,"",""]
["Pipturus argenteus",{"$error":"#N/A"},"Yes","No","No",{"$f":"IF($I$4=TRUE,INDEX($BZ$29:$DC1927,MATCH($A410,$AZ$29:$AZ$1000,0),MATCH($AC$2,$BZ$18:$DC$18,0)),\"Yes\")","v":"Yes"},"Yes","Yes","Yes","Yes","Yes","Yes","Yes","Yes",{"$error":"#N/A"},{"$error":"#N/A"},"Yes","Yes","Yes","Yes",{"$error":"#N/A"},{"$error":"#N/A"},{"$error":"#N/A"},{"$error":"#N/A"},null,null,null,null,null,null,null,null,null,null,null,null,null,null,null,null,null,null,null,null,null,null,null,null,null,null,null,"Pipturus argenteus","soga, fau soga","atmahayan","soga, fau soga","oleiulakerasus","ormuh, ti warenga","alko, halkoh","tupwpwunuwen, aroma","alamang, aroma, guruwel","ar we, arame",0,1700,70,120,"Yes","Yes","Yes","Yes","No","Tree","No","Yes","n/a","1-25","1-3",10,"No","No","No","No","No","No","No","No","No","No","No","No","Yes","Yes","Yes","Yes","No","No","Yes","Yes","Yes","Yes","Yes","Yes","Yes","Yes","Yes","Yes","Yes","Yes",null,null,null,null,null,null,null,"Yes","Yes","No","No","No","No","No","No","Yes","No","Yes","No","Yes","No","No","Yes","No","Yes",null,null,null,null,null,null,null,null,null,null,"8-12",null,"8-12",null,"8-12","8-12",null,null,null,null,null,null,null,null,null,null,null,null,"feet",null,"feet",null,"feet","feet"]
["Pisonia brunoniana",{"$error":"#N/A"},"Yes","No","No",{"$f":"IF($I$4=TRUE,INDEX($BZ$29:$DC1928,MATCH($A411,$AZ$29:$AZ$1000,0),MATCH($AC$2,$BZ$18:$DC$18,0)),\"Yes\")","v":"Yes"},"Yes","Yes","Yes","Yes","Yes","Yes","Yes","Yes",{"$error":"#N/A"},{"$error":"#N/A"},"Yes","Yes","Yes","Yes",{"$error":"#N/A"},{"$error":"#N/A"},{"$error":"#N/A"},{"$error":"#N/A"},null,null,null,null,null,null,null,null,null,null,null,null,null,null,null,null,null,null,null,null,null,null,null,null,null,null,null,"Pisonia brunoniana","papala kepau - 1","papala kepau - 1","papala kepau - 1","papala kepau - 1","papala kepau - 1","papala kepau - 1","papala kepau - 1","papala kepau - 1","papala kepau - 1",800,5000,25,200,"Yes","Yes","No","No","No","Tree","No","Yes","n/a","1-25","1-3",12,"Yes","Yes","Yes","No","Yes","Yes","Yes","Yes","Yes","Yes","Yes","Yes","No","No","No","No","No","No","No","No","No","No","No","No","No","No","No","No","No","No","Fruits are sticky, historically used as \"catch-bird\" trees.",null,null,null,null,null,null,"Yes","No","No","No","No","No","No","No","Yes","No","Yes","No","Yes","No","No","Yes","No","No",null,null,null,null,null,null,null,null,null,null,"8-15",null,"8-15",null,"8-15","8-15",null,null,null,null,null,null,null,null,null,null,null,null,"feet",null,"feet",null,"feet","feet"]
["Pisonia grandis",{"$error":"#N/A"},"Yes","No","No",{"$f":"IF($I$4=TRUE,INDEX($BZ$29:$DC1929,MATCH($A412,$AZ$29:$AZ$1000,0),MATCH($AC$2,$BZ$18:$DC$18,0)),\"Yes\")","v":"Yes"},"Yes","Yes","Yes","Yes","Yes","Yes","Yes","Yes",{"$error":"#N/A"},{"$error":"#N/A"},"Yes","Yes","Yes","Yes",{"$error":"#N/A"},{"$error":"#N/A"},{"$error":"#N/A"},{"$error":"#N/A"},null,null,null,null,null,null,null,null,null,null,null,null,null,null,null,null,null,null,null,null,null,null,null,null,null,null,null,"Pisonia grandis","papala kepau - 2","umumu","pua vai","chemoi, mesbesibech","muk, puka","muk, puka","mwaak","adaburrunigakiy, moek","kangal, mahk, kanae",0,1700,70,120,"Yes","Yes","Yes","Yes","No","Tree","No","Yes","n/a","25-40","1-3",35,"No","No","No","No","No","No","No","No","No","No","No","No","Yes","Yes","Yes","Yes","No","No","Yes","Yes","No","No","Yes","Yes","Yes","Yes","Yes","Yes","Yes","Yes","Fruits are sticky, historically used as \"catch-bird\" trees.",null,null,null,null,null,null,"Yes","No","No","No","No","No","No","No","Yes","No","Yes","No","Yes","No","Yes","Yes","No","Yes",null,null,null,null,null,null,null,null,null,null,"10-20",null,"10-20",null,"10-20","10-20",null,null,null,null,null,null,null,null,null,null,null,null,"feet",null,"feet",null,"feet","feet"]
["Pisonia sandwicensis",{"$f":"IF(A413=0,\"No\",IF(AND(C413=\"Yes\",D413=\"YES\",E413=\"Yes\",F413=\"yes\",G413=\"Yes\",H413=\"Yes\",I413=\"Yes\",J413=\"Yes\",N413=\"Yes\",Q413=\"Yes\",O413=\"Yes\",K413=\"Yes\",P413=\"Yes\",V413=\"Yes\"),\"Yes\",\"No\"))","v":{"$error":"#N/A"}},"Yes","No","No",{"$f":"IF($I$4=TRUE,INDEX($BZ$29:$DC1930,MATCH($A413,$AZ$29:$AZ$1000,0),MATCH($AC$2,$BZ$18:$DC$18,0)),\"Yes\")","v":"Yes"},"Yes","Yes","Yes","Yes","Yes","Yes","Yes","Yes",{"$error":"#N/A"},{"$error":"#N/A"},"Yes","Yes","Yes","Yes",{"$error":"#N/A"},{"$error":"#N/A"},{"$error":"#N/A"},{"$error":"#N/A"},null,null,null,null,null,null,null,null,null,null,null,null,null,null,null,null,null,null,null,null,null,null,null,null,null,null,null,"Pisonia sandwicensis","aulu","aulu","aulu","aulu","aulu","aulu","aulu","aulu","aulu",850,3400,25,200,"Yes","Yes","No","No","No","Tree","No","Yes","n/a","25-40","1-3",30,"Yes","Yes","Yes","Yes","Yes","Yes","Yes","Yes","Yes","Yes","Yes","Yes","No","No","No","No","No","No","No","No","No","No","No","No","No","No","No","No","No","No","Fruits are sticky, historically used as \"catch-bird\" trees.",null,null,null,null,null,null,"Yes","No","No","No","No","No","No","No","Yes","No","Yes","No","Yes","No","No","Yes","No","No",null,null,null,null,null,null,null,null,null,null,"10-20",null,"10-20",null,"10-20","10-20",null,null,null,null,null,null,null,null,null,null,null,null,"feet",null,"feet",null,"feet","feet"]
[{"$f":"AZ414","v":"Pisonia umbellifera"},{"$error":"#N/A"},"Yes","No","No",{"$f":"IF($I$4=TRUE,INDEX($BZ$29:$DC1931,MATCH($A414,$AZ$29:$AZ$1000,0),MATCH($AC$2,$BZ$18:$DC$18,0)),\"Yes\")","v":"Yes"},{"$f":"IF($K$4=TRUE,VLOOKUP(A414,$AZ$29:$BY$1000,17,FALSE),\"Yes\")","v":"Yes"},{"$f":"IF($J$4=TRUE,VLOOKUP(A414,$AZ$29:$BY$1000,18,FALSE),\"Yes\")","v":"Yes"},{"$f":"IF($L$4=TRUE,VLOOKUP(A414,$AZ$29:$BY$1000,22,FALSE),\"Yes\")","v":"Yes"},{"$f":"IF($M$4=TRUE,VLOOKUP(A414,$AZ$29:$BY$1000,21,FALSE),\"Yes\")","v":"Yes"},"Yes","Yes","Yes",{"$f":"IF($N$4=TRUE,VLOOKUP(A414,$AZ$29:$BY$1000,19,FALSE),\"Yes\")","v":"Yes"},{"$f":"IF($C$5=\"\",\"Yes\",INDEX($BZ$29:$DC$1000,MATCH($AZ414,$AZ$29:$AZ$1000,0),MATCH($AD$1379,$BZ$18:$DC$18,0)))","v":{"$error":"#N/A"}},{"$error":"#N/A"},"Yes","Yes","Yes","Yes",{"$f":"INDEX($BZ$29:$DC$1000,MATCH($AZ414,$AZ$29:$AZ$1000,0),MATCH($AC$2,$BZ$18:$DC$18,0))","v":{"$error":"#N/A"}},{"$error":"#N/A"},{"$error":"#N/A"},{"$error":"#N/A"},null,null,null,null,null,null,null,null,null,null,null,null,null,null,null,null,null,null,null,null,null,null,null,null,null,null,null,"Pisonia umbellifera","papala kepau - 3","langsat, umbrella catchbirdtree","umbrella catchbirdtree","udeuidar bekai, umbrella catchbirdtree","umbrella catchbirdtree","umbrella catchbirdtree","umbrella catchbirdtree","umbrella catchbirdtree","umbrella catchbirdtree",300,2400,70,200,"Yes","Yes","No","No","No","Tree","No","Yes","n/a","1-25","1-3",20,"Yes","Yes","Yes","Yes","Yes","Yes","Yes","Yes","Yes","Yes","Yes","Yes","Yes","Yes","Yes","Yes","Yes","Yes","No","No","No","No","No","No","Yes","Yes","Yes","Yes","No","No","Fruits are sticky, historically used as \"catch-bird\" trees.",null,null,null,null,null,null,"Yes","No","No","No","No","No","No","No","Yes","No","Yes","No","Yes","No","No","Yes","No","No",null,null,null,null,null,null,null,null,null,null,"8-15",null,"8-15",null,"8-15","8-15",null,null,null,null,null,null,null,null,null,null,null,null,"feet",null,"feet",null,"feet","feet"]
["Pittosporum confertiflorum",{"$error":"#N/A"},"Yes","No","No",{"$f":"IF($I$4=TRUE,INDEX($BZ$29:$DC1932,MATCH($A415,$AZ$29:$AZ$1000,0),MATCH($AC$2,$BZ$18:$DC$18,0)),\"Yes\")","v":"Yes"},"Yes","Yes","Yes","Yes","Yes","Yes","Yes","Yes",{"$error":"#N/A"},{"$error":"#N/A"},"Yes","Yes","Yes","Yes",{"$error":"#N/A"},{"$error":"#N/A"},{"$error":"#N/A"},{"$error":"#N/A"},null,null,null,null,null,null,null,null,null,null,null,null,null,null,null,null,null,null,null,null,null,null,null,null,null,null,null,"Pittosporum confertiflorum","hoawa - 1","hoawa - 1","hoawa - 1","hoawa - 1","hoawa - 1","hoawa - 1","hoawa - 1","hoawa - 1","hoawa - 1",20,7200,20,200,"Yes","Yes","No","No","No","Shrub","No","Yes","n/a","1-25","0-1",10,"Yes","Yes","Yes","No","Yes","Yes","Yes","Yes","Yes","No","Yes","Yes","No","No","No","No","No","No","No","No","No","No","No","No","No","No","No","No","No","No","Dry to Wet forests including sub-alpine.",null,null,null,null,null,null,"Yes","Yes","No","No","No","No","No","No","Yes","No","Yes","No","Yes","No","No","Yes","No","No",null,null,null,null,null,null,null,null,null,null,"",null,"",null,"","",null,null,null,null,null,null,null,null,null,null,null,null,"",null,"",null,"",""]
["Pittosporum glabrum",{"$error":"#N/A"},"Yes","No","No",{"$f":"IF($I$4=TRUE,INDEX($BZ$29:$DC1933,MATCH($A416,$AZ$29:$AZ$1000,0),MATCH($AC$2,$BZ$18:$DC$18,0)),\"Yes\")","v":"Yes"},"Yes","Yes","Yes","Yes","Yes","Yes","Yes","Yes",{"$error":"#N/A"},{"$error":"#N/A"},"Yes","Yes","Yes","Yes",{"$error":"#N/A"},{"$error":"#N/A"},{"$error":"#N/A"},{"$error":"#N/A"},null,null,null,null,null,null,null,null,null,null,null,null,null,null,null,null,null,null,null,null,null,null,null,null,null,null,null,"Pittosporum glabrum","hoawa - 2","hoawa - 2","hoawa - 2","hoawa - 2","hoawa - 2","hoawa - 2","hoawa - 2","hoawa - 2","hoawa - 2",20,6400,70,200,"Yes","Yes","No","No","No","Shrub","No","Yes","n/a","1-25","0-1",10,"Yes","No","Yes","Yes","Yes","Yes","Yes","Yes","Yes","Yes","Yes","Yes","No","No","No","No","No","No","No","No","No","No","No","No","No","No","No","No","No","No","Mesic to Wet forests, and margins of bogs.",null,null,null,null,null,null,"Yes","Yes","No","No","No","No","No","No","Yes","No","Yes","No","Yes","No","No","Yes","No","No",null,null,null,null,null,null,null,null,null,null,"",null,"",null,"","",null,null,null,null,null,null,null,null,null,null,null,null,"",null,"",null,"",""]
["Pittosporum hosmeri",{"$error":"#N/A"},"Yes","No","No",{"$f":"IF($I$4=TRUE,INDEX($BZ$29:$DC1934,MATCH($A417,$AZ$29:$AZ$1000,0),MATCH($AC$2,$BZ$18:$DC$18,0)),\"Yes\")","v":"Yes"},"Yes","Yes","Yes","Yes","Yes","Yes","Yes","Yes",{"$error":"#N/A"},{"$error":"#N/A"},"Yes","Yes","Yes","Yes",{"$error":"#N/A"},{"$error":"#N/A"},{"$error":"#N/A"},{"$error":"#N/A"},null,null,null,null,null,null,null,null,null,null,null,null,null,null,null,null,null,null,null,null,null,null,null,null,null,null,null,"Pittosporum hosmeri","hoawa - 3","hoawa - 3","hoawa - 3","hoawa - 3","hoawa - 3","hoawa - 3","hoawa - 3","hoawa - 3","hoawa - 3",20,4000,70,200,"Yes","Yes","Yes","No","No","Tree","No","Yes","n/a","1-25","0-1",10,"Yes","Yes","Yes","No","Yes","No","Yes","No","Yes","No","Yes","No","No","No","No","No","No","No","No","No","No","No","No","No","No","No","No","No","No","No","Mesic to Wet forests, and margins of bogs.",null,null,null,null,null,null,"Yes","Yes","No","No","No","No","No","No","Yes","No","Yes","No","Yes","No","No","Yes","No","Yes",null,null,null,null,null,null,null,null,null,null,"8-12",null,"8-12",null,"8-12","8-12",null,null,null,null,null,null,null,null,null,null,null,null,"feet",null,"feet",null,"feet","feet"]
["Pittosporum terminalioides",{"$error":"#N/A"},{"$f":"INDEX($DK$29:$EC$1000,MATCH(AZ418,$AZ$29:$AZ$1000,0),MATCH($A$2,$DK$18:$EC$18,0))","v":"Yes"},{"$f":"IF(ISBLANK($C$6),\"No\",IF(AND($H$4=TRUE,BM418>$C$6),\"Yes\",IF(AND($C$6>=BL418,$C$6<=BM418),\"Yes\",\"No\")))","v":"No"},"No",{"$f":"IF($I$4=TRUE,INDEX($BZ$29:$DC1935,MATCH($A418,$AZ$29:$AZ$1000,0),MATCH($AC$2,$BZ$18:$DC$18,0)),\"Yes\")","v":"Yes"},"Yes","Yes","Yes","Yes",{"$f":"IF(AND(L418=\"Yes\",M418=\"Yes\"),\"Yes\",\"No\")","v":"Yes"},{"$f":"IF(AND($O$4=TRUE,BO418=\"Yes\"),\"no\",\"Yes\")","v":"Yes"},{"$f":"IF(AND($P$4=TRUE,BN418=\"Yes\"),\"No\",\"Yes\")","v":"Yes"},"Yes",{"$error":"#N/A"},{"$f":"IF(AND($Q$4=TRUE,U418=\"Yes\"),\"No\",IF(AND($Q$4=TRUE,U418=\"No\"),\"yes\",\"Yes\"))","v":{"$error":"#N/A"}},{"$f":"IF(OR(R418=\"Yes\",S418=\"Yes\",T418=\"Yes\"),\"Yes\",\"No\")","v":"Yes"},{"$f":"IF($W$7=\"Yes\",\"Yes\",IF($T$13=BS418,\"Yes\",\"No\"))","v":"Yes"},{"$f":"IF($W$7=\"Yes\",\"Yes\",IF($U$13=BS418,\"Yes\",\"No\"))","v":"Yes"},{"$f":"IF($W$7=\"Yes\",\"Yes\",IF($V$13=BS418,\"Yes\",\"No\"))","v":"Yes"},{"$error":"#N/A"},{"$error":"#N/A"},{"$error":"#N/A"},{"$error":"#N/A"},null,null,null,null,null,null,null,null,null,null,null,null,null,null,null,null,null,null,null,null,null,null,null,null,null,null,null,"Pittosporum terminalioides","hoawa - 4","hoawa - 4","hoawa - 4","hoawa - 4","hoawa - 4","hoawa - 4","hoawa - 4","hoawa - 4","hoawa - 4",20,6600,20,120,"Yes","Yes","No","No","No","Tree","No","Yes","n/a","1-25","0-1",10,"Yes","Yes","Yes","No","Yes","Yes","Yes","Yes","Yes","No","Yes","No","No","No","No","No","No","No","No","No","No","No","No","No","No","No","No","No","No","No","Mesic to Wet forests, and margins of bogs.",null,null,null,null,null,null,"Yes","Yes","No","No","No","No","No","No","Yes","No","Yes","No","Yes","No","No","Yes","No","No",null,null,null,null,null,null,null,null,null,null,"8-12",null,"8-12",null,"8-12","8-12",null,null,null,null,null,null,null,null,null,null,null,null,"feet",null,"feet",null,"feet","feet"]
["Planchonella garberi",{"$error":"#N/A"},"Yes","No","No",{"$f":"IF($I$4=TRUE,INDEX($BZ$29:$DC1936,MATCH($A419,$AZ$29:$AZ$1000,0),MATCH($AC$2,$BZ$18:$DC$18,0)),\"Yes\")","v":"Yes"},"Yes","Yes","Yes","Yes","Yes","Yes","Yes","Yes",{"$error":"#N/A"},{"$error":"#N/A"},"Yes","Yes","Yes","Yes",{"$error":"#N/A"},{"$error":"#N/A"},{"$error":"#N/A"},{"$error":"#N/A"},null,null,null,null,null,null,null,null,null,null,null,null,null,null,null,null,null,null,null,null,null,null,null,null,null,null,null,"Planchonella garberi","alaa - 1","alaa - 1","alaa - 1","alaa - 1","alaa - 1","alaa - 1","alaa - 1","alaa - 1","alaa - 1",0,1650,80,200,"Yes","No","Yes","Yes","No","Tree","No","Yes","n/a","25-40","1-3",20,"No","No","No","No","No","No","No","No","No","No","No","No","Yes","Yes","No","No","No","No","No","No","No","No","No","No","No","No","No","No","No","No",null,null,null,null,null,null,null,"Yes","Yes","No","No","No","No","No","No","Yes","No","Yes","No","Yes","No","No","Yes","No","Yes",null,null,null,null,null,null,null,null,null,null,"8-12",null,"8-12",null,"8-12","8-12",null,null,null,null,null,null,null,null,null,null,null,null,"feet",null,"feet",null,"feet","feet"]
["Planchonella grayana",{"$error":"#N/A"},"Yes","No","No",{"$f":"IF($I$4=TRUE,INDEX($BZ$29:$DC1937,MATCH($A420,$AZ$29:$AZ$1000,0),MATCH($AC$2,$BZ$18:$DC$18,0)),\"Yes\")","v":"Yes"},"Yes","Yes","Yes","Yes","Yes","Yes","Yes","Yes",{"$error":"#N/A"},{"$error":"#N/A"},"Yes","Yes","Yes","Yes",{"$error":"#N/A"},{"$error":"#N/A"},{"$error":"#N/A"},{"$error":"#N/A"},null,null,null,null,null,null,null,null,null,null,null,null,null,null,null,null,null,null,null,null,null,null,null,null,null,null,null,"Planchonella grayana","alaa - 2","alaa - 2","alaa - 2","alaa - 2","alaa - 2","alaa - 2","alaa - 2","alaa - 2","alaa - 2",0,1000,80,200,"Yes","No","Yes","Yes","No","Tree","No","Yes","n/a","25-40","1-3",20,"No","No","No","No","No","No","No","No","No","No","No","No","Yes","Yes","No","No","No","No","No","No","No","No","No","No","No","No","No","No","No","No",null,null,null,null,null,null,null,"Yes","Yes","No","No","No","No","No","No","Yes","No","Yes","No","Yes","No","No","Yes","No","Yes",null,null,null,null,null,null,null,null,null,null,"8-12",null,"8-12",null,"8-12","8-12",null,null,null,null,null,null,null,null,null,null,null,null,"feet",null,"feet",null,"feet","feet"]
["Planchonella samoensis",{"$error":"#N/A"},"Yes","No","No",{"$f":"IF($I$4=TRUE,INDEX($BZ$29:$DC1938,MATCH($A421,$AZ$29:$AZ$1000,0),MATCH($AC$2,$BZ$18:$DC$18,0)),\"Yes\")","v":"Yes"},"Yes","Yes","Yes","Yes","Yes","Yes","Yes","Yes",{"$error":"#N/A"},{"$error":"#N/A"},"Yes","Yes","Yes","Yes",{"$error":"#N/A"},{"$error":"#N/A"},{"$error":"#N/A"},{"$error":"#N/A"},null,null,null,null,null,null,null,null,null,null,null,null,null,null,null,null,null,null,null,null,null,null,null,null,null,null,null,"Planchonella samoensis","mamalava","mamalava","mamalava","mamalava","mamalava","mamalava","mamalava","mamalava","mamalava",20,2100,80,200,"Yes","No","Yes","No","No","Tree","No","Yes","n/a","25-40","1-3",20,"No","No","No","No","No","No","No","No","No","No","No","No","Yes","Yes","No","No","No","No","No","No","No","No","No","No","No","No","No","No","No","No",null,null,null,null,null,null,null,"Yes","Yes","No","No","No","No","No","No","Yes","No","Yes","No","Yes","No","No","Yes","No","Yes",null,null,null,null,null,null,null,null,null,null,"8-12",null,"8-12",null,"8-12","8-12",null,null,null,null,null,null,null,null,null,null,null,null,"feet",null,"feet",null,"feet","feet"]
["Plumbago zeylanica",{"$error":"#N/A"},"Yes","No","No",{"$f":"IF($I$4=TRUE,INDEX($BZ$29:$DC1939,MATCH($A422,$AZ$29:$AZ$1000,0),MATCH($AC$2,$BZ$18:$DC$18,0)),\"Yes\")","v":"Yes"},"Yes","Yes","Yes","Yes","Yes","Yes","Yes","Yes",{"$error":"#N/A"},{"$error":"#N/A"},"Yes","Yes","Yes","Yes",{"$error":"#N/A"},{"$error":"#N/A"},{"$error":"#N/A"},{"$error":"#N/A"},null,null,null,null,null,null,null,null,null,null,null,null,null,null,null,null,null,null,null,null,null,null,null,null,null,null,null,"Plumbago zeylanica","iliee, wild leadwort","wild leadwort","wild leadwort","wild leadwort","wild leadwort","wild leadwort","wild leadwort","wild leadwort","wild leadwort",20,2000,15,160,"Yes","Yes","Yes","No","No","Shrub","No","Yes","n/a","1-25","0-1",1,"Yes","Yes","Yes","Yes","Yes","Yes","Yes","Yes","Yes","Yes","Yes","Yes","Yes","Yes","Yes","Yes","Yes","Yes","No","No","No","No","No","No","No","No","No","No","No","No","Arid, disturbed areas, sand dunes and dry forest and shrubland.",null,null,null,null,null,null,"Yes","Yes","No","No","No","No","No","No","Yes","No","Yes","No","Yes","No","No","Yes","No","No",null,null,null,null,null,null,null,null,null,null,"",null,"",null,"","",null,null,null,null,null,null,null,null,null,null,null,null,"",null,"",null,"",""]
["Plumeria rubra",{"$error":"#N/A"},"Yes","No","No",{"$f":"IF($I$4=TRUE,INDEX($BZ$29:$DC1940,MATCH($A423,$AZ$29:$AZ$1000,0),MATCH($AC$2,$BZ$18:$DC$18,0)),\"Yes\")","v":"Yes"},"Yes","Yes","Yes","Yes","Yes","Yes","Yes","Yes",{"$error":"#N/A"},{"$error":"#N/A"},"Yes","Yes","Yes","Yes",{"$error":"#N/A"},{"$error":"#N/A"},{"$error":"#N/A"},{"$error":"#N/A"},null,null,null,null,null,null,null,null,null,null,null,null,null,null,null,null,null,null,null,null,null,null,null,null,null,null,null,"Plumeria rubra","plumeria","kalachucha, plumeria","pua fiti, plumeria","elilai ra ngebard, plumeria","pomeria, haiakai, plumeria","for, plumeria","seur, plumeria","sawur, soulu, plumeria","meria, plumeria",0,2000,20,240,"Yes","No","Yes","Yes","No","Tree","No","No",-5,"1-25","0-1",12,"Yes","No","Yes","No","Yes","No","Yes","No","Yes","No","Yes","No","Yes","No","Yes","No","Yes","No","Yes","No","Yes","No","Yes","No","Yes","No","Yes","No","Yes","No","Grows from cuttings.",null,null,null,null,null,null,"Yes","Yes","No","No","No","No","No","No","Yes","No","Yes","No","Yes","No","No","Yes","No","No",null,null,null,null,null,null,null,null,null,null,"8-12",null,"8-12",null,"8-12","8-12",null,null,null,null,null,null,null,null,null,null,null,null,"feet",null,"feet",null,"feet","feet"]
["Podocarpus gracilior",{"$error":"#N/A"},"Yes","No","No",{"$f":"IF($I$4=TRUE,INDEX($BZ$29:$DC1941,MATCH($A424,$AZ$29:$AZ$1000,0),MATCH($AC$2,$BZ$18:$DC$18,0)),\"Yes\")","v":"Yes"},"Yes","Yes","Yes","Yes","Yes","Yes","Yes","Yes",{"$error":"#N/A"},{"$error":"#N/A"},"Yes","Yes","Yes","Yes",{"$error":"#N/A"},{"$error":"#N/A"},{"$error":"#N/A"},{"$error":"#N/A"},null,null,null,null,null,null,null,null,null,null,null,null,null,null,null,null,null,null,null,null,null,null,null,null,null,null,null,"Podocarpus gracilior","fern pine","fern pine","fern pine","fern pine","fern pine","fern pine","fern pine","fern pine","fern pine",0,6000,35,240,"Yes","Yes","Yes","No","No","Tree","No","No",0,"25-40","1-3",40,"Yes","No","Yes","No","Yes","No","Yes","No","Yes","No","Yes","No","No","No","No","No","No","No","No","No","No","No","No","No","No","No","No","No","No","No",null,"Naturlized in Guam",null,null,null,null,null,"Yes","Yes","No","No","No","No","No","No","Yes","No","Yes","No","Yes","No","Yes","Yes","No","Yes",null,null,null,null,null,null,null,null,null,null,"8-15",null,"8-15",null,"8-15","8-15",null,null,null,null,null,null,null,null,null,null,null,null,"feet",null,"feet",null,"feet","feet"]
["Polyscias guilfoylei",{"$error":"#N/A"},"Yes","No","No",{"$f":"IF($I$4=TRUE,INDEX($BZ$29:$DC1942,MATCH($A425,$AZ$29:$AZ$1000,0),MATCH($AC$2,$BZ$18:$DC$18,0)),\"Yes\")","v":"Yes"},"Yes","Yes","Yes","Yes","Yes","Yes","Yes","Yes",{"$error":"#N/A"},{"$error":"#N/A"},"Yes","Yes","Yes","Yes",{"$error":"#N/A"},{"$error":"#N/A"},{"$error":"#N/A"},{"$error":"#N/A"},null,null,null,null,null,null,null,null,null,null,null,null,null,null,null,null,null,null,null,null,null,null,null,null,null,null,null,"Polyscias guilfoylei","panax, kahili","panax","tagitagi, geranium aralia, panax","chelebingal, kob, panax","panax","panax","panax","yabung, panax","panax",0,2000,25,240,"Yes","No","Yes","No","No","Tree","No","No",0,"1-25","1-3",15,"Yes","No","Yes","No","Yes","No","Yes","No","Yes","No","Yes","No","Yes","No","Yes","No","Yes","No","Yes","No","Yes","No","Yes","No","Yes","No","Yes","No","Yes","No","Ground termites can get into the dead wood portion of the stem.  Grows from cuttings.","Naturalized in Guam, Saipan, Cultivated in majority of Micronesia",null,null,null,null,null,"Yes","No","No","No","No","No","No","No","Yes","No","No","No","No","No","No","Yes","No","Yes",null,null,null,null,null,null,null,null,null,null,"6-10",null,"6-10",null,"6-10","6-10",null,null,null,null,null,null,null,null,null,null,null,null,"feet",null,"feet",null,"feet","feet"]
["Polyscias hawaiensis",{"$error":"#N/A"},"Yes","No","No",{"$f":"IF($I$4=TRUE,INDEX($BZ$29:$DC1943,MATCH($A426,$AZ$29:$AZ$1000,0),MATCH($AC$2,$BZ$18:$DC$18,0)),\"Yes\")","v":"Yes"},"Yes","Yes","Yes","Yes","Yes","Yes","Yes","Yes",{"$error":"#N/A"},{"$error":"#N/A"},"Yes","Yes","Yes","Yes",{"$error":"#N/A"},{"$error":"#N/A"},{"$error":"#N/A"},{"$error":"#N/A"},null,null,null,null,null,null,null,null,null,null,null,null,null,null,null,null,null,null,null,null,null,null,null,null,null,null,null,"Polyscias hawaiensis","ohe","ohe","ohe","ohe","ohe","ohe","ohe","ohe","ohe",500,2600,70,200,"Yes","Yes","No","No","No","Tree","No","Yes","n/a","25-40","1-3",20,"Yes","Yes","Yes","No","Yes","Yes","Yes","Yes","Yes","Yes","Yes","No","No","No","No","No","No","No","No","No","No","No","No","No","No","No","No","No","No","No","Synonym = Tetraplasandra hawaiensis.",null,null,null,null,null,null,"Yes","Yes","No","No","No","No","No","No","Yes","No","Yes","No","Yes","No","No","Yes","No","No",null,null,null,null,null,null,null,null,null,null,"8-15",null,"8-15",null,"8-15","8-15",null,null,null,null,null,null,null,null,null,null,null,null,"feet",null,"feet",null,"feet","feet"]
["Polyscias oahuensis",{"$error":"#N/A"},"Yes","No","No",{"$f":"IF($I$4=TRUE,INDEX($BZ$29:$DC1944,MATCH($A427,$AZ$29:$AZ$1000,0),MATCH($AC$2,$BZ$18:$DC$18,0)),\"Yes\")","v":"Yes"},"Yes","Yes","Yes","Yes","Yes","Yes","Yes","Yes",{"$error":"#N/A"},{"$error":"#N/A"},"Yes","Yes","Yes","Yes",{"$error":"#N/A"},{"$error":"#N/A"},{"$error":"#N/A"},{"$error":"#N/A"},null,null,null,null,null,null,null,null,null,null,null,null,null,null,null,null,null,null,null,null,null,null,null,null,null,null,null,"Polyscias oahuensis","ohe mauka","ohe mauka","ohe mauka","ohe mauka","ohe mauka","ohe mauka","ohe mauka","ohe mauka","ohe mauka",800,5000,70,200,"Yes","Yes","No","No","No","Tree","No","Yes","n/a","1-25","1-3",20,"Yes","Yes","Yes","Yes","Yes","Yes","Yes","Yes","Yes","Yes","Yes","Yes","No","No","No","No","No","No","No","No","No","No","No","No","No","No","No","No","No","No","Synonym = Tetraplasandra oahuensis.",null,null,null,null,null,null,"Yes","Yes","No","No","No","No","No","No","Yes","No","Yes","No","Yes","No","No","Yes","No","No",null,null,null,null,null,null,null,null,null,null,"8-15",null,"8-15",null,"8-15","8-15",null,null,null,null,null,null,null,null,null,null,null,null,"feet",null,"feet",null,"feet","feet"]
["Polyscias sandwicensis",{"$error":"#N/A"},"Yes","No","No",{"$f":"IF($I$4=TRUE,INDEX($BZ$29:$DC1945,MATCH($A428,$AZ$29:$AZ$1000,0),MATCH($AC$2,$BZ$18:$DC$18,0)),\"Yes\")","v":"Yes"},"Yes","Yes","Yes","Yes","Yes","Yes","Yes","Yes",{"$error":"#N/A"},{"$error":"#N/A"},"Yes","Yes","Yes","Yes",{"$error":"#N/A"},{"$error":"#N/A"},{"$error":"#N/A"},{"$error":"#N/A"},null,null,null,null,null,null,null,null,null,null,null,null,null,null,null,null,null,null,null,null,null,null,null,null,null,null,null,"Polyscias sandwicensis","ohe makai","ohe makai","ohe makai","ohe makai","ohe makai","ohe makai","ohe makai","ohe makai","ohe makai",20,2600,10,80,"Yes","No","Yes","No","No","Tree","No","Yes","n/a","40+","1-3",20,"Yes","Yes","Yes","No","Yes","Yes","Yes","Yes","Yes","Yes","Yes","Yes","No","No","No","No","No","No","No","No","No","No","No","No","No","No","No","No","No","No","Dry to occasionally mesic forest.","Synonym = Reynoldsia.",null,null,null,null,null,"Yes","Yes","No","No","No","No","No","No","Yes","No","Yes","No","Yes","No","No","Yes","No","No",null,null,null,null,null,null,null,null,null,null,"10-20",null,"10-20",null,"10-20","10-20",null,null,null,null,null,null,null,null,null,null,null,null,"feet",null,"feet",null,"feet","feet"]
["Pometia pinnata",{"$error":"#N/A"},"Yes","No","No",{"$f":"IF($I$4=TRUE,INDEX($BZ$29:$DC1946,MATCH($A429,$AZ$29:$AZ$1000,0),MATCH($AC$2,$BZ$18:$DC$18,0)),\"Yes\")","v":"Yes"},"Yes","Yes","Yes","Yes","Yes","Yes","Yes","Yes",{"$error":"#N/A"},{"$error":"#N/A"},"Yes","Yes","Yes","Yes",{"$error":"#N/A"},{"$error":"#N/A"},{"$error":"#N/A"},{"$error":"#N/A"},null,null,null,null,null,null,null,null,null,null,null,null,null,null,null,null,null,null,null,null,null,null,null,null,null,null,null,"Pometia pinnata","tava, matoa","tava, matoa","tava, matoa","tava, matoa","tava, matoa","tava, matoa","tava, matoa","tava, matoa","tava, matoa",20,1650,70,200,"Yes","Yes","No","No","No","Tree","No","Yes","n/a","40+","1-3",20,"No","No","No","No","No","No","No","No","No","No","No","No","Yes","Yes","No","No","No","No","No","No","No","No","No","No","No","No","No","No","No","No",null,null,null,null,null,null,null,"Yes","No","No","No","No","No","No","No","Yes","No","Yes","No","Yes","No","Yes","Yes","No","No",null,null,null,null,null,null,null,null,null,null,"10-20",null,"10-20",null,"10-20","10-20",null,null,null,null,null,null,null,null,null,null,null,null,"feet",null,"feet",null,"feet","feet"]
["Portulaca grandiflora",{"$error":"#N/A"},"Yes","No","No",{"$f":"IF($I$4=TRUE,INDEX($BZ$29:$DC1947,MATCH($A430,$AZ$29:$AZ$1000,0),MATCH($AC$2,$BZ$18:$DC$18,0)),\"Yes\")","v":"Yes"},"Yes","Yes","Yes","Yes","Yes","Yes","Yes","Yes",{"$error":"#N/A"},{"$error":"#N/A"},"Yes","Yes","Yes","Yes",{"$error":"#N/A"},{"$error":"#N/A"},{"$error":"#N/A"},{"$error":"#N/A"},null,null,null,null,null,null,null,null,null,null,null,null,null,null,null,null,null,null,null,null,null,null,null,null,null,null,null,"Portulaca grandiflora","moss rose","moss rose","moss rose","moss rose","moss rose","moss rose","moss rose","moss rose","moss rose",0,4000,20,120,"Yes","No","Yes","Yes","No","Herb","No","No",9,"0-1","3+",0,"Yes","No","Yes","No","Yes","No","Yes","No","Yes","No","Yes","No","No","No","No","No","Yes","No","No","No","No","No","No","No","No","No","No","No","No","No",null,null,null,null,null,null,null,"Yes","No","No","No","Yes","No","Yes","No","No","No","No","No","No","No","No","No","No","No",null,null,null,null,80,null,40,null,null,null,"",null,"",null,"","",null,null,null,null,null,null,"bu/ac",null,"bu/ac",null,null,null,"",null,"",null,"",""]
["Portulaca lutea",{"$error":"#N/A"},"Yes","No","No",{"$f":"IF($I$4=TRUE,INDEX($BZ$29:$DC1948,MATCH($A431,$AZ$29:$AZ$1000,0),MATCH($AC$2,$BZ$18:$DC$18,0)),\"Yes\")","v":"Yes"},"Yes","Yes","Yes","Yes","Yes","Yes","Yes","Yes",{"$error":"#N/A"},{"$error":"#N/A"},"Yes","Yes","Yes","Yes",{"$error":"#N/A"},{"$error":"#N/A"},{"$error":"#N/A"},{"$error":"#N/A"},null,null,null,null,null,null,null,null,null,null,null,null,null,null,null,null,null,null,null,null,null,null,null,null,null,null,null,"Portulaca lutea","ihi, yellow purselane","yellow purselane","tamole, yellow purselane","yellow purselane","yellow purselane","yellow purselane","yellow purselane","yellow purselane","yellow purselane",0,400,15,120,"Yes","No","Yes","Yes","No","Herb","No","Yes","n/a","0-1","3+",0,"Yes","Yes","Yes","Yes","Yes","Yes","Yes","Yes","Yes","Yes","Yes","Yes","Yes","Yes","No","No","No","No","No","No","No","No","No","No","No","No","No","No","No","No",null,null,null,null,null,null,null,"Yes","No","No","No","No","No","No","No","No","No","No","No","No","Yes","No","No","No","No",null,null,null,null,null,null,null,null,null,null,"",null,"",null,"","",null,null,null,null,null,null,null,null,null,null,null,null,"",null,"",null,"",""]
["Portulaca samoensis",{"$error":"#N/A"},"Yes","No","No",{"$f":"IF($I$4=TRUE,INDEX($BZ$29:$DC1949,MATCH($A432,$AZ$29:$AZ$1000,0),MATCH($AC$2,$BZ$18:$DC$18,0)),\"Yes\")","v":"Yes"},"Yes","Yes","Yes","Yes","Yes","Yes","Yes","Yes",{"$error":"#N/A"},{"$error":"#N/A"},"Yes","Yes","Yes","Yes",{"$error":"#N/A"},{"$error":"#N/A"},{"$error":"#N/A"},{"$error":"#N/A"},null,null,null,null,null,null,null,null,null,null,null,null,null,null,null,null,null,null,null,null,null,null,null,null,null,null,null,"Portulaca samoensis","tamole","tamole","tamole","tamole","tamole","tamole","tamole","tamole","tamole",0,150,70,200,"Yes","No","Yes","Yes","No","Herb","No","Yes","n/a","0-1","3+",0,"No","No","No","No","No","No","No","No","No","No","No","No","Yes","Yes","No","No","No","No","Yes","Yes","No","No","No","No","No","No","No","No","No","No",null,null,null,null,null,null,null,"Yes","No","No","No","No","No","No","No","No","No","No","No","No","No","No","No","No","No",null,null,null,null,null,null,null,null,null,null,"",null,"",null,"","",null,null,null,null,null,null,null,null,null,null,null,null,"",null,"",null,"",""]
["Pouteria caimito",{"$error":"#N/A"},"Yes","No","No",{"$f":"IF($I$4=TRUE,INDEX($BZ$29:$DC1950,MATCH($A433,$AZ$29:$AZ$1000,0),MATCH($AC$2,$BZ$18:$DC$18,0)),\"Yes\")","v":"Yes"},"Yes","Yes","Yes","Yes","Yes","Yes","Yes","Yes",{"$error":"#N/A"},{"$error":"#N/A"},"Yes","Yes","Yes","Yes",{"$error":"#N/A"},{"$error":"#N/A"},{"$error":"#N/A"},{"$error":"#N/A"},null,null,null,null,null,null,null,null,null,null,null,null,null,null,null,null,null,null,null,null,null,null,null,null,null,null,null,"Pouteria caimito","abiu","abiu","abiu","abiu","abiu","abiu","abiu","abiu","abiu",100,3000,80,200,"Yes","No","No","No","No","Tree","No","No",-4,"1-25","1-3",20,"Yes","No","Yes","No","Yes","No","Yes","No","Yes","No","Yes","No","Yes","No","Yes","No","Yes","No","Yes","No","Yes","No","Yes","No","Yes","No","Yes","No","Yes","No",null,null,null,null,null,null,null,"Yes","Yes","No","No","No","No","No","No","Yes","No","Yes","No","Yes","No","Yes","Yes","No","No",null,null,null,null,null,null,null,null,null,null,"8-15",null,"8-15",null,"8-15","8-15"]
["Pouteria obovata",{"$error":"#N/A"},"Yes","No","No",{"$f":"IF($I$4=TRUE,INDEX($BZ$29:$DC1951,MATCH($A434,$AZ$29:$AZ$1000,0),MATCH($AC$2,$BZ$18:$DC$18,0)),\"Yes\")","v":"Yes"},"Yes","Yes","Yes","Yes","Yes","Yes","Yes","Yes",{"$error":"#N/A"},{"$error":"#N/A"},"Yes","Yes","Yes","Yes",{"$error":"#N/A"},{"$error":"#N/A"},{"$error":"#N/A"},{"$error":"#N/A"},null,null,null,null,null,null,null,null,null,null,null,null,null,null,null,null,null,null,null,null,null,null,null,null,null,null,null,"Pouteria obovata","lalaha","lalaha, nyolon","lalaha","chelangel","lalaha","lalaha","lalaha","lalaha","lalaha",20,1700,70,170,"Yes","No","No","No","No","Tree","No","Yes","n/a","25-40","1-3",20,"No","No","No","No","No","No","No","No","No","No","No","No","No","No","Yes","Yes","Yes","Yes","No","No","No","No","No","No","Yes","Yes","Yes","Yes","No","No",null,null,null,null,null,null,null,"Yes","Yes","No","No","No","No","No","No","Yes","No","Yes","No","Yes","No","Yes","Yes","No","Yes",null,null,null,null,null,null,null,null,null,null,"8-15",null,"8-15",null,"8-15","8-15",null,null,null,null,null,null,null,null,null,null,null,null,"feet",null,"feet",null,"feet","feet"]
["Premna obtusifolia",{"$error":"#N/A"},"Yes","No","No",{"$f":"IF($I$4=TRUE,INDEX($BZ$29:$DC1952,MATCH($A435,$AZ$29:$AZ$1000,0),MATCH($AC$2,$BZ$18:$DC$18,0)),\"Yes\")","v":"Yes"},"Yes","Yes","Yes","Yes","Yes","Yes","Yes","Yes",{"$error":"#N/A"},{"$error":"#N/A"},"Yes","Yes","Yes","Yes",{"$error":"#N/A"},{"$error":"#N/A"},{"$error":"#N/A"},{"$error":"#N/A"},null,null,null,null,null,null,null,null,null,null,null,null,null,null,null,null,null,null,null,null,null,null,null,null,null,null,null,"Premna obtusifolia","false elder","ahgao, false elder ","aloalo, false elder","osem, chosm, false elder","topwuk, awr, false elder","fienkack, false elder","nior, lior, false elder","arr, aro yar, false elder","kar, false elder",0,1700,50,240,"Yes","Yes","Yes","Yes","No","Tree","No","Yes","n/a","25-40","1-3",25,"No","No","No","No","No","No","No","No","No","No","No","No","Yes","Yes","Yes","Yes","Yes","Yes","Yes","Yes","Yes","Yes","Yes","Yes","Yes","Yes","Yes","Yes","Yes","Yes","Has potential for use as live fence posts - grows from cuttings.","Indigenous in Guam, CNMI, Pohnpei, Palau and American Samoa",null,null,null,null,null,"Yes","Yes","No","No","No","No","No","No","Yes","No","Yes","No","Yes","No","Yes","Yes","No","Yes",null,null,null,null,null,null,null,null,null,null,"8-15",null,"8-15",null,"8-15","8-15",null,null,null,null,null,null,null,null,null,null,null,null,"feet",null,"feet",null,"feet","feet"]
["Premna serratifolia",{"$error":"#N/A"},"Yes","No","No",{"$f":"IF($I$4=TRUE,INDEX($BZ$29:$DC1953,MATCH($A436,$AZ$29:$AZ$1000,0),MATCH($AC$2,$BZ$18:$DC$18,0)),\"Yes\")","v":"Yes"},"Yes","Yes","Yes","Yes","Yes","Yes","Yes","Yes",{"$error":"#N/A"},{"$error":"#N/A"},"Yes","Yes","Yes","Yes",{"$error":"#N/A"},{"$error":"#N/A"},{"$error":"#N/A"},{"$error":"#N/A"},null,null,null,null,null,null,null,null,null,null,null,null,null,null,null,null,null,null,null,null,null,null,null,null,null,null,null,"Premna serratifolia","ahgao","ahgao","aloalo","osum","topwuk","fienkack","niyoor, wumwukaw","ar","kaar",0,1700,70,120,"Yes","Yes","Yes","Yes","Yes","Tree","No","Yes","n/a","1-25","1-3",15,"No","No","No","No","No","No","No","No","No","No","No","No","Yes","Yes","Yes","Yes","Yes","Yes","Yes","Yes","Yes","Yes","Yes","Yes","Yes","Yes","Yes","Yes","Yes","Yes",null,null,null,null,null,null,null,"Yes","Yes","No","No","No","No","No","No","Yes","No","Yes","No","Yes","No","Yes","Yes","No","Yes",null,null,null,null,null,null,null,null,null,null,"8-15",null,"8-15",null,"8-15","8-15",null,null,null,null,null,null,null,null,null,null,null,null,"feet",null,"feet",null,"feet","feet"]
["Pritchardia arecina",{"$error":"#N/A"},"Yes","No","No",{"$f":"IF($I$4=TRUE,INDEX($BZ$29:$DC1954,MATCH($A437,$AZ$29:$AZ$1000,0),MATCH($AC$2,$BZ$18:$DC$18,0)),\"Yes\")","v":"Yes"},"Yes","Yes","Yes","Yes","Yes","Yes","Yes","Yes",{"$error":"#N/A"},{"$error":"#N/A"},"Yes","Yes","Yes","Yes",{"$error":"#N/A"},{"$error":"#N/A"},{"$error":"#N/A"},{"$error":"#N/A"},null,null,null,null,null,null,null,null,null,null,null,null,null,null,null,null,null,null,null,null,null,null,null,null,null,null,null,"Pritchardia arecina","loulu - 1","loulu - 1","loulu - 1","loulu - 1","loulu - 1","loulu - 1","loulu - 1","loulu - 1","loulu - 1",2000,4000,70,200,"Yes","Yes","Yes","No","No","Tree","No","Yes","n/a","25-40","0-1",10,"Yes","No","Yes","No","Yes","No","Yes","Yes","Yes","No","Yes","No","No","No","No","No","No","No","No","No","No","No","No","No","No","No","No","No","No","No",null,null,null,null,null,null,null,"Yes","Yes","No","No","No","No","No","No","Yes","No","Yes","No","Yes","No","No","Yes","No","Yes",null,null,null,null,null,null,null,null,null,null,"8-20",null,"8-20",null,"8-20","8-20",null,null,null,null,null,null,null,null,null,null,null,null,"feet",null,"feet",null,"feet","feet"]
["Pritchardia beccariana",{"$error":"#N/A"},"Yes","No","No",{"$f":"IF($I$4=TRUE,INDEX($BZ$29:$DC1955,MATCH($A438,$AZ$29:$AZ$1000,0),MATCH($AC$2,$BZ$18:$DC$18,0)),\"Yes\")","v":"Yes"},"Yes","Yes","Yes","Yes","Yes","Yes","Yes","Yes",{"$error":"#N/A"},{"$error":"#N/A"},"Yes","Yes","Yes","Yes",{"$error":"#N/A"},{"$error":"#N/A"},{"$error":"#N/A"},{"$error":"#N/A"},null,null,null,null,null,null,null,null,null,null,null,null,null,null,null,null,null,null,null,null,null,null,null,null,null,null,null,"Pritchardia beccariana","loulu - 3","loulu - 3","loulu - 3","loulu - 3","loulu - 3","loulu - 3","loulu - 3","loulu - 3","loulu - 3",3000,4200,70,200,"Yes","Yes","Yes","No","No","Tree","No","Yes","n/a","40+","0-1",10,"Yes","Yes","Yes","No","Yes","No","Yes","No","Yes","No","Yes","No","No","No","No","No","No","No","No","No","No","No","No","No","No","No","No","No","No","No","Mauna Loa.",null,null,null,null,null,null,"Yes","Yes","No","No","No","No","No","No","Yes","No","Yes","No","Yes","No","No","Yes","No","Yes",null,null,null,null,null,null,null,null,null,null,"8-20",null,"8-20",null,"8-20","8-20",null,null,null,null,null,null,null,null,null,null,null,null,"feet",null,"feet",null,"feet","feet"]
["Pritchardia flynii",{"$error":"#N/A"},"Yes","No","No",{"$f":"IF($I$4=TRUE,INDEX($BZ$29:$DC1956,MATCH($A439,$AZ$29:$AZ$1000,0),MATCH($AC$2,$BZ$18:$DC$18,0)),\"Yes\")","v":"Yes"},"Yes","Yes","Yes","Yes","Yes","Yes","Yes","Yes",{"$error":"#N/A"},{"$error":"#N/A"},"Yes","Yes","Yes","Yes",{"$error":"#N/A"},{"$error":"#N/A"},{"$error":"#N/A"},{"$error":"#N/A"},null,null,null,null,null,null,null,null,null,null,null,null,null,null,null,null,null,null,null,null,null,null,null,null,null,null,null,"Pritchardia flynii","loulu - 4","loulu - 4","loulu - 4","loulu - 4","loulu - 4","loulu - 4","loulu - 4","loulu - 4","loulu - 4",20,2800,70,200,"Yes","Yes","Yes","No","No","Tree","No","Yes","n/a","1-25","0-1",8,"Yes","No","Yes","Yes","Yes","No","Yes","No","Yes","No","Yes","No","No","No","No","No","No","No","No","No","No","No","No","No","No","No","No","No","No","No",null,null,null,null,null,null,null,"Yes","Yes","No","No","No","No","No","No","Yes","No","Yes","No","Yes","No","No","Yes","No","Yes",null,null,null,null,null,null,null,null,null,null,"8-20",null,"8-20",null,"8-20","8-20",null,null,null,null,null,null,null,null,null,null,null,null,"feet",null,"feet",null,"feet","feet"]
["Pritchardia forbesiana",{"$error":"#N/A"},"Yes","No","No",{"$f":"IF($I$4=TRUE,INDEX($BZ$29:$DC1957,MATCH($A440,$AZ$29:$AZ$1000,0),MATCH($AC$2,$BZ$18:$DC$18,0)),\"Yes\")","v":"Yes"},"Yes","Yes","Yes","Yes","Yes","Yes","Yes","Yes",{"$error":"#N/A"},{"$error":"#N/A"},"Yes","Yes","Yes","Yes",{"$error":"#N/A"},{"$error":"#N/A"},{"$error":"#N/A"},{"$error":"#N/A"},null,null,null,null,null,null,null,null,null,null,null,null,null,null,null,null,null,null,null,null,null,null,null,null,null,null,null,"Pritchardia forbesiana","loulu - 5","loulu - 5","loulu - 5","loulu - 5","loulu - 5","loulu - 5","loulu - 5","loulu - 5","loulu - 5",1000,4000,40,120,"Yes","Yes","Yes","No","No","Shrub","No","Yes","n/a","1-25","0-1",5,"Yes","No","Yes","No","Yes","No","Yes","Yes","Yes","No","Yes","No","No","No","No","No","No","No","No","No","No","No","No","No","No","No","No","No","No","No",null,null,null,null,null,null,null,"Yes","Yes","No","No","No","No","No","No","Yes","No","Yes","No","Yes","No","No","Yes","No","Yes",null,null,null,null,null,null,null,null,null,null,"",null,"",null,"","",null,null,null,null,null,null,null,null,null,null,null,null,"",null,"",null,"",""]
["Pritchardia glabrata",{"$error":"#N/A"},"Yes","No","No",{"$f":"IF($I$4=TRUE,INDEX($BZ$29:$DC1958,MATCH($A441,$AZ$29:$AZ$1000,0),MATCH($AC$2,$BZ$18:$DC$18,0)),\"Yes\")","v":"Yes"},"Yes","Yes","Yes","Yes","Yes","Yes","Yes","Yes",{"$error":"#N/A"},{"$error":"#N/A"},"Yes","Yes","Yes","Yes",{"$error":"#N/A"},{"$error":"#N/A"},{"$error":"#N/A"},{"$error":"#N/A"},null,null,null,null,null,null,null,null,null,null,null,null,null,null,null,null,null,null,null,null,null,null,null,null,null,null,null,"Pritchardia glabrata","loulu - 6","loulu - 6","loulu - 6","loulu - 6","loulu - 6","loulu - 6","loulu - 6","loulu - 6","loulu - 6",20,2000,40,120,"Yes","Yes","Yes","No","No","Shrub","No","Yes","n/a","1-25","0-1",5,"Yes","No","Yes","No","Yes","Yes","Yes","Yes","Yes","No","Yes","No","No","No","No","No","No","No","No","No","No","No","No","No","No","No","No","No","No","No",null,null,null,null,null,null,null,"Yes","Yes","No","No","No","No","No","No","Yes","No","Yes","No","Yes","No","No","Yes","No","Yes",null,null,null,null,null,null,null,null,null,null,"",null,"",null,"","",null,null,null,null,null,null,null,null,null,null,null,null,"",null,"",null,"",""]
["Pritchardia gordonii",{"$error":"#N/A"},"Yes","No","No",{"$f":"IF($I$4=TRUE,INDEX($BZ$29:$DC1959,MATCH($A442,$AZ$29:$AZ$1000,0),MATCH($AC$2,$BZ$18:$DC$18,0)),\"Yes\")","v":"Yes"},"Yes","Yes","Yes","Yes","Yes","Yes","Yes","Yes",{"$error":"#N/A"},{"$error":"#N/A"},"Yes","Yes","Yes","Yes",{"$error":"#N/A"},{"$error":"#N/A"},{"$error":"#N/A"},{"$error":"#N/A"},null,null,null,null,null,null,null,null,null,null,null,null,null,null,null,null,null,null,null,null,null,null,null,null,null,null,null,"Pritchardia gordonii","loulu - 7","loulu - 7","loulu - 7","loulu - 7","loulu - 7","loulu - 7","loulu - 7","loulu - 7","loulu - 7",1000,2000,70,200,"Yes","Yes","Yes","No","No","Tree","No","Yes","n/a","40+","0-1",10,"Yes","Yes","Yes","No","Yes","No","Yes","No","Yes","No","Yes","No","No","No","No","No","No","No","No","No","No","No","No","No","No","No","No","No","No","No",null,null,null,null,null,null,null,"Yes","Yes","No","No","No","No","No","No","Yes","No","Yes","No","Yes","No","No","Yes","No","Yes",null,null,null,null,null,null,null,null,null,null,"8-20",null,"8-20",null,"8-20","8-20",null,null,null,null,null,null,null,null,null,null,null,null,"feet",null,"feet",null,"feet","feet"]
["Pritchardia hillebrandii",{"$error":"#N/A"},"Yes","No","No",{"$f":"IF($I$4=TRUE,INDEX($BZ$29:$DC1960,MATCH($A443,$AZ$29:$AZ$1000,0),MATCH($AC$2,$BZ$18:$DC$18,0)),\"Yes\")","v":"Yes"},"Yes","Yes","Yes","Yes","Yes","Yes","Yes","Yes",{"$error":"#N/A"},{"$error":"#N/A"},"Yes","Yes","Yes","Yes",{"$error":"#N/A"},{"$error":"#N/A"},{"$error":"#N/A"},{"$error":"#N/A"},null,null,null,null,null,null,null,null,null,null,null,null,null,null,null,null,null,null,null,null,null,null,null,null,null,null,null,"Pritchardia hillebrandii","loulu - 8","loulu - 8","loulu - 8","loulu - 8","loulu - 8","loulu - 8","loulu - 8","loulu - 8","loulu - 8",100,2000,70,200,"Yes","Yes","Yes","No","No","Tree","No","Yes","n/a","1-25","0-1",8,"Yes","No","Yes","No","Yes","No","Yes","No","Yes","Yes","Yes","No","No","No","No","No","No","No","No","No","No","No","No","No","No","No","No","No","No","No",null,null,null,null,null,null,null,"Yes","Yes","No","No","No","No","No","No","Yes","No","Yes","No","Yes","No","No","Yes","No","Yes",null,null,null,null,null,null,null,null,null,null,"8-20",null,"8-20",null,"8-20","8-20",null,null,null,null,null,null,null,null,null,null,null,null,"feet",null,"feet",null,"feet","feet"]
["Pritchardia kahukuensis",{"$error":"#N/A"},"Yes","No","No",{"$f":"IF($I$4=TRUE,INDEX($BZ$29:$DC1961,MATCH($A444,$AZ$29:$AZ$1000,0),MATCH($AC$2,$BZ$18:$DC$18,0)),\"Yes\")","v":"Yes"},"Yes","Yes","Yes","Yes","Yes","Yes","Yes","Yes",{"$error":"#N/A"},{"$error":"#N/A"},"Yes","Yes","Yes","Yes",{"$error":"#N/A"},{"$error":"#N/A"},{"$error":"#N/A"},{"$error":"#N/A"},null,null,null,null,null,null,null,null,null,null,null,null,null,null,null,null,null,null,null,null,null,null,null,null,null,null,null,"Pritchardia kahukuensis","loulu - 9","loulu - 9","loulu - 9","loulu - 9","loulu - 9","loulu - 9","loulu - 9","loulu - 9","loulu - 9",1000,3000,50,200,"Yes","Yes","Yes","No","No","Tree","No","Yes","n/a","40+","0-1",10,"Yes","No","Yes","No","Yes","No","Yes","No","Yes","No","Yes","Yes","No","No","No","No","No","No","No","No","No","No","No","No","No","No","No","No","No","No",null,null,null,null,null,null,null,"Yes","Yes","No","No","No","No","No","No","Yes","No","Yes","No","Yes","No","No","Yes","No","Yes",null,null,null,null,null,null,null,null,null,null,"8-20",null,"8-20",null,"8-20","8-20",null,null,null,null,null,null,null,null,null,null,null,null,"feet",null,"feet",null,"feet","feet"]
["Pritchardia lowreyana",{"$error":"#N/A"},"Yes","No","No",{"$f":"IF($I$4=TRUE,INDEX($BZ$29:$DC1962,MATCH($A445,$AZ$29:$AZ$1000,0),MATCH($AC$2,$BZ$18:$DC$18,0)),\"Yes\")","v":"Yes"},"Yes","Yes","Yes","Yes","Yes","Yes","Yes","Yes",{"$error":"#N/A"},{"$error":"#N/A"},"Yes","Yes","Yes","Yes",{"$error":"#N/A"},{"$error":"#N/A"},{"$error":"#N/A"},{"$error":"#N/A"},null,null,null,null,null,null,null,null,null,null,null,null,null,null,null,null,null,null,null,null,null,null,null,null,null,null,null,"Pritchardia lowreyana","loulu - 10","loulu - 10","loulu - 10","loulu - 10","loulu - 10","loulu - 10","loulu - 10","loulu - 10","loulu - 10",425,3000,40,120,"Yes","Yes","Yes","No","No","Shrub","No","Yes","n/a","1-25","0-1",5,"Yes","No","Yes","No","Yes","No","Yes","No","Yes","Yes","Yes","Yes","No","No","No","No","No","No","No","No","No","No","No","No","No","No","No","No","No","No",null,null,null,null,null,null,null,"Yes","Yes","No","No","No","No","No","No","Yes","No","Yes","No","Yes","No","No","Yes","No","Yes",null,null,null,null,null,null,null,null,null,null,"",null,"",null,"","",null,null,null,null,null,null,null,null,null,null,null,null,"",null,"",null,"",""]
["Pritchardia martii",{"$error":"#N/A"},"Yes","No","No",{"$f":"IF($I$4=TRUE,INDEX($BZ$29:$DC1963,MATCH($A446,$AZ$29:$AZ$1000,0),MATCH($AC$2,$BZ$18:$DC$18,0)),\"Yes\")","v":"Yes"},"Yes","Yes","Yes","Yes","Yes","Yes","Yes","Yes",{"$error":"#N/A"},{"$error":"#N/A"},"Yes","Yes","Yes","Yes",{"$error":"#N/A"},{"$error":"#N/A"},{"$error":"#N/A"},{"$error":"#N/A"},null,null,null,null,null,null,null,null,null,null,null,null,null,null,null,null,null,null,null,null,null,null,null,null,null,null,null,"Pritchardia martii","loulu - 11","loulu - 11","loulu - 11","loulu - 11","loulu - 11","loulu - 11","loulu - 11","loulu - 11","loulu - 11",1000,3000,70,200,"Yes","Yes","Yes","No","No","Tree","No","Yes","n/a","25-40","0-1",10,"Yes","No","Yes","No","Yes","No","Yes","No","Yes","No","Yes","Yes","No","No","No","No","No","No","No","No","No","No","No","No","No","No","No","No","No","No",null,null,null,null,null,null,null,"Yes","Yes","No","No","No","No","No","No","Yes","No","Yes","No","Yes","No","No","Yes","No","Yes",null,null,null,null,null,null,null,null,null,null,"8-20",null,"8-20",null,"8-20","8-20",null,null,null,null,null,null,null,null,null,null,null,null,"feet",null,"feet",null,"feet","feet"]
["Pritchardia minor",{"$error":"#N/A"},"Yes","No",{"$f":"IF(A$2=\"Cover Crop (340)\",\"Yes\",IF(ISBLANK($C$7),\"No\",IF(AND($C$7>=BJ447,$C$7<=BK447),\"Yes\",\"No\")))","v":"No"},{"$f":"IF($I$4=TRUE,INDEX($BZ$29:$DC1964,MATCH($A447,$AZ$29:$AZ$1000,0),MATCH($AC$2,$BZ$18:$DC$18,0)),\"Yes\")","v":"Yes"},"Yes","Yes","Yes","Yes","Yes","Yes","Yes","Yes",{"$error":"#N/A"},{"$error":"#N/A"},"Yes","Yes","Yes","Yes",{"$error":"#N/A"},{"$error":"#N/A"},{"$error":"#N/A"},{"$error":"#N/A"},null,null,null,null,null,null,null,null,null,null,null,null,null,null,null,null,null,null,null,null,null,null,null,null,null,null,null,"Pritchardia minor","loulu - 12","loulu - 12","loulu - 12","loulu - 12","loulu - 12","loulu - 12","loulu - 12","loulu - 12","loulu - 12",2500,4000,70,200,"Yes","Yes","Yes","No","No","Tree","No","Yes","n/a","25-40","0-1",10,"Yes","No","Yes","Yes","Yes","No","Yes","No","Yes","No","Yes","No","No","No","No","No","No","No","No","No","No","No","No","No","No","No","No","No","No","No",null,null,null,null,null,null,null,"Yes","Yes","No","No","No","No","No","No","Yes","No","Yes","No","Yes","No","No","Yes","No","Yes",null,null,null,null,null,null,null,null,null,null,"8-20",null,"8-20",null,"8-20","8-20",null,null,null,null,null,null,null,null,null,null,null,null,"feet",null,"feet",null,"feet","feet"]
["Pritchardia perlmanii",{"$error":"#N/A"},"Yes","No","No",{"$f":"IF($I$4=TRUE,INDEX($BZ$29:$DC1965,MATCH($A448,$AZ$29:$AZ$1000,0),MATCH($AC$2,$BZ$18:$DC$18,0)),\"Yes\")","v":"Yes"},"Yes","Yes","Yes","Yes","Yes","Yes","Yes","Yes",{"$error":"#N/A"},{"$error":"#N/A"},"Yes","Yes","Yes","Yes",{"$error":"#N/A"},{"$error":"#N/A"},{"$error":"#N/A"},{"$error":"#N/A"},null,null,null,null,null,null,null,null,null,null,null,null,null,null,null,null,null,null,null,null,null,null,null,null,null,null,null,"Pritchardia perlmanii","loulu - 13","loulu - 13","loulu - 13","loulu - 13","loulu - 13","loulu - 13","loulu - 13","loulu - 13","loulu - 13",1300,2700,70,200,"Yes","Yes","Yes","No","No","Tree","No","Yes","n/a","25-40","0-1",10,"Yes","No","Yes","Yes","Yes","No","Yes","No","Yes","No","Yes","No","No","No","No","No","No","No","No","No","No","No","No","No","No","No","No","No","No","No",null,"Species of Concern in 2014",null,null,null,null,null,"Yes","Yes","No","No","No","No","No","No","Yes","No","Yes","No","Yes","No","No","Yes","No","Yes",null,null,null,null,null,null,null,null,null,null,"8-20",null,"8-20",null,"8-20","8-20",null,null,null,null,null,null,null,null,null,null,null,null,"feet",null,"feet",null,"feet","feet"]
["Pritchardia waialealeana",{"$error":"#N/A"},"Yes","No","No",{"$f":"IF($I$4=TRUE,INDEX($BZ$29:$DC1966,MATCH($A449,$AZ$29:$AZ$1000,0),MATCH($AC$2,$BZ$18:$DC$18,0)),\"Yes\")","v":"Yes"},"Yes","Yes","Yes","Yes","Yes","Yes","Yes","Yes",{"$error":"#N/A"},{"$error":"#N/A"},"Yes","Yes","Yes","Yes",{"$error":"#N/A"},{"$error":"#N/A"},{"$error":"#N/A"},{"$error":"#N/A"},null,null,null,null,null,null,null,null,null,null,null,null,null,null,null,null,null,null,null,null,null,null,null,null,null,null,null,"Pritchardia waialealeana","loulu - 14","loulu - 14","loulu - 14","loulu - 14","loulu - 14","loulu - 14","loulu - 14","loulu - 14","loulu - 14",1300,2700,70,200,"Yes","Yes","Yes","No","Yes","Tree","No","Yes","n/a","40+","0-1",10,"Yes","No","Yes","Yes","Yes","No","Yes","No","Yes","No","Yes","No","No","No","No","No","No","No","No","No","No","No","No","No","No","No","No","No","No","No",null,null,null,null,null,null,null,"Yes","Yes","No","No","No","No","No","No","Yes","No","Yes","No","Yes","No","No","Yes","No","Yes",null,null,null,null,null,null,null,null,null,null,"8-20",null,"8-20",null,"8-20","8-20",null,null,null,null,null,null,null,null,null,null,null,null,"feet",null,"feet",null,"feet","feet"]
["Pritchardia woodii",{"$error":"#N/A"},"Yes","No","No",{"$f":"IF($I$4=TRUE,INDEX($BZ$29:$DC1967,MATCH($A450,$AZ$29:$AZ$1000,0),MATCH($AC$2,$BZ$18:$DC$18,0)),\"Yes\")","v":"Yes"},"Yes","Yes","Yes","Yes","Yes","Yes","Yes","Yes",{"$error":"#N/A"},{"$error":"#N/A"},"Yes","Yes","Yes","Yes",{"$error":"#N/A"},{"$error":"#N/A"},{"$error":"#N/A"},{"$error":"#N/A"},null,null,null,null,null,null,null,null,null,null,null,null,null,null,null,null,null,null,null,null,null,null,null,null,null,null,null,"Pritchardia woodii","loulu - 15","loulu - 15","loulu - 15","loulu - 15","loulu - 15","loulu - 15","loulu - 15","loulu - 15","loulu - 15",3200,6600,70,200,"Yes","Yes","Yes","No","Yes","Tree","No","Yes","n/a","40+","0-1",10,"Yes","No","Yes","No","Yes","No","Yes","Yes","Yes","No","Yes","No","No","No","No","No","No","No","No","No","No","No","No","No","No","No","No","No","No","No",null,"Species of Concern in 2014",null,null,null,null,null,"Yes","Yes","No","No","No","No","No","No","Yes","No","Yes","No","Yes","No","No","Yes","No","Yes",null,null,null,null,null,null,null,null,null,null,"8-20",null,"8-20",null,"8-20","8-20",null,null,null,null,null,null,null,null,null,null,null,null,"feet",null,"feet",null,"feet","feet"]
["Procris pedunculata",{"$error":"#N/A"},"Yes","No","No",{"$f":"IF($I$4=TRUE,INDEX($BZ$29:$DC1968,MATCH($A451,$AZ$29:$AZ$1000,0),MATCH($AC$2,$BZ$18:$DC$18,0)),\"Yes\")","v":"Yes"},"Yes","Yes","Yes","Yes","Yes","Yes","Yes","Yes",{"$error":"#N/A"},{"$error":"#N/A"},"Yes","Yes","Yes","Yes",{"$error":"#N/A"},{"$error":"#N/A"},{"$error":"#N/A"},{"$error":"#N/A"},null,null,null,null,null,null,null,null,null,null,null,null,null,null,null,null,null,null,null,null,null,null,null,null,null,null,null,"Procris pedunculata","shrubby nettle","shrubby nettle","fua lole, shrubby nettle","shrubby nettle","puak at, shrubby nettle","shrubby nettle","shrubby nettle","shrubby nettle","dirigo, shrubby nettle",0,2100,70,200,"Yes","Yes","No","No","No","Shrub","No","Yes","n/a","1-25","1-3",3,"No","No","No","No","No","No","No","No","No","No","No","No","Yes","Yes","No","No","No","No","No","No","No","No","No","No","No","No","No","No","Yes","No",null,null,null,null,null,null,null,"Yes","Yes","No","No","No","No","No","No","Yes","No","Yes","No","Yes","No","No","Yes","No","No",null,null,null,null,null,null,null,null,null,null,"",null,"",null,"","",null,null,null,null,null,null,null,null,null,null,null,null,"",null,"",null,"",""]
["Pseudognaphalium sandwicensium var. hawaiiense",{"$error":"#N/A"},"Yes","No","No",{"$f":"IF($I$4=TRUE,INDEX($BZ$29:$DC1969,MATCH($A452,$AZ$29:$AZ$1000,0),MATCH($AC$2,$BZ$18:$DC$18,0)),\"Yes\")","v":"Yes"},"Yes","Yes","Yes","Yes","Yes","Yes","Yes","Yes",{"$error":"#N/A"},{"$error":"#N/A"},"Yes","Yes","Yes","Yes",{"$error":"#N/A"},{"$error":"#N/A"},{"$error":"#N/A"},{"$error":"#N/A"},null,null,null,null,null,null,null,null,null,null,null,null,null,null,null,null,null,null,null,null,null,null,null,null,null,null,null,"Pseudognaphalium sandwicensium var. hawaiiense","enaena - 1","enaena - 1","enaena - 1","enaena - 1","enaena - 1","enaena - 1","enaena - 1","enaena - 1","enaena - 1",0,10000,15,70,"Yes","No","Yes","Yes","No","Herb","No","Yes","n/a","0-1","0-1",0,"Yes","Yes","Yes","No","Yes","No","Yes","Yes","Yes","No","Yes","No","No","No","No","No","No","No","No","No","No","No","No","No","No","No","No","No","No","No",null,null,null,null,null,null,null,"Yes","No","No","No","No","No","Yes","No","No","No","No","No","No","Yes","No","No","No","No",null,null,null,null,null,null,null,null,null,null,"",null,"",null,"","",null,null,null,null,null,null,null,null,null,null,null,null,"",null,"",null,"",""]
["Pseudognaphalium sandwicensium var. kilaueanum",{"$error":"#N/A"},"Yes","No","No",{"$f":"IF($I$4=TRUE,INDEX($BZ$29:$DC1970,MATCH($A453,$AZ$29:$AZ$1000,0),MATCH($AC$2,$BZ$18:$DC$18,0)),\"Yes\")","v":"Yes"},"Yes","Yes","Yes","Yes","Yes","Yes","Yes","Yes",{"$error":"#N/A"},{"$error":"#N/A"},"Yes","Yes","Yes","Yes",{"$error":"#N/A"},{"$error":"#N/A"},{"$error":"#N/A"},{"$error":"#N/A"},null,null,null,null,null,null,null,null,null,null,null,null,null,null,null,null,null,null,null,null,null,null,null,null,null,null,null,"Pseudognaphalium sandwicensium var. kilaueanum","enaena - 2","enaena - 2","enaena - 2","enaena - 2","enaena - 2","enaena - 2","enaena - 2","enaena - 2","enaena - 2",0,10000,15,70,"Yes","No","Yes","Yes","No","Herb","No","Yes","n/a","0-1","0-1",0,"Yes","Yes","Yes","No","Yes","No","Yes","No","Yes","No","Yes","No","No","No","No","No","No","No","No","No","No","No","No","No","No","No","No","No","No","No",null,null,null,null,null,null,null,"Yes","No","No","No","No","No","Yes","No","No","No","No","No","No","Yes","No","No","No","No",null,null,null,null,null,null,null,null,null,null,"",null,"",null,"","",null,null,null,null,null,null,null,null,null,null,null,null,"",null,"",null,"",""]
["Pseudognaphalium sandwicensium var. sandwicensium",{"$error":"#N/A"},"Yes","No","No",{"$f":"IF($I$4=TRUE,INDEX($BZ$29:$DC1971,MATCH($A454,$AZ$29:$AZ$1000,0),MATCH($AC$2,$BZ$18:$DC$18,0)),\"Yes\")","v":"Yes"},"Yes","Yes","Yes","Yes","Yes","Yes","Yes","Yes",{"$error":"#N/A"},{"$error":"#N/A"},"Yes","Yes","Yes","Yes",{"$error":"#N/A"},{"$error":"#N/A"},{"$error":"#N/A"},{"$error":"#N/A"},null,null,null,null,null,null,null,null,null,null,null,null,null,null,null,null,null,null,null,null,null,null,null,null,null,null,null,"Pseudognaphalium sandwicensium var. sandwicensium","enaena - 3","enaena - 3","enaena - 3","enaena - 3","enaena - 3","enaena - 3","enaena - 3","enaena - 3","enaena - 3",0,10000,15,70,"Yes","No","Yes","Yes","No","Herb","No","Yes","n/a","0-1","0-1",0,"Yes","Yes","Yes","Yes","Yes","Yes","Yes","Yes","Yes","Yes","Yes","Yes","No","No","No","No","No","No","No","No","No","No","No","No","No","No","No","No","No","No",null,null,null,null,null,null,null,"Yes","No","No","No","No","No","Yes","No","No","No","No","No","No","Yes","No","No","No","No",null,null,null,null,null,null,null,null,null,null,"",null,"",null,"","",null,null,null,null,null,null,null,null,null,null,null,null,"",null,"",null,"",""]
["Psychotria fauriei",{"$error":"#N/A"},"Yes","No","No",{"$f":"IF($I$4=TRUE,INDEX($BZ$29:$DC1972,MATCH($A455,$AZ$29:$AZ$1000,0),MATCH($AC$2,$BZ$18:$DC$18,0)),\"Yes\")","v":"Yes"},"Yes","Yes","Yes","Yes","Yes","Yes","Yes","Yes",{"$error":"#N/A"},{"$error":"#N/A"},"Yes","Yes","Yes","Yes",{"$error":"#N/A"},{"$error":"#N/A"},{"$error":"#N/A"},{"$error":"#N/A"},null,null,null,null,null,null,null,null,null,null,null,null,null,null,null,null,null,null,null,null,null,null,null,null,null,null,null,"Psychotria fauriei","kopiko - 1","kopiko - 1","kopiko - 1","kopiko - 1","kopiko - 1","kopiko - 1","kopiko - 1","kopiko - 1","kopiko - 1",1450,2800,70,120,"Yes","Yes","Yes","No","Yes","Tree","No","Yes","n/a","1-25","0-1",12,"Yes","No","Yes","No","Yes","No","Yes","No","Yes","No","Yes","Yes","No","No","No","No","No","No","No","No","No","No","No","No","No","No","No","No","No","No",null,null,null,null,null,null,null,"Yes","No","No","No","No","No","No","No","Yes","No","Yes","No","Yes","No","No","Yes","No","No",null,null,null,null,null,null,null,null,null,null,"8-15",null,"8-15",null,"8-15","8-15",null,null,null,null,null,null,null,null,null,null,null,null,"feet",null,"feet",null,"feet","feet"]
["Psychotria hawaiiensis var. hawaiiensis",{"$error":"#N/A"},"Yes","No","No",{"$f":"IF($I$4=TRUE,INDEX($BZ$29:$DC1973,MATCH($A456,$AZ$29:$AZ$1000,0),MATCH($AC$2,$BZ$18:$DC$18,0)),\"Yes\")","v":"Yes"},"Yes","Yes","Yes","Yes","Yes","Yes","Yes","Yes",{"$error":"#N/A"},{"$error":"#N/A"},"Yes","Yes","Yes","Yes",{"$error":"#N/A"},{"$error":"#N/A"},{"$error":"#N/A"},{"$error":"#N/A"},null,null,null,null,null,null,null,null,null,null,null,null,null,null,null,null,null,null,null,null,null,null,null,null,null,null,null,"Psychotria hawaiiensis var. hawaiiensis","kopiko - 2","kopiko - 2","kopiko - 2","kopiko - 2","kopiko - 2","kopiko - 2","kopiko - 2","kopiko - 2","kopiko - 2",150,5200,50,200,"Yes","Yes","No","No","No","Tree","No","Yes","n/a","25-40","1-3",20,"Yes","Yes","Yes","No","Yes","No","Yes","Yes","Yes","Yes","Yes","No","No","No","No","No","No","No","No","No","No","No","No","No","No","No","No","No","No","No",null,null,null,null,null,null,null,"Yes","No","No","No","No","No","No","No","Yes","No","Yes","No","Yes","No","No","Yes","No","No",null,null,null,null,null,null,null,null,null,null,"8-15",null,"8-15",null,"8-15","8-15",null,null,null,null,null,null,null,null,null,null,null,null,"feet",null,"feet",null,"feet","feet"]
["Psychotria hawaiiensis var. hillebrandii",{"$error":"#N/A"},"Yes","No","No",{"$f":"IF($I$4=TRUE,INDEX($BZ$29:$DC1974,MATCH($A457,$AZ$29:$AZ$1000,0),MATCH($AC$2,$BZ$18:$DC$18,0)),\"Yes\")","v":"Yes"},"Yes","Yes","Yes","Yes","Yes","Yes","Yes","Yes",{"$error":"#N/A"},{"$error":"#N/A"},"Yes","Yes","Yes","Yes",{"$error":"#N/A"},{"$error":"#N/A"},{"$error":"#N/A"},{"$error":"#N/A"},null,null,null,null,null,null,null,null,null,null,null,null,null,null,null,null,null,null,null,null,null,null,null,null,null,null,null,"Psychotria hawaiiensis var. hillebrandii","kopiko - 3","kopiko - 3","kopiko - 3","kopiko - 3","kopiko - 3","kopiko - 3","kopiko - 3","kopiko - 3","kopiko - 3",500,5000,50,200,"Yes","Yes","No","No","No","Tree","No","Yes","n/a","25-40","1-3",20,"Yes","Yes","Yes","No","Yes","No","Yes","Yes","Yes","Yes","Yes","No","No","No","No","No","No","No","No","No","No","No","No","No","No","No","No","No","No","No",null,null,null,null,null,null,null,"Yes","No","No","No","No","No","No","No","Yes","No","Yes","No","Yes","No","No","Yes","No","No",null,null,null,null,null,null,null,null,null,null,"8-15",null,"8-15",null,"8-15","8-15",null,null,null,null,null,null,null,null,null,null,null,null,"feet",null,"feet",null,"feet","feet"]
["Psychotria hawaiiensis var. scoriacea",{"$error":"#N/A"},"Yes","No","No",{"$f":"IF($I$4=TRUE,INDEX($BZ$29:$DC1975,MATCH($A458,$AZ$29:$AZ$1000,0),MATCH($AC$2,$BZ$18:$DC$18,0)),\"Yes\")","v":"Yes"},"Yes","Yes","Yes","Yes","Yes","Yes","Yes","Yes",{"$error":"#N/A"},{"$error":"#N/A"},"Yes","Yes","Yes","Yes",{"$error":"#N/A"},{"$error":"#N/A"},{"$error":"#N/A"},{"$error":"#N/A"},null,null,null,null,null,null,null,null,null,null,null,null,null,null,null,null,null,null,null,null,null,null,null,null,null,null,null,"Psychotria hawaiiensis var. scoriacea","kopiko - 4","kopiko - 4","kopiko - 4","kopiko - 4","kopiko - 4","kopiko - 4","kopiko - 4","kopiko - 4","kopiko - 4",1500,4500,50,200,"Yes","Yes","No","No","No","Tree","No","Yes","n/a","25-40","1-3",20,"Yes","Yes","Yes","No","Yes","No","Yes","Yes","Yes","No","Yes","No","No","No","No","No","No","No","No","No","No","No","No","No","No","No","No","No","No","No",null,null,null,null,null,null,null,"Yes","No","No","No","No","No","No","No","Yes","No","Yes","No","Yes","No","No","Yes","No","No",null,null,null,null,null,null,null,null,null,null,"8-15",null,"8-15",null,"8-15","8-15",null,null,null,null,null,null,null,null,null,null,null,null,"feet",null,"feet",null,"feet","feet"]
["Psychotria insularum",{"$error":"#N/A"},"Yes","No","No",{"$f":"IF($I$4=TRUE,INDEX($BZ$29:$DC1976,MATCH($A459,$AZ$29:$AZ$1000,0),MATCH($AC$2,$BZ$18:$DC$18,0)),\"Yes\")","v":"Yes"},"Yes","Yes","Yes","Yes","Yes","Yes","Yes","Yes",{"$error":"#N/A"},{"$error":"#N/A"},"Yes","Yes","Yes","Yes",{"$error":"#N/A"},{"$error":"#N/A"},{"$error":"#N/A"},{"$error":"#N/A"},null,null,null,null,null,null,null,null,null,null,null,null,null,null,null,null,null,null,null,null,null,null,null,null,null,null,null,"Psychotria insularum","matalafi","matalafi","matalafi","matalafi","matalafi","matalafi","matalafi","matalafi","matalafi",0,3200,80,200,"Yes","Yes","No","No","No","Shrub","No","Yes","n/a","1-25","1-3",8,"No","No","No","No","No","No","No","No","No","No","No","No","Yes","Yes","No","No","No","No","No","No","No","No","No","No","No","No","No","No","No","No",null,null,null,null,null,null,null,"Yes","Yes","No","No","No","No","No","No","Yes","No","Yes","No","Yes","No","No","Yes","No","No",null,null,null,null,null,null,null,null,null,null,"",null,"",null,"","",null,null,null,null,null,null,null,null,null,null,null,null,"",null,"",null,"",""]
["Psychotria mariana",{"$error":"#N/A"},"Yes","No","No",{"$f":"IF($I$4=TRUE,INDEX($BZ$29:$DC1977,MATCH($A460,$AZ$29:$AZ$1000,0),MATCH($AC$2,$BZ$18:$DC$18,0)),\"Yes\")","v":"Yes"},"Yes","Yes","Yes","Yes","Yes","Yes","Yes","Yes",{"$error":"#N/A"},{"$error":"#N/A"},"Yes","Yes","Yes","Yes",{"$error":"#N/A"},{"$error":"#N/A"},{"$error":"#N/A"},{"$error":"#N/A"},null,null,null,null,null,null,null,null,null,null,null,null,null,null,null,null,null,null,null,null,null,null,null,null,null,null,null,"Psychotria mariana","aplokating","aplokating","aplokating","aplokating","aplokating","aplokating","aplokating","aplokating","aplokating",20,1700,70,120,"Yes","Yes","Yes","No","No","Tree","No","Yes","n/a","1-25","1-3",15,"No","No","No","No","No","No","No","No","No","No","No","No","No","No","Yes","Yes","Yes","Yes","No","No","No","No","No","No","Yes","No","No","No","No","No",null,null,null,null,null,null,null,"Yes","Yes","No","No","No","No","No","No","Yes","No","Yes","No","Yes","No","Yes","Yes","No","No",null,null,null,null,null,null,null,null,null,null,"8-15",null,"8-15",null,"8-15","8-15",null,null,null,null,null,null,null,null,null,null,null,null,"feet",null,"feet",null,"feet","feet"]
["Psychotria mauiensis",{"$error":"#N/A"},"Yes","No","No",{"$f":"IF($I$4=TRUE,INDEX($BZ$29:$DC1978,MATCH($A461,$AZ$29:$AZ$1000,0),MATCH($AC$2,$BZ$18:$DC$18,0)),\"Yes\")","v":"Yes"},"Yes","Yes","Yes","Yes","Yes","Yes","Yes","Yes",{"$error":"#N/A"},{"$error":"#N/A"},"Yes","Yes","Yes","Yes",{"$error":"#N/A"},{"$error":"#N/A"},{"$error":"#N/A"},{"$error":"#N/A"},null,null,null,null,null,null,null,null,null,null,null,null,null,null,null,null,null,null,null,null,null,null,null,null,null,null,null,"Psychotria mauiensis","kopiko - 5","kopiko - 5","kopiko - 5","kopiko - 5","kopiko - 5","kopiko - 5","kopiko - 5","kopiko - 5","kopiko - 5",700,4800,70,200,"Yes","Yes","No","No","No","Tree","No","Yes","n/a","1-25","0-1",12,"Yes","Yes","Yes","Yes","Yes","Yes","Yes","Yes","Yes","Yes","Yes","No","No","No","No","No","No","No","No","No","No","No","No","No","No","No","No","No","No","No",null,null,null,null,null,null,null,"Yes","No","No","No","No","No","No","No","Yes","No","Yes","No","Yes","No","No","Yes","No","No",null,null,null,null,null,null,null,null,null,null,"8-15",null,"8-15",null,"8-15","8-15",null,null,null,null,null,null,null,null,null,null,null,null,"feet",null,"feet",null,"feet","feet"]
["Psydrax odorata",{"$error":"#N/A"},"Yes","No","No",{"$f":"IF($I$4=TRUE,INDEX($BZ$29:$DC1979,MATCH($A462,$AZ$29:$AZ$1000,0),MATCH($AC$2,$BZ$18:$DC$18,0)),\"Yes\")","v":"Yes"},"Yes","Yes","Yes","Yes","Yes","Yes","Yes","Yes",{"$error":"#N/A"},{"$error":"#N/A"},"Yes","Yes","Yes","Yes",{"$error":"#N/A"},{"$error":"#N/A"},{"$error":"#N/A"},{"$error":"#N/A"},null,null,null,null,null,null,null,null,null,null,null,null,null,null,null,null,null,null,null,null,null,null,null,null,null,null,null,"Psydrax odorata","alahee","alahee","alahee","alahee","alahee","alahee","alahee","alahee","alahee",0,3000,25,200,"Yes","Yes","Yes","Yes","No","Tree","No","Yes","n/a","1-25","1-3",15,"Yes","Yes","Yes","Yes","Yes","Yes","Yes","Yes","Yes","Yes","Yes","Yes","Yes","Yes","Yes","Yes","Yes","Yes","Yes","Yes","Yes","Yes","Yes","Yes","Yes","Yes","No","No","No","No",null,"Indigenous in Micronesia? http://www2.hawaii.edu/~eherring/hawnprop/psy-odor.htm",null,null,null,null,null,"Yes","Yes","No","No","No","No","No","No","Yes","No","Yes","No","Yes","No","Yes","Yes","No","Yes",null,null,null,null,null,null,null,null,null,null,"8-15",null,"8-15",null,"8-15","8-15",null,null,null,null,null,null,null,null,null,null,null,null,"feet",null,"feet",null,"feet","feet"]
["Pterocarpus indicus",{"$error":"#N/A"},"Yes","No","No",{"$f":"IF($I$4=TRUE,INDEX($BZ$29:$DC1980,MATCH($A463,$AZ$29:$AZ$1000,0),MATCH($AC$2,$BZ$18:$DC$18,0)),\"Yes\")","v":"Yes"},"Yes","Yes","Yes","Yes","Yes","Yes","Yes","Yes",{"$error":"#N/A"},{"$error":"#N/A"},"Yes","Yes","Yes","Yes",{"$error":"#N/A"},{"$error":"#N/A"},{"$error":"#N/A"},{"$error":"#N/A"},null,null,null,null,null,null,null,null,null,null,null,null,null,null,null,null,null,null,null,null,null,null,null,null,null,null,null,"Pterocarpus indicus","narra, Burmese rosewood","nara, angsana, Burmese rosewood","Burmese rosewood","las, Burmese rosewood","Burmese rosewood","Burmese rosewood","Burmese rosewood","arao, Burmese rosewood","Burmese rosewood",0,2500,35,160,"Yes","Yes","Yes","No","No","Tree","Yes","Yes",4,"40+","3+",40,"Yes","No","Yes","No","Yes","No","Yes","No","Yes","No","Yes","No","Yes","No","Yes","Yes","Yes","Yes","Yes","No","Yes","No","Yes","No","Yes","No","Yes","Yes","Yes","No","Grows from cuttings.  Good forage for honey bees.  Drought tolerant.",null,null,null,null,null,null,"Yes","Yes","No","No","No","No","No","No","Yes","No","Yes","No","Yes","No","Yes","Yes","No","Yes",null,null,null,null,null,null,null,null,null,null,"10-20",null,"10-20",null,"10-20","10-20",null,null,null,null,null,null,null,null,null,null,null,null,"feet",null,"feet",null,"feet","feet"]
["Ptychosperma macarthurii",{"$error":"#N/A"},"Yes","No","No",{"$f":"IF($I$4=TRUE,INDEX($BZ$29:$DC1981,MATCH($A464,$AZ$29:$AZ$1000,0),MATCH($AC$2,$BZ$18:$DC$18,0)),\"Yes\")","v":"Yes"},"Yes","Yes","Yes","Yes","Yes","Yes","Yes","Yes",{"$error":"#N/A"},{"$error":"#N/A"},"Yes","Yes","Yes","Yes",{"$error":"#N/A"},{"$error":"#N/A"},{"$error":"#N/A"},{"$error":"#N/A"},null,null,null,null,null,null,null,null,null,null,null,null,null,null,null,null,null,null,null,null,null,null,null,null,null,null,null,"Ptychosperma macarthurii","Macarthur palm","Macarthur palm","Macarthur palm","Macarthur palm","Macarthur palm","Macarthur palm","Macarthur palm","Macarthur palm","Macarthur palm",0,2000,20,240,"Yes","Yes","Yes","No","No","Tree","No","No",4,"25-40","0-1",20,"Yes","No","Yes","No","Yes","No","Yes","No","Yes","No","Yes","No","Yes","No","Yes","No","Yes","No","Yes","No","Yes","No","Yes","No","Yes","No","Yes","No","Yes","No",null,"Naturalized on Oahu and Guam, cultivated elsewhere",null,null,null,null,null,"Yes","Yes","No","No","No","No","No","No","Yes","No","Yes","No","Yes","No","No","Yes","No","Yes",null,null,null,null,null,null,null,null,null,null,"8-20",null,"8-20",null,"8-20","8-20",null,null,null,null,null,null,null,null,null,null,null,null,"feet",null,"feet",null,"feet","feet"]
["Punica granatum",{"$error":"#N/A"},"Yes","No","No",{"$f":"IF($I$4=TRUE,INDEX($BZ$29:$DC1982,MATCH($A465,$AZ$29:$AZ$1000,0),MATCH($AC$2,$BZ$18:$DC$18,0)),\"Yes\")","v":"Yes"},"Yes","Yes","Yes","Yes","Yes","Yes","Yes","Yes",{"$error":"#N/A"},{"$error":"#N/A"},"Yes","Yes","Yes","Yes",{"$error":"#N/A"},{"$error":"#N/A"},{"$error":"#N/A"},{"$error":"#N/A"},null,null,null,null,null,null,null,null,null,null,null,null,null,null,null,null,null,null,null,null,null,null,null,null,null,null,null,"Punica granatum","pomegranate","granada, pomegranate","pomegranate","keralladang, pomegranate","pomegranate","pomegranate","pomegranate","pomegranate","pomegranate",20,4000,25,200,"Yes","No","Yes","No","Yes","Tree","No","No",4,"1-25","0-1",10,"Yes","No","Yes","No","Yes","No","Yes","No","Yes","No","Yes","No","Yes","No","Yes","No","Yes","No","Yes","No","Yes","No","Yes","No","Yes","No","Yes","No","Yes","No",null,null,null,null,null,null,null,"Yes","Yes","No","No","No","No","No","No","Yes","No","Yes","No","Yes","No","No","Yes","No","Yes",null,null,null,null,null,null,null,null,null,null,"8-15",null,"8-15",null,"8-15","8-15",null,null,null,null,null,null,null,null,null,null,null,null,"feet",null,"feet",null,"feet","feet"]
["Rauvolfia sandwicensis",{"$error":"#N/A"},"Yes","No","No",{"$f":"IF($I$4=TRUE,INDEX($BZ$29:$DC1983,MATCH($A466,$AZ$29:$AZ$1000,0),MATCH($AC$2,$BZ$18:$DC$18,0)),\"Yes\")","v":"Yes"},"Yes","Yes","Yes","Yes","Yes","Yes","Yes","Yes",{"$error":"#N/A"},{"$error":"#N/A"},"Yes","Yes","Yes","Yes",{"$error":"#N/A"},{"$error":"#N/A"},{"$error":"#N/A"},{"$error":"#N/A"},null,null,null,null,null,null,null,null,null,null,null,null,null,null,null,null,null,null,null,null,null,null,null,null,null,null,null,"Rauvolfia sandwicensis","hao","hao","hao","hao","hao","hao","hao","hao","hao",200,2600,20,120,"Yes","No","Yes","No","No","Tree","No","Yes","n/a","25-40","1-3",25,"Yes","Yes","Yes","Yes","Yes","Yes","Yes","Yes","Yes","Yes","Yes","Yes","No","No","No","No","No","No","No","No","No","No","No","No","No","No","No","No","No","No","Ridges, slopes and in gulches in mesic forest but also scattered in relatively low-elevation, open, remnant dry forest and dry shrubland and rarely in open margins of low-elevation wet forest, also on lava flows.",null,null,null,null,null,null,"Yes","No","No","No","No","No","No","No","Yes","No","Yes","No","Yes","No","Yes","Yes","No","No",null,null,null,null,null,null,null,null,null,null,"10-20",null,"10-20",null,"10-20","10-20",null,null,null,null,null,null,null,null,null,null,null,null,"feet",null,"feet",null,"feet","feet"]
["Rhus sandwicensis",{"$error":"#N/A"},"Yes","No","No",{"$f":"IF($I$4=TRUE,INDEX($BZ$29:$DC1984,MATCH($A467,$AZ$29:$AZ$1000,0),MATCH($AC$2,$BZ$18:$DC$18,0)),\"Yes\")","v":"Yes"},"Yes","Yes","Yes","Yes","Yes","Yes","Yes","Yes",{"$error":"#N/A"},{"$error":"#N/A"},"Yes","Yes","Yes","Yes",{"$error":"#N/A"},{"$f":"IF(AND(C$7<=X467,C$7>=W467),\"Yes\",\"No\")","v":{"$error":"#N/A"}},{"$error":"#N/A"},{"$error":"#N/A"},null,null,null,null,null,null,null,null,null,null,null,null,null,null,null,null,null,null,null,null,null,null,null,null,null,null,null,"Rhus sandwicensis","neneleau","neneleau","neneleau","neneleau","neneleau","neneleau","neneleau","neneleau","neneleau",500,7000,30,200,"Yes","No","No","No","No","Tree","No","Yes","n/a","1-25","3+",20,"Yes","Yes","Yes","Yes","No","Yes","Yes","Yes","Yes","Yes","Yes","Yes","No","No","No","No","No","No","No","No","No","No","No","No","No","No","No","No","No","No",null,null,null,null,null,null,null,"Yes","No","No","No","No","No","No","No","Yes","No","Yes","No","Yes","No","No","Yes","No","No",null,null,null,null,null,null,null,null,null,null,"8-15",null,"8-15",null,"8-15","8-15",null,null,null,null,null,null,null,null,null,null,null,null,"feet",null,"feet",null,"feet","feet"]
["Rhus taitensis",{"$error":"#N/A"},"Yes","No","No",{"$f":"IF($I$4=TRUE,INDEX($BZ$29:$DC1985,MATCH($A468,$AZ$29:$AZ$1000,0),MATCH($AC$2,$BZ$18:$DC$18,0)),\"Yes\")","v":"Yes"},"Yes","Yes","Yes","Yes","Yes","Yes","Yes","Yes",{"$error":"#N/A"},{"$error":"#N/A"},"Yes","Yes","Yes","Yes",{"$error":"#N/A"},{"$error":"#N/A"},{"$f":"IF(AF$1394=\"Tropical\",BJ468,IF(AND($C$8=\"Winter\",DF468=\"CS\"),BJ468-500,BJ468))","v":{"$error":"#N/A"}},{"$f":"IF(AF$1394=\"Tropical\",BK468,IF(AND($C$8=\"Winter\",DF468=\"WS\"),BK468-500,BK468))","v":{"$error":"#N/A"}},null,null,null,null,null,null,null,null,null,null,null,null,null,null,null,null,null,null,null,null,null,null,null,null,null,null,null,"Rhus taitensis","sumac","lamahu, sumac","tavai, sumac","eues, acones, sumac","sumac","sumac","sumac","galad, sumac","lamahu, sumac",20,2000,70,200,"Yes","No","No","No","No","Tree","No","Yes",7,"1-25","3+",20,"No","No","No","No","No","No","No","No","No","No","No","No","Yes","Yes","Yes","Yes","Yes","Yes","Yes","Yes","Yes","Yes","Yes","Yes","Yes","Yes","Yes","Yes","No","No",null,null,null,null,null,null,null,"Yes","No","No","No","No","No","No","No","Yes","No","Yes","No","Yes","No","No","Yes","No","No",null,null,null,null,null,null,null,null,null,null,"8-15",null,"8-15",null,"8-15","8-15",null,null,null,null,null,null,null,null,null,null,null,null,"feet",null,"feet",null,"feet","feet"]
["Rollinia deliciosa",{"$error":"#N/A"},"Yes","No","No",{"$f":"IF($I$4=TRUE,INDEX($BZ$29:$DC1986,MATCH($A469,$AZ$29:$AZ$1000,0),MATCH($AC$2,$BZ$18:$DC$18,0)),\"Yes\")","v":"Yes"},"Yes","Yes","Yes","Yes","Yes","Yes","Yes","Yes",{"$error":"#N/A"},{"$error":"#N/A"},"Yes","Yes","Yes","Yes",{"$error":"#N/A"},{"$error":"#N/A"},{"$error":"#N/A"},{"$error":"#N/A"},null,null,null,null,null,null,null,null,null,null,null,null,null,null,null,null,null,null,null,null,null,null,null,null,null,null,null,"Rollinia deliciosa","rollinia","rollinia","rollinia","rollinia","rollinia","rollinia","rollinia","rollinia","rollinia",300,3000,60,240,"Yes","No","No","No","No","Tree","No","No","n/a","1-25","1-3",20,"Yes","No","Yes","No","Yes","No","Yes","No","Yes","No","Yes","No","Yes","No","Yes","No","Yes","No","Yes","No","Yes","No","Yes","No","Yes","No","Yes","No","Yes","No",null,null,null,null,null,null,null,"Yes","Yes","No","No","No","No","No","No","Yes","No","Yes","No","Yes","No","Yes","Yes","No","No",null,null,null,null,null,null,null,null,null,null,"8-15",null,"8-15",null,"8-15","8-15",null,null,null,null,null,null,null,null,null,null,null,null,"feet",null,"feet",null,"feet","feet"]
["Rubus hawaiensis",{"$error":"#N/A"},"Yes","No","No",{"$f":"IF($I$4=TRUE,INDEX($BZ$29:$DC1987,MATCH($A470,$AZ$29:$AZ$1000,0),MATCH($AC$2,$BZ$18:$DC$18,0)),\"Yes\")","v":"Yes"},"Yes","Yes","Yes","Yes","Yes","Yes","Yes","Yes",{"$error":"#N/A"},{"$error":"#N/A"},"Yes","Yes","Yes","Yes",{"$error":"#N/A"},{"$error":"#N/A"},{"$error":"#N/A"},{"$error":"#N/A"},null,null,null,null,null,null,null,null,null,null,null,null,null,null,null,null,null,null,null,null,null,null,null,null,null,null,null,"Rubus hawaiensis","akala","akala","akala","akala","akala","akala","akala","akala","akala",1500,10000,40,200,"Yes","Yes","No","No","Yes","Shrub","No","Yes","n/a","1-25","0-1",5,"Yes","Yes","Yes","Yes","Yes","No","Yes","Yes","Yes","Yes","Yes","No","No","No","No","No","No","No","No","No","No","No","No","No","No","No","No","No","No","No",null,null,null,null,null,null,null,"Yes","Yes","No","No","No","No","No","No","Yes","No","Yes","No","Yes","No","No","Yes","No","No",null,null,null,null,null,null,null,null,null,null,"",null,"",null,"","",null,null,null,null,null,null,null,null,null,null,null,null,"",null,"",null,"",""]
["Rumex albescens",{"$error":"#N/A"},"Yes","No","No",{"$f":"IF($I$4=TRUE,INDEX($BZ$29:$DC1988,MATCH($A471,$AZ$29:$AZ$1000,0),MATCH($AC$2,$BZ$18:$DC$18,0)),\"Yes\")","v":"Yes"},"Yes","Yes","Yes","Yes","Yes","Yes","Yes","Yes",{"$error":"#N/A"},{"$error":"#N/A"},"Yes","Yes","Yes","Yes",{"$error":"#N/A"},{"$error":"#N/A"},{"$error":"#N/A"},{"$error":"#N/A"},null,null,null,null,null,null,null,null,null,null,null,null,null,null,null,null,null,null,null,null,null,null,null,null,null,null,null,"Rumex albescens","huahuako","huahuako","huahuako","huahuako","huahuako","huahuako","huahuako","huahuako","huahuako",600,4000,20,120,"Yes","Yes","No","No","No","Shrub","No","Yes","n/a","1-25","0-1",3,"Yes","No","Yes","Yes","Yes","No","Yes","No","Yes","No","Yes","Yes","No","No","No","No","No","No","No","No","No","No","No","No","No","No","No","No","No","No",null,null,null,null,null,null,null,"Yes","Yes","No","No","No","No","No","No","Yes","No","Yes","No","Yes","No","No","Yes","No","No",null,null,null,null,null,null,null,null,null,null,"",null,"",null,"","",null,null,null,null,null,null,null,null,null,null,null,null,"",null,"",null,"",""]
["Rumex giganteus",{"$error":"#N/A"},"Yes","No","No",{"$f":"IF($I$4=TRUE,INDEX($BZ$29:$DC1989,MATCH($A472,$AZ$29:$AZ$1000,0),MATCH($AC$2,$BZ$18:$DC$18,0)),\"Yes\")","v":"Yes"},"Yes","Yes","Yes","Yes","Yes","Yes","Yes","Yes",{"$error":"#N/A"},{"$error":"#N/A"},"Yes","Yes","Yes","Yes",{"$error":"#N/A"},{"$error":"#N/A"},{"$error":"#N/A"},{"$error":"#N/A"},null,null,null,null,null,null,null,null,null,null,null,null,null,null,null,null,null,null,null,null,null,null,null,null,null,null,null,"Rumex giganteus","pawale, uhauhako","pawale, uhauhako","pawale, uhauhako","pawale, uhauhako","pawale, uhauhako","pawale, uhauhako","pawale, uhauhako","pawale, uhauhako","pawale, uhauhako",20,10000,40,200,"Yes","Yes","No","No","No","Shrub","No","Yes","n/a","1-25","0-1",3,"Yes","Yes","Yes","No","Yes","No","Yes","Yes","Yes","Yes","Yes","No","No","No","No","No","No","No","No","No","No","No","No","No","No","No","No","No","No","No",null,null,null,null,null,null,null,"Yes","Yes","No","No","No","No","No","No","Yes","No","Yes","No","Yes","No","No","Yes","No","No",null,null,null,null,null,null,null,null,null,null,"",null,"",null,"","",null,null,null,null,null,null,null,null,null,null,null,null,"",null,"",null,"",""]
["Rumex skottsbergii",{"$error":"#N/A"},"Yes","No","No",{"$f":"IF($I$4=TRUE,INDEX($BZ$29:$DC1990,MATCH($A473,$AZ$29:$AZ$1000,0),MATCH($AC$2,$BZ$18:$DC$18,0)),\"Yes\")","v":"Yes"},"Yes","Yes","Yes","Yes","Yes","Yes","Yes","Yes",{"$error":"#N/A"},{"$error":"#N/A"},"Yes","Yes","Yes","Yes",{"$error":"#N/A"},{"$error":"#N/A"},{"$error":"#N/A"},{"$error":"#N/A"},null,null,null,null,null,null,null,null,null,null,null,null,null,null,null,null,null,null,null,null,null,null,null,null,null,null,null,"Rumex skottsbergii","pawale","pawale","pawale","pawale","pawale","pawale","pawale","pawale","pawale",1500,4250,15,70,"Yes","Yes","No","No","No","Shrub","No","Yes","n/a","1-25","0-1",2,"Yes","Yes","Yes","No","Yes","No","Yes","No","Yes","No","Yes","No","No","No","No","No","No","No","No","No","No","No","No","No","No","No","No","No","No","No",null,null,null,null,null,null,null,"Yes","Yes","No","No","No","No","No","No","Yes","No","Yes","No","Yes","No","No","Yes","No","No",null,null,null,null,null,null,null,null,null,null,"",null,"",null,"","",null,null,null,null,null,null,null,null,null,null,null,null,"",null,"",null,"",""]
["Saccharum hybrid clone Moentai",{"$error":"#N/A"},"Yes","No","No",{"$f":"IF($I$4=TRUE,INDEX($BZ$29:$DC1991,MATCH($A474,$AZ$29:$AZ$1000,0),MATCH($AC$2,$BZ$18:$DC$18,0)),\"Yes\")","v":"Yes"},"Yes","Yes","Yes","Yes","Yes","Yes","Yes","Yes",{"$error":"#N/A"},{"$error":"#N/A"},"Yes","Yes","Yes","Yes",{"$error":"#N/A"},{"$error":"#N/A"},{"$error":"#N/A"},{"$error":"#N/A"},null,null,null,null,null,null,null,null,null,null,null,null,null,null,null,null,null,null,null,null,null,null,null,null,null,null,null,"Saccharum hybrid clone Moentai","wild cane hybrid","tupo, wild cane hybrid","wild cane hybrid","wild cane hybrid","wild cane hybrid","wild cane hybrid","wild cane hybrid","wild cane hybrid","dau, wild cane hybrid",0,3000,35,200,"Yes","No","Yes","No","No","Herb","No","No","n/a","1-25","3+",12,"Yes","No","Yes","No","Yes","No","Yes","No","Yes","No","Yes","No","Yes","No","Yes","No","Yes","No","Yes","No","Yes","No","Yes","No","Yes","No","Yes","No","Yes","No",null,null,null,null,null,null,null,"Yes","No","No","No","No","No","No","No","No","Yes","No","No","No","No","No","No","Yes","No",null,null,null,null,null,null,null,null,null,1,"",null,"",null,"","",2,null,null,null,null,null,null,null,null,null,null,"per ft","",null,"",null,"","","per ft"]
["Sadleria cyatheoides",{"$error":"#N/A"},"Yes","No","No",{"$f":"IF($I$4=TRUE,INDEX($BZ$29:$DC1992,MATCH($A475,$AZ$29:$AZ$1000,0),MATCH($AC$2,$BZ$18:$DC$18,0)),\"Yes\")","v":"Yes"},"Yes","Yes","Yes","Yes","Yes","Yes","Yes","Yes",{"$error":"#N/A"},{"$error":"#N/A"},"Yes","Yes","Yes","Yes",{"$error":"#N/A"},{"$error":"#N/A"},{"$error":"#N/A"},{"$error":"#N/A"},null,null,null,null,null,null,null,null,null,null,null,null,null,null,null,null,null,null,null,null,null,null,null,null,null,null,null,"Sadleria cyatheoides","amau","amau","amau","amau","amau","amau","amau","amau","amau",20,7200,40,200,"Yes","Yes","No","No","No","Shrub","No","No","n/a","1-25","0-1",6,"Yes","Yes","Yes","Yes","Yes","Yes","Yes","Yes","Yes","Yes","Yes","Yes","No","No","No","No","No","No","No","No","No","No","No","No","No","No","No","No","No","No",null,null,null,null,null,null,null,"Yes","Yes","No","No","No","No","No","No","Yes","No","Yes","No","Yes","No","No","Yes","No","No",null,null,null,null,null,null,null,null,null,null,"",null,"",null,"","",null,null,null,null,null,null,null,null,null,null,null,null,"",null,"",null,"",""]
["Samanea saman",{"$error":"#N/A"},"Yes","No","No",{"$f":"IF($I$4=TRUE,INDEX($BZ$29:$DC1993,MATCH($A476,$AZ$29:$AZ$1000,0),MATCH($AC$2,$BZ$18:$DC$18,0)),\"Yes\")","v":"Yes"},"Yes","Yes","Yes","Yes","Yes","Yes","Yes","Yes",{"$error":"#N/A"},{"$error":"#N/A"},"Yes","Yes","Yes","Yes",{"$error":"#N/A"},{"$error":"#N/A"},{"$error":"#N/A"},{"$error":"#N/A"},null,null,null,null,null,null,null,null,null,null,null,null,null,null,null,null,null,null,null,null,null,null,null,null,null,null,null,"Samanea saman","monkeypod, ohai, rain tree","tronkon mames, filinganga, rain tree, monkeypod","tamaligi, rain tree, monkeypod","saman, rain tree, monkeypod","rain tree, monkeypod","rain tree, monkeypod","rain tree, monkeypod","gumor ni spanis, monkeypod","rain tree, monkeypod",0,1000,30,200,"Yes","No","Yes","No","Yes","Tree","Yes","No",4,"40+","3+",50,"Yes","No","Yes","No","Yes","No","Yes","No","Yes","No","Yes","No","Yes","No","Yes","No","Yes","No","Yes","No","Yes","No","Yes","No","Yes","No","Yes","No","Yes","No","Good forage for honey bees.  Leaves and pods suitable for livestock fodder.",null,null,null,null,null,null,"Yes","No","No","No","No","No","No","No","Yes","No","Yes","No","Yes","No","Yes","Yes","No","No",null,null,null,null,null,null,null,null,null,null,"15-40",null,"15-40",null,"15-40","15-40",null,null,null,null,null,null,null,null,null,null,null,null,"feet",null,"feet",null,"feet","feet"]
["Santalum album",{"$f":"IF(A477=0,\"No\",IF(AND(C477=\"Yes\",D477=\"YES\",E477=\"Yes\",F477=\"yes\",G477=\"Yes\",H477=\"Yes\",I477=\"Yes\",J477=\"Yes\",N477=\"Yes\",Q477=\"Yes\",O477=\"Yes\",K477=\"Yes\",P477=\"Yes\",V477=\"Yes\"),\"Yes\",\"No\"))","v":{"$error":"#N/A"}},"Yes","No","No",{"$f":"IF($I$4=TRUE,INDEX($BZ$29:$DC1994,MATCH($A477,$AZ$29:$AZ$1000,0),MATCH($AC$2,$BZ$18:$DC$18,0)),\"Yes\")","v":"Yes"},"Yes","Yes","Yes","Yes","Yes","Yes","Yes","Yes",{"$error":"#N/A"},{"$error":"#N/A"},"Yes","Yes","Yes","Yes",{"$error":"#N/A"},{"$error":"#N/A"},{"$error":"#N/A"},{"$error":"#N/A"},null,null,null,null,null,null,null,null,null,null,null,null,null,null,null,null,null,null,null,null,null,null,null,null,null,null,null,"Santalum album","iliahi, sandalwood - 1","iliahi, sandalwood - 1","asi manogi, sandalwood - 1","iliahi, sandalwood - 1","iliahi, sandalwood - 1","iliahi, sandalwood - 1","iliahi, sandalwood - 1","iliahi, sandalwood - 1","iliahi, sandalwood - 1",20,2300,20,150,"Yes","No","Yes","No","No","Tree","No","Yes",5,"1-25","0-1",12,"Yes","No","Yes","No","Yes","No","Yes","No","Yes","No","Yes","No","Yes","No","Yes","No","Yes","No","Yes","No","Yes","No","Yes","No","Yes","No","Yes","No","Yes","No",null,null,null,null,null,null,null,"Yes","Yes","No","No","No","No","No","No","Yes","No","Yes","No","Yes","No","No","Yes","No","No",null,null,null,null,null,null,null,null,null,null,"8-15",null,"8-15",null,"8-15","8-15",null,null,null,null,null,null,null,null,null,null,null,null,"feet",null,"feet",null,"feet","feet"]
[{"$f":"AZ478","v":"Santalum ellipticum"},{"$error":"#N/A"},"Yes","No","No",{"$f":"IF($I$4=TRUE,INDEX($BZ$29:$DC1995,MATCH($A478,$AZ$29:$AZ$1000,0),MATCH($AC$2,$BZ$18:$DC$18,0)),\"Yes\")","v":"Yes"},{"$f":"IF($K$4=TRUE,VLOOKUP(A478,$AZ$29:$BY$1000,17,FALSE),\"Yes\")","v":"Yes"},{"$f":"IF($J$4=TRUE,VLOOKUP(A478,$AZ$29:$BY$1000,18,FALSE),\"Yes\")","v":"Yes"},{"$f":"IF($L$4=TRUE,VLOOKUP(A478,$AZ$29:$BY$1000,22,FALSE),\"Yes\")","v":"Yes"},{"$f":"IF($M$4=TRUE,VLOOKUP(A478,$AZ$29:$BY$1000,21,FALSE),\"Yes\")","v":"Yes"},"Yes","Yes","Yes",{"$f":"IF($N$4=TRUE,VLOOKUP(A478,$AZ$29:$BY$1000,19,FALSE),\"Yes\")","v":"Yes"},{"$f":"IF($C$5=\"\",\"Yes\",INDEX($BZ$29:$DC$1000,MATCH($AZ478,$AZ$29:$AZ$1000,0),MATCH($AD$1379,$BZ$18:$DC$18,0)))","v":{"$error":"#N/A"}},{"$error":"#N/A"},"Yes","Yes","Yes","Yes",{"$f":"INDEX($BZ$29:$DC$1000,MATCH($AZ478,$AZ$29:$AZ$1000,0),MATCH($AC$2,$BZ$18:$DC$18,0))","v":{"$error":"#N/A"}},{"$error":"#N/A"},{"$error":"#N/A"},{"$error":"#N/A"},null,null,null,null,null,null,null,null,null,null,null,null,null,null,null,null,null,null,null,null,null,null,null,null,null,null,null,"Santalum ellipticum","iliahi, sandalwood - 2","iliahi, sandalwood - 2","iliahi, sandalwood - 2","iliahi, sandalwood - 2","iliahi, sandalwood - 2","iliahi, sandalwood - 2","iliahi, sandalwood - 2","iliahi, sandalwood - 2","iliahi, sandalwood - 2",0,2000,15,70,"Yes","No","Yes","Yes","No","Shrub","No","Yes","n/a","1-25","0-1",5,"Yes","Yes","Yes","Yes","Yes","Yes","Yes","Yes","Yes","Yes","Yes","Yes","No","No","No","No","No","No","No","No","No","No","No","No","No","No","No","No","No","No","Typically low elevation and coastal.",null,null,null,null,null,null,"Yes","Yes","No","No","No","No","No","No","Yes","No","Yes","No","Yes","No","No","Yes","No","No",null,null,null,null,null,null,null,null,null,null,"",null,"",null,"","",null,null,null,null,null,null,null,null,null,null,null,null,"",null,"",null,"",""]
["Santalum freycinetianum",{"$error":"#N/A"},"Yes","No","No",{"$f":"IF($I$4=TRUE,INDEX($BZ$29:$DC1996,MATCH($A479,$AZ$29:$AZ$1000,0),MATCH($AC$2,$BZ$18:$DC$18,0)),\"Yes\")","v":"Yes"},"Yes","Yes","Yes","Yes","Yes","Yes","Yes","Yes",{"$error":"#N/A"},{"$error":"#N/A"},"Yes","Yes","Yes","Yes",{"$error":"#N/A"},{"$error":"#N/A"},{"$error":"#N/A"},{"$error":"#N/A"},null,null,null,null,null,null,null,null,null,null,null,null,null,null,null,null,null,null,null,null,null,null,null,null,null,null,null,"Santalum freycinetianum","iliahi, sandalwood - 3","iliahi, sandalwood - 3","iliahi, sandalwood - 3","iliahi, sandalwood - 3","iliahi, sandalwood - 3","iliahi, sandalwood - 3","iliahi, sandalwood - 3","iliahi, sandalwood - 3","iliahi, sandalwood - 3",800,3100,50,200,"Yes","No","Yes","No","No","Tree","No","Yes","n/a","1-25","0-1",10,"Yes","No","Yes","No","Yes","No","Yes","No","Yes","No","Yes","Yes","No","No","No","No","No","No","No","No","No","No","No","No","No","No","No","No","No","No","Ridges, slopes or gulches, often on aa lava or rocky sites, in dry shrubland and forest, often persisting in areas invaded by non-natives.",null,null,null,null,null,null,"Yes","Yes","No","No","No","No","No","No","Yes","No","Yes","No","Yes","No","No","Yes","No","No",null,null,null,null,null,null,null,null,null,null,"8-15",null,"8-15",null,"8-15","8-15",null,null,null,null,null,null,null,null,null,null,null,null,"feet",null,"feet",null,"feet","feet"]
["Santalum haleakalae var. haleakalae",{"$error":"#N/A"},"Yes","No","No",{"$f":"IF($I$4=TRUE,INDEX($BZ$29:$DC1997,MATCH($A480,$AZ$29:$AZ$1000,0),MATCH($AC$2,$BZ$18:$DC$18,0)),\"Yes\")","v":"Yes"},"Yes","Yes","Yes","Yes","Yes","Yes","Yes","Yes",{"$error":"#N/A"},{"$error":"#N/A"},"Yes","Yes","Yes","Yes",{"$error":"#N/A"},{"$error":"#N/A"},{"$error":"#N/A"},{"$error":"#N/A"},null,null,null,null,null,null,null,null,null,null,null,null,null,null,null,null,null,null,null,null,null,null,null,null,null,null,null,"Santalum haleakalae var. haleakalae","iliahi, sandalwood - 4","iliahi, sandalwood - 4","iliahi, sandalwood - 4","iliahi, sandalwood - 4","iliahi, sandalwood - 4","iliahi, sandalwood - 4","iliahi, sandalwood - 4","iliahi, sandalwood - 4","iliahi, sandalwood - 4",3500,8800,30,120,"Yes","No","Yes","No","No","Tree","No","Yes","n/a","1-25","0-1",8,"Yes","No","Yes","No","Yes","No","Yes","Yes","Yes","No","Yes","No","No","No","No","No","No","No","No","No","No","No","No","No","No","No","No","No","No","No","Rare, East Maui.",null,null,null,null,null,null,"Yes","Yes","No","No","No","No","No","No","Yes","No","Yes","No","Yes","No","No","Yes","No","No",null,null,null,null,null,null,null,null,null,null,"8-15",null,"8-15",null,"8-15","8-15",null,null,null,null,null,null,null,null,null,null,null,null,"feet",null,"feet",null,"feet","feet"]
["Santalum paniculatum var. paniculatum",{"$error":"#N/A"},"Yes","No","No",{"$f":"IF($I$4=TRUE,INDEX($BZ$29:$DC1998,MATCH($A481,$AZ$29:$AZ$1000,0),MATCH($AC$2,$BZ$18:$DC$18,0)),\"Yes\")","v":"Yes"},"Yes","Yes","Yes","Yes","Yes","Yes","Yes","Yes",{"$error":"#N/A"},{"$error":"#N/A"},"Yes","Yes","Yes","Yes",{"$error":"#N/A"},{"$error":"#N/A"},{"$error":"#N/A"},{"$error":"#N/A"},null,null,null,null,null,null,null,null,null,null,null,null,null,null,null,null,null,null,null,null,null,null,null,null,null,null,null,"Santalum paniculatum var. paniculatum","iliahi, sandalwood - 5","iliahi, sandalwood - 5","iliahi, sandalwood - 5","iliahi, sandalwood - 5","iliahi, sandalwood - 5","iliahi, sandalwood - 5","iliahi, sandalwood - 5","iliahi, sandalwood - 5","iliahi, sandalwood - 5",1500,6500,15,150,"Yes","No","Yes","No","No","Shrub","No","Yes","n/a","1-25","0-1",5,"Yes","Yes","Yes","No","Yes","No","Yes","No","Yes","No","Yes","No","No","No","No","No","No","No","No","No","No","No","No","No","No","No","No","No","No","No","Dry woodlands on lava or cinder cones to wet forest.  Good forage for honey bees.",null,null,null,null,null,null,"Yes","Yes","No","No","No","No","No","No","Yes","No","Yes","No","Yes","No","No","Yes","No","No",null,null,null,null,null,null,null,null,null,null,"",null,"",null,"","",null,null,null,null,null,null,null,null,null,null,null,null,"",null,"",null,"",""]
["Santalum paniculatum var. pilgeri",{"$error":"#N/A"},{"$f":"INDEX($DK$29:$EC$1000,MATCH(AZ482,$AZ$29:$AZ$1000,0),MATCH($A$2,$DK$18:$EC$18,0))","v":"Yes"},{"$f":"IF(ISBLANK($C$6),\"No\",IF(AND($H$4=TRUE,BM482>$C$6),\"Yes\",IF(AND($C$6>=BL482,$C$6<=BM482),\"Yes\",\"No\")))","v":"No"},"No",{"$f":"IF($I$4=TRUE,INDEX($BZ$29:$DC1999,MATCH($A482,$AZ$29:$AZ$1000,0),MATCH($AC$2,$BZ$18:$DC$18,0)),\"Yes\")","v":"Yes"},"Yes","Yes","Yes","Yes",{"$f":"IF(AND(L482=\"Yes\",M482=\"Yes\"),\"Yes\",\"No\")","v":"Yes"},{"$f":"IF(AND($O$4=TRUE,BO482=\"Yes\"),\"no\",\"Yes\")","v":"Yes"},{"$f":"IF(AND($P$4=TRUE,BN482=\"Yes\"),\"No\",\"Yes\")","v":"Yes"},"Yes",{"$error":"#N/A"},{"$f":"IF(AND($Q$4=TRUE,U482=\"Yes\"),\"No\",IF(AND($Q$4=TRUE,U482=\"No\"),\"yes\",\"Yes\"))","v":{"$error":"#N/A"}},{"$f":"IF(OR(R482=\"Yes\",S482=\"Yes\",T482=\"Yes\"),\"Yes\",\"No\")","v":"Yes"},{"$f":"IF($W$7=\"Yes\",\"Yes\",IF($T$13=BS482,\"Yes\",\"No\"))","v":"Yes"},{"$f":"IF($W$7=\"Yes\",\"Yes\",IF($U$13=BS482,\"Yes\",\"No\"))","v":"Yes"},{"$f":"IF($W$7=\"Yes\",\"Yes\",IF($V$13=BS482,\"Yes\",\"No\"))","v":"Yes"},{"$error":"#N/A"},{"$error":"#N/A"},{"$error":"#N/A"},{"$error":"#N/A"},null,null,null,null,null,null,null,null,null,null,null,null,null,null,null,null,null,null,null,null,null,null,null,null,null,null,null,"Santalum paniculatum var. pilgeri","iliahi, sandalwood - 6","iliahi, sandalwood - 6","iliahi, sandalwood - 6","iliahi, sandalwood - 6","iliahi, sandalwood - 6","iliahi, sandalwood - 6","iliahi, sandalwood - 6","iliahi, sandalwood - 6","iliahi, sandalwood - 6",1500,6500,15,150,"Yes","No","Yes","No","No","Tree","No","Yes","n/a","1-25","0-1",12,"Yes","Yes","Yes","No","Yes","No","Yes","No","Yes","No","Yes","No","No","No","No","No","No","No","No","No","No","No","No","No","No","No","No","No","No","No","Good forage for honey bees.",null,null,null,null,null,null,"Yes","Yes","No","No","No","No","No","No","Yes","No","Yes","No","Yes","No","No","Yes","No","No",null,null,null,null,null,null,null,null,null,null,"8-15",null,"8-15",null,"8-15","8-15",null,null,null,null,null,null,null,null,null,null,null,null,"feet",null,"feet",null,"feet","feet"]
["Santalum pyrularium",{"$error":"#N/A"},"Yes","No","No",{"$f":"IF($I$4=TRUE,INDEX($BZ$29:$DC2000,MATCH($A483,$AZ$29:$AZ$1000,0),MATCH($AC$2,$BZ$18:$DC$18,0)),\"Yes\")","v":"Yes"},"Yes","Yes","Yes","Yes","Yes","Yes","Yes","Yes",{"$error":"#N/A"},{"$error":"#N/A"},"Yes","Yes","Yes","Yes",{"$error":"#N/A"},{"$error":"#N/A"},{"$error":"#N/A"},{"$error":"#N/A"},null,null,null,null,null,null,null,null,null,null,null,null,null,null,null,null,null,null,null,null,null,null,null,null,null,null,null,"Santalum pyrularium","iliahi, sandalwood - 7","iliahi, sandalwood - 7","iliahi, sandalwood - 7","iliahi, sandalwood - 7","iliahi, sandalwood - 7","iliahi, sandalwood - 7","iliahi, sandalwood - 7","iliahi, sandalwood - 7","iliahi, sandalwood - 7",800,3050,50,200,"Yes","No","Yes","No","No","Tree","No","Yes","n/a","1-25","0-1",10,"Yes","No","Yes","Yes","Yes","No","Yes","No","Yes","No","Yes","No","No","No","No","No","No","No","No","No","No","No","No","No","No","No","No","No","No","No",null,null,null,null,null,null,null,"Yes","Yes","No","No","No","No","No","No","Yes","No","Yes","No","Yes","No","No","Yes","No","No",null,null,null,null,null,null,null,null,null,null,"8-15",null,"8-15",null,"8-15","8-15",null,null,null,null,null,null,null,null,null,null,null,null,"feet",null,"feet",null,"feet","feet"]
["Sapindus oahuensis",{"$error":"#N/A"},"Yes","No","No",{"$f":"IF($I$4=TRUE,INDEX($BZ$29:$DC2001,MATCH($A484,$AZ$29:$AZ$1000,0),MATCH($AC$2,$BZ$18:$DC$18,0)),\"Yes\")","v":"Yes"},"Yes","Yes","Yes","Yes","Yes","Yes","Yes","Yes",{"$error":"#N/A"},{"$error":"#N/A"},"Yes","Yes","Yes","Yes",{"$error":"#N/A"},{"$error":"#N/A"},{"$error":"#N/A"},{"$error":"#N/A"},null,null,null,null,null,null,null,null,null,null,null,null,null,null,null,null,null,null,null,null,null,null,null,null,null,null,null,"Sapindus oahuensis","lonomea, soapberry","soapberry","soapberry","soapberry","soapberry","soapberry","soapberry","soapberry","soapberry",20,3000,30,100,"Yes","Yes","Yes","No","No","Tree","No","Yes","n/a","25-40","3+",30,"Yes","No","Yes","Yes","Yes","No","Yes","No","Yes","No","Yes","Yes","Yes","Yes","No","No","No","No","No","No","No","No","No","No","No","No","No","No","No","No",null,null,null,null,null,null,null,"Yes","Yes","No","No","No","No","No","No","Yes","No","Yes","No","Yes","No","Yes","Yes","No","Yes",null,null,null,null,null,null,null,null,null,null,"8-15",null,"8-15",null,"8-15","8-15",null,null,null,null,null,null,null,null,null,null,null,null,"feet",null,"feet",null,"feet","feet"]
["Sapindus saponaria",{"$error":"#N/A"},"Yes","No","No",{"$f":"IF($I$4=TRUE,INDEX($BZ$29:$DC2002,MATCH($A485,$AZ$29:$AZ$1000,0),MATCH($AC$2,$BZ$18:$DC$18,0)),\"Yes\")","v":"Yes"},"Yes","Yes","Yes","Yes","Yes","Yes","Yes","Yes",{"$error":"#N/A"},{"$error":"#N/A"},"Yes","Yes","Yes","Yes",{"$error":"#N/A"},{"$error":"#N/A"},{"$error":"#N/A"},{"$error":"#N/A"},null,null,null,null,null,null,null,null,null,null,null,null,null,null,null,null,null,null,null,null,null,null,null,null,null,null,null,"Sapindus saponaria","ae, manele, soapberry","soapberry","soapberry","soapberry","soapberry","soapberry","soapberry","soapberry","soapberry",0,4000,30,100,"Yes","Yes","Yes","No","No","Tree","No","Yes","n/a","40+","1-3",60,"Yes","Yes","Yes","No","Yes","No","Yes","No","Yes","No","Yes","No","Yes","Yes","No","No","No","No","No","No","No","No","No","No","No","No","No","No","No","No","Mesic forests, not known from Mauna Kea.",null,null,null,null,null,null,"Yes","Yes","No","No","No","No","No","No","Yes","No","Yes","No","Yes","No","Yes","Yes","No","Yes",null,null,null,null,null,null,null,null,null,null,"10-20",null,"10-20",null,"10-20","10-20",null,null,null,null,null,null,null,null,null,null,null,null,"feet",null,"feet",null,"feet","feet"]
["Scaevola chamissoniana",{"$error":"#N/A"},"Yes","No","No",{"$f":"IF($I$4=TRUE,INDEX($BZ$29:$DC2003,MATCH($A486,$AZ$29:$AZ$1000,0),MATCH($AC$2,$BZ$18:$DC$18,0)),\"Yes\")","v":"Yes"},"Yes","Yes","Yes","Yes","Yes","Yes","Yes","Yes",{"$error":"#N/A"},{"$error":"#N/A"},"Yes","Yes","Yes","Yes",{"$error":"#N/A"},{"$error":"#N/A"},{"$error":"#N/A"},{"$error":"#N/A"},null,null,null,null,null,null,null,null,null,null,null,null,null,null,null,null,null,null,null,null,null,null,null,null,null,null,null,"Scaevola chamissoniana","naupaka kuahiwi - 1","naupaka kuahiwi - 1","naupaka kuahiwi - 1","naupaka kuahiwi - 1","naupaka kuahiwi - 1","naupaka kuahiwi - 1","naupaka kuahiwi - 1","naupaka kuahiwi - 1","naupaka kuahiwi - 1",800,3400,80,400,"No","Yes","No","No","Yes","Shrub","No","Yes","n/a","1-25","0-1",8,"Yes","Yes","Yes","No","Yes","Yes","Yes","Yes","Yes","Yes","Yes","No","No","No","No","No","No","No","No","No","No","No","No","No","No","No","No","No","No","No",null,null,null,null,null,null,null,"Yes","No","No","No","No","No","No","No","Yes","No","Yes","No","Yes","No","No","Yes","No","No",null,null,null,null,null,null,null,null,null,null,"",null,"",null,"","",null,null,null,null,null,null,null,null,null,null,null,null,"",null,"",null,"",""]
["Scaevola gaudichaudiana",{"$error":"#N/A"},"Yes","No","No",{"$f":"IF($I$4=TRUE,INDEX($BZ$29:$DC2004,MATCH($A487,$AZ$29:$AZ$1000,0),MATCH($AC$2,$BZ$18:$DC$18,0)),\"Yes\")","v":"Yes"},"Yes","Yes","Yes","Yes","Yes","Yes","Yes","Yes",{"$error":"#N/A"},{"$error":"#N/A"},"Yes","Yes","Yes","Yes",{"$error":"#N/A"},{"$error":"#N/A"},{"$error":"#N/A"},{"$error":"#N/A"},null,null,null,null,null,null,null,null,null,null,null,null,null,null,null,null,null,null,null,null,null,null,null,null,null,null,null,"Scaevola gaudichaudiana","naupaka kuahiwi - 2","naupaka kuahiwi - 2","naupaka kuahiwi - 2","naupaka kuahiwi - 2","naupaka kuahiwi - 2","naupaka kuahiwi - 2","naupaka kuahiwi - 2","naupaka kuahiwi - 2","naupaka kuahiwi - 2",400,2600,70,200,"Yes","Yes","Yes","No","No","Shrub","No","Yes","n/a","1-25","1-3",8,"Yes","No","Yes","Yes","Yes","No","Yes","No","Yes","No","Yes","Yes","No","No","No","No","No","No","No","No","No","No","No","No","No","No","No","No","No","No",null,null,null,null,null,null,null,"Yes","Yes","No","No","No","No","No","No","Yes","No","Yes","No","Yes","No","No","Yes","No","No",null,null,null,null,null,null,null,null,null,null,"",null,"",null,"","",null,null,null,null,null,null,null,null,null,null,null,null,"",null,"",null,"",""]
["Scaevola gaudichaudii",{"$error":"#N/A"},"Yes","No","No",{"$f":"IF($I$4=TRUE,INDEX($BZ$29:$DC2005,MATCH($A488,$AZ$29:$AZ$1000,0),MATCH($AC$2,$BZ$18:$DC$18,0)),\"Yes\")","v":"Yes"},"Yes","Yes","Yes","Yes","Yes","Yes","Yes","Yes",{"$error":"#N/A"},{"$error":"#N/A"},"Yes","Yes","Yes","Yes",{"$error":"#N/A"},{"$error":"#N/A"},{"$error":"#N/A"},{"$error":"#N/A"},null,null,null,null,null,null,null,null,null,null,null,null,null,null,null,null,null,null,null,null,null,null,null,null,null,null,null,"Scaevola gaudichaudii","naupaka kuahiwi - 3","naupaka kuahiwi - 3","naupaka kuahiwi - 3","naupaka kuahiwi - 3","naupaka kuahiwi - 3","naupaka kuahiwi - 3","naupaka kuahiwi - 3","naupaka kuahiwi - 3","naupaka kuahiwi - 3",20,2600,15,70,"Yes","No","Yes","No","No","Shrub","No","Yes","n/a","1-25","1-3",3,"Yes","Yes","Yes","Yes","Yes","Yes","Yes","Yes","Yes","Yes","Yes","Yes","No","No","No","No","No","No","No","No","No","No","No","No","No","No","No","No","No","No",null,null,null,null,null,null,null,"Yes","Yes","No","No","No","No","No","No","Yes","No","Yes","No","Yes","No","No","Yes","No","No",null,null,null,null,null,null,null,null,null,null,"",null,"",null,"","",null,null,null,null,null,null,null,null,null,null,null,null,"",null,"",null,"",""]
["Scaevola procera",{"$error":"#N/A"},"Yes","No","No",{"$f":"IF($I$4=TRUE,INDEX($BZ$29:$DC2006,MATCH($A489,$AZ$29:$AZ$1000,0),MATCH($AC$2,$BZ$18:$DC$18,0)),\"Yes\")","v":"Yes"},"Yes","Yes","Yes","Yes","Yes","Yes","Yes","Yes",{"$error":"#N/A"},{"$error":"#N/A"},"Yes","Yes","Yes","Yes",{"$error":"#N/A"},{"$error":"#N/A"},{"$error":"#N/A"},{"$error":"#N/A"},null,null,null,null,null,null,null,null,null,null,null,null,null,null,null,null,null,null,null,null,null,null,null,null,null,null,null,"Scaevola procera","naupaka kuahiwi - 4","naupaka kuahiwi - 4","naupaka kuahiwi - 4","naupaka kuahiwi - 4","naupaka kuahiwi - 4","naupaka kuahiwi - 4","naupaka kuahiwi - 4","naupaka kuahiwi - 4","naupaka kuahiwi - 4",550,2600,70,200,"Yes","Yes","Yes","No","No","Shrub","No","Yes","n/a","1-25","1-3",8,"Yes","No","Yes","Yes","Yes","No","Yes","No","Yes","Yes","Yes","No","No","No","No","No","No","No","No","No","No","No","No","No","No","No","No","No","No","No",null,null,null,null,null,null,null,"Yes","No","No","No","No","No","No","No","Yes","No","Yes","No","Yes","No","No","Yes","No","No",null,null,null,null,null,null,null,null,null,null,"",null,"",null,"","",null,null,null,null,null,null,null,null,null,null,null,null,"",null,"",null,"",""]
["Scaevola taccada",{"$error":"#N/A"},"Yes","No","No",{"$f":"IF($I$4=TRUE,INDEX($BZ$29:$DC2007,MATCH($A490,$AZ$29:$AZ$1000,0),MATCH($AC$2,$BZ$18:$DC$18,0)),\"Yes\")","v":"Yes"},"Yes","Yes","Yes","Yes","Yes","Yes","Yes","Yes",{"$error":"#N/A"},{"$error":"#N/A"},"Yes","Yes","Yes","Yes",{"$error":"#N/A"},{"$error":"#N/A"},{"$error":"#N/A"},{"$error":"#N/A"},null,null,null,null,null,null,null,null,null,null,null,null,null,null,null,null,null,null,null,null,null,null,null,null,null,null,null,"Scaevola taccada","naupaka kahakai, beach cabbage","nanaso, beach cabbage","toitoi, beach cabbage","korrai, rai lechol, beach cabbage","remek, beach cabbage","kusrohsr, kushosh, beach cabbage","nad, ned, amoloset, beach cabbage","nath, thoeth, beach cabbage","konnat, mar kinat, beach cabbage",0,1000,30,200,"Yes","No","Yes","Yes","Yes","Shrub","No","Yes","n/a","1-25","1-3",6,"Yes","Yes","Yes","Yes","Yes","Yes","Yes","Yes","Yes","Yes","Yes","Yes","Yes","Yes","Yes","Yes","Yes","Yes","Yes","Yes","Yes","Yes","Yes","Yes","Yes","Yes","Yes","Yes","Yes","Yes",null,null,null,null,null,null,null,"Yes","Yes","No","No","No","No","No","No","Yes","No","Yes","No","Yes","No","No","Yes","No","Yes",null,null,null,null,null,null,null,null,null,null,"",null,"",null,"","",null,null,null,null,null,null,null,null,null,null,null,null,"",null,"",null,"",""]
["Schefflera arboricola",{"$error":"#N/A"},"Yes","No","No",{"$f":"IF($I$4=TRUE,INDEX($BZ$29:$DC2008,MATCH($A491,$AZ$29:$AZ$1000,0),MATCH($AC$2,$BZ$18:$DC$18,0)),\"Yes\")","v":"Yes"},"Yes","Yes","Yes","Yes","Yes","Yes","Yes","Yes",{"$error":"#N/A"},{"$error":"#N/A"},"Yes","Yes","Yes","Yes",{"$error":"#N/A"},{"$error":"#N/A"},{"$error":"#N/A"},{"$error":"#N/A"},null,null,null,null,null,null,null,null,null,null,null,null,null,null,null,null,null,null,null,null,null,null,null,null,null,null,null,"Schefflera arboricola","dwarf brassaia","dwarf brassaia","dwarf brassaia","dwarf brassaia","dwarf brassaia","dwarf brassaia","dwarf brassaia","dwarf brassaia","dwarf brassaia",0,1000,30,120,"Yes","Yes","Yes","No","No","Shrub","No","No",3,"1-25","1-3",15,"Yes","No","Yes","No","Yes","No","Yes","No","Yes","No","Yes","No","No","No","No","No","No","No","No","No","No","No","No","No","No","No","No","No","No","No",null,"Naturalized on Hawaii, Kauai, Maui and possibly Oahu",null,null,null,null,null,"Yes","No","No","No","No","No","No","No","Yes","No","No","No","No","No","No","Yes","No","Yes",null,null,null,null,null,null,null,null,null,null,"",null,"",null,"","",null,null,null,null,null,null,null,null,null,null,null,null,"",null,"",null,"",""]
["Schiedea globosa",{"$error":"#N/A"},"Yes","No","No",{"$f":"IF($I$4=TRUE,INDEX($BZ$29:$DC2009,MATCH($A492,$AZ$29:$AZ$1000,0),MATCH($AC$2,$BZ$18:$DC$18,0)),\"Yes\")","v":"Yes"},"Yes","Yes","Yes","Yes","Yes","Yes","Yes","Yes",{"$error":"#N/A"},{"$error":"#N/A"},"Yes","Yes","Yes","Yes",{"$error":"#N/A"},{"$error":"#N/A"},{"$error":"#N/A"},{"$error":"#N/A"},null,null,null,null,null,null,null,null,null,null,null,null,null,null,null,null,null,null,null,null,null,null,null,null,null,null,null,"Schiedea globosa","globe schiedea","globe schiedea","globe schiedea","globe schiedea","globe schiedea","globe schiedea","globe schiedea","globe schiedea","globe schiedea",0,1500,20,120,"Yes","No","Yes","Yes","No","Herb","No","Yes","n/a","0-1","0-1",0,"Yes","Yes","Yes","No","Yes","Yes","Yes","Yes","Yes","Yes","Yes","Yes","No","No","No","No","No","No","No","No","No","No","No","No","No","No","No","No","No","No",null,null,null,null,null,null,null,"Yes","No","No","No","No","No","No","No","No","No","No","No","No","No","No","No","No","No",null,null,null,null,null,null,null,null,null,null,"",null,"",null,"","",null,null,null,null,null,null,null,null,null,null,null,null,"",null,"",null,"",""]
["Secale cereale",{"$error":"#N/A"},"Yes","No","No",{"$f":"IF($I$4=TRUE,INDEX($BZ$29:$DC2010,MATCH($A493,$AZ$29:$AZ$1000,0),MATCH($AC$2,$BZ$18:$DC$18,0)),\"Yes\")","v":"Yes"},"Yes","Yes","Yes","Yes","Yes","Yes","Yes","Yes",{"$error":"#N/A"},{"$error":"#N/A"},"Yes","Yes","Yes","Yes",{"$error":"#N/A"},{"$error":"#N/A"},{"$error":"#N/A"},{"$error":"#N/A"},null,null,null,null,null,null,null,null,null,null,null,null,null,null,null,null,null,null,null,null,null,null,null,null,null,null,null,"Secale cereale","rye, cereal ","rye, cereal ","rye, cereal ","rye, cereal ","rye, cereal ","rye, cereal ","rye, cereal ","rye, cereal ","rye, cereal ",1500,2500,40,200,"Yes","No","Yes","Yes","No","Herb","No","No","n/a","1-25","3+",0,"Yes","No","Yes","No","Yes","No","Yes","No","Yes","No","Yes","No","Yes","No","Yes","No","Yes","No","Yes","No","Yes","No","Yes","No","Yes","No","Yes","No","Yes","No","This species performs best in a soil with a pH range of 5.5-7.0.  When allowed to grow for 90 days a producer should expect 1.5 tons of above ground biomass which will contain approximately 18 lbs of Nitrogen per ton.",null,"CS",null,null,null,null,"Yes","No","No","Yes","No","No","No","No","No","No","No","No","No","No","No","No","No","No",null,null,null,70,null,null,null,null,null,null,"",null,"",null,"","",null,null,null,null,null,"lbs/ac",null,null,null,null,null,null,"",null,"",null,"",""]
["Senna gaudichaudii",{"$error":"#N/A"},"Yes","No","No",{"$f":"IF($I$4=TRUE,INDEX($BZ$29:$DC2011,MATCH($A494,$AZ$29:$AZ$1000,0),MATCH($AC$2,$BZ$18:$DC$18,0)),\"Yes\")","v":"Yes"},"Yes","Yes","Yes","Yes","Yes","Yes","Yes","Yes",{"$error":"#N/A"},{"$error":"#N/A"},"Yes","Yes","Yes","Yes",{"$error":"#N/A"},{"$error":"#N/A"},{"$error":"#N/A"},{"$error":"#N/A"},null,null,null,null,null,null,null,null,null,null,null,null,null,null,null,null,null,null,null,null,null,null,null,null,null,null,null,"Senna gaudichaudii","kolomona","kolomona","kolomona","kolomona","kolomona","kolomona","kolomona","kolomona","kolomona",20,3000,12,80,"Yes","Yes","Yes","No","No","Shrub","Yes","Yes","n/a","1-25","1-3",6,"Yes","Yes","Yes","Yes","Yes","Yes","Yes","Yes","Yes","Yes","Yes","Yes","No","No","No","No","No","No","No","No","No","No","No","No","No","No","No","No","No","No","Usually on talus slopes, lava flows or rocky sites in coastal shrubland, disturbed hala forest, dry forest and occasionally lower portions of mesic forest.  Potential forage for use in silvopastures.",null,null,null,null,null,null,"Yes","Yes","No","No","No","No","No","No","Yes","No","Yes","No","Yes","No","Yes","Yes","No","No",null,null,null,null,null,null,null,null,null,null,"",null,"",null,"","",null,null,null,null,null,null,null,null,null,null,null,null,"",null,"",null,"",""]
["Senna siamea",{"$error":"#N/A"},"Yes","No","No",{"$f":"IF($I$4=TRUE,INDEX($BZ$29:$DC2012,MATCH($A495,$AZ$29:$AZ$1000,0),MATCH($AC$2,$BZ$18:$DC$18,0)),\"Yes\")","v":"Yes"},"Yes","Yes","Yes","Yes","Yes","Yes","Yes","Yes",{"$error":"#N/A"},{"$error":"#N/A"},"Yes","Yes","Yes","Yes",{"$error":"#N/A"},{"$error":"#N/A"},{"$error":"#N/A"},{"$error":"#N/A"},null,null,null,null,null,null,null,null,null,null,null,null,null,null,null,null,null,null,null,null,null,null,null,null,null,null,null,"Senna siamea","Pheasant wood, Siamese cassia","Pheasant wood, Siamese cassia","Pheasant wood, Siamese cassia","kassod tree, Siamese cassia","Pheasant wood, Siamese cassia","Pheasant wood, Siamese cassia","Pheasant wood, Siamese cassia","Pheasant wood, Siamese cassia","Pheasant wood, Siamese cassia",0,2500,25,110,"Yes","No","Yes","No","No","Tree","Yes","No",11,"25-40","1-3",35,"Yes","No","Yes","No","Yes","No","Yes","No","Yes","No","Yes","No","No","No","Yes","No","Yes","No","No","No","No","No","No","No","Yes","No","Yes","No","No","No",null,null,null,null,null,null,null,"Yes","Yes","No","No","No","No","No","No","Yes","No","Yes","No","Yes","No","Yes","Yes","No","Yes",null,null,null,null,null,null,null,null,null,null,"8-15",null,"8-15",null,"8-15","8-15",null,null,null,null,null,null,null,null,null,null,null,null,"feet",null,"feet",null,"feet","feet"]
["Sequoia sempervirens",{"$error":"#N/A"},"Yes","No","No",{"$f":"IF($I$4=TRUE,INDEX($BZ$29:$DC2013,MATCH($A496,$AZ$29:$AZ$1000,0),MATCH($AC$2,$BZ$18:$DC$18,0)),\"Yes\")","v":"Yes"},"Yes","Yes","Yes","Yes","Yes","Yes","Yes","Yes",{"$error":"#N/A"},{"$error":"#N/A"},"Yes","Yes","Yes","Yes",{"$error":"#N/A"},{"$error":"#N/A"},{"$error":"#N/A"},{"$error":"#N/A"},null,null,null,null,null,null,null,null,null,null,null,null,null,null,null,null,null,null,null,null,null,null,null,null,null,null,null,"Sequoia sempervirens","redwood","redwood","redwood","redwood","redwood","redwood","redwood","redwood","redwood",20,6200,35,240,"Yes","Yes","No","No","Yes","Tree","No","No",-4,"40+","3+",50,"Yes","No","Yes","No","Yes","No","Yes","No","Yes","No","Yes","No","No","No","No","No","No","No","No","No","No","No","No","No","No","No","No","No","No","No",null,null,null,null,null,null,null,"Yes","No","No","No","No","No","No","No","Yes","No","No","No","Yes","No","Yes","Yes","No","No",null,null,null,null,null,null,null,null,null,null,"10-20",null,"10-20",null,"10-20","10-20"]
["Serianthes kanehirae",{"$error":"#N/A"},"Yes","No","No",{"$f":"IF($I$4=TRUE,INDEX($BZ$29:$DC2014,MATCH($A497,$AZ$29:$AZ$1000,0),MATCH($AC$2,$BZ$18:$DC$18,0)),\"Yes\")","v":"Yes"},"Yes","Yes","Yes","Yes","Yes","Yes","Yes","Yes",{"$error":"#N/A"},{"$error":"#N/A"},"Yes","Yes","Yes","Yes",{"$error":"#N/A"},{"$error":"#N/A"},{"$error":"#N/A"},{"$error":"#N/A"},null,null,null,null,null,null,null,null,null,null,null,null,null,null,null,null,null,null,null,null,null,null,null,null,null,null,null,"Serianthes kanehirae","ukall","ukall","ukall","ukall","ukall","ukall","ukall","ukall","ukall",20,800,70,200,"Yes","Yes","No","No","No","Tree","No","Yes",-5,"25-40","1-3",24,"No","No","No","No","No","No","No","No","No","No","No","No","No","No","No","No","No","No","Yes","Yes","No","No","No","No","No","No","Yes","Yes","No","No",null,null,null,null,null,null,null,"Yes","No","No","No","No","No","No","No","Yes","No","Yes","No","Yes","No","Yes","Yes","No","No",null,null,null,null,null,null,null,null,null,null,"10-20",null,"10-20",null,"10-20","10-20",null,null,null,null,null,null,null,null,null,null,null,null,"feet",null,"feet",null,"feet","feet"]
["Serianthes kanehirae var. yapensis",{"$error":"#N/A"},"Yes","No","No",{"$f":"IF($I$4=TRUE,INDEX($BZ$29:$DC2015,MATCH($A498,$AZ$29:$AZ$1000,0),MATCH($AC$2,$BZ$18:$DC$18,0)),\"Yes\")","v":"Yes"},"Yes","Yes","Yes","Yes","Yes","Yes","Yes","Yes",{"$error":"#N/A"},{"$error":"#N/A"},"Yes","Yes","Yes","Yes",{"$error":"#N/A"},{"$error":"#N/A"},{"$error":"#N/A"},{"$error":"#N/A"},null,null,null,null,null,null,null,null,null,null,null,null,null,null,null,null,null,null,null,null,null,null,null,null,null,null,null,"Serianthes kanehirae var. yapensis","gumor","gumor","gumor","gumor","gumor","gumor","gumor","gumor","gumor",20,550,80,140,"Yes","Yes","No","No","No","Tree","Yes","Yes",-5,"40+","3+",50,"No","No","No","No","No","No","No","No","No","No","No","No","No","No","No","No","No","No","No","No","No","No","No","No","Yes","Yes","No","No","No","No",null,null,null,null,null,null,null,"Yes","Yes","No","No","No","No","No","No","Yes","No","Yes","No","Yes","No","Yes","Yes","No","No",null,null,null,null,null,null,null,null,null,null,"10-20",null,"10-20",null,"10-20","10-20"]
["Sesbania grandiflora",{"$error":"#N/A"},"Yes","No","No",{"$f":"IF($I$4=TRUE,INDEX($BZ$29:$DC2016,MATCH($A499,$AZ$29:$AZ$1000,0),MATCH($AC$2,$BZ$18:$DC$18,0)),\"Yes\")","v":"Yes"},"Yes","Yes","Yes","Yes","Yes","Yes","Yes","Yes",{"$error":"#N/A"},{"$error":"#N/A"},"Yes","Yes","Yes","Yes",{"$error":"#N/A"},{"$error":"#N/A"},{"$error":"#N/A"},{"$error":"#N/A"},null,null,null,null,null,null,null,null,null,null,null,null,null,null,null,null,null,null,null,null,null,null,null,null,null,null,null,"Sesbania grandiflora","ohai keokeo, corkwood","katurai, corkwood","sepania, corkwood tree","katurai, corkwood tree","pakphul, corkwood tree","corkwood tree","corkwood tree","corkwood tree","corkwood tree",0,2500,35,160,"Yes","No","Yes","Yes","Yes","Tree","Yes","No",2,"1-25","3+",20,"Yes","No","Yes","No","Yes","No","Yes","No","Yes","No","Yes","No","Yes","No","Yes","No","Yes","No","Yes","No","Yes","No","Yes","No","Yes","No","Yes","No","Yes","No","Leaves and pods suitable for livestock fodder.  Drought tolerant.",null,null,null,null,null,null,"Yes","Yes","No","No","No","No","No","No","Yes","No","Yes","No","Yes","No","Yes","Yes","No","No",null,null,null,null,null,null,null,null,null,null,"8-12",null,"8-12",null,"8-12","8-12",null,null,null,null,null,null,null,null,null,null,null,null,"feet",null,"feet",null,"feet","feet"]
["Sesuvium portulacastrum",{"$error":"#N/A"},"Yes","No","No",{"$f":"IF($I$4=TRUE,INDEX($BZ$29:$DC2017,MATCH($A500,$AZ$29:$AZ$1000,0),MATCH($AC$2,$BZ$18:$DC$18,0)),\"Yes\")","v":"Yes"},"Yes","Yes","Yes","Yes","Yes","Yes","Yes","Yes",{"$error":"#N/A"},{"$error":"#N/A"},"Yes","Yes","Yes","Yes",{"$error":"#N/A"},{"$error":"#N/A"},{"$error":"#N/A"},{"$error":"#N/A"},null,null,null,null,null,null,null,null,null,null,null,null,null,null,null,null,null,null,null,null,null,null,null,null,null,null,null,"Sesuvium portulacastrum","akulikuli","shoreline seapurslane","shoreline seapurslane","shoreline seapurslane","shoreline seapurslane","shoreline seapurslane","shoreline seapurslane","shoreline seapurslane","shoreline seapurslane",0,400,15,200,"Yes","No","Yes","Yes","Yes","Herb","No","Yes","n/a","1-25","3+",0,"Yes","Yes","Yes","Yes","Yes","Yes","Yes","Yes","Yes","Yes","Yes","Yes","Yes","Yes","Yes","Yes","Yes","Yes","Yes","Yes","Yes","Yes","Yes","Yes","Yes","Yes","Yes","Yes","Yes","Yes",null,null,null,null,null,null,null,"Yes","No","No","No","No","No","No","No","No","No","No","No","No","Yes","No","No","No","No",null,null,null,null,null,null,null,null,null,null,"",null,"",null,"","",null,null,null,null,null,null,null,null,null,null,null,null,"",null,"",null,"",""]
["Sida fallax",{"$error":"#N/A"},"Yes","No","No",{"$f":"IF($I$4=TRUE,INDEX($BZ$29:$DC2018,MATCH($A501,$AZ$29:$AZ$1000,0),MATCH($AC$2,$BZ$18:$DC$18,0)),\"Yes\")","v":"Yes"},"Yes","Yes","Yes","Yes","Yes","Yes","Yes","Yes",{"$error":"#N/A"},{"$error":"#N/A"},"Yes","Yes","Yes","Yes",{"$error":"#N/A"},{"$error":"#N/A"},{"$error":"#N/A"},{"$error":"#N/A"},null,null,null,null,null,null,null,null,null,null,null,null,null,null,null,null,null,null,null,null,null,null,null,null,null,null,null,"Sida fallax","ilima","ilima","ilima","ilima","ilima","ilima","ilima","ilima","kio, kieo",0,6000,15,200,"Yes","No","Yes","Yes","No","Shrub","No","Yes","n/a","1-25","1-3",3,"Yes","Yes","Yes","Yes","Yes","Yes","Yes","Yes","Yes","Yes","Yes","Yes","No","No","Yes","No","Yes","No","Yes","Yes","Yes","No","Yes","No","Yes","No","Yes","Yes","Yes","No","Rocky or sandy coasts or raised limestone reefs, also open arid lava fields and dry forest to diverse mesic forest and rarely low-elevation wet forest.  Does grow in mountains as well.",null,null,null,null,null,null,"Yes","No","No","No","No","No","No","No","Yes","No","Yes","No","Yes","No","No","Yes","No","No",null,null,null,null,null,null,null,null,null,null,"",null,"",null,"","",null,null,null,null,null,null,null,null,null,null,null,null,"",null,"",null,"",""]
["Sporobolus virginicus (sprigged)",{"$error":"#N/A"},"Yes","No","No",{"$f":"IF($I$4=TRUE,INDEX($BZ$29:$DC2027,MATCH($A510,$AZ$29:$AZ$1000,0),MATCH($AC$2,$BZ$18:$DC$18,0)),\"Yes\")","v":"Yes"},"Yes","Yes","Yes","Yes","Yes","Yes","Yes","Yes",{"$error":"#N/A"},{"$error":"#N/A"},"Yes","Yes","Yes","Yes",{"$error":"#N/A"},{"$error":"#N/A"},{"$error":"#N/A"},{"$error":"#N/A"},null,null,null,null,null,null,null,null,null,null,null,null,null,null,null,null,null,null,null,null,null,null,null,null,null,null,null,"Sporobolus virginicus (sprigged)","akiaki, seashore rushgrass (sprigged)","totoput, seashore rush grass (sprigged)","totoput, seashore rush grass (sprigged)","totoput, seashore rush grass (sprigged)","totoput, seashore rush grass (sprigged)","totoput, seashore rush grass (sprigged)","totoput, seashore rush grass (sprigged)","totoput, seashore rush grass (sprigged)","totoput, seashore rush grass (sprigged)",0,1000,20,200,"Yes","No","Yes","Yes","Yes","Herb","No","No","n/a","0-1","3+",0,"Yes","Yes","Yes","Yes","Yes","Yes","Yes","Yes","Yes","Yes","Yes","Yes","Yes","Yes","Yes","Yes","Yes","Yes","Yes","Yes","Yes","Yes","Yes","Yes","Yes","Yes","Yes","Yes","Yes","Yes",null,"Tolerates low pH",null,null,null,null,null,"Yes","No","No","No","Yes","No","Yes","No","No","No","No","No","No","Yes","No","No","No","No",null,null,null,null,80,null,40,null,null,null,"",null,"",null,"","",null,null,null,null,null,null,"bu/ac",null,"bu/ac",null,null,null,"",null,"",null,"",""]
["Sterculia fanaiho",{"$error":"#N/A"},"Yes","No","No",{"$f":"IF($I$4=TRUE,INDEX($BZ$29:$DC2030,MATCH($A513,$AZ$29:$AZ$1000,0),MATCH($AC$2,$BZ$18:$DC$18,0)),\"Yes\")","v":"Yes"},"Yes","Yes","Yes","Yes","Yes","Yes","Yes","Yes",{"$error":"#N/A"},{"$error":"#N/A"},"Yes","Yes","Yes","Yes",{"$error":"#N/A"},{"$error":"#N/A"},{"$error":"#N/A"},{"$error":"#N/A"},null,null,null,null,null,null,null,null,null,null,null,null,null,null,null,null,null,null,null,null,null,null,null,null,null,null,null,"Sterculia fanaiho","fanaio","fanaio","fanaio","fanaio","fanaio","fanaio","fanaio","fanaio","fanaio",0,2000,60,200,"Yes","No","No","No","No","Tree","No","Yes","n/a","1-25","1-3",20,"No","No","No","No","No","No","No","No","No","No","No","No","Yes","Yes","No","No","No","No","No","No","No","No","No","No","No","No","No","No","No","No",null,null,null,null,null,null,null,"Yes","Yes","No","No","No","No","No","No","Yes","No","Yes","No","Yes","No","No","Yes","No","No",null,null,null,null,null,null,null,null,null,null,"8-15",null,"8-15",null,"8-15","8-15",null,null,null,null,null,null,null,null,null,null,null,null,"feet",null,"feet",null,"feet","feet"]
["Syzygium clusiifolium",{"$error":"#N/A"},"Yes","No","No",{"$f":"IF($I$4=TRUE,INDEX($BZ$29:$DC2037,MATCH($A520,$AZ$29:$AZ$1000,0),MATCH($AC$2,$BZ$18:$DC$18,0)),\"Yes\")","v":"Yes"},"Yes","Yes","Yes","Yes","Yes","Yes","Yes","Yes",{"$error":"#N/A"},{"$error":"#N/A"},"Yes","Yes","Yes","Yes",{"$error":"#N/A"},{"$error":"#N/A"},{"$error":"#N/A"},{"$error":"#N/A"},null,null,null,null,null,null,null,null,null,null,null,null,null,null,null,null,null,null,null,null,null,null,null,null,null,null,null,"Syzygium clusiifolium","asi vai ","asi vai ","asi vai ","asi vai ","asi vai ","asi vai ","asi vai ","asi vai ","asi vai ",20,650,70,200,"Yes","Yes","Yes","No","No","Tree","No","Yes","n/a","25-40","1-3",20,"No","No","No","No","No","No","No","No","No","No","No","No","Yes","Yes","No","No","No","No","No","No","No","No","No","No","No","No","No","No","No","No",null,null,null,null,null,null,null,"Yes","No","No","No","No","No","No","No","Yes","No","Yes","No","Yes","No","Yes","Yes","No","No",null,null,null,null,null,null,null,null,null,null,"8-15",null,"8-15",null,"8-15","8-15",null,null,null,null,null,null,null,null,null,null,null,null,"feet",null,"feet",null,"feet","feet"]
["Tabebuia donell-smithii",{"$error":"#N/A"},"Yes","No","No",{"$f":"IF($I$4=TRUE,INDEX($BZ$29:$DC2043,MATCH($A526,$AZ$29:$AZ$1000,0),MATCH($AC$2,$BZ$18:$DC$18,0)),\"Yes\")","v":"Yes"},"Yes","Yes","Yes","Yes","Yes","Yes","Yes","Yes",{"$error":"#N/A"},{"$error":"#N/A"},"Yes","Yes","Yes","Yes",{"$error":"#N/A"},{"$error":"#N/A"},{"$error":"#N/A"},{"$error":"#N/A"},null,null,null,null,null,null,null,null,null,null,null,null,null,null,null,null,null,null,null,null,null,null,null,null,null,null,null,"Tabebuia donell-smithii","primavera, gold tree","primavera, gold tree","primavera, gold tree","primavera, gold tree","primavera, gold tree","primavera, gold tree","primavera, gold tree","primavera, gold tree","primavera, gold tree",20,3000,40,140,"Yes","No","No","No","No","Tree","No","No",-4,"25-40","1-3",35,"Yes","No","Yes","No","Yes","No","Yes","No","Yes","No","Yes","No","No","No","Yes","No","Yes","No","No","No","No","No","No","No","No","No","No","No","No","No",null,null,null,null,null,null,null,"Yes","Yes","No","No","No","No","No","No","Yes","No","Yes","No","Yes","No","Yes","Yes","No","No",null,null,null,null,null,null,null,null,null,null,"10-20",null,"10-20",null,"10-20","10-20",null,null,null,null,null,null,null,null,null,null,null,null,"feet",null,"feet",null,"feet","feet"]
["Terminalia catappa",{"$error":"#N/A"},"Yes","No","No",{"$f":"IF($I$4=TRUE,INDEX($BZ$29:$DC2048,MATCH($A531,$AZ$29:$AZ$1000,0),MATCH($AC$2,$BZ$18:$DC$18,0)),\"Yes\")","v":"Yes"},"Yes","Yes","Yes","Yes","Yes","Yes","Yes","Yes",{"$error":"#N/A"},{"$error":"#N/A"},"Yes","Yes","Yes","Yes",{"$error":"#N/A"},{"$f":"IF(AND(C$7<=X531,C$7>=W531),\"Yes\",\"No\")","v":{"$error":"#N/A"}},{"$error":"#N/A"},{"$error":"#N/A"},null,null,null,null,null,null,null,null,null,null,null,null,null,null,null,null,null,null,null,null,null,null,null,null,null,null,null,"Terminalia catappa","false kamani, tropical almond, kamani haole","talisai, tropical almond","talie, tropical almond","miiche, tropical almond","dipwoapw, kekapin, tropical almond","sarf, srifaf, tropical almond","as, tropical almond","kel, gil, tropical almond","kotol, tropical almond",0,1250,40,140,"Yes","Yes","Yes","Yes","Yes","Tree","No","No",4,"40+","1-3",40,"Yes","No","Yes","No","Yes","No","Yes","No","Yes","No","Yes","No","Yes","Yes","Yes","Yes","Yes","Yes","Yes","No","Yes","No","Yes","No","Yes","No","Yes","No","Yes","No","Good forage for honey bees.  Drought tolerant.","Naturalized in Hawaii: use in non-coastal sites only; indigenous elsewhere in PIA",null,null,null,null,null,"Yes","No","No","No","No","No","No","No","Yes","No","Yes","No","Yes","No","Yes","Yes","No","Yes",null,null,null,null,null,null,null,null,null,null,"10-40",null,"10-40",null,"10-40","10-40",null,null,null,null,null,null,null,null,null,null,null,null,"feet",null,"feet",null,"feet","feet"]
["Trichospermum richii",{"$error":"#N/A"},"Yes","No","No",{"$f":"IF($I$4=TRUE,INDEX($BZ$29:$DC2055,MATCH($A538,$AZ$29:$AZ$1000,0),MATCH($AC$2,$BZ$18:$DC$18,0)),\"Yes\")","v":"Yes"},"Yes","Yes","Yes","Yes","Yes","Yes","Yes","Yes",{"$error":"#N/A"},{"$error":"#N/A"},"Yes","Yes","Yes","Yes",{"$error":"#N/A"},{"$error":"#N/A"},{"$error":"#N/A"},{"$error":"#N/A"},null,null,null,null,null,null,null,null,null,null,null,null,null,null,null,null,null,null,null,null,null,null,null,null,null,null,null,"Trichospermum richii","ma`o sina","ma`o sina","ma`o sina","ma`o sina","ma`o sina","ma`o sina","ma`o sina","ma`o sina","ma`o sina",20,2000,70,200,"Yes","Yes","No","No","No","Tree","No","Yes","n/a","25-40","1-3",20,"No","No","No","No","No","No","No","No","No","No","No","No","Yes","Yes","No","No","No","No","No","No","No","No","No","No","No","No","No","No","No","No",null,null,null,null,null,null,null,"Yes","No","No","No","No","No","No","No","Yes","No","Yes","No","Yes","No","Yes","Yes","No","No",null,null,null,null,null,null,null,null,null,null,"10-20",null,"10-20",null,"10-20","10-20",null,null,null,null,null,null,null,null,null,null,null,null,"feet",null,"feet",null,"feet","feet"]
["Triticum aestivum",{"$f":"IF(A541=0,\"No\",IF(AND(C541=\"Yes\",D541=\"YES\",E541=\"Yes\",F541=\"yes\",G541=\"Yes\",H541=\"Yes\",I541=\"Yes\",J541=\"Yes\",N541=\"Yes\",Q541=\"Yes\",O541=\"Yes\",K541=\"Yes\",P541=\"Yes\",V541=\"Yes\"),\"Yes\",\"No\"))","v":{"$error":"#N/A"}},"Yes","No","No",{"$f":"IF($I$4=TRUE,INDEX($BZ$29:$DC2058,MATCH($A541,$AZ$29:$AZ$1000,0),MATCH($AC$2,$BZ$18:$DC$18,0)),\"Yes\")","v":"Yes"},"Yes","Yes","Yes","Yes","Yes","Yes","Yes","Yes",{"$error":"#N/A"},{"$error":"#N/A"},"Yes","Yes","Yes","Yes",{"$error":"#N/A"},{"$error":"#N/A"},{"$error":"#N/A"},{"$error":"#N/A"},null,null,null,null,null,null,null,null,null,null,null,null,null,null,null,null,null,null,null,null,null,null,null,null,null,null,null,"Triticum aestivum","wheat","wheat","wheat","wheat","wheat","wheat","wheat","wheat","wheat",1500,4000,40,200,"Yes","No","Yes","No","No","Herb","No","No","n/a","1-25","3+",0,"Yes","No","Yes","No","Yes","No","Yes","No","Yes","No","Yes","No","Yes","No","Yes","No","Yes","No","Yes","No","Yes","No","Yes","No","Yes","No","Yes","No","Yes","No","This species performs best in a soil with a pH range of 5.5-8.3.  When allowed to grow for 90 days a producer should expect 1.5 tons of above ground biomass which will contain approximately 16 lbs of Nitrogen per ton.",null,"CS",null,null,null,null,"Yes","No","No","Yes","No","No","No","No","No","No","No","No","No","No","No","No","No","No",null,null,null,70,70,null,null,null,null,null,"",null,"",null,"","",null,null,null,null,null,"lbs/ac","lbs/ac",null,null,null,null,null,"",null,"",null,"",""]
["Vicia sativa",{"$error":"#N/A"},"Yes","No","No",{"$f":"IF($I$4=TRUE,INDEX($BZ$29:$DC2068,MATCH($A551,$AZ$29:$AZ$1000,0),MATCH($AC$2,$BZ$18:$DC$18,0)),\"Yes\")","v":"Yes"},"Yes","Yes","Yes","Yes","Yes","Yes","Yes","Yes",{"$error":"#N/A"},{"$error":"#N/A"},"Yes","Yes","Yes","Yes",{"$error":"#N/A"},{"$error":"#N/A"},{"$error":"#N/A"},{"$error":"#N/A"},null,null,null,null,null,null,null,null,null,null,null,null,null,null,null,null,null,null,null,null,null,null,null,null,null,null,null,"Vicia sativa","vetch (common)","vetch, common","vetch, common","vetch, common","vetch, common","vetch, common","vetch, common","vetch, common","vetch, common",1500,4000,40,120,"Yes","No","Yes","No","No","Herb","Yes","No",16,"0-1","3+",0,"Yes","No","Yes","No","Yes","No","Yes","No","Yes","No","Yes","No","Yes","No","Yes","No","Yes","No","Yes","No","Yes","No","Yes","No","Yes","No","Yes","No","Yes","No","This species performs best in a soil with a pH range of 4.5-6.5.  When allowed to grow for 90 days a producer should expect 1.5 tons of above ground biomass which will contain approximately 60 lbs of Nitrogen per ton.",null,"CS",null,null,null,null,"Yes","No","No","Yes","No","No","No","Yes","No","No","No","Yes","No","No","No","No","No","No",null,null,null,60,null,null,null,3,null,null,"",3,"",null,"","",null,null,null,null,null,"lbs/ac",null,null,null,"lbs/ac",null,null,"","lbs/ac","",null,"",""]
["Vigna radiata",{"$error":"#N/A"},"Yes","No","No",{"$f":"IF($I$4=TRUE,INDEX($BZ$29:$DC2073,MATCH($A556,$AZ$29:$AZ$1000,0),MATCH($AC$2,$BZ$18:$DC$18,0)),\"Yes\")","v":"Yes"},"Yes","Yes","Yes","Yes","Yes","Yes","Yes","Yes",{"$error":"#N/A"},{"$error":"#N/A"},"Yes","Yes","Yes","Yes",{"$error":"#N/A"},{"$error":"#N/A"},{"$error":"#N/A"},{"$error":"#N/A"},null,null,null,null,null,null,null,null,null,null,null,null,null,null,null,null,null,null,null,null,null,null,null,null,null,null,null,"Vigna radiata","mung bean","mung bean","mung bean","mung bean","mung bean","mung bean","mung bean","mung bean","mung bean",20,2500,40,200,"Yes","No","Yes","No","No","Herb","Yes","No","n/a","0-1","3+",0,"Yes","No","Yes","No","Yes","No","Yes","No","Yes","No","Yes","No","Yes","No","Yes","No","Yes","No","Yes","No","Yes","No","Yes","No","Yes","No","Yes","No","Yes","No","This species performs best in a soil with a pH range of 5.4-8.3.  When allowed to grow for 60 days a producer should expect 1.5 tons of above ground biomass which will contain approximately 60 lbs of Nitrogen per ton.",null,"WS",null,null,null,null,"Yes","No","No","Yes","No","No","No","No","No","No","No","No","No","Yes","No","No","No","No",null,null,null,80,20,null,null,null,null,null,"",null,"",null,"","",null,null,null,null,null,"lbs/ac","lbs/ac",null,null,null,null,null,"",null,"",null,"",""]
["Vitex rotundifolia",{"$error":"#N/A"},"Yes","No","No",{"$f":"IF($I$4=TRUE,INDEX($BZ$29:$DC2076,MATCH($A559,$AZ$29:$AZ$1000,0),MATCH($AC$2,$BZ$18:$DC$18,0)),\"Yes\")","v":"Yes"},"Yes","Yes","Yes","Yes","Yes","Yes","Yes","Yes",{"$error":"#N/A"},{"$error":"#N/A"},"Yes","Yes","Yes","Yes",{"$error":"#N/A"},{"$error":"#N/A"},{"$error":"#N/A"},{"$error":"#N/A"},null,null,null,null,null,null,null,null,null,null,null,null,null,null,null,null,null,null,null,null,null,null,null,null,null,null,null,"Vitex rotundifolia","pohinahina, beach vitex ","beach vitex ","beach vitex ","beach vitex ","beach vitex ","beach vitex ","beach vitex ","beach vitex ","beach vitex ",0,1000,20,80,"Yes","No","Yes","Yes","No","Shrub","No","Yes","n/a","1-25","3+",2,"Yes","Yes","Yes","Yes","Yes","Yes","Yes","Yes","Yes","Yes","Yes","Yes","No","No","No","No","No","No","No","No","No","No","No","No","No","No","No","No","No","No","Primarily in coastal areas but ok to plant up to 1,000 foot elevation, growth habit is like groundcover.",null,null,null,null,null,null,"Yes","No","No","No","No","No","No","No","No","No","No","No","No","No","No","Yes","No","No",null,null,null,60,null,null,null,null,null,null,"",null,"",null,"","",null,null,null,null,null,"lbs/ac",null,null,null,null,null,null,"",null,"",null,"",""]
["Wikstroemia phillyreifolia",{"$error":"#N/A"},"Yes","No","No",{"$f":"IF($I$4=TRUE,INDEX($BZ$29:$DC2083,MATCH($A566,$AZ$29:$AZ$1000,0),MATCH($AC$2,$BZ$18:$DC$18,0)),\"Yes\")","v":"Yes"},"Yes","Yes","Yes","Yes","Yes","Yes","Yes","Yes",{"$error":"#N/A"},{"$error":"#N/A"},"Yes","Yes","Yes","Yes",{"$error":"#N/A"},{"$error":"#N/A"},{"$error":"#N/A"},{"$error":"#N/A"},null,null,null,null,null,null,null,null,null,null,null,null,null,null,null,null,null,null,null,null,null,null,null,null,null,null,null,"Wikstroemia phillyreifolia","akia - 3","akia - 3","akia - 3","akia - 3","akia - 3","akia - 3","akia - 3","akia - 3","akia - 3",0,7500,15,120,"Yes","No","Yes","No","No","Shrub","No","Yes","n/a","1-25","0-1",8,"Yes","Yes","Yes","No","Yes","No","Yes","No","Yes","No","Yes","No","No","No","No","No","No","No","No","No","No","No","No","No","No","No","No","No","No","No",null,null,null,null,null,null,null,"Yes","Yes","No","No","No","No","No","No","Yes","No","Yes","No","Yes","No","No","Yes","No","Yes",null,null,null,null,null,null,null,null,null,null,"",null,"",null,"","",null,null,null,null,null,null,null,null,null,null,null,null,"",null,"",null,"",""]
["Xylosma hawaiiense",{"$error":"#N/A"},"Yes","No","No",{"$f":"IF($I$4=TRUE,INDEX($BZ$29:$DC2087,MATCH($A570,$AZ$29:$AZ$1000,0),MATCH($AC$2,$BZ$18:$DC$18,0)),\"Yes\")","v":"Yes"},"Yes","Yes","Yes","Yes","Yes","Yes","Yes","Yes",{"$error":"#N/A"},{"$error":"#N/A"},"Yes","Yes","Yes","Yes",{"$error":"#N/A"},{"$error":"#N/A"},{"$error":"#N/A"},{"$error":"#N/A"},null,null,null,null,null,null,null,null,null,null,null,null,null,null,null,null,null,null,null,null,null,null,null,null,null,null,null,"Xylosma hawaiiense","maua","maua","maua","maua","maua","maua","maua","maua","maua",800,4000,45,150,"Yes","Yes","Yes","No","No","Tree","No","Yes","n/a","1-25","0-1",10,"Yes","Yes","Yes","Yes","Yes","Yes","Yes","Yes","Yes","Yes","Yes","Yes","No","No","No","No","No","No","No","No","No","No","No","No","No","No","No","No","No","No",null,null,null,null,null,null,null,"Yes","No","No","No","No","No","No","No","Yes","No","Yes","No","Yes","No","Yes","Yes","No","No",null,null,null,null,null,null,null,null,null,null,"8-15",null,"8-15",null,"8-15","8-15",null,null,null,null,null,null,null,null,null,null,null,null,"feet",null,"feet",null,"feet","feet"]
["Boswellia sacra",{"$error":"#N/A"},"Yes","No","No",{"$f":"IF($I$4=TRUE,INDEX($BZ$29:$DC2094,MATCH($A577,$AZ$29:$AZ$1000,0),MATCH($AC$2,$BZ$18:$DC$18,0)),\"Yes\")","v":"Yes"},"Yes","Yes","Yes","Yes","Yes","Yes","Yes","Yes",{"$error":"#N/A"},{"$error":"#N/A"},"Yes","Yes","Yes","Yes",{"$error":"#N/A"},{"$error":"#N/A"},{"$error":"#N/A"},{"$error":"#N/A"},null,null,null,null,null,null,null,null,null,null,null,null,null,null,null,null,null,null,null,null,null,null,null,null,null,null,null,"Boswellia sacra","frankincense, Boswellia carteri, Boswellia carterii, olibanum-tree","frankincense, Boswellia carteri, Boswellia carterii, olibanum-tree","frankincense, Boswellia carteri, Boswellia carterii, olibanum-tree","frankincense, Boswellia carteri, Boswellia carterii, olibanum-tree","frankincense, Boswellia carteri, Boswellia carterii, olibanum-tree","frankincense, Boswellia carteri, Boswellia carterii, olibanum-tree","frankincense, Boswellia carteri, Boswellia carterii, olibanum-tree","frankincense, Boswellia carteri, Boswellia carterii, olibanum-tree","frankincense, Boswellia carteri, Boswellia carterii, olibanum-tree",1000,6000,14,40,"Yes","No","Yes","No","No","Tree","No","No",-3,"1-25","0-1",10,"Yes","No","Yes","No","Yes","No","Yes","No","Yes","No","Yes","No","No","No","No","No","No","No","No","No","No","No","No","No","No","No","No","No","No","No",null,null,null,null,null,null,null,"Yes","Yes","No","No","No","No","Yes","No","No","No","Yes","No","No","No","No","Yes","No","No",null,null,null,null,null,null,null,null,null,null,"8-12",null,null,null,null,"8-12",null,null,null,null,null,null,null,null,null,null,null,null,"feet",null,null,null,null,"feet"]
[0,"No",{"$error":"#N/A"},"No","No",{"$f":"IF($I$4=TRUE,INDEX($BZ$29:$DC2101,MATCH($A584,$AZ$29:$AZ$1000,0),MATCH($AC$2,$BZ$18:$DC$18,0)),\"Yes\")","v":"Yes"},"Yes","Yes","Yes","Yes","Yes","Yes","Yes","Yes",{"$error":"#N/A"},{"$error":"#N/A"},"Yes","Yes","Yes","Yes",{"$error":"#N/A"},{"$error":"#N/A"},{"$error":"#N/A"},{"$error":"#N/A"}]
[0,"No",{"$error":"#N/A"},"No","No",{"$f":"IF($I$4=TRUE,INDEX($BZ$29:$DC2104,MATCH($A587,$AZ$29:$AZ$1000,0),MATCH($AC$2,$BZ$18:$DC$18,0)),\"Yes\")","v":"Yes"},"Yes","Yes","Yes","Yes","Yes","Yes","Yes","Yes",{"$error":"#N/A"},{"$error":"#N/A"},"Yes","Yes","Yes","Yes",{"$error":"#N/A"},{"$error":"#N/A"},{"$error":"#N/A"},{"$error":"#N/A"}]
[0,"No",{"$error":"#N/A"},"No","No",{"$f":"IF($I$4=TRUE,INDEX($BZ$29:$DC2112,MATCH($A595,$AZ$29:$AZ$1000,0),MATCH($AC$2,$BZ$18:$DC$18,0)),\"Yes\")","v":"Yes"},"Yes","Yes","Yes","Yes","Yes","Yes","Yes","Yes",{"$error":"#N/A"},{"$error":"#N/A"},"Yes","Yes","Yes","Yes",{"$error":"#N/A"},{"$f":"IF(AND(C$7<=X595,C$7>=W595),\"Yes\",\"No\")","v":{"$error":"#N/A"}},{"$error":"#N/A"},{"$error":"#N/A"}]
[0,"No",{"$error":"#N/A"},"No","No",{"$f":"IF($I$4=TRUE,INDEX($BZ$29:$DC2119,MATCH($A602,$AZ$29:$AZ$1000,0),MATCH($AC$2,$BZ$18:$DC$18,0)),\"Yes\")","v":"Yes"},"Yes","Yes","Yes","Yes","Yes","Yes","Yes","Yes",{"$error":"#N/A"},{"$error":"#N/A"},"Yes","Yes","Yes","Yes",{"$error":"#N/A"},{"$error":"#N/A"},{"$error":"#N/A"},{"$error":"#N/A"}]
[0,{"$f":"IF(A605=0,\"No\",IF(AND(C605=\"Yes\",D605=\"YES\",E605=\"Yes\",F605=\"yes\",G605=\"Yes\",H605=\"Yes\",I605=\"Yes\",J605=\"Yes\",N605=\"Yes\",Q605=\"Yes\",O605=\"Yes\",K605=\"Yes\",P605=\"Yes\",V605=\"Yes\"),\"Yes\",\"No\"))","v":"No"},{"$error":"#N/A"},"No","No",{"$f":"IF($I$4=TRUE,INDEX($BZ$29:$DC2122,MATCH($A605,$AZ$29:$AZ$1000,0),MATCH($AC$2,$BZ$18:$DC$18,0)),\"Yes\")","v":"Yes"},"Yes","Yes","Yes","Yes","Yes","Yes","Yes","Yes",{"$error":"#N/A"},{"$error":"#N/A"},"Yes","Yes","Yes","Yes",{"$error":"#N/A"},{"$error":"#N/A"},{"$error":"#N/A"},{"$error":"#N/A"}]
[0,"No",{"$error":"#N/A"},"No","No",{"$f":"IF($I$4=TRUE,INDEX($BZ$29:$DC2129,MATCH($A612,$AZ$29:$AZ$1000,0),MATCH($AC$2,$BZ$18:$DC$18,0)),\"Yes\")","v":"Yes"},"Yes","Yes","Yes","Yes","Yes","Yes","Yes","Yes",{"$error":"#N/A"},{"$error":"#N/A"},"Yes","Yes","Yes","Yes",{"$error":"#N/A"},{"$error":"#N/A"},{"$error":"#N/A"},{"$error":"#N/A"}]
[0,"No",{"$error":"#N/A"},"No","No",{"$f":"IF($I$4=TRUE,INDEX($BZ$29:$DC2136,MATCH($A619,$AZ$29:$AZ$1000,0),MATCH($AC$2,$BZ$18:$DC$18,0)),\"Yes\")","v":"Yes"},"Yes","Yes","Yes","Yes","Yes","Yes","Yes","Yes",{"$error":"#N/A"},{"$error":"#N/A"},"Yes","Yes","Yes","Yes",{"$error":"#N/A"},{"$error":"#N/A"},{"$error":"#N/A"},{"$error":"#N/A"}]
[0,"No",{"$error":"#N/A"},"No","No",{"$f":"IF($I$4=TRUE,INDEX($BZ$29:$DC2138,MATCH($A621,$AZ$29:$AZ$1000,0),MATCH($AC$2,$BZ$18:$DC$18,0)),\"Yes\")","v":"Yes"},"Yes","Yes","Yes","Yes","Yes","Yes","Yes","Yes",{"$error":"#N/A"},{"$error":"#N/A"},"Yes","Yes","Yes","Yes",{"$error":"#N/A"},{"$error":"#N/A"},{"$error":"#N/A"},{"$error":"#N/A"}]
[0,"No",{"$error":"#N/A"},"No","No",{"$f":"IF($I$4=TRUE,INDEX($BZ$29:$DC2147,MATCH($A630,$AZ$29:$AZ$1000,0),MATCH($AC$2,$BZ$18:$DC$18,0)),\"Yes\")","v":"Yes"},"Yes","Yes","Yes","Yes","Yes","Yes","Yes","Yes",{"$error":"#N/A"},{"$error":"#N/A"},"Yes","Yes","Yes","Yes",{"$error":"#N/A"},{"$error":"#N/A"},{"$error":"#N/A"},{"$error":"#N/A"}]
[0,"No",{"$error":"#N/A"},"No","No",{"$f":"IF($I$4=TRUE,INDEX($BZ$29:$DC2150,MATCH($A633,$AZ$29:$AZ$1000,0),MATCH($AC$2,$BZ$18:$DC$18,0)),\"Yes\")","v":"Yes"},"Yes","Yes","Yes","Yes","Yes","Yes","Yes","Yes",{"$error":"#N/A"},{"$error":"#N/A"},"Yes","Yes","Yes","Yes",{"$error":"#N/A"},{"$error":"#N/A"},{"$error":"#N/A"},{"$error":"#N/A"}]
[0,"No",{"$error":"#N/A"},"No",{"$f":"IF(A$2=\"Cover Crop (340)\",\"Yes\",IF(ISBLANK($C$7),\"No\",IF(AND($C$7>=BJ639,$C$7<=BK639),\"Yes\",\"No\")))","v":"No"},{"$f":"IF($I$4=TRUE,INDEX($BZ$29:$DC2156,MATCH($A639,$AZ$29:$AZ$1000,0),MATCH($AC$2,$BZ$18:$DC$18,0)),\"Yes\")","v":"Yes"},"Yes","Yes","Yes","Yes","Yes","Yes","Yes","Yes",{"$error":"#N/A"},{"$error":"#N/A"},"Yes","Yes","Yes","Yes",{"$error":"#N/A"},{"$error":"#N/A"},{"$error":"#N/A"},{"$error":"#N/A"}]
[0,"No",{"$error":"#N/A"},"No","No",{"$f":"IF($I$4=TRUE,INDEX($BZ$29:$DC2165,MATCH($A648,$AZ$29:$AZ$1000,0),MATCH($AC$2,$BZ$18:$DC$18,0)),\"Yes\")","v":"Yes"},"Yes","Yes","Yes","Yes","Yes","Yes","Yes","Yes",{"$error":"#N/A"},{"$error":"#N/A"},"Yes","Yes","Yes","Yes",{"$error":"#N/A"},{"$error":"#N/A"},{"$error":"#N/A"},{"$error":"#N/A"}]
[0,"No",{"$error":"#N/A"},"No","No",{"$f":"IF($I$4=TRUE,INDEX($BZ$29:$DC2168,MATCH($A651,$AZ$29:$AZ$1000,0),MATCH($AC$2,$BZ$18:$DC$18,0)),\"Yes\")","v":"Yes"},"Yes","Yes","Yes","Yes","Yes","Yes","Yes","Yes",{"$error":"#N/A"},{"$error":"#N/A"},"Yes","Yes","Yes","Yes",{"$error":"#N/A"},{"$error":"#N/A"},{"$error":"#N/A"},{"$error":"#N/A"}]
[0,"No",{"$error":"#N/A"},"No","No",{"$f":"IF($I$4=TRUE,INDEX($BZ$29:$DC2175,MATCH($A658,$AZ$29:$AZ$1000,0),MATCH($AC$2,$BZ$18:$DC$18,0)),\"Yes\")","v":"Yes"},"Yes","Yes","Yes","Yes","Yes","Yes","Yes","Yes",{"$error":"#N/A"},{"$error":"#N/A"},"Yes","Yes","Yes","Yes",{"$error":"#N/A"},{"$error":"#N/A"},{"$error":"#N/A"},{"$error":"#N/A"}]
[0,"No",{"$error":"#N/A"},"No","No",{"$f":"IF($I$4=TRUE,INDEX($BZ$29:$DC2180,MATCH($A663,$AZ$29:$AZ$1000,0),MATCH($AC$2,$BZ$18:$DC$18,0)),\"Yes\")","v":"Yes"},"Yes","Yes","Yes","Yes","Yes","Yes","Yes","Yes",{"$error":"#N/A"},{"$error":"#N/A"},"Yes","Yes","Yes","Yes",{"$error":"#N/A"},{"$error":"#N/A"},{"$error":"#N/A"},{"$error":"#N/A"}]
[0,"No",{"$error":"#N/A"},"No","No",{"$f":"IF($I$4=TRUE,INDEX($BZ$29:$DC2184,MATCH($A667,$AZ$29:$AZ$1000,0),MATCH($AC$2,$BZ$18:$DC$18,0)),\"Yes\")","v":"Yes"},"Yes","Yes","Yes","Yes","Yes","Yes","Yes","Yes",{"$error":"#N/A"},{"$error":"#N/A"},"Yes","Yes","Yes","Yes",{"$error":"#N/A"},{"$error":"#N/A"},{"$error":"#N/A"},{"$error":"#N/A"}]
[0,"No",{"$error":"#N/A"},"No","No",{"$f":"IF($I$4=TRUE,INDEX($BZ$29:$DC2193,MATCH($A676,$AZ$29:$AZ$1000,0),MATCH($AC$2,$BZ$18:$DC$18,0)),\"Yes\")","v":"Yes"},"Yes","Yes","Yes","Yes","Yes","Yes","Yes","Yes",{"$error":"#N/A"},{"$error":"#N/A"},"Yes","Yes","Yes","Yes",{"$error":"#N/A"},{"$error":"#N/A"},{"$error":"#N/A"},{"$error":"#N/A"}]
[0,"No",{"$error":"#N/A"},"No","No",{"$f":"IF($I$4=TRUE,INDEX($BZ$29:$DC2196,MATCH($A679,$AZ$29:$AZ$1000,0),MATCH($AC$2,$BZ$18:$DC$18,0)),\"Yes\")","v":"Yes"},"Yes","Yes","Yes","Yes","Yes","Yes","Yes","Yes",{"$error":"#N/A"},{"$error":"#N/A"},"Yes","Yes","Yes","Yes",{"$error":"#N/A"},{"$error":"#N/A"},{"$error":"#N/A"},{"$error":"#N/A"}]
[0,"No",{"$error":"#N/A"},"No","No",{"$f":"IF($I$4=TRUE,INDEX($BZ$29:$DC2205,MATCH($A688,$AZ$29:$AZ$1000,0),MATCH($AC$2,$BZ$18:$DC$18,0)),\"Yes\")","v":"Yes"},"Yes","Yes","Yes","Yes","Yes","Yes","Yes","Yes",{"$error":"#N/A"},{"$error":"#N/A"},"Yes","Yes","Yes","Yes",{"$error":"#N/A"},{"$error":"#N/A"},{"$error":"#N/A"},{"$error":"#N/A"}]
[0,"No",{"$error":"#N/A"},"No","No",{"$f":"IF($I$4=TRUE,INDEX($BZ$29:$DC2211,MATCH($A694,$AZ$29:$AZ$1000,0),MATCH($AC$2,$BZ$18:$DC$18,0)),\"Yes\")","v":"Yes"},"Yes","Yes","Yes","Yes","Yes","Yes","Yes","Yes",{"$error":"#N/A"},{"$error":"#N/A"},"Yes","Yes","Yes","Yes",{"$error":"#N/A"},{"$error":"#N/A"},{"$error":"#N/A"},{"$error":"#N/A"}]
[0,"No",{"$error":"#N/A"},"No","No",{"$f":"IF($I$4=TRUE,INDEX($BZ$29:$DC2214,MATCH($A697,$AZ$29:$AZ$1000,0),MATCH($AC$2,$BZ$18:$DC$18,0)),\"Yes\")","v":"Yes"},"Yes","Yes","Yes","Yes","Yes","Yes","Yes","Yes",{"$error":"#N/A"},{"$error":"#N/A"},"Yes","Yes","Yes","Yes",{"$error":"#N/A"},{"$error":"#N/A"},{"$error":"#N/A"},{"$error":"#N/A"}]
[0,"No",{"$error":"#N/A"},"No","No",{"$f":"IF($I$4=TRUE,INDEX($BZ$29:$DC2221,MATCH($A704,$AZ$29:$AZ$1000,0),MATCH($AC$2,$BZ$18:$DC$18,0)),\"Yes\")","v":"Yes"},"Yes","Yes","Yes","Yes","Yes","Yes","Yes","Yes",{"$error":"#N/A"},{"$error":"#N/A"},"Yes","Yes","Yes","Yes",{"$error":"#N/A"},{"$error":"#N/A"},{"$error":"#N/A"},{"$error":"#N/A"}]
[0,"No",{"$error":"#N/A"},"No","No",{"$f":"IF($I$4=TRUE,INDEX($BZ$29:$DC2229,MATCH($A712,$AZ$29:$AZ$1000,0),MATCH($AC$2,$BZ$18:$DC$18,0)),\"Yes\")","v":"Yes"},"Yes","Yes","Yes","Yes","Yes","Yes","Yes","Yes",{"$error":"#N/A"},{"$error":"#N/A"},"Yes","Yes","Yes","Yes",{"$error":"#N/A"},{"$error":"#N/A"},{"$error":"#N/A"},{"$error":"#N/A"}]
[0,"No",{"$error":"#N/A"},"No","No",{"$f":"IF($I$4=TRUE,INDEX($BZ$29:$DC2230,MATCH($A713,$AZ$29:$AZ$1000,0),MATCH($AC$2,$BZ$18:$DC$18,0)),\"Yes\")","v":"Yes"},"Yes","Yes","Yes","Yes","Yes","Yes","Yes","Yes",{"$error":"#N/A"},{"$error":"#N/A"},"Yes","Yes","Yes","Yes",{"$error":"#N/A"},{"$error":"#N/A"},{"$error":"#N/A"},{"$error":"#N/A"}]
[0,"No",{"$error":"#N/A"},"No","No",{"$f":"IF($I$4=TRUE,INDEX($BZ$29:$DC2239,MATCH($A722,$AZ$29:$AZ$1000,0),MATCH($AC$2,$BZ$18:$DC$18,0)),\"Yes\")","v":"Yes"},"Yes","Yes","Yes","Yes","Yes","Yes","Yes","Yes",{"$error":"#N/A"},{"$error":"#N/A"},"Yes","Yes","Yes","Yes",{"$error":"#N/A"},{"$error":"#N/A"},{"$error":"#N/A"},{"$error":"#N/A"}]
[0,"No",{"$error":"#N/A"},"No","No",{"$f":"IF($I$4=TRUE,INDEX($BZ$29:$DC2242,MATCH($A725,$AZ$29:$AZ$1000,0),MATCH($AC$2,$BZ$18:$DC$18,0)),\"Yes\")","v":"Yes"},"Yes","Yes","Yes","Yes","Yes","Yes","Yes","Yes",{"$error":"#N/A"},{"$error":"#N/A"},"Yes","Yes","Yes","Yes",{"$error":"#N/A"},{"$error":"#N/A"},{"$error":"#N/A"},{"$error":"#N/A"}]
[0,"No",{"$error":"#N/A"},"No","No",{"$f":"IF($I$4=TRUE,INDEX($BZ$29:$DC2249,MATCH($A732,$AZ$29:$AZ$1000,0),MATCH($AC$2,$BZ$18:$DC$18,0)),\"Yes\")","v":"Yes"},"Yes","Yes","Yes","Yes","Yes","Yes","Yes","Yes",{"$error":"#N/A"},{"$error":"#N/A"},"Yes","Yes","Yes","Yes",{"$error":"#N/A"},{"$error":"#N/A"},{"$error":"#N/A"},{"$error":"#N/A"}]
[0,"No",{"$error":"#N/A"},"No","No",{"$f":"IF($I$4=TRUE,INDEX($BZ$29:$DC2257,MATCH($A740,$AZ$29:$AZ$1000,0),MATCH($AC$2,$BZ$18:$DC$18,0)),\"Yes\")","v":"Yes"},"Yes","Yes","Yes","Yes","Yes","Yes","Yes","Yes",{"$error":"#N/A"},{"$error":"#N/A"},"Yes","Yes","Yes","Yes",{"$error":"#N/A"},{"$error":"#N/A"},{"$error":"#N/A"},{"$error":"#N/A"}]
[0,"No",{"$error":"#N/A"},"No","No",{"$f":"IF($I$4=TRUE,INDEX($BZ$29:$DC2264,MATCH($A747,$AZ$29:$AZ$1000,0),MATCH($AC$2,$BZ$18:$DC$18,0)),\"Yes\")","v":"Yes"},"Yes","Yes","Yes","Yes","Yes","Yes","Yes","Yes",{"$error":"#N/A"},{"$error":"#N/A"},"Yes","Yes","Yes","Yes",{"$error":"#N/A"},{"$error":"#N/A"},{"$error":"#N/A"},{"$error":"#N/A"}]
[0,"No",{"$error":"#N/A"},"No","No",{"$f":"IF($I$4=TRUE,INDEX($BZ$29:$DC2267,MATCH($A750,$AZ$29:$AZ$1000,0),MATCH($AC$2,$BZ$18:$DC$18,0)),\"Yes\")","v":"Yes"},"Yes","Yes","Yes","Yes","Yes","Yes","Yes","Yes",{"$error":"#N/A"},{"$error":"#N/A"},"Yes","Yes","Yes","Yes",{"$error":"#N/A"},{"$error":"#N/A"},{"$error":"#N/A"},{"$error":"#N/A"}]
[0,"No",{"$error":"#N/A"},"No","No",{"$f":"IF($I$4=TRUE,INDEX($BZ$29:$DC2273,MATCH($A756,$AZ$29:$AZ$1000,0),MATCH($AC$2,$BZ$18:$DC$18,0)),\"Yes\")","v":"Yes"},"Yes","Yes","Yes","Yes","Yes","Yes","Yes","Yes",{"$error":"#N/A"},{"$error":"#N/A"},"Yes","Yes","Yes","Yes",{"$error":"#N/A"},{"$error":"#N/A"},{"$error":"#N/A"},{"$error":"#N/A"}]
[0,"No",{"$error":"#N/A"},"No","No",{"$f":"IF($I$4=TRUE,INDEX($BZ$29:$DC2276,MATCH($A759,$AZ$29:$AZ$1000,0),MATCH($AC$2,$BZ$18:$DC$18,0)),\"Yes\")","v":"Yes"},"Yes","Yes","Yes","Yes","Yes","Yes","Yes","Yes",{"$error":"#N/A"},{"$error":"#N/A"},"Yes","Yes","Yes","Yes",{"$error":"#N/A"},{"$error":"#N/A"},{"$error":"#N/A"},{"$error":"#N/A"}]
[0,"No",{"$error":"#N/A"},"No","No",{"$f":"IF($I$4=TRUE,INDEX($BZ$29:$DC2285,MATCH($A768,$AZ$29:$AZ$1000,0),MATCH($AC$2,$BZ$18:$DC$18,0)),\"Yes\")","v":"Yes"},"Yes","Yes","Yes","Yes","Yes","Yes","Yes","Yes",{"$error":"#N/A"},{"$error":"#N/A"},"Yes","Yes","Yes","Yes",{"$error":"#N/A"},{"$error":"#N/A"},{"$error":"#N/A"},{"$error":"#N/A"}]
[0,"No",{"$error":"#N/A"},"No","No",{"$f":"IF($I$4=TRUE,INDEX($BZ$29:$DC2288,MATCH($A771,$AZ$29:$AZ$1000,0),MATCH($AC$2,$BZ$18:$DC$18,0)),\"Yes\")","v":"Yes"},"Yes","Yes","Yes","Yes","Yes","Yes","Yes","Yes",{"$error":"#N/A"},{"$error":"#N/A"},"Yes","Yes","Yes","Yes",{"$error":"#N/A"},{"$error":"#N/A"},{"$error":"#N/A"},{"$error":"#N/A"}]
[0,"No",{"$error":"#N/A"},"No","No",{"$f":"IF($I$4=TRUE,INDEX($BZ$29:$DC2298,MATCH($A781,$AZ$29:$AZ$1000,0),MATCH($AC$2,$BZ$18:$DC$18,0)),\"Yes\")","v":"Yes"},"Yes","Yes","Yes","Yes","Yes","Yes","Yes","Yes",{"$error":"#N/A"},{"$error":"#N/A"},"Yes","Yes","Yes","Yes",{"$error":"#N/A"},{"$error":"#N/A"},{"$error":"#N/A"},{"$error":"#N/A"}]
[0,"No",{"$error":"#N/A"},"No","No",{"$f":"IF($I$4=TRUE,INDEX($BZ$29:$DC2303,MATCH($A786,$AZ$29:$AZ$1000,0),MATCH($AC$2,$BZ$18:$DC$18,0)),\"Yes\")","v":"Yes"},"Yes","Yes","Yes","Yes","Yes","Yes","Yes","Yes",{"$error":"#N/A"},{"$error":"#N/A"},"Yes","Yes","Yes","Yes",{"$error":"#N/A"},{"$error":"#N/A"},{"$error":"#N/A"},{"$error":"#N/A"}]
[0,"No",{"$error":"#N/A"},"No","No",{"$f":"IF($I$4=TRUE,INDEX($BZ$29:$DC2310,MATCH($A793,$AZ$29:$AZ$1000,0),MATCH($AC$2,$BZ$18:$DC$18,0)),\"Yes\")","v":"Yes"},"Yes","Yes","Yes","Yes","Yes","Yes","Yes","Yes",{"$error":"#N/A"},{"$error":"#N/A"},"Yes","Yes","Yes","Yes",{"$error":"#N/A"},{"$error":"#N/A"},{"$error":"#N/A"},{"$error":"#N/A"}]
[0,"No",{"$error":"#N/A"},"No","No",{"$f":"IF($I$4=TRUE,INDEX($BZ$29:$DC2313,MATCH($A796,$AZ$29:$AZ$1000,0),MATCH($AC$2,$BZ$18:$DC$18,0)),\"Yes\")","v":"Yes"},"Yes","Yes","Yes","Yes","Yes","Yes","Yes","Yes",{"$error":"#N/A"},{"$error":"#N/A"},"Yes","Yes","Yes","Yes",{"$error":"#N/A"},{"$error":"#N/A"},{"$error":"#N/A"},{"$error":"#N/A"}]
[0,"No",{"$error":"#N/A"},"No","No",{"$f":"IF($I$4=TRUE,INDEX($BZ$29:$DC2317,MATCH($A800,$AZ$29:$AZ$1000,0),MATCH($AC$2,$BZ$18:$DC$18,0)),\"Yes\")","v":"Yes"},"Yes","Yes","Yes","Yes","Yes","Yes","Yes","Yes",{"$error":"#N/A"},{"$error":"#N/A"},"Yes","Yes","Yes","Yes",{"$error":"#N/A"},{"$error":"#N/A"},{"$error":"#N/A"},{"$error":"#N/A"}]
[0,"No",{"$error":"#N/A"},"No","No",{"$f":"IF($I$4=TRUE,INDEX($BZ$29:$DC2322,MATCH($A805,$AZ$29:$AZ$1000,0),MATCH($AC$2,$BZ$18:$DC$18,0)),\"Yes\")","v":"Yes"},"Yes","Yes","Yes","Yes","Yes","Yes","Yes","Yes",{"$error":"#N/A"},{"$error":"#N/A"},"Yes","Yes","Yes","Yes",{"$error":"#N/A"},{"$error":"#N/A"},{"$error":"#N/A"},{"$error":"#N/A"}]
[0,"No",{"$error":"#N/A"},"No","No",{"$f":"IF($I$4=TRUE,INDEX($BZ$29:$DC2331,MATCH($A814,$AZ$29:$AZ$1000,0),MATCH($AC$2,$BZ$18:$DC$18,0)),\"Yes\")","v":"Yes"},"Yes","Yes","Yes","Yes","Yes","Yes","Yes","Yes",{"$error":"#N/A"},{"$error":"#N/A"},"Yes","Yes","Yes","Yes",{"$error":"#N/A"},{"$error":"#N/A"},{"$error":"#N/A"},{"$error":"#N/A"}]
[0,"No",{"$error":"#N/A"},"No","No",{"$f":"IF($I$4=TRUE,INDEX($BZ$29:$DC2338,MATCH($A821,$AZ$29:$AZ$1000,0),MATCH($AC$2,$BZ$18:$DC$18,0)),\"Yes\")","v":"Yes"},"Yes","Yes","Yes","Yes","Yes","Yes","Yes","Yes",{"$error":"#N/A"},{"$error":"#N/A"},"Yes","Yes","Yes","Yes",{"$error":"#N/A"},{"$error":"#N/A"},{"$error":"#N/A"},{"$error":"#N/A"}]
[0,"No",{"$error":"#N/A"},"No","No",{"$f":"IF($I$4=TRUE,INDEX($BZ$29:$DC2342,MATCH($A825,$AZ$29:$AZ$1000,0),MATCH($AC$2,$BZ$18:$DC$18,0)),\"Yes\")","v":"Yes"},"Yes","Yes","Yes","Yes","Yes","Yes","Yes","Yes",{"$error":"#N/A"},{"$error":"#N/A"},"Yes","Yes","Yes","Yes",{"$error":"#N/A"},{"$error":"#N/A"},{"$error":"#N/A"},{"$error":"#N/A"}]
[0,"No",{"$error":"#N/A"},"No","No",{"$f":"IF($I$4=TRUE,INDEX($BZ$29:$DC2349,MATCH($A832,$AZ$29:$AZ$1000,0),MATCH($AC$2,$BZ$18:$DC$18,0)),\"Yes\")","v":"Yes"},"Yes","Yes","Yes","Yes","Yes","Yes","Yes","Yes",{"$error":"#N/A"},{"$error":"#N/A"},"Yes","Yes","Yes","Yes",{"$error":"#N/A"},{"$error":"#N/A"},{"$error":"#N/A"},{"$error":"#N/A"}]
[0,"No",{"$error":"#N/A"},"No","No",{"$f":"IF($I$4=TRUE,INDEX($BZ$29:$DC2356,MATCH($A839,$AZ$29:$AZ$1000,0),MATCH($AC$2,$BZ$18:$DC$18,0)),\"Yes\")","v":"Yes"},"Yes","Yes","Yes","Yes","Yes","Yes","Yes","Yes",{"$error":"#N/A"},{"$error":"#N/A"},"Yes","Yes","Yes","Yes",{"$error":"#N/A"},{"$error":"#N/A"},{"$error":"#N/A"},{"$error":"#N/A"}]
[0,"No",{"$error":"#N/A"},"No","No",{"$f":"IF($I$4=TRUE,INDEX($BZ$29:$DC2359,MATCH($A842,$AZ$29:$AZ$1000,0),MATCH($AC$2,$BZ$18:$DC$18,0)),\"Yes\")","v":"Yes"},"Yes","Yes","Yes","Yes","Yes","Yes","Yes","Yes",{"$error":"#N/A"},{"$error":"#N/A"},"Yes","Yes","Yes","Yes",{"$error":"#N/A"},{"$error":"#N/A"},{"$error":"#N/A"},{"$error":"#N/A"}]
[0,"No",{"$error":"#N/A"},"No","No",{"$f":"IF($I$4=TRUE,INDEX($BZ$29:$DC2366,MATCH($A849,$AZ$29:$AZ$1000,0),MATCH($AC$2,$BZ$18:$DC$18,0)),\"Yes\")","v":"Yes"},"Yes","Yes","Yes","Yes","Yes","Yes","Yes","Yes",{"$error":"#N/A"},{"$error":"#N/A"},"Yes","Yes","Yes","Yes",{"$error":"#N/A"},{"$error":"#N/A"},{"$error":"#N/A"},{"$error":"#N/A"}]
[0,"No",{"$error":"#N/A"},"No","No",{"$f":"IF($I$4=TRUE,INDEX($BZ$29:$DC2368,MATCH($A851,$AZ$29:$AZ$1000,0),MATCH($AC$2,$BZ$18:$DC$18,0)),\"Yes\")","v":"Yes"},"Yes","Yes","Yes","Yes","Yes","Yes","Yes","Yes",{"$error":"#N/A"},{"$error":"#N/A"},"Yes","Yes","Yes","Yes",{"$error":"#N/A"},{"$f":"IF(AND(C$7<=X851,C$7>=W851),\"Yes\",\"No\")","v":{"$error":"#N/A"}},{"$error":"#N/A"},{"$error":"#N/A"}]
[0,"No",{"$error":"#N/A"},"No","No",{"$f":"IF($I$4=TRUE,INDEX($BZ$29:$DC2377,MATCH($A860,$AZ$29:$AZ$1000,0),MATCH($AC$2,$BZ$18:$DC$18,0)),\"Yes\")","v":"Yes"},"Yes","Yes","Yes","Yes","Yes","Yes","Yes","Yes",{"$error":"#N/A"},{"$error":"#N/A"},"Yes","Yes","Yes","Yes",{"$error":"#N/A"},{"$error":"#N/A"},{"$error":"#N/A"},{"$error":"#N/A"}]
[0,"No",{"$error":"#N/A"},"No","No",{"$f":"IF($I$4=TRUE,INDEX($BZ$29:$DC2384,MATCH($A867,$AZ$29:$AZ$1000,0),MATCH($AC$2,$BZ$18:$DC$18,0)),\"Yes\")","v":"Yes"},"Yes","Yes","Yes","Yes","Yes","Yes","Yes","Yes",{"$error":"#N/A"},{"$error":"#N/A"},"Yes","Yes","Yes","Yes",{"$error":"#N/A"},{"$error":"#N/A"},{"$error":"#N/A"},{"$error":"#N/A"}]
[0,"No",{"$error":"#N/A"},"No","No",{"$f":"IF($I$4=TRUE,INDEX($BZ$29:$DC2386,MATCH($A869,$AZ$29:$AZ$1000,0),MATCH($AC$2,$BZ$18:$DC$18,0)),\"Yes\")","v":"Yes"},"Yes","Yes","Yes","Yes","Yes","Yes","Yes","Yes",{"$error":"#N/A"},{"$error":"#N/A"},"Yes","Yes","Yes","Yes",{"$error":"#N/A"},{"$error":"#N/A"},{"$error":"#N/A"},{"$error":"#N/A"}]
[0,"No",{"$error":"#N/A"},"No","No",{"$f":"IF($I$4=TRUE,INDEX($BZ$29:$DC2395,MATCH($A878,$AZ$29:$AZ$1000,0),MATCH($AC$2,$BZ$18:$DC$18,0)),\"Yes\")","v":"Yes"},"Yes","Yes","Yes","Yes","Yes","Yes","Yes","Yes",{"$error":"#N/A"},{"$error":"#N/A"},"Yes","Yes","Yes","Yes",{"$error":"#N/A"},{"$error":"#N/A"},{"$error":"#N/A"},{"$error":"#N/A"}]
[0,"No",{"$error":"#N/A"},"No","No",{"$f":"IF($I$4=TRUE,INDEX($BZ$29:$DC2402,MATCH($A885,$AZ$29:$AZ$1000,0),MATCH($AC$2,$BZ$18:$DC$18,0)),\"Yes\")","v":"Yes"},"Yes","Yes","Yes","Yes","Yes","Yes","Yes","Yes",{"$error":"#N/A"},{"$error":"#N/A"},"Yes","Yes","Yes","Yes",{"$error":"#N/A"},{"$error":"#N/A"},{"$error":"#N/A"},{"$error":"#N/A"}]
[0,"No",{"$error":"#N/A"},"No","No",{"$f":"IF($I$4=TRUE,INDEX($BZ$29:$DC2405,MATCH($A888,$AZ$29:$AZ$1000,0),MATCH($AC$2,$BZ$18:$DC$18,0)),\"Yes\")","v":"Yes"},"Yes","Yes","Yes","Yes","Yes","Yes","Yes","Yes",{"$error":"#N/A"},{"$error":"#N/A"},"Yes","Yes","Yes","Yes",{"$error":"#N/A"},{"$error":"#N/A"},{"$error":"#N/A"},{"$error":"#N/A"}]
[0,"No",{"$error":"#N/A"},"No","No",{"$f":"IF($I$4=TRUE,INDEX($BZ$29:$DC2410,MATCH($A893,$AZ$29:$AZ$1000,0),MATCH($AC$2,$BZ$18:$DC$18,0)),\"Yes\")","v":"Yes"},"Yes","Yes","Yes","Yes","Yes","Yes","Yes","Yes",{"$error":"#N/A"},{"$error":"#N/A"},"Yes","Yes","Yes","Yes",{"$error":"#N/A"},{"$error":"#N/A"},{"$error":"#N/A"},{"$error":"#N/A"}]
[0,"No",{"$error":"#N/A"},"No","No",{"$f":"IF($I$4=TRUE,INDEX($BZ$29:$DC2414,MATCH($A897,$AZ$29:$AZ$1000,0),MATCH($AC$2,$BZ$18:$DC$18,0)),\"Yes\")","v":"Yes"},"Yes","Yes","Yes","Yes","Yes","Yes","Yes","Yes",{"$error":"#N/A"},{"$error":"#N/A"},"Yes","Yes","Yes","Yes",{"$error":"#N/A"},{"$error":"#N/A"},{"$error":"#N/A"},{"$error":"#N/A"}]
[0,"No",{"$error":"#N/A"},"No","No",{"$f":"IF($I$4=TRUE,INDEX($BZ$29:$DC2423,MATCH($A906,$AZ$29:$AZ$1000,0),MATCH($AC$2,$BZ$18:$DC$18,0)),\"Yes\")","v":"Yes"},"Yes","Yes","Yes","Yes","Yes","Yes","Yes","Yes",{"$error":"#N/A"},{"$error":"#N/A"},"Yes","Yes","Yes","Yes",{"$error":"#N/A"},{"$error":"#N/A"},{"$error":"#N/A"},{"$error":"#N/A"}]
[0,"No",{"$error":"#N/A"},"No","No",{"$f":"IF($I$4=TRUE,INDEX($BZ$29:$DC2430,MATCH($A913,$AZ$29:$AZ$1000,0),MATCH($AC$2,$BZ$18:$DC$18,0)),\"Yes\")","v":"Yes"},"Yes","Yes","Yes","Yes","Yes","Yes","Yes","Yes",{"$error":"#N/A"},{"$error":"#N/A"},"Yes","Yes","Yes","Yes",{"$error":"#N/A"},{"$error":"#N/A"},{"$error":"#N/A"},{"$error":"#N/A"}]
[0,"No",{"$error":"#N/A"},"No","No",{"$f":"IF($I$4=TRUE,INDEX($BZ$29:$DC2435,MATCH($A918,$AZ$29:$AZ$1000,0),MATCH($AC$2,$BZ$18:$DC$18,0)),\"Yes\")","v":"Yes"},"Yes","Yes","Yes","Yes","Yes","Yes","Yes","Yes",{"$error":"#N/A"},{"$error":"#N/A"},"Yes","Yes","Yes","Yes",{"$error":"#N/A"},{"$error":"#N/A"},{"$error":"#N/A"},{"$error":"#N/A"}]
[0,"No",{"$error":"#N/A"},"No","No",{"$f":"IF($I$4=TRUE,INDEX($BZ$29:$DC2441,MATCH($A924,$AZ$29:$AZ$1000,0),MATCH($AC$2,$BZ$18:$DC$18,0)),\"Yes\")","v":"Yes"},"Yes","Yes","Yes","Yes","Yes","Yes","Yes","Yes",{"$error":"#N/A"},{"$error":"#N/A"},"Yes","Yes","Yes","Yes",{"$error":"#N/A"},{"$error":"#N/A"},{"$error":"#N/A"},{"$error":"#N/A"}]
[0,"No",{"$error":"#N/A"},"No","No",{"$f":"IF($I$4=TRUE,INDEX($BZ$29:$DC2448,MATCH($A931,$AZ$29:$AZ$1000,0),MATCH($AC$2,$BZ$18:$DC$18,0)),\"Yes\")","v":"Yes"},"Yes","Yes","Yes","Yes","Yes","Yes","Yes","Yes",{"$error":"#N/A"},{"$error":"#N/A"},"Yes","Yes","Yes","Yes",{"$error":"#N/A"},{"$error":"#N/A"},{"$error":"#N/A"},{"$error":"#N/A"}]
[0,"No",{"$error":"#N/A"},"No","No",{"$f":"IF($I$4=TRUE,INDEX($BZ$29:$DC2451,MATCH($A934,$AZ$29:$AZ$1000,0),MATCH($AC$2,$BZ$18:$DC$18,0)),\"Yes\")","v":"Yes"},"Yes","Yes","Yes","Yes","Yes","Yes","Yes","Yes",{"$error":"#N/A"},{"$error":"#N/A"},"Yes","Yes","Yes","Yes",{"$error":"#N/A"},{"$error":"#N/A"},{"$error":"#N/A"},{"$error":"#N/A"}]
[0,"No",{"$error":"#N/A"},"No","No",{"$f":"IF($I$4=TRUE,INDEX($BZ$29:$DC2455,MATCH($A938,$AZ$29:$AZ$1000,0),MATCH($AC$2,$BZ$18:$DC$18,0)),\"Yes\")","v":"Yes"},"Yes","Yes","Yes","Yes","Yes","Yes","Yes","Yes",{"$error":"#N/A"},{"$error":"#N/A"},"Yes","Yes","Yes","Yes",{"$error":"#N/A"},{"$error":"#N/A"},{"$error":"#N/A"},{"$error":"#N/A"}]
[0,"No",{"$error":"#N/A"},"No","No",{"$f":"IF($I$4=TRUE,INDEX($BZ$29:$DC2460,MATCH($A943,$AZ$29:$AZ$1000,0),MATCH($AC$2,$BZ$18:$DC$18,0)),\"Yes\")","v":"Yes"},"Yes","Yes","Yes","Yes","Yes","Yes","Yes","Yes",{"$error":"#N/A"},{"$error":"#N/A"},"Yes","Yes","Yes","Yes",{"$error":"#N/A"},{"$error":"#N/A"},{"$error":"#N/A"},{"$error":"#N/A"}]
[0,"No",{"$error":"#N/A"},"No","No",{"$f":"IF($I$4=TRUE,INDEX($BZ$29:$DC2469,MATCH($A952,$AZ$29:$AZ$1000,0),MATCH($AC$2,$BZ$18:$DC$18,0)),\"Yes\")","v":"Yes"},"Yes","Yes","Yes","Yes","Yes","Yes","Yes","Yes",{"$error":"#N/A"},{"$error":"#N/A"},"Yes","Yes","Yes","Yes",{"$error":"#N/A"},{"$error":"#N/A"},{"$error":"#N/A"},{"$error":"#N/A"}]
[0,"No",{"$error":"#N/A"},"No",{"$f":"IF(A$2=\"Cover Crop (340)\",\"Yes\",IF(ISBLANK($C$7),\"No\",IF(AND($C$7>=BJ959,$C$7<=BK959),\"Yes\",\"No\")))","v":"No"},{"$f":"IF($I$4=TRUE,INDEX($BZ$29:$DC2476,MATCH($A959,$AZ$29:$AZ$1000,0),MATCH($AC$2,$BZ$18:$DC$18,0)),\"Yes\")","v":"Yes"},"Yes","Yes","Yes","Yes","Yes","Yes","Yes","Yes",{"$error":"#N/A"},{"$error":"#N/A"},"Yes","Yes","Yes","Yes",{"$error":"#N/A"},{"$error":"#N/A"},{"$error":"#N/A"},{"$error":"#N/A"}]
[0,"No",{"$error":"#N/A"},"No","No",{"$f":"IF($I$4=TRUE,INDEX($BZ$29:$DC2479,MATCH($A962,$AZ$29:$AZ$1000,0),MATCH($AC$2,$BZ$18:$DC$18,0)),\"Yes\")","v":"Yes"},"Yes","Yes","Yes","Yes","Yes","Yes","Yes","Yes",{"$error":"#N/A"},{"$error":"#N/A"},"Yes","Yes","Yes","Yes",{"$error":"#N/A"},{"$error":"#N/A"},{"$error":"#N/A"},{"$error":"#N/A"}]
[0,"No",{"$error":"#N/A"},"No","No",{"$f":"IF($I$4=TRUE,INDEX($BZ$29:$DC2487,MATCH($A970,$AZ$29:$AZ$1000,0),MATCH($AC$2,$BZ$18:$DC$18,0)),\"Yes\")","v":"Yes"},"Yes","Yes","Yes","Yes","Yes","Yes","Yes","Yes",{"$error":"#N/A"},{"$error":"#N/A"},"Yes","Yes","Yes","Yes",{"$error":"#N/A"},{"$error":"#N/A"},{"$error":"#N/A"},{"$error":"#N/A"}]
[0,"No",{"$error":"#N/A"},"No","No",{"$f":"IF($I$4=TRUE,INDEX($BZ$29:$DC2494,MATCH($A977,$AZ$29:$AZ$1000,0),MATCH($AC$2,$BZ$18:$DC$18,0)),\"Yes\")","v":"Yes"},"Yes","Yes","Yes","Yes","Yes","Yes","Yes","Yes",{"$error":"#N/A"},{"$error":"#N/A"},"Yes","Yes","Yes","Yes",{"$error":"#N/A"},{"$error":"#N/A"},{"$error":"#N/A"},{"$error":"#N/A"}]
[0,"No",{"$error":"#N/A"},"No","No",{"$f":"IF($I$4=TRUE,INDEX($BZ$29:$DC2497,MATCH($A980,$AZ$29:$AZ$1000,0),MATCH($AC$2,$BZ$18:$DC$18,0)),\"Yes\")","v":"Yes"},"Yes","Yes","Yes","Yes","Yes","Yes","Yes","Yes",{"$error":"#N/A"},{"$error":"#N/A"},"Yes","Yes","Yes","Yes",{"$error":"#N/A"},{"$error":"#N/A"},{"$f":"IF(AF$1394=\"Tropical\",BJ980,IF(AND($C$8=\"Winter\",DF980=\"CS\"),BJ980-500,BJ980))","v":{"$error":"#N/A"}},{"$f":"IF(AF$1394=\"Tropical\",BK980,IF(AND($C$8=\"Winter\",DF980=\"WS\"),BK980-500,BK980))","v":{"$error":"#N/A"}}]
[0,"No",{"$error":"#N/A"},"No","No",{"$f":"IF($I$4=TRUE,INDEX($BZ$29:$DC2504,MATCH($A987,$AZ$29:$AZ$1000,0),MATCH($AC$2,$BZ$18:$DC$18,0)),\"Yes\")","v":"Yes"},"Yes","Yes","Yes","Yes","Yes","Yes","Yes","Yes",{"$error":"#N/A"},{"$error":"#N/A"},"Yes","Yes","Yes","Yes",{"$error":"#N/A"},{"$error":"#N/A"},{"$error":"#N/A"},{"$error":"#N/A"}]
[0,{"$f":"IF(A989=0,\"No\",IF(AND(C989=\"Yes\",D989=\"YES\",E989=\"Yes\",F989=\"yes\",G989=\"Yes\",H989=\"Yes\",I989=\"Yes\",J989=\"Yes\",N989=\"Yes\",Q989=\"Yes\",O989=\"Yes\",K989=\"Yes\",P989=\"Yes\",V989=\"Yes\"),\"Yes\",\"No\"))","v":"No"},{"$error":"#N/A"},"No","No",{"$f":"IF($I$4=TRUE,INDEX($BZ$29:$DC2506,MATCH($A989,$AZ$29:$AZ$1000,0),MATCH($AC$2,$BZ$18:$DC$18,0)),\"Yes\")","v":"Yes"},"Yes","Yes","Yes","Yes","Yes","Yes","Yes","Yes",{"$error":"#N/A"},{"$error":"#N/A"},"Yes","Yes","Yes","Yes",{"$error":"#N/A"},{"$error":"#N/A"},{"$error":"#N/A"},{"$error":"#N/A"}]
[0,"No",{"$error":"#N/A"},"No","No",{"$f":"IF($I$4=TRUE,INDEX($BZ$29:$DC2515,MATCH($A998,$AZ$29:$AZ$1000,0),MATCH($AC$2,$BZ$18:$DC$18,0)),\"Yes\")","v":"Yes"},"Yes","Yes","Yes","Yes","Yes","Yes","Yes","Yes",{"$error":"#N/A"},{"$error":"#N/A"},"Yes","Yes","Yes","Yes",{"$error":"#N/A"},{"$error":"#N/A"},{"$error":"#N/A"},{"$error":"#N/A"}]
[]
[]
[]
[]
[]
[]
[]
[]
[]
[]
[]
[]
[]
[]
[]
[]
[]
[]
[]
[]
[]
[]
[]
[]
[]
[]
[]
[]
[]
[]
[]
[]
[]
[]
[]
[]
[]
[]
[]
[]
[]
[]
[]
[]
[]
[]
[]
[]
[]
[]
[]
[]
[]
[]
[]
[]
[]
[]
[]
[]
[]
[]
[]
[]
[]
[null,null,null,null,null,null,null,null,null,null,null,null,null,null,null,null,null,null,null,null,null,null,null,null,null,null,null,null,"Plants Key on",{"$f":"IF(AND(AD1377=TRUE,OR(AD1376=\"Guam\",AD1376=\"Northern Marianas\")),\"Marianas Volcanic PM\",IF(AND(AD1377=FALSE,OR(AD1376=\"Guam\",AD1376=\"Northern Marianas\")),\"Marianas Limestone PM\",AD1376))","v":0},null,"Kauai","Kauai Native","Hawaii",null,null,null,"Kauai","Hawaii","Sub Tropical"]
[null,null,null,null,null,null,null,null,null,null,null,null,null,null,null,null,null,null,null,null,null,null,null,null,null,null,null,null,null,null,null,"Marianas Volcanic PM","Marianas Volcanic PM Native","Marianas",null,null,null,"Northern Marianas","Marianas","Tropical"]
[]
[]
["Planner Name",null,null,null,null,null,null,null,null,"Agronomy"]
["Business Name"]
["Species 1",null,null,null,null,null,null,null,null,null,null,null,null,null,null,null,null,{"$error":"#N/A"},null,null,"Method of Establishment","Site Preparation",null,"Planting Methods"]
["Species 10"]
["Phophate"]
[]
[null,"Hawaii"]
[]
[]
[]
[]
[]
[]
[]
[]
[]
[]
["aalii, hopbush",{"$f":"IF('Veg Guide Data Base'!B220=\"Yes\",'Veg Guide Data Base'!AZ220,\"\")","v":{"$error":"#N/A"}},{"$f":"IF('Veg Guide Data Base'!$B220=\"Yes\",'Veg Guide Data Base'!BL220,\"\")","v":{"$error":"#N/A"}},{"$f":"IF('Veg Guide Data Base'!$B220=\"Yes\",'Veg Guide Data Base'!BM220,\"\")","v":{"$error":"#N/A"}},{"$f":"IF('Veg Guide Data Base'!$B220=\"Yes\",'Veg Guide Data Base'!BJ220,\"\")","v":{"$error":"#N/A"}},{"$f":"IF('Veg Guide Data Base'!$B220=\"Yes\",'Veg Guide Data Base'!BK220,\"\")","v":{"$error":"#N/A"}},{"$f":"IF($A$2=\"All Species\",0,IF('Veg Guide Data Base'!$B220=\"Yes\",INDEX($ED$19:$ET$1000,MATCH($B1499,$AZ$19:$AZ$1000,0),MATCH($A$2,$ED$18:$EU$18,0)),\"\"))","v":0},{"$f":"IF($A$2=\"All Species\",0,IF('Veg Guide Data Base'!$B220=\"Yes\",INDEX($EV$19:$FL$1000,MATCH($B1499,$AZ$19:$AZ$1000,0),MATCH($A$2,$EV$18:$FL$18,0)),\"\"))","v":0},{"$f":"IF(B1499=\"\",\"No\",\"Yes\")","v":{"$error":"#N/A"}},{"$f":"IF($B1499<>\"\",INDEX($BA$19:$BI$600,MATCH($B1499,$AZ$19:$AZ$1361,0),MATCH($AC$1,$BA$18:$BI$18,FALSE)),\"\")","v":{"$error":"#N/A"}},{"$f":"IF('Veg Guide Data Base'!$B220=\"Yes\",'Veg Guide Data Base'!BW220,\"\")","v":{"$error":"#N/A"}},{"$f":"IF('Veg Guide Data Base'!$B220=\"Yes\",'Veg Guide Data Base'!BX220,\"\")","v":{"$error":"#N/A"}},{"$f":"IF('Veg Guide Data Base'!$B220=\"Yes\",'Veg Guide Data Base'!BY220,\"\")","v":{"$error":"#N/A"}},null,null,{"$f":"IFERROR(INDEX($BS$19:$BS$600,MATCH($B1499,$AZ$19:$AZ$600,0)),\"\")","v":""},0,"All Species","  ",{"$f":"VLOOKUP(A2,R1500:T1515,3,FALSE)","v":{"$error":"#N/A"}},null,null,"Cover Crop (340)","Reduce erosion from wind and water     ",{"$f":"IF($A$2=W1499,TRUE,FALSE)","v":false},{"$f":"IF(Y1499=TRUE,X1499,\"\")","v":""},"",{"$f":"IF(AA1499=\"\",\"No\",\"Yes\")","v":"No"},"SOIL EROSION - Sheet, rill, & wind erosion","Resource Concerns","RCC","Alley Cropping (311)","Conservation Cover (327)","Cover Crop (340)","Critical Area Planting (342)","Field Border (386)","Hedgerow Planting (422)","Herbaceous Wind Barriers (603)","Forest Farming (379)","Riparian Forest Buffer (391)","Riparian Herbaceous Cover (390)","Silvopasture (381)","Tree/Shrub Establishment (612)","Vegetative Barrier (601)","Windbreak/Shelterbelt Establishment (380)","Purposes for Agronomy Purpose List","Practices for Agronomy Purpose List","Dynamic Practice Purpose List for Agronomy IR Form (DO NOT EDIT CELLS)"]
["ae, manele, soapberry",{"$f":"IF('Veg Guide Data Base'!B485=\"Yes\",'Veg Guide Data Base'!AZ485,\"\")","v":{"$error":"#N/A"}},{"$f":"IF('Veg Guide Data Base'!$B485=\"Yes\",'Veg Guide Data Base'!BL485,\"\")","v":{"$error":"#N/A"}},{"$f":"IF('Veg Guide Data Base'!$B485=\"Yes\",'Veg Guide Data Base'!BM485,\"\")","v":{"$error":"#N/A"}},{"$f":"IF('Veg Guide Data Base'!$B485=\"Yes\",'Veg Guide Data Base'!BJ485,\"\")","v":{"$error":"#N/A"}},{"$f":"IF('Veg Guide Data Base'!$B485=\"Yes\",'Veg Guide Data Base'!BK485,\"\")","v":{"$error":"#N/A"}},{"$f":"IF($A$2=\"All Species\",0,IF('Veg Guide Data Base'!$B485=\"Yes\",INDEX($ED$19:$ET$1000,MATCH($B1502,$AZ$19:$AZ$1000,0),MATCH($A$2,$ED$18:$EU$18,0)),\"\"))","v":0},{"$f":"IF($A$2=\"All Species\",0,IF('Veg Guide Data Base'!$B485=\"Yes\",INDEX($EV$19:$FL$1000,MATCH($B1502,$AZ$19:$AZ$1000,0),MATCH($A$2,$EV$18:$FL$18,0)),\"\"))","v":0},{"$f":"IF(B1502=\"\",\"No\",\"Yes\")","v":{"$error":"#N/A"}},{"$f":"IF($B1502<>\"\",INDEX($BA$19:$BI$600,MATCH($B1502,$AZ$19:$AZ$1361,0),MATCH($AC$1,$BA$18:$BI$18,FALSE)),\"\")","v":{"$error":"#N/A"}},{"$f":"IF('Veg Guide Data Base'!$B485=\"Yes\",'Veg Guide Data Base'!BW485,\"\")","v":{"$error":"#N/A"}},{"$f":"IF('Veg Guide Data Base'!$B485=\"Yes\",'Veg Guide Data Base'!BX485,\"\")","v":{"$error":"#N/A"}},{"$f":"IF('Veg Guide Data Base'!$B485=\"Yes\",'Veg Guide Data Base'!BY485,\"\")","v":{"$error":"#N/A"}},null,null,"",340,"Cover Crop (340)",null,"Control growth of the cover crop to reduce competition from volunteer plants and shading.  Control weeds in cover crops by mowing or by using other pest management techniques.  Control soil moisture depletion by selecting water efficient plant species and terminating the cover crop before excessive transpiration.  ",null,null,"Cover Crop (340)","Suppress excessive weed pressures and break pest cycles",false,"","",{"$f":"IF(AA1502=\"\",\"No\",\"Yes\")","v":"No"},"SOIL QUALITY DEGRADATION - Subsidence"," Ephemeral gully erosion","Soil","Improve soil health by increasing utilization and cycling of nutrients","Reduce emissions of particulate matter (PM), PM precursors, and greenhouse gases.","Reduce water quality degradation by utilizing excessive soil nutrients","Stabilize areas such as sand dunes and riparian areas","Provide food and cover for wildlife and pollinators or other beneficial organisms (inadequate habitat for fish and wildlife)",null,"Improve plant health by reducing crop damage by wind or wind-borne soil particles","Increase net carbon storage in plant biomass and soil","Reduce excess amounts of sediment, organic material, nutrients and pesticides in surface runoff and reduce excess nutrients and other chemicals in shallow ground water flow","Establish and maintain habitat corridors","Improve water quality","Control erosion",null,"Alter the microenvironment for enhancing plant growth","Reduce emissions of particulate matter (PM), PM precursors, and greenhouse gases.","Conservation Cover (327)","",{"$f":"IFERROR(INDEX($AV$1500:$AV$1533,_xlfn.AGGREGATE(15,6,(ROW($AV$1500:$AV$1533)-ROW($AV$1500)+1)/($AV$1500:$AV$1533<>\"\"),ROWS(AV$2:AV4))),\"\")","v":""}]
["akoko - 1",{"$f":"IF('Veg Guide Data Base'!B252=\"Yes\",'Veg Guide Data Base'!AZ252,\"\")","v":{"$error":"#N/A"}},{"$f":"IF('Veg Guide Data Base'!$B252=\"Yes\",'Veg Guide Data Base'!BL252,\"\")","v":{"$error":"#N/A"}},{"$f":"IF('Veg Guide Data Base'!$B252=\"Yes\",'Veg Guide Data Base'!BM252,\"\")","v":{"$error":"#N/A"}},{"$f":"IF('Veg Guide Data Base'!$B252=\"Yes\",'Veg Guide Data Base'!BJ252,\"\")","v":{"$error":"#N/A"}},{"$f":"IF('Veg Guide Data Base'!$B252=\"Yes\",'Veg Guide Data Base'!BK252,\"\")","v":{"$error":"#N/A"}},{"$f":"IF($A$2=\"All Species\",0,IF('Veg Guide Data Base'!$B252=\"Yes\",INDEX($ED$19:$ET$1000,MATCH($B1511,$AZ$19:$AZ$1000,0),MATCH($A$2,$ED$18:$EU$18,0)),\"\"))","v":0},{"$f":"IF($A$2=\"All Species\",0,IF('Veg Guide Data Base'!$B252=\"Yes\",INDEX($EV$19:$FL$1000,MATCH($B1511,$AZ$19:$AZ$1000,0),MATCH($A$2,$EV$18:$FL$18,0)),\"\"))","v":0},{"$f":"IF(B1511=\"\",\"No\",\"Yes\")","v":{"$error":"#N/A"}},{"$f":"IF($B1511<>\"\",INDEX($BA$19:$BI$600,MATCH($B1511,$AZ$19:$AZ$1361,0),MATCH($AC$1,$BA$18:$BI$18,FALSE)),\"\")","v":{"$error":"#N/A"}},{"$f":"IF('Veg Guide Data Base'!$B252=\"Yes\",'Veg Guide Data Base'!BW252,\"\")","v":{"$error":"#N/A"}},{"$f":"IF('Veg Guide Data Base'!$B252=\"Yes\",'Veg Guide Data Base'!BX252,\"\")","v":{"$error":"#N/A"}},{"$f":"IF('Veg Guide Data Base'!$B252=\"Yes\",'Veg Guide Data Base'!BY252,\"\")","v":{"$error":"#N/A"}},null,null,"",381,"Silvopasture (381)",null,null,null,null,"Critical Area Planting (342)","Stabilize areas with existing or expected high rates of soil erosion by wind or water",false,"","",{"$f":"IF(AA1511=\"\",\"No\",\"Yes\")","v":"No"},"WATER QUALITY DEGRADATION – Pesticides transported to surface and ground waters"," Ponding and flooding","Water",null,null,null,null,null,null,null,null,null,null,null,null,null,null,"Stabilize areas with existing or expected high rates of soil erosion by wind or water","Critical Area Planting (342)",""]
["alani",{"$f":"IF('Veg Guide Data Base'!B353=\"Yes\",'Veg Guide Data Base'!AZ353,\"\")","v":{"$error":"#N/A"}},{"$f":"IF('Veg Guide Data Base'!$B353=\"Yes\",'Veg Guide Data Base'!BL353,\"\")","v":{"$error":"#N/A"}},{"$f":"IF('Veg Guide Data Base'!$B353=\"Yes\",'Veg Guide Data Base'!BM353,\"\")","v":{"$error":"#N/A"}},{"$f":"IF('Veg Guide Data Base'!$B353=\"Yes\",'Veg Guide Data Base'!BJ353,\"\")","v":{"$error":"#N/A"}},{"$f":"IF('Veg Guide Data Base'!$B353=\"Yes\",'Veg Guide Data Base'!BK353,\"\")","v":{"$error":"#N/A"}},{"$f":"IF($A$2=\"All Species\",0,IF('Veg Guide Data Base'!$B353=\"Yes\",INDEX($ED$19:$ET$1000,MATCH($B1516,$AZ$19:$AZ$1000,0),MATCH($A$2,$ED$18:$EU$18,0)),\"\"))","v":0},{"$f":"IF($A$2=\"All Species\",0,IF('Veg Guide Data Base'!$B353=\"Yes\",INDEX($EV$19:$FL$1000,MATCH($B1516,$AZ$19:$AZ$1000,0),MATCH($A$2,$EV$18:$FL$18,0)),\"\"))","v":0},{"$f":"IF(B1516=\"\",\"No\",\"Yes\")","v":{"$error":"#N/A"}},{"$f":"IF($B1516<>\"\",INDEX($BA$19:$BI$600,MATCH($B1516,$AZ$19:$AZ$1361,0),MATCH($AC$1,$BA$18:$BI$18,FALSE)),\"\")","v":{"$error":"#N/A"}},{"$f":"IF('Veg Guide Data Base'!$B353=\"Yes\",'Veg Guide Data Base'!BW353,\"\")","v":{"$error":"#N/A"}},{"$f":"IF('Veg Guide Data Base'!$B353=\"Yes\",'Veg Guide Data Base'!BX353,\"\")","v":{"$error":"#N/A"}},{"$f":"IF('Veg Guide Data Base'!$B353=\"Yes\",'Veg Guide Data Base'!BY353,\"\")","v":{"$error":"#N/A"}},null,null,"",550,"Range Planting (550)",null,null,null,null,"Field Border (386)","Increase carbon storage",false,"","",{"$f":"IF(AA1516=\"\",\"No\",\"Yes\")","v":"No"},"WATER QUALITY DEGRADATION – Elevated water temperature"," Ground water depletion","Water",null,null,null,null,null,null,null,null,null,null,null,null,null,null,"Provide food and cover for wildlife and pollinators or other beneficial organisms (inadequate habitat for fish and wildlife)","Field Border (386)",""]
["areca palm",{"$f":"IF('Veg Guide Data Base'!B228=\"Yes\",'Veg Guide Data Base'!AZ228,\"\")","v":{"$error":"#N/A"}},{"$f":"IF('Veg Guide Data Base'!$B228=\"Yes\",'Veg Guide Data Base'!BL228,\"\")","v":{"$error":"#N/A"}},{"$f":"IF('Veg Guide Data Base'!$B228=\"Yes\",'Veg Guide Data Base'!BM228,\"\")","v":{"$error":"#N/A"}},{"$f":"IF('Veg Guide Data Base'!$B228=\"Yes\",'Veg Guide Data Base'!BJ228,\"\")","v":{"$error":"#N/A"}},{"$f":"IF('Veg Guide Data Base'!$B228=\"Yes\",'Veg Guide Data Base'!BK228,\"\")","v":{"$error":"#N/A"}},{"$f":"IF($A$2=\"All Species\",0,IF('Veg Guide Data Base'!$B228=\"Yes\",INDEX($ED$19:$ET$1000,MATCH($B1520,$AZ$19:$AZ$1000,0),MATCH($A$2,$ED$18:$EU$18,0)),\"\"))","v":0},{"$f":"IF($A$2=\"All Species\",0,IF('Veg Guide Data Base'!$B228=\"Yes\",INDEX($EV$19:$FL$1000,MATCH($B1520,$AZ$19:$AZ$1000,0),MATCH($A$2,$EV$18:$FL$18,0)),\"\"))","v":0},{"$f":"IF(B1520=\"\",\"No\",\"Yes\")","v":{"$error":"#N/A"}},{"$f":"IF($B1520<>\"\",INDEX($BA$19:$BI$600,MATCH($B1520,$AZ$19:$AZ$1361,0),MATCH($AC$1,$BA$18:$BI$18,FALSE)),\"\")","v":{"$error":"#N/A"}},{"$f":"IF('Veg Guide Data Base'!$B228=\"Yes\",'Veg Guide Data Base'!BW228,\"\")","v":{"$error":"#N/A"}},{"$f":"IF('Veg Guide Data Base'!$B228=\"Yes\",'Veg Guide Data Base'!BX228,\"\")","v":{"$error":"#N/A"}},{"$f":"IF('Veg Guide Data Base'!$B228=\"Yes\",'Veg Guide Data Base'!BY228,\"\")","v":{"$error":"#N/A"}},null,null,"",null,null,null,null,null,null,"Pasture and Hay Planting (512)","Reduce soil erosion",false,"","",{"$f":"IF(AA1520=\"\",\"No\",\"Yes\")","v":"No"},"DEGRADED PLANT CONDITION– Wildfire hazard, excessive biomass accumulation"," Nutrients transported to ground water","Water",null,null,null,null,null,null,null,null,null,null,null,null,null,null,"Reduce soil particulate emissions to improve air quality","Herbaceous Wind Barriers (603)",""]
["big/broad leaf mahogany",{"$f":"IF('Veg Guide Data Base'!B515=\"Yes\",'Veg Guide Data Base'!AZ515,\"\")","v":{"$error":"#N/A"}},{"$f":"IF('Veg Guide Data Base'!$B515=\"Yes\",'Veg Guide Data Base'!BL515,\"\")","v":{"$error":"#N/A"}},{"$f":"IF('Veg Guide Data Base'!$B515=\"Yes\",'Veg Guide Data Base'!BM515,\"\")","v":{"$error":"#N/A"}},{"$f":"IF('Veg Guide Data Base'!$B515=\"Yes\",'Veg Guide Data Base'!BJ515,\"\")","v":{"$error":"#N/A"}},{"$f":"IF('Veg Guide Data Base'!$B515=\"Yes\",'Veg Guide Data Base'!BK515,\"\")","v":{"$error":"#N/A"}},{"$f":"IF($A$2=\"All Species\",0,IF('Veg Guide Data Base'!$B515=\"Yes\",INDEX($ED$19:$ET$1000,MATCH($B1529,$AZ$19:$AZ$1000,0),MATCH($A$2,$ED$18:$EU$18,0)),\"\"))","v":0},{"$f":"IF($A$2=\"All Species\",0,IF('Veg Guide Data Base'!$B515=\"Yes\",INDEX($EV$19:$FL$1000,MATCH($B1529,$AZ$19:$AZ$1000,0),MATCH($A$2,$EV$18:$FL$18,0)),\"\"))","v":0},{"$f":"IF(B1529=\"\",\"No\",\"Yes\")","v":{"$error":"#N/A"}},{"$f":"IF($B1529<>\"\",INDEX($BA$19:$BI$600,MATCH($B1529,$AZ$19:$AZ$1361,0),MATCH($AC$1,$BA$18:$BI$18,FALSE)),\"\")","v":{"$error":"#N/A"}},{"$f":"IF('Veg Guide Data Base'!$B515=\"Yes\",'Veg Guide Data Base'!BW515,\"\")","v":{"$error":"#N/A"}},{"$f":"IF('Veg Guide Data Base'!$B515=\"Yes\",'Veg Guide Data Base'!BX515,\"\")","v":{"$error":"#N/A"}},{"$f":"IF('Veg Guide Data Base'!$B515=\"Yes\",'Veg Guide Data Base'!BY515,\"\")","v":{"$error":"#N/A"}},null,null,"",null,null,null,null,null,null,"Range Planting (550)","Restore a plant community similar to the Ecological Site Description reference state for the site or the desired plant commnunity",false,"","",{"$f":"IF(AA1529=\"\",\"No\",\"Yes\")","v":"No"},"AIR QUALITY IMPACTS - Emissions of Ozone Precursors"," Sediment transported to surface water","Water",null,null,null,null,null,null,null,null,null,null,null,null,null,null,"Restore, improve or maintain the desired plant communities","Riparian Herbaceous Cover (390)",""]
["blue marble",{"$f":"IF('Veg Guide Data Base'!B232=\"Yes\",'Veg Guide Data Base'!AZ232,\"\")","v":{"$error":"#N/A"}},{"$f":"IF('Veg Guide Data Base'!$B232=\"Yes\",'Veg Guide Data Base'!BL232,\"\")","v":{"$error":"#N/A"}},{"$f":"IF('Veg Guide Data Base'!$B232=\"Yes\",'Veg Guide Data Base'!BM232,\"\")","v":{"$error":"#N/A"}},{"$f":"IF('Veg Guide Data Base'!$B232=\"Yes\",'Veg Guide Data Base'!BJ232,\"\")","v":{"$error":"#N/A"}},{"$f":"IF('Veg Guide Data Base'!$B232=\"Yes\",'Veg Guide Data Base'!BK232,\"\")","v":{"$error":"#N/A"}},{"$f":"IF($A$2=\"All Species\",0,IF('Veg Guide Data Base'!$B232=\"Yes\",INDEX($ED$19:$ET$1000,MATCH($B1530,$AZ$19:$AZ$1000,0),MATCH($A$2,$ED$18:$EU$18,0)),\"\"))","v":0},{"$f":"IF($A$2=\"All Species\",0,IF('Veg Guide Data Base'!$B232=\"Yes\",INDEX($EV$19:$FL$1000,MATCH($B1530,$AZ$19:$AZ$1000,0),MATCH($A$2,$EV$18:$FL$18,0)),\"\"))","v":0},{"$f":"IF(B1530=\"\",\"No\",\"Yes\")","v":{"$error":"#N/A"}},{"$f":"IF($B1530<>\"\",INDEX($BA$19:$BI$600,MATCH($B1530,$AZ$19:$AZ$1361,0),MATCH($AC$1,$BA$18:$BI$18,FALSE)),\"\")","v":{"$error":"#N/A"}},{"$f":"IF('Veg Guide Data Base'!$B232=\"Yes\",'Veg Guide Data Base'!BW232,\"\")","v":{"$error":"#N/A"}},{"$f":"IF('Veg Guide Data Base'!$B232=\"Yes\",'Veg Guide Data Base'!BX232,\"\")","v":{"$error":"#N/A"}},{"$f":"IF('Veg Guide Data Base'!$B232=\"Yes\",'Veg Guide Data Base'!BY232,\"\")","v":{"$error":"#N/A"}},null,null,"",null,null,null,null,null,null,"Range Planting (550)","Provide or improve forages for livestock",false,"","",{"$f":"IF(AA1530=\"\",\"No\",\"Yes\")","v":"No"},"AIR QUALITY IMPACTS - Objectionable odors"," Elevated water temperature","Water",null,null,null,null,null,null,null,null,null,null,null,null,null,null,"Dissipate stream energy and trap sediment","Riparian Herbaceous Cover (390)",""]
["cornstalk dracaena",{"$f":"IF('Veg Guide Data Base'!B222=\"Yes\",'Veg Guide Data Base'!AZ222,\"\")","v":{"$error":"#N/A"}},{"$f":"IF('Veg Guide Data Base'!$B222=\"Yes\",'Veg Guide Data Base'!BL222,\"\")","v":{"$error":"#N/A"}},{"$f":"IF('Veg Guide Data Base'!$B222=\"Yes\",'Veg Guide Data Base'!BM222,\"\")","v":{"$error":"#N/A"}},{"$f":"IF('Veg Guide Data Base'!$B222=\"Yes\",'Veg Guide Data Base'!BJ222,\"\")","v":{"$error":"#N/A"}},{"$f":"IF('Veg Guide Data Base'!$B222=\"Yes\",'Veg Guide Data Base'!BK222,\"\")","v":{"$error":"#N/A"}},{"$f":"IF($A$2=\"All Species\",0,IF('Veg Guide Data Base'!$B222=\"Yes\",INDEX($ED$19:$ET$1000,MATCH($B1540,$AZ$19:$AZ$1000,0),MATCH($A$2,$ED$18:$EU$18,0)),\"\"))","v":0},{"$f":"IF($A$2=\"All Species\",0,IF('Veg Guide Data Base'!$B222=\"Yes\",INDEX($EV$19:$FL$1000,MATCH($B1540,$AZ$19:$AZ$1000,0),MATCH($A$2,$EV$18:$FL$18,0)),\"\"))","v":0},{"$f":"IF(B1540=\"\",\"No\",\"Yes\")","v":{"$error":"#N/A"}},{"$f":"IF($B1540<>\"\",INDEX($BA$19:$BI$600,MATCH($B1540,$AZ$19:$AZ$1361,0),MATCH($AC$1,$BA$18:$BI$18,FALSE)),\"\")","v":{"$error":"#N/A"}},{"$f":"IF('Veg Guide Data Base'!$B222=\"Yes\",'Veg Guide Data Base'!BW222,\"\")","v":{"$error":"#N/A"}},{"$f":"IF('Veg Guide Data Base'!$B222=\"Yes\",'Veg Guide Data Base'!BX222,\"\")","v":{"$error":"#N/A"}},{"$f":"IF('Veg Guide Data Base'!$B222=\"Yes\",'Veg Guide Data Base'!BY222,\"\")","v":{"$error":"#N/A"}},null,null,"",null,null,null,null,null,null,null,null,false,"","",{"$f":"IF(AA1540=\"\",\"No\",\"Yes\")","v":"No"},null," Terrestrial habitat for wildlife and invertebrates","Animals"]
["fern pine",{"$f":"IF('Veg Guide Data Base'!B424=\"Yes\",'Veg Guide Data Base'!AZ424,\"\")","v":{"$error":"#N/A"}},{"$f":"IF('Veg Guide Data Base'!$B424=\"Yes\",'Veg Guide Data Base'!BL424,\"\")","v":{"$error":"#N/A"}},{"$f":"IF('Veg Guide Data Base'!$B424=\"Yes\",'Veg Guide Data Base'!BM424,\"\")","v":{"$error":"#N/A"}},{"$f":"IF('Veg Guide Data Base'!$B424=\"Yes\",'Veg Guide Data Base'!BJ424,\"\")","v":{"$error":"#N/A"}},{"$f":"IF('Veg Guide Data Base'!$B424=\"Yes\",'Veg Guide Data Base'!BK424,\"\")","v":{"$error":"#N/A"}},{"$f":"IF($A$2=\"All Species\",0,IF('Veg Guide Data Base'!$B424=\"Yes\",INDEX($ED$19:$ET$1000,MATCH($B1545,$AZ$19:$AZ$1000,0),MATCH($A$2,$ED$18:$EU$18,0)),\"\"))","v":0},{"$f":"IF($A$2=\"All Species\",0,IF('Veg Guide Data Base'!$B424=\"Yes\",INDEX($EV$19:$FL$1000,MATCH($B1545,$AZ$19:$AZ$1000,0),MATCH($A$2,$EV$18:$FL$18,0)),\"\"))","v":0},{"$f":"IF(B1545=\"\",\"No\",\"Yes\")","v":{"$error":"#N/A"}},{"$f":"IF($B1545<>\"\",INDEX($BA$19:$BI$600,MATCH($B1545,$AZ$19:$AZ$1361,0),MATCH($AC$1,$BA$18:$BI$18,FALSE)),\"\")","v":{"$error":"#N/A"}},{"$f":"IF('Veg Guide Data Base'!$B424=\"Yes\",'Veg Guide Data Base'!BW424,\"\")","v":{"$error":"#N/A"}},{"$f":"IF('Veg Guide Data Base'!$B424=\"Yes\",'Veg Guide Data Base'!BX424,\"\")","v":{"$error":"#N/A"}},{"$f":"IF('Veg Guide Data Base'!$B424=\"Yes\",'Veg Guide Data Base'!BY424,\"\")","v":{"$error":"#N/A"}},null,null,"",null,null,null,null,null,null,null,null,false,"","",{"$f":"IF(AA1545=\"\",\"No\",\"Yes\")","v":"No"},null," Energy efficiency of equipment and facilities","Energy"]
["fish poison tree  ",{"$f":"IF('Veg Guide Data Base'!B78=\"Yes\",'Veg Guide Data Base'!AZ78,\"\")","v":{"$error":"#N/A"}},{"$f":"IF('Veg Guide Data Base'!$B78=\"Yes\",'Veg Guide Data Base'!BL78,\"\")","v":{"$error":"#N/A"}},{"$f":"IF('Veg Guide Data Base'!$B78=\"Yes\",'Veg Guide Data Base'!BM78,\"\")","v":{"$error":"#N/A"}},{"$f":"IF('Veg Guide Data Base'!$B78=\"Yes\",'Veg Guide Data Base'!BJ78,\"\")","v":{"$error":"#N/A"}},{"$f":"IF('Veg Guide Data Base'!$B78=\"Yes\",'Veg Guide Data Base'!BK78,\"\")","v":{"$error":"#N/A"}},{"$f":"IF($A$2=\"All Species\",0,IF('Veg Guide Data Base'!$B78=\"Yes\",INDEX($ED$19:$ET$1000,MATCH($B1548,$AZ$19:$AZ$1000,0),MATCH($A$2,$ED$18:$EU$18,0)),\"\"))","v":0},{"$f":"IF($A$2=\"All Species\",0,IF('Veg Guide Data Base'!$B78=\"Yes\",INDEX($EV$19:$FL$1000,MATCH($B1548,$AZ$19:$AZ$1000,0),MATCH($A$2,$EV$18:$FL$18,0)),\"\"))","v":0},{"$f":"IF(B1548=\"\",\"No\",\"Yes\")","v":{"$error":"#N/A"}},{"$f":"IF($B1548<>\"\",INDEX($BA$19:$BI$600,MATCH($B1548,$AZ$19:$AZ$1361,0),MATCH($AC$1,$BA$18:$BI$18,FALSE)),\"\")","v":{"$error":"#N/A"}},{"$f":"IF('Veg Guide Data Base'!$B78=\"Yes\",'Veg Guide Data Base'!BW78,\"\")","v":{"$error":"#N/A"}},{"$f":"IF('Veg Guide Data Base'!$B78=\"Yes\",'Veg Guide Data Base'!BX78,\"\")","v":{"$error":"#N/A"}},{"$f":"IF('Veg Guide Data Base'!$B78=\"Yes\",'Veg Guide Data Base'!BY78,\"\")","v":{"$error":"#N/A"}},null,null,"",null,null,null,null,null,null,null,null,false,"","",{"$f":"IF(AA1548=\"\",\"No\",\"Yes\")","v":"No"}]
["hapuu",{"$f":"IF('Veg Guide Data Base'!B154=\"Yes\",'Veg Guide Data Base'!AZ154,\"\")","v":{"$error":"#N/A"}},{"$f":"IF('Veg Guide Data Base'!$B154=\"Yes\",'Veg Guide Data Base'!BL154,\"\")","v":{"$error":"#N/A"}},{"$f":"IF('Veg Guide Data Base'!$B154=\"Yes\",'Veg Guide Data Base'!BM154,\"\")","v":{"$error":"#N/A"}},{"$f":"IF('Veg Guide Data Base'!$B154=\"Yes\",'Veg Guide Data Base'!BJ154,\"\")","v":{"$error":"#N/A"}},{"$f":"IF('Veg Guide Data Base'!$B154=\"Yes\",'Veg Guide Data Base'!BK154,\"\")","v":{"$error":"#N/A"}},{"$f":"IF($A$2=\"All Species\",0,IF('Veg Guide Data Base'!$B154=\"Yes\",INDEX($ED$19:$ET$1000,MATCH($B1557,$AZ$19:$AZ$1000,0),MATCH($A$2,$ED$18:$EU$18,0)),\"\"))","v":0},{"$f":"IF($A$2=\"All Species\",0,IF('Veg Guide Data Base'!$B154=\"Yes\",INDEX($EV$19:$FL$1000,MATCH($B1557,$AZ$19:$AZ$1000,0),MATCH($A$2,$EV$18:$FL$18,0)),\"\"))","v":0},{"$f":"IF(B1557=\"\",\"No\",\"Yes\")","v":{"$error":"#N/A"}},{"$f":"IF($B1557<>\"\",INDEX($BA$19:$BI$600,MATCH($B1557,$AZ$19:$AZ$1361,0),MATCH($AC$1,$BA$18:$BI$18,FALSE)),\"\")","v":{"$error":"#N/A"}},{"$f":"IF('Veg Guide Data Base'!$B154=\"Yes\",'Veg Guide Data Base'!BW154,\"\")","v":{"$error":"#N/A"}},{"$f":"IF('Veg Guide Data Base'!$B154=\"Yes\",'Veg Guide Data Base'!BX154,\"\")","v":{"$error":"#N/A"}},{"$f":"IF('Veg Guide Data Base'!$B154=\"Yes\",'Veg Guide Data Base'!BY154,\"\")","v":{"$error":"#N/A"}},null,null,"",null,null,null,null,null,null,null,null,false,"","",{"$f":"IF(AA1557=\"\",\"No\",\"Yes\")","v":"No"}]
["hoawa - 1",{"$f":"IF('Veg Guide Data Base'!B415=\"Yes\",'Veg Guide Data Base'!AZ415,\"\")","v":{"$error":"#N/A"}},{"$f":"IF('Veg Guide Data Base'!$B415=\"Yes\",'Veg Guide Data Base'!BL415,\"\")","v":{"$error":"#N/A"}},{"$f":"IF('Veg Guide Data Base'!$B415=\"Yes\",'Veg Guide Data Base'!BM415,\"\")","v":{"$error":"#N/A"}},{"$f":"IF('Veg Guide Data Base'!$B415=\"Yes\",'Veg Guide Data Base'!BJ415,\"\")","v":{"$error":"#N/A"}},{"$f":"IF('Veg Guide Data Base'!$B415=\"Yes\",'Veg Guide Data Base'!BK415,\"\")","v":{"$error":"#N/A"}},{"$f":"IF($A$2=\"All Species\",0,IF('Veg Guide Data Base'!$B415=\"Yes\",INDEX($ED$19:$ET$1000,MATCH($B1560,$AZ$19:$AZ$1000,0),MATCH($A$2,$ED$18:$EU$18,0)),\"\"))","v":0},{"$f":"IF($A$2=\"All Species\",0,IF('Veg Guide Data Base'!$B415=\"Yes\",INDEX($EV$19:$FL$1000,MATCH($B1560,$AZ$19:$AZ$1000,0),MATCH($A$2,$EV$18:$FL$18,0)),\"\"))","v":0},{"$f":"IF(B1560=\"\",\"No\",\"Yes\")","v":{"$error":"#N/A"}},{"$f":"IF($B1560<>\"\",INDEX($BA$19:$BI$600,MATCH($B1560,$AZ$19:$AZ$1361,0),MATCH($AC$1,$BA$18:$BI$18,FALSE)),\"\")","v":{"$error":"#N/A"}},{"$f":"IF('Veg Guide Data Base'!$B415=\"Yes\",'Veg Guide Data Base'!BW415,\"\")","v":{"$error":"#N/A"}},{"$f":"IF('Veg Guide Data Base'!$B415=\"Yes\",'Veg Guide Data Base'!BX415,\"\")","v":{"$error":"#N/A"}},{"$f":"IF('Veg Guide Data Base'!$B415=\"Yes\",'Veg Guide Data Base'!BY415,\"\")","v":{"$error":"#N/A"}},null,null,"",null,null,null,null,null,null,null,null,false,"","",{"$f":"IF(AA1560=\"\",\"No\",\"Yes\")","v":"No"}]
["iliahi, sandalwood - 1",{"$f":"IF('Veg Guide Data Base'!B477=\"Yes\",'Veg Guide Data Base'!AZ477,\"\")","v":{"$error":"#N/A"}},{"$f":"IF('Veg Guide Data Base'!$B477=\"Yes\",'Veg Guide Data Base'!BL477,\"\")","v":{"$error":"#N/A"}},{"$f":"IF('Veg Guide Data Base'!$B477=\"Yes\",'Veg Guide Data Base'!BM477,\"\")","v":{"$error":"#N/A"}},{"$f":"IF('Veg Guide Data Base'!$B477=\"Yes\",'Veg Guide Data Base'!BJ477,\"\")","v":{"$error":"#N/A"}},{"$f":"IF('Veg Guide Data Base'!$B477=\"Yes\",'Veg Guide Data Base'!BK477,\"\")","v":{"$error":"#N/A"}},{"$f":"IF($A$2=\"All Species\",0,IF('Veg Guide Data Base'!$B477=\"Yes\",INDEX($ED$19:$ET$1000,MATCH($B1566,$AZ$19:$AZ$1000,0),MATCH($A$2,$ED$18:$EU$18,0)),\"\"))","v":0},{"$f":"IF($A$2=\"All Species\",0,IF('Veg Guide Data Base'!$B477=\"Yes\",INDEX($EV$19:$FL$1000,MATCH($B1566,$AZ$19:$AZ$1000,0),MATCH($A$2,$EV$18:$FL$18,0)),\"\"))","v":0},{"$f":"IF(B1566=\"\",\"No\",\"Yes\")","v":{"$error":"#N/A"}},{"$f":"IF($B1566<>\"\",INDEX($BA$19:$BI$600,MATCH($B1566,$AZ$19:$AZ$1361,0),MATCH($AC$1,$BA$18:$BI$18,FALSE)),\"\")","v":{"$error":"#N/A"}},{"$f":"IF('Veg Guide Data Base'!$B477=\"Yes\",'Veg Guide Data Base'!BW477,\"\")","v":{"$error":"#N/A"}},{"$f":"IF('Veg Guide Data Base'!$B477=\"Yes\",'Veg Guide Data Base'!BX477,\"\")","v":{"$error":"#N/A"}},{"$f":"IF('Veg Guide Data Base'!$B477=\"Yes\",'Veg Guide Data Base'!BY477,\"\")","v":{"$error":"#N/A"}},null,null,"",null,null,null,null,null,null,null,null,false,"","",{"$f":"IF(AA1566=\"\",\"No\",\"Yes\")","v":"No"}]
["jackfruit",{"$f":"IF('Veg Guide Data Base'!B62=\"Yes\",'Veg Guide Data Base'!AZ62,\"\")","v":{"$error":"#N/A"}},{"$f":"IF('Veg Guide Data Base'!$B62=\"Yes\",'Veg Guide Data Base'!BL62,\"\")","v":{"$error":"#N/A"}},{"$f":"IF('Veg Guide Data Base'!$B62=\"Yes\",'Veg Guide Data Base'!BM62,\"\")","v":{"$error":"#N/A"}},{"$f":"IF('Veg Guide Data Base'!$B62=\"Yes\",'Veg Guide Data Base'!BJ62,\"\")","v":{"$error":"#N/A"}},{"$f":"IF('Veg Guide Data Base'!$B62=\"Yes\",'Veg Guide Data Base'!BK62,\"\")","v":{"$error":"#N/A"}},{"$f":"IF($A$2=\"All Species\",0,IF('Veg Guide Data Base'!$B62=\"Yes\",INDEX($ED$19:$ET$1000,MATCH($B1573,$AZ$19:$AZ$1000,0),MATCH($A$2,$ED$18:$EU$18,0)),\"\"))","v":0},{"$f":"IF($A$2=\"All Species\",0,IF('Veg Guide Data Base'!$B62=\"Yes\",INDEX($EV$19:$FL$1000,MATCH($B1573,$AZ$19:$AZ$1000,0),MATCH($A$2,$EV$18:$FL$18,0)),\"\"))","v":0},{"$f":"IF(B1573=\"\",\"No\",\"Yes\")","v":{"$error":"#N/A"}},{"$f":"IF($B1573<>\"\",INDEX($BA$19:$BI$600,MATCH($B1573,$AZ$19:$AZ$1361,0),MATCH($AC$1,$BA$18:$BI$18,FALSE)),\"\")","v":{"$error":"#N/A"}},{"$f":"IF('Veg Guide Data Base'!$B62=\"Yes\",'Veg Guide Data Base'!BW62,\"\")","v":{"$error":"#N/A"}},{"$f":"IF('Veg Guide Data Base'!$B62=\"Yes\",'Veg Guide Data Base'!BX62,\"\")","v":{"$error":"#N/A"}},{"$f":"IF('Veg Guide Data Base'!$B62=\"Yes\",'Veg Guide Data Base'!BY62,\"\")","v":{"$error":"#N/A"}},null,null,"",null,null,null,null,null,null,null,null,false,"","",{"$f":"IF(AA1573=\"\",\"No\",\"Yes\")","v":"No"}]
["kamani, Alexandrian laurel",{"$f":"IF('Veg Guide Data Base'!B116=\"Yes\",'Veg Guide Data Base'!AZ116,\"\")","v":{"$error":"#N/A"}},{"$f":"IF('Veg Guide Data Base'!$B116=\"Yes\",'Veg Guide Data Base'!BL116,\"\")","v":{"$error":"#N/A"}},{"$f":"IF('Veg Guide Data Base'!$B116=\"Yes\",'Veg Guide Data Base'!BM116,\"\")","v":{"$error":"#N/A"}},{"$f":"IF('Veg Guide Data Base'!$B116=\"Yes\",'Veg Guide Data Base'!BJ116,\"\")","v":{"$error":"#N/A"}},{"$f":"IF('Veg Guide Data Base'!$B116=\"Yes\",'Veg Guide Data Base'!BK116,\"\")","v":{"$error":"#N/A"}},{"$f":"IF($A$2=\"All Species\",0,IF('Veg Guide Data Base'!$B116=\"Yes\",INDEX($ED$19:$ET$1000,MATCH($B1576,$AZ$19:$AZ$1000,0),MATCH($A$2,$ED$18:$EU$18,0)),\"\"))","v":0},{"$f":"IF($A$2=\"All Species\",0,IF('Veg Guide Data Base'!$B116=\"Yes\",INDEX($EV$19:$FL$1000,MATCH($B1576,$AZ$19:$AZ$1000,0),MATCH($A$2,$EV$18:$FL$18,0)),\"\"))","v":0},{"$f":"IF(B1576=\"\",\"No\",\"Yes\")","v":{"$error":"#N/A"}},{"$f":"IF($B1576<>\"\",INDEX($BA$19:$BI$600,MATCH($B1576,$AZ$19:$AZ$1361,0),MATCH($AC$1,$BA$18:$BI$18,FALSE)),\"\")","v":{"$error":"#N/A"}},{"$f":"IF('Veg Guide Data Base'!$B116=\"Yes\",'Veg Guide Data Base'!BW116,\"\")","v":{"$error":"#N/A"}},{"$f":"IF('Veg Guide Data Base'!$B116=\"Yes\",'Veg Guide Data Base'!BX116,\"\")","v":{"$error":"#N/A"}},{"$f":"IF('Veg Guide Data Base'!$B116=\"Yes\",'Veg Guide Data Base'!BY116,\"\")","v":{"$error":"#N/A"}},null,null,"",null,null,null,null,null,null,null,null,false,"","",{"$f":"IF(AA1576=\"\",\"No\",\"Yes\")","v":"No"}]
["kokio keokeo, Hawaiian white hibiscus - 1",{"$f":"IF('Veg Guide Data Base'!B300=\"Yes\",'Veg Guide Data Base'!AZ300,\"\")","v":{"$error":"#N/A"}},{"$f":"IF('Veg Guide Data Base'!$B300=\"Yes\",'Veg Guide Data Base'!BL300,\"\")","v":{"$error":"#N/A"}},{"$f":"IF('Veg Guide Data Base'!$B300=\"Yes\",'Veg Guide Data Base'!BM300,\"\")","v":{"$error":"#N/A"}},{"$f":"IF('Veg Guide Data Base'!$B300=\"Yes\",'Veg Guide Data Base'!BJ300,\"\")","v":{"$error":"#N/A"}},{"$f":"IF('Veg Guide Data Base'!$B300=\"Yes\",'Veg Guide Data Base'!BK300,\"\")","v":{"$error":"#N/A"}},{"$f":"IF($A$2=\"All Species\",0,IF('Veg Guide Data Base'!$B300=\"Yes\",INDEX($ED$19:$ET$1000,MATCH($B1584,$AZ$19:$AZ$1000,0),MATCH($A$2,$ED$18:$EU$18,0)),\"\"))","v":0},{"$f":"IF($A$2=\"All Species\",0,IF('Veg Guide Data Base'!$B300=\"Yes\",INDEX($EV$19:$FL$1000,MATCH($B1584,$AZ$19:$AZ$1000,0),MATCH($A$2,$EV$18:$FL$18,0)),\"\"))","v":0},{"$f":"IF(B1584=\"\",\"No\",\"Yes\")","v":{"$error":"#N/A"}},{"$f":"IF($B1584<>\"\",INDEX($BA$19:$BI$600,MATCH($B1584,$AZ$19:$AZ$1361,0),MATCH($AC$1,$BA$18:$BI$18,FALSE)),\"\")","v":{"$error":"#N/A"}},{"$f":"IF('Veg Guide Data Base'!$B300=\"Yes\",'Veg Guide Data Base'!BW300,\"\")","v":{"$error":"#N/A"}},{"$f":"IF('Veg Guide Data Base'!$B300=\"Yes\",'Veg Guide Data Base'!BX300,\"\")","v":{"$error":"#N/A"}},{"$f":"IF('Veg Guide Data Base'!$B300=\"Yes\",'Veg Guide Data Base'!BY300,\"\")","v":{"$error":"#N/A"}},null,null,"",null,null,null,null,null,null,null,null,false,"","",{"$f":"IF(AA1584=\"\",\"No\",\"Yes\")","v":"No"}]
["kopiko - 2",{"$f":"IF('Veg Guide Data Base'!B456=\"Yes\",'Veg Guide Data Base'!AZ456,\"\")","v":{"$error":"#N/A"}},{"$f":"IF('Veg Guide Data Base'!$B456=\"Yes\",'Veg Guide Data Base'!BL456,\"\")","v":{"$error":"#N/A"}},{"$f":"IF('Veg Guide Data Base'!$B456=\"Yes\",'Veg Guide Data Base'!BM456,\"\")","v":{"$error":"#N/A"}},{"$f":"IF('Veg Guide Data Base'!$B456=\"Yes\",'Veg Guide Data Base'!BJ456,\"\")","v":{"$error":"#N/A"}},{"$f":"IF('Veg Guide Data Base'!$B456=\"Yes\",'Veg Guide Data Base'!BK456,\"\")","v":{"$error":"#N/A"}},{"$f":"IF($A$2=\"All Species\",0,IF('Veg Guide Data Base'!$B456=\"Yes\",INDEX($ED$19:$ET$1000,MATCH($B1591,$AZ$19:$AZ$1000,0),MATCH($A$2,$ED$18:$EU$18,0)),\"\"))","v":0},{"$f":"IF($A$2=\"All Species\",0,IF('Veg Guide Data Base'!$B456=\"Yes\",INDEX($EV$19:$FL$1000,MATCH($B1591,$AZ$19:$AZ$1000,0),MATCH($A$2,$EV$18:$FL$18,0)),\"\"))","v":0},{"$f":"IF(B1591=\"\",\"No\",\"Yes\")","v":{"$error":"#N/A"}},{"$f":"IF($B1591<>\"\",INDEX($BA$19:$BI$600,MATCH($B1591,$AZ$19:$AZ$1361,0),MATCH($AC$1,$BA$18:$BI$18,FALSE)),\"\")","v":{"$error":"#N/A"}},{"$f":"IF('Veg Guide Data Base'!$B456=\"Yes\",'Veg Guide Data Base'!BW456,\"\")","v":{"$error":"#N/A"}},{"$f":"IF('Veg Guide Data Base'!$B456=\"Yes\",'Veg Guide Data Base'!BX456,\"\")","v":{"$error":"#N/A"}},{"$f":"IF('Veg Guide Data Base'!$B456=\"Yes\",'Veg Guide Data Base'!BY456,\"\")","v":{"$error":"#N/A"}},null,null,"",null,null,null,null,null,null,null,null,false,"","",{"$f":"IF(AA1591=\"\",\"No\",\"Yes\")","v":"No"}]
["kukaemoa",{"$f":"IF('Veg Guide Data Base'!B351=\"Yes\",'Veg Guide Data Base'!AZ351,\"\")","v":{"$error":"#N/A"}},{"$f":"IF('Veg Guide Data Base'!$B351=\"Yes\",'Veg Guide Data Base'!BL351,\"\")","v":{"$error":"#N/A"}},{"$f":"IF('Veg Guide Data Base'!$B351=\"Yes\",'Veg Guide Data Base'!BM351,\"\")","v":{"$error":"#N/A"}},{"$f":"IF('Veg Guide Data Base'!$B351=\"Yes\",'Veg Guide Data Base'!BJ351,\"\")","v":{"$error":"#N/A"}},{"$f":"IF('Veg Guide Data Base'!$B351=\"Yes\",'Veg Guide Data Base'!BK351,\"\")","v":{"$error":"#N/A"}},{"$f":"IF($A$2=\"All Species\",0,IF('Veg Guide Data Base'!$B351=\"Yes\",INDEX($ED$19:$ET$1000,MATCH($B1594,$AZ$19:$AZ$1000,0),MATCH($A$2,$ED$18:$EU$18,0)),\"\"))","v":0},{"$f":"IF($A$2=\"All Species\",0,IF('Veg Guide Data Base'!$B351=\"Yes\",INDEX($EV$19:$FL$1000,MATCH($B1594,$AZ$19:$AZ$1000,0),MATCH($A$2,$EV$18:$FL$18,0)),\"\"))","v":0},{"$f":"IF(B1594=\"\",\"No\",\"Yes\")","v":{"$error":"#N/A"}},{"$f":"IF($B1594<>\"\",INDEX($BA$19:$BI$600,MATCH($B1594,$AZ$19:$AZ$1361,0),MATCH($AC$1,$BA$18:$BI$18,FALSE)),\"\")","v":{"$error":"#N/A"}},{"$f":"IF('Veg Guide Data Base'!$B351=\"Yes\",'Veg Guide Data Base'!BW351,\"\")","v":{"$error":"#N/A"}},{"$f":"IF('Veg Guide Data Base'!$B351=\"Yes\",'Veg Guide Data Base'!BX351,\"\")","v":{"$error":"#N/A"}},{"$f":"IF('Veg Guide Data Base'!$B351=\"Yes\",'Veg Guide Data Base'!BY351,\"\")","v":{"$error":"#N/A"}},null,null,"",null,null,null,null,null,null,null,null,false,"","",{"$f":"IF(AA1594=\"\",\"No\",\"Yes\")","v":"No"}]
["loulu - 10",{"$f":"IF('Veg Guide Data Base'!B445=\"Yes\",'Veg Guide Data Base'!AZ445,\"\")","v":{"$error":"#N/A"}},{"$f":"IF('Veg Guide Data Base'!$B445=\"Yes\",'Veg Guide Data Base'!BL445,\"\")","v":{"$error":"#N/A"}},{"$f":"IF('Veg Guide Data Base'!$B445=\"Yes\",'Veg Guide Data Base'!BM445,\"\")","v":{"$error":"#N/A"}},{"$f":"IF('Veg Guide Data Base'!$B445=\"Yes\",'Veg Guide Data Base'!BJ445,\"\")","v":{"$error":"#N/A"}},{"$f":"IF('Veg Guide Data Base'!$B445=\"Yes\",'Veg Guide Data Base'!BK445,\"\")","v":{"$error":"#N/A"}},{"$f":"IF($A$2=\"All Species\",0,IF('Veg Guide Data Base'!$B445=\"Yes\",INDEX($ED$19:$ET$1000,MATCH($B1603,$AZ$19:$AZ$1000,0),MATCH($A$2,$ED$18:$EU$18,0)),\"\"))","v":0},{"$f":"IF($A$2=\"All Species\",0,IF('Veg Guide Data Base'!$B445=\"Yes\",INDEX($EV$19:$FL$1000,MATCH($B1603,$AZ$19:$AZ$1000,0),MATCH($A$2,$EV$18:$FL$18,0)),\"\"))","v":0},{"$f":"IF(B1603=\"\",\"No\",\"Yes\")","v":{"$error":"#N/A"}},{"$f":"IF($B1603<>\"\",INDEX($BA$19:$BI$600,MATCH($B1603,$AZ$19:$AZ$1361,0),MATCH($AC$1,$BA$18:$BI$18,FALSE)),\"\")","v":{"$error":"#N/A"}},{"$f":"IF('Veg Guide Data Base'!$B445=\"Yes\",'Veg Guide Data Base'!BW445,\"\")","v":{"$error":"#N/A"}},{"$f":"IF('Veg Guide Data Base'!$B445=\"Yes\",'Veg Guide Data Base'!BX445,\"\")","v":{"$error":"#N/A"}},{"$f":"IF('Veg Guide Data Base'!$B445=\"Yes\",'Veg Guide Data Base'!BY445,\"\")","v":{"$error":"#N/A"}},null,null,"",null,null,null,null,null,null,null,null,false,"",null,"No"]
["Macarthur palm",{"$f":"IF('Veg Guide Data Base'!B464=\"Yes\",'Veg Guide Data Base'!AZ464,\"\")","v":{"$error":"#N/A"}},{"$f":"IF('Veg Guide Data Base'!$B464=\"Yes\",'Veg Guide Data Base'!BL464,\"\")","v":{"$error":"#N/A"}},{"$f":"IF('Veg Guide Data Base'!$B464=\"Yes\",'Veg Guide Data Base'!BM464,\"\")","v":{"$error":"#N/A"}},{"$f":"IF('Veg Guide Data Base'!$B464=\"Yes\",'Veg Guide Data Base'!BJ464,\"\")","v":{"$error":"#N/A"}},{"$f":"IF('Veg Guide Data Base'!$B464=\"Yes\",'Veg Guide Data Base'!BK464,\"\")","v":{"$error":"#N/A"}},{"$f":"IF($A$2=\"All Species\",0,IF('Veg Guide Data Base'!$B464=\"Yes\",INDEX($ED$19:$ET$1000,MATCH($B1609,$AZ$19:$AZ$1000,0),MATCH($A$2,$ED$18:$EU$18,0)),\"\"))","v":0},{"$f":"IF($A$2=\"All Species\",0,IF('Veg Guide Data Base'!$B464=\"Yes\",INDEX($EV$19:$FL$1000,MATCH($B1609,$AZ$19:$AZ$1000,0),MATCH($A$2,$EV$18:$FL$18,0)),\"\"))","v":0},{"$f":"IF(B1609=\"\",\"No\",\"Yes\")","v":{"$error":"#N/A"}},{"$f":"IF($B1609<>\"\",INDEX($BA$19:$BI$600,MATCH($B1609,$AZ$19:$AZ$1361,0),MATCH($AC$1,$BA$18:$BI$18,FALSE)),\"\")","v":{"$error":"#N/A"}},{"$f":"IF('Veg Guide Data Base'!$B464=\"Yes\",'Veg Guide Data Base'!BW464,\"\")","v":{"$error":"#N/A"}},{"$f":"IF('Veg Guide Data Base'!$B464=\"Yes\",'Veg Guide Data Base'!BX464,\"\")","v":{"$error":"#N/A"}},{"$f":"IF('Veg Guide Data Base'!$B464=\"Yes\",'Veg Guide Data Base'!BY464,\"\")","v":{"$error":"#N/A"}},null,null,"",null,null,null,null,null,null,null,null,false,"",null,"No"]
["Malabar chestnut",{"$f":"IF('Veg Guide Data Base'!B392=\"Yes\",'Veg Guide Data Base'!AZ392,\"\")","v":{"$error":"#N/A"}},{"$f":"IF('Veg Guide Data Base'!$B392=\"Yes\",'Veg Guide Data Base'!BL392,\"\")","v":{"$error":"#N/A"}},{"$f":"IF('Veg Guide Data Base'!$B392=\"Yes\",'Veg Guide Data Base'!BM392,\"\")","v":{"$error":"#N/A"}},{"$f":"IF('Veg Guide Data Base'!$B392=\"Yes\",'Veg Guide Data Base'!BJ392,\"\")","v":{"$error":"#N/A"}},{"$f":"IF('Veg Guide Data Base'!$B392=\"Yes\",'Veg Guide Data Base'!BK392,\"\")","v":{"$error":"#N/A"}},{"$f":"IF($A$2=\"All Species\",0,IF('Veg Guide Data Base'!$B392=\"Yes\",INDEX($ED$19:$ET$1000,MATCH($B1612,$AZ$19:$AZ$1000,0),MATCH($A$2,$ED$18:$EU$18,0)),\"\"))","v":0},{"$f":"IF($A$2=\"All Species\",0,IF('Veg Guide Data Base'!$B392=\"Yes\",INDEX($EV$19:$FL$1000,MATCH($B1612,$AZ$19:$AZ$1000,0),MATCH($A$2,$EV$18:$FL$18,0)),\"\"))","v":0},{"$f":"IF(B1612=\"\",\"No\",\"Yes\")","v":{"$error":"#N/A"}},{"$f":"IF($B1612<>\"\",INDEX($BA$19:$BI$600,MATCH($B1612,$AZ$19:$AZ$1361,0),MATCH($AC$1,$BA$18:$BI$18,FALSE)),\"\")","v":{"$error":"#N/A"}},{"$f":"IF('Veg Guide Data Base'!$B392=\"Yes\",'Veg Guide Data Base'!BW392,\"\")","v":{"$error":"#N/A"}},{"$f":"IF('Veg Guide Data Base'!$B392=\"Yes\",'Veg Guide Data Base'!BX392,\"\")","v":{"$error":"#N/A"}},{"$f":"IF('Veg Guide Data Base'!$B392=\"Yes\",'Veg Guide Data Base'!BY392,\"\")","v":{"$error":"#N/A"}},null,null,"",null,null,null,null,null,null,null,null,false,"",null,"No"]
["maua",{"$f":"IF('Veg Guide Data Base'!B570=\"Yes\",'Veg Guide Data Base'!AZ570,\"\")","v":{"$error":"#N/A"}},{"$f":"IF('Veg Guide Data Base'!$B570=\"Yes\",'Veg Guide Data Base'!BL570,\"\")","v":{"$error":"#N/A"}},{"$f":"IF('Veg Guide Data Base'!$B570=\"Yes\",'Veg Guide Data Base'!BM570,\"\")","v":{"$error":"#N/A"}},{"$f":"IF('Veg Guide Data Base'!$B570=\"Yes\",'Veg Guide Data Base'!BJ570,\"\")","v":{"$error":"#N/A"}},{"$f":"IF('Veg Guide Data Base'!$B570=\"Yes\",'Veg Guide Data Base'!BK570,\"\")","v":{"$error":"#N/A"}},{"$f":"IF($A$2=\"All Species\",0,IF('Veg Guide Data Base'!$B570=\"Yes\",INDEX($ED$19:$ET$1000,MATCH($B1619,$AZ$19:$AZ$1000,0),MATCH($A$2,$ED$18:$EU$18,0)),\"\"))","v":0},{"$f":"IF($A$2=\"All Species\",0,IF('Veg Guide Data Base'!$B570=\"Yes\",INDEX($EV$19:$FL$1000,MATCH($B1619,$AZ$19:$AZ$1000,0),MATCH($A$2,$EV$18:$FL$18,0)),\"\"))","v":0},{"$f":"IF(B1619=\"\",\"No\",\"Yes\")","v":{"$error":"#N/A"}},{"$f":"IF($B1619<>\"\",INDEX($BA$19:$BI$600,MATCH($B1619,$AZ$19:$AZ$1361,0),MATCH($AC$1,$BA$18:$BI$18,FALSE)),\"\")","v":{"$error":"#N/A"}},{"$f":"IF('Veg Guide Data Base'!$B570=\"Yes\",'Veg Guide Data Base'!BW570,\"\")","v":{"$error":"#N/A"}},{"$f":"IF('Veg Guide Data Base'!$B570=\"Yes\",'Veg Guide Data Base'!BX570,\"\")","v":{"$error":"#N/A"}},{"$f":"IF('Veg Guide Data Base'!$B570=\"Yes\",'Veg Guide Data Base'!BY570,\"\")","v":{"$error":"#N/A"}},null,null,"",null,null,null,null,null,null,null,null,false,"",null,"No"]
["milo, Pacific rosewood",{"$f":"IF('Veg Guide Data Base'!B535=\"Yes\",'Veg Guide Data Base'!AZ535,\"\")","v":{"$error":"#N/A"}},{"$f":"IF('Veg Guide Data Base'!$B535=\"Yes\",'Veg Guide Data Base'!BL535,\"\")","v":{"$error":"#N/A"}},{"$f":"IF('Veg Guide Data Base'!$B535=\"Yes\",'Veg Guide Data Base'!BM535,\"\")","v":{"$error":"#N/A"}},{"$f":"IF('Veg Guide Data Base'!$B535=\"Yes\",'Veg Guide Data Base'!BJ535,\"\")","v":{"$error":"#N/A"}},{"$f":"IF('Veg Guide Data Base'!$B535=\"Yes\",'Veg Guide Data Base'!BK535,\"\")","v":{"$error":"#N/A"}},{"$f":"IF($A$2=\"All Species\",0,IF('Veg Guide Data Base'!$B535=\"Yes\",INDEX($ED$19:$ET$1000,MATCH($B1622,$AZ$19:$AZ$1000,0),MATCH($A$2,$ED$18:$EU$18,0)),\"\"))","v":0},{"$f":"IF($A$2=\"All Species\",0,IF('Veg Guide Data Base'!$B535=\"Yes\",INDEX($EV$19:$FL$1000,MATCH($B1622,$AZ$19:$AZ$1000,0),MATCH($A$2,$EV$18:$FL$18,0)),\"\"))","v":0},{"$f":"IF(B1622=\"\",\"No\",\"Yes\")","v":{"$error":"#N/A"}},{"$f":"IF($B1622<>\"\",INDEX($BA$19:$BI$600,MATCH($B1622,$AZ$19:$AZ$1361,0),MATCH($AC$1,$BA$18:$BI$18,FALSE)),\"\")","v":{"$error":"#N/A"}},{"$f":"IF('Veg Guide Data Base'!$B535=\"Yes\",'Veg Guide Data Base'!BW535,\"\")","v":{"$error":"#N/A"}},{"$f":"IF('Veg Guide Data Base'!$B535=\"Yes\",'Veg Guide Data Base'!BX535,\"\")","v":{"$error":"#N/A"}},{"$f":"IF('Veg Guide Data Base'!$B535=\"Yes\",'Veg Guide Data Base'!BY535,\"\")","v":{"$error":"#N/A"}},null,null,"",null,null,null,null,null,null,null,null,false,"",null,"No"]
["narrow-leaved ironbark",{"$f":"IF('Veg Guide Data Base'!B245=\"Yes\",'Veg Guide Data Base'!AZ245,\"\")","v":{"$error":"#N/A"}},{"$f":"IF('Veg Guide Data Base'!$B245=\"Yes\",'Veg Guide Data Base'!BL245,\"\")","v":{"$error":"#N/A"}},{"$f":"IF('Veg Guide Data Base'!$B245=\"Yes\",'Veg Guide Data Base'!BM245,\"\")","v":{"$error":"#N/A"}},{"$f":"IF('Veg Guide Data Base'!$B245=\"Yes\",'Veg Guide Data Base'!BJ245,\"\")","v":{"$error":"#N/A"}},{"$f":"IF('Veg Guide Data Base'!$B245=\"Yes\",'Veg Guide Data Base'!BK245,\"\")","v":{"$error":"#N/A"}},{"$f":"IF($A$2=\"All Species\",0,IF('Veg Guide Data Base'!$B245=\"Yes\",INDEX($ED$19:$ET$1000,MATCH($B1628,$AZ$19:$AZ$1000,0),MATCH($A$2,$ED$18:$EU$18,0)),\"\"))","v":0},{"$f":"IF($A$2=\"All Species\",0,IF('Veg Guide Data Base'!$B245=\"Yes\",INDEX($EV$19:$FL$1000,MATCH($B1628,$AZ$19:$AZ$1000,0),MATCH($A$2,$EV$18:$FL$18,0)),\"\"))","v":0},{"$f":"IF(B1628=\"\",\"No\",\"Yes\")","v":{"$error":"#N/A"}},{"$f":"IF($B1628<>\"\",INDEX($BA$19:$BI$600,MATCH($B1628,$AZ$19:$AZ$1361,0),MATCH($AC$1,$BA$18:$BI$18,FALSE)),\"\")","v":{"$error":"#N/A"}},{"$f":"IF('Veg Guide Data Base'!$B245=\"Yes\",'Veg Guide Data Base'!BW245,\"\")","v":{"$error":"#N/A"}},{"$f":"IF('Veg Guide Data Base'!$B245=\"Yes\",'Veg Guide Data Base'!BX245,\"\")","v":{"$error":"#N/A"}},{"$f":"IF('Veg Guide Data Base'!$B245=\"Yes\",'Veg Guide Data Base'!BY245,\"\")","v":{"$error":"#N/A"}},null,null,{"$f":"IFERROR(INDEX($BS$19:$BS$600,MATCH($B1628,$AZ$19:$AZ$600,0)),\"\")","v":""},null,null,null,null,null,null,null,null,false,{"$f":"IF(Y1628=TRUE,X1628,\"\")","v":""},null,{"$f":"IF(AA1628=\"\",\"No\",\"Yes\")","v":"No"}]
["oha wai - 6",{"$f":"IF('Veg Guide Data Base'!B580=\"Yes\",'Veg Guide Data Base'!AZ580,\"\")","v":{"$error":"#N/A"}},{"$f":"IF('Veg Guide Data Base'!$B580=\"Yes\",'Veg Guide Data Base'!BL580,\"\")","v":{"$error":"#N/A"}},{"$f":"IF('Veg Guide Data Base'!$B580=\"Yes\",'Veg Guide Data Base'!BM580,\"\")","v":{"$error":"#N/A"}},{"$f":"IF('Veg Guide Data Base'!$B580=\"Yes\",'Veg Guide Data Base'!BJ580,\"\")","v":{"$error":"#N/A"}},{"$f":"IF('Veg Guide Data Base'!$B580=\"Yes\",'Veg Guide Data Base'!BK580,\"\")","v":{"$error":"#N/A"}},{"$f":"IF($A$2=\"All Species\",0,IF('Veg Guide Data Base'!$B580=\"Yes\",INDEX($ED$19:$ET$1000,MATCH($B1637,$AZ$19:$AZ$1000,0),MATCH($A$2,$ED$18:$EU$18,0)),\"\"))","v":0},{"$f":"IF($A$2=\"All Species\",0,IF('Veg Guide Data Base'!$B580=\"Yes\",INDEX($EV$19:$FL$1000,MATCH($B1637,$AZ$19:$AZ$1000,0),MATCH($A$2,$EV$18:$FL$18,0)),\"\"))","v":0},{"$f":"IF(B1637=\"\",\"No\",\"Yes\")","v":{"$error":"#N/A"}},{"$f":"IF($B1637<>\"\",INDEX($BA$19:$BI$600,MATCH($B1637,$AZ$19:$AZ$1361,0),MATCH($AC$1,$BA$18:$BI$18,FALSE)),\"\")","v":{"$error":"#N/A"}},{"$f":"IF('Veg Guide Data Base'!$B580=\"Yes\",'Veg Guide Data Base'!BW580,\"\")","v":{"$error":"#N/A"}},{"$f":"IF('Veg Guide Data Base'!$B580=\"Yes\",'Veg Guide Data Base'!BX580,\"\")","v":{"$error":"#N/A"}},{"$f":"IF('Veg Guide Data Base'!$B580=\"Yes\",'Veg Guide Data Base'!BY580,\"\")","v":{"$error":"#N/A"}},null,null,"",null,null,null,null,null,null,null,null,false,"",null,"No"]
["ohia, ohia lehua",{"$f":"IF('Veg Guide Data Base'!B360=\"Yes\",'Veg Guide Data Base'!AZ360,\"\")","v":{"$error":"#N/A"}},{"$f":"IF('Veg Guide Data Base'!$B360=\"Yes\",'Veg Guide Data Base'!BL360,\"\")","v":{"$error":"#N/A"}},{"$f":"IF('Veg Guide Data Base'!$B360=\"Yes\",'Veg Guide Data Base'!BM360,\"\")","v":{"$error":"#N/A"}},{"$f":"IF('Veg Guide Data Base'!$B360=\"Yes\",'Veg Guide Data Base'!BJ360,\"\")","v":{"$error":"#N/A"}},{"$f":"IF('Veg Guide Data Base'!$B360=\"Yes\",'Veg Guide Data Base'!BK360,\"\")","v":{"$error":"#N/A"}},{"$f":"IF($A$2=\"All Species\",0,IF('Veg Guide Data Base'!$B360=\"Yes\",INDEX($ED$19:$ET$1000,MATCH($B1640,$AZ$19:$AZ$1000,0),MATCH($A$2,$ED$18:$EU$18,0)),\"\"))","v":0},{"$f":"IF($A$2=\"All Species\",0,IF('Veg Guide Data Base'!$B360=\"Yes\",INDEX($EV$19:$FL$1000,MATCH($B1640,$AZ$19:$AZ$1000,0),MATCH($A$2,$EV$18:$FL$18,0)),\"\"))","v":0},{"$f":"IF(B1640=\"\",\"No\",\"Yes\")","v":{"$error":"#N/A"}},{"$f":"IF($B1640<>\"\",INDEX($BA$19:$BI$600,MATCH($B1640,$AZ$19:$AZ$1361,0),MATCH($AC$1,$BA$18:$BI$18,FALSE)),\"\")","v":{"$error":"#N/A"}},{"$f":"IF('Veg Guide Data Base'!$B360=\"Yes\",'Veg Guide Data Base'!BW360,\"\")","v":{"$error":"#N/A"}},{"$f":"IF('Veg Guide Data Base'!$B360=\"Yes\",'Veg Guide Data Base'!BX360,\"\")","v":{"$error":"#N/A"}},{"$f":"IF('Veg Guide Data Base'!$B360=\"Yes\",'Veg Guide Data Base'!BY360,\"\")","v":{"$error":"#N/A"}},null,null,"",null,null,null,null,null,null,null,null,false,"",null,"No"]
["plumeria",{"$f":"IF('Veg Guide Data Base'!B423=\"Yes\",'Veg Guide Data Base'!AZ423,\"\")","v":{"$error":"#N/A"}},{"$f":"IF('Veg Guide Data Base'!$B423=\"Yes\",'Veg Guide Data Base'!BL423,\"\")","v":{"$error":"#N/A"}},{"$f":"IF('Veg Guide Data Base'!$B423=\"Yes\",'Veg Guide Data Base'!BM423,\"\")","v":{"$error":"#N/A"}},{"$f":"IF('Veg Guide Data Base'!$B423=\"Yes\",'Veg Guide Data Base'!BJ423,\"\")","v":{"$error":"#N/A"}},{"$f":"IF('Veg Guide Data Base'!$B423=\"Yes\",'Veg Guide Data Base'!BK423,\"\")","v":{"$error":"#N/A"}},{"$f":"IF($A$2=\"All Species\",0,IF('Veg Guide Data Base'!$B423=\"Yes\",INDEX($ED$19:$ET$1000,MATCH($B1647,$AZ$19:$AZ$1000,0),MATCH($A$2,$ED$18:$EU$18,0)),\"\"))","v":0},{"$f":"IF($A$2=\"All Species\",0,IF('Veg Guide Data Base'!$B423=\"Yes\",INDEX($EV$19:$FL$1000,MATCH($B1647,$AZ$19:$AZ$1000,0),MATCH($A$2,$EV$18:$FL$18,0)),\"\"))","v":0},{"$f":"IF(B1647=\"\",\"No\",\"Yes\")","v":{"$error":"#N/A"}},{"$f":"IF($B1647<>\"\",INDEX($BA$19:$BI$600,MATCH($B1647,$AZ$19:$AZ$1361,0),MATCH($AC$1,$BA$18:$BI$18,FALSE)),\"\")","v":{"$error":"#N/A"}},{"$f":"IF('Veg Guide Data Base'!$B423=\"Yes\",'Veg Guide Data Base'!BW423,\"\")","v":{"$error":"#N/A"}},{"$f":"IF('Veg Guide Data Base'!$B423=\"Yes\",'Veg Guide Data Base'!BX423,\"\")","v":{"$error":"#N/A"}},{"$f":"IF('Veg Guide Data Base'!$B423=\"Yes\",'Veg Guide Data Base'!BY423,\"\")","v":{"$error":"#N/A"}},null,null,"",null,null,null,null,null,null,null,null,false,"",null,"No"]
["Queensland kauri",{"$f":"IF('Veg Guide Data Base'!B33=\"Yes\",'Veg Guide Data Base'!AZ33,\"\")","v":{"$error":"#N/A"}},{"$f":"IF('Veg Guide Data Base'!$B33=\"Yes\",'Veg Guide Data Base'!BL33,\"\")","v":{"$error":"#N/A"}},{"$f":"IF('Veg Guide Data Base'!$B33=\"Yes\",'Veg Guide Data Base'!BM33,\"\")","v":{"$error":"#N/A"}},{"$f":"IF('Veg Guide Data Base'!$B33=\"Yes\",'Veg Guide Data Base'!BJ33,\"\")","v":{"$error":"#N/A"}},{"$f":"IF('Veg Guide Data Base'!$B33=\"Yes\",'Veg Guide Data Base'!BK33,\"\")","v":{"$error":"#N/A"}},{"$f":"IF($A$2=\"All Species\",0,IF('Veg Guide Data Base'!$B33=\"Yes\",INDEX($ED$19:$ET$1000,MATCH($B1653,$AZ$19:$AZ$1000,0),MATCH($A$2,$ED$18:$EU$18,0)),\"\"))","v":0},{"$f":"IF($A$2=\"All Species\",0,IF('Veg Guide Data Base'!$B33=\"Yes\",INDEX($EV$19:$FL$1000,MATCH($B1653,$AZ$19:$AZ$1000,0),MATCH($A$2,$EV$18:$FL$18,0)),\"\"))","v":0},{"$f":"IF(B1653=\"\",\"No\",\"Yes\")","v":{"$error":"#N/A"}},{"$f":"IF($B1653<>\"\",INDEX($BA$19:$BI$600,MATCH($B1653,$AZ$19:$AZ$1361,0),MATCH($AC$1,$BA$18:$BI$18,FALSE)),\"\")","v":{"$error":"#N/A"}},{"$f":"IF('Veg Guide Data Base'!$B33=\"Yes\",'Veg Guide Data Base'!BW33,\"\")","v":{"$error":"#N/A"}},{"$f":"IF('Veg Guide Data Base'!$B33=\"Yes\",'Veg Guide Data Base'!BX33,\"\")","v":{"$error":"#N/A"}},{"$f":"IF('Veg Guide Data Base'!$B33=\"Yes\",'Veg Guide Data Base'!BY33,\"\")","v":{"$error":"#N/A"}},null,null,"",null,null,null,null,null,null,null,null,false,"",null,"No"]
["simpleleaf chastetree - 2",{"$f":"IF('Veg Guide Data Base'!B561=\"Yes\",'Veg Guide Data Base'!AZ561,\"\")","v":{"$error":"#N/A"}},{"$f":"IF('Veg Guide Data Base'!$B561=\"Yes\",'Veg Guide Data Base'!BL561,\"\")","v":{"$error":"#N/A"}},{"$f":"IF('Veg Guide Data Base'!$B561=\"Yes\",'Veg Guide Data Base'!BM561,\"\")","v":{"$error":"#N/A"}},{"$f":"IF('Veg Guide Data Base'!$B561=\"Yes\",'Veg Guide Data Base'!BJ561,\"\")","v":{"$error":"#N/A"}},{"$f":"IF('Veg Guide Data Base'!$B561=\"Yes\",'Veg Guide Data Base'!BK561,\"\")","v":{"$error":"#N/A"}},{"$f":"IF($A$2=\"All Species\",0,IF('Veg Guide Data Base'!$B561=\"Yes\",INDEX($ED$19:$ET$1000,MATCH($B1658,$AZ$19:$AZ$1000,0),MATCH($A$2,$ED$18:$EU$18,0)),\"\"))","v":0},{"$f":"IF($A$2=\"All Species\",0,IF('Veg Guide Data Base'!$B561=\"Yes\",INDEX($EV$19:$FL$1000,MATCH($B1658,$AZ$19:$AZ$1000,0),MATCH($A$2,$EV$18:$FL$18,0)),\"\"))","v":0},{"$f":"IF(B1658=\"\",\"No\",\"Yes\")","v":{"$error":"#N/A"}},{"$f":"IF($B1658<>\"\",INDEX($BA$19:$BI$600,MATCH($B1658,$AZ$19:$AZ$1361,0),MATCH($AC$1,$BA$18:$BI$18,FALSE)),\"\")","v":{"$error":"#N/A"}},{"$f":"IF('Veg Guide Data Base'!$B561=\"Yes\",'Veg Guide Data Base'!BW561,\"\")","v":{"$error":"#N/A"}},{"$f":"IF('Veg Guide Data Base'!$B561=\"Yes\",'Veg Guide Data Base'!BX561,\"\")","v":{"$error":"#N/A"}},{"$f":"IF('Veg Guide Data Base'!$B561=\"Yes\",'Veg Guide Data Base'!BY561,\"\")","v":{"$error":"#N/A"}},null,null,"",null,null,null,null,null,null,null,null,false,"",null,"No"]
["swamp mahogany",{"$f":"IF('Veg Guide Data Base'!B248=\"Yes\",'Veg Guide Data Base'!AZ248,\"\")","v":{"$error":"#N/A"}},{"$f":"IF('Veg Guide Data Base'!$B248=\"Yes\",'Veg Guide Data Base'!BL248,\"\")","v":{"$error":"#N/A"}},{"$f":"IF('Veg Guide Data Base'!$B248=\"Yes\",'Veg Guide Data Base'!BM248,\"\")","v":{"$error":"#N/A"}},{"$f":"IF('Veg Guide Data Base'!$B248=\"Yes\",'Veg Guide Data Base'!BJ248,\"\")","v":{"$error":"#N/A"}},{"$f":"IF('Veg Guide Data Base'!$B248=\"Yes\",'Veg Guide Data Base'!BK248,\"\")","v":{"$error":"#N/A"}},{"$f":"IF($A$2=\"All Species\",0,IF('Veg Guide Data Base'!$B248=\"Yes\",INDEX($ED$19:$ET$1000,MATCH($B1665,$AZ$19:$AZ$1000,0),MATCH($A$2,$ED$18:$EU$18,0)),\"\"))","v":0},{"$f":"IF($A$2=\"All Species\",0,IF('Veg Guide Data Base'!$B248=\"Yes\",INDEX($EV$19:$FL$1000,MATCH($B1665,$AZ$19:$AZ$1000,0),MATCH($A$2,$EV$18:$FL$18,0)),\"\"))","v":0},{"$f":"IF(B1665=\"\",\"No\",\"Yes\")","v":{"$error":"#N/A"}},{"$f":"IF($B1665<>\"\",INDEX($BA$19:$BI$600,MATCH($B1665,$AZ$19:$AZ$1361,0),MATCH($AC$1,$BA$18:$BI$18,FALSE)),\"\")","v":{"$error":"#N/A"}},{"$f":"IF('Veg Guide Data Base'!$B248=\"Yes\",'Veg Guide Data Base'!BW248,\"\")","v":{"$error":"#N/A"}},{"$f":"IF('Veg Guide Data Base'!$B248=\"Yes\",'Veg Guide Data Base'!BX248,\"\")","v":{"$error":"#N/A"}},{"$f":"IF('Veg Guide Data Base'!$B248=\"Yes\",'Veg Guide Data Base'!BY248,\"\")","v":{"$error":"#N/A"}},null,null,"",null,null,null,null,null,null,null,null,false,"",null,"No"]
["tamarind, wi awaawa",{"$f":"IF('Veg Guide Data Base'!B528=\"Yes\",'Veg Guide Data Base'!AZ528,\"\")","v":{"$error":"#N/A"}},{"$f":"IF('Veg Guide Data Base'!$B528=\"Yes\",'Veg Guide Data Base'!BL528,\"\")","v":{"$error":"#N/A"}},{"$f":"IF('Veg Guide Data Base'!$B528=\"Yes\",'Veg Guide Data Base'!BM528,\"\")","v":{"$error":"#N/A"}},{"$f":"IF('Veg Guide Data Base'!$B528=\"Yes\",'Veg Guide Data Base'!BJ528,\"\")","v":{"$error":"#N/A"}},{"$f":"IF('Veg Guide Data Base'!$B528=\"Yes\",'Veg Guide Data Base'!BK528,\"\")","v":{"$error":"#N/A"}},{"$f":"IF($A$2=\"All Species\",0,IF('Veg Guide Data Base'!$B528=\"Yes\",INDEX($ED$19:$ET$1000,MATCH($B1668,$AZ$19:$AZ$1000,0),MATCH($A$2,$ED$18:$EU$18,0)),\"\"))","v":0},{"$f":"IF($A$2=\"All Species\",0,IF('Veg Guide Data Base'!$B528=\"Yes\",INDEX($EV$19:$FL$1000,MATCH($B1668,$AZ$19:$AZ$1000,0),MATCH($A$2,$EV$18:$FL$18,0)),\"\"))","v":0},{"$f":"IF(B1668=\"\",\"No\",\"Yes\")","v":{"$error":"#N/A"}},{"$f":"IF($B1668<>\"\",INDEX($BA$19:$BI$600,MATCH($B1668,$AZ$19:$AZ$1361,0),MATCH($AC$1,$BA$18:$BI$18,FALSE)),\"\")","v":{"$error":"#N/A"}},{"$f":"IF('Veg Guide Data Base'!$B528=\"Yes\",'Veg Guide Data Base'!BW528,\"\")","v":{"$error":"#N/A"}},{"$f":"IF('Veg Guide Data Base'!$B528=\"Yes\",'Veg Guide Data Base'!BX528,\"\")","v":{"$error":"#N/A"}},{"$f":"IF('Veg Guide Data Base'!$B528=\"Yes\",'Veg Guide Data Base'!BY528,\"\")","v":{"$error":"#N/A"}},null,null,"",null,null,null,null,null,null,null,null,false,"",null,"No"]
["West Indian locust, Brazilian cherry",{"$f":"IF('Veg Guide Data Base'!B307=\"Yes\",'Veg Guide Data Base'!AZ307,\"\")","v":{"$error":"#N/A"}},{"$f":"IF('Veg Guide Data Base'!$B307=\"Yes\",'Veg Guide Data Base'!BL307,\"\")","v":{"$error":"#N/A"}},{"$f":"IF('Veg Guide Data Base'!$B307=\"Yes\",'Veg Guide Data Base'!BM307,\"\")","v":{"$error":"#N/A"}},{"$f":"IF('Veg Guide Data Base'!$B307=\"Yes\",'Veg Guide Data Base'!BJ307,\"\")","v":{"$error":"#N/A"}},{"$f":"IF('Veg Guide Data Base'!$B307=\"Yes\",'Veg Guide Data Base'!BK307,\"\")","v":{"$error":"#N/A"}},{"$f":"IF($A$2=\"All Species\",0,IF('Veg Guide Data Base'!$B307=\"Yes\",INDEX($ED$19:$ET$1000,MATCH($B1677,$AZ$19:$AZ$1000,0),MATCH($A$2,$ED$18:$EU$18,0)),\"\"))","v":0},{"$f":"IF($A$2=\"All Species\",0,IF('Veg Guide Data Base'!$B307=\"Yes\",INDEX($EV$19:$FL$1000,MATCH($B1677,$AZ$19:$AZ$1000,0),MATCH($A$2,$EV$18:$FL$18,0)),\"\"))","v":0},{"$f":"IF(B1677=\"\",\"No\",\"Yes\")","v":{"$error":"#N/A"}},{"$f":"IF($B1677<>\"\",INDEX($BA$19:$BI$600,MATCH($B1677,$AZ$19:$AZ$1361,0),MATCH($AC$1,$BA$18:$BI$18,FALSE)),\"\")","v":{"$error":"#N/A"}},{"$f":"IF('Veg Guide Data Base'!$B307=\"Yes\",'Veg Guide Data Base'!BW307,\"\")","v":{"$error":"#N/A"}},{"$f":"IF('Veg Guide Data Base'!$B307=\"Yes\",'Veg Guide Data Base'!BX307,\"\")","v":{"$error":"#N/A"}},{"$f":"IF('Veg Guide Data Base'!$B307=\"Yes\",'Veg Guide Data Base'!BY307,\"\")","v":{"$error":"#N/A"}},null,null,"",null,null,null,null,null,null,null,null,false,"",null,"No"]
["",{"$f":"IF('Veg Guide Data Base'!B21=\"Yes\",'Veg Guide Data Base'!AZ21,\"\")","v":""},{"$f":"IF('Veg Guide Data Base'!$B21=\"Yes\",'Veg Guide Data Base'!BL21,\"\")","v":""},{"$f":"IF('Veg Guide Data Base'!$B21=\"Yes\",'Veg Guide Data Base'!BM21,\"\")","v":""},{"$f":"IF('Veg Guide Data Base'!$B21=\"Yes\",'Veg Guide Data Base'!BJ21,\"\")","v":""},{"$f":"IF('Veg Guide Data Base'!$B21=\"Yes\",'Veg Guide Data Base'!BK21,\"\")","v":""},{"$f":"IF($A$2=\"All Species\",0,IF('Veg Guide Data Base'!$B21=\"Yes\",INDEX($ED$19:$ET$1000,MATCH($B1683,$AZ$19:$AZ$1000,0),MATCH($A$2,$ED$18:$EU$18,0)),\"\"))","v":0},{"$f":"IF($A$2=\"All Species\",0,IF('Veg Guide Data Base'!$B21=\"Yes\",INDEX($EV$19:$FL$1000,MATCH($B1683,$AZ$19:$AZ$1000,0),MATCH($A$2,$EV$18:$FL$18,0)),\"\"))","v":0},{"$f":"IF(B1683=\"\",\"No\",\"Yes\")","v":"No"},{"$f":"IF($B1683<>\"\",INDEX($BA$19:$BI$600,MATCH($B1683,$AZ$19:$AZ$1361,0),MATCH($AC$1,$BA$18:$BI$18,FALSE)),\"\")","v":""},{"$f":"IF('Veg Guide Data Base'!$B21=\"Yes\",'Veg Guide Data Base'!BW21,\"\")","v":""},{"$f":"IF('Veg Guide Data Base'!$B21=\"Yes\",'Veg Guide Data Base'!BX21,\"\")","v":""},{"$f":"IF('Veg Guide Data Base'!$B21=\"Yes\",'Veg Guide Data Base'!BY21,\"\")","v":""},null,null,"",null,null,null,null,null,null,null,null,false,"",null,"No"]
["",{"$f":"IF('Veg Guide Data Base'!B24=\"Yes\",'Veg Guide Data Base'!AZ24,\"\")","v":""},{"$f":"IF('Veg Guide Data Base'!$B24=\"Yes\",'Veg Guide Data Base'!BL24,\"\")","v":""},{"$f":"IF('Veg Guide Data Base'!$B24=\"Yes\",'Veg Guide Data Base'!BM24,\"\")","v":""},{"$f":"IF('Veg Guide Data Base'!$B24=\"Yes\",'Veg Guide Data Base'!BJ24,\"\")","v":""},{"$f":"IF('Veg Guide Data Base'!$B24=\"Yes\",'Veg Guide Data Base'!BK24,\"\")","v":""},{"$f":"IF($A$2=\"All Species\",0,IF('Veg Guide Data Base'!$B24=\"Yes\",INDEX($ED$19:$ET$1000,MATCH($B1686,$AZ$19:$AZ$1000,0),MATCH($A$2,$ED$18:$EU$18,0)),\"\"))","v":0},{"$f":"IF($A$2=\"All Species\",0,IF('Veg Guide Data Base'!$B24=\"Yes\",INDEX($EV$19:$FL$1000,MATCH($B1686,$AZ$19:$AZ$1000,0),MATCH($A$2,$EV$18:$FL$18,0)),\"\"))","v":0},{"$f":"IF(B1686=\"\",\"No\",\"Yes\")","v":"No"},{"$f":"IF($B1686<>\"\",INDEX($BA$19:$BI$600,MATCH($B1686,$AZ$19:$AZ$1361,0),MATCH($AC$1,$BA$18:$BI$18,FALSE)),\"\")","v":""},{"$f":"IF('Veg Guide Data Base'!$B24=\"Yes\",'Veg Guide Data Base'!BW24,\"\")","v":""},{"$f":"IF('Veg Guide Data Base'!$B24=\"Yes\",'Veg Guide Data Base'!BX24,\"\")","v":""},{"$f":"IF('Veg Guide Data Base'!$B24=\"Yes\",'Veg Guide Data Base'!BY24,\"\")","v":""},null,null,"",null,null,null,null,null,null,null,null,false,"",null,"No"]
["",{"$f":"IF('Veg Guide Data Base'!B583=\"Yes\",'Veg Guide Data Base'!AZ583,\"\")","v":""},{"$f":"IF('Veg Guide Data Base'!$B583=\"Yes\",'Veg Guide Data Base'!BL583,\"\")","v":""},{"$f":"IF('Veg Guide Data Base'!$B583=\"Yes\",'Veg Guide Data Base'!BM583,\"\")","v":""},{"$f":"IF('Veg Guide Data Base'!$B583=\"Yes\",'Veg Guide Data Base'!BJ583,\"\")","v":""},{"$f":"IF('Veg Guide Data Base'!$B583=\"Yes\",'Veg Guide Data Base'!BK583,\"\")","v":""},{"$f":"IF($A$2=\"All Species\",0,IF('Veg Guide Data Base'!$B583=\"Yes\",INDEX($ED$19:$ET$1000,MATCH($B1693,$AZ$19:$AZ$1000,0),MATCH($A$2,$ED$18:$EU$18,0)),\"\"))","v":0},{"$f":"IF($A$2=\"All Species\",0,IF('Veg Guide Data Base'!$B583=\"Yes\",INDEX($EV$19:$FL$1000,MATCH($B1693,$AZ$19:$AZ$1000,0),MATCH($A$2,$EV$18:$FL$18,0)),\"\"))","v":0},{"$f":"IF(B1693=\"\",\"No\",\"Yes\")","v":"No"},{"$f":"IF($B1693<>\"\",INDEX($BA$19:$BI$600,MATCH($B1693,$AZ$19:$AZ$1361,0),MATCH($AC$1,$BA$18:$BI$18,FALSE)),\"\")","v":""},{"$f":"IF('Veg Guide Data Base'!$B583=\"Yes\",'Veg Guide Data Base'!BW583,\"\")","v":""},{"$f":"IF('Veg Guide Data Base'!$B583=\"Yes\",'Veg Guide Data Base'!BX583,\"\")","v":""},{"$f":"IF('Veg Guide Data Base'!$B583=\"Yes\",'Veg Guide Data Base'!BY583,\"\")","v":""},null,null,"",null,null,null,null,null,null,null,null,false,"",null,"No"]
["",{"$f":"IF('Veg Guide Data Base'!B587=\"Yes\",'Veg Guide Data Base'!AZ587,\"\")","v":""},{"$f":"IF('Veg Guide Data Base'!$B587=\"Yes\",'Veg Guide Data Base'!BL587,\"\")","v":""},{"$f":"IF('Veg Guide Data Base'!$B587=\"Yes\",'Veg Guide Data Base'!BM587,\"\")","v":""},{"$f":"IF('Veg Guide Data Base'!$B587=\"Yes\",'Veg Guide Data Base'!BJ587,\"\")","v":""},{"$f":"IF('Veg Guide Data Base'!$B587=\"Yes\",'Veg Guide Data Base'!BK587,\"\")","v":""},{"$f":"IF($A$2=\"All Species\",0,IF('Veg Guide Data Base'!$B587=\"Yes\",INDEX($ED$19:$ET$1000,MATCH($B1697,$AZ$19:$AZ$1000,0),MATCH($A$2,$ED$18:$EU$18,0)),\"\"))","v":0},{"$f":"IF($A$2=\"All Species\",0,IF('Veg Guide Data Base'!$B587=\"Yes\",INDEX($EV$19:$FL$1000,MATCH($B1697,$AZ$19:$AZ$1000,0),MATCH($A$2,$EV$18:$FL$18,0)),\"\"))","v":0},{"$f":"IF(B1697=\"\",\"No\",\"Yes\")","v":"No"},{"$f":"IF($B1697<>\"\",INDEX($BA$19:$BI$600,MATCH($B1697,$AZ$19:$AZ$1361,0),MATCH($AC$1,$BA$18:$BI$18,FALSE)),\"\")","v":""},{"$f":"IF('Veg Guide Data Base'!$B587=\"Yes\",'Veg Guide Data Base'!BW587,\"\")","v":""},{"$f":"IF('Veg Guide Data Base'!$B587=\"Yes\",'Veg Guide Data Base'!BX587,\"\")","v":""},{"$f":"IF('Veg Guide Data Base'!$B587=\"Yes\",'Veg Guide Data Base'!BY587,\"\")","v":""},null,null,"",null,null,null,null,null,null,null,null,false,"",null,"No"]
["",{"$f":"IF('Veg Guide Data Base'!B594=\"Yes\",'Veg Guide Data Base'!AZ594,\"\")","v":""},{"$f":"IF('Veg Guide Data Base'!$B594=\"Yes\",'Veg Guide Data Base'!BL594,\"\")","v":""},{"$f":"IF('Veg Guide Data Base'!$B594=\"Yes\",'Veg Guide Data Base'!BM594,\"\")","v":""},{"$f":"IF('Veg Guide Data Base'!$B594=\"Yes\",'Veg Guide Data Base'!BJ594,\"\")","v":""},{"$f":"IF('Veg Guide Data Base'!$B594=\"Yes\",'Veg Guide Data Base'!BK594,\"\")","v":""},{"$f":"IF($A$2=\"All Species\",0,IF('Veg Guide Data Base'!$B594=\"Yes\",INDEX($ED$19:$ET$1000,MATCH($B1704,$AZ$19:$AZ$1000,0),MATCH($A$2,$ED$18:$EU$18,0)),\"\"))","v":0},{"$f":"IF($A$2=\"All Species\",0,IF('Veg Guide Data Base'!$B594=\"Yes\",INDEX($EV$19:$FL$1000,MATCH($B1704,$AZ$19:$AZ$1000,0),MATCH($A$2,$EV$18:$FL$18,0)),\"\"))","v":0},{"$f":"IF(B1704=\"\",\"No\",\"Yes\")","v":"No"},{"$f":"IF($B1704<>\"\",INDEX($BA$19:$BI$600,MATCH($B1704,$AZ$19:$AZ$1361,0),MATCH($AC$1,$BA$18:$BI$18,FALSE)),\"\")","v":""},{"$f":"IF('Veg Guide Data Base'!$B594=\"Yes\",'Veg Guide Data Base'!BW594,\"\")","v":""},{"$f":"IF('Veg Guide Data Base'!$B594=\"Yes\",'Veg Guide Data Base'!BX594,\"\")","v":""},{"$f":"IF('Veg Guide Data Base'!$B594=\"Yes\",'Veg Guide Data Base'!BY594,\"\")","v":""},null,null,"",null,null,null,null,null,null,null,null,false,"",null,"No"]
["",{"$f":"IF('Veg Guide Data Base'!B601=\"Yes\",'Veg Guide Data Base'!AZ601,\"\")","v":""},{"$f":"IF('Veg Guide Data Base'!$B601=\"Yes\",'Veg Guide Data Base'!BL601,\"\")","v":""},{"$f":"IF('Veg Guide Data Base'!$B601=\"Yes\",'Veg Guide Data Base'!BM601,\"\")","v":""},{"$f":"IF('Veg Guide Data Base'!$B601=\"Yes\",'Veg Guide Data Base'!BJ601,\"\")","v":""},{"$f":"IF('Veg Guide Data Base'!$B601=\"Yes\",'Veg Guide Data Base'!BK601,\"\")","v":""},{"$f":"IF($A$2=\"All Species\",0,IF('Veg Guide Data Base'!$B601=\"Yes\",INDEX($ED$19:$ET$1000,MATCH($B1711,$AZ$19:$AZ$1000,0),MATCH($A$2,$ED$18:$EU$18,0)),\"\"))","v":0},{"$f":"IF($A$2=\"All Species\",0,IF('Veg Guide Data Base'!$B601=\"Yes\",INDEX($EV$19:$FL$1000,MATCH($B1711,$AZ$19:$AZ$1000,0),MATCH($A$2,$EV$18:$FL$18,0)),\"\"))","v":0},{"$f":"IF(B1711=\"\",\"No\",\"Yes\")","v":"No"},{"$f":"IF($B1711<>\"\",INDEX($BA$19:$BI$600,MATCH($B1711,$AZ$19:$AZ$1361,0),MATCH($AC$1,$BA$18:$BI$18,FALSE)),\"\")","v":""},{"$f":"IF('Veg Guide Data Base'!$B601=\"Yes\",'Veg Guide Data Base'!BW601,\"\")","v":""},{"$f":"IF('Veg Guide Data Base'!$B601=\"Yes\",'Veg Guide Data Base'!BX601,\"\")","v":""},{"$f":"IF('Veg Guide Data Base'!$B601=\"Yes\",'Veg Guide Data Base'!BY601,\"\")","v":""},null,null,"",null,null,null,null,null,null,null,null,false,"",null,"No"]
["",{"$f":"IF('Veg Guide Data Base'!B604=\"Yes\",'Veg Guide Data Base'!AZ604,\"\")","v":""},{"$f":"IF('Veg Guide Data Base'!$B604=\"Yes\",'Veg Guide Data Base'!BL604,\"\")","v":""},{"$f":"IF('Veg Guide Data Base'!$B604=\"Yes\",'Veg Guide Data Base'!BM604,\"\")","v":""},{"$f":"IF('Veg Guide Data Base'!$B604=\"Yes\",'Veg Guide Data Base'!BJ604,\"\")","v":""},{"$f":"IF('Veg Guide Data Base'!$B604=\"Yes\",'Veg Guide Data Base'!BK604,\"\")","v":""},{"$f":"IF($A$2=\"All Species\",0,IF('Veg Guide Data Base'!$B604=\"Yes\",INDEX($ED$19:$ET$1000,MATCH($B1714,$AZ$19:$AZ$1000,0),MATCH($A$2,$ED$18:$EU$18,0)),\"\"))","v":0},{"$f":"IF($A$2=\"All Species\",0,IF('Veg Guide Data Base'!$B604=\"Yes\",INDEX($EV$19:$FL$1000,MATCH($B1714,$AZ$19:$AZ$1000,0),MATCH($A$2,$EV$18:$FL$18,0)),\"\"))","v":0},{"$f":"IF(B1714=\"\",\"No\",\"Yes\")","v":"No"},{"$f":"IF($B1714<>\"\",INDEX($BA$19:$BI$600,MATCH($B1714,$AZ$19:$AZ$1361,0),MATCH($AC$1,$BA$18:$BI$18,FALSE)),\"\")","v":""},{"$f":"IF('Veg Guide Data Base'!$B604=\"Yes\",'Veg Guide Data Base'!BW604,\"\")","v":""},{"$f":"IF('Veg Guide Data Base'!$B604=\"Yes\",'Veg Guide Data Base'!BX604,\"\")","v":""},{"$f":"IF('Veg Guide Data Base'!$B604=\"Yes\",'Veg Guide Data Base'!BY604,\"\")","v":""},null,null,"",null,null,null,null,null,null,null,null,false,"",null,"No"]
["",{"$f":"IF('Veg Guide Data Base'!B611=\"Yes\",'Veg Guide Data Base'!AZ611,\"\")","v":""},{"$f":"IF('Veg Guide Data Base'!$B611=\"Yes\",'Veg Guide Data Base'!BL611,\"\")","v":""},{"$f":"IF('Veg Guide Data Base'!$B611=\"Yes\",'Veg Guide Data Base'!BM611,\"\")","v":""},{"$f":"IF('Veg Guide Data Base'!$B611=\"Yes\",'Veg Guide Data Base'!BJ611,\"\")","v":""},{"$f":"IF('Veg Guide Data Base'!$B611=\"Yes\",'Veg Guide Data Base'!BK611,\"\")","v":""},{"$f":"IF($A$2=\"All Species\",0,IF('Veg Guide Data Base'!$B611=\"Yes\",INDEX($ED$19:$ET$1000,MATCH($B1721,$AZ$19:$AZ$1000,0),MATCH($A$2,$ED$18:$EU$18,0)),\"\"))","v":0},{"$f":"IF($A$2=\"All Species\",0,IF('Veg Guide Data Base'!$B611=\"Yes\",INDEX($EV$19:$FL$1000,MATCH($B1721,$AZ$19:$AZ$1000,0),MATCH($A$2,$EV$18:$FL$18,0)),\"\"))","v":0},{"$f":"IF(B1721=\"\",\"No\",\"Yes\")","v":"No"},{"$f":"IF($B1721<>\"\",INDEX($BA$19:$BI$600,MATCH($B1721,$AZ$19:$AZ$1361,0),MATCH($AC$1,$BA$18:$BI$18,FALSE)),\"\")","v":""},{"$f":"IF('Veg Guide Data Base'!$B611=\"Yes\",'Veg Guide Data Base'!BW611,\"\")","v":""},{"$f":"IF('Veg Guide Data Base'!$B611=\"Yes\",'Veg Guide Data Base'!BX611,\"\")","v":""},{"$f":"IF('Veg Guide Data Base'!$B611=\"Yes\",'Veg Guide Data Base'!BY611,\"\")","v":""},null,null,"",null,null,null,null,null,null,null,null,false,"",null,"No"]
["",{"$f":"IF('Veg Guide Data Base'!B619=\"Yes\",'Veg Guide Data Base'!AZ619,\"\")","v":""},{"$f":"IF('Veg Guide Data Base'!$B619=\"Yes\",'Veg Guide Data Base'!BL619,\"\")","v":""},{"$f":"IF('Veg Guide Data Base'!$B619=\"Yes\",'Veg Guide Data Base'!BM619,\"\")","v":""},{"$f":"IF('Veg Guide Data Base'!$B619=\"Yes\",'Veg Guide Data Base'!BJ619,\"\")","v":""},{"$f":"IF('Veg Guide Data Base'!$B619=\"Yes\",'Veg Guide Data Base'!BK619,\"\")","v":""},{"$f":"IF($A$2=\"All Species\",0,IF('Veg Guide Data Base'!$B619=\"Yes\",INDEX($ED$19:$ET$1000,MATCH($B1729,$AZ$19:$AZ$1000,0),MATCH($A$2,$ED$18:$EU$18,0)),\"\"))","v":0},{"$f":"IF($A$2=\"All Species\",0,IF('Veg Guide Data Base'!$B619=\"Yes\",INDEX($EV$19:$FL$1000,MATCH($B1729,$AZ$19:$AZ$1000,0),MATCH($A$2,$EV$18:$FL$18,0)),\"\"))","v":0},{"$f":"IF(B1729=\"\",\"No\",\"Yes\")","v":"No"},{"$f":"IF($B1729<>\"\",INDEX($BA$19:$BI$600,MATCH($B1729,$AZ$19:$AZ$1361,0),MATCH($AC$1,$BA$18:$BI$18,FALSE)),\"\")","v":""},{"$f":"IF('Veg Guide Data Base'!$B619=\"Yes\",'Veg Guide Data Base'!BW619,\"\")","v":""},{"$f":"IF('Veg Guide Data Base'!$B619=\"Yes\",'Veg Guide Data Base'!BX619,\"\")","v":""},{"$f":"IF('Veg Guide Data Base'!$B619=\"Yes\",'Veg Guide Data Base'!BY619,\"\")","v":""},null,null,"",null,null,null,null,null,null,null,null,false,"",null,"No"]
["",{"$f":"IF('Veg Guide Data Base'!B622=\"Yes\",'Veg Guide Data Base'!AZ622,\"\")","v":""},{"$f":"IF('Veg Guide Data Base'!$B622=\"Yes\",'Veg Guide Data Base'!BL622,\"\")","v":""},{"$f":"IF('Veg Guide Data Base'!$B622=\"Yes\",'Veg Guide Data Base'!BM622,\"\")","v":""},{"$f":"IF('Veg Guide Data Base'!$B622=\"Yes\",'Veg Guide Data Base'!BJ622,\"\")","v":""},{"$f":"IF('Veg Guide Data Base'!$B622=\"Yes\",'Veg Guide Data Base'!BK622,\"\")","v":""},{"$f":"IF($A$2=\"All Species\",0,IF('Veg Guide Data Base'!$B622=\"Yes\",INDEX($ED$19:$ET$1000,MATCH($B1732,$AZ$19:$AZ$1000,0),MATCH($A$2,$ED$18:$EU$18,0)),\"\"))","v":0},{"$f":"IF($A$2=\"All Species\",0,IF('Veg Guide Data Base'!$B622=\"Yes\",INDEX($EV$19:$FL$1000,MATCH($B1732,$AZ$19:$AZ$1000,0),MATCH($A$2,$EV$18:$FL$18,0)),\"\"))","v":0},{"$f":"IF(B1732=\"\",\"No\",\"Yes\")","v":"No"},{"$f":"IF($B1732<>\"\",INDEX($BA$19:$BI$600,MATCH($B1732,$AZ$19:$AZ$1361,0),MATCH($AC$1,$BA$18:$BI$18,FALSE)),\"\")","v":""},{"$f":"IF('Veg Guide Data Base'!$B622=\"Yes\",'Veg Guide Data Base'!BW622,\"\")","v":""},{"$f":"IF('Veg Guide Data Base'!$B622=\"Yes\",'Veg Guide Data Base'!BX622,\"\")","v":""},{"$f":"IF('Veg Guide Data Base'!$B622=\"Yes\",'Veg Guide Data Base'!BY622,\"\")","v":""},null,null,"",null,null,null,null,null,null,null,null,false,"",null,"No"]
["",{"$f":"IF('Veg Guide Data Base'!B629=\"Yes\",'Veg Guide Data Base'!AZ629,\"\")","v":""},{"$f":"IF('Veg Guide Data Base'!$B629=\"Yes\",'Veg Guide Data Base'!BL629,\"\")","v":""},{"$f":"IF('Veg Guide Data Base'!$B629=\"Yes\",'Veg Guide Data Base'!BM629,\"\")","v":""},{"$f":"IF('Veg Guide Data Base'!$B629=\"Yes\",'Veg Guide Data Base'!BJ629,\"\")","v":""},{"$f":"IF('Veg Guide Data Base'!$B629=\"Yes\",'Veg Guide Data Base'!BK629,\"\")","v":""},{"$f":"IF($A$2=\"All Species\",0,IF('Veg Guide Data Base'!$B629=\"Yes\",INDEX($ED$19:$ET$1000,MATCH($B1739,$AZ$19:$AZ$1000,0),MATCH($A$2,$ED$18:$EU$18,0)),\"\"))","v":0},{"$f":"IF($A$2=\"All Species\",0,IF('Veg Guide Data Base'!$B629=\"Yes\",INDEX($EV$19:$FL$1000,MATCH($B1739,$AZ$19:$AZ$1000,0),MATCH($A$2,$EV$18:$FL$18,0)),\"\"))","v":0},{"$f":"IF(B1739=\"\",\"No\",\"Yes\")","v":"No"},{"$f":"IF($B1739<>\"\",INDEX($BA$19:$BI$600,MATCH($B1739,$AZ$19:$AZ$1361,0),MATCH($AC$1,$BA$18:$BI$18,FALSE)),\"\")","v":""},{"$f":"IF('Veg Guide Data Base'!$B629=\"Yes\",'Veg Guide Data Base'!BW629,\"\")","v":""},{"$f":"IF('Veg Guide Data Base'!$B629=\"Yes\",'Veg Guide Data Base'!BX629,\"\")","v":""},{"$f":"IF('Veg Guide Data Base'!$B629=\"Yes\",'Veg Guide Data Base'!BY629,\"\")","v":""},null,null,"",null,null,null,null,null,null,null,null,false,"",null,"No"]
["",{"$f":"IF('Veg Guide Data Base'!B636=\"Yes\",'Veg Guide Data Base'!AZ636,\"\")","v":""},{"$f":"IF('Veg Guide Data Base'!$B636=\"Yes\",'Veg Guide Data Base'!BL636,\"\")","v":""},{"$f":"IF('Veg Guide Data Base'!$B636=\"Yes\",'Veg Guide Data Base'!BM636,\"\")","v":""},{"$f":"IF('Veg Guide Data Base'!$B636=\"Yes\",'Veg Guide Data Base'!BJ636,\"\")","v":""},{"$f":"IF('Veg Guide Data Base'!$B636=\"Yes\",'Veg Guide Data Base'!BK636,\"\")","v":""},{"$f":"IF($A$2=\"All Species\",0,IF('Veg Guide Data Base'!$B636=\"Yes\",INDEX($ED$19:$ET$1000,MATCH($B1746,$AZ$19:$AZ$1000,0),MATCH($A$2,$ED$18:$EU$18,0)),\"\"))","v":0},{"$f":"IF($A$2=\"All Species\",0,IF('Veg Guide Data Base'!$B636=\"Yes\",INDEX($EV$19:$FL$1000,MATCH($B1746,$AZ$19:$AZ$1000,0),MATCH($A$2,$EV$18:$FL$18,0)),\"\"))","v":0},{"$f":"IF(B1746=\"\",\"No\",\"Yes\")","v":"No"},{"$f":"IF($B1746<>\"\",INDEX($BA$19:$BI$600,MATCH($B1746,$AZ$19:$AZ$1361,0),MATCH($AC$1,$BA$18:$BI$18,FALSE)),\"\")","v":""},{"$f":"IF('Veg Guide Data Base'!$B636=\"Yes\",'Veg Guide Data Base'!BW636,\"\")","v":""},{"$f":"IF('Veg Guide Data Base'!$B636=\"Yes\",'Veg Guide Data Base'!BX636,\"\")","v":""},{"$f":"IF('Veg Guide Data Base'!$B636=\"Yes\",'Veg Guide Data Base'!BY636,\"\")","v":""},null,null,"",null,null,null,null,null,null,null,null,false,"",null,"No"]
["",{"$f":"IF('Veg Guide Data Base'!B640=\"Yes\",'Veg Guide Data Base'!AZ640,\"\")","v":""},{"$f":"IF('Veg Guide Data Base'!$B640=\"Yes\",'Veg Guide Data Base'!BL640,\"\")","v":""},{"$f":"IF('Veg Guide Data Base'!$B640=\"Yes\",'Veg Guide Data Base'!BM640,\"\")","v":""},{"$f":"IF('Veg Guide Data Base'!$B640=\"Yes\",'Veg Guide Data Base'!BJ640,\"\")","v":""},{"$f":"IF('Veg Guide Data Base'!$B640=\"Yes\",'Veg Guide Data Base'!BK640,\"\")","v":""},{"$f":"IF($A$2=\"All Species\",0,IF('Veg Guide Data Base'!$B640=\"Yes\",INDEX($ED$19:$ET$1000,MATCH($B1750,$AZ$19:$AZ$1000,0),MATCH($A$2,$ED$18:$EU$18,0)),\"\"))","v":0},{"$f":"IF($A$2=\"All Species\",0,IF('Veg Guide Data Base'!$B640=\"Yes\",INDEX($EV$19:$FL$1000,MATCH($B1750,$AZ$19:$AZ$1000,0),MATCH($A$2,$EV$18:$FL$18,0)),\"\"))","v":0},{"$f":"IF(B1750=\"\",\"No\",\"Yes\")","v":"No"},{"$f":"IF($B1750<>\"\",INDEX($BA$19:$BI$600,MATCH($B1750,$AZ$19:$AZ$1361,0),MATCH($AC$1,$BA$18:$BI$18,FALSE)),\"\")","v":""},{"$f":"IF('Veg Guide Data Base'!$B640=\"Yes\",'Veg Guide Data Base'!BW640,\"\")","v":""},{"$f":"IF('Veg Guide Data Base'!$B640=\"Yes\",'Veg Guide Data Base'!BX640,\"\")","v":""},{"$f":"IF('Veg Guide Data Base'!$B640=\"Yes\",'Veg Guide Data Base'!BY640,\"\")","v":""},null,null,"",null,null,null,null,null,null,null,null,false,"",null,"No"]
["",{"$f":"IF('Veg Guide Data Base'!B647=\"Yes\",'Veg Guide Data Base'!AZ647,\"\")","v":""},{"$f":"IF('Veg Guide Data Base'!$B647=\"Yes\",'Veg Guide Data Base'!BL647,\"\")","v":""},{"$f":"IF('Veg Guide Data Base'!$B647=\"Yes\",'Veg Guide Data Base'!BM647,\"\")","v":""},{"$f":"IF('Veg Guide Data Base'!$B647=\"Yes\",'Veg Guide Data Base'!BJ647,\"\")","v":""},{"$f":"IF('Veg Guide Data Base'!$B647=\"Yes\",'Veg Guide Data Base'!BK647,\"\")","v":""},{"$f":"IF($A$2=\"All Species\",0,IF('Veg Guide Data Base'!$B647=\"Yes\",INDEX($ED$19:$ET$1000,MATCH($B1757,$AZ$19:$AZ$1000,0),MATCH($A$2,$ED$18:$EU$18,0)),\"\"))","v":0},{"$f":"IF($A$2=\"All Species\",0,IF('Veg Guide Data Base'!$B647=\"Yes\",INDEX($EV$19:$FL$1000,MATCH($B1757,$AZ$19:$AZ$1000,0),MATCH($A$2,$EV$18:$FL$18,0)),\"\"))","v":0},{"$f":"IF(B1757=\"\",\"No\",\"Yes\")","v":"No"},{"$f":"IF($B1757<>\"\",INDEX($BA$19:$BI$600,MATCH($B1757,$AZ$19:$AZ$1361,0),MATCH($AC$1,$BA$18:$BI$18,FALSE)),\"\")","v":""},{"$f":"IF('Veg Guide Data Base'!$B647=\"Yes\",'Veg Guide Data Base'!BW647,\"\")","v":""},{"$f":"IF('Veg Guide Data Base'!$B647=\"Yes\",'Veg Guide Data Base'!BX647,\"\")","v":""},{"$f":"IF('Veg Guide Data Base'!$B647=\"Yes\",'Veg Guide Data Base'!BY647,\"\")","v":""},null,null,"",null,null,null,null,null,null,null,null,false,"",null,"No"]
["",{"$f":"IF('Veg Guide Data Base'!B650=\"Yes\",'Veg Guide Data Base'!AZ650,\"\")","v":""},{"$f":"IF('Veg Guide Data Base'!$B650=\"Yes\",'Veg Guide Data Base'!BL650,\"\")","v":""},{"$f":"IF('Veg Guide Data Base'!$B650=\"Yes\",'Veg Guide Data Base'!BM650,\"\")","v":""},{"$f":"IF('Veg Guide Data Base'!$B650=\"Yes\",'Veg Guide Data Base'!BJ650,\"\")","v":""},{"$f":"IF('Veg Guide Data Base'!$B650=\"Yes\",'Veg Guide Data Base'!BK650,\"\")","v":""},{"$f":"IF($A$2=\"All Species\",0,IF('Veg Guide Data Base'!$B650=\"Yes\",INDEX($ED$19:$ET$1000,MATCH($B1760,$AZ$19:$AZ$1000,0),MATCH($A$2,$ED$18:$EU$18,0)),\"\"))","v":0},{"$f":"IF($A$2=\"All Species\",0,IF('Veg Guide Data Base'!$B650=\"Yes\",INDEX($EV$19:$FL$1000,MATCH($B1760,$AZ$19:$AZ$1000,0),MATCH($A$2,$EV$18:$FL$18,0)),\"\"))","v":0},{"$f":"IF(B1760=\"\",\"No\",\"Yes\")","v":"No"},{"$f":"IF($B1760<>\"\",INDEX($BA$19:$BI$600,MATCH($B1760,$AZ$19:$AZ$1361,0),MATCH($AC$1,$BA$18:$BI$18,FALSE)),\"\")","v":""},{"$f":"IF('Veg Guide Data Base'!$B650=\"Yes\",'Veg Guide Data Base'!BW650,\"\")","v":""},{"$f":"IF('Veg Guide Data Base'!$B650=\"Yes\",'Veg Guide Data Base'!BX650,\"\")","v":""},{"$f":"IF('Veg Guide Data Base'!$B650=\"Yes\",'Veg Guide Data Base'!BY650,\"\")","v":""},null,null,"",null,null,null,null,null,null,null,null,false,"",null,"No"]
["",{"$f":"IF('Veg Guide Data Base'!B656=\"Yes\",'Veg Guide Data Base'!AZ656,\"\")","v":""},{"$f":"IF('Veg Guide Data Base'!$B656=\"Yes\",'Veg Guide Data Base'!BL656,\"\")","v":""},{"$f":"IF('Veg Guide Data Base'!$B656=\"Yes\",'Veg Guide Data Base'!BM656,\"\")","v":""},{"$f":"IF('Veg Guide Data Base'!$B656=\"Yes\",'Veg Guide Data Base'!BJ656,\"\")","v":""},{"$f":"IF('Veg Guide Data Base'!$B656=\"Yes\",'Veg Guide Data Base'!BK656,\"\")","v":""},{"$f":"IF($A$2=\"All Species\",0,IF('Veg Guide Data Base'!$B656=\"Yes\",INDEX($ED$19:$ET$1000,MATCH($B1766,$AZ$19:$AZ$1000,0),MATCH($A$2,$ED$18:$EU$18,0)),\"\"))","v":0},{"$f":"IF($A$2=\"All Species\",0,IF('Veg Guide Data Base'!$B656=\"Yes\",INDEX($EV$19:$FL$1000,MATCH($B1766,$AZ$19:$AZ$1000,0),MATCH($A$2,$EV$18:$FL$18,0)),\"\"))","v":0},{"$f":"IF(B1766=\"\",\"No\",\"Yes\")","v":"No"},{"$f":"IF($B1766<>\"\",INDEX($BA$19:$BI$600,MATCH($B1766,$AZ$19:$AZ$1361,0),MATCH($AC$1,$BA$18:$BI$18,FALSE)),\"\")","v":""},{"$f":"IF('Veg Guide Data Base'!$B656=\"Yes\",'Veg Guide Data Base'!BW656,\"\")","v":""},{"$f":"IF('Veg Guide Data Base'!$B656=\"Yes\",'Veg Guide Data Base'!BX656,\"\")","v":""},{"$f":"IF('Veg Guide Data Base'!$B656=\"Yes\",'Veg Guide Data Base'!BY656,\"\")","v":""},null,null,"",null,null,null,null,null,null,null,null,false,"",null,"No"]
["",{"$f":"IF('Veg Guide Data Base'!B665=\"Yes\",'Veg Guide Data Base'!AZ665,\"\")","v":""},{"$f":"IF('Veg Guide Data Base'!$B665=\"Yes\",'Veg Guide Data Base'!BL665,\"\")","v":""},{"$f":"IF('Veg Guide Data Base'!$B665=\"Yes\",'Veg Guide Data Base'!BM665,\"\")","v":""},{"$f":"IF('Veg Guide Data Base'!$B665=\"Yes\",'Veg Guide Data Base'!BJ665,\"\")","v":""},{"$f":"IF('Veg Guide Data Base'!$B665=\"Yes\",'Veg Guide Data Base'!BK665,\"\")","v":""},{"$f":"IF($A$2=\"All Species\",0,IF('Veg Guide Data Base'!$B665=\"Yes\",INDEX($ED$19:$ET$1000,MATCH($B1775,$AZ$19:$AZ$1000,0),MATCH($A$2,$ED$18:$EU$18,0)),\"\"))","v":0},{"$f":"IF($A$2=\"All Species\",0,IF('Veg Guide Data Base'!$B665=\"Yes\",INDEX($EV$19:$FL$1000,MATCH($B1775,$AZ$19:$AZ$1000,0),MATCH($A$2,$EV$18:$FL$18,0)),\"\"))","v":0},{"$f":"IF(B1775=\"\",\"No\",\"Yes\")","v":"No"},{"$f":"IF($B1775<>\"\",INDEX($BA$19:$BI$600,MATCH($B1775,$AZ$19:$AZ$1361,0),MATCH($AC$1,$BA$18:$BI$18,FALSE)),\"\")","v":""},{"$f":"IF('Veg Guide Data Base'!$B665=\"Yes\",'Veg Guide Data Base'!BW665,\"\")","v":""},{"$f":"IF('Veg Guide Data Base'!$B665=\"Yes\",'Veg Guide Data Base'!BX665,\"\")","v":""},{"$f":"IF('Veg Guide Data Base'!$B665=\"Yes\",'Veg Guide Data Base'!BY665,\"\")","v":""},null,null,"",null,null,null,null,null,null,null,null,false,"",null,"No"]
["",{"$f":"IF('Veg Guide Data Base'!B668=\"Yes\",'Veg Guide Data Base'!AZ668,\"\")","v":""},{"$f":"IF('Veg Guide Data Base'!$B668=\"Yes\",'Veg Guide Data Base'!BL668,\"\")","v":""},{"$f":"IF('Veg Guide Data Base'!$B668=\"Yes\",'Veg Guide Data Base'!BM668,\"\")","v":""},{"$f":"IF('Veg Guide Data Base'!$B668=\"Yes\",'Veg Guide Data Base'!BJ668,\"\")","v":""},{"$f":"IF('Veg Guide Data Base'!$B668=\"Yes\",'Veg Guide Data Base'!BK668,\"\")","v":""},{"$f":"IF($A$2=\"All Species\",0,IF('Veg Guide Data Base'!$B668=\"Yes\",INDEX($ED$19:$ET$1000,MATCH($B1778,$AZ$19:$AZ$1000,0),MATCH($A$2,$ED$18:$EU$18,0)),\"\"))","v":0},{"$f":"IF($A$2=\"All Species\",0,IF('Veg Guide Data Base'!$B668=\"Yes\",INDEX($EV$19:$FL$1000,MATCH($B1778,$AZ$19:$AZ$1000,0),MATCH($A$2,$EV$18:$FL$18,0)),\"\"))","v":0},{"$f":"IF(B1778=\"\",\"No\",\"Yes\")","v":"No"},{"$f":"IF($B1778<>\"\",INDEX($BA$19:$BI$600,MATCH($B1778,$AZ$19:$AZ$1361,0),MATCH($AC$1,$BA$18:$BI$18,FALSE)),\"\")","v":""},{"$f":"IF('Veg Guide Data Base'!$B668=\"Yes\",'Veg Guide Data Base'!BW668,\"\")","v":""},{"$f":"IF('Veg Guide Data Base'!$B668=\"Yes\",'Veg Guide Data Base'!BX668,\"\")","v":""},{"$f":"IF('Veg Guide Data Base'!$B668=\"Yes\",'Veg Guide Data Base'!BY668,\"\")","v":""},null,null,"",null,null,null,null,null,null,null,null,false,"",null,"No"]
["",{"$f":"IF('Veg Guide Data Base'!B675=\"Yes\",'Veg Guide Data Base'!AZ675,\"\")","v":""},{"$f":"IF('Veg Guide Data Base'!$B675=\"Yes\",'Veg Guide Data Base'!BL675,\"\")","v":""},{"$f":"IF('Veg Guide Data Base'!$B675=\"Yes\",'Veg Guide Data Base'!BM675,\"\")","v":""},{"$f":"IF('Veg Guide Data Base'!$B675=\"Yes\",'Veg Guide Data Base'!BJ675,\"\")","v":""},{"$f":"IF('Veg Guide Data Base'!$B675=\"Yes\",'Veg Guide Data Base'!BK675,\"\")","v":""},{"$f":"IF($A$2=\"All Species\",0,IF('Veg Guide Data Base'!$B675=\"Yes\",INDEX($ED$19:$ET$1000,MATCH($B1785,$AZ$19:$AZ$1000,0),MATCH($A$2,$ED$18:$EU$18,0)),\"\"))","v":0},{"$f":"IF($A$2=\"All Species\",0,IF('Veg Guide Data Base'!$B675=\"Yes\",INDEX($EV$19:$FL$1000,MATCH($B1785,$AZ$19:$AZ$1000,0),MATCH($A$2,$EV$18:$FL$18,0)),\"\"))","v":0},{"$f":"IF(B1785=\"\",\"No\",\"Yes\")","v":"No"},{"$f":"IF($B1785<>\"\",INDEX($BA$19:$BI$600,MATCH($B1785,$AZ$19:$AZ$1361,0),MATCH($AC$1,$BA$18:$BI$18,FALSE)),\"\")","v":""},{"$f":"IF('Veg Guide Data Base'!$B675=\"Yes\",'Veg Guide Data Base'!BW675,\"\")","v":""},{"$f":"IF('Veg Guide Data Base'!$B675=\"Yes\",'Veg Guide Data Base'!BX675,\"\")","v":""},{"$f":"IF('Veg Guide Data Base'!$B675=\"Yes\",'Veg Guide Data Base'!BY675,\"\")","v":""},null,null,"",null,null,null,null,null,null,null,null,false,"",null,"No"]
["",{"$f":"IF('Veg Guide Data Base'!B680=\"Yes\",'Veg Guide Data Base'!AZ680,\"\")","v":""},{"$f":"IF('Veg Guide Data Base'!$B680=\"Yes\",'Veg Guide Data Base'!BL680,\"\")","v":""},{"$f":"IF('Veg Guide Data Base'!$B680=\"Yes\",'Veg Guide Data Base'!BM680,\"\")","v":""},{"$f":"IF('Veg Guide Data Base'!$B680=\"Yes\",'Veg Guide Data Base'!BJ680,\"\")","v":""},{"$f":"IF('Veg Guide Data Base'!$B680=\"Yes\",'Veg Guide Data Base'!BK680,\"\")","v":""},{"$f":"IF($A$2=\"All Species\",0,IF('Veg Guide Data Base'!$B680=\"Yes\",INDEX($ED$19:$ET$1000,MATCH($B1790,$AZ$19:$AZ$1000,0),MATCH($A$2,$ED$18:$EU$18,0)),\"\"))","v":0},{"$f":"IF($A$2=\"All Species\",0,IF('Veg Guide Data Base'!$B680=\"Yes\",INDEX($EV$19:$FL$1000,MATCH($B1790,$AZ$19:$AZ$1000,0),MATCH($A$2,$EV$18:$FL$18,0)),\"\"))","v":0},{"$f":"IF(B1790=\"\",\"No\",\"Yes\")","v":"No"},{"$f":"IF($B1790<>\"\",INDEX($BA$19:$BI$600,MATCH($B1790,$AZ$19:$AZ$1361,0),MATCH($AC$1,$BA$18:$BI$18,FALSE)),\"\")","v":""},{"$f":"IF('Veg Guide Data Base'!$B680=\"Yes\",'Veg Guide Data Base'!BW680,\"\")","v":""},{"$f":"IF('Veg Guide Data Base'!$B680=\"Yes\",'Veg Guide Data Base'!BX680,\"\")","v":""},{"$f":"IF('Veg Guide Data Base'!$B680=\"Yes\",'Veg Guide Data Base'!BY680,\"\")","v":""},null,null,"",null,null,null,null,null,null,null,null,false,"",null,"No"]
["",{"$f":"IF('Veg Guide Data Base'!B686=\"Yes\",'Veg Guide Data Base'!AZ686,\"\")","v":""},{"$f":"IF('Veg Guide Data Base'!$B686=\"Yes\",'Veg Guide Data Base'!BL686,\"\")","v":""},{"$f":"IF('Veg Guide Data Base'!$B686=\"Yes\",'Veg Guide Data Base'!BM686,\"\")","v":""},{"$f":"IF('Veg Guide Data Base'!$B686=\"Yes\",'Veg Guide Data Base'!BJ686,\"\")","v":""},{"$f":"IF('Veg Guide Data Base'!$B686=\"Yes\",'Veg Guide Data Base'!BK686,\"\")","v":""},{"$f":"IF($A$2=\"All Species\",0,IF('Veg Guide Data Base'!$B686=\"Yes\",INDEX($ED$19:$ET$1000,MATCH($B1796,$AZ$19:$AZ$1000,0),MATCH($A$2,$ED$18:$EU$18,0)),\"\"))","v":0},{"$f":"IF($A$2=\"All Species\",0,IF('Veg Guide Data Base'!$B686=\"Yes\",INDEX($EV$19:$FL$1000,MATCH($B1796,$AZ$19:$AZ$1000,0),MATCH($A$2,$EV$18:$FL$18,0)),\"\"))","v":0},{"$f":"IF(B1796=\"\",\"No\",\"Yes\")","v":"No"},{"$f":"IF($B1796<>\"\",INDEX($BA$19:$BI$600,MATCH($B1796,$AZ$19:$AZ$1361,0),MATCH($AC$1,$BA$18:$BI$18,FALSE)),\"\")","v":""},{"$f":"IF('Veg Guide Data Base'!$B686=\"Yes\",'Veg Guide Data Base'!BW686,\"\")","v":""},{"$f":"IF('Veg Guide Data Base'!$B686=\"Yes\",'Veg Guide Data Base'!BX686,\"\")","v":""},{"$f":"IF('Veg Guide Data Base'!$B686=\"Yes\",'Veg Guide Data Base'!BY686,\"\")","v":""},null,null,"",null,null,null,null,null,null,null,null,false,"",null,"No"]
["",{"$f":"IF('Veg Guide Data Base'!B693=\"Yes\",'Veg Guide Data Base'!AZ693,\"\")","v":""},{"$f":"IF('Veg Guide Data Base'!$B693=\"Yes\",'Veg Guide Data Base'!BL693,\"\")","v":""},{"$f":"IF('Veg Guide Data Base'!$B693=\"Yes\",'Veg Guide Data Base'!BM693,\"\")","v":""},{"$f":"IF('Veg Guide Data Base'!$B693=\"Yes\",'Veg Guide Data Base'!BJ693,\"\")","v":""},{"$f":"IF('Veg Guide Data Base'!$B693=\"Yes\",'Veg Guide Data Base'!BK693,\"\")","v":""},{"$f":"IF($A$2=\"All Species\",0,IF('Veg Guide Data Base'!$B693=\"Yes\",INDEX($ED$19:$ET$1000,MATCH($B1803,$AZ$19:$AZ$1000,0),MATCH($A$2,$ED$18:$EU$18,0)),\"\"))","v":0},{"$f":"IF($A$2=\"All Species\",0,IF('Veg Guide Data Base'!$B693=\"Yes\",INDEX($EV$19:$FL$1000,MATCH($B1803,$AZ$19:$AZ$1000,0),MATCH($A$2,$EV$18:$FL$18,0)),\"\"))","v":0},{"$f":"IF(B1803=\"\",\"No\",\"Yes\")","v":"No"},{"$f":"IF($B1803<>\"\",INDEX($BA$19:$BI$600,MATCH($B1803,$AZ$19:$AZ$1361,0),MATCH($AC$1,$BA$18:$BI$18,FALSE)),\"\")","v":""},{"$f":"IF('Veg Guide Data Base'!$B693=\"Yes\",'Veg Guide Data Base'!BW693,\"\")","v":""},{"$f":"IF('Veg Guide Data Base'!$B693=\"Yes\",'Veg Guide Data Base'!BX693,\"\")","v":""},{"$f":"IF('Veg Guide Data Base'!$B693=\"Yes\",'Veg Guide Data Base'!BY693,\"\")","v":""},null,null,"",null,null,null,null,null,null,null,null,false,"",null,"No"]
["",{"$f":"IF('Veg Guide Data Base'!B696=\"Yes\",'Veg Guide Data Base'!AZ696,\"\")","v":""},{"$f":"IF('Veg Guide Data Base'!$B696=\"Yes\",'Veg Guide Data Base'!BL696,\"\")","v":""},{"$f":"IF('Veg Guide Data Base'!$B696=\"Yes\",'Veg Guide Data Base'!BM696,\"\")","v":""},{"$f":"IF('Veg Guide Data Base'!$B696=\"Yes\",'Veg Guide Data Base'!BJ696,\"\")","v":""},{"$f":"IF('Veg Guide Data Base'!$B696=\"Yes\",'Veg Guide Data Base'!BK696,\"\")","v":""},{"$f":"IF($A$2=\"All Species\",0,IF('Veg Guide Data Base'!$B696=\"Yes\",INDEX($ED$19:$ET$1000,MATCH($B1806,$AZ$19:$AZ$1000,0),MATCH($A$2,$ED$18:$EU$18,0)),\"\"))","v":0},{"$f":"IF($A$2=\"All Species\",0,IF('Veg Guide Data Base'!$B696=\"Yes\",INDEX($EV$19:$FL$1000,MATCH($B1806,$AZ$19:$AZ$1000,0),MATCH($A$2,$EV$18:$FL$18,0)),\"\"))","v":0},{"$f":"IF(B1806=\"\",\"No\",\"Yes\")","v":"No"},{"$f":"IF($B1806<>\"\",INDEX($BA$19:$BI$600,MATCH($B1806,$AZ$19:$AZ$1361,0),MATCH($AC$1,$BA$18:$BI$18,FALSE)),\"\")","v":""},{"$f":"IF('Veg Guide Data Base'!$B696=\"Yes\",'Veg Guide Data Base'!BW696,\"\")","v":""},{"$f":"IF('Veg Guide Data Base'!$B696=\"Yes\",'Veg Guide Data Base'!BX696,\"\")","v":""},{"$f":"IF('Veg Guide Data Base'!$B696=\"Yes\",'Veg Guide Data Base'!BY696,\"\")","v":""},null,null,"",null,null,null,null,null,null,null,null,false,"",null,"No"]
["",{"$f":"IF('Veg Guide Data Base'!B705=\"Yes\",'Veg Guide Data Base'!AZ705,\"\")","v":""},{"$f":"IF('Veg Guide Data Base'!$B705=\"Yes\",'Veg Guide Data Base'!BL705,\"\")","v":""},{"$f":"IF('Veg Guide Data Base'!$B705=\"Yes\",'Veg Guide Data Base'!BM705,\"\")","v":""},{"$f":"IF('Veg Guide Data Base'!$B705=\"Yes\",'Veg Guide Data Base'!BJ705,\"\")","v":""},{"$f":"IF('Veg Guide Data Base'!$B705=\"Yes\",'Veg Guide Data Base'!BK705,\"\")","v":""},{"$f":"IF($A$2=\"All Species\",0,IF('Veg Guide Data Base'!$B705=\"Yes\",INDEX($ED$19:$ET$1000,MATCH($B1815,$AZ$19:$AZ$1000,0),MATCH($A$2,$ED$18:$EU$18,0)),\"\"))","v":0},{"$f":"IF($A$2=\"All Species\",0,IF('Veg Guide Data Base'!$B705=\"Yes\",INDEX($EV$19:$FL$1000,MATCH($B1815,$AZ$19:$AZ$1000,0),MATCH($A$2,$EV$18:$FL$18,0)),\"\"))","v":0},{"$f":"IF(B1815=\"\",\"No\",\"Yes\")","v":"No"},{"$f":"IF($B1815<>\"\",INDEX($BA$19:$BI$600,MATCH($B1815,$AZ$19:$AZ$1361,0),MATCH($AC$1,$BA$18:$BI$18,FALSE)),\"\")","v":""},{"$f":"IF('Veg Guide Data Base'!$B705=\"Yes\",'Veg Guide Data Base'!BW705,\"\")","v":""},{"$f":"IF('Veg Guide Data Base'!$B705=\"Yes\",'Veg Guide Data Base'!BX705,\"\")","v":""},{"$f":"IF('Veg Guide Data Base'!$B705=\"Yes\",'Veg Guide Data Base'!BY705,\"\")","v":""},null,null,"",null,null,null,null,null,null,null,null,false,"",null,"No"]
["",{"$f":"IF('Veg Guide Data Base'!B711=\"Yes\",'Veg Guide Data Base'!AZ711,\"\")","v":""},{"$f":"IF('Veg Guide Data Base'!$B711=\"Yes\",'Veg Guide Data Base'!BL711,\"\")","v":""},{"$f":"IF('Veg Guide Data Base'!$B711=\"Yes\",'Veg Guide Data Base'!BM711,\"\")","v":""},{"$f":"IF('Veg Guide Data Base'!$B711=\"Yes\",'Veg Guide Data Base'!BJ711,\"\")","v":""},{"$f":"IF('Veg Guide Data Base'!$B711=\"Yes\",'Veg Guide Data Base'!BK711,\"\")","v":""},{"$f":"IF($A$2=\"All Species\",0,IF('Veg Guide Data Base'!$B711=\"Yes\",INDEX($ED$19:$ET$1000,MATCH($B1821,$AZ$19:$AZ$1000,0),MATCH($A$2,$ED$18:$EU$18,0)),\"\"))","v":0},{"$f":"IF($A$2=\"All Species\",0,IF('Veg Guide Data Base'!$B711=\"Yes\",INDEX($EV$19:$FL$1000,MATCH($B1821,$AZ$19:$AZ$1000,0),MATCH($A$2,$EV$18:$FL$18,0)),\"\"))","v":0},{"$f":"IF(B1821=\"\",\"No\",\"Yes\")","v":"No"},{"$f":"IF($B1821<>\"\",INDEX($BA$19:$BI$600,MATCH($B1821,$AZ$19:$AZ$1361,0),MATCH($AC$1,$BA$18:$BI$18,FALSE)),\"\")","v":""},{"$f":"IF('Veg Guide Data Base'!$B711=\"Yes\",'Veg Guide Data Base'!BW711,\"\")","v":""},{"$f":"IF('Veg Guide Data Base'!$B711=\"Yes\",'Veg Guide Data Base'!BX711,\"\")","v":""},{"$f":"IF('Veg Guide Data Base'!$B711=\"Yes\",'Veg Guide Data Base'!BY711,\"\")","v":""},null,null,"",null,null,null,null,null,null,null,null,false,"",null,"No"]
["",{"$f":"IF('Veg Guide Data Base'!B714=\"Yes\",'Veg Guide Data Base'!AZ714,\"\")","v":""},{"$f":"IF('Veg Guide Data Base'!$B714=\"Yes\",'Veg Guide Data Base'!BL714,\"\")","v":""},{"$f":"IF('Veg Guide Data Base'!$B714=\"Yes\",'Veg Guide Data Base'!BM714,\"\")","v":""},{"$f":"IF('Veg Guide Data Base'!$B714=\"Yes\",'Veg Guide Data Base'!BJ714,\"\")","v":""},{"$f":"IF('Veg Guide Data Base'!$B714=\"Yes\",'Veg Guide Data Base'!BK714,\"\")","v":""},{"$f":"IF($A$2=\"All Species\",0,IF('Veg Guide Data Base'!$B714=\"Yes\",INDEX($ED$19:$ET$1000,MATCH($B1824,$AZ$19:$AZ$1000,0),MATCH($A$2,$ED$18:$EU$18,0)),\"\"))","v":0},{"$f":"IF($A$2=\"All Species\",0,IF('Veg Guide Data Base'!$B714=\"Yes\",INDEX($EV$19:$FL$1000,MATCH($B1824,$AZ$19:$AZ$1000,0),MATCH($A$2,$EV$18:$FL$18,0)),\"\"))","v":0},{"$f":"IF(B1824=\"\",\"No\",\"Yes\")","v":"No"},{"$f":"IF($B1824<>\"\",INDEX($BA$19:$BI$600,MATCH($B1824,$AZ$19:$AZ$1361,0),MATCH($AC$1,$BA$18:$BI$18,FALSE)),\"\")","v":""},{"$f":"IF('Veg Guide Data Base'!$B714=\"Yes\",'Veg Guide Data Base'!BW714,\"\")","v":""},{"$f":"IF('Veg Guide Data Base'!$B714=\"Yes\",'Veg Guide Data Base'!BX714,\"\")","v":""},{"$f":"IF('Veg Guide Data Base'!$B714=\"Yes\",'Veg Guide Data Base'!BY714,\"\")","v":""},null,null,"",null,null,null,null,null,null,null,null,false,"",null,"No"]
["",{"$f":"IF('Veg Guide Data Base'!B721=\"Yes\",'Veg Guide Data Base'!AZ721,\"\")","v":""},{"$f":"IF('Veg Guide Data Base'!$B721=\"Yes\",'Veg Guide Data Base'!BL721,\"\")","v":""},{"$f":"IF('Veg Guide Data Base'!$B721=\"Yes\",'Veg Guide Data Base'!BM721,\"\")","v":""},{"$f":"IF('Veg Guide Data Base'!$B721=\"Yes\",'Veg Guide Data Base'!BJ721,\"\")","v":""},{"$f":"IF('Veg Guide Data Base'!$B721=\"Yes\",'Veg Guide Data Base'!BK721,\"\")","v":""},{"$f":"IF($A$2=\"All Species\",0,IF('Veg Guide Data Base'!$B721=\"Yes\",INDEX($ED$19:$ET$1000,MATCH($B1831,$AZ$19:$AZ$1000,0),MATCH($A$2,$ED$18:$EU$18,0)),\"\"))","v":0},{"$f":"IF($A$2=\"All Species\",0,IF('Veg Guide Data Base'!$B721=\"Yes\",INDEX($EV$19:$FL$1000,MATCH($B1831,$AZ$19:$AZ$1000,0),MATCH($A$2,$EV$18:$FL$18,0)),\"\"))","v":0},{"$f":"IF(B1831=\"\",\"No\",\"Yes\")","v":"No"},{"$f":"IF($B1831<>\"\",INDEX($BA$19:$BI$600,MATCH($B1831,$AZ$19:$AZ$1361,0),MATCH($AC$1,$BA$18:$BI$18,FALSE)),\"\")","v":""},{"$f":"IF('Veg Guide Data Base'!$B721=\"Yes\",'Veg Guide Data Base'!BW721,\"\")","v":""},{"$f":"IF('Veg Guide Data Base'!$B721=\"Yes\",'Veg Guide Data Base'!BX721,\"\")","v":""},{"$f":"IF('Veg Guide Data Base'!$B721=\"Yes\",'Veg Guide Data Base'!BY721,\"\")","v":""},null,null,"",null,null,null,null,null,null,null,null,false,"",null,"No"]
["",{"$f":"IF('Veg Guide Data Base'!B729=\"Yes\",'Veg Guide Data Base'!AZ729,\"\")","v":""},{"$f":"IF('Veg Guide Data Base'!$B729=\"Yes\",'Veg Guide Data Base'!BL729,\"\")","v":""},{"$f":"IF('Veg Guide Data Base'!$B729=\"Yes\",'Veg Guide Data Base'!BM729,\"\")","v":""},{"$f":"IF('Veg Guide Data Base'!$B729=\"Yes\",'Veg Guide Data Base'!BJ729,\"\")","v":""},{"$f":"IF('Veg Guide Data Base'!$B729=\"Yes\",'Veg Guide Data Base'!BK729,\"\")","v":""},{"$f":"IF($A$2=\"All Species\",0,IF('Veg Guide Data Base'!$B729=\"Yes\",INDEX($ED$19:$ET$1000,MATCH($B1839,$AZ$19:$AZ$1000,0),MATCH($A$2,$ED$18:$EU$18,0)),\"\"))","v":0},{"$f":"IF($A$2=\"All Species\",0,IF('Veg Guide Data Base'!$B729=\"Yes\",INDEX($EV$19:$FL$1000,MATCH($B1839,$AZ$19:$AZ$1000,0),MATCH($A$2,$EV$18:$FL$18,0)),\"\"))","v":0},{"$f":"IF(B1839=\"\",\"No\",\"Yes\")","v":"No"},{"$f":"IF($B1839<>\"\",INDEX($BA$19:$BI$600,MATCH($B1839,$AZ$19:$AZ$1361,0),MATCH($AC$1,$BA$18:$BI$18,FALSE)),\"\")","v":""},{"$f":"IF('Veg Guide Data Base'!$B729=\"Yes\",'Veg Guide Data Base'!BW729,\"\")","v":""},{"$f":"IF('Veg Guide Data Base'!$B729=\"Yes\",'Veg Guide Data Base'!BX729,\"\")","v":""},{"$f":"IF('Veg Guide Data Base'!$B729=\"Yes\",'Veg Guide Data Base'!BY729,\"\")","v":""},null,null,"",null,null,null,null,null,null,null,null,false,"",null,"No"]
["",{"$f":"IF('Veg Guide Data Base'!B732=\"Yes\",'Veg Guide Data Base'!AZ732,\"\")","v":""},{"$f":"IF('Veg Guide Data Base'!$B732=\"Yes\",'Veg Guide Data Base'!BL732,\"\")","v":""},{"$f":"IF('Veg Guide Data Base'!$B732=\"Yes\",'Veg Guide Data Base'!BM732,\"\")","v":""},{"$f":"IF('Veg Guide Data Base'!$B732=\"Yes\",'Veg Guide Data Base'!BJ732,\"\")","v":""},{"$f":"IF('Veg Guide Data Base'!$B732=\"Yes\",'Veg Guide Data Base'!BK732,\"\")","v":""},{"$f":"IF($A$2=\"All Species\",0,IF('Veg Guide Data Base'!$B732=\"Yes\",INDEX($ED$19:$ET$1000,MATCH($B1842,$AZ$19:$AZ$1000,0),MATCH($A$2,$ED$18:$EU$18,0)),\"\"))","v":0},{"$f":"IF($A$2=\"All Species\",0,IF('Veg Guide Data Base'!$B732=\"Yes\",INDEX($EV$19:$FL$1000,MATCH($B1842,$AZ$19:$AZ$1000,0),MATCH($A$2,$EV$18:$FL$18,0)),\"\"))","v":0},{"$f":"IF(B1842=\"\",\"No\",\"Yes\")","v":"No"},{"$f":"IF($B1842<>\"\",INDEX($BA$19:$BI$600,MATCH($B1842,$AZ$19:$AZ$1361,0),MATCH($AC$1,$BA$18:$BI$18,FALSE)),\"\")","v":""},{"$f":"IF('Veg Guide Data Base'!$B732=\"Yes\",'Veg Guide Data Base'!BW732,\"\")","v":""},{"$f":"IF('Veg Guide Data Base'!$B732=\"Yes\",'Veg Guide Data Base'!BX732,\"\")","v":""},{"$f":"IF('Veg Guide Data Base'!$B732=\"Yes\",'Veg Guide Data Base'!BY732,\"\")","v":""},null,null,"",null,null,null,null,null,null,null,null,false,"",null,"No"]
["",{"$f":"IF('Veg Guide Data Base'!B739=\"Yes\",'Veg Guide Data Base'!AZ739,\"\")","v":""},{"$f":"IF('Veg Guide Data Base'!$B739=\"Yes\",'Veg Guide Data Base'!BL739,\"\")","v":""},{"$f":"IF('Veg Guide Data Base'!$B739=\"Yes\",'Veg Guide Data Base'!BM739,\"\")","v":""},{"$f":"IF('Veg Guide Data Base'!$B739=\"Yes\",'Veg Guide Data Base'!BJ739,\"\")","v":""},{"$f":"IF('Veg Guide Data Base'!$B739=\"Yes\",'Veg Guide Data Base'!BK739,\"\")","v":""},{"$f":"IF($A$2=\"All Species\",0,IF('Veg Guide Data Base'!$B739=\"Yes\",INDEX($ED$19:$ET$1000,MATCH($B1849,$AZ$19:$AZ$1000,0),MATCH($A$2,$ED$18:$EU$18,0)),\"\"))","v":0},{"$f":"IF($A$2=\"All Species\",0,IF('Veg Guide Data Base'!$B739=\"Yes\",INDEX($EV$19:$FL$1000,MATCH($B1849,$AZ$19:$AZ$1000,0),MATCH($A$2,$EV$18:$FL$18,0)),\"\"))","v":0},{"$f":"IF(B1849=\"\",\"No\",\"Yes\")","v":"No"},{"$f":"IF($B1849<>\"\",INDEX($BA$19:$BI$600,MATCH($B1849,$AZ$19:$AZ$1361,0),MATCH($AC$1,$BA$18:$BI$18,FALSE)),\"\")","v":""},{"$f":"IF('Veg Guide Data Base'!$B739=\"Yes\",'Veg Guide Data Base'!BW739,\"\")","v":""},{"$f":"IF('Veg Guide Data Base'!$B739=\"Yes\",'Veg Guide Data Base'!BX739,\"\")","v":""},{"$f":"IF('Veg Guide Data Base'!$B739=\"Yes\",'Veg Guide Data Base'!BY739,\"\")","v":""},null,null,"",null,null,null,null,null,null,null,null,false,"",null,"No"]
["",{"$f":"IF('Veg Guide Data Base'!B742=\"Yes\",'Veg Guide Data Base'!AZ742,\"\")","v":""},{"$f":"IF('Veg Guide Data Base'!$B742=\"Yes\",'Veg Guide Data Base'!BL742,\"\")","v":""},{"$f":"IF('Veg Guide Data Base'!$B742=\"Yes\",'Veg Guide Data Base'!BM742,\"\")","v":""},{"$f":"IF('Veg Guide Data Base'!$B742=\"Yes\",'Veg Guide Data Base'!BJ742,\"\")","v":""},{"$f":"IF('Veg Guide Data Base'!$B742=\"Yes\",'Veg Guide Data Base'!BK742,\"\")","v":""},{"$f":"IF($A$2=\"All Species\",0,IF('Veg Guide Data Base'!$B742=\"Yes\",INDEX($ED$19:$ET$1000,MATCH($B1852,$AZ$19:$AZ$1000,0),MATCH($A$2,$ED$18:$EU$18,0)),\"\"))","v":0},{"$f":"IF($A$2=\"All Species\",0,IF('Veg Guide Data Base'!$B742=\"Yes\",INDEX($EV$19:$FL$1000,MATCH($B1852,$AZ$19:$AZ$1000,0),MATCH($A$2,$EV$18:$FL$18,0)),\"\"))","v":0},{"$f":"IF(B1852=\"\",\"No\",\"Yes\")","v":"No"},{"$f":"IF($B1852<>\"\",INDEX($BA$19:$BI$600,MATCH($B1852,$AZ$19:$AZ$1361,0),MATCH($AC$1,$BA$18:$BI$18,FALSE)),\"\")","v":""},{"$f":"IF('Veg Guide Data Base'!$B742=\"Yes\",'Veg Guide Data Base'!BW742,\"\")","v":""},{"$f":"IF('Veg Guide Data Base'!$B742=\"Yes\",'Veg Guide Data Base'!BX742,\"\")","v":""},{"$f":"IF('Veg Guide Data Base'!$B742=\"Yes\",'Veg Guide Data Base'!BY742,\"\")","v":""},null,null,"",null,null,null,null,null,null,null,null,false,"",null,"No"]
["",{"$f":"IF('Veg Guide Data Base'!B749=\"Yes\",'Veg Guide Data Base'!AZ749,\"\")","v":""},{"$f":"IF('Veg Guide Data Base'!$B749=\"Yes\",'Veg Guide Data Base'!BL749,\"\")","v":""},{"$f":"IF('Veg Guide Data Base'!$B749=\"Yes\",'Veg Guide Data Base'!BM749,\"\")","v":""},{"$f":"IF('Veg Guide Data Base'!$B749=\"Yes\",'Veg Guide Data Base'!BJ749,\"\")","v":""},{"$f":"IF('Veg Guide Data Base'!$B749=\"Yes\",'Veg Guide Data Base'!BK749,\"\")","v":""},{"$f":"IF($A$2=\"All Species\",0,IF('Veg Guide Data Base'!$B749=\"Yes\",INDEX($ED$19:$ET$1000,MATCH($B1859,$AZ$19:$AZ$1000,0),MATCH($A$2,$ED$18:$EU$18,0)),\"\"))","v":0},{"$f":"IF($A$2=\"All Species\",0,IF('Veg Guide Data Base'!$B749=\"Yes\",INDEX($EV$19:$FL$1000,MATCH($B1859,$AZ$19:$AZ$1000,0),MATCH($A$2,$EV$18:$FL$18,0)),\"\"))","v":0},{"$f":"IF(B1859=\"\",\"No\",\"Yes\")","v":"No"},{"$f":"IF($B1859<>\"\",INDEX($BA$19:$BI$600,MATCH($B1859,$AZ$19:$AZ$1361,0),MATCH($AC$1,$BA$18:$BI$18,FALSE)),\"\")","v":""},{"$f":"IF('Veg Guide Data Base'!$B749=\"Yes\",'Veg Guide Data Base'!BW749,\"\")","v":""},{"$f":"IF('Veg Guide Data Base'!$B749=\"Yes\",'Veg Guide Data Base'!BX749,\"\")","v":""},{"$f":"IF('Veg Guide Data Base'!$B749=\"Yes\",'Veg Guide Data Base'!BY749,\"\")","v":""},null,null,"",null,null,null,null,null,null,null,null,false,"",null,"No"]
["",{"$f":"IF('Veg Guide Data Base'!B757=\"Yes\",'Veg Guide Data Base'!AZ757,\"\")","v":""},{"$f":"IF('Veg Guide Data Base'!$B757=\"Yes\",'Veg Guide Data Base'!BL757,\"\")","v":""},{"$f":"IF('Veg Guide Data Base'!$B757=\"Yes\",'Veg Guide Data Base'!BM757,\"\")","v":""},{"$f":"IF('Veg Guide Data Base'!$B757=\"Yes\",'Veg Guide Data Base'!BJ757,\"\")","v":""},{"$f":"IF('Veg Guide Data Base'!$B757=\"Yes\",'Veg Guide Data Base'!BK757,\"\")","v":""},{"$f":"IF($A$2=\"All Species\",0,IF('Veg Guide Data Base'!$B757=\"Yes\",INDEX($ED$19:$ET$1000,MATCH($B1867,$AZ$19:$AZ$1000,0),MATCH($A$2,$ED$18:$EU$18,0)),\"\"))","v":0},{"$f":"IF($A$2=\"All Species\",0,IF('Veg Guide Data Base'!$B757=\"Yes\",INDEX($EV$19:$FL$1000,MATCH($B1867,$AZ$19:$AZ$1000,0),MATCH($A$2,$EV$18:$FL$18,0)),\"\"))","v":0},{"$f":"IF(B1867=\"\",\"No\",\"Yes\")","v":"No"},{"$f":"IF($B1867<>\"\",INDEX($BA$19:$BI$600,MATCH($B1867,$AZ$19:$AZ$1361,0),MATCH($AC$1,$BA$18:$BI$18,FALSE)),\"\")","v":""},{"$f":"IF('Veg Guide Data Base'!$B757=\"Yes\",'Veg Guide Data Base'!BW757,\"\")","v":""},{"$f":"IF('Veg Guide Data Base'!$B757=\"Yes\",'Veg Guide Data Base'!BX757,\"\")","v":""},{"$f":"IF('Veg Guide Data Base'!$B757=\"Yes\",'Veg Guide Data Base'!BY757,\"\")","v":""},null,null,"",null,null,null,null,null,null,null,null,false,"",null,"No"]
["",{"$f":"IF('Veg Guide Data Base'!B760=\"Yes\",'Veg Guide Data Base'!AZ760,\"\")","v":""},{"$f":"IF('Veg Guide Data Base'!$B760=\"Yes\",'Veg Guide Data Base'!BL760,\"\")","v":""},{"$f":"IF('Veg Guide Data Base'!$B760=\"Yes\",'Veg Guide Data Base'!BM760,\"\")","v":""},{"$f":"IF('Veg Guide Data Base'!$B760=\"Yes\",'Veg Guide Data Base'!BJ760,\"\")","v":""},{"$f":"IF('Veg Guide Data Base'!$B760=\"Yes\",'Veg Guide Data Base'!BK760,\"\")","v":""},{"$f":"IF($A$2=\"All Species\",0,IF('Veg Guide Data Base'!$B760=\"Yes\",INDEX($ED$19:$ET$1000,MATCH($B1870,$AZ$19:$AZ$1000,0),MATCH($A$2,$ED$18:$EU$18,0)),\"\"))","v":0},{"$f":"IF($A$2=\"All Species\",0,IF('Veg Guide Data Base'!$B760=\"Yes\",INDEX($EV$19:$FL$1000,MATCH($B1870,$AZ$19:$AZ$1000,0),MATCH($A$2,$EV$18:$FL$18,0)),\"\"))","v":0},{"$f":"IF(B1870=\"\",\"No\",\"Yes\")","v":"No"},{"$f":"IF($B1870<>\"\",INDEX($BA$19:$BI$600,MATCH($B1870,$AZ$19:$AZ$1361,0),MATCH($AC$1,$BA$18:$BI$18,FALSE)),\"\")","v":""},{"$f":"IF('Veg Guide Data Base'!$B760=\"Yes\",'Veg Guide Data Base'!BW760,\"\")","v":""},{"$f":"IF('Veg Guide Data Base'!$B760=\"Yes\",'Veg Guide Data Base'!BX760,\"\")","v":""},{"$f":"IF('Veg Guide Data Base'!$B760=\"Yes\",'Veg Guide Data Base'!BY760,\"\")","v":""},null,null,"",null,null,null,null,null,null,null,null,false,"",null,"No"]
["",{"$f":"IF('Veg Guide Data Base'!B767=\"Yes\",'Veg Guide Data Base'!AZ767,\"\")","v":""},{"$f":"IF('Veg Guide Data Base'!$B767=\"Yes\",'Veg Guide Data Base'!BL767,\"\")","v":""},{"$f":"IF('Veg Guide Data Base'!$B767=\"Yes\",'Veg Guide Data Base'!BM767,\"\")","v":""},{"$f":"IF('Veg Guide Data Base'!$B767=\"Yes\",'Veg Guide Data Base'!BJ767,\"\")","v":""},{"$f":"IF('Veg Guide Data Base'!$B767=\"Yes\",'Veg Guide Data Base'!BK767,\"\")","v":""},{"$f":"IF($A$2=\"All Species\",0,IF('Veg Guide Data Base'!$B767=\"Yes\",INDEX($ED$19:$ET$1000,MATCH($B1877,$AZ$19:$AZ$1000,0),MATCH($A$2,$ED$18:$EU$18,0)),\"\"))","v":0},{"$f":"IF($A$2=\"All Species\",0,IF('Veg Guide Data Base'!$B767=\"Yes\",INDEX($EV$19:$FL$1000,MATCH($B1877,$AZ$19:$AZ$1000,0),MATCH($A$2,$EV$18:$FL$18,0)),\"\"))","v":0},{"$f":"IF(B1877=\"\",\"No\",\"Yes\")","v":"No"},{"$f":"IF($B1877<>\"\",INDEX($BA$19:$BI$600,MATCH($B1877,$AZ$19:$AZ$1361,0),MATCH($AC$1,$BA$18:$BI$18,FALSE)),\"\")","v":""},{"$f":"IF('Veg Guide Data Base'!$B767=\"Yes\",'Veg Guide Data Base'!BW767,\"\")","v":""},{"$f":"IF('Veg Guide Data Base'!$B767=\"Yes\",'Veg Guide Data Base'!BX767,\"\")","v":""},{"$f":"IF('Veg Guide Data Base'!$B767=\"Yes\",'Veg Guide Data Base'!BY767,\"\")","v":""},null,null,"",null,null,null,null,null,null,null,null,false,"",null,"No"]
["",{"$f":"IF('Veg Guide Data Base'!B773=\"Yes\",'Veg Guide Data Base'!AZ773,\"\")","v":""},{"$f":"IF('Veg Guide Data Base'!$B773=\"Yes\",'Veg Guide Data Base'!BL773,\"\")","v":""},{"$f":"IF('Veg Guide Data Base'!$B773=\"Yes\",'Veg Guide Data Base'!BM773,\"\")","v":""},{"$f":"IF('Veg Guide Data Base'!$B773=\"Yes\",'Veg Guide Data Base'!BJ773,\"\")","v":""},{"$f":"IF('Veg Guide Data Base'!$B773=\"Yes\",'Veg Guide Data Base'!BK773,\"\")","v":""},{"$f":"IF($A$2=\"All Species\",0,IF('Veg Guide Data Base'!$B773=\"Yes\",INDEX($ED$19:$ET$1000,MATCH($B1883,$AZ$19:$AZ$1000,0),MATCH($A$2,$ED$18:$EU$18,0)),\"\"))","v":0},{"$f":"IF($A$2=\"All Species\",0,IF('Veg Guide Data Base'!$B773=\"Yes\",INDEX($EV$19:$FL$1000,MATCH($B1883,$AZ$19:$AZ$1000,0),MATCH($A$2,$EV$18:$FL$18,0)),\"\"))","v":0},{"$f":"IF(B1883=\"\",\"No\",\"Yes\")","v":"No"},{"$f":"IF($B1883<>\"\",INDEX($BA$19:$BI$600,MATCH($B1883,$AZ$19:$AZ$1361,0),MATCH($AC$1,$BA$18:$BI$18,FALSE)),\"\")","v":""},{"$f":"IF('Veg Guide Data Base'!$B773=\"Yes\",'Veg Guide Data Base'!BW773,\"\")","v":""},{"$f":"IF('Veg Guide Data Base'!$B773=\"Yes\",'Veg Guide Data Base'!BX773,\"\")","v":""},{"$f":"IF('Veg Guide Data Base'!$B773=\"Yes\",'Veg Guide Data Base'!BY773,\"\")","v":""},null,null,"",null,null,null,null,null,null,null,null,{"$f":"IF($A$2=W1883,TRUE,FALSE)","v":false},"",null,"No"]
["",{"$f":"IF('Veg Guide Data Base'!B776=\"Yes\",'Veg Guide Data Base'!AZ776,\"\")","v":""},{"$f":"IF('Veg Guide Data Base'!$B776=\"Yes\",'Veg Guide Data Base'!BL776,\"\")","v":""},{"$f":"IF('Veg Guide Data Base'!$B776=\"Yes\",'Veg Guide Data Base'!BM776,\"\")","v":""},{"$f":"IF('Veg Guide Data Base'!$B776=\"Yes\",'Veg Guide Data Base'!BJ776,\"\")","v":""},{"$f":"IF('Veg Guide Data Base'!$B776=\"Yes\",'Veg Guide Data Base'!BK776,\"\")","v":""},{"$f":"IF($A$2=\"All Species\",0,IF('Veg Guide Data Base'!$B776=\"Yes\",INDEX($ED$19:$ET$1000,MATCH($B1886,$AZ$19:$AZ$1000,0),MATCH($A$2,$ED$18:$EU$18,0)),\"\"))","v":0},{"$f":"IF($A$2=\"All Species\",0,IF('Veg Guide Data Base'!$B776=\"Yes\",INDEX($EV$19:$FL$1000,MATCH($B1886,$AZ$19:$AZ$1000,0),MATCH($A$2,$EV$18:$FL$18,0)),\"\"))","v":0},{"$f":"IF(B1886=\"\",\"No\",\"Yes\")","v":"No"},{"$f":"IF($B1886<>\"\",INDEX($BA$19:$BI$600,MATCH($B1886,$AZ$19:$AZ$1361,0),MATCH($AC$1,$BA$18:$BI$18,FALSE)),\"\")","v":""},{"$f":"IF('Veg Guide Data Base'!$B776=\"Yes\",'Veg Guide Data Base'!BW776,\"\")","v":""},{"$f":"IF('Veg Guide Data Base'!$B776=\"Yes\",'Veg Guide Data Base'!BX776,\"\")","v":""},{"$f":"IF('Veg Guide Data Base'!$B776=\"Yes\",'Veg Guide Data Base'!BY776,\"\")","v":""},null,null,"",null,null,null,null,null,null,null,null,false,"",null,"No"]
["",{"$f":"IF('Veg Guide Data Base'!B785=\"Yes\",'Veg Guide Data Base'!AZ785,\"\")","v":""},{"$f":"IF('Veg Guide Data Base'!$B785=\"Yes\",'Veg Guide Data Base'!BL785,\"\")","v":""},{"$f":"IF('Veg Guide Data Base'!$B785=\"Yes\",'Veg Guide Data Base'!BM785,\"\")","v":""},{"$f":"IF('Veg Guide Data Base'!$B785=\"Yes\",'Veg Guide Data Base'!BJ785,\"\")","v":""},{"$f":"IF('Veg Guide Data Base'!$B785=\"Yes\",'Veg Guide Data Base'!BK785,\"\")","v":""},{"$f":"IF($A$2=\"All Species\",0,IF('Veg Guide Data Base'!$B785=\"Yes\",INDEX($ED$19:$ET$1000,MATCH($B1895,$AZ$19:$AZ$1000,0),MATCH($A$2,$ED$18:$EU$18,0)),\"\"))","v":0},{"$f":"IF($A$2=\"All Species\",0,IF('Veg Guide Data Base'!$B785=\"Yes\",INDEX($EV$19:$FL$1000,MATCH($B1895,$AZ$19:$AZ$1000,0),MATCH($A$2,$EV$18:$FL$18,0)),\"\"))","v":0},{"$f":"IF(B1895=\"\",\"No\",\"Yes\")","v":"No"},{"$f":"IF($B1895<>\"\",INDEX($BA$19:$BI$600,MATCH($B1895,$AZ$19:$AZ$1361,0),MATCH($AC$1,$BA$18:$BI$18,FALSE)),\"\")","v":""},{"$f":"IF('Veg Guide Data Base'!$B785=\"Yes\",'Veg Guide Data Base'!BW785,\"\")","v":""},{"$f":"IF('Veg Guide Data Base'!$B785=\"Yes\",'Veg Guide Data Base'!BX785,\"\")","v":""},{"$f":"IF('Veg Guide Data Base'!$B785=\"Yes\",'Veg Guide Data Base'!BY785,\"\")","v":""},null,null,""]
["",{"$f":"IF('Veg Guide Data Base'!B788=\"Yes\",'Veg Guide Data Base'!AZ788,\"\")","v":""},{"$f":"IF('Veg Guide Data Base'!$B788=\"Yes\",'Veg Guide Data Base'!BL788,\"\")","v":""},{"$f":"IF('Veg Guide Data Base'!$B788=\"Yes\",'Veg Guide Data Base'!BM788,\"\")","v":""},{"$f":"IF('Veg Guide Data Base'!$B788=\"Yes\",'Veg Guide Data Base'!BJ788,\"\")","v":""},{"$f":"IF('Veg Guide Data Base'!$B788=\"Yes\",'Veg Guide Data Base'!BK788,\"\")","v":""},{"$f":"IF($A$2=\"All Species\",0,IF('Veg Guide Data Base'!$B788=\"Yes\",INDEX($ED$19:$ET$1000,MATCH($B1898,$AZ$19:$AZ$1000,0),MATCH($A$2,$ED$18:$EU$18,0)),\"\"))","v":0},{"$f":"IF($A$2=\"All Species\",0,IF('Veg Guide Data Base'!$B788=\"Yes\",INDEX($EV$19:$FL$1000,MATCH($B1898,$AZ$19:$AZ$1000,0),MATCH($A$2,$EV$18:$FL$18,0)),\"\"))","v":0},{"$f":"IF(B1898=\"\",\"No\",\"Yes\")","v":"No"},{"$f":"IF($B1898<>\"\",INDEX($BA$19:$BI$600,MATCH($B1898,$AZ$19:$AZ$1361,0),MATCH($AC$1,$BA$18:$BI$18,FALSE)),\"\")","v":""},{"$f":"IF('Veg Guide Data Base'!$B788=\"Yes\",'Veg Guide Data Base'!BW788,\"\")","v":""},{"$f":"IF('Veg Guide Data Base'!$B788=\"Yes\",'Veg Guide Data Base'!BX788,\"\")","v":""},{"$f":"IF('Veg Guide Data Base'!$B788=\"Yes\",'Veg Guide Data Base'!BY788,\"\")","v":""},null,null,""]
["",{"$f":"IF('Veg Guide Data Base'!B798=\"Yes\",'Veg Guide Data Base'!AZ798,\"\")","v":""},{"$f":"IF('Veg Guide Data Base'!$B798=\"Yes\",'Veg Guide Data Base'!BL798,\"\")","v":""},{"$f":"IF('Veg Guide Data Base'!$B798=\"Yes\",'Veg Guide Data Base'!BM798,\"\")","v":""},{"$f":"IF('Veg Guide Data Base'!$B798=\"Yes\",'Veg Guide Data Base'!BJ798,\"\")","v":""},{"$f":"IF('Veg Guide Data Base'!$B798=\"Yes\",'Veg Guide Data Base'!BK798,\"\")","v":""},{"$f":"IF($A$2=\"All Species\",0,IF('Veg Guide Data Base'!$B798=\"Yes\",INDEX($ED$19:$ET$1000,MATCH($B1908,$AZ$19:$AZ$1000,0),MATCH($A$2,$ED$18:$EU$18,0)),\"\"))","v":0},{"$f":"IF($A$2=\"All Species\",0,IF('Veg Guide Data Base'!$B798=\"Yes\",INDEX($EV$19:$FL$1000,MATCH($B1908,$AZ$19:$AZ$1000,0),MATCH($A$2,$EV$18:$FL$18,0)),\"\"))","v":0},{"$f":"IF(B1908=\"\",\"No\",\"Yes\")","v":"No"},{"$f":"IF($B1908<>\"\",INDEX($BA$19:$BI$600,MATCH($B1908,$AZ$19:$AZ$1361,0),MATCH($AC$1,$BA$18:$BI$18,FALSE)),\"\")","v":""},{"$f":"IF('Veg Guide Data Base'!$B798=\"Yes\",'Veg Guide Data Base'!BW798,\"\")","v":""},{"$f":"IF('Veg Guide Data Base'!$B798=\"Yes\",'Veg Guide Data Base'!BX798,\"\")","v":""},{"$f":"IF('Veg Guide Data Base'!$B798=\"Yes\",'Veg Guide Data Base'!BY798,\"\")","v":""},null,null,""]
["",{"$f":"IF('Veg Guide Data Base'!B803=\"Yes\",'Veg Guide Data Base'!AZ803,\"\")","v":""},{"$f":"IF('Veg Guide Data Base'!$B803=\"Yes\",'Veg Guide Data Base'!BL803,\"\")","v":""},{"$f":"IF('Veg Guide Data Base'!$B803=\"Yes\",'Veg Guide Data Base'!BM803,\"\")","v":""},{"$f":"IF('Veg Guide Data Base'!$B803=\"Yes\",'Veg Guide Data Base'!BJ803,\"\")","v":""},{"$f":"IF('Veg Guide Data Base'!$B803=\"Yes\",'Veg Guide Data Base'!BK803,\"\")","v":""},{"$f":"IF($A$2=\"All Species\",0,IF('Veg Guide Data Base'!$B803=\"Yes\",INDEX($ED$19:$ET$1000,MATCH($B1913,$AZ$19:$AZ$1000,0),MATCH($A$2,$ED$18:$EU$18,0)),\"\"))","v":0},{"$f":"IF($A$2=\"All Species\",0,IF('Veg Guide Data Base'!$B803=\"Yes\",INDEX($EV$19:$FL$1000,MATCH($B1913,$AZ$19:$AZ$1000,0),MATCH($A$2,$EV$18:$FL$18,0)),\"\"))","v":0},{"$f":"IF(B1913=\"\",\"No\",\"Yes\")","v":"No"},{"$f":"IF($B1913<>\"\",INDEX($BA$19:$BI$600,MATCH($B1913,$AZ$19:$AZ$1361,0),MATCH($AC$1,$BA$18:$BI$18,FALSE)),\"\")","v":""},{"$f":"IF('Veg Guide Data Base'!$B803=\"Yes\",'Veg Guide Data Base'!BW803,\"\")","v":""},{"$f":"IF('Veg Guide Data Base'!$B803=\"Yes\",'Veg Guide Data Base'!BX803,\"\")","v":""},{"$f":"IF('Veg Guide Data Base'!$B803=\"Yes\",'Veg Guide Data Base'!BY803,\"\")","v":""},null,null,""]
["",{"$f":"IF('Veg Guide Data Base'!B806=\"Yes\",'Veg Guide Data Base'!AZ806,\"\")","v":""},{"$f":"IF('Veg Guide Data Base'!$B806=\"Yes\",'Veg Guide Data Base'!BL806,\"\")","v":""},{"$f":"IF('Veg Guide Data Base'!$B806=\"Yes\",'Veg Guide Data Base'!BM806,\"\")","v":""},{"$f":"IF('Veg Guide Data Base'!$B806=\"Yes\",'Veg Guide Data Base'!BJ806,\"\")","v":""},{"$f":"IF('Veg Guide Data Base'!$B806=\"Yes\",'Veg Guide Data Base'!BK806,\"\")","v":""},{"$f":"IF($A$2=\"All Species\",0,IF('Veg Guide Data Base'!$B806=\"Yes\",INDEX($ED$19:$ET$1000,MATCH($B1916,$AZ$19:$AZ$1000,0),MATCH($A$2,$ED$18:$EU$18,0)),\"\"))","v":0},{"$f":"IF($A$2=\"All Species\",0,IF('Veg Guide Data Base'!$B806=\"Yes\",INDEX($EV$19:$FL$1000,MATCH($B1916,$AZ$19:$AZ$1000,0),MATCH($A$2,$EV$18:$FL$18,0)),\"\"))","v":0},{"$f":"IF(B1916=\"\",\"No\",\"Yes\")","v":"No"},{"$f":"IF($B1916<>\"\",INDEX($BA$19:$BI$600,MATCH($B1916,$AZ$19:$AZ$1361,0),MATCH($AC$1,$BA$18:$BI$18,FALSE)),\"\")","v":""},{"$f":"IF('Veg Guide Data Base'!$B806=\"Yes\",'Veg Guide Data Base'!BW806,\"\")","v":""},{"$f":"IF('Veg Guide Data Base'!$B806=\"Yes\",'Veg Guide Data Base'!BX806,\"\")","v":""},{"$f":"IF('Veg Guide Data Base'!$B806=\"Yes\",'Veg Guide Data Base'!BY806,\"\")","v":""},null,null,""]
["",{"$f":"IF('Veg Guide Data Base'!B813=\"Yes\",'Veg Guide Data Base'!AZ813,\"\")","v":""},{"$f":"IF('Veg Guide Data Base'!$B813=\"Yes\",'Veg Guide Data Base'!BL813,\"\")","v":""},{"$f":"IF('Veg Guide Data Base'!$B813=\"Yes\",'Veg Guide Data Base'!BM813,\"\")","v":""},{"$f":"IF('Veg Guide Data Base'!$B813=\"Yes\",'Veg Guide Data Base'!BJ813,\"\")","v":""},{"$f":"IF('Veg Guide Data Base'!$B813=\"Yes\",'Veg Guide Data Base'!BK813,\"\")","v":""},{"$f":"IF($A$2=\"All Species\",0,IF('Veg Guide Data Base'!$B813=\"Yes\",INDEX($ED$19:$ET$1000,MATCH($B1923,$AZ$19:$AZ$1000,0),MATCH($A$2,$ED$18:$EU$18,0)),\"\"))","v":0},{"$f":"IF($A$2=\"All Species\",0,IF('Veg Guide Data Base'!$B813=\"Yes\",INDEX($EV$19:$FL$1000,MATCH($B1923,$AZ$19:$AZ$1000,0),MATCH($A$2,$EV$18:$FL$18,0)),\"\"))","v":0},{"$f":"IF(B1923=\"\",\"No\",\"Yes\")","v":"No"},{"$f":"IF($B1923<>\"\",INDEX($BA$19:$BI$600,MATCH($B1923,$AZ$19:$AZ$1361,0),MATCH($AC$1,$BA$18:$BI$18,FALSE)),\"\")","v":""},{"$f":"IF('Veg Guide Data Base'!$B813=\"Yes\",'Veg Guide Data Base'!BW813,\"\")","v":""},{"$f":"IF('Veg Guide Data Base'!$B813=\"Yes\",'Veg Guide Data Base'!BX813,\"\")","v":""},{"$f":"IF('Veg Guide Data Base'!$B813=\"Yes\",'Veg Guide Data Base'!BY813,\"\")","v":""},null,null,""]
["",{"$f":"IF('Veg Guide Data Base'!B817=\"Yes\",'Veg Guide Data Base'!AZ817,\"\")","v":""},{"$f":"IF('Veg Guide Data Base'!$B817=\"Yes\",'Veg Guide Data Base'!BL817,\"\")","v":""},{"$f":"IF('Veg Guide Data Base'!$B817=\"Yes\",'Veg Guide Data Base'!BM817,\"\")","v":""},{"$f":"IF('Veg Guide Data Base'!$B817=\"Yes\",'Veg Guide Data Base'!BJ817,\"\")","v":""},{"$f":"IF('Veg Guide Data Base'!$B817=\"Yes\",'Veg Guide Data Base'!BK817,\"\")","v":""},{"$f":"IF($A$2=\"All Species\",0,IF('Veg Guide Data Base'!$B817=\"Yes\",INDEX($ED$19:$ET$1000,MATCH($B1927,$AZ$19:$AZ$1000,0),MATCH($A$2,$ED$18:$EU$18,0)),\"\"))","v":0},{"$f":"IF($A$2=\"All Species\",0,IF('Veg Guide Data Base'!$B817=\"Yes\",INDEX($EV$19:$FL$1000,MATCH($B1927,$AZ$19:$AZ$1000,0),MATCH($A$2,$EV$18:$FL$18,0)),\"\"))","v":0},{"$f":"IF(B1927=\"\",\"No\",\"Yes\")","v":"No"},{"$f":"IF($B1927<>\"\",INDEX($BA$19:$BI$600,MATCH($B1927,$AZ$19:$AZ$1361,0),MATCH($AC$1,$BA$18:$BI$18,FALSE)),\"\")","v":""},{"$f":"IF('Veg Guide Data Base'!$B817=\"Yes\",'Veg Guide Data Base'!BW817,\"\")","v":""},{"$f":"IF('Veg Guide Data Base'!$B817=\"Yes\",'Veg Guide Data Base'!BX817,\"\")","v":""},{"$f":"IF('Veg Guide Data Base'!$B817=\"Yes\",'Veg Guide Data Base'!BY817,\"\")","v":""},null,null,""]
["",{"$f":"IF('Veg Guide Data Base'!B822=\"Yes\",'Veg Guide Data Base'!AZ822,\"\")","v":""},{"$f":"IF('Veg Guide Data Base'!$B822=\"Yes\",'Veg Guide Data Base'!BL822,\"\")","v":""},{"$f":"IF('Veg Guide Data Base'!$B822=\"Yes\",'Veg Guide Data Base'!BM822,\"\")","v":""},{"$f":"IF('Veg Guide Data Base'!$B822=\"Yes\",'Veg Guide Data Base'!BJ822,\"\")","v":""},{"$f":"IF('Veg Guide Data Base'!$B822=\"Yes\",'Veg Guide Data Base'!BK822,\"\")","v":""},{"$f":"IF($A$2=\"All Species\",0,IF('Veg Guide Data Base'!$B822=\"Yes\",INDEX($ED$19:$ET$1000,MATCH($B1932,$AZ$19:$AZ$1000,0),MATCH($A$2,$ED$18:$EU$18,0)),\"\"))","v":0},{"$f":"IF($A$2=\"All Species\",0,IF('Veg Guide Data Base'!$B822=\"Yes\",INDEX($EV$19:$FL$1000,MATCH($B1932,$AZ$19:$AZ$1000,0),MATCH($A$2,$EV$18:$FL$18,0)),\"\"))","v":0},{"$f":"IF(B1932=\"\",\"No\",\"Yes\")","v":"No"},{"$f":"IF($B1932<>\"\",INDEX($BA$19:$BI$600,MATCH($B1932,$AZ$19:$AZ$1361,0),MATCH($AC$1,$BA$18:$BI$18,FALSE)),\"\")","v":""},{"$f":"IF('Veg Guide Data Base'!$B822=\"Yes\",'Veg Guide Data Base'!BW822,\"\")","v":""},{"$f":"IF('Veg Guide Data Base'!$B822=\"Yes\",'Veg Guide Data Base'!BX822,\"\")","v":""},{"$f":"IF('Veg Guide Data Base'!$B822=\"Yes\",'Veg Guide Data Base'!BY822,\"\")","v":""},null,null,""]
["",{"$f":"IF('Veg Guide Data Base'!B831=\"Yes\",'Veg Guide Data Base'!AZ831,\"\")","v":""},{"$f":"IF('Veg Guide Data Base'!$B831=\"Yes\",'Veg Guide Data Base'!BL831,\"\")","v":""},{"$f":"IF('Veg Guide Data Base'!$B831=\"Yes\",'Veg Guide Data Base'!BM831,\"\")","v":""},{"$f":"IF('Veg Guide Data Base'!$B831=\"Yes\",'Veg Guide Data Base'!BJ831,\"\")","v":""},{"$f":"IF('Veg Guide Data Base'!$B831=\"Yes\",'Veg Guide Data Base'!BK831,\"\")","v":""},{"$f":"IF($A$2=\"All Species\",0,IF('Veg Guide Data Base'!$B831=\"Yes\",INDEX($ED$19:$ET$1000,MATCH($B1941,$AZ$19:$AZ$1000,0),MATCH($A$2,$ED$18:$EU$18,0)),\"\"))","v":0},{"$f":"IF($A$2=\"All Species\",0,IF('Veg Guide Data Base'!$B831=\"Yes\",INDEX($EV$19:$FL$1000,MATCH($B1941,$AZ$19:$AZ$1000,0),MATCH($A$2,$EV$18:$FL$18,0)),\"\"))","v":0},{"$f":"IF(B1941=\"\",\"No\",\"Yes\")","v":"No"},{"$f":"IF($B1941<>\"\",INDEX($BA$19:$BI$600,MATCH($B1941,$AZ$19:$AZ$1361,0),MATCH($AC$1,$BA$18:$BI$18,FALSE)),\"\")","v":""},{"$f":"IF('Veg Guide Data Base'!$B831=\"Yes\",'Veg Guide Data Base'!BW831,\"\")","v":""},{"$f":"IF('Veg Guide Data Base'!$B831=\"Yes\",'Veg Guide Data Base'!BX831,\"\")","v":""},{"$f":"IF('Veg Guide Data Base'!$B831=\"Yes\",'Veg Guide Data Base'!BY831,\"\")","v":""},null,null,""]
["",{"$f":"IF('Veg Guide Data Base'!B834=\"Yes\",'Veg Guide Data Base'!AZ834,\"\")","v":""},{"$f":"IF('Veg Guide Data Base'!$B834=\"Yes\",'Veg Guide Data Base'!BL834,\"\")","v":""},{"$f":"IF('Veg Guide Data Base'!$B834=\"Yes\",'Veg Guide Data Base'!BM834,\"\")","v":""},{"$f":"IF('Veg Guide Data Base'!$B834=\"Yes\",'Veg Guide Data Base'!BJ834,\"\")","v":""},{"$f":"IF('Veg Guide Data Base'!$B834=\"Yes\",'Veg Guide Data Base'!BK834,\"\")","v":""},{"$f":"IF($A$2=\"All Species\",0,IF('Veg Guide Data Base'!$B834=\"Yes\",INDEX($ED$19:$ET$1000,MATCH($B1944,$AZ$19:$AZ$1000,0),MATCH($A$2,$ED$18:$EU$18,0)),\"\"))","v":0},{"$f":"IF($A$2=\"All Species\",0,IF('Veg Guide Data Base'!$B834=\"Yes\",INDEX($EV$19:$FL$1000,MATCH($B1944,$AZ$19:$AZ$1000,0),MATCH($A$2,$EV$18:$FL$18,0)),\"\"))","v":0},{"$f":"IF(B1944=\"\",\"No\",\"Yes\")","v":"No"},{"$f":"IF($B1944<>\"\",INDEX($BA$19:$BI$600,MATCH($B1944,$AZ$19:$AZ$1361,0),MATCH($AC$1,$BA$18:$BI$18,FALSE)),\"\")","v":""},{"$f":"IF('Veg Guide Data Base'!$B834=\"Yes\",'Veg Guide Data Base'!BW834,\"\")","v":""},{"$f":"IF('Veg Guide Data Base'!$B834=\"Yes\",'Veg Guide Data Base'!BX834,\"\")","v":""},{"$f":"IF('Veg Guide Data Base'!$B834=\"Yes\",'Veg Guide Data Base'!BY834,\"\")","v":""},null,null,""]
["",{"$f":"IF('Veg Guide Data Base'!B842=\"Yes\",'Veg Guide Data Base'!AZ842,\"\")","v":""},{"$f":"IF('Veg Guide Data Base'!$B842=\"Yes\",'Veg Guide Data Base'!BL842,\"\")","v":""},{"$f":"IF('Veg Guide Data Base'!$B842=\"Yes\",'Veg Guide Data Base'!BM842,\"\")","v":""},{"$f":"IF('Veg Guide Data Base'!$B842=\"Yes\",'Veg Guide Data Base'!BJ842,\"\")","v":""},{"$f":"IF('Veg Guide Data Base'!$B842=\"Yes\",'Veg Guide Data Base'!BK842,\"\")","v":""},{"$f":"IF($A$2=\"All Species\",0,IF('Veg Guide Data Base'!$B842=\"Yes\",INDEX($ED$19:$ET$1000,MATCH($B1952,$AZ$19:$AZ$1000,0),MATCH($A$2,$ED$18:$EU$18,0)),\"\"))","v":0},{"$f":"IF($A$2=\"All Species\",0,IF('Veg Guide Data Base'!$B842=\"Yes\",INDEX($EV$19:$FL$1000,MATCH($B1952,$AZ$19:$AZ$1000,0),MATCH($A$2,$EV$18:$FL$18,0)),\"\"))","v":0},{"$f":"IF(B1952=\"\",\"No\",\"Yes\")","v":"No"},{"$f":"IF($B1952<>\"\",INDEX($BA$19:$BI$600,MATCH($B1952,$AZ$19:$AZ$1361,0),MATCH($AC$1,$BA$18:$BI$18,FALSE)),\"\")","v":""},{"$f":"IF('Veg Guide Data Base'!$B842=\"Yes\",'Veg Guide Data Base'!BW842,\"\")","v":""},{"$f":"IF('Veg Guide Data Base'!$B842=\"Yes\",'Veg Guide Data Base'!BX842,\"\")","v":""},{"$f":"IF('Veg Guide Data Base'!$B842=\"Yes\",'Veg Guide Data Base'!BY842,\"\")","v":""},null,null,""]
["",{"$f":"IF('Veg Guide Data Base'!B849=\"Yes\",'Veg Guide Data Base'!AZ849,\"\")","v":""},{"$f":"IF('Veg Guide Data Base'!$B849=\"Yes\",'Veg Guide Data Base'!BL849,\"\")","v":""},{"$f":"IF('Veg Guide Data Base'!$B849=\"Yes\",'Veg Guide Data Base'!BM849,\"\")","v":""},{"$f":"IF('Veg Guide Data Base'!$B849=\"Yes\",'Veg Guide Data Base'!BJ849,\"\")","v":""},{"$f":"IF('Veg Guide Data Base'!$B849=\"Yes\",'Veg Guide Data Base'!BK849,\"\")","v":""},{"$f":"IF($A$2=\"All Species\",0,IF('Veg Guide Data Base'!$B849=\"Yes\",INDEX($ED$19:$ET$1000,MATCH($B1959,$AZ$19:$AZ$1000,0),MATCH($A$2,$ED$18:$EU$18,0)),\"\"))","v":0},{"$f":"IF($A$2=\"All Species\",0,IF('Veg Guide Data Base'!$B849=\"Yes\",INDEX($EV$19:$FL$1000,MATCH($B1959,$AZ$19:$AZ$1000,0),MATCH($A$2,$EV$18:$FL$18,0)),\"\"))","v":0},{"$f":"IF(B1959=\"\",\"No\",\"Yes\")","v":"No"},{"$f":"IF($B1959<>\"\",INDEX($BA$19:$BI$600,MATCH($B1959,$AZ$19:$AZ$1361,0),MATCH($AC$1,$BA$18:$BI$18,FALSE)),\"\")","v":""},{"$f":"IF('Veg Guide Data Base'!$B849=\"Yes\",'Veg Guide Data Base'!BW849,\"\")","v":""},{"$f":"IF('Veg Guide Data Base'!$B849=\"Yes\",'Veg Guide Data Base'!BX849,\"\")","v":""},{"$f":"IF('Veg Guide Data Base'!$B849=\"Yes\",'Veg Guide Data Base'!BY849,\"\")","v":""},null,null,""]
["",{"$f":"IF('Veg Guide Data Base'!B856=\"Yes\",'Veg Guide Data Base'!AZ856,\"\")","v":""},{"$f":"IF('Veg Guide Data Base'!$B856=\"Yes\",'Veg Guide Data Base'!BL856,\"\")","v":""},{"$f":"IF('Veg Guide Data Base'!$B856=\"Yes\",'Veg Guide Data Base'!BM856,\"\")","v":""},{"$f":"IF('Veg Guide Data Base'!$B856=\"Yes\",'Veg Guide Data Base'!BJ856,\"\")","v":""},{"$f":"IF('Veg Guide Data Base'!$B856=\"Yes\",'Veg Guide Data Base'!BK856,\"\")","v":""},{"$f":"IF($A$2=\"All Species\",0,IF('Veg Guide Data Base'!$B856=\"Yes\",INDEX($ED$19:$ET$1000,MATCH($B1966,$AZ$19:$AZ$1000,0),MATCH($A$2,$ED$18:$EU$18,0)),\"\"))","v":0},{"$f":"IF($A$2=\"All Species\",0,IF('Veg Guide Data Base'!$B856=\"Yes\",INDEX($EV$19:$FL$1000,MATCH($B1966,$AZ$19:$AZ$1000,0),MATCH($A$2,$EV$18:$FL$18,0)),\"\"))","v":0},{"$f":"IF(B1966=\"\",\"No\",\"Yes\")","v":"No"},{"$f":"IF($B1966<>\"\",INDEX($BA$19:$BI$600,MATCH($B1966,$AZ$19:$AZ$1361,0),MATCH($AC$1,$BA$18:$BI$18,FALSE)),\"\")","v":""},{"$f":"IF('Veg Guide Data Base'!$B856=\"Yes\",'Veg Guide Data Base'!BW856,\"\")","v":""},{"$f":"IF('Veg Guide Data Base'!$B856=\"Yes\",'Veg Guide Data Base'!BX856,\"\")","v":""},{"$f":"IF('Veg Guide Data Base'!$B856=\"Yes\",'Veg Guide Data Base'!BY856,\"\")","v":""},null,null,""]
["",{"$f":"IF('Veg Guide Data Base'!B859=\"Yes\",'Veg Guide Data Base'!AZ859,\"\")","v":""},{"$f":"IF('Veg Guide Data Base'!$B859=\"Yes\",'Veg Guide Data Base'!BL859,\"\")","v":""},{"$f":"IF('Veg Guide Data Base'!$B859=\"Yes\",'Veg Guide Data Base'!BM859,\"\")","v":""},{"$f":"IF('Veg Guide Data Base'!$B859=\"Yes\",'Veg Guide Data Base'!BJ859,\"\")","v":""},{"$f":"IF('Veg Guide Data Base'!$B859=\"Yes\",'Veg Guide Data Base'!BK859,\"\")","v":""},{"$f":"IF($A$2=\"All Species\",0,IF('Veg Guide Data Base'!$B859=\"Yes\",INDEX($ED$19:$ET$1000,MATCH($B1969,$AZ$19:$AZ$1000,0),MATCH($A$2,$ED$18:$EU$18,0)),\"\"))","v":0},{"$f":"IF($A$2=\"All Species\",0,IF('Veg Guide Data Base'!$B859=\"Yes\",INDEX($EV$19:$FL$1000,MATCH($B1969,$AZ$19:$AZ$1000,0),MATCH($A$2,$EV$18:$FL$18,0)),\"\"))","v":0},{"$f":"IF(B1969=\"\",\"No\",\"Yes\")","v":"No"},{"$f":"IF($B1969<>\"\",INDEX($BA$19:$BI$600,MATCH($B1969,$AZ$19:$AZ$1361,0),MATCH($AC$1,$BA$18:$BI$18,FALSE)),\"\")","v":""},{"$f":"IF('Veg Guide Data Base'!$B859=\"Yes\",'Veg Guide Data Base'!BW859,\"\")","v":""},{"$f":"IF('Veg Guide Data Base'!$B859=\"Yes\",'Veg Guide Data Base'!BX859,\"\")","v":""},{"$f":"IF('Veg Guide Data Base'!$B859=\"Yes\",'Veg Guide Data Base'!BY859,\"\")","v":""},null,null,""]
["",{"$f":"IF('Veg Guide Data Base'!B866=\"Yes\",'Veg Guide Data Base'!AZ866,\"\")","v":""},{"$f":"IF('Veg Guide Data Base'!$B866=\"Yes\",'Veg Guide Data Base'!BL866,\"\")","v":""},{"$f":"IF('Veg Guide Data Base'!$B866=\"Yes\",'Veg Guide Data Base'!BM866,\"\")","v":""},{"$f":"IF('Veg Guide Data Base'!$B866=\"Yes\",'Veg Guide Data Base'!BJ866,\"\")","v":""},{"$f":"IF('Veg Guide Data Base'!$B866=\"Yes\",'Veg Guide Data Base'!BK866,\"\")","v":""},{"$f":"IF($A$2=\"All Species\",0,IF('Veg Guide Data Base'!$B866=\"Yes\",INDEX($ED$19:$ET$1000,MATCH($B1976,$AZ$19:$AZ$1000,0),MATCH($A$2,$ED$18:$EU$18,0)),\"\"))","v":0},{"$f":"IF($A$2=\"All Species\",0,IF('Veg Guide Data Base'!$B866=\"Yes\",INDEX($EV$19:$FL$1000,MATCH($B1976,$AZ$19:$AZ$1000,0),MATCH($A$2,$EV$18:$FL$18,0)),\"\"))","v":0},{"$f":"IF(B1976=\"\",\"No\",\"Yes\")","v":"No"},{"$f":"IF($B1976<>\"\",INDEX($BA$19:$BI$600,MATCH($B1976,$AZ$19:$AZ$1361,0),MATCH($AC$1,$BA$18:$BI$18,FALSE)),\"\")","v":""},{"$f":"IF('Veg Guide Data Base'!$B866=\"Yes\",'Veg Guide Data Base'!BW866,\"\")","v":""},{"$f":"IF('Veg Guide Data Base'!$B866=\"Yes\",'Veg Guide Data Base'!BX866,\"\")","v":""},{"$f":"IF('Veg Guide Data Base'!$B866=\"Yes\",'Veg Guide Data Base'!BY866,\"\")","v":""},null,null,""]
["",{"$f":"IF('Veg Guide Data Base'!B868=\"Yes\",'Veg Guide Data Base'!AZ868,\"\")","v":""},{"$f":"IF('Veg Guide Data Base'!$B868=\"Yes\",'Veg Guide Data Base'!BL868,\"\")","v":""},{"$f":"IF('Veg Guide Data Base'!$B868=\"Yes\",'Veg Guide Data Base'!BM868,\"\")","v":""},{"$f":"IF('Veg Guide Data Base'!$B868=\"Yes\",'Veg Guide Data Base'!BJ868,\"\")","v":""},{"$f":"IF('Veg Guide Data Base'!$B868=\"Yes\",'Veg Guide Data Base'!BK868,\"\")","v":""},{"$f":"IF($A$2=\"All Species\",0,IF('Veg Guide Data Base'!$B868=\"Yes\",INDEX($ED$19:$ET$1000,MATCH($B1978,$AZ$19:$AZ$1000,0),MATCH($A$2,$ED$18:$EU$18,0)),\"\"))","v":0},{"$f":"IF($A$2=\"All Species\",0,IF('Veg Guide Data Base'!$B868=\"Yes\",INDEX($EV$19:$FL$1000,MATCH($B1978,$AZ$19:$AZ$1000,0),MATCH($A$2,$EV$18:$FL$18,0)),\"\"))","v":0},{"$f":"IF(B1978=\"\",\"No\",\"Yes\")","v":"No"},{"$f":"IF($B1978<>\"\",INDEX($BA$19:$BI$600,MATCH($B1978,$AZ$19:$AZ$1361,0),MATCH($AC$1,$BA$18:$BI$18,FALSE)),\"\")","v":""},{"$f":"IF('Veg Guide Data Base'!$B868=\"Yes\",'Veg Guide Data Base'!BW868,\"\")","v":""},{"$f":"IF('Veg Guide Data Base'!$B868=\"Yes\",'Veg Guide Data Base'!BX868,\"\")","v":""},{"$f":"IF('Veg Guide Data Base'!$B868=\"Yes\",'Veg Guide Data Base'!BY868,\"\")","v":""},null,null,""]
["",{"$f":"IF('Veg Guide Data Base'!B877=\"Yes\",'Veg Guide Data Base'!AZ877,\"\")","v":""},{"$f":"IF('Veg Guide Data Base'!$B877=\"Yes\",'Veg Guide Data Base'!BL877,\"\")","v":""},{"$f":"IF('Veg Guide Data Base'!$B877=\"Yes\",'Veg Guide Data Base'!BM877,\"\")","v":""},{"$f":"IF('Veg Guide Data Base'!$B877=\"Yes\",'Veg Guide Data Base'!BJ877,\"\")","v":""},{"$f":"IF('Veg Guide Data Base'!$B877=\"Yes\",'Veg Guide Data Base'!BK877,\"\")","v":""},{"$f":"IF($A$2=\"All Species\",0,IF('Veg Guide Data Base'!$B877=\"Yes\",INDEX($ED$19:$ET$1000,MATCH($B1987,$AZ$19:$AZ$1000,0),MATCH($A$2,$ED$18:$EU$18,0)),\"\"))","v":0},{"$f":"IF($A$2=\"All Species\",0,IF('Veg Guide Data Base'!$B877=\"Yes\",INDEX($EV$19:$FL$1000,MATCH($B1987,$AZ$19:$AZ$1000,0),MATCH($A$2,$EV$18:$FL$18,0)),\"\"))","v":0},{"$f":"IF(B1987=\"\",\"No\",\"Yes\")","v":"No"},{"$f":"IF($B1987<>\"\",INDEX($BA$19:$BI$600,MATCH($B1987,$AZ$19:$AZ$1361,0),MATCH($AC$1,$BA$18:$BI$18,FALSE)),\"\")","v":""},{"$f":"IF('Veg Guide Data Base'!$B877=\"Yes\",'Veg Guide Data Base'!BW877,\"\")","v":""},{"$f":"IF('Veg Guide Data Base'!$B877=\"Yes\",'Veg Guide Data Base'!BX877,\"\")","v":""},{"$f":"IF('Veg Guide Data Base'!$B877=\"Yes\",'Veg Guide Data Base'!BY877,\"\")","v":""},null,null,""]
["",{"$f":"IF('Veg Guide Data Base'!B880=\"Yes\",'Veg Guide Data Base'!AZ880,\"\")","v":""},{"$f":"IF('Veg Guide Data Base'!$B880=\"Yes\",'Veg Guide Data Base'!BL880,\"\")","v":""},{"$f":"IF('Veg Guide Data Base'!$B880=\"Yes\",'Veg Guide Data Base'!BM880,\"\")","v":""},{"$f":"IF('Veg Guide Data Base'!$B880=\"Yes\",'Veg Guide Data Base'!BJ880,\"\")","v":""},{"$f":"IF('Veg Guide Data Base'!$B880=\"Yes\",'Veg Guide Data Base'!BK880,\"\")","v":""},{"$f":"IF($A$2=\"All Species\",0,IF('Veg Guide Data Base'!$B880=\"Yes\",INDEX($ED$19:$ET$1000,MATCH($B1990,$AZ$19:$AZ$1000,0),MATCH($A$2,$ED$18:$EU$18,0)),\"\"))","v":0},{"$f":"IF($A$2=\"All Species\",0,IF('Veg Guide Data Base'!$B880=\"Yes\",INDEX($EV$19:$FL$1000,MATCH($B1990,$AZ$19:$AZ$1000,0),MATCH($A$2,$EV$18:$FL$18,0)),\"\"))","v":0},{"$f":"IF(B1990=\"\",\"No\",\"Yes\")","v":"No"},{"$f":"IF($B1990<>\"\",INDEX($BA$19:$BI$600,MATCH($B1990,$AZ$19:$AZ$1361,0),MATCH($AC$1,$BA$18:$BI$18,FALSE)),\"\")","v":""},{"$f":"IF('Veg Guide Data Base'!$B880=\"Yes\",'Veg Guide Data Base'!BW880,\"\")","v":""},{"$f":"IF('Veg Guide Data Base'!$B880=\"Yes\",'Veg Guide Data Base'!BX880,\"\")","v":""},{"$f":"IF('Veg Guide Data Base'!$B880=\"Yes\",'Veg Guide Data Base'!BY880,\"\")","v":""},null,null,""]
["",{"$f":"IF('Veg Guide Data Base'!B886=\"Yes\",'Veg Guide Data Base'!AZ886,\"\")","v":""},{"$f":"IF('Veg Guide Data Base'!$B886=\"Yes\",'Veg Guide Data Base'!BL886,\"\")","v":""},{"$f":"IF('Veg Guide Data Base'!$B886=\"Yes\",'Veg Guide Data Base'!BM886,\"\")","v":""},{"$f":"IF('Veg Guide Data Base'!$B886=\"Yes\",'Veg Guide Data Base'!BJ886,\"\")","v":""},{"$f":"IF('Veg Guide Data Base'!$B886=\"Yes\",'Veg Guide Data Base'!BK886,\"\")","v":""},{"$f":"IF($A$2=\"All Species\",0,IF('Veg Guide Data Base'!$B886=\"Yes\",INDEX($ED$19:$ET$1000,MATCH($B1996,$AZ$19:$AZ$1000,0),MATCH($A$2,$ED$18:$EU$18,0)),\"\"))","v":0},{"$f":"IF($A$2=\"All Species\",0,IF('Veg Guide Data Base'!$B886=\"Yes\",INDEX($EV$19:$FL$1000,MATCH($B1996,$AZ$19:$AZ$1000,0),MATCH($A$2,$EV$18:$FL$18,0)),\"\"))","v":0},{"$f":"IF(B1996=\"\",\"No\",\"Yes\")","v":"No"},{"$f":"IF($B1996<>\"\",INDEX($BA$19:$BI$600,MATCH($B1996,$AZ$19:$AZ$1361,0),MATCH($AC$1,$BA$18:$BI$18,FALSE)),\"\")","v":""},{"$f":"IF('Veg Guide Data Base'!$B886=\"Yes\",'Veg Guide Data Base'!BW886,\"\")","v":""},{"$f":"IF('Veg Guide Data Base'!$B886=\"Yes\",'Veg Guide Data Base'!BX886,\"\")","v":""},{"$f":"IF('Veg Guide Data Base'!$B886=\"Yes\",'Veg Guide Data Base'!BY886,\"\")","v":""},null,null,""]
["",{"$f":"IF('Veg Guide Data Base'!B895=\"Yes\",'Veg Guide Data Base'!AZ895,\"\")","v":""},{"$f":"IF('Veg Guide Data Base'!$B895=\"Yes\",'Veg Guide Data Base'!BL895,\"\")","v":""},{"$f":"IF('Veg Guide Data Base'!$B895=\"Yes\",'Veg Guide Data Base'!BM895,\"\")","v":""},{"$f":"IF('Veg Guide Data Base'!$B895=\"Yes\",'Veg Guide Data Base'!BJ895,\"\")","v":""},{"$f":"IF('Veg Guide Data Base'!$B895=\"Yes\",'Veg Guide Data Base'!BK895,\"\")","v":""},{"$f":"IF($A$2=\"All Species\",0,IF('Veg Guide Data Base'!$B895=\"Yes\",INDEX($ED$19:$ET$1000,MATCH($B2005,$AZ$19:$AZ$1000,0),MATCH($A$2,$ED$18:$EU$18,0)),\"\"))","v":0},{"$f":"IF($A$2=\"All Species\",0,IF('Veg Guide Data Base'!$B895=\"Yes\",INDEX($EV$19:$FL$1000,MATCH($B2005,$AZ$19:$AZ$1000,0),MATCH($A$2,$EV$18:$FL$18,0)),\"\"))","v":0},{"$f":"IF(B2005=\"\",\"No\",\"Yes\")","v":"No"},{"$f":"IF($B2005<>\"\",INDEX($BA$19:$BI$600,MATCH($B2005,$AZ$19:$AZ$1361,0),MATCH($AC$1,$BA$18:$BI$18,FALSE)),\"\")","v":""},{"$f":"IF('Veg Guide Data Base'!$B895=\"Yes\",'Veg Guide Data Base'!BW895,\"\")","v":""},{"$f":"IF('Veg Guide Data Base'!$B895=\"Yes\",'Veg Guide Data Base'!BX895,\"\")","v":""},{"$f":"IF('Veg Guide Data Base'!$B895=\"Yes\",'Veg Guide Data Base'!BY895,\"\")","v":""},null,null,""]
["",{"$f":"IF('Veg Guide Data Base'!B902=\"Yes\",'Veg Guide Data Base'!AZ902,\"\")","v":""},{"$f":"IF('Veg Guide Data Base'!$B902=\"Yes\",'Veg Guide Data Base'!BL902,\"\")","v":""},{"$f":"IF('Veg Guide Data Base'!$B902=\"Yes\",'Veg Guide Data Base'!BM902,\"\")","v":""},{"$f":"IF('Veg Guide Data Base'!$B902=\"Yes\",'Veg Guide Data Base'!BJ902,\"\")","v":""},{"$f":"IF('Veg Guide Data Base'!$B902=\"Yes\",'Veg Guide Data Base'!BK902,\"\")","v":""},{"$f":"IF($A$2=\"All Species\",0,IF('Veg Guide Data Base'!$B902=\"Yes\",INDEX($ED$19:$ET$1000,MATCH($B2012,$AZ$19:$AZ$1000,0),MATCH($A$2,$ED$18:$EU$18,0)),\"\"))","v":0},{"$f":"IF($A$2=\"All Species\",0,IF('Veg Guide Data Base'!$B902=\"Yes\",INDEX($EV$19:$FL$1000,MATCH($B2012,$AZ$19:$AZ$1000,0),MATCH($A$2,$EV$18:$FL$18,0)),\"\"))","v":0},{"$f":"IF(B2012=\"\",\"No\",\"Yes\")","v":"No"},{"$f":"IF($B2012<>\"\",INDEX($BA$19:$BI$600,MATCH($B2012,$AZ$19:$AZ$1361,0),MATCH($AC$1,$BA$18:$BI$18,FALSE)),\"\")","v":""},{"$f":"IF('Veg Guide Data Base'!$B902=\"Yes\",'Veg Guide Data Base'!BW902,\"\")","v":""},{"$f":"IF('Veg Guide Data Base'!$B902=\"Yes\",'Veg Guide Data Base'!BX902,\"\")","v":""},{"$f":"IF('Veg Guide Data Base'!$B902=\"Yes\",'Veg Guide Data Base'!BY902,\"\")","v":""},null,null,{"$f":"IFERROR(INDEX($BS$19:$BS$600,MATCH($B2012,$AZ$19:$AZ$600,0)),\"\")","v":""}]
["",{"$f":"IF('Veg Guide Data Base'!B905=\"Yes\",'Veg Guide Data Base'!AZ905,\"\")","v":""},{"$f":"IF('Veg Guide Data Base'!$B905=\"Yes\",'Veg Guide Data Base'!BL905,\"\")","v":""},{"$f":"IF('Veg Guide Data Base'!$B905=\"Yes\",'Veg Guide Data Base'!BM905,\"\")","v":""},{"$f":"IF('Veg Guide Data Base'!$B905=\"Yes\",'Veg Guide Data Base'!BJ905,\"\")","v":""},{"$f":"IF('Veg Guide Data Base'!$B905=\"Yes\",'Veg Guide Data Base'!BK905,\"\")","v":""},{"$f":"IF($A$2=\"All Species\",0,IF('Veg Guide Data Base'!$B905=\"Yes\",INDEX($ED$19:$ET$1000,MATCH($B2015,$AZ$19:$AZ$1000,0),MATCH($A$2,$ED$18:$EU$18,0)),\"\"))","v":0},{"$f":"IF($A$2=\"All Species\",0,IF('Veg Guide Data Base'!$B905=\"Yes\",INDEX($EV$19:$FL$1000,MATCH($B2015,$AZ$19:$AZ$1000,0),MATCH($A$2,$EV$18:$FL$18,0)),\"\"))","v":0},{"$f":"IF(B2015=\"\",\"No\",\"Yes\")","v":"No"},{"$f":"IF($B2015<>\"\",INDEX($BA$19:$BI$600,MATCH($B2015,$AZ$19:$AZ$1361,0),MATCH($AC$1,$BA$18:$BI$18,FALSE)),\"\")","v":""},{"$f":"IF('Veg Guide Data Base'!$B905=\"Yes\",'Veg Guide Data Base'!BW905,\"\")","v":""},{"$f":"IF('Veg Guide Data Base'!$B905=\"Yes\",'Veg Guide Data Base'!BX905,\"\")","v":""},{"$f":"IF('Veg Guide Data Base'!$B905=\"Yes\",'Veg Guide Data Base'!BY905,\"\")","v":""},null,null,""]
["",{"$f":"IF('Veg Guide Data Base'!B910=\"Yes\",'Veg Guide Data Base'!AZ910,\"\")","v":""},{"$f":"IF('Veg Guide Data Base'!$B910=\"Yes\",'Veg Guide Data Base'!BL910,\"\")","v":""},{"$f":"IF('Veg Guide Data Base'!$B910=\"Yes\",'Veg Guide Data Base'!BM910,\"\")","v":""},{"$f":"IF('Veg Guide Data Base'!$B910=\"Yes\",'Veg Guide Data Base'!BJ910,\"\")","v":""},{"$f":"IF('Veg Guide Data Base'!$B910=\"Yes\",'Veg Guide Data Base'!BK910,\"\")","v":""},{"$f":"IF($A$2=\"All Species\",0,IF('Veg Guide Data Base'!$B910=\"Yes\",INDEX($ED$19:$ET$1000,MATCH($B2020,$AZ$19:$AZ$1000,0),MATCH($A$2,$ED$18:$EU$18,0)),\"\"))","v":0},{"$f":"IF($A$2=\"All Species\",0,IF('Veg Guide Data Base'!$B910=\"Yes\",INDEX($EV$19:$FL$1000,MATCH($B2020,$AZ$19:$AZ$1000,0),MATCH($A$2,$EV$18:$FL$18,0)),\"\"))","v":0},{"$f":"IF(B2020=\"\",\"No\",\"Yes\")","v":"No"},{"$f":"IF($B2020<>\"\",INDEX($BA$19:$BI$600,MATCH($B2020,$AZ$19:$AZ$1361,0),MATCH($AC$1,$BA$18:$BI$18,FALSE)),\"\")","v":""},{"$f":"IF('Veg Guide Data Base'!$B910=\"Yes\",'Veg Guide Data Base'!BW910,\"\")","v":""},{"$f":"IF('Veg Guide Data Base'!$B910=\"Yes\",'Veg Guide Data Base'!BX910,\"\")","v":""},{"$f":"IF('Veg Guide Data Base'!$B910=\"Yes\",'Veg Guide Data Base'!BY910,\"\")","v":""},null,null,""]
["",{"$f":"IF('Veg Guide Data Base'!B914=\"Yes\",'Veg Guide Data Base'!AZ914,\"\")","v":""},{"$f":"IF('Veg Guide Data Base'!$B914=\"Yes\",'Veg Guide Data Base'!BL914,\"\")","v":""},{"$f":"IF('Veg Guide Data Base'!$B914=\"Yes\",'Veg Guide Data Base'!BM914,\"\")","v":""},{"$f":"IF('Veg Guide Data Base'!$B914=\"Yes\",'Veg Guide Data Base'!BJ914,\"\")","v":""},{"$f":"IF('Veg Guide Data Base'!$B914=\"Yes\",'Veg Guide Data Base'!BK914,\"\")","v":""},{"$f":"IF($A$2=\"All Species\",0,IF('Veg Guide Data Base'!$B914=\"Yes\",INDEX($ED$19:$ET$1000,MATCH($B2024,$AZ$19:$AZ$1000,0),MATCH($A$2,$ED$18:$EU$18,0)),\"\"))","v":0},{"$f":"IF($A$2=\"All Species\",0,IF('Veg Guide Data Base'!$B914=\"Yes\",INDEX($EV$19:$FL$1000,MATCH($B2024,$AZ$19:$AZ$1000,0),MATCH($A$2,$EV$18:$FL$18,0)),\"\"))","v":0},{"$f":"IF(B2024=\"\",\"No\",\"Yes\")","v":"No"},{"$f":"IF($B2024<>\"\",INDEX($BA$19:$BI$600,MATCH($B2024,$AZ$19:$AZ$1361,0),MATCH($AC$1,$BA$18:$BI$18,FALSE)),\"\")","v":""},{"$f":"IF('Veg Guide Data Base'!$B914=\"Yes\",'Veg Guide Data Base'!BW914,\"\")","v":""},{"$f":"IF('Veg Guide Data Base'!$B914=\"Yes\",'Veg Guide Data Base'!BX914,\"\")","v":""},{"$f":"IF('Veg Guide Data Base'!$B914=\"Yes\",'Veg Guide Data Base'!BY914,\"\")","v":""},null,null,""]
["",{"$f":"IF('Veg Guide Data Base'!B923=\"Yes\",'Veg Guide Data Base'!AZ923,\"\")","v":""},{"$f":"IF('Veg Guide Data Base'!$B923=\"Yes\",'Veg Guide Data Base'!BL923,\"\")","v":""},{"$f":"IF('Veg Guide Data Base'!$B923=\"Yes\",'Veg Guide Data Base'!BM923,\"\")","v":""},{"$f":"IF('Veg Guide Data Base'!$B923=\"Yes\",'Veg Guide Data Base'!BJ923,\"\")","v":""},{"$f":"IF('Veg Guide Data Base'!$B923=\"Yes\",'Veg Guide Data Base'!BK923,\"\")","v":""},{"$f":"IF($A$2=\"All Species\",0,IF('Veg Guide Data Base'!$B923=\"Yes\",INDEX($ED$19:$ET$1000,MATCH($B2033,$AZ$19:$AZ$1000,0),MATCH($A$2,$ED$18:$EU$18,0)),\"\"))","v":0},{"$f":"IF($A$2=\"All Species\",0,IF('Veg Guide Data Base'!$B923=\"Yes\",INDEX($EV$19:$FL$1000,MATCH($B2033,$AZ$19:$AZ$1000,0),MATCH($A$2,$EV$18:$FL$18,0)),\"\"))","v":0},{"$f":"IF(B2033=\"\",\"No\",\"Yes\")","v":"No"},{"$f":"IF($B2033<>\"\",INDEX($BA$19:$BI$600,MATCH($B2033,$AZ$19:$AZ$1361,0),MATCH($AC$1,$BA$18:$BI$18,FALSE)),\"\")","v":""},{"$f":"IF('Veg Guide Data Base'!$B923=\"Yes\",'Veg Guide Data Base'!BW923,\"\")","v":""},{"$f":"IF('Veg Guide Data Base'!$B923=\"Yes\",'Veg Guide Data Base'!BX923,\"\")","v":""},{"$f":"IF('Veg Guide Data Base'!$B923=\"Yes\",'Veg Guide Data Base'!BY923,\"\")","v":""},null,null,""]
["",{"$f":"IF('Veg Guide Data Base'!B926=\"Yes\",'Veg Guide Data Base'!AZ926,\"\")","v":""},{"$f":"IF('Veg Guide Data Base'!$B926=\"Yes\",'Veg Guide Data Base'!BL926,\"\")","v":""},{"$f":"IF('Veg Guide Data Base'!$B926=\"Yes\",'Veg Guide Data Base'!BM926,\"\")","v":""},{"$f":"IF('Veg Guide Data Base'!$B926=\"Yes\",'Veg Guide Data Base'!BJ926,\"\")","v":""},{"$f":"IF('Veg Guide Data Base'!$B926=\"Yes\",'Veg Guide Data Base'!BK926,\"\")","v":""},{"$f":"IF($A$2=\"All Species\",0,IF('Veg Guide Data Base'!$B926=\"Yes\",INDEX($ED$19:$ET$1000,MATCH($B2036,$AZ$19:$AZ$1000,0),MATCH($A$2,$ED$18:$EU$18,0)),\"\"))","v":0},{"$f":"IF($A$2=\"All Species\",0,IF('Veg Guide Data Base'!$B926=\"Yes\",INDEX($EV$19:$FL$1000,MATCH($B2036,$AZ$19:$AZ$1000,0),MATCH($A$2,$EV$18:$FL$18,0)),\"\"))","v":0},{"$f":"IF(B2036=\"\",\"No\",\"Yes\")","v":"No"},{"$f":"IF($B2036<>\"\",INDEX($BA$19:$BI$600,MATCH($B2036,$AZ$19:$AZ$1361,0),MATCH($AC$1,$BA$18:$BI$18,FALSE)),\"\")","v":""},{"$f":"IF('Veg Guide Data Base'!$B926=\"Yes\",'Veg Guide Data Base'!BW926,\"\")","v":""},{"$f":"IF('Veg Guide Data Base'!$B926=\"Yes\",'Veg Guide Data Base'!BX926,\"\")","v":""},{"$f":"IF('Veg Guide Data Base'!$B926=\"Yes\",'Veg Guide Data Base'!BY926,\"\")","v":""},null,null,""]
["",{"$f":"IF('Veg Guide Data Base'!B935=\"Yes\",'Veg Guide Data Base'!AZ935,\"\")","v":""},{"$f":"IF('Veg Guide Data Base'!$B935=\"Yes\",'Veg Guide Data Base'!BL935,\"\")","v":""},{"$f":"IF('Veg Guide Data Base'!$B935=\"Yes\",'Veg Guide Data Base'!BM935,\"\")","v":""},{"$f":"IF('Veg Guide Data Base'!$B935=\"Yes\",'Veg Guide Data Base'!BJ935,\"\")","v":""},{"$f":"IF('Veg Guide Data Base'!$B935=\"Yes\",'Veg Guide Data Base'!BK935,\"\")","v":""},{"$f":"IF($A$2=\"All Species\",0,IF('Veg Guide Data Base'!$B935=\"Yes\",INDEX($ED$19:$ET$1000,MATCH($B2045,$AZ$19:$AZ$1000,0),MATCH($A$2,$ED$18:$EU$18,0)),\"\"))","v":0},{"$f":"IF($A$2=\"All Species\",0,IF('Veg Guide Data Base'!$B935=\"Yes\",INDEX($EV$19:$FL$1000,MATCH($B2045,$AZ$19:$AZ$1000,0),MATCH($A$2,$EV$18:$FL$18,0)),\"\"))","v":0},{"$f":"IF(B2045=\"\",\"No\",\"Yes\")","v":"No"},{"$f":"IF($B2045<>\"\",INDEX($BA$19:$BI$600,MATCH($B2045,$AZ$19:$AZ$1361,0),MATCH($AC$1,$BA$18:$BI$18,FALSE)),\"\")","v":""},{"$f":"IF('Veg Guide Data Base'!$B935=\"Yes\",'Veg Guide Data Base'!BW935,\"\")","v":""},{"$f":"IF('Veg Guide Data Base'!$B935=\"Yes\",'Veg Guide Data Base'!BX935,\"\")","v":""},{"$f":"IF('Veg Guide Data Base'!$B935=\"Yes\",'Veg Guide Data Base'!BY935,\"\")","v":""},null,null,""]
["",{"$f":"IF('Veg Guide Data Base'!B941=\"Yes\",'Veg Guide Data Base'!AZ941,\"\")","v":""},{"$f":"IF('Veg Guide Data Base'!$B941=\"Yes\",'Veg Guide Data Base'!BL941,\"\")","v":""},{"$f":"IF('Veg Guide Data Base'!$B941=\"Yes\",'Veg Guide Data Base'!BM941,\"\")","v":""},{"$f":"IF('Veg Guide Data Base'!$B941=\"Yes\",'Veg Guide Data Base'!BJ941,\"\")","v":""},{"$f":"IF('Veg Guide Data Base'!$B941=\"Yes\",'Veg Guide Data Base'!BK941,\"\")","v":""},{"$f":"IF($A$2=\"All Species\",0,IF('Veg Guide Data Base'!$B941=\"Yes\",INDEX($ED$19:$ET$1000,MATCH($B2051,$AZ$19:$AZ$1000,0),MATCH($A$2,$ED$18:$EU$18,0)),\"\"))","v":0},{"$f":"IF($A$2=\"All Species\",0,IF('Veg Guide Data Base'!$B941=\"Yes\",INDEX($EV$19:$FL$1000,MATCH($B2051,$AZ$19:$AZ$1000,0),MATCH($A$2,$EV$18:$FL$18,0)),\"\"))","v":0},{"$f":"IF(B2051=\"\",\"No\",\"Yes\")","v":"No"},{"$f":"IF($B2051<>\"\",INDEX($BA$19:$BI$600,MATCH($B2051,$AZ$19:$AZ$1361,0),MATCH($AC$1,$BA$18:$BI$18,FALSE)),\"\")","v":""},{"$f":"IF('Veg Guide Data Base'!$B941=\"Yes\",'Veg Guide Data Base'!BW941,\"\")","v":""},{"$f":"IF('Veg Guide Data Base'!$B941=\"Yes\",'Veg Guide Data Base'!BX941,\"\")","v":""},{"$f":"IF('Veg Guide Data Base'!$B941=\"Yes\",'Veg Guide Data Base'!BY941,\"\")","v":""},null,null,""]
["",{"$f":"IF('Veg Guide Data Base'!B948=\"Yes\",'Veg Guide Data Base'!AZ948,\"\")","v":""},{"$f":"IF('Veg Guide Data Base'!$B948=\"Yes\",'Veg Guide Data Base'!BL948,\"\")","v":""},{"$f":"IF('Veg Guide Data Base'!$B948=\"Yes\",'Veg Guide Data Base'!BM948,\"\")","v":""},{"$f":"IF('Veg Guide Data Base'!$B948=\"Yes\",'Veg Guide Data Base'!BJ948,\"\")","v":""},{"$f":"IF('Veg Guide Data Base'!$B948=\"Yes\",'Veg Guide Data Base'!BK948,\"\")","v":""},{"$f":"IF($A$2=\"All Species\",0,IF('Veg Guide Data Base'!$B948=\"Yes\",INDEX($ED$19:$ET$1000,MATCH($B2058,$AZ$19:$AZ$1000,0),MATCH($A$2,$ED$18:$EU$18,0)),\"\"))","v":0},{"$f":"IF($A$2=\"All Species\",0,IF('Veg Guide Data Base'!$B948=\"Yes\",INDEX($EV$19:$FL$1000,MATCH($B2058,$AZ$19:$AZ$1000,0),MATCH($A$2,$EV$18:$FL$18,0)),\"\"))","v":0},{"$f":"IF(B2058=\"\",\"No\",\"Yes\")","v":"No"},{"$f":"IF($B2058<>\"\",INDEX($BA$19:$BI$600,MATCH($B2058,$AZ$19:$AZ$1361,0),MATCH($AC$1,$BA$18:$BI$18,FALSE)),\"\")","v":""},{"$f":"IF('Veg Guide Data Base'!$B948=\"Yes\",'Veg Guide Data Base'!BW948,\"\")","v":""},{"$f":"IF('Veg Guide Data Base'!$B948=\"Yes\",'Veg Guide Data Base'!BX948,\"\")","v":""},{"$f":"IF('Veg Guide Data Base'!$B948=\"Yes\",'Veg Guide Data Base'!BY948,\"\")","v":""},null,null,""]
["",{"$f":"IF('Veg Guide Data Base'!B951=\"Yes\",'Veg Guide Data Base'!AZ951,\"\")","v":""},{"$f":"IF('Veg Guide Data Base'!$B951=\"Yes\",'Veg Guide Data Base'!BL951,\"\")","v":""},{"$f":"IF('Veg Guide Data Base'!$B951=\"Yes\",'Veg Guide Data Base'!BM951,\"\")","v":""},{"$f":"IF('Veg Guide Data Base'!$B951=\"Yes\",'Veg Guide Data Base'!BJ951,\"\")","v":""},{"$f":"IF('Veg Guide Data Base'!$B951=\"Yes\",'Veg Guide Data Base'!BK951,\"\")","v":""},{"$f":"IF($A$2=\"All Species\",0,IF('Veg Guide Data Base'!$B951=\"Yes\",INDEX($ED$19:$ET$1000,MATCH($B2061,$AZ$19:$AZ$1000,0),MATCH($A$2,$ED$18:$EU$18,0)),\"\"))","v":0},{"$f":"IF($A$2=\"All Species\",0,IF('Veg Guide Data Base'!$B951=\"Yes\",INDEX($EV$19:$FL$1000,MATCH($B2061,$AZ$19:$AZ$1000,0),MATCH($A$2,$EV$18:$FL$18,0)),\"\"))","v":0},{"$f":"IF(B2061=\"\",\"No\",\"Yes\")","v":"No"},{"$f":"IF($B2061<>\"\",INDEX($BA$19:$BI$600,MATCH($B2061,$AZ$19:$AZ$1361,0),MATCH($AC$1,$BA$18:$BI$18,FALSE)),\"\")","v":""},{"$f":"IF('Veg Guide Data Base'!$B951=\"Yes\",'Veg Guide Data Base'!BW951,\"\")","v":""},{"$f":"IF('Veg Guide Data Base'!$B951=\"Yes\",'Veg Guide Data Base'!BX951,\"\")","v":""},{"$f":"IF('Veg Guide Data Base'!$B951=\"Yes\",'Veg Guide Data Base'!BY951,\"\")","v":""},null,null,""]
["",{"$f":"IF('Veg Guide Data Base'!B959=\"Yes\",'Veg Guide Data Base'!AZ959,\"\")","v":""},{"$f":"IF('Veg Guide Data Base'!$B959=\"Yes\",'Veg Guide Data Base'!BL959,\"\")","v":""},{"$f":"IF('Veg Guide Data Base'!$B959=\"Yes\",'Veg Guide Data Base'!BM959,\"\")","v":""},{"$f":"IF('Veg Guide Data Base'!$B959=\"Yes\",'Veg Guide Data Base'!BJ959,\"\")","v":""},{"$f":"IF('Veg Guide Data Base'!$B959=\"Yes\",'Veg Guide Data Base'!BK959,\"\")","v":""},{"$f":"IF($A$2=\"All Species\",0,IF('Veg Guide Data Base'!$B959=\"Yes\",INDEX($ED$19:$ET$1000,MATCH($B2069,$AZ$19:$AZ$1000,0),MATCH($A$2,$ED$18:$EU$18,0)),\"\"))","v":0},{"$f":"IF($A$2=\"All Species\",0,IF('Veg Guide Data Base'!$B959=\"Yes\",INDEX($EV$19:$FL$1000,MATCH($B2069,$AZ$19:$AZ$1000,0),MATCH($A$2,$EV$18:$FL$18,0)),\"\"))","v":0},{"$f":"IF(B2069=\"\",\"No\",\"Yes\")","v":"No"},{"$f":"IF($B2069<>\"\",INDEX($BA$19:$BI$600,MATCH($B2069,$AZ$19:$AZ$1361,0),MATCH($AC$1,$BA$18:$BI$18,FALSE)),\"\")","v":""},{"$f":"IF('Veg Guide Data Base'!$B959=\"Yes\",'Veg Guide Data Base'!BW959,\"\")","v":""},{"$f":"IF('Veg Guide Data Base'!$B959=\"Yes\",'Veg Guide Data Base'!BX959,\"\")","v":""},{"$f":"IF('Veg Guide Data Base'!$B959=\"Yes\",'Veg Guide Data Base'!BY959,\"\")","v":""},null,null,""]
["",{"$f":"IF('Veg Guide Data Base'!B960=\"Yes\",'Veg Guide Data Base'!AZ960,\"\")","v":""},{"$f":"IF('Veg Guide Data Base'!$B960=\"Yes\",'Veg Guide Data Base'!BL960,\"\")","v":""},{"$f":"IF('Veg Guide Data Base'!$B960=\"Yes\",'Veg Guide Data Base'!BM960,\"\")","v":""},{"$f":"IF('Veg Guide Data Base'!$B960=\"Yes\",'Veg Guide Data Base'!BJ960,\"\")","v":""},{"$f":"IF('Veg Guide Data Base'!$B960=\"Yes\",'Veg Guide Data Base'!BK960,\"\")","v":""},{"$f":"IF($A$2=\"All Species\",0,IF('Veg Guide Data Base'!$B960=\"Yes\",INDEX($ED$19:$ET$1000,MATCH($B2070,$AZ$19:$AZ$1000,0),MATCH($A$2,$ED$18:$EU$18,0)),\"\"))","v":0},{"$f":"IF($A$2=\"All Species\",0,IF('Veg Guide Data Base'!$B960=\"Yes\",INDEX($EV$19:$FL$1000,MATCH($B2070,$AZ$19:$AZ$1000,0),MATCH($A$2,$EV$18:$FL$18,0)),\"\"))","v":0},{"$f":"IF(B2070=\"\",\"No\",\"Yes\")","v":"No"},{"$f":"IF($B2070<>\"\",INDEX($BA$19:$BI$600,MATCH($B2070,$AZ$19:$AZ$1361,0),MATCH($AC$1,$BA$18:$BI$18,FALSE)),\"\")","v":""},{"$f":"IF('Veg Guide Data Base'!$B960=\"Yes\",'Veg Guide Data Base'!BW960,\"\")","v":""},{"$f":"IF('Veg Guide Data Base'!$B960=\"Yes\",'Veg Guide Data Base'!BX960,\"\")","v":""},{"$f":"IF('Veg Guide Data Base'!$B960=\"Yes\",'Veg Guide Data Base'!BY960,\"\")","v":""},null,null,""]
["",{"$f":"IF('Veg Guide Data Base'!B969=\"Yes\",'Veg Guide Data Base'!AZ969,\"\")","v":""},{"$f":"IF('Veg Guide Data Base'!$B969=\"Yes\",'Veg Guide Data Base'!BL969,\"\")","v":""},{"$f":"IF('Veg Guide Data Base'!$B969=\"Yes\",'Veg Guide Data Base'!BM969,\"\")","v":""},{"$f":"IF('Veg Guide Data Base'!$B969=\"Yes\",'Veg Guide Data Base'!BJ969,\"\")","v":""},{"$f":"IF('Veg Guide Data Base'!$B969=\"Yes\",'Veg Guide Data Base'!BK969,\"\")","v":""},{"$f":"IF($A$2=\"All Species\",0,IF('Veg Guide Data Base'!$B969=\"Yes\",INDEX($ED$19:$ET$1000,MATCH($B2079,$AZ$19:$AZ$1000,0),MATCH($A$2,$ED$18:$EU$18,0)),\"\"))","v":0},{"$f":"IF($A$2=\"All Species\",0,IF('Veg Guide Data Base'!$B969=\"Yes\",INDEX($EV$19:$FL$1000,MATCH($B2079,$AZ$19:$AZ$1000,0),MATCH($A$2,$EV$18:$FL$18,0)),\"\"))","v":0},{"$f":"IF(B2079=\"\",\"No\",\"Yes\")","v":"No"},{"$f":"IF($B2079<>\"\",INDEX($BA$19:$BI$600,MATCH($B2079,$AZ$19:$AZ$1361,0),MATCH($AC$1,$BA$18:$BI$18,FALSE)),\"\")","v":""},{"$f":"IF('Veg Guide Data Base'!$B969=\"Yes\",'Veg Guide Data Base'!BW969,\"\")","v":""},{"$f":"IF('Veg Guide Data Base'!$B969=\"Yes\",'Veg Guide Data Base'!BX969,\"\")","v":""},{"$f":"IF('Veg Guide Data Base'!$B969=\"Yes\",'Veg Guide Data Base'!BY969,\"\")","v":""},null,null,""]
["",{"$f":"IF('Veg Guide Data Base'!B976=\"Yes\",'Veg Guide Data Base'!AZ976,\"\")","v":""},{"$f":"IF('Veg Guide Data Base'!$B976=\"Yes\",'Veg Guide Data Base'!BL976,\"\")","v":""},{"$f":"IF('Veg Guide Data Base'!$B976=\"Yes\",'Veg Guide Data Base'!BM976,\"\")","v":""},{"$f":"IF('Veg Guide Data Base'!$B976=\"Yes\",'Veg Guide Data Base'!BJ976,\"\")","v":""},{"$f":"IF('Veg Guide Data Base'!$B976=\"Yes\",'Veg Guide Data Base'!BK976,\"\")","v":""},{"$f":"IF($A$2=\"All Species\",0,IF('Veg Guide Data Base'!$B976=\"Yes\",INDEX($ED$19:$ET$1000,MATCH($B2086,$AZ$19:$AZ$1000,0),MATCH($A$2,$ED$18:$EU$18,0)),\"\"))","v":0},{"$f":"IF($A$2=\"All Species\",0,IF('Veg Guide Data Base'!$B976=\"Yes\",INDEX($EV$19:$FL$1000,MATCH($B2086,$AZ$19:$AZ$1000,0),MATCH($A$2,$EV$18:$FL$18,0)),\"\"))","v":0},{"$f":"IF(B2086=\"\",\"No\",\"Yes\")","v":"No"},{"$f":"IF($B2086<>\"\",INDEX($BA$19:$BI$600,MATCH($B2086,$AZ$19:$AZ$1361,0),MATCH($AC$1,$BA$18:$BI$18,FALSE)),\"\")","v":""},{"$f":"IF('Veg Guide Data Base'!$B976=\"Yes\",'Veg Guide Data Base'!BW976,\"\")","v":""},{"$f":"IF('Veg Guide Data Base'!$B976=\"Yes\",'Veg Guide Data Base'!BX976,\"\")","v":""},{"$f":"IF('Veg Guide Data Base'!$B976=\"Yes\",'Veg Guide Data Base'!BY976,\"\")","v":""},null,null,""]
["",{"$f":"IF('Veg Guide Data Base'!B979=\"Yes\",'Veg Guide Data Base'!AZ979,\"\")","v":""},{"$f":"IF('Veg Guide Data Base'!$B979=\"Yes\",'Veg Guide Data Base'!BL979,\"\")","v":""},{"$f":"IF('Veg Guide Data Base'!$B979=\"Yes\",'Veg Guide Data Base'!BM979,\"\")","v":""},{"$f":"IF('Veg Guide Data Base'!$B979=\"Yes\",'Veg Guide Data Base'!BJ979,\"\")","v":""},{"$f":"IF('Veg Guide Data Base'!$B979=\"Yes\",'Veg Guide Data Base'!BK979,\"\")","v":""},{"$f":"IF($A$2=\"All Species\",0,IF('Veg Guide Data Base'!$B979=\"Yes\",INDEX($ED$19:$ET$1000,MATCH($B2089,$AZ$19:$AZ$1000,0),MATCH($A$2,$ED$18:$EU$18,0)),\"\"))","v":0},{"$f":"IF($A$2=\"All Species\",0,IF('Veg Guide Data Base'!$B979=\"Yes\",INDEX($EV$19:$FL$1000,MATCH($B2089,$AZ$19:$AZ$1000,0),MATCH($A$2,$EV$18:$FL$18,0)),\"\"))","v":0},{"$f":"IF(B2089=\"\",\"No\",\"Yes\")","v":"No"},{"$f":"IF($B2089<>\"\",INDEX($BA$19:$BI$600,MATCH($B2089,$AZ$19:$AZ$1361,0),MATCH($AC$1,$BA$18:$BI$18,FALSE)),\"\")","v":""},{"$f":"IF('Veg Guide Data Base'!$B979=\"Yes\",'Veg Guide Data Base'!BW979,\"\")","v":""},{"$f":"IF('Veg Guide Data Base'!$B979=\"Yes\",'Veg Guide Data Base'!BX979,\"\")","v":""},{"$f":"IF('Veg Guide Data Base'!$B979=\"Yes\",'Veg Guide Data Base'!BY979,\"\")","v":""},null,null,""]
["",{"$f":"IF('Veg Guide Data Base'!B987=\"Yes\",'Veg Guide Data Base'!AZ987,\"\")","v":""},{"$f":"IF('Veg Guide Data Base'!$B987=\"Yes\",'Veg Guide Data Base'!BL987,\"\")","v":""},{"$f":"IF('Veg Guide Data Base'!$B987=\"Yes\",'Veg Guide Data Base'!BM987,\"\")","v":""},{"$f":"IF('Veg Guide Data Base'!$B987=\"Yes\",'Veg Guide Data Base'!BJ987,\"\")","v":""},{"$f":"IF('Veg Guide Data Base'!$B987=\"Yes\",'Veg Guide Data Base'!BK987,\"\")","v":""},{"$f":"IF($A$2=\"All Species\",0,IF('Veg Guide Data Base'!$B987=\"Yes\",INDEX($ED$19:$ET$1000,MATCH($B2097,$AZ$19:$AZ$1000,0),MATCH($A$2,$ED$18:$EU$18,0)),\"\"))","v":0},{"$f":"IF($A$2=\"All Species\",0,IF('Veg Guide Data Base'!$B987=\"Yes\",INDEX($EV$19:$FL$1000,MATCH($B2097,$AZ$19:$AZ$1000,0),MATCH($A$2,$EV$18:$FL$18,0)),\"\"))","v":0},{"$f":"IF(B2097=\"\",\"No\",\"Yes\")","v":"No"},{"$f":"IF($B2097<>\"\",INDEX($BA$19:$BI$600,MATCH($B2097,$AZ$19:$AZ$1361,0),MATCH($AC$1,$BA$18:$BI$18,FALSE)),\"\")","v":""},{"$f":"IF('Veg Guide Data Base'!$B987=\"Yes\",'Veg Guide Data Base'!BW987,\"\")","v":""},{"$f":"IF('Veg Guide Data Base'!$B987=\"Yes\",'Veg Guide Data Base'!BX987,\"\")","v":""},{"$f":"IF('Veg Guide Data Base'!$B987=\"Yes\",'Veg Guide Data Base'!BY987,\"\")","v":""},null,null,""]
["",{"$f":"IF('Veg Guide Data Base'!B994=\"Yes\",'Veg Guide Data Base'!AZ994,\"\")","v":""},{"$f":"IF('Veg Guide Data Base'!$B994=\"Yes\",'Veg Guide Data Base'!BL994,\"\")","v":""},{"$f":"IF('Veg Guide Data Base'!$B994=\"Yes\",'Veg Guide Data Base'!BM994,\"\")","v":""},{"$f":"IF('Veg Guide Data Base'!$B994=\"Yes\",'Veg Guide Data Base'!BJ994,\"\")","v":""},{"$f":"IF('Veg Guide Data Base'!$B994=\"Yes\",'Veg Guide Data Base'!BK994,\"\")","v":""},{"$f":"IF($A$2=\"All Species\",0,IF('Veg Guide Data Base'!$B994=\"Yes\",INDEX($ED$19:$ET$1000,MATCH($B2104,$AZ$19:$AZ$1000,0),MATCH($A$2,$ED$18:$EU$18,0)),\"\"))","v":0},{"$f":"IF($A$2=\"All Species\",0,IF('Veg Guide Data Base'!$B994=\"Yes\",INDEX($EV$19:$FL$1000,MATCH($B2104,$AZ$19:$AZ$1000,0),MATCH($A$2,$EV$18:$FL$18,0)),\"\"))","v":0},{"$f":"IF(B2104=\"\",\"No\",\"Yes\")","v":"No"},{"$f":"IF($B2104<>\"\",INDEX($BA$19:$BI$600,MATCH($B2104,$AZ$19:$AZ$1361,0),MATCH($AC$1,$BA$18:$BI$18,FALSE)),\"\")","v":""},{"$f":"IF('Veg Guide Data Base'!$B994=\"Yes\",'Veg Guide Data Base'!BW994,\"\")","v":""},{"$f":"IF('Veg Guide Data Base'!$B994=\"Yes\",'Veg Guide Data Base'!BX994,\"\")","v":""},{"$f":"IF('Veg Guide Data Base'!$B994=\"Yes\",'Veg Guide Data Base'!BY994,\"\")","v":""},null,null,""]
["",{"$f":"IF('Veg Guide Data Base'!B997=\"Yes\",'Veg Guide Data Base'!AZ997,\"\")","v":""},{"$f":"IF('Veg Guide Data Base'!$B997=\"Yes\",'Veg Guide Data Base'!BL997,\"\")","v":""},{"$f":"IF('Veg Guide Data Base'!$B997=\"Yes\",'Veg Guide Data Base'!BM997,\"\")","v":""},{"$f":"IF('Veg Guide Data Base'!$B997=\"Yes\",'Veg Guide Data Base'!BJ997,\"\")","v":""},{"$f":"IF('Veg Guide Data Base'!$B997=\"Yes\",'Veg Guide Data Base'!BK997,\"\")","v":""},{"$f":"IF($A$2=\"All Species\",0,IF('Veg Guide Data Base'!$B997=\"Yes\",INDEX($ED$19:$ET$1000,MATCH($B2107,$AZ$19:$AZ$1000,0),MATCH($A$2,$ED$18:$EU$18,0)),\"\"))","v":0},{"$f":"IF($A$2=\"All Species\",0,IF('Veg Guide Data Base'!$B997=\"Yes\",INDEX($EV$19:$FL$1000,MATCH($B2107,$AZ$19:$AZ$1000,0),MATCH($A$2,$EV$18:$FL$18,0)),\"\"))","v":0},{"$f":"IF(B2107=\"\",\"No\",\"Yes\")","v":"No"},{"$f":"IF($B2107<>\"\",INDEX($BA$19:$BI$600,MATCH($B2107,$AZ$19:$AZ$1361,0),MATCH($AC$1,$BA$18:$BI$18,FALSE)),\"\")","v":""},{"$f":"IF('Veg Guide Data Base'!$B997=\"Yes\",'Veg Guide Data Base'!BW997,\"\")","v":""},{"$f":"IF('Veg Guide Data Base'!$B997=\"Yes\",'Veg Guide Data Base'!BX997,\"\")","v":""},{"$f":"IF('Veg Guide Data Base'!$B997=\"Yes\",'Veg Guide Data Base'!BY997,\"\")","v":""},null,null,""]
["",{"$f":"IF('Veg Guide Data Base'!B1003=\"Yes\",'Veg Guide Data Base'!AZ1003,\"\")","v":""},{"$f":"IF('Veg Guide Data Base'!$B1003=\"Yes\",'Veg Guide Data Base'!BL1003,\"\")","v":""},{"$f":"IF('Veg Guide Data Base'!$B1003=\"Yes\",'Veg Guide Data Base'!BM1003,\"\")","v":""},{"$f":"IF('Veg Guide Data Base'!$B1003=\"Yes\",'Veg Guide Data Base'!BJ1003,\"\")","v":""},{"$f":"IF('Veg Guide Data Base'!$B1003=\"Yes\",'Veg Guide Data Base'!BK1003,\"\")","v":""},{"$f":"IF($A$2=\"All Species\",0,IF('Veg Guide Data Base'!$B1003=\"Yes\",INDEX($ED$19:$ET$1000,MATCH($B2113,$AZ$19:$AZ$1000,0),MATCH($A$2,$ED$18:$EU$18,0)),\"\"))","v":0},{"$f":"IF($A$2=\"All Species\",0,IF('Veg Guide Data Base'!$B1003=\"Yes\",INDEX($EV$19:$FL$1000,MATCH($B2113,$AZ$19:$AZ$1000,0),MATCH($A$2,$EV$18:$FL$18,0)),\"\"))","v":0},{"$f":"IF(B2113=\"\",\"No\",\"Yes\")","v":"No"},{"$f":"IF($B2113<>\"\",INDEX($BA$19:$BI$600,MATCH($B2113,$AZ$19:$AZ$1361,0),MATCH($AC$1,$BA$18:$BI$18,FALSE)),\"\")","v":""},{"$f":"IF('Veg Guide Data Base'!$B1003=\"Yes\",'Veg Guide Data Base'!BW1003,\"\")","v":""},{"$f":"IF('Veg Guide Data Base'!$B1003=\"Yes\",'Veg Guide Data Base'!BX1003,\"\")","v":""},{"$f":"IF('Veg Guide Data Base'!$B1003=\"Yes\",'Veg Guide Data Base'!BY1003,\"\")","v":""},null,null,""]
["",{"$f":"IF('Veg Guide Data Base'!B1006=\"Yes\",'Veg Guide Data Base'!AZ1006,\"\")","v":""},{"$f":"IF('Veg Guide Data Base'!$B1006=\"Yes\",'Veg Guide Data Base'!BL1006,\"\")","v":""},{"$f":"IF('Veg Guide Data Base'!$B1006=\"Yes\",'Veg Guide Data Base'!BM1006,\"\")","v":""},{"$f":"IF('Veg Guide Data Base'!$B1006=\"Yes\",'Veg Guide Data Base'!BJ1006,\"\")","v":""},{"$f":"IF('Veg Guide Data Base'!$B1006=\"Yes\",'Veg Guide Data Base'!BK1006,\"\")","v":""},{"$f":"IF($A$2=\"All Species\",0,IF('Veg Guide Data Base'!$B1006=\"Yes\",INDEX($ED$19:$ET$1000,MATCH($B2116,$AZ$19:$AZ$1000,0),MATCH($A$2,$ED$18:$EU$18,0)),\"\"))","v":0},{"$f":"IF($A$2=\"All Species\",0,IF('Veg Guide Data Base'!$B1006=\"Yes\",INDEX($EV$19:$FL$1000,MATCH($B2116,$AZ$19:$AZ$1000,0),MATCH($A$2,$EV$18:$FL$18,0)),\"\"))","v":0},{"$f":"IF(B2116=\"\",\"No\",\"Yes\")","v":"No"},{"$f":"IF($B2116<>\"\",INDEX($BA$19:$BI$600,MATCH($B2116,$AZ$19:$AZ$1361,0),MATCH($AC$1,$BA$18:$BI$18,FALSE)),\"\")","v":""},{"$f":"IF('Veg Guide Data Base'!$B1006=\"Yes\",'Veg Guide Data Base'!BW1006,\"\")","v":""},{"$f":"IF('Veg Guide Data Base'!$B1006=\"Yes\",'Veg Guide Data Base'!BX1006,\"\")","v":""},{"$f":"IF('Veg Guide Data Base'!$B1006=\"Yes\",'Veg Guide Data Base'!BY1006,\"\")","v":""},null,null,""]
["",{"$f":"IF('Veg Guide Data Base'!B1015=\"Yes\",'Veg Guide Data Base'!AZ1015,\"\")","v":""},{"$f":"IF('Veg Guide Data Base'!$B1015=\"Yes\",'Veg Guide Data Base'!BL1015,\"\")","v":""},{"$f":"IF('Veg Guide Data Base'!$B1015=\"Yes\",'Veg Guide Data Base'!BM1015,\"\")","v":""},{"$f":"IF('Veg Guide Data Base'!$B1015=\"Yes\",'Veg Guide Data Base'!BJ1015,\"\")","v":""},{"$f":"IF('Veg Guide Data Base'!$B1015=\"Yes\",'Veg Guide Data Base'!BK1015,\"\")","v":""},{"$f":"IF($A$2=\"All Species\",0,IF('Veg Guide Data Base'!$B1015=\"Yes\",INDEX($ED$19:$ET$1000,MATCH($B2125,$AZ$19:$AZ$1000,0),MATCH($A$2,$ED$18:$EU$18,0)),\"\"))","v":0},{"$f":"IF($A$2=\"All Species\",0,IF('Veg Guide Data Base'!$B1015=\"Yes\",INDEX($EV$19:$FL$1000,MATCH($B2125,$AZ$19:$AZ$1000,0),MATCH($A$2,$EV$18:$FL$18,0)),\"\"))","v":0},{"$f":"IF(B2125=\"\",\"No\",\"Yes\")","v":"No"},{"$f":"IF($B2125<>\"\",INDEX($BA$19:$BI$600,MATCH($B2125,$AZ$19:$AZ$1361,0),MATCH($AC$1,$BA$18:$BI$18,FALSE)),\"\")","v":""},{"$f":"IF('Veg Guide Data Base'!$B1015=\"Yes\",'Veg Guide Data Base'!BW1015,\"\")","v":""},{"$f":"IF('Veg Guide Data Base'!$B1015=\"Yes\",'Veg Guide Data Base'!BX1015,\"\")","v":""},{"$f":"IF('Veg Guide Data Base'!$B1015=\"Yes\",'Veg Guide Data Base'!BY1015,\"\")","v":""},null,null,""]
["",{"$f":"IF('Veg Guide Data Base'!B257=\"Yes\",'Veg Guide Data Base'!AZ257,\"\")","v":{"$error":"#N/A"}},{"$f":"IF('Veg Guide Data Base'!$B257=\"Yes\",'Veg Guide Data Base'!BL257,\"\")","v":{"$error":"#N/A"}},{"$f":"IF('Veg Guide Data Base'!$B257=\"Yes\",'Veg Guide Data Base'!BM257,\"\")","v":{"$error":"#N/A"}},{"$f":"IF('Veg Guide Data Base'!$B257=\"Yes\",'Veg Guide Data Base'!BJ257,\"\")","v":{"$error":"#N/A"}},{"$f":"IF('Veg Guide Data Base'!$B257=\"Yes\",'Veg Guide Data Base'!BK257,\"\")","v":{"$error":"#N/A"}},{"$f":"IF($A$2=\"All Species\",0,IF('Veg Guide Data Base'!$B257=\"Yes\",INDEX($ED$19:$ET$1000,MATCH($B2132,$AZ$19:$AZ$1000,0),MATCH($A$2,$ED$18:$EU$18,0)),\"\"))","v":0},{"$f":"IF($A$2=\"All Species\",0,IF('Veg Guide Data Base'!$B257=\"Yes\",INDEX($EV$19:$FL$1000,MATCH($B2132,$AZ$19:$AZ$1000,0),MATCH($A$2,$EV$18:$FL$18,0)),\"\"))","v":0},{"$f":"IF(B2132=\"\",\"No\",\"Yes\")","v":{"$error":"#N/A"}},{"$f":"IF($B2132<>\"\",INDEX($BA$19:$BI$600,MATCH($B2132,$AZ$19:$AZ$1361,0),MATCH($AC$1,$BA$18:$BI$18,FALSE)),\"\")","v":{"$error":"#N/A"}},{"$f":"IF('Veg Guide Data Base'!$B257=\"Yes\",'Veg Guide Data Base'!BW257,\"\")","v":{"$error":"#N/A"}},{"$f":"IF('Veg Guide Data Base'!$B257=\"Yes\",'Veg Guide Data Base'!BX257,\"\")","v":{"$error":"#N/A"}},{"$f":"IF('Veg Guide Data Base'!$B257=\"Yes\",'Veg Guide Data Base'!BY257,\"\")","v":{"$error":"#N/A"}},null,null,""]
["",{"$f":"IF('Veg Guide Data Base'!B238=\"Yes\",'Veg Guide Data Base'!AZ238,\"\")","v":{"$error":"#N/A"}},{"$f":"IF('Veg Guide Data Base'!$B238=\"Yes\",'Veg Guide Data Base'!BL238,\"\")","v":{"$error":"#N/A"}},{"$f":"IF('Veg Guide Data Base'!$B238=\"Yes\",'Veg Guide Data Base'!BM238,\"\")","v":{"$error":"#N/A"}},{"$f":"IF('Veg Guide Data Base'!$B238=\"Yes\",'Veg Guide Data Base'!BJ238,\"\")","v":{"$error":"#N/A"}},{"$f":"IF('Veg Guide Data Base'!$B238=\"Yes\",'Veg Guide Data Base'!BK238,\"\")","v":{"$error":"#N/A"}},{"$f":"IF($A$2=\"All Species\",0,IF('Veg Guide Data Base'!$B238=\"Yes\",INDEX($ED$19:$ET$1000,MATCH($B2138,$AZ$19:$AZ$1000,0),MATCH($A$2,$ED$18:$EU$18,0)),\"\"))","v":0},{"$f":"IF($A$2=\"All Species\",0,IF('Veg Guide Data Base'!$B238=\"Yes\",INDEX($EV$19:$FL$1000,MATCH($B2138,$AZ$19:$AZ$1000,0),MATCH($A$2,$EV$18:$FL$18,0)),\"\"))","v":0},{"$f":"IF(B2138=\"\",\"No\",\"Yes\")","v":{"$error":"#N/A"}},{"$f":"IF($B2138<>\"\",INDEX($BA$19:$BI$600,MATCH($B2138,$AZ$19:$AZ$1361,0),MATCH($AC$1,$BA$18:$BI$18,FALSE)),\"\")","v":{"$error":"#N/A"}},{"$f":"IF('Veg Guide Data Base'!$B238=\"Yes\",'Veg Guide Data Base'!BW238,\"\")","v":{"$error":"#N/A"}},{"$f":"IF('Veg Guide Data Base'!$B238=\"Yes\",'Veg Guide Data Base'!BX238,\"\")","v":{"$error":"#N/A"}},{"$f":"IF('Veg Guide Data Base'!$B238=\"Yes\",'Veg Guide Data Base'!BY238,\"\")","v":{"$error":"#N/A"}},null,null,""]
["",{"$f":"IF('Veg Guide Data Base'!B481=\"Yes\",'Veg Guide Data Base'!AZ481,\"\")","v":{"$error":"#N/A"}},{"$f":"IF('Veg Guide Data Base'!$B481=\"Yes\",'Veg Guide Data Base'!BL481,\"\")","v":{"$error":"#N/A"}},{"$f":"IF('Veg Guide Data Base'!$B481=\"Yes\",'Veg Guide Data Base'!BM481,\"\")","v":{"$error":"#N/A"}},{"$f":"IF('Veg Guide Data Base'!$B481=\"Yes\",'Veg Guide Data Base'!BJ481,\"\")","v":{"$error":"#N/A"}},{"$f":"IF('Veg Guide Data Base'!$B481=\"Yes\",'Veg Guide Data Base'!BK481,\"\")","v":{"$error":"#N/A"}},{"$f":"IF($A$2=\"All Species\",0,IF('Veg Guide Data Base'!$B481=\"Yes\",INDEX($ED$19:$ET$1000,MATCH($B2143,$AZ$19:$AZ$1000,0),MATCH($A$2,$ED$18:$EU$18,0)),\"\"))","v":0},{"$f":"IF($A$2=\"All Species\",0,IF('Veg Guide Data Base'!$B481=\"Yes\",INDEX($EV$19:$FL$1000,MATCH($B2143,$AZ$19:$AZ$1000,0),MATCH($A$2,$EV$18:$FL$18,0)),\"\"))","v":0},{"$f":"IF(B2143=\"\",\"No\",\"Yes\")","v":{"$error":"#N/A"}},{"$f":"IF($B2143<>\"\",INDEX($BA$19:$BI$600,MATCH($B2143,$AZ$19:$AZ$1361,0),MATCH($AC$1,$BA$18:$BI$18,FALSE)),\"\")","v":{"$error":"#N/A"}},{"$f":"IF('Veg Guide Data Base'!$B481=\"Yes\",'Veg Guide Data Base'!BW481,\"\")","v":{"$error":"#N/A"}},{"$f":"IF('Veg Guide Data Base'!$B481=\"Yes\",'Veg Guide Data Base'!BX481,\"\")","v":{"$error":"#N/A"}},{"$f":"IF('Veg Guide Data Base'!$B481=\"Yes\",'Veg Guide Data Base'!BY481,\"\")","v":{"$error":"#N/A"}},null,null,""]
["",{"$f":"IF('Veg Guide Data Base'!B504=\"Yes\",'Veg Guide Data Base'!AZ504,\"\")","v":{"$error":"#N/A"}},{"$f":"IF('Veg Guide Data Base'!$B504=\"Yes\",'Veg Guide Data Base'!BL504,\"\")","v":{"$error":"#N/A"}},{"$f":"IF('Veg Guide Data Base'!$B504=\"Yes\",'Veg Guide Data Base'!BM504,\"\")","v":{"$error":"#N/A"}},{"$f":"IF('Veg Guide Data Base'!$B504=\"Yes\",'Veg Guide Data Base'!BJ504,\"\")","v":{"$error":"#N/A"}},{"$f":"IF('Veg Guide Data Base'!$B504=\"Yes\",'Veg Guide Data Base'!BK504,\"\")","v":{"$error":"#N/A"}},{"$f":"IF($A$2=\"All Species\",0,IF('Veg Guide Data Base'!$B504=\"Yes\",INDEX($ED$19:$ET$1000,MATCH($B2150,$AZ$19:$AZ$1000,0),MATCH($A$2,$ED$18:$EU$18,0)),\"\"))","v":0},{"$f":"IF($A$2=\"All Species\",0,IF('Veg Guide Data Base'!$B504=\"Yes\",INDEX($EV$19:$FL$1000,MATCH($B2150,$AZ$19:$AZ$1000,0),MATCH($A$2,$EV$18:$FL$18,0)),\"\"))","v":0},{"$f":"IF(B2150=\"\",\"No\",\"Yes\")","v":{"$error":"#N/A"}},{"$f":"IF($B2150<>\"\",INDEX($BA$19:$BI$600,MATCH($B2150,$AZ$19:$AZ$1361,0),MATCH($AC$1,$BA$18:$BI$18,FALSE)),\"\")","v":{"$error":"#N/A"}},{"$f":"IF('Veg Guide Data Base'!$B504=\"Yes\",'Veg Guide Data Base'!BW504,\"\")","v":{"$error":"#N/A"}},{"$f":"IF('Veg Guide Data Base'!$B504=\"Yes\",'Veg Guide Data Base'!BX504,\"\")","v":{"$error":"#N/A"}},{"$f":"IF('Veg Guide Data Base'!$B504=\"Yes\",'Veg Guide Data Base'!BY504,\"\")","v":{"$error":"#N/A"}},null,null,""]
["",{"$f":"IF('Veg Guide Data Base'!B177=\"Yes\",'Veg Guide Data Base'!AZ177,\"\")","v":{"$error":"#N/A"}},{"$f":"IF('Veg Guide Data Base'!$B177=\"Yes\",'Veg Guide Data Base'!BL177,\"\")","v":{"$error":"#N/A"}},{"$f":"IF('Veg Guide Data Base'!$B177=\"Yes\",'Veg Guide Data Base'!BM177,\"\")","v":{"$error":"#N/A"}},{"$f":"IF('Veg Guide Data Base'!$B177=\"Yes\",'Veg Guide Data Base'!BJ177,\"\")","v":{"$error":"#N/A"}},{"$f":"IF('Veg Guide Data Base'!$B177=\"Yes\",'Veg Guide Data Base'!BK177,\"\")","v":{"$error":"#N/A"}},{"$f":"IF($A$2=\"All Species\",0,IF('Veg Guide Data Base'!$B177=\"Yes\",INDEX($ED$19:$ET$1000,MATCH($B2153,$AZ$19:$AZ$1000,0),MATCH($A$2,$ED$18:$EU$18,0)),\"\"))","v":0},{"$f":"IF($A$2=\"All Species\",0,IF('Veg Guide Data Base'!$B177=\"Yes\",INDEX($EV$19:$FL$1000,MATCH($B2153,$AZ$19:$AZ$1000,0),MATCH($A$2,$EV$18:$FL$18,0)),\"\"))","v":0},{"$f":"IF(B2153=\"\",\"No\",\"Yes\")","v":{"$error":"#N/A"}},{"$f":"IF($B2153<>\"\",INDEX($BA$19:$BI$600,MATCH($B2153,$AZ$19:$AZ$1361,0),MATCH($AC$1,$BA$18:$BI$18,FALSE)),\"\")","v":{"$error":"#N/A"}},{"$f":"IF('Veg Guide Data Base'!$B177=\"Yes\",'Veg Guide Data Base'!BW177,\"\")","v":{"$error":"#N/A"}},{"$f":"IF('Veg Guide Data Base'!$B177=\"Yes\",'Veg Guide Data Base'!BX177,\"\")","v":{"$error":"#N/A"}},{"$f":"IF('Veg Guide Data Base'!$B177=\"Yes\",'Veg Guide Data Base'!BY177,\"\")","v":{"$error":"#N/A"}},null,null,""]
["",{"$f":"IF('Veg Guide Data Base'!B254=\"Yes\",'Veg Guide Data Base'!AZ254,\"\")","v":{"$error":"#N/A"}},{"$f":"IF('Veg Guide Data Base'!$B254=\"Yes\",'Veg Guide Data Base'!BL254,\"\")","v":{"$error":"#N/A"}},{"$f":"IF('Veg Guide Data Base'!$B254=\"Yes\",'Veg Guide Data Base'!BM254,\"\")","v":{"$error":"#N/A"}},{"$f":"IF('Veg Guide Data Base'!$B254=\"Yes\",'Veg Guide Data Base'!BJ254,\"\")","v":{"$error":"#N/A"}},{"$f":"IF('Veg Guide Data Base'!$B254=\"Yes\",'Veg Guide Data Base'!BK254,\"\")","v":{"$error":"#N/A"}},{"$f":"IF($A$2=\"All Species\",0,IF('Veg Guide Data Base'!$B254=\"Yes\",INDEX($ED$19:$ET$1000,MATCH($B2158,$AZ$19:$AZ$1000,0),MATCH($A$2,$ED$18:$EU$18,0)),\"\"))","v":0},{"$f":"IF($A$2=\"All Species\",0,IF('Veg Guide Data Base'!$B254=\"Yes\",INDEX($EV$19:$FL$1000,MATCH($B2158,$AZ$19:$AZ$1000,0),MATCH($A$2,$EV$18:$FL$18,0)),\"\"))","v":0},{"$f":"IF(B2158=\"\",\"No\",\"Yes\")","v":{"$error":"#N/A"}},{"$f":"IF($B2158<>\"\",INDEX($BA$19:$BI$600,MATCH($B2158,$AZ$19:$AZ$1361,0),MATCH($AC$1,$BA$18:$BI$18,FALSE)),\"\")","v":{"$error":"#N/A"}},{"$f":"IF('Veg Guide Data Base'!$B254=\"Yes\",'Veg Guide Data Base'!BW254,\"\")","v":{"$error":"#N/A"}},{"$f":"IF('Veg Guide Data Base'!$B254=\"Yes\",'Veg Guide Data Base'!BX254,\"\")","v":{"$error":"#N/A"}},{"$f":"IF('Veg Guide Data Base'!$B254=\"Yes\",'Veg Guide Data Base'!BY254,\"\")","v":{"$error":"#N/A"}},null,null,""]
["",{"$f":"IF('Veg Guide Data Base'!B417=\"Yes\",'Veg Guide Data Base'!AZ417,\"\")","v":{"$error":"#N/A"}},{"$f":"IF('Veg Guide Data Base'!$B417=\"Yes\",'Veg Guide Data Base'!BL417,\"\")","v":{"$error":"#N/A"}},{"$f":"IF('Veg Guide Data Base'!$B417=\"Yes\",'Veg Guide Data Base'!BM417,\"\")","v":{"$error":"#N/A"}},{"$f":"IF('Veg Guide Data Base'!$B417=\"Yes\",'Veg Guide Data Base'!BJ417,\"\")","v":{"$error":"#N/A"}},{"$f":"IF('Veg Guide Data Base'!$B417=\"Yes\",'Veg Guide Data Base'!BK417,\"\")","v":{"$error":"#N/A"}},{"$f":"IF($A$2=\"All Species\",0,IF('Veg Guide Data Base'!$B417=\"Yes\",INDEX($ED$19:$ET$1000,MATCH($B2162,$AZ$19:$AZ$1000,0),MATCH($A$2,$ED$18:$EU$18,0)),\"\"))","v":0},{"$f":"IF($A$2=\"All Species\",0,IF('Veg Guide Data Base'!$B417=\"Yes\",INDEX($EV$19:$FL$1000,MATCH($B2162,$AZ$19:$AZ$1000,0),MATCH($A$2,$EV$18:$FL$18,0)),\"\"))","v":0},{"$f":"IF(B2162=\"\",\"No\",\"Yes\")","v":{"$error":"#N/A"}},{"$f":"IF($B2162<>\"\",INDEX($BA$19:$BI$600,MATCH($B2162,$AZ$19:$AZ$1361,0),MATCH($AC$1,$BA$18:$BI$18,FALSE)),\"\")","v":{"$error":"#N/A"}},{"$f":"IF('Veg Guide Data Base'!$B417=\"Yes\",'Veg Guide Data Base'!BW417,\"\")","v":{"$error":"#N/A"}},{"$f":"IF('Veg Guide Data Base'!$B417=\"Yes\",'Veg Guide Data Base'!BX417,\"\")","v":{"$error":"#N/A"}},{"$f":"IF('Veg Guide Data Base'!$B417=\"Yes\",'Veg Guide Data Base'!BY417,\"\")","v":{"$error":"#N/A"}},null,null,""]
["",{"$f":"IF('Veg Guide Data Base'!B29=\"Yes\",'Veg Guide Data Base'!AZ29,\"\")","v":{"$error":"#N/A"}},{"$f":"IF('Veg Guide Data Base'!$B29=\"Yes\",'Veg Guide Data Base'!BL29,\"\")","v":{"$error":"#N/A"}},{"$f":"IF('Veg Guide Data Base'!$B29=\"Yes\",'Veg Guide Data Base'!BM29,\"\")","v":{"$error":"#N/A"}},{"$f":"IF('Veg Guide Data Base'!$B29=\"Yes\",'Veg Guide Data Base'!BJ29,\"\")","v":{"$error":"#N/A"}},{"$f":"IF('Veg Guide Data Base'!$B29=\"Yes\",'Veg Guide Data Base'!BK29,\"\")","v":{"$error":"#N/A"}},{"$f":"IF($A$2=\"All Species\",0,IF('Veg Guide Data Base'!$B29=\"Yes\",INDEX($ED$19:$ET$1000,MATCH($B2171,$AZ$19:$AZ$1000,0),MATCH($A$2,$ED$18:$EU$18,0)),\"\"))","v":0},{"$f":"IF($A$2=\"All Species\",0,IF('Veg Guide Data Base'!$B29=\"Yes\",INDEX($EV$19:$FL$1000,MATCH($B2171,$AZ$19:$AZ$1000,0),MATCH($A$2,$EV$18:$FL$18,0)),\"\"))","v":0},{"$f":"IF(B2171=\"\",\"No\",\"Yes\")","v":{"$error":"#N/A"}},{"$f":"IF($B2171<>\"\",INDEX($BA$19:$BI$600,MATCH($B2171,$AZ$19:$AZ$1361,0),MATCH($AC$1,$BA$18:$BI$18,FALSE)),\"\")","v":{"$error":"#N/A"}},{"$f":"IF('Veg Guide Data Base'!$B29=\"Yes\",'Veg Guide Data Base'!BW29,\"\")","v":{"$error":"#N/A"}},{"$f":"IF('Veg Guide Data Base'!$B29=\"Yes\",'Veg Guide Data Base'!BX29,\"\")","v":{"$error":"#N/A"}},{"$f":"IF('Veg Guide Data Base'!$B29=\"Yes\",'Veg Guide Data Base'!BY29,\"\")","v":{"$error":"#N/A"}},null,null,""]
["",{"$f":"IF('Veg Guide Data Base'!B382=\"Yes\",'Veg Guide Data Base'!AZ382,\"\")","v":{"$error":"#N/A"}},{"$f":"IF('Veg Guide Data Base'!$B382=\"Yes\",'Veg Guide Data Base'!BL382,\"\")","v":{"$error":"#N/A"}},{"$f":"IF('Veg Guide Data Base'!$B382=\"Yes\",'Veg Guide Data Base'!BM382,\"\")","v":{"$error":"#N/A"}},{"$f":"IF('Veg Guide Data Base'!$B382=\"Yes\",'Veg Guide Data Base'!BJ382,\"\")","v":{"$error":"#N/A"}},{"$f":"IF('Veg Guide Data Base'!$B382=\"Yes\",'Veg Guide Data Base'!BK382,\"\")","v":{"$error":"#N/A"}},{"$f":"IF($A$2=\"All Species\",0,IF('Veg Guide Data Base'!$B382=\"Yes\",INDEX($ED$19:$ET$1000,MATCH($B2178,$AZ$19:$AZ$1000,0),MATCH($A$2,$ED$18:$EU$18,0)),\"\"))","v":0},{"$f":"IF($A$2=\"All Species\",0,IF('Veg Guide Data Base'!$B382=\"Yes\",INDEX($EV$19:$FL$1000,MATCH($B2178,$AZ$19:$AZ$1000,0),MATCH($A$2,$EV$18:$FL$18,0)),\"\"))","v":0},{"$f":"IF(B2178=\"\",\"No\",\"Yes\")","v":{"$error":"#N/A"}},{"$f":"IF($B2178<>\"\",INDEX($BA$19:$BI$600,MATCH($B2178,$AZ$19:$AZ$1361,0),MATCH($AC$1,$BA$18:$BI$18,FALSE)),\"\")","v":{"$error":"#N/A"}},{"$f":"IF('Veg Guide Data Base'!$B382=\"Yes\",'Veg Guide Data Base'!BW382,\"\")","v":{"$error":"#N/A"}},{"$f":"IF('Veg Guide Data Base'!$B382=\"Yes\",'Veg Guide Data Base'!BX382,\"\")","v":{"$error":"#N/A"}},{"$f":"IF('Veg Guide Data Base'!$B382=\"Yes\",'Veg Guide Data Base'!BY382,\"\")","v":{"$error":"#N/A"}},null,null,""]
["",{"$f":"IF('Veg Guide Data Base'!B527=\"Yes\",'Veg Guide Data Base'!AZ527,\"\")","v":{"$error":"#N/A"}},{"$f":"IF('Veg Guide Data Base'!$B527=\"Yes\",'Veg Guide Data Base'!BL527,\"\")","v":{"$error":"#N/A"}},{"$f":"IF('Veg Guide Data Base'!$B527=\"Yes\",'Veg Guide Data Base'!BM527,\"\")","v":{"$error":"#N/A"}},{"$f":"IF('Veg Guide Data Base'!$B527=\"Yes\",'Veg Guide Data Base'!BJ527,\"\")","v":{"$error":"#N/A"}},{"$f":"IF('Veg Guide Data Base'!$B527=\"Yes\",'Veg Guide Data Base'!BK527,\"\")","v":{"$error":"#N/A"}},{"$f":"IF($A$2=\"All Species\",0,IF('Veg Guide Data Base'!$B527=\"Yes\",INDEX($ED$19:$ET$1000,MATCH($B2182,$AZ$19:$AZ$1000,0),MATCH($A$2,$ED$18:$EU$18,0)),\"\"))","v":0},{"$f":"IF($A$2=\"All Species\",0,IF('Veg Guide Data Base'!$B527=\"Yes\",INDEX($EV$19:$FL$1000,MATCH($B2182,$AZ$19:$AZ$1000,0),MATCH($A$2,$EV$18:$FL$18,0)),\"\"))","v":0},{"$f":"IF(B2182=\"\",\"No\",\"Yes\")","v":{"$error":"#N/A"}},{"$f":"IF($B2182<>\"\",INDEX($BA$19:$BI$600,MATCH($B2182,$AZ$19:$AZ$1361,0),MATCH($AC$1,$BA$18:$BI$18,FALSE)),\"\")","v":{"$error":"#N/A"}},{"$f":"IF('Veg Guide Data Base'!$B527=\"Yes\",'Veg Guide Data Base'!BW527,\"\")","v":{"$error":"#N/A"}},{"$f":"IF('Veg Guide Data Base'!$B527=\"Yes\",'Veg Guide Data Base'!BX527,\"\")","v":{"$error":"#N/A"}},{"$f":"IF('Veg Guide Data Base'!$B527=\"Yes\",'Veg Guide Data Base'!BY527,\"\")","v":{"$error":"#N/A"}},null,null,""]
["",{"$f":"IF('Veg Guide Data Base'!B279=\"Yes\",'Veg Guide Data Base'!AZ279,\"\")","v":{"$error":"#N/A"}},{"$f":"IF('Veg Guide Data Base'!$B279=\"Yes\",'Veg Guide Data Base'!BL279,\"\")","v":{"$error":"#N/A"}},{"$f":"IF('Veg Guide Data Base'!$B279=\"Yes\",'Veg Guide Data Base'!BM279,\"\")","v":{"$error":"#N/A"}},{"$f":"IF('Veg Guide Data Base'!$B279=\"Yes\",'Veg Guide Data Base'!BJ279,\"\")","v":{"$error":"#N/A"}},{"$f":"IF('Veg Guide Data Base'!$B279=\"Yes\",'Veg Guide Data Base'!BK279,\"\")","v":{"$error":"#N/A"}},{"$f":"IF($A$2=\"All Species\",0,IF('Veg Guide Data Base'!$B279=\"Yes\",INDEX($ED$19:$ET$1000,MATCH($B2189,$AZ$19:$AZ$1000,0),MATCH($A$2,$ED$18:$EU$18,0)),\"\"))","v":0},{"$f":"IF($A$2=\"All Species\",0,IF('Veg Guide Data Base'!$B279=\"Yes\",INDEX($EV$19:$FL$1000,MATCH($B2189,$AZ$19:$AZ$1000,0),MATCH($A$2,$EV$18:$FL$18,0)),\"\"))","v":0},{"$f":"IF(B2189=\"\",\"No\",\"Yes\")","v":{"$error":"#N/A"}},{"$f":"IF($B2189<>\"\",INDEX($BA$19:$BI$600,MATCH($B2189,$AZ$19:$AZ$1361,0),MATCH($AC$1,$BA$18:$BI$18,FALSE)),\"\")","v":{"$error":"#N/A"}},{"$f":"IF('Veg Guide Data Base'!$B279=\"Yes\",'Veg Guide Data Base'!BW279,\"\")","v":{"$error":"#N/A"}},{"$f":"IF('Veg Guide Data Base'!$B279=\"Yes\",'Veg Guide Data Base'!BX279,\"\")","v":{"$error":"#N/A"}},{"$f":"IF('Veg Guide Data Base'!$B279=\"Yes\",'Veg Guide Data Base'!BY279,\"\")","v":{"$error":"#N/A"}},null,null,""]
["",{"$f":"IF('Veg Guide Data Base'!B408=\"Yes\",'Veg Guide Data Base'!AZ408,\"\")","v":{"$error":"#N/A"}},{"$f":"IF('Veg Guide Data Base'!$B408=\"Yes\",'Veg Guide Data Base'!BL408,\"\")","v":{"$error":"#N/A"}},{"$f":"IF('Veg Guide Data Base'!$B408=\"Yes\",'Veg Guide Data Base'!BM408,\"\")","v":{"$error":"#N/A"}},{"$f":"IF('Veg Guide Data Base'!$B408=\"Yes\",'Veg Guide Data Base'!BJ408,\"\")","v":{"$error":"#N/A"}},{"$f":"IF('Veg Guide Data Base'!$B408=\"Yes\",'Veg Guide Data Base'!BK408,\"\")","v":{"$error":"#N/A"}},{"$f":"IF($A$2=\"All Species\",0,IF('Veg Guide Data Base'!$B408=\"Yes\",INDEX($ED$19:$ET$1000,MATCH($B2196,$AZ$19:$AZ$1000,0),MATCH($A$2,$ED$18:$EU$18,0)),\"\"))","v":0},{"$f":"IF($A$2=\"All Species\",0,IF('Veg Guide Data Base'!$B408=\"Yes\",INDEX($EV$19:$FL$1000,MATCH($B2196,$AZ$19:$AZ$1000,0),MATCH($A$2,$EV$18:$FL$18,0)),\"\"))","v":0},{"$f":"IF(B2196=\"\",\"No\",\"Yes\")","v":{"$error":"#N/A"}},{"$f":"IF($B2196<>\"\",INDEX($BA$19:$BI$600,MATCH($B2196,$AZ$19:$AZ$1361,0),MATCH($AC$1,$BA$18:$BI$18,FALSE)),\"\")","v":{"$error":"#N/A"}},{"$f":"IF('Veg Guide Data Base'!$B408=\"Yes\",'Veg Guide Data Base'!BW408,\"\")","v":{"$error":"#N/A"}},{"$f":"IF('Veg Guide Data Base'!$B408=\"Yes\",'Veg Guide Data Base'!BX408,\"\")","v":{"$error":"#N/A"}},{"$f":"IF('Veg Guide Data Base'!$B408=\"Yes\",'Veg Guide Data Base'!BY408,\"\")","v":{"$error":"#N/A"}},null,null,""]
["",{"$f":"IF('Veg Guide Data Base'!B509=\"Yes\",'Veg Guide Data Base'!AZ509,\"\")","v":{"$error":"#N/A"}},{"$f":"IF('Veg Guide Data Base'!$B509=\"Yes\",'Veg Guide Data Base'!BL509,\"\")","v":{"$error":"#N/A"}},{"$f":"IF('Veg Guide Data Base'!$B509=\"Yes\",'Veg Guide Data Base'!BM509,\"\")","v":{"$error":"#N/A"}},{"$f":"IF('Veg Guide Data Base'!$B509=\"Yes\",'Veg Guide Data Base'!BJ509,\"\")","v":{"$error":"#N/A"}},{"$f":"IF('Veg Guide Data Base'!$B509=\"Yes\",'Veg Guide Data Base'!BK509,\"\")","v":{"$error":"#N/A"}},{"$f":"IF($A$2=\"All Species\",0,IF('Veg Guide Data Base'!$B509=\"Yes\",INDEX($ED$19:$ET$1000,MATCH($B2199,$AZ$19:$AZ$1000,0),MATCH($A$2,$ED$18:$EU$18,0)),\"\"))","v":0},{"$f":"IF($A$2=\"All Species\",0,IF('Veg Guide Data Base'!$B509=\"Yes\",INDEX($EV$19:$FL$1000,MATCH($B2199,$AZ$19:$AZ$1000,0),MATCH($A$2,$EV$18:$FL$18,0)),\"\"))","v":0},{"$f":"IF(B2199=\"\",\"No\",\"Yes\")","v":{"$error":"#N/A"}},{"$f":"IF($B2199<>\"\",INDEX($BA$19:$BI$600,MATCH($B2199,$AZ$19:$AZ$1361,0),MATCH($AC$1,$BA$18:$BI$18,FALSE)),\"\")","v":{"$error":"#N/A"}},{"$f":"IF('Veg Guide Data Base'!$B509=\"Yes\",'Veg Guide Data Base'!BW509,\"\")","v":{"$error":"#N/A"}},{"$f":"IF('Veg Guide Data Base'!$B509=\"Yes\",'Veg Guide Data Base'!BX509,\"\")","v":{"$error":"#N/A"}},{"$f":"IF('Veg Guide Data Base'!$B509=\"Yes\",'Veg Guide Data Base'!BY509,\"\")","v":{"$error":"#N/A"}},null,null,""]
["",{"$f":"IF('Veg Guide Data Base'!B231=\"Yes\",'Veg Guide Data Base'!AZ231,\"\")","v":{"$error":"#N/A"}},{"$f":"IF('Veg Guide Data Base'!$B231=\"Yes\",'Veg Guide Data Base'!BL231,\"\")","v":{"$error":"#N/A"}},{"$f":"IF('Veg Guide Data Base'!$B231=\"Yes\",'Veg Guide Data Base'!BM231,\"\")","v":{"$error":"#N/A"}},{"$f":"IF('Veg Guide Data Base'!$B231=\"Yes\",'Veg Guide Data Base'!BJ231,\"\")","v":{"$error":"#N/A"}},{"$f":"IF('Veg Guide Data Base'!$B231=\"Yes\",'Veg Guide Data Base'!BK231,\"\")","v":{"$error":"#N/A"}},{"$f":"IF($A$2=\"All Species\",0,IF('Veg Guide Data Base'!$B231=\"Yes\",INDEX($ED$19:$ET$1000,MATCH($B2207,$AZ$19:$AZ$1000,0),MATCH($A$2,$ED$18:$EU$18,0)),\"\"))","v":0},{"$f":"IF($A$2=\"All Species\",0,IF('Veg Guide Data Base'!$B231=\"Yes\",INDEX($EV$19:$FL$1000,MATCH($B2207,$AZ$19:$AZ$1000,0),MATCH($A$2,$EV$18:$FL$18,0)),\"\"))","v":0},{"$f":"IF(B2207=\"\",\"No\",\"Yes\")","v":{"$error":"#N/A"}},{"$f":"IF($B2207<>\"\",INDEX($BA$19:$BI$600,MATCH($B2207,$AZ$19:$AZ$1361,0),MATCH($AC$1,$BA$18:$BI$18,FALSE)),\"\")","v":{"$error":"#N/A"}},{"$f":"IF('Veg Guide Data Base'!$B231=\"Yes\",'Veg Guide Data Base'!BW231,\"\")","v":{"$error":"#N/A"}},{"$f":"IF('Veg Guide Data Base'!$B231=\"Yes\",'Veg Guide Data Base'!BX231,\"\")","v":{"$error":"#N/A"}},{"$f":"IF('Veg Guide Data Base'!$B231=\"Yes\",'Veg Guide Data Base'!BY231,\"\")","v":{"$error":"#N/A"}},null,null,""]
["",{"$f":"IF('Veg Guide Data Base'!B316=\"Yes\",'Veg Guide Data Base'!AZ316,\"\")","v":{"$error":"#N/A"}},{"$f":"IF('Veg Guide Data Base'!$B316=\"Yes\",'Veg Guide Data Base'!BL316,\"\")","v":{"$error":"#N/A"}},{"$f":"IF('Veg Guide Data Base'!$B316=\"Yes\",'Veg Guide Data Base'!BM316,\"\")","v":{"$error":"#N/A"}},{"$f":"IF('Veg Guide Data Base'!$B316=\"Yes\",'Veg Guide Data Base'!BJ316,\"\")","v":{"$error":"#N/A"}},{"$f":"IF('Veg Guide Data Base'!$B316=\"Yes\",'Veg Guide Data Base'!BK316,\"\")","v":{"$error":"#N/A"}},{"$f":"IF($A$2=\"All Species\",0,IF('Veg Guide Data Base'!$B316=\"Yes\",INDEX($ED$19:$ET$1000,MATCH($B2208,$AZ$19:$AZ$1000,0),MATCH($A$2,$ED$18:$EU$18,0)),\"\"))","v":0},{"$f":"IF($A$2=\"All Species\",0,IF('Veg Guide Data Base'!$B316=\"Yes\",INDEX($EV$19:$FL$1000,MATCH($B2208,$AZ$19:$AZ$1000,0),MATCH($A$2,$EV$18:$FL$18,0)),\"\"))","v":0},{"$f":"IF(B2208=\"\",\"No\",\"Yes\")","v":{"$error":"#N/A"}},{"$f":"IF($B2208<>\"\",INDEX($BA$19:$BI$600,MATCH($B2208,$AZ$19:$AZ$1361,0),MATCH($AC$1,$BA$18:$BI$18,FALSE)),\"\")","v":{"$error":"#N/A"}},{"$f":"IF('Veg Guide Data Base'!$B316=\"Yes\",'Veg Guide Data Base'!BW316,\"\")","v":{"$error":"#N/A"}},{"$f":"IF('Veg Guide Data Base'!$B316=\"Yes\",'Veg Guide Data Base'!BX316,\"\")","v":{"$error":"#N/A"}},{"$f":"IF('Veg Guide Data Base'!$B316=\"Yes\",'Veg Guide Data Base'!BY316,\"\")","v":{"$error":"#N/A"}},null,null,""]
["",{"$f":"IF('Veg Guide Data Base'!B545=\"Yes\",'Veg Guide Data Base'!AZ545,\"\")","v":{"$error":"#N/A"}},{"$f":"IF('Veg Guide Data Base'!$B545=\"Yes\",'Veg Guide Data Base'!BL545,\"\")","v":{"$error":"#N/A"}},{"$f":"IF('Veg Guide Data Base'!$B545=\"Yes\",'Veg Guide Data Base'!BM545,\"\")","v":{"$error":"#N/A"}},{"$f":"IF('Veg Guide Data Base'!$B545=\"Yes\",'Veg Guide Data Base'!BJ545,\"\")","v":{"$error":"#N/A"}},{"$f":"IF('Veg Guide Data Base'!$B545=\"Yes\",'Veg Guide Data Base'!BK545,\"\")","v":{"$error":"#N/A"}},{"$f":"IF($A$2=\"All Species\",0,IF('Veg Guide Data Base'!$B545=\"Yes\",INDEX($ED$19:$ET$1000,MATCH($B2217,$AZ$19:$AZ$1000,0),MATCH($A$2,$ED$18:$EU$18,0)),\"\"))","v":0},{"$f":"IF($A$2=\"All Species\",0,IF('Veg Guide Data Base'!$B545=\"Yes\",INDEX($EV$19:$FL$1000,MATCH($B2217,$AZ$19:$AZ$1000,0),MATCH($A$2,$EV$18:$FL$18,0)),\"\"))","v":0},{"$f":"IF(B2217=\"\",\"No\",\"Yes\")","v":{"$error":"#N/A"}},{"$f":"IF($B2217<>\"\",INDEX($BA$19:$BI$600,MATCH($B2217,$AZ$19:$AZ$1361,0),MATCH($AC$1,$BA$18:$BI$18,FALSE)),\"\")","v":{"$error":"#N/A"}},{"$f":"IF('Veg Guide Data Base'!$B545=\"Yes\",'Veg Guide Data Base'!BW545,\"\")","v":{"$error":"#N/A"}},{"$f":"IF('Veg Guide Data Base'!$B545=\"Yes\",'Veg Guide Data Base'!BX545,\"\")","v":{"$error":"#N/A"}},{"$f":"IF('Veg Guide Data Base'!$B545=\"Yes\",'Veg Guide Data Base'!BY545,\"\")","v":{"$error":"#N/A"}},null,null,""]
["",{"$f":"IF('Veg Guide Data Base'!B355=\"Yes\",'Veg Guide Data Base'!AZ355,\"\")","v":{"$error":"#N/A"}},{"$f":"IF('Veg Guide Data Base'!$B355=\"Yes\",'Veg Guide Data Base'!BL355,\"\")","v":{"$error":"#N/A"}},{"$f":"IF('Veg Guide Data Base'!$B355=\"Yes\",'Veg Guide Data Base'!BM355,\"\")","v":{"$error":"#N/A"}},{"$f":"IF('Veg Guide Data Base'!$B355=\"Yes\",'Veg Guide Data Base'!BJ355,\"\")","v":{"$error":"#N/A"}},{"$f":"IF('Veg Guide Data Base'!$B355=\"Yes\",'Veg Guide Data Base'!BK355,\"\")","v":{"$error":"#N/A"}},{"$f":"IF($A$2=\"All Species\",0,IF('Veg Guide Data Base'!$B355=\"Yes\",INDEX($ED$19:$ET$1000,MATCH($B2224,$AZ$19:$AZ$1000,0),MATCH($A$2,$ED$18:$EU$18,0)),\"\"))","v":0},{"$f":"IF($A$2=\"All Species\",0,IF('Veg Guide Data Base'!$B355=\"Yes\",INDEX($EV$19:$FL$1000,MATCH($B2224,$AZ$19:$AZ$1000,0),MATCH($A$2,$EV$18:$FL$18,0)),\"\"))","v":0},{"$f":"IF(B2224=\"\",\"No\",\"Yes\")","v":{"$error":"#N/A"}},{"$f":"IF($B2224<>\"\",INDEX($BA$19:$BI$600,MATCH($B2224,$AZ$19:$AZ$1361,0),MATCH($AC$1,$BA$18:$BI$18,FALSE)),\"\")","v":{"$error":"#N/A"}},{"$f":"IF('Veg Guide Data Base'!$B355=\"Yes\",'Veg Guide Data Base'!BW355,\"\")","v":{"$error":"#N/A"}},{"$f":"IF('Veg Guide Data Base'!$B355=\"Yes\",'Veg Guide Data Base'!BX355,\"\")","v":{"$error":"#N/A"}},{"$f":"IF('Veg Guide Data Base'!$B355=\"Yes\",'Veg Guide Data Base'!BY355,\"\")","v":{"$error":"#N/A"}},null,null,""]
["",{"$f":"IF('Veg Guide Data Base'!B294=\"Yes\",'Veg Guide Data Base'!AZ294,\"\")","v":{"$error":"#N/A"}},{"$f":"IF('Veg Guide Data Base'!$B294=\"Yes\",'Veg Guide Data Base'!BL294,\"\")","v":{"$error":"#N/A"}},{"$f":"IF('Veg Guide Data Base'!$B294=\"Yes\",'Veg Guide Data Base'!BM294,\"\")","v":{"$error":"#N/A"}},{"$f":"IF('Veg Guide Data Base'!$B294=\"Yes\",'Veg Guide Data Base'!BJ294,\"\")","v":{"$error":"#N/A"}},{"$f":"IF('Veg Guide Data Base'!$B294=\"Yes\",'Veg Guide Data Base'!BK294,\"\")","v":{"$error":"#N/A"}},{"$f":"IF($A$2=\"All Species\",0,IF('Veg Guide Data Base'!$B294=\"Yes\",INDEX($ED$19:$ET$1000,MATCH($B2226,$AZ$19:$AZ$1000,0),MATCH($A$2,$ED$18:$EU$18,0)),\"\"))","v":0},{"$f":"IF($A$2=\"All Species\",0,IF('Veg Guide Data Base'!$B294=\"Yes\",INDEX($EV$19:$FL$1000,MATCH($B2226,$AZ$19:$AZ$1000,0),MATCH($A$2,$EV$18:$FL$18,0)),\"\"))","v":0},{"$f":"IF(B2226=\"\",\"No\",\"Yes\")","v":{"$error":"#N/A"}},{"$f":"IF($B2226<>\"\",INDEX($BA$19:$BI$600,MATCH($B2226,$AZ$19:$AZ$1361,0),MATCH($AC$1,$BA$18:$BI$18,FALSE)),\"\")","v":{"$error":"#N/A"}},{"$f":"IF('Veg Guide Data Base'!$B294=\"Yes\",'Veg Guide Data Base'!BW294,\"\")","v":{"$error":"#N/A"}},{"$f":"IF('Veg Guide Data Base'!$B294=\"Yes\",'Veg Guide Data Base'!BX294,\"\")","v":{"$error":"#N/A"}},{"$f":"IF('Veg Guide Data Base'!$B294=\"Yes\",'Veg Guide Data Base'!BY294,\"\")","v":{"$error":"#N/A"}},null,null,""]
["",{"$f":"IF('Veg Guide Data Base'!B492=\"Yes\",'Veg Guide Data Base'!AZ492,\"\")","v":{"$error":"#N/A"}},{"$f":"IF('Veg Guide Data Base'!$B492=\"Yes\",'Veg Guide Data Base'!BL492,\"\")","v":{"$error":"#N/A"}},{"$f":"IF('Veg Guide Data Base'!$B492=\"Yes\",'Veg Guide Data Base'!BM492,\"\")","v":{"$error":"#N/A"}},{"$f":"IF('Veg Guide Data Base'!$B492=\"Yes\",'Veg Guide Data Base'!BJ492,\"\")","v":{"$error":"#N/A"}},{"$f":"IF('Veg Guide Data Base'!$B492=\"Yes\",'Veg Guide Data Base'!BK492,\"\")","v":{"$error":"#N/A"}},{"$f":"IF($A$2=\"All Species\",0,IF('Veg Guide Data Base'!$B492=\"Yes\",INDEX($ED$19:$ET$1000,MATCH($B2235,$AZ$19:$AZ$1000,0),MATCH($A$2,$ED$18:$EU$18,0)),\"\"))","v":0},{"$f":"IF($A$2=\"All Species\",0,IF('Veg Guide Data Base'!$B492=\"Yes\",INDEX($EV$19:$FL$1000,MATCH($B2235,$AZ$19:$AZ$1000,0),MATCH($A$2,$EV$18:$FL$18,0)),\"\"))","v":0},{"$f":"IF(B2235=\"\",\"No\",\"Yes\")","v":{"$error":"#N/A"}},{"$f":"IF($B2235<>\"\",INDEX($BA$19:$BI$600,MATCH($B2235,$AZ$19:$AZ$1361,0),MATCH($AC$1,$BA$18:$BI$18,FALSE)),\"\")","v":{"$error":"#N/A"}},{"$f":"IF('Veg Guide Data Base'!$B492=\"Yes\",'Veg Guide Data Base'!BW492,\"\")","v":{"$error":"#N/A"}},{"$f":"IF('Veg Guide Data Base'!$B492=\"Yes\",'Veg Guide Data Base'!BX492,\"\")","v":{"$error":"#N/A"}},{"$f":"IF('Veg Guide Data Base'!$B492=\"Yes\",'Veg Guide Data Base'!BY492,\"\")","v":{"$error":"#N/A"}},null,null,""]
["",{"$f":"IF('Veg Guide Data Base'!B290=\"Yes\",'Veg Guide Data Base'!AZ290,\"\")","v":{"$error":"#N/A"}},{"$f":"IF('Veg Guide Data Base'!$B290=\"Yes\",'Veg Guide Data Base'!BL290,\"\")","v":{"$error":"#N/A"}},{"$f":"IF('Veg Guide Data Base'!$B290=\"Yes\",'Veg Guide Data Base'!BM290,\"\")","v":{"$error":"#N/A"}},{"$f":"IF('Veg Guide Data Base'!$B290=\"Yes\",'Veg Guide Data Base'!BJ290,\"\")","v":{"$error":"#N/A"}},{"$f":"IF('Veg Guide Data Base'!$B290=\"Yes\",'Veg Guide Data Base'!BK290,\"\")","v":{"$error":"#N/A"}},{"$f":"IF($A$2=\"All Species\",0,IF('Veg Guide Data Base'!$B290=\"Yes\",INDEX($ED$19:$ET$1000,MATCH($B2242,$AZ$19:$AZ$1000,0),MATCH($A$2,$ED$18:$EU$18,0)),\"\"))","v":0},{"$f":"IF($A$2=\"All Species\",0,IF('Veg Guide Data Base'!$B290=\"Yes\",INDEX($EV$19:$FL$1000,MATCH($B2242,$AZ$19:$AZ$1000,0),MATCH($A$2,$EV$18:$FL$18,0)),\"\"))","v":0},{"$f":"IF(B2242=\"\",\"No\",\"Yes\")","v":{"$error":"#N/A"}},{"$f":"IF($B2242<>\"\",INDEX($BA$19:$BI$600,MATCH($B2242,$AZ$19:$AZ$1361,0),MATCH($AC$1,$BA$18:$BI$18,FALSE)),\"\")","v":{"$error":"#N/A"}},{"$f":"IF('Veg Guide Data Base'!$B290=\"Yes\",'Veg Guide Data Base'!BW290,\"\")","v":{"$error":"#N/A"}},{"$f":"IF('Veg Guide Data Base'!$B290=\"Yes\",'Veg Guide Data Base'!BX290,\"\")","v":{"$error":"#N/A"}},{"$f":"IF('Veg Guide Data Base'!$B290=\"Yes\",'Veg Guide Data Base'!BY290,\"\")","v":{"$error":"#N/A"}},null,null,""]
["",{"$f":"IF('Veg Guide Data Base'!B230=\"Yes\",'Veg Guide Data Base'!AZ230,\"\")","v":{"$error":"#N/A"}},{"$f":"IF('Veg Guide Data Base'!$B230=\"Yes\",'Veg Guide Data Base'!BL230,\"\")","v":{"$error":"#N/A"}},{"$f":"IF('Veg Guide Data Base'!$B230=\"Yes\",'Veg Guide Data Base'!BM230,\"\")","v":{"$error":"#N/A"}},{"$f":"IF('Veg Guide Data Base'!$B230=\"Yes\",'Veg Guide Data Base'!BJ230,\"\")","v":{"$error":"#N/A"}},{"$f":"IF('Veg Guide Data Base'!$B230=\"Yes\",'Veg Guide Data Base'!BK230,\"\")","v":{"$error":"#N/A"}},{"$f":"IF($A$2=\"All Species\",0,IF('Veg Guide Data Base'!$B230=\"Yes\",INDEX($ED$19:$ET$1000,MATCH($B2245,$AZ$19:$AZ$1000,0),MATCH($A$2,$ED$18:$EU$18,0)),\"\"))","v":0},{"$f":"IF($A$2=\"All Species\",0,IF('Veg Guide Data Base'!$B230=\"Yes\",INDEX($EV$19:$FL$1000,MATCH($B2245,$AZ$19:$AZ$1000,0),MATCH($A$2,$EV$18:$FL$18,0)),\"\"))","v":0},{"$f":"IF(B2245=\"\",\"No\",\"Yes\")","v":{"$error":"#N/A"}},{"$f":"IF($B2245<>\"\",INDEX($BA$19:$BI$600,MATCH($B2245,$AZ$19:$AZ$1361,0),MATCH($AC$1,$BA$18:$BI$18,FALSE)),\"\")","v":{"$error":"#N/A"}},{"$f":"IF('Veg Guide Data Base'!$B230=\"Yes\",'Veg Guide Data Base'!BW230,\"\")","v":{"$error":"#N/A"}},{"$f":"IF('Veg Guide Data Base'!$B230=\"Yes\",'Veg Guide Data Base'!BX230,\"\")","v":{"$error":"#N/A"}},{"$f":"IF('Veg Guide Data Base'!$B230=\"Yes\",'Veg Guide Data Base'!BY230,\"\")","v":{"$error":"#N/A"}},null,null,""]
["",{"$f":"IF('Veg Guide Data Base'!B197=\"Yes\",'Veg Guide Data Base'!AZ197,\"\")","v":{"$error":"#N/A"}},{"$f":"IF('Veg Guide Data Base'!$B197=\"Yes\",'Veg Guide Data Base'!BL197,\"\")","v":{"$error":"#N/A"}},{"$f":"IF('Veg Guide Data Base'!$B197=\"Yes\",'Veg Guide Data Base'!BM197,\"\")","v":{"$error":"#N/A"}},{"$f":"IF('Veg Guide Data Base'!$B197=\"Yes\",'Veg Guide Data Base'!BJ197,\"\")","v":{"$error":"#N/A"}},{"$f":"IF('Veg Guide Data Base'!$B197=\"Yes\",'Veg Guide Data Base'!BK197,\"\")","v":{"$error":"#N/A"}},{"$f":"IF($A$2=\"All Species\",0,IF('Veg Guide Data Base'!$B197=\"Yes\",INDEX($ED$19:$ET$1000,MATCH($B2251,$AZ$19:$AZ$1000,0),MATCH($A$2,$ED$18:$EU$18,0)),\"\"))","v":0},{"$f":"IF($A$2=\"All Species\",0,IF('Veg Guide Data Base'!$B197=\"Yes\",INDEX($EV$19:$FL$1000,MATCH($B2251,$AZ$19:$AZ$1000,0),MATCH($A$2,$EV$18:$FL$18,0)),\"\"))","v":0},{"$f":"IF(B2251=\"\",\"No\",\"Yes\")","v":{"$error":"#N/A"}},{"$f":"IF($B2251<>\"\",INDEX($BA$19:$BI$600,MATCH($B2251,$AZ$19:$AZ$1361,0),MATCH($AC$1,$BA$18:$BI$18,FALSE)),\"\")","v":{"$error":"#N/A"}},{"$f":"IF('Veg Guide Data Base'!$B197=\"Yes\",'Veg Guide Data Base'!BW197,\"\")","v":{"$error":"#N/A"}},{"$f":"IF('Veg Guide Data Base'!$B197=\"Yes\",'Veg Guide Data Base'!BX197,\"\")","v":{"$error":"#N/A"}},{"$f":"IF('Veg Guide Data Base'!$B197=\"Yes\",'Veg Guide Data Base'!BY197,\"\")","v":{"$error":"#N/A"}},null,null,""]
["",{"$f":"IF('Veg Guide Data Base'!B403=\"Yes\",'Veg Guide Data Base'!AZ403,\"\")","v":{"$error":"#N/A"}},{"$f":"IF('Veg Guide Data Base'!$B403=\"Yes\",'Veg Guide Data Base'!BL403,\"\")","v":{"$error":"#N/A"}},{"$f":"IF('Veg Guide Data Base'!$B403=\"Yes\",'Veg Guide Data Base'!BM403,\"\")","v":{"$error":"#N/A"}},{"$f":"IF('Veg Guide Data Base'!$B403=\"Yes\",'Veg Guide Data Base'!BJ403,\"\")","v":{"$error":"#N/A"}},{"$f":"IF('Veg Guide Data Base'!$B403=\"Yes\",'Veg Guide Data Base'!BK403,\"\")","v":{"$error":"#N/A"}},{"$f":"IF($A$2=\"All Species\",0,IF('Veg Guide Data Base'!$B403=\"Yes\",INDEX($ED$19:$ET$1000,MATCH($B2254,$AZ$19:$AZ$1000,0),MATCH($A$2,$ED$18:$EU$18,0)),\"\"))","v":0},{"$f":"IF($A$2=\"All Species\",0,IF('Veg Guide Data Base'!$B403=\"Yes\",INDEX($EV$19:$FL$1000,MATCH($B2254,$AZ$19:$AZ$1000,0),MATCH($A$2,$EV$18:$FL$18,0)),\"\"))","v":0},{"$f":"IF(B2254=\"\",\"No\",\"Yes\")","v":{"$error":"#N/A"}},{"$f":"IF($B2254<>\"\",INDEX($BA$19:$BI$600,MATCH($B2254,$AZ$19:$AZ$1361,0),MATCH($AC$1,$BA$18:$BI$18,FALSE)),\"\")","v":{"$error":"#N/A"}},{"$f":"IF('Veg Guide Data Base'!$B403=\"Yes\",'Veg Guide Data Base'!BW403,\"\")","v":{"$error":"#N/A"}},{"$f":"IF('Veg Guide Data Base'!$B403=\"Yes\",'Veg Guide Data Base'!BX403,\"\")","v":{"$error":"#N/A"}},{"$f":"IF('Veg Guide Data Base'!$B403=\"Yes\",'Veg Guide Data Base'!BY403,\"\")","v":{"$error":"#N/A"}},null,null,""]
["",{"$f":"IF('Veg Guide Data Base'!B72=\"Yes\",'Veg Guide Data Base'!AZ72,\"\")","v":{"$error":"#N/A"}},{"$f":"IF('Veg Guide Data Base'!$B72=\"Yes\",'Veg Guide Data Base'!BL72,\"\")","v":{"$error":"#N/A"}},{"$f":"IF('Veg Guide Data Base'!$B72=\"Yes\",'Veg Guide Data Base'!BM72,\"\")","v":{"$error":"#N/A"}},{"$f":"IF('Veg Guide Data Base'!$B72=\"Yes\",'Veg Guide Data Base'!BJ72,\"\")","v":{"$error":"#N/A"}},{"$f":"IF('Veg Guide Data Base'!$B72=\"Yes\",'Veg Guide Data Base'!BK72,\"\")","v":{"$error":"#N/A"}},{"$f":"IF($A$2=\"All Species\",0,IF('Veg Guide Data Base'!$B72=\"Yes\",INDEX($ED$19:$ET$1000,MATCH($B2263,$AZ$19:$AZ$1000,0),MATCH($A$2,$ED$18:$EU$18,0)),\"\"))","v":0},{"$f":"IF($A$2=\"All Species\",0,IF('Veg Guide Data Base'!$B72=\"Yes\",INDEX($EV$19:$FL$1000,MATCH($B2263,$AZ$19:$AZ$1000,0),MATCH($A$2,$EV$18:$FL$18,0)),\"\"))","v":0},{"$f":"IF(B2263=\"\",\"No\",\"Yes\")","v":{"$error":"#N/A"}},{"$f":"IF($B2263<>\"\",INDEX($BA$19:$BI$600,MATCH($B2263,$AZ$19:$AZ$1361,0),MATCH($AC$1,$BA$18:$BI$18,FALSE)),\"\")","v":{"$error":"#N/A"}},{"$f":"IF('Veg Guide Data Base'!$B72=\"Yes\",'Veg Guide Data Base'!BW72,\"\")","v":{"$error":"#N/A"}},{"$f":"IF('Veg Guide Data Base'!$B72=\"Yes\",'Veg Guide Data Base'!BX72,\"\")","v":{"$error":"#N/A"}},{"$f":"IF('Veg Guide Data Base'!$B72=\"Yes\",'Veg Guide Data Base'!BY72,\"\")","v":{"$error":"#N/A"}},null,null,""]
["",{"$f":"IF('Veg Guide Data Base'!B336=\"Yes\",'Veg Guide Data Base'!AZ336,\"\")","v":{"$error":"#N/A"}},{"$f":"IF('Veg Guide Data Base'!$B336=\"Yes\",'Veg Guide Data Base'!BL336,\"\")","v":{"$error":"#N/A"}},{"$f":"IF('Veg Guide Data Base'!$B336=\"Yes\",'Veg Guide Data Base'!BM336,\"\")","v":{"$error":"#N/A"}},{"$f":"IF('Veg Guide Data Base'!$B336=\"Yes\",'Veg Guide Data Base'!BJ336,\"\")","v":{"$error":"#N/A"}},{"$f":"IF('Veg Guide Data Base'!$B336=\"Yes\",'Veg Guide Data Base'!BK336,\"\")","v":{"$error":"#N/A"}},{"$f":"IF($A$2=\"All Species\",0,IF('Veg Guide Data Base'!$B336=\"Yes\",INDEX($ED$19:$ET$1000,MATCH($B2270,$AZ$19:$AZ$1000,0),MATCH($A$2,$ED$18:$EU$18,0)),\"\"))","v":0},{"$f":"IF($A$2=\"All Species\",0,IF('Veg Guide Data Base'!$B336=\"Yes\",INDEX($EV$19:$FL$1000,MATCH($B2270,$AZ$19:$AZ$1000,0),MATCH($A$2,$EV$18:$FL$18,0)),\"\"))","v":0},{"$f":"IF(B2270=\"\",\"No\",\"Yes\")","v":{"$error":"#N/A"}},{"$f":"IF($B2270<>\"\",INDEX($BA$19:$BI$600,MATCH($B2270,$AZ$19:$AZ$1361,0),MATCH($AC$1,$BA$18:$BI$18,FALSE)),\"\")","v":{"$error":"#N/A"}},{"$f":"IF('Veg Guide Data Base'!$B336=\"Yes\",'Veg Guide Data Base'!BW336,\"\")","v":{"$error":"#N/A"}},{"$f":"IF('Veg Guide Data Base'!$B336=\"Yes\",'Veg Guide Data Base'!BX336,\"\")","v":{"$error":"#N/A"}},{"$f":"IF('Veg Guide Data Base'!$B336=\"Yes\",'Veg Guide Data Base'!BY336,\"\")","v":{"$error":"#N/A"}},null,null,""]
["",{"$f":"IF('Veg Guide Data Base'!B314=\"Yes\",'Veg Guide Data Base'!AZ314,\"\")","v":{"$error":"#N/A"}},{"$f":"IF('Veg Guide Data Base'!$B314=\"Yes\",'Veg Guide Data Base'!BL314,\"\")","v":{"$error":"#N/A"}},{"$f":"IF('Veg Guide Data Base'!$B314=\"Yes\",'Veg Guide Data Base'!BM314,\"\")","v":{"$error":"#N/A"}},{"$f":"IF('Veg Guide Data Base'!$B314=\"Yes\",'Veg Guide Data Base'!BJ314,\"\")","v":{"$error":"#N/A"}},{"$f":"IF('Veg Guide Data Base'!$B314=\"Yes\",'Veg Guide Data Base'!BK314,\"\")","v":{"$error":"#N/A"}},{"$f":"IF($A$2=\"All Species\",0,IF('Veg Guide Data Base'!$B314=\"Yes\",INDEX($ED$19:$ET$1000,MATCH($B2275,$AZ$19:$AZ$1000,0),MATCH($A$2,$ED$18:$EU$18,0)),\"\"))","v":0},{"$f":"IF($A$2=\"All Species\",0,IF('Veg Guide Data Base'!$B314=\"Yes\",INDEX($EV$19:$FL$1000,MATCH($B2275,$AZ$19:$AZ$1000,0),MATCH($A$2,$EV$18:$FL$18,0)),\"\"))","v":0},{"$f":"IF(B2275=\"\",\"No\",\"Yes\")","v":{"$error":"#N/A"}},{"$f":"IF($B2275<>\"\",INDEX($BA$19:$BI$600,MATCH($B2275,$AZ$19:$AZ$1361,0),MATCH($AC$1,$BA$18:$BI$18,FALSE)),\"\")","v":{"$error":"#N/A"}},{"$f":"IF('Veg Guide Data Base'!$B314=\"Yes\",'Veg Guide Data Base'!BW314,\"\")","v":{"$error":"#N/A"}},{"$f":"IF('Veg Guide Data Base'!$B314=\"Yes\",'Veg Guide Data Base'!BX314,\"\")","v":{"$error":"#N/A"}},{"$f":"IF('Veg Guide Data Base'!$B314=\"Yes\",'Veg Guide Data Base'!BY314,\"\")","v":{"$error":"#N/A"}},null,null,""]
["",{"$f":"IF('Veg Guide Data Base'!B508=\"Yes\",'Veg Guide Data Base'!AZ508,\"\")","v":{"$error":"#N/A"}},{"$f":"IF('Veg Guide Data Base'!$B508=\"Yes\",'Veg Guide Data Base'!BL508,\"\")","v":{"$error":"#N/A"}},{"$f":"IF('Veg Guide Data Base'!$B508=\"Yes\",'Veg Guide Data Base'!BM508,\"\")","v":{"$error":"#N/A"}},{"$f":"IF('Veg Guide Data Base'!$B508=\"Yes\",'Veg Guide Data Base'!BJ508,\"\")","v":{"$error":"#N/A"}},{"$f":"IF('Veg Guide Data Base'!$B508=\"Yes\",'Veg Guide Data Base'!BK508,\"\")","v":{"$error":"#N/A"}},{"$f":"IF($A$2=\"All Species\",0,IF('Veg Guide Data Base'!$B508=\"Yes\",INDEX($ED$19:$ET$1000,MATCH($B2279,$AZ$19:$AZ$1000,0),MATCH($A$2,$ED$18:$EU$18,0)),\"\"))","v":0},{"$f":"IF($A$2=\"All Species\",0,IF('Veg Guide Data Base'!$B508=\"Yes\",INDEX($EV$19:$FL$1000,MATCH($B2279,$AZ$19:$AZ$1000,0),MATCH($A$2,$EV$18:$FL$18,0)),\"\"))","v":0},{"$f":"IF(B2279=\"\",\"No\",\"Yes\")","v":{"$error":"#N/A"}},{"$f":"IF($B2279<>\"\",INDEX($BA$19:$BI$600,MATCH($B2279,$AZ$19:$AZ$1361,0),MATCH($AC$1,$BA$18:$BI$18,FALSE)),\"\")","v":{"$error":"#N/A"}},{"$f":"IF('Veg Guide Data Base'!$B508=\"Yes\",'Veg Guide Data Base'!BW508,\"\")","v":{"$error":"#N/A"}},{"$f":"IF('Veg Guide Data Base'!$B508=\"Yes\",'Veg Guide Data Base'!BX508,\"\")","v":{"$error":"#N/A"}},{"$f":"IF('Veg Guide Data Base'!$B508=\"Yes\",'Veg Guide Data Base'!BY508,\"\")","v":{"$error":"#N/A"}},null,null,""]
["",{"$f":"IF('Veg Guide Data Base'!B211=\"Yes\",'Veg Guide Data Base'!AZ211,\"\")","v":{"$error":"#N/A"}},{"$f":"IF('Veg Guide Data Base'!$B211=\"Yes\",'Veg Guide Data Base'!BL211,\"\")","v":{"$error":"#N/A"}},{"$f":"IF('Veg Guide Data Base'!$B211=\"Yes\",'Veg Guide Data Base'!BM211,\"\")","v":{"$error":"#N/A"}},{"$f":"IF('Veg Guide Data Base'!$B211=\"Yes\",'Veg Guide Data Base'!BJ211,\"\")","v":{"$error":"#N/A"}},{"$f":"IF('Veg Guide Data Base'!$B211=\"Yes\",'Veg Guide Data Base'!BK211,\"\")","v":{"$error":"#N/A"}},{"$f":"IF($A$2=\"All Species\",0,IF('Veg Guide Data Base'!$B211=\"Yes\",INDEX($ED$19:$ET$1000,MATCH($B2288,$AZ$19:$AZ$1000,0),MATCH($A$2,$ED$18:$EU$18,0)),\"\"))","v":0},{"$f":"IF($A$2=\"All Species\",0,IF('Veg Guide Data Base'!$B211=\"Yes\",INDEX($EV$19:$FL$1000,MATCH($B2288,$AZ$19:$AZ$1000,0),MATCH($A$2,$EV$18:$FL$18,0)),\"\"))","v":0},{"$f":"IF(B2288=\"\",\"No\",\"Yes\")","v":{"$error":"#N/A"}},{"$f":"IF($B2288<>\"\",INDEX($BA$19:$BI$600,MATCH($B2288,$AZ$19:$AZ$1361,0),MATCH($AC$1,$BA$18:$BI$18,FALSE)),\"\")","v":{"$error":"#N/A"}},{"$f":"IF('Veg Guide Data Base'!$B211=\"Yes\",'Veg Guide Data Base'!BW211,\"\")","v":{"$error":"#N/A"}},{"$f":"IF('Veg Guide Data Base'!$B211=\"Yes\",'Veg Guide Data Base'!BX211,\"\")","v":{"$error":"#N/A"}},{"$f":"IF('Veg Guide Data Base'!$B211=\"Yes\",'Veg Guide Data Base'!BY211,\"\")","v":{"$error":"#N/A"}},null,null,""]
["",{"$f":"IF('Veg Guide Data Base'!B397=\"Yes\",'Veg Guide Data Base'!AZ397,\"\")","v":{"$error":"#N/A"}},{"$f":"IF('Veg Guide Data Base'!$B397=\"Yes\",'Veg Guide Data Base'!BL397,\"\")","v":{"$error":"#N/A"}},{"$f":"IF('Veg Guide Data Base'!$B397=\"Yes\",'Veg Guide Data Base'!BM397,\"\")","v":{"$error":"#N/A"}},{"$f":"IF('Veg Guide Data Base'!$B397=\"Yes\",'Veg Guide Data Base'!BJ397,\"\")","v":{"$error":"#N/A"}},{"$f":"IF('Veg Guide Data Base'!$B397=\"Yes\",'Veg Guide Data Base'!BK397,\"\")","v":{"$error":"#N/A"}},{"$f":"IF($A$2=\"All Species\",0,IF('Veg Guide Data Base'!$B397=\"Yes\",INDEX($ED$19:$ET$1000,MATCH($B2291,$AZ$19:$AZ$1000,0),MATCH($A$2,$ED$18:$EU$18,0)),\"\"))","v":0},{"$f":"IF($A$2=\"All Species\",0,IF('Veg Guide Data Base'!$B397=\"Yes\",INDEX($EV$19:$FL$1000,MATCH($B2291,$AZ$19:$AZ$1000,0),MATCH($A$2,$EV$18:$FL$18,0)),\"\"))","v":0},{"$f":"IF(B2291=\"\",\"No\",\"Yes\")","v":{"$error":"#N/A"}},{"$f":"IF($B2291<>\"\",INDEX($BA$19:$BI$600,MATCH($B2291,$AZ$19:$AZ$1361,0),MATCH($AC$1,$BA$18:$BI$18,FALSE)),\"\")","v":{"$error":"#N/A"}},{"$f":"IF('Veg Guide Data Base'!$B397=\"Yes\",'Veg Guide Data Base'!BW397,\"\")","v":{"$error":"#N/A"}},{"$f":"IF('Veg Guide Data Base'!$B397=\"Yes\",'Veg Guide Data Base'!BX397,\"\")","v":{"$error":"#N/A"}},{"$f":"IF('Veg Guide Data Base'!$B397=\"Yes\",'Veg Guide Data Base'!BY397,\"\")","v":{"$error":"#N/A"}},null,null,""]
["",{"$f":"IF('Veg Guide Data Base'!B152=\"Yes\",'Veg Guide Data Base'!AZ152,\"\")","v":{"$error":"#N/A"}},{"$f":"IF('Veg Guide Data Base'!$B152=\"Yes\",'Veg Guide Data Base'!BL152,\"\")","v":{"$error":"#N/A"}},{"$f":"IF('Veg Guide Data Base'!$B152=\"Yes\",'Veg Guide Data Base'!BM152,\"\")","v":{"$error":"#N/A"}},{"$f":"IF('Veg Guide Data Base'!$B152=\"Yes\",'Veg Guide Data Base'!BJ152,\"\")","v":{"$error":"#N/A"}},{"$f":"IF('Veg Guide Data Base'!$B152=\"Yes\",'Veg Guide Data Base'!BK152,\"\")","v":{"$error":"#N/A"}},{"$f":"IF($A$2=\"All Species\",0,IF('Veg Guide Data Base'!$B152=\"Yes\",INDEX($ED$19:$ET$1000,MATCH($B2295,$AZ$19:$AZ$1000,0),MATCH($A$2,$ED$18:$EU$18,0)),\"\"))","v":0},{"$f":"IF($A$2=\"All Species\",0,IF('Veg Guide Data Base'!$B152=\"Yes\",INDEX($EV$19:$FL$1000,MATCH($B2295,$AZ$19:$AZ$1000,0),MATCH($A$2,$EV$18:$FL$18,0)),\"\"))","v":0},{"$f":"IF(B2295=\"\",\"No\",\"Yes\")","v":{"$error":"#N/A"}},{"$f":"IF($B2295<>\"\",INDEX($BA$19:$BI$600,MATCH($B2295,$AZ$19:$AZ$1361,0),MATCH($AC$1,$BA$18:$BI$18,FALSE)),\"\")","v":{"$error":"#N/A"}},{"$f":"IF('Veg Guide Data Base'!$B152=\"Yes\",'Veg Guide Data Base'!BW152,\"\")","v":{"$error":"#N/A"}},{"$f":"IF('Veg Guide Data Base'!$B152=\"Yes\",'Veg Guide Data Base'!BX152,\"\")","v":{"$error":"#N/A"}},{"$f":"IF('Veg Guide Data Base'!$B152=\"Yes\",'Veg Guide Data Base'!BY152,\"\")","v":{"$error":"#N/A"}},null,null,""]
["",{"$f":"IF('Veg Guide Data Base'!B511=\"Yes\",'Veg Guide Data Base'!AZ511,\"\")","v":{"$error":"#N/A"}},{"$f":"IF('Veg Guide Data Base'!$B511=\"Yes\",'Veg Guide Data Base'!BL511,\"\")","v":{"$error":"#N/A"}},{"$f":"IF('Veg Guide Data Base'!$B511=\"Yes\",'Veg Guide Data Base'!BM511,\"\")","v":{"$error":"#N/A"}},{"$f":"IF('Veg Guide Data Base'!$B511=\"Yes\",'Veg Guide Data Base'!BJ511,\"\")","v":{"$error":"#N/A"}},{"$f":"IF('Veg Guide Data Base'!$B511=\"Yes\",'Veg Guide Data Base'!BK511,\"\")","v":{"$error":"#N/A"}},{"$f":"IF($A$2=\"All Species\",0,IF('Veg Guide Data Base'!$B511=\"Yes\",INDEX($ED$19:$ET$1000,MATCH($B2300,$AZ$19:$AZ$1000,0),MATCH($A$2,$ED$18:$EU$18,0)),\"\"))","v":0},{"$f":"IF($A$2=\"All Species\",0,IF('Veg Guide Data Base'!$B511=\"Yes\",INDEX($EV$19:$FL$1000,MATCH($B2300,$AZ$19:$AZ$1000,0),MATCH($A$2,$EV$18:$FL$18,0)),\"\"))","v":0},{"$f":"IF(B2300=\"\",\"No\",\"Yes\")","v":{"$error":"#N/A"}},{"$f":"IF($B2300<>\"\",INDEX($BA$19:$BI$600,MATCH($B2300,$AZ$19:$AZ$1361,0),MATCH($AC$1,$BA$18:$BI$18,FALSE)),\"\")","v":{"$error":"#N/A"}},{"$f":"IF('Veg Guide Data Base'!$B511=\"Yes\",'Veg Guide Data Base'!BW511,\"\")","v":{"$error":"#N/A"}},{"$f":"IF('Veg Guide Data Base'!$B511=\"Yes\",'Veg Guide Data Base'!BX511,\"\")","v":{"$error":"#N/A"}},{"$f":"IF('Veg Guide Data Base'!$B511=\"Yes\",'Veg Guide Data Base'!BY511,\"\")","v":{"$error":"#N/A"}},null,null,""]
["",{"$f":"IF('Veg Guide Data Base'!B385=\"Yes\",'Veg Guide Data Base'!AZ385,\"\")","v":{"$error":"#N/A"}},{"$f":"IF('Veg Guide Data Base'!$B385=\"Yes\",'Veg Guide Data Base'!BL385,\"\")","v":{"$error":"#N/A"}},{"$f":"IF('Veg Guide Data Base'!$B385=\"Yes\",'Veg Guide Data Base'!BM385,\"\")","v":{"$error":"#N/A"}},{"$f":"IF('Veg Guide Data Base'!$B385=\"Yes\",'Veg Guide Data Base'!BJ385,\"\")","v":{"$error":"#N/A"}},{"$f":"IF('Veg Guide Data Base'!$B385=\"Yes\",'Veg Guide Data Base'!BK385,\"\")","v":{"$error":"#N/A"}},{"$f":"IF($A$2=\"All Species\",0,IF('Veg Guide Data Base'!$B385=\"Yes\",INDEX($ED$19:$ET$1000,MATCH($B2309,$AZ$19:$AZ$1000,0),MATCH($A$2,$ED$18:$EU$18,0)),\"\"))","v":0},{"$f":"IF($A$2=\"All Species\",0,IF('Veg Guide Data Base'!$B385=\"Yes\",INDEX($EV$19:$FL$1000,MATCH($B2309,$AZ$19:$AZ$1000,0),MATCH($A$2,$EV$18:$FL$18,0)),\"\"))","v":0},{"$f":"IF(B2309=\"\",\"No\",\"Yes\")","v":{"$error":"#N/A"}},{"$f":"IF($B2309<>\"\",INDEX($BA$19:$BI$600,MATCH($B2309,$AZ$19:$AZ$1361,0),MATCH($AC$1,$BA$18:$BI$18,FALSE)),\"\")","v":{"$error":"#N/A"}},{"$f":"IF('Veg Guide Data Base'!$B385=\"Yes\",'Veg Guide Data Base'!BW385,\"\")","v":{"$error":"#N/A"}},{"$f":"IF('Veg Guide Data Base'!$B385=\"Yes\",'Veg Guide Data Base'!BX385,\"\")","v":{"$error":"#N/A"}},{"$f":"IF('Veg Guide Data Base'!$B385=\"Yes\",'Veg Guide Data Base'!BY385,\"\")","v":{"$error":"#N/A"}},null,null,""]
["",{"$f":"IF('Veg Guide Data Base'!B404=\"Yes\",'Veg Guide Data Base'!AZ404,\"\")","v":{"$error":"#N/A"}},{"$f":"IF('Veg Guide Data Base'!$B404=\"Yes\",'Veg Guide Data Base'!BL404,\"\")","v":{"$error":"#N/A"}},{"$f":"IF('Veg Guide Data Base'!$B404=\"Yes\",'Veg Guide Data Base'!BM404,\"\")","v":{"$error":"#N/A"}},{"$f":"IF('Veg Guide Data Base'!$B404=\"Yes\",'Veg Guide Data Base'!BJ404,\"\")","v":{"$error":"#N/A"}},{"$f":"IF('Veg Guide Data Base'!$B404=\"Yes\",'Veg Guide Data Base'!BK404,\"\")","v":{"$error":"#N/A"}},{"$f":"IF($A$2=\"All Species\",0,IF('Veg Guide Data Base'!$B404=\"Yes\",INDEX($ED$19:$ET$1000,MATCH($B2316,$AZ$19:$AZ$1000,0),MATCH($A$2,$ED$18:$EU$18,0)),\"\"))","v":0},{"$f":"IF($A$2=\"All Species\",0,IF('Veg Guide Data Base'!$B404=\"Yes\",INDEX($EV$19:$FL$1000,MATCH($B2316,$AZ$19:$AZ$1000,0),MATCH($A$2,$EV$18:$FL$18,0)),\"\"))","v":0},{"$f":"IF(B2316=\"\",\"No\",\"Yes\")","v":{"$error":"#N/A"}},{"$f":"IF($B2316<>\"\",INDEX($BA$19:$BI$600,MATCH($B2316,$AZ$19:$AZ$1361,0),MATCH($AC$1,$BA$18:$BI$18,FALSE)),\"\")","v":{"$error":"#N/A"}},{"$f":"IF('Veg Guide Data Base'!$B404=\"Yes\",'Veg Guide Data Base'!BW404,\"\")","v":{"$error":"#N/A"}},{"$f":"IF('Veg Guide Data Base'!$B404=\"Yes\",'Veg Guide Data Base'!BX404,\"\")","v":{"$error":"#N/A"}},{"$f":"IF('Veg Guide Data Base'!$B404=\"Yes\",'Veg Guide Data Base'!BY404,\"\")","v":{"$error":"#N/A"}},null,null,""]
["",{"$f":"IF('Veg Guide Data Base'!B461=\"Yes\",'Veg Guide Data Base'!AZ461,\"\")","v":{"$error":"#N/A"}},{"$f":"IF('Veg Guide Data Base'!$B461=\"Yes\",'Veg Guide Data Base'!BL461,\"\")","v":{"$error":"#N/A"}},{"$f":"IF('Veg Guide Data Base'!$B461=\"Yes\",'Veg Guide Data Base'!BM461,\"\")","v":{"$error":"#N/A"}},{"$f":"IF('Veg Guide Data Base'!$B461=\"Yes\",'Veg Guide Data Base'!BJ461,\"\")","v":{"$error":"#N/A"}},{"$f":"IF('Veg Guide Data Base'!$B461=\"Yes\",'Veg Guide Data Base'!BK461,\"\")","v":{"$error":"#N/A"}},{"$f":"IF($A$2=\"All Species\",0,IF('Veg Guide Data Base'!$B461=\"Yes\",INDEX($ED$19:$ET$1000,MATCH($B2319,$AZ$19:$AZ$1000,0),MATCH($A$2,$ED$18:$EU$18,0)),\"\"))","v":0},{"$f":"IF($A$2=\"All Species\",0,IF('Veg Guide Data Base'!$B461=\"Yes\",INDEX($EV$19:$FL$1000,MATCH($B2319,$AZ$19:$AZ$1000,0),MATCH($A$2,$EV$18:$FL$18,0)),\"\"))","v":0},{"$f":"IF(B2319=\"\",\"No\",\"Yes\")","v":{"$error":"#N/A"}},{"$f":"IF($B2319<>\"\",INDEX($BA$19:$BI$600,MATCH($B2319,$AZ$19:$AZ$1361,0),MATCH($AC$1,$BA$18:$BI$18,FALSE)),\"\")","v":{"$error":"#N/A"}},{"$f":"IF('Veg Guide Data Base'!$B461=\"Yes\",'Veg Guide Data Base'!BW461,\"\")","v":{"$error":"#N/A"}},{"$f":"IF('Veg Guide Data Base'!$B461=\"Yes\",'Veg Guide Data Base'!BX461,\"\")","v":{"$error":"#N/A"}},{"$f":"IF('Veg Guide Data Base'!$B461=\"Yes\",'Veg Guide Data Base'!BY461,\"\")","v":{"$error":"#N/A"}},null,null,""]
["",{"$f":"IF('Veg Guide Data Base'!B427=\"Yes\",'Veg Guide Data Base'!AZ427,\"\")","v":{"$error":"#N/A"}},{"$f":"IF('Veg Guide Data Base'!$B427=\"Yes\",'Veg Guide Data Base'!BL427,\"\")","v":{"$error":"#N/A"}},{"$f":"IF('Veg Guide Data Base'!$B427=\"Yes\",'Veg Guide Data Base'!BM427,\"\")","v":{"$error":"#N/A"}},{"$f":"IF('Veg Guide Data Base'!$B427=\"Yes\",'Veg Guide Data Base'!BJ427,\"\")","v":{"$error":"#N/A"}},{"$f":"IF('Veg Guide Data Base'!$B427=\"Yes\",'Veg Guide Data Base'!BK427,\"\")","v":{"$error":"#N/A"}},{"$f":"IF($A$2=\"All Species\",0,IF('Veg Guide Data Base'!$B427=\"Yes\",INDEX($ED$19:$ET$1000,MATCH($B2325,$AZ$19:$AZ$1000,0),MATCH($A$2,$ED$18:$EU$18,0)),\"\"))","v":0},{"$f":"IF($A$2=\"All Species\",0,IF('Veg Guide Data Base'!$B427=\"Yes\",INDEX($EV$19:$FL$1000,MATCH($B2325,$AZ$19:$AZ$1000,0),MATCH($A$2,$EV$18:$FL$18,0)),\"\"))","v":0},{"$f":"IF(B2325=\"\",\"No\",\"Yes\")","v":{"$error":"#N/A"}},{"$f":"IF($B2325<>\"\",INDEX($BA$19:$BI$600,MATCH($B2325,$AZ$19:$AZ$1361,0),MATCH($AC$1,$BA$18:$BI$18,FALSE)),\"\")","v":{"$error":"#N/A"}},{"$f":"IF('Veg Guide Data Base'!$B427=\"Yes\",'Veg Guide Data Base'!BW427,\"\")","v":{"$error":"#N/A"}},{"$f":"IF('Veg Guide Data Base'!$B427=\"Yes\",'Veg Guide Data Base'!BX427,\"\")","v":{"$error":"#N/A"}},{"$f":"IF('Veg Guide Data Base'!$B427=\"Yes\",'Veg Guide Data Base'!BY427,\"\")","v":{"$error":"#N/A"}},null,null,""]
["",{"$f":"IF('Veg Guide Data Base'!B126=\"Yes\",'Veg Guide Data Base'!AZ126,\"\")","v":{"$error":"#N/A"}},{"$f":"IF('Veg Guide Data Base'!$B126=\"Yes\",'Veg Guide Data Base'!BL126,\"\")","v":{"$error":"#N/A"}},{"$f":"IF('Veg Guide Data Base'!$B126=\"Yes\",'Veg Guide Data Base'!BM126,\"\")","v":{"$error":"#N/A"}},{"$f":"IF('Veg Guide Data Base'!$B126=\"Yes\",'Veg Guide Data Base'!BJ126,\"\")","v":{"$error":"#N/A"}},{"$f":"IF('Veg Guide Data Base'!$B126=\"Yes\",'Veg Guide Data Base'!BK126,\"\")","v":{"$error":"#N/A"}},{"$f":"IF($A$2=\"All Species\",0,IF('Veg Guide Data Base'!$B126=\"Yes\",INDEX($ED$19:$ET$1000,MATCH($B2334,$AZ$19:$AZ$1000,0),MATCH($A$2,$ED$18:$EU$18,0)),\"\"))","v":0},{"$f":"IF($A$2=\"All Species\",0,IF('Veg Guide Data Base'!$B126=\"Yes\",INDEX($EV$19:$FL$1000,MATCH($B2334,$AZ$19:$AZ$1000,0),MATCH($A$2,$EV$18:$FL$18,0)),\"\"))","v":0},{"$f":"IF(B2334=\"\",\"No\",\"Yes\")","v":{"$error":"#N/A"}},{"$f":"IF($B2334<>\"\",INDEX($BA$19:$BI$600,MATCH($B2334,$AZ$19:$AZ$1361,0),MATCH($AC$1,$BA$18:$BI$18,FALSE)),\"\")","v":{"$error":"#N/A"}},{"$f":"IF('Veg Guide Data Base'!$B126=\"Yes\",'Veg Guide Data Base'!BW126,\"\")","v":{"$error":"#N/A"}},{"$f":"IF('Veg Guide Data Base'!$B126=\"Yes\",'Veg Guide Data Base'!BX126,\"\")","v":{"$error":"#N/A"}},{"$f":"IF('Veg Guide Data Base'!$B126=\"Yes\",'Veg Guide Data Base'!BY126,\"\")","v":{"$error":"#N/A"}},null,null,""]
["",{"$f":"IF('Veg Guide Data Base'!B36=\"Yes\",'Veg Guide Data Base'!AZ36,\"\")","v":{"$error":"#N/A"}},{"$f":"IF('Veg Guide Data Base'!$B36=\"Yes\",'Veg Guide Data Base'!BL36,\"\")","v":{"$error":"#N/A"}},{"$f":"IF('Veg Guide Data Base'!$B36=\"Yes\",'Veg Guide Data Base'!BM36,\"\")","v":{"$error":"#N/A"}},{"$f":"IF('Veg Guide Data Base'!$B36=\"Yes\",'Veg Guide Data Base'!BJ36,\"\")","v":{"$error":"#N/A"}},{"$f":"IF('Veg Guide Data Base'!$B36=\"Yes\",'Veg Guide Data Base'!BK36,\"\")","v":{"$error":"#N/A"}},{"$f":"IF($A$2=\"All Species\",0,IF('Veg Guide Data Base'!$B36=\"Yes\",INDEX($ED$19:$ET$1000,MATCH($B2337,$AZ$19:$AZ$1000,0),MATCH($A$2,$ED$18:$EU$18,0)),\"\"))","v":0},{"$f":"IF($A$2=\"All Species\",0,IF('Veg Guide Data Base'!$B36=\"Yes\",INDEX($EV$19:$FL$1000,MATCH($B2337,$AZ$19:$AZ$1000,0),MATCH($A$2,$EV$18:$FL$18,0)),\"\"))","v":0},{"$f":"IF(B2337=\"\",\"No\",\"Yes\")","v":{"$error":"#N/A"}},{"$f":"IF($B2337<>\"\",INDEX($BA$19:$BI$600,MATCH($B2337,$AZ$19:$AZ$1361,0),MATCH($AC$1,$BA$18:$BI$18,FALSE)),\"\")","v":{"$error":"#N/A"}},{"$f":"IF('Veg Guide Data Base'!$B36=\"Yes\",'Veg Guide Data Base'!BW36,\"\")","v":{"$error":"#N/A"}},{"$f":"IF('Veg Guide Data Base'!$B36=\"Yes\",'Veg Guide Data Base'!BX36,\"\")","v":{"$error":"#N/A"}},{"$f":"IF('Veg Guide Data Base'!$B36=\"Yes\",'Veg Guide Data Base'!BY36,\"\")","v":{"$error":"#N/A"}},null,null,""]
["",{"$f":"IF('Veg Guide Data Base'!B67=\"Yes\",'Veg Guide Data Base'!AZ67,\"\")","v":{"$error":"#N/A"}},{"$f":"IF('Veg Guide Data Base'!$B67=\"Yes\",'Veg Guide Data Base'!BL67,\"\")","v":{"$error":"#N/A"}},{"$f":"IF('Veg Guide Data Base'!$B67=\"Yes\",'Veg Guide Data Base'!BM67,\"\")","v":{"$error":"#N/A"}},{"$f":"IF('Veg Guide Data Base'!$B67=\"Yes\",'Veg Guide Data Base'!BJ67,\"\")","v":{"$error":"#N/A"}},{"$f":"IF('Veg Guide Data Base'!$B67=\"Yes\",'Veg Guide Data Base'!BK67,\"\")","v":{"$error":"#N/A"}},{"$f":"IF($A$2=\"All Species\",0,IF('Veg Guide Data Base'!$B67=\"Yes\",INDEX($ED$19:$ET$1000,MATCH($B2344,$AZ$19:$AZ$1000,0),MATCH($A$2,$ED$18:$EU$18,0)),\"\"))","v":0},{"$f":"IF($A$2=\"All Species\",0,IF('Veg Guide Data Base'!$B67=\"Yes\",INDEX($EV$19:$FL$1000,MATCH($B2344,$AZ$19:$AZ$1000,0),MATCH($A$2,$EV$18:$FL$18,0)),\"\"))","v":0},{"$f":"IF(B2344=\"\",\"No\",\"Yes\")","v":{"$error":"#N/A"}},{"$f":"IF($B2344<>\"\",INDEX($BA$19:$BI$600,MATCH($B2344,$AZ$19:$AZ$1361,0),MATCH($AC$1,$BA$18:$BI$18,FALSE)),\"\")","v":{"$error":"#N/A"}},{"$f":"IF('Veg Guide Data Base'!$B67=\"Yes\",'Veg Guide Data Base'!BW67,\"\")","v":{"$error":"#N/A"}},{"$f":"IF('Veg Guide Data Base'!$B67=\"Yes\",'Veg Guide Data Base'!BX67,\"\")","v":{"$error":"#N/A"}},{"$f":"IF('Veg Guide Data Base'!$B67=\"Yes\",'Veg Guide Data Base'!BY67,\"\")","v":{"$error":"#N/A"}},null,null,""]
["",{"$f":"IF('Veg Guide Data Base'!B69=\"Yes\",'Veg Guide Data Base'!AZ69,\"\")","v":{"$error":"#N/A"}},{"$f":"IF('Veg Guide Data Base'!$B69=\"Yes\",'Veg Guide Data Base'!BL69,\"\")","v":{"$error":"#N/A"}},{"$f":"IF('Veg Guide Data Base'!$B69=\"Yes\",'Veg Guide Data Base'!BM69,\"\")","v":{"$error":"#N/A"}},{"$f":"IF('Veg Guide Data Base'!$B69=\"Yes\",'Veg Guide Data Base'!BJ69,\"\")","v":{"$error":"#N/A"}},{"$f":"IF('Veg Guide Data Base'!$B69=\"Yes\",'Veg Guide Data Base'!BK69,\"\")","v":{"$error":"#N/A"}},{"$f":"IF($A$2=\"All Species\",0,IF('Veg Guide Data Base'!$B69=\"Yes\",INDEX($ED$19:$ET$1000,MATCH($B2346,$AZ$19:$AZ$1000,0),MATCH($A$2,$ED$18:$EU$18,0)),\"\"))","v":0},{"$f":"IF($A$2=\"All Species\",0,IF('Veg Guide Data Base'!$B69=\"Yes\",INDEX($EV$19:$FL$1000,MATCH($B2346,$AZ$19:$AZ$1000,0),MATCH($A$2,$EV$18:$FL$18,0)),\"\"))","v":0},{"$f":"IF(B2346=\"\",\"No\",\"Yes\")","v":{"$error":"#N/A"}},{"$f":"IF($B2346<>\"\",INDEX($BA$19:$BI$600,MATCH($B2346,$AZ$19:$AZ$1361,0),MATCH($AC$1,$BA$18:$BI$18,FALSE)),\"\")","v":{"$error":"#N/A"}},{"$f":"IF('Veg Guide Data Base'!$B69=\"Yes\",'Veg Guide Data Base'!BW69,\"\")","v":{"$error":"#N/A"}},{"$f":"IF('Veg Guide Data Base'!$B69=\"Yes\",'Veg Guide Data Base'!BX69,\"\")","v":{"$error":"#N/A"}},{"$f":"IF('Veg Guide Data Base'!$B69=\"Yes\",'Veg Guide Data Base'!BY69,\"\")","v":{"$error":"#N/A"}},null,null,""]
["",{"$f":"IF('Veg Guide Data Base'!B96=\"Yes\",'Veg Guide Data Base'!AZ96,\"\")","v":{"$error":"#N/A"}},{"$f":"IF('Veg Guide Data Base'!$B96=\"Yes\",'Veg Guide Data Base'!BL96,\"\")","v":{"$error":"#N/A"}},{"$f":"IF('Veg Guide Data Base'!$B96=\"Yes\",'Veg Guide Data Base'!BM96,\"\")","v":{"$error":"#N/A"}},{"$f":"IF('Veg Guide Data Base'!$B96=\"Yes\",'Veg Guide Data Base'!BJ96,\"\")","v":{"$error":"#N/A"}},{"$f":"IF('Veg Guide Data Base'!$B96=\"Yes\",'Veg Guide Data Base'!BK96,\"\")","v":{"$error":"#N/A"}},{"$f":"IF($A$2=\"All Species\",0,IF('Veg Guide Data Base'!$B96=\"Yes\",INDEX($ED$19:$ET$1000,MATCH($B2355,$AZ$19:$AZ$1000,0),MATCH($A$2,$ED$18:$EU$18,0)),\"\"))","v":0},{"$f":"IF($A$2=\"All Species\",0,IF('Veg Guide Data Base'!$B96=\"Yes\",INDEX($EV$19:$FL$1000,MATCH($B2355,$AZ$19:$AZ$1000,0),MATCH($A$2,$EV$18:$FL$18,0)),\"\"))","v":0},{"$f":"IF(B2355=\"\",\"No\",\"Yes\")","v":{"$error":"#N/A"}},{"$f":"IF($B2355<>\"\",INDEX($BA$19:$BI$600,MATCH($B2355,$AZ$19:$AZ$1361,0),MATCH($AC$1,$BA$18:$BI$18,FALSE)),\"\")","v":{"$error":"#N/A"}},{"$f":"IF('Veg Guide Data Base'!$B96=\"Yes\",'Veg Guide Data Base'!BW96,\"\")","v":{"$error":"#N/A"}},{"$f":"IF('Veg Guide Data Base'!$B96=\"Yes\",'Veg Guide Data Base'!BX96,\"\")","v":{"$error":"#N/A"}},{"$f":"IF('Veg Guide Data Base'!$B96=\"Yes\",'Veg Guide Data Base'!BY96,\"\")","v":{"$error":"#N/A"}},null,null,""]
["",{"$f":"IF('Veg Guide Data Base'!B108=\"Yes\",'Veg Guide Data Base'!AZ108,\"\")","v":{"$error":"#N/A"}},{"$f":"IF('Veg Guide Data Base'!$B108=\"Yes\",'Veg Guide Data Base'!BL108,\"\")","v":{"$error":"#N/A"}},{"$f":"IF('Veg Guide Data Base'!$B108=\"Yes\",'Veg Guide Data Base'!BM108,\"\")","v":{"$error":"#N/A"}},{"$f":"IF('Veg Guide Data Base'!$B108=\"Yes\",'Veg Guide Data Base'!BJ108,\"\")","v":{"$error":"#N/A"}},{"$f":"IF('Veg Guide Data Base'!$B108=\"Yes\",'Veg Guide Data Base'!BK108,\"\")","v":{"$error":"#N/A"}},{"$f":"IF($A$2=\"All Species\",0,IF('Veg Guide Data Base'!$B108=\"Yes\",INDEX($ED$19:$ET$1000,MATCH($B2362,$AZ$19:$AZ$1000,0),MATCH($A$2,$ED$18:$EU$18,0)),\"\"))","v":0},{"$f":"IF($A$2=\"All Species\",0,IF('Veg Guide Data Base'!$B108=\"Yes\",INDEX($EV$19:$FL$1000,MATCH($B2362,$AZ$19:$AZ$1000,0),MATCH($A$2,$EV$18:$FL$18,0)),\"\"))","v":0},{"$f":"IF(B2362=\"\",\"No\",\"Yes\")","v":{"$error":"#N/A"}},{"$f":"IF($B2362<>\"\",INDEX($BA$19:$BI$600,MATCH($B2362,$AZ$19:$AZ$1361,0),MATCH($AC$1,$BA$18:$BI$18,FALSE)),\"\")","v":{"$error":"#N/A"}},{"$f":"IF('Veg Guide Data Base'!$B108=\"Yes\",'Veg Guide Data Base'!BW108,\"\")","v":{"$error":"#N/A"}},{"$f":"IF('Veg Guide Data Base'!$B108=\"Yes\",'Veg Guide Data Base'!BX108,\"\")","v":{"$error":"#N/A"}},{"$f":"IF('Veg Guide Data Base'!$B108=\"Yes\",'Veg Guide Data Base'!BY108,\"\")","v":{"$error":"#N/A"}},null,null,""]
["",{"$f":"IF('Veg Guide Data Base'!B123=\"Yes\",'Veg Guide Data Base'!AZ123,\"\")","v":{"$error":"#N/A"}},{"$f":"IF('Veg Guide Data Base'!$B123=\"Yes\",'Veg Guide Data Base'!BL123,\"\")","v":{"$error":"#N/A"}},{"$f":"IF('Veg Guide Data Base'!$B123=\"Yes\",'Veg Guide Data Base'!BM123,\"\")","v":{"$error":"#N/A"}},{"$f":"IF('Veg Guide Data Base'!$B123=\"Yes\",'Veg Guide Data Base'!BJ123,\"\")","v":{"$error":"#N/A"}},{"$f":"IF('Veg Guide Data Base'!$B123=\"Yes\",'Veg Guide Data Base'!BK123,\"\")","v":{"$error":"#N/A"}},{"$f":"IF($A$2=\"All Species\",0,IF('Veg Guide Data Base'!$B123=\"Yes\",INDEX($ED$19:$ET$1000,MATCH($B2368,$AZ$19:$AZ$1000,0),MATCH($A$2,$ED$18:$EU$18,0)),\"\"))","v":0},{"$f":"IF($A$2=\"All Species\",0,IF('Veg Guide Data Base'!$B123=\"Yes\",INDEX($EV$19:$FL$1000,MATCH($B2368,$AZ$19:$AZ$1000,0),MATCH($A$2,$EV$18:$FL$18,0)),\"\"))","v":0},{"$f":"IF(B2368=\"\",\"No\",\"Yes\")","v":{"$error":"#N/A"}},{"$f":"IF($B2368<>\"\",INDEX($BA$19:$BI$600,MATCH($B2368,$AZ$19:$AZ$1361,0),MATCH($AC$1,$BA$18:$BI$18,FALSE)),\"\")","v":{"$error":"#N/A"}},{"$f":"IF('Veg Guide Data Base'!$B123=\"Yes\",'Veg Guide Data Base'!BW123,\"\")","v":{"$error":"#N/A"}},{"$f":"IF('Veg Guide Data Base'!$B123=\"Yes\",'Veg Guide Data Base'!BX123,\"\")","v":{"$error":"#N/A"}},{"$f":"IF('Veg Guide Data Base'!$B123=\"Yes\",'Veg Guide Data Base'!BY123,\"\")","v":{"$error":"#N/A"}},null,null,""]
["",{"$f":"IF('Veg Guide Data Base'!B129=\"Yes\",'Veg Guide Data Base'!AZ129,\"\")","v":{"$error":"#N/A"}},{"$f":"IF('Veg Guide Data Base'!$B129=\"Yes\",'Veg Guide Data Base'!BL129,\"\")","v":{"$error":"#N/A"}},{"$f":"IF('Veg Guide Data Base'!$B129=\"Yes\",'Veg Guide Data Base'!BM129,\"\")","v":{"$error":"#N/A"}},{"$f":"IF('Veg Guide Data Base'!$B129=\"Yes\",'Veg Guide Data Base'!BJ129,\"\")","v":{"$error":"#N/A"}},{"$f":"IF('Veg Guide Data Base'!$B129=\"Yes\",'Veg Guide Data Base'!BK129,\"\")","v":{"$error":"#N/A"}},{"$f":"IF($A$2=\"All Species\",0,IF('Veg Guide Data Base'!$B129=\"Yes\",INDEX($ED$19:$ET$1000,MATCH($B2371,$AZ$19:$AZ$1000,0),MATCH($A$2,$ED$18:$EU$18,0)),\"\"))","v":0},{"$f":"IF($A$2=\"All Species\",0,IF('Veg Guide Data Base'!$B129=\"Yes\",INDEX($EV$19:$FL$1000,MATCH($B2371,$AZ$19:$AZ$1000,0),MATCH($A$2,$EV$18:$FL$18,0)),\"\"))","v":0},{"$f":"IF(B2371=\"\",\"No\",\"Yes\")","v":{"$error":"#N/A"}},{"$f":"IF($B2371<>\"\",INDEX($BA$19:$BI$600,MATCH($B2371,$AZ$19:$AZ$1361,0),MATCH($AC$1,$BA$18:$BI$18,FALSE)),\"\")","v":{"$error":"#N/A"}},{"$f":"IF('Veg Guide Data Base'!$B129=\"Yes\",'Veg Guide Data Base'!BW129,\"\")","v":{"$error":"#N/A"}},{"$f":"IF('Veg Guide Data Base'!$B129=\"Yes\",'Veg Guide Data Base'!BX129,\"\")","v":{"$error":"#N/A"}},{"$f":"IF('Veg Guide Data Base'!$B129=\"Yes\",'Veg Guide Data Base'!BY129,\"\")","v":{"$error":"#N/A"}},null,null,""]
["",{"$f":"IF('Veg Guide Data Base'!B163=\"Yes\",'Veg Guide Data Base'!AZ163,\"\")","v":{"$error":"#N/A"}},{"$f":"IF('Veg Guide Data Base'!$B163=\"Yes\",'Veg Guide Data Base'!BL163,\"\")","v":{"$error":"#N/A"}},{"$f":"IF('Veg Guide Data Base'!$B163=\"Yes\",'Veg Guide Data Base'!BM163,\"\")","v":{"$error":"#N/A"}},{"$f":"IF('Veg Guide Data Base'!$B163=\"Yes\",'Veg Guide Data Base'!BJ163,\"\")","v":{"$error":"#N/A"}},{"$f":"IF('Veg Guide Data Base'!$B163=\"Yes\",'Veg Guide Data Base'!BK163,\"\")","v":{"$error":"#N/A"}},{"$f":"IF($A$2=\"All Species\",0,IF('Veg Guide Data Base'!$B163=\"Yes\",INDEX($ED$19:$ET$1000,MATCH($B2380,$AZ$19:$AZ$1000,0),MATCH($A$2,$ED$18:$EU$18,0)),\"\"))","v":0},{"$f":"IF($A$2=\"All Species\",0,IF('Veg Guide Data Base'!$B163=\"Yes\",INDEX($EV$19:$FL$1000,MATCH($B2380,$AZ$19:$AZ$1000,0),MATCH($A$2,$EV$18:$FL$18,0)),\"\"))","v":0},{"$f":"IF(B2380=\"\",\"No\",\"Yes\")","v":{"$error":"#N/A"}},{"$f":"IF($B2380<>\"\",INDEX($BA$19:$BI$600,MATCH($B2380,$AZ$19:$AZ$1361,0),MATCH($AC$1,$BA$18:$BI$18,FALSE)),\"\")","v":{"$error":"#N/A"}},{"$f":"IF('Veg Guide Data Base'!$B163=\"Yes\",'Veg Guide Data Base'!BW163,\"\")","v":{"$error":"#N/A"}},{"$f":"IF('Veg Guide Data Base'!$B163=\"Yes\",'Veg Guide Data Base'!BX163,\"\")","v":{"$error":"#N/A"}},{"$f":"IF('Veg Guide Data Base'!$B163=\"Yes\",'Veg Guide Data Base'!BY163,\"\")","v":{"$error":"#N/A"}},null,null,""]
["",{"$f":"IF('Veg Guide Data Base'!B166=\"Yes\",'Veg Guide Data Base'!AZ166,\"\")","v":{"$error":"#N/A"}},{"$f":"IF('Veg Guide Data Base'!$B166=\"Yes\",'Veg Guide Data Base'!BL166,\"\")","v":{"$error":"#N/A"}},{"$f":"IF('Veg Guide Data Base'!$B166=\"Yes\",'Veg Guide Data Base'!BM166,\"\")","v":{"$error":"#N/A"}},{"$f":"IF('Veg Guide Data Base'!$B166=\"Yes\",'Veg Guide Data Base'!BJ166,\"\")","v":{"$error":"#N/A"}},{"$f":"IF('Veg Guide Data Base'!$B166=\"Yes\",'Veg Guide Data Base'!BK166,\"\")","v":{"$error":"#N/A"}},{"$f":"IF($A$2=\"All Species\",0,IF('Veg Guide Data Base'!$B166=\"Yes\",INDEX($ED$19:$ET$1000,MATCH($B2383,$AZ$19:$AZ$1000,0),MATCH($A$2,$ED$18:$EU$18,0)),\"\"))","v":0},{"$f":"IF($A$2=\"All Species\",0,IF('Veg Guide Data Base'!$B166=\"Yes\",INDEX($EV$19:$FL$1000,MATCH($B2383,$AZ$19:$AZ$1000,0),MATCH($A$2,$EV$18:$FL$18,0)),\"\"))","v":0},{"$f":"IF(B2383=\"\",\"No\",\"Yes\")","v":{"$error":"#N/A"}},{"$f":"IF($B2383<>\"\",INDEX($BA$19:$BI$600,MATCH($B2383,$AZ$19:$AZ$1361,0),MATCH($AC$1,$BA$18:$BI$18,FALSE)),\"\")","v":{"$error":"#N/A"}},{"$f":"IF('Veg Guide Data Base'!$B166=\"Yes\",'Veg Guide Data Base'!BW166,\"\")","v":{"$error":"#N/A"}},{"$f":"IF('Veg Guide Data Base'!$B166=\"Yes\",'Veg Guide Data Base'!BX166,\"\")","v":{"$error":"#N/A"}},{"$f":"IF('Veg Guide Data Base'!$B166=\"Yes\",'Veg Guide Data Base'!BY166,\"\")","v":{"$error":"#N/A"}},null,null,""]
["",{"$f":"IF('Veg Guide Data Base'!B196=\"Yes\",'Veg Guide Data Base'!AZ196,\"\")","v":{"$error":"#N/A"}},{"$f":"IF('Veg Guide Data Base'!$B196=\"Yes\",'Veg Guide Data Base'!BL196,\"\")","v":{"$error":"#N/A"}},{"$f":"IF('Veg Guide Data Base'!$B196=\"Yes\",'Veg Guide Data Base'!BM196,\"\")","v":{"$error":"#N/A"}},{"$f":"IF('Veg Guide Data Base'!$B196=\"Yes\",'Veg Guide Data Base'!BJ196,\"\")","v":{"$error":"#N/A"}},{"$f":"IF('Veg Guide Data Base'!$B196=\"Yes\",'Veg Guide Data Base'!BK196,\"\")","v":{"$error":"#N/A"}},{"$f":"IF($A$2=\"All Species\",0,IF('Veg Guide Data Base'!$B196=\"Yes\",INDEX($ED$19:$ET$1000,MATCH($B2388,$AZ$19:$AZ$1000,0),MATCH($A$2,$ED$18:$EU$18,0)),\"\"))","v":0},{"$f":"IF($A$2=\"All Species\",0,IF('Veg Guide Data Base'!$B196=\"Yes\",INDEX($EV$19:$FL$1000,MATCH($B2388,$AZ$19:$AZ$1000,0),MATCH($A$2,$EV$18:$FL$18,0)),\"\"))","v":0},{"$f":"IF(B2388=\"\",\"No\",\"Yes\")","v":{"$error":"#N/A"}},{"$f":"IF($B2388<>\"\",INDEX($BA$19:$BI$600,MATCH($B2388,$AZ$19:$AZ$1361,0),MATCH($AC$1,$BA$18:$BI$18,FALSE)),\"\")","v":{"$error":"#N/A"}},{"$f":"IF('Veg Guide Data Base'!$B196=\"Yes\",'Veg Guide Data Base'!BW196,\"\")","v":{"$error":"#N/A"}},{"$f":"IF('Veg Guide Data Base'!$B196=\"Yes\",'Veg Guide Data Base'!BX196,\"\")","v":{"$error":"#N/A"}},{"$f":"IF('Veg Guide Data Base'!$B196=\"Yes\",'Veg Guide Data Base'!BY196,\"\")","v":{"$error":"#N/A"}},null,null,""]
["",{"$f":"IF('Veg Guide Data Base'!B204=\"Yes\",'Veg Guide Data Base'!AZ204,\"\")","v":{"$error":"#N/A"}},{"$f":"IF('Veg Guide Data Base'!$B204=\"Yes\",'Veg Guide Data Base'!BL204,\"\")","v":{"$error":"#N/A"}},{"$f":"IF('Veg Guide Data Base'!$B204=\"Yes\",'Veg Guide Data Base'!BM204,\"\")","v":{"$error":"#N/A"}},{"$f":"IF('Veg Guide Data Base'!$B204=\"Yes\",'Veg Guide Data Base'!BJ204,\"\")","v":{"$error":"#N/A"}},{"$f":"IF('Veg Guide Data Base'!$B204=\"Yes\",'Veg Guide Data Base'!BK204,\"\")","v":{"$error":"#N/A"}},{"$f":"IF($A$2=\"All Species\",0,IF('Veg Guide Data Base'!$B204=\"Yes\",INDEX($ED$19:$ET$1000,MATCH($B2392,$AZ$19:$AZ$1000,0),MATCH($A$2,$ED$18:$EU$18,0)),\"\"))","v":0},{"$f":"IF($A$2=\"All Species\",0,IF('Veg Guide Data Base'!$B204=\"Yes\",INDEX($EV$19:$FL$1000,MATCH($B2392,$AZ$19:$AZ$1000,0),MATCH($A$2,$EV$18:$FL$18,0)),\"\"))","v":0},{"$f":"IF(B2392=\"\",\"No\",\"Yes\")","v":{"$error":"#N/A"}},{"$f":"IF($B2392<>\"\",INDEX($BA$19:$BI$600,MATCH($B2392,$AZ$19:$AZ$1361,0),MATCH($AC$1,$BA$18:$BI$18,FALSE)),\"\")","v":{"$error":"#N/A"}},{"$f":"IF('Veg Guide Data Base'!$B204=\"Yes\",'Veg Guide Data Base'!BW204,\"\")","v":{"$error":"#N/A"}},{"$f":"IF('Veg Guide Data Base'!$B204=\"Yes\",'Veg Guide Data Base'!BX204,\"\")","v":{"$error":"#N/A"}},{"$f":"IF('Veg Guide Data Base'!$B204=\"Yes\",'Veg Guide Data Base'!BY204,\"\")","v":{"$error":"#N/A"}},null,null,""]
["",{"$f":"IF('Veg Guide Data Base'!B250=\"Yes\",'Veg Guide Data Base'!AZ250,\"\")","v":{"$error":"#N/A"}},{"$f":"IF('Veg Guide Data Base'!$B250=\"Yes\",'Veg Guide Data Base'!BL250,\"\")","v":{"$error":"#N/A"}},{"$f":"IF('Veg Guide Data Base'!$B250=\"Yes\",'Veg Guide Data Base'!BM250,\"\")","v":{"$error":"#N/A"}},{"$f":"IF('Veg Guide Data Base'!$B250=\"Yes\",'Veg Guide Data Base'!BJ250,\"\")","v":{"$error":"#N/A"}},{"$f":"IF('Veg Guide Data Base'!$B250=\"Yes\",'Veg Guide Data Base'!BK250,\"\")","v":{"$error":"#N/A"}},{"$f":"IF($A$2=\"All Species\",0,IF('Veg Guide Data Base'!$B250=\"Yes\",INDEX($ED$19:$ET$1000,MATCH($B2399,$AZ$19:$AZ$1000,0),MATCH($A$2,$ED$18:$EU$18,0)),\"\"))","v":0},{"$f":"IF($A$2=\"All Species\",0,IF('Veg Guide Data Base'!$B250=\"Yes\",INDEX($EV$19:$FL$1000,MATCH($B2399,$AZ$19:$AZ$1000,0),MATCH($A$2,$EV$18:$FL$18,0)),\"\"))","v":0},{"$f":"IF(B2399=\"\",\"No\",\"Yes\")","v":{"$error":"#N/A"}},{"$f":"IF($B2399<>\"\",INDEX($BA$19:$BI$600,MATCH($B2399,$AZ$19:$AZ$1361,0),MATCH($AC$1,$BA$18:$BI$18,FALSE)),\"\")","v":{"$error":"#N/A"}},{"$f":"IF('Veg Guide Data Base'!$B250=\"Yes\",'Veg Guide Data Base'!BW250,\"\")","v":{"$error":"#N/A"}},{"$f":"IF('Veg Guide Data Base'!$B250=\"Yes\",'Veg Guide Data Base'!BX250,\"\")","v":{"$error":"#N/A"}},{"$f":"IF('Veg Guide Data Base'!$B250=\"Yes\",'Veg Guide Data Base'!BY250,\"\")","v":{"$error":"#N/A"}},null,null,""]
["",{"$f":"IF('Veg Guide Data Base'!B269=\"Yes\",'Veg Guide Data Base'!AZ269,\"\")","v":{"$error":"#N/A"}},{"$f":"IF('Veg Guide Data Base'!$B269=\"Yes\",'Veg Guide Data Base'!BL269,\"\")","v":{"$error":"#N/A"}},{"$f":"IF('Veg Guide Data Base'!$B269=\"Yes\",'Veg Guide Data Base'!BM269,\"\")","v":{"$error":"#N/A"}},{"$f":"IF('Veg Guide Data Base'!$B269=\"Yes\",'Veg Guide Data Base'!BJ269,\"\")","v":{"$error":"#N/A"}},{"$f":"IF('Veg Guide Data Base'!$B269=\"Yes\",'Veg Guide Data Base'!BK269,\"\")","v":{"$error":"#N/A"}},{"$f":"IF($A$2=\"All Species\",0,IF('Veg Guide Data Base'!$B269=\"Yes\",INDEX($ED$19:$ET$1000,MATCH($B2408,$AZ$19:$AZ$1000,0),MATCH($A$2,$ED$18:$EU$18,0)),\"\"))","v":0},{"$f":"IF($A$2=\"All Species\",0,IF('Veg Guide Data Base'!$B269=\"Yes\",INDEX($EV$19:$FL$1000,MATCH($B2408,$AZ$19:$AZ$1000,0),MATCH($A$2,$EV$18:$FL$18,0)),\"\"))","v":0},{"$f":"IF(B2408=\"\",\"No\",\"Yes\")","v":{"$error":"#N/A"}},{"$f":"IF($B2408<>\"\",INDEX($BA$19:$BI$600,MATCH($B2408,$AZ$19:$AZ$1361,0),MATCH($AC$1,$BA$18:$BI$18,FALSE)),\"\")","v":{"$error":"#N/A"}},{"$f":"IF('Veg Guide Data Base'!$B269=\"Yes\",'Veg Guide Data Base'!BW269,\"\")","v":{"$error":"#N/A"}},{"$f":"IF('Veg Guide Data Base'!$B269=\"Yes\",'Veg Guide Data Base'!BX269,\"\")","v":{"$error":"#N/A"}},{"$f":"IF('Veg Guide Data Base'!$B269=\"Yes\",'Veg Guide Data Base'!BY269,\"\")","v":{"$error":"#N/A"}},null,null,""]
["",{"$f":"IF('Veg Guide Data Base'!B276=\"Yes\",'Veg Guide Data Base'!AZ276,\"\")","v":{"$error":"#N/A"}},{"$f":"IF('Veg Guide Data Base'!$B276=\"Yes\",'Veg Guide Data Base'!BL276,\"\")","v":{"$error":"#N/A"}},{"$f":"IF('Veg Guide Data Base'!$B276=\"Yes\",'Veg Guide Data Base'!BM276,\"\")","v":{"$error":"#N/A"}},{"$f":"IF('Veg Guide Data Base'!$B276=\"Yes\",'Veg Guide Data Base'!BJ276,\"\")","v":{"$error":"#N/A"}},{"$f":"IF('Veg Guide Data Base'!$B276=\"Yes\",'Veg Guide Data Base'!BK276,\"\")","v":{"$error":"#N/A"}},{"$f":"IF($A$2=\"All Species\",0,IF('Veg Guide Data Base'!$B276=\"Yes\",INDEX($ED$19:$ET$1000,MATCH($B2412,$AZ$19:$AZ$1000,0),MATCH($A$2,$ED$18:$EU$18,0)),\"\"))","v":0},{"$f":"IF($A$2=\"All Species\",0,IF('Veg Guide Data Base'!$B276=\"Yes\",INDEX($EV$19:$FL$1000,MATCH($B2412,$AZ$19:$AZ$1000,0),MATCH($A$2,$EV$18:$FL$18,0)),\"\"))","v":0},{"$f":"IF(B2412=\"\",\"No\",\"Yes\")","v":{"$error":"#N/A"}},{"$f":"IF($B2412<>\"\",INDEX($BA$19:$BI$600,MATCH($B2412,$AZ$19:$AZ$1361,0),MATCH($AC$1,$BA$18:$BI$18,FALSE)),\"\")","v":{"$error":"#N/A"}},{"$f":"IF('Veg Guide Data Base'!$B276=\"Yes\",'Veg Guide Data Base'!BW276,\"\")","v":{"$error":"#N/A"}},{"$f":"IF('Veg Guide Data Base'!$B276=\"Yes\",'Veg Guide Data Base'!BX276,\"\")","v":{"$error":"#N/A"}},{"$f":"IF('Veg Guide Data Base'!$B276=\"Yes\",'Veg Guide Data Base'!BY276,\"\")","v":{"$error":"#N/A"}},null,null,""]
["",{"$f":"IF('Veg Guide Data Base'!B287=\"Yes\",'Veg Guide Data Base'!AZ287,\"\")","v":{"$error":"#N/A"}},{"$f":"IF('Veg Guide Data Base'!$B287=\"Yes\",'Veg Guide Data Base'!BL287,\"\")","v":{"$error":"#N/A"}},{"$f":"IF('Veg Guide Data Base'!$B287=\"Yes\",'Veg Guide Data Base'!BM287,\"\")","v":{"$error":"#N/A"}},{"$f":"IF('Veg Guide Data Base'!$B287=\"Yes\",'Veg Guide Data Base'!BJ287,\"\")","v":{"$error":"#N/A"}},{"$f":"IF('Veg Guide Data Base'!$B287=\"Yes\",'Veg Guide Data Base'!BK287,\"\")","v":{"$error":"#N/A"}},{"$f":"IF($A$2=\"All Species\",0,IF('Veg Guide Data Base'!$B287=\"Yes\",INDEX($ED$19:$ET$1000,MATCH($B2417,$AZ$19:$AZ$1000,0),MATCH($A$2,$ED$18:$EU$18,0)),\"\"))","v":0},{"$f":"IF($A$2=\"All Species\",0,IF('Veg Guide Data Base'!$B287=\"Yes\",INDEX($EV$19:$FL$1000,MATCH($B2417,$AZ$19:$AZ$1000,0),MATCH($A$2,$EV$18:$FL$18,0)),\"\"))","v":0},{"$f":"IF(B2417=\"\",\"No\",\"Yes\")","v":{"$error":"#N/A"}},{"$f":"IF($B2417<>\"\",INDEX($BA$19:$BI$600,MATCH($B2417,$AZ$19:$AZ$1361,0),MATCH($AC$1,$BA$18:$BI$18,FALSE)),\"\")","v":{"$error":"#N/A"}},{"$f":"IF('Veg Guide Data Base'!$B287=\"Yes\",'Veg Guide Data Base'!BW287,\"\")","v":{"$error":"#N/A"}},{"$f":"IF('Veg Guide Data Base'!$B287=\"Yes\",'Veg Guide Data Base'!BX287,\"\")","v":{"$error":"#N/A"}},{"$f":"IF('Veg Guide Data Base'!$B287=\"Yes\",'Veg Guide Data Base'!BY287,\"\")","v":{"$error":"#N/A"}},null,null,""]
["",{"$f":"IF('Veg Guide Data Base'!B306=\"Yes\",'Veg Guide Data Base'!AZ306,\"\")","v":{"$error":"#N/A"}},{"$f":"IF('Veg Guide Data Base'!$B306=\"Yes\",'Veg Guide Data Base'!BL306,\"\")","v":{"$error":"#N/A"}},{"$f":"IF('Veg Guide Data Base'!$B306=\"Yes\",'Veg Guide Data Base'!BM306,\"\")","v":{"$error":"#N/A"}},{"$f":"IF('Veg Guide Data Base'!$B306=\"Yes\",'Veg Guide Data Base'!BJ306,\"\")","v":{"$error":"#N/A"}},{"$f":"IF('Veg Guide Data Base'!$B306=\"Yes\",'Veg Guide Data Base'!BK306,\"\")","v":{"$error":"#N/A"}},{"$f":"IF($A$2=\"All Species\",0,IF('Veg Guide Data Base'!$B306=\"Yes\",INDEX($ED$19:$ET$1000,MATCH($B2426,$AZ$19:$AZ$1000,0),MATCH($A$2,$ED$18:$EU$18,0)),\"\"))","v":0},{"$f":"IF($A$2=\"All Species\",0,IF('Veg Guide Data Base'!$B306=\"Yes\",INDEX($EV$19:$FL$1000,MATCH($B2426,$AZ$19:$AZ$1000,0),MATCH($A$2,$EV$18:$FL$18,0)),\"\"))","v":0},{"$f":"IF(B2426=\"\",\"No\",\"Yes\")","v":{"$error":"#N/A"}},{"$f":"IF($B2426<>\"\",INDEX($BA$19:$BI$600,MATCH($B2426,$AZ$19:$AZ$1361,0),MATCH($AC$1,$BA$18:$BI$18,FALSE)),\"\")","v":{"$error":"#N/A"}},{"$f":"IF('Veg Guide Data Base'!$B306=\"Yes\",'Veg Guide Data Base'!BW306,\"\")","v":{"$error":"#N/A"}},{"$f":"IF('Veg Guide Data Base'!$B306=\"Yes\",'Veg Guide Data Base'!BX306,\"\")","v":{"$error":"#N/A"}},{"$f":"IF('Veg Guide Data Base'!$B306=\"Yes\",'Veg Guide Data Base'!BY306,\"\")","v":{"$error":"#N/A"}},null,null,""]
["",{"$f":"IF('Veg Guide Data Base'!B332=\"Yes\",'Veg Guide Data Base'!AZ332,\"\")","v":{"$error":"#N/A"}},{"$f":"IF('Veg Guide Data Base'!$B332=\"Yes\",'Veg Guide Data Base'!BL332,\"\")","v":{"$error":"#N/A"}},{"$f":"IF('Veg Guide Data Base'!$B332=\"Yes\",'Veg Guide Data Base'!BM332,\"\")","v":{"$error":"#N/A"}},{"$f":"IF('Veg Guide Data Base'!$B332=\"Yes\",'Veg Guide Data Base'!BJ332,\"\")","v":{"$error":"#N/A"}},{"$f":"IF('Veg Guide Data Base'!$B332=\"Yes\",'Veg Guide Data Base'!BK332,\"\")","v":{"$error":"#N/A"}},{"$f":"IF($A$2=\"All Species\",0,IF('Veg Guide Data Base'!$B332=\"Yes\",INDEX($ED$19:$ET$1000,MATCH($B2429,$AZ$19:$AZ$1000,0),MATCH($A$2,$ED$18:$EU$18,0)),\"\"))","v":0},{"$f":"IF($A$2=\"All Species\",0,IF('Veg Guide Data Base'!$B332=\"Yes\",INDEX($EV$19:$FL$1000,MATCH($B2429,$AZ$19:$AZ$1000,0),MATCH($A$2,$EV$18:$FL$18,0)),\"\"))","v":0},{"$f":"IF(B2429=\"\",\"No\",\"Yes\")","v":{"$error":"#N/A"}},{"$f":"IF($B2429<>\"\",INDEX($BA$19:$BI$600,MATCH($B2429,$AZ$19:$AZ$1361,0),MATCH($AC$1,$BA$18:$BI$18,FALSE)),\"\")","v":{"$error":"#N/A"}},{"$f":"IF('Veg Guide Data Base'!$B332=\"Yes\",'Veg Guide Data Base'!BW332,\"\")","v":{"$error":"#N/A"}},{"$f":"IF('Veg Guide Data Base'!$B332=\"Yes\",'Veg Guide Data Base'!BX332,\"\")","v":{"$error":"#N/A"}},{"$f":"IF('Veg Guide Data Base'!$B332=\"Yes\",'Veg Guide Data Base'!BY332,\"\")","v":{"$error":"#N/A"}},null,null,""]
["",{"$f":"IF('Veg Guide Data Base'!B346=\"Yes\",'Veg Guide Data Base'!AZ346,\"\")","v":{"$error":"#N/A"}},{"$f":"IF('Veg Guide Data Base'!$B346=\"Yes\",'Veg Guide Data Base'!BL346,\"\")","v":{"$error":"#N/A"}},{"$f":"IF('Veg Guide Data Base'!$B346=\"Yes\",'Veg Guide Data Base'!BM346,\"\")","v":{"$error":"#N/A"}},{"$f":"IF('Veg Guide Data Base'!$B346=\"Yes\",'Veg Guide Data Base'!BJ346,\"\")","v":{"$error":"#N/A"}},{"$f":"IF('Veg Guide Data Base'!$B346=\"Yes\",'Veg Guide Data Base'!BK346,\"\")","v":{"$error":"#N/A"}},{"$f":"IF($A$2=\"All Species\",0,IF('Veg Guide Data Base'!$B346=\"Yes\",INDEX($ED$19:$ET$1000,MATCH($B2437,$AZ$19:$AZ$1000,0),MATCH($A$2,$ED$18:$EU$18,0)),\"\"))","v":0},{"$f":"IF($A$2=\"All Species\",0,IF('Veg Guide Data Base'!$B346=\"Yes\",INDEX($EV$19:$FL$1000,MATCH($B2437,$AZ$19:$AZ$1000,0),MATCH($A$2,$EV$18:$FL$18,0)),\"\"))","v":0},{"$f":"IF(B2437=\"\",\"No\",\"Yes\")","v":{"$error":"#N/A"}},{"$f":"IF($B2437<>\"\",INDEX($BA$19:$BI$600,MATCH($B2437,$AZ$19:$AZ$1361,0),MATCH($AC$1,$BA$18:$BI$18,FALSE)),\"\")","v":{"$error":"#N/A"}},{"$f":"IF('Veg Guide Data Base'!$B346=\"Yes\",'Veg Guide Data Base'!BW346,\"\")","v":{"$error":"#N/A"}},{"$f":"IF('Veg Guide Data Base'!$B346=\"Yes\",'Veg Guide Data Base'!BX346,\"\")","v":{"$error":"#N/A"}},{"$f":"IF('Veg Guide Data Base'!$B346=\"Yes\",'Veg Guide Data Base'!BY346,\"\")","v":{"$error":"#N/A"}},null,null,""]
["",{"$f":"IF('Veg Guide Data Base'!B348=\"Yes\",'Veg Guide Data Base'!AZ348,\"\")","v":{"$error":"#N/A"}},{"$f":"IF('Veg Guide Data Base'!$B348=\"Yes\",'Veg Guide Data Base'!BL348,\"\")","v":{"$error":"#N/A"}},{"$f":"IF('Veg Guide Data Base'!$B348=\"Yes\",'Veg Guide Data Base'!BM348,\"\")","v":{"$error":"#N/A"}},{"$f":"IF('Veg Guide Data Base'!$B348=\"Yes\",'Veg Guide Data Base'!BJ348,\"\")","v":{"$error":"#N/A"}},{"$f":"IF('Veg Guide Data Base'!$B348=\"Yes\",'Veg Guide Data Base'!BK348,\"\")","v":{"$error":"#N/A"}},{"$f":"IF($A$2=\"All Species\",0,IF('Veg Guide Data Base'!$B348=\"Yes\",INDEX($ED$19:$ET$1000,MATCH($B2438,$AZ$19:$AZ$1000,0),MATCH($A$2,$ED$18:$EU$18,0)),\"\"))","v":0},{"$f":"IF($A$2=\"All Species\",0,IF('Veg Guide Data Base'!$B348=\"Yes\",INDEX($EV$19:$FL$1000,MATCH($B2438,$AZ$19:$AZ$1000,0),MATCH($A$2,$EV$18:$FL$18,0)),\"\"))","v":0},{"$f":"IF(B2438=\"\",\"No\",\"Yes\")","v":{"$error":"#N/A"}},{"$f":"IF($B2438<>\"\",INDEX($BA$19:$BI$600,MATCH($B2438,$AZ$19:$AZ$1361,0),MATCH($AC$1,$BA$18:$BI$18,FALSE)),\"\")","v":{"$error":"#N/A"}},{"$f":"IF('Veg Guide Data Base'!$B348=\"Yes\",'Veg Guide Data Base'!BW348,\"\")","v":{"$error":"#N/A"}},{"$f":"IF('Veg Guide Data Base'!$B348=\"Yes\",'Veg Guide Data Base'!BX348,\"\")","v":{"$error":"#N/A"}},{"$f":"IF('Veg Guide Data Base'!$B348=\"Yes\",'Veg Guide Data Base'!BY348,\"\")","v":{"$error":"#N/A"}},null,null,""]
["",{"$f":"IF('Veg Guide Data Base'!B362=\"Yes\",'Veg Guide Data Base'!AZ362,\"\")","v":{"$error":"#N/A"}},{"$f":"IF('Veg Guide Data Base'!$B362=\"Yes\",'Veg Guide Data Base'!BL362,\"\")","v":{"$error":"#N/A"}},{"$f":"IF('Veg Guide Data Base'!$B362=\"Yes\",'Veg Guide Data Base'!BM362,\"\")","v":{"$error":"#N/A"}},{"$f":"IF('Veg Guide Data Base'!$B362=\"Yes\",'Veg Guide Data Base'!BJ362,\"\")","v":{"$error":"#N/A"}},{"$f":"IF('Veg Guide Data Base'!$B362=\"Yes\",'Veg Guide Data Base'!BK362,\"\")","v":{"$error":"#N/A"}},{"$f":"IF($A$2=\"All Species\",0,IF('Veg Guide Data Base'!$B362=\"Yes\",INDEX($ED$19:$ET$1000,MATCH($B2445,$AZ$19:$AZ$1000,0),MATCH($A$2,$ED$18:$EU$18,0)),\"\"))","v":0},{"$f":"IF($A$2=\"All Species\",0,IF('Veg Guide Data Base'!$B362=\"Yes\",INDEX($EV$19:$FL$1000,MATCH($B2445,$AZ$19:$AZ$1000,0),MATCH($A$2,$EV$18:$FL$18,0)),\"\"))","v":0},{"$f":"IF(B2445=\"\",\"No\",\"Yes\")","v":{"$error":"#N/A"}},{"$f":"IF($B2445<>\"\",INDEX($BA$19:$BI$600,MATCH($B2445,$AZ$19:$AZ$1361,0),MATCH($AC$1,$BA$18:$BI$18,FALSE)),\"\")","v":{"$error":"#N/A"}},{"$f":"IF('Veg Guide Data Base'!$B362=\"Yes\",'Veg Guide Data Base'!BW362,\"\")","v":{"$error":"#N/A"}},{"$f":"IF('Veg Guide Data Base'!$B362=\"Yes\",'Veg Guide Data Base'!BX362,\"\")","v":{"$error":"#N/A"}},{"$f":"IF('Veg Guide Data Base'!$B362=\"Yes\",'Veg Guide Data Base'!BY362,\"\")","v":{"$error":"#N/A"}},null,null,""]
["",{"$f":"IF('Veg Guide Data Base'!B407=\"Yes\",'Veg Guide Data Base'!AZ407,\"\")","v":{"$error":"#N/A"}},{"$f":"IF('Veg Guide Data Base'!$B407=\"Yes\",'Veg Guide Data Base'!BL407,\"\")","v":{"$error":"#N/A"}},{"$f":"IF('Veg Guide Data Base'!$B407=\"Yes\",'Veg Guide Data Base'!BM407,\"\")","v":{"$error":"#N/A"}},{"$f":"IF('Veg Guide Data Base'!$B407=\"Yes\",'Veg Guide Data Base'!BJ407,\"\")","v":{"$error":"#N/A"}},{"$f":"IF('Veg Guide Data Base'!$B407=\"Yes\",'Veg Guide Data Base'!BK407,\"\")","v":{"$error":"#N/A"}},{"$f":"IF($A$2=\"All Species\",0,IF('Veg Guide Data Base'!$B407=\"Yes\",INDEX($ED$19:$ET$1000,MATCH($B2454,$AZ$19:$AZ$1000,0),MATCH($A$2,$ED$18:$EU$18,0)),\"\"))","v":0},{"$f":"IF($A$2=\"All Species\",0,IF('Veg Guide Data Base'!$B407=\"Yes\",INDEX($EV$19:$FL$1000,MATCH($B2454,$AZ$19:$AZ$1000,0),MATCH($A$2,$EV$18:$FL$18,0)),\"\"))","v":0},{"$f":"IF(B2454=\"\",\"No\",\"Yes\")","v":{"$error":"#N/A"}},{"$f":"IF($B2454<>\"\",INDEX($BA$19:$BI$600,MATCH($B2454,$AZ$19:$AZ$1361,0),MATCH($AC$1,$BA$18:$BI$18,FALSE)),\"\")","v":{"$error":"#N/A"}},{"$f":"IF('Veg Guide Data Base'!$B407=\"Yes\",'Veg Guide Data Base'!BW407,\"\")","v":{"$error":"#N/A"}},{"$f":"IF('Veg Guide Data Base'!$B407=\"Yes\",'Veg Guide Data Base'!BX407,\"\")","v":{"$error":"#N/A"}},{"$f":"IF('Veg Guide Data Base'!$B407=\"Yes\",'Veg Guide Data Base'!BY407,\"\")","v":{"$error":"#N/A"}},null,null,""]
["",{"$f":"IF('Veg Guide Data Base'!B412=\"Yes\",'Veg Guide Data Base'!AZ412,\"\")","v":{"$error":"#N/A"}},{"$f":"IF('Veg Guide Data Base'!$B412=\"Yes\",'Veg Guide Data Base'!BL412,\"\")","v":{"$error":"#N/A"}},{"$f":"IF('Veg Guide Data Base'!$B412=\"Yes\",'Veg Guide Data Base'!BM412,\"\")","v":{"$error":"#N/A"}},{"$f":"IF('Veg Guide Data Base'!$B412=\"Yes\",'Veg Guide Data Base'!BJ412,\"\")","v":{"$error":"#N/A"}},{"$f":"IF('Veg Guide Data Base'!$B412=\"Yes\",'Veg Guide Data Base'!BK412,\"\")","v":{"$error":"#N/A"}},{"$f":"IF($A$2=\"All Species\",0,IF('Veg Guide Data Base'!$B412=\"Yes\",INDEX($ED$19:$ET$1000,MATCH($B2456,$AZ$19:$AZ$1000,0),MATCH($A$2,$ED$18:$EU$18,0)),\"\"))","v":0},{"$f":"IF($A$2=\"All Species\",0,IF('Veg Guide Data Base'!$B412=\"Yes\",INDEX($EV$19:$FL$1000,MATCH($B2456,$AZ$19:$AZ$1000,0),MATCH($A$2,$EV$18:$FL$18,0)),\"\"))","v":0},{"$f":"IF(B2456=\"\",\"No\",\"Yes\")","v":{"$error":"#N/A"}},{"$f":"IF($B2456<>\"\",INDEX($BA$19:$BI$600,MATCH($B2456,$AZ$19:$AZ$1361,0),MATCH($AC$1,$BA$18:$BI$18,FALSE)),\"\")","v":{"$error":"#N/A"}},{"$f":"IF('Veg Guide Data Base'!$B412=\"Yes\",'Veg Guide Data Base'!BW412,\"\")","v":{"$error":"#N/A"}},{"$f":"IF('Veg Guide Data Base'!$B412=\"Yes\",'Veg Guide Data Base'!BX412,\"\")","v":{"$error":"#N/A"}},{"$f":"IF('Veg Guide Data Base'!$B412=\"Yes\",'Veg Guide Data Base'!BY412,\"\")","v":{"$error":"#N/A"}},null,null,""]
["",{"$f":"IF('Veg Guide Data Base'!B435=\"Yes\",'Veg Guide Data Base'!AZ435,\"\")","v":{"$error":"#N/A"}},{"$f":"IF('Veg Guide Data Base'!$B435=\"Yes\",'Veg Guide Data Base'!BL435,\"\")","v":{"$error":"#N/A"}},{"$f":"IF('Veg Guide Data Base'!$B435=\"Yes\",'Veg Guide Data Base'!BM435,\"\")","v":{"$error":"#N/A"}},{"$f":"IF('Veg Guide Data Base'!$B435=\"Yes\",'Veg Guide Data Base'!BJ435,\"\")","v":{"$error":"#N/A"}},{"$f":"IF('Veg Guide Data Base'!$B435=\"Yes\",'Veg Guide Data Base'!BK435,\"\")","v":{"$error":"#N/A"}},{"$f":"IF($A$2=\"All Species\",0,IF('Veg Guide Data Base'!$B435=\"Yes\",INDEX($ED$19:$ET$1000,MATCH($B2463,$AZ$19:$AZ$1000,0),MATCH($A$2,$ED$18:$EU$18,0)),\"\"))","v":0},{"$f":"IF($A$2=\"All Species\",0,IF('Veg Guide Data Base'!$B435=\"Yes\",INDEX($EV$19:$FL$1000,MATCH($B2463,$AZ$19:$AZ$1000,0),MATCH($A$2,$EV$18:$FL$18,0)),\"\"))","v":0},{"$f":"IF(B2463=\"\",\"No\",\"Yes\")","v":{"$error":"#N/A"}},{"$f":"IF($B2463<>\"\",INDEX($BA$19:$BI$600,MATCH($B2463,$AZ$19:$AZ$1361,0),MATCH($AC$1,$BA$18:$BI$18,FALSE)),\"\")","v":{"$error":"#N/A"}},{"$f":"IF('Veg Guide Data Base'!$B435=\"Yes\",'Veg Guide Data Base'!BW435,\"\")","v":{"$error":"#N/A"}},{"$f":"IF('Veg Guide Data Base'!$B435=\"Yes\",'Veg Guide Data Base'!BX435,\"\")","v":{"$error":"#N/A"}},{"$f":"IF('Veg Guide Data Base'!$B435=\"Yes\",'Veg Guide Data Base'!BY435,\"\")","v":{"$error":"#N/A"}},null,null,""]
["",{"$f":"IF('Veg Guide Data Base'!B468=\"Yes\",'Veg Guide Data Base'!AZ468,\"\")","v":{"$error":"#N/A"}},{"$f":"IF('Veg Guide Data Base'!$B468=\"Yes\",'Veg Guide Data Base'!BL468,\"\")","v":{"$error":"#N/A"}},{"$f":"IF('Veg Guide Data Base'!$B468=\"Yes\",'Veg Guide Data Base'!BM468,\"\")","v":{"$error":"#N/A"}},{"$f":"IF('Veg Guide Data Base'!$B468=\"Yes\",'Veg Guide Data Base'!BJ468,\"\")","v":{"$error":"#N/A"}},{"$f":"IF('Veg Guide Data Base'!$B468=\"Yes\",'Veg Guide Data Base'!BK468,\"\")","v":{"$error":"#N/A"}},{"$f":"IF($A$2=\"All Species\",0,IF('Veg Guide Data Base'!$B468=\"Yes\",INDEX($ED$19:$ET$1000,MATCH($B2472,$AZ$19:$AZ$1000,0),MATCH($A$2,$ED$18:$EU$18,0)),\"\"))","v":0},{"$f":"IF($A$2=\"All Species\",0,IF('Veg Guide Data Base'!$B468=\"Yes\",INDEX($EV$19:$FL$1000,MATCH($B2472,$AZ$19:$AZ$1000,0),MATCH($A$2,$EV$18:$FL$18,0)),\"\"))","v":0},{"$f":"IF(B2472=\"\",\"No\",\"Yes\")","v":{"$error":"#N/A"}},{"$f":"IF($B2472<>\"\",INDEX($BA$19:$BI$600,MATCH($B2472,$AZ$19:$AZ$1361,0),MATCH($AC$1,$BA$18:$BI$18,FALSE)),\"\")","v":{"$error":"#N/A"}},{"$f":"IF('Veg Guide Data Base'!$B468=\"Yes\",'Veg Guide Data Base'!BW468,\"\")","v":{"$error":"#N/A"}},{"$f":"IF('Veg Guide Data Base'!$B468=\"Yes\",'Veg Guide Data Base'!BX468,\"\")","v":{"$error":"#N/A"}},{"$f":"IF('Veg Guide Data Base'!$B468=\"Yes\",'Veg Guide Data Base'!BY468,\"\")","v":{"$error":"#N/A"}},null,null,""]
["",{"$f":"IF('Veg Guide Data Base'!B480=\"Yes\",'Veg Guide Data Base'!AZ480,\"\")","v":{"$error":"#N/A"}},{"$f":"IF('Veg Guide Data Base'!$B480=\"Yes\",'Veg Guide Data Base'!BL480,\"\")","v":{"$error":"#N/A"}},{"$f":"IF('Veg Guide Data Base'!$B480=\"Yes\",'Veg Guide Data Base'!BM480,\"\")","v":{"$error":"#N/A"}},{"$f":"IF('Veg Guide Data Base'!$B480=\"Yes\",'Veg Guide Data Base'!BJ480,\"\")","v":{"$error":"#N/A"}},{"$f":"IF('Veg Guide Data Base'!$B480=\"Yes\",'Veg Guide Data Base'!BK480,\"\")","v":{"$error":"#N/A"}},{"$f":"IF($A$2=\"All Species\",0,IF('Veg Guide Data Base'!$B480=\"Yes\",INDEX($ED$19:$ET$1000,MATCH($B2473,$AZ$19:$AZ$1000,0),MATCH($A$2,$ED$18:$EU$18,0)),\"\"))","v":0},{"$f":"IF($A$2=\"All Species\",0,IF('Veg Guide Data Base'!$B480=\"Yes\",INDEX($EV$19:$FL$1000,MATCH($B2473,$AZ$19:$AZ$1000,0),MATCH($A$2,$EV$18:$FL$18,0)),\"\"))","v":0},{"$f":"IF(B2473=\"\",\"No\",\"Yes\")","v":{"$error":"#N/A"}},{"$f":"IF($B2473<>\"\",INDEX($BA$19:$BI$600,MATCH($B2473,$AZ$19:$AZ$1361,0),MATCH($AC$1,$BA$18:$BI$18,FALSE)),\"\")","v":{"$error":"#N/A"}},{"$f":"IF('Veg Guide Data Base'!$B480=\"Yes\",'Veg Guide Data Base'!BW480,\"\")","v":{"$error":"#N/A"}},{"$f":"IF('Veg Guide Data Base'!$B480=\"Yes\",'Veg Guide Data Base'!BX480,\"\")","v":{"$error":"#N/A"}},{"$f":"IF('Veg Guide Data Base'!$B480=\"Yes\",'Veg Guide Data Base'!BY480,\"\")","v":{"$error":"#N/A"}},null,null,""]
["",{"$f":"IF('Veg Guide Data Base'!B520=\"Yes\",'Veg Guide Data Base'!AZ520,\"\")","v":{"$error":"#N/A"}},{"$f":"IF('Veg Guide Data Base'!$B520=\"Yes\",'Veg Guide Data Base'!BL520,\"\")","v":{"$error":"#N/A"}},{"$f":"IF('Veg Guide Data Base'!$B520=\"Yes\",'Veg Guide Data Base'!BM520,\"\")","v":{"$error":"#N/A"}},{"$f":"IF('Veg Guide Data Base'!$B520=\"Yes\",'Veg Guide Data Base'!BJ520,\"\")","v":{"$error":"#N/A"}},{"$f":"IF('Veg Guide Data Base'!$B520=\"Yes\",'Veg Guide Data Base'!BK520,\"\")","v":{"$error":"#N/A"}},{"$f":"IF($A$2=\"All Species\",0,IF('Veg Guide Data Base'!$B520=\"Yes\",INDEX($ED$19:$ET$1000,MATCH($B2481,$AZ$19:$AZ$1000,0),MATCH($A$2,$ED$18:$EU$18,0)),\"\"))","v":0},{"$f":"IF($A$2=\"All Species\",0,IF('Veg Guide Data Base'!$B520=\"Yes\",INDEX($EV$19:$FL$1000,MATCH($B2481,$AZ$19:$AZ$1000,0),MATCH($A$2,$EV$18:$FL$18,0)),\"\"))","v":0},{"$f":"IF(B2481=\"\",\"No\",\"Yes\")","v":{"$error":"#N/A"}},{"$f":"IF($B2481<>\"\",INDEX($BA$19:$BI$600,MATCH($B2481,$AZ$19:$AZ$1361,0),MATCH($AC$1,$BA$18:$BI$18,FALSE)),\"\")","v":{"$error":"#N/A"}},{"$f":"IF('Veg Guide Data Base'!$B520=\"Yes\",'Veg Guide Data Base'!BW520,\"\")","v":{"$error":"#N/A"}},{"$f":"IF('Veg Guide Data Base'!$B520=\"Yes\",'Veg Guide Data Base'!BX520,\"\")","v":{"$error":"#N/A"}},{"$f":"IF('Veg Guide Data Base'!$B520=\"Yes\",'Veg Guide Data Base'!BY520,\"\")","v":{"$error":"#N/A"}},null,null,""]
["",{"$f":"IF('Veg Guide Data Base'!B523=\"Yes\",'Veg Guide Data Base'!AZ523,\"\")","v":{"$error":"#N/A"}},{"$f":"IF('Veg Guide Data Base'!$B523=\"Yes\",'Veg Guide Data Base'!BL523,\"\")","v":{"$error":"#N/A"}},{"$f":"IF('Veg Guide Data Base'!$B523=\"Yes\",'Veg Guide Data Base'!BM523,\"\")","v":{"$error":"#N/A"}},{"$f":"IF('Veg Guide Data Base'!$B523=\"Yes\",'Veg Guide Data Base'!BJ523,\"\")","v":{"$error":"#N/A"}},{"$f":"IF('Veg Guide Data Base'!$B523=\"Yes\",'Veg Guide Data Base'!BK523,\"\")","v":{"$error":"#N/A"}},{"$f":"IF($A$2=\"All Species\",0,IF('Veg Guide Data Base'!$B523=\"Yes\",INDEX($ED$19:$ET$1000,MATCH($B2484,$AZ$19:$AZ$1000,0),MATCH($A$2,$ED$18:$EU$18,0)),\"\"))","v":0},{"$f":"IF($A$2=\"All Species\",0,IF('Veg Guide Data Base'!$B523=\"Yes\",INDEX($EV$19:$FL$1000,MATCH($B2484,$AZ$19:$AZ$1000,0),MATCH($A$2,$EV$18:$FL$18,0)),\"\"))","v":0},{"$f":"IF(B2484=\"\",\"No\",\"Yes\")","v":{"$error":"#N/A"}},{"$f":"IF($B2484<>\"\",INDEX($BA$19:$BI$600,MATCH($B2484,$AZ$19:$AZ$1361,0),MATCH($AC$1,$BA$18:$BI$18,FALSE)),\"\")","v":{"$error":"#N/A"}},{"$f":"IF('Veg Guide Data Base'!$B523=\"Yes\",'Veg Guide Data Base'!BW523,\"\")","v":{"$error":"#N/A"}},{"$f":"IF('Veg Guide Data Base'!$B523=\"Yes\",'Veg Guide Data Base'!BX523,\"\")","v":{"$error":"#N/A"}},{"$f":"IF('Veg Guide Data Base'!$B523=\"Yes\",'Veg Guide Data Base'!BY523,\"\")","v":{"$error":"#N/A"}},null,null,""]
["",{"$f":"IF('Veg Guide Data Base'!B539=\"Yes\",'Veg Guide Data Base'!AZ539,\"\")","v":{"$error":"#N/A"}},{"$f":"IF('Veg Guide Data Base'!$B539=\"Yes\",'Veg Guide Data Base'!BL539,\"\")","v":{"$error":"#N/A"}},{"$f":"IF('Veg Guide Data Base'!$B539=\"Yes\",'Veg Guide Data Base'!BM539,\"\")","v":{"$error":"#N/A"}},{"$f":"IF('Veg Guide Data Base'!$B539=\"Yes\",'Veg Guide Data Base'!BJ539,\"\")","v":{"$error":"#N/A"}},{"$f":"IF('Veg Guide Data Base'!$B539=\"Yes\",'Veg Guide Data Base'!BK539,\"\")","v":{"$error":"#N/A"}},{"$f":"IF($A$2=\"All Species\",0,IF('Veg Guide Data Base'!$B539=\"Yes\",INDEX($ED$19:$ET$1000,MATCH($B2491,$AZ$19:$AZ$1000,0),MATCH($A$2,$ED$18:$EU$18,0)),\"\"))","v":0},{"$f":"IF($A$2=\"All Species\",0,IF('Veg Guide Data Base'!$B539=\"Yes\",INDEX($EV$19:$FL$1000,MATCH($B2491,$AZ$19:$AZ$1000,0),MATCH($A$2,$EV$18:$FL$18,0)),\"\"))","v":0},{"$f":"IF(B2491=\"\",\"No\",\"Yes\")","v":{"$error":"#N/A"}},{"$f":"IF($B2491<>\"\",INDEX($BA$19:$BI$600,MATCH($B2491,$AZ$19:$AZ$1361,0),MATCH($AC$1,$BA$18:$BI$18,FALSE)),\"\")","v":{"$error":"#N/A"}},{"$f":"IF('Veg Guide Data Base'!$B539=\"Yes\",'Veg Guide Data Base'!BW539,\"\")","v":{"$error":"#N/A"}},{"$f":"IF('Veg Guide Data Base'!$B539=\"Yes\",'Veg Guide Data Base'!BX539,\"\")","v":{"$error":"#N/A"}},{"$f":"IF('Veg Guide Data Base'!$B539=\"Yes\",'Veg Guide Data Base'!BY539,\"\")","v":{"$error":"#N/A"}},null,null,""]
["",{"$f":"IF('Veg Guide Data Base'!B563=\"Yes\",'Veg Guide Data Base'!AZ563,\"\")","v":{"$error":"#N/A"}},{"$f":"IF('Veg Guide Data Base'!$B563=\"Yes\",'Veg Guide Data Base'!BL563,\"\")","v":{"$error":"#N/A"}},{"$f":"IF('Veg Guide Data Base'!$B563=\"Yes\",'Veg Guide Data Base'!BM563,\"\")","v":{"$error":"#N/A"}},{"$f":"IF('Veg Guide Data Base'!$B563=\"Yes\",'Veg Guide Data Base'!BJ563,\"\")","v":{"$error":"#N/A"}},{"$f":"IF('Veg Guide Data Base'!$B563=\"Yes\",'Veg Guide Data Base'!BK563,\"\")","v":{"$error":"#N/A"}},{"$f":"IF($A$2=\"All Species\",0,IF('Veg Guide Data Base'!$B563=\"Yes\",INDEX($ED$19:$ET$1000,MATCH($B2500,$AZ$19:$AZ$1000,0),MATCH($A$2,$ED$18:$EU$18,0)),\"\"))","v":0},{"$f":"IF($A$2=\"All Species\",0,IF('Veg Guide Data Base'!$B563=\"Yes\",INDEX($EV$19:$FL$1000,MATCH($B2500,$AZ$19:$AZ$1000,0),MATCH($A$2,$EV$18:$FL$18,0)),\"\"))","v":0},{"$f":"IF(B2500=\"\",\"No\",\"Yes\")","v":{"$error":"#N/A"}},{"$f":"IF($B2500<>\"\",INDEX($BA$19:$BI$600,MATCH($B2500,$AZ$19:$AZ$1361,0),MATCH($AC$1,$BA$18:$BI$18,FALSE)),\"\")","v":{"$error":"#N/A"}},{"$f":"IF('Veg Guide Data Base'!$B563=\"Yes\",'Veg Guide Data Base'!BW563,\"\")","v":{"$error":"#N/A"}},{"$f":"IF('Veg Guide Data Base'!$B563=\"Yes\",'Veg Guide Data Base'!BX563,\"\")","v":{"$error":"#N/A"}},{"$f":"IF('Veg Guide Data Base'!$B563=\"Yes\",'Veg Guide Data Base'!BY563,\"\")","v":{"$error":"#N/A"}},null,null,""]
[]
[]
[]
[]
[]
[]
[]
[]
[]
[]
[]
[]
[]
[]
[]
[]
[]
[]
[]
[]
[]
[]
[]
[]
[]
[]
[]
[]
[]
[]
[]
[]
[]
[]
[]
[]
[]
[]
[]
[]
[]
[]
[]
[]
[]
[]
[]
[]
[]
[]
[]
[]
[]
[]
[]
[]
[]
[]
[]
[]
[]
[]
[]
[]
[]
[]
[]
[]
[]
["ae - 2",{"$error":"#N/A"},{"$error":"#N/A"}," ",null,null,null,null,null,{"$error":"#N/A"},{"$error":"#N/A"},null,"Baron’s grass, paddlegrass, reh padil  (sprigged)","Recommended spacing for planted stolons is 6' x 6'"]
["ahakea",{"$error":"#N/A"},{"$error":"#N/A"}," ",null,null,null,null,null,{"$error":"#N/A"},{"$error":"#N/A"},null,"digitgrass (sprigged)","Recommended spacing for planted stolons is 6' x 6'"]
["akoko - 1",{"$error":"#N/A"},{"$error":"#N/A"}," ",null,null,null,null,null,{"$error":"#N/A"},{"$error":"#N/A"},null,"z",0]
["alani",{"$error":"#N/A"},{"$error":"#N/A"}," ",null,null,null,null,null,{"$error":"#N/A"},{"$error":"#N/A"},null,"z",0]
["aulu",{"$error":"#N/A"},{"$error":"#N/A"}," ",null,null,null,null,null,{"$error":"#N/A"},{"$error":"#N/A"},null,{"$error":"#N/A"},{"$error":"#N/A"}]
["big/broad leaf mahogany",{"$error":"#N/A"},{"$error":"#N/A"}," ",null,null,null,null,null,{"$error":"#N/A"},{"$error":"#N/A"},null,{"$error":"#N/A"},{"$error":"#N/A"}]
["brushbox",{"$error":"#N/A"},{"$error":"#N/A"}," ",null,null,null,null,null,{"$error":"#N/A"},{"$error":"#N/A"},null,{"$error":"#N/A"},{"$error":"#N/A"}]
["cornstalk dracaena",{"$error":"#N/A"},{"$error":"#N/A"}," ",null,null,null,null,null,{"$error":"#N/A"},{"$error":"#N/A"},null,{"$error":"#N/A"},{"$error":"#N/A"}]
["fig (common)",{"$error":"#N/A"},{"$error":"#N/A"}," ",null,null,null,null,null,{"$error":"#N/A"},{"$error":"#N/A"},null,{"$error":"#N/A"},{"$error":"#N/A"}]
["hala pepe - 1",{"$error":"#N/A"},{"$error":"#N/A"}," ",null,null,null,null,null,{"$error":"#N/A"},{"$error":"#N/A"},null,{"$error":"#N/A"},{"$error":"#N/A"}]
["hapuu",{"$error":"#N/A"},{"$error":"#N/A"}," ",null,null,null,null,null,{"$error":"#N/A"},{"$error":"#N/A"},null,{"$error":"#N/A"},{"$error":"#N/A"}]
["ieie",{"$error":"#N/A"},{"$error":"#N/A"}," ",null,null,null,null,null,{"$error":"#N/A"},{"$error":"#N/A"},null,{"$error":"#N/A"},{"$error":"#N/A"}]
["iliahi, sandalwood - 3",{"$error":"#N/A"},{"$error":"#N/A"}," ",null,null,null,null,null,{"$error":"#N/A"},{"$error":"#N/A"},null,{"$error":"#N/A"},{"$error":"#N/A"}]
["kalamunggay, malunggay",{"$error":"#N/A"},{"$error":"#N/A"}," ",null,null,null,null,null,{"$error":"#N/A"},{"$error":"#N/A"},null,{"$error":"#N/A"},{"$error":"#N/A"}]
["katuk, star gooseberry, sweet leaf, leaf asparagus",{"$error":"#N/A"},{"$error":"#N/A"}," ",null,null,null,null,null,{"$error":"#N/A"},{"$error":"#N/A"},null,{"$error":"#N/A"},{"$error":"#N/A"}]
["kokio keokeo, Hawaiian white hibiscus - 2",{"$error":"#N/A"},{"$error":"#N/A"}," ",null,null,null,null,null,{"$error":"#N/A"},{"$error":"#N/A"},null,{"$error":"#N/A"},{"$error":"#N/A"}]
["kopiko - 6",{"$error":"#N/A"},{"$error":"#N/A"}," ",null,null,null,null,null,{"$error":"#N/A"},{"$error":"#N/A"},null,{"$error":"#N/A"},{"$error":"#N/A"}]
["kului ",{"$error":"#N/A"},{"$error":"#N/A"}," ",null,null,null,null,null,{"$error":"#N/A"},{"$error":"#N/A"},null,{"$error":"#N/A"},{"$error":"#N/A"}]
[{"$f":"IF(A1603<>\"\",A1603,0)","v":"loulu - 10"},{"$error":"#N/A"},{"$error":"#N/A"}," ",null,null,null,null,null,{"$error":"#N/A"},{"$error":"#N/A"},null,{"$error":"#N/A"},{"$error":"#N/A"}]
["Macarthur palm",{"$error":"#N/A"},{"$error":"#N/A"}," ",null,null,null,null,null,{"$error":"#N/A"},{"$error":"#N/A"},null,{"$error":"#N/A"},{"$error":"#N/A"}]
["mango, manako",{"$error":"#N/A"},{"$error":"#N/A"}," ",null,null,null,null,null,{"$error":"#N/A"},{"$error":"#N/A"},null,{"$error":"#N/A"},{"$error":"#N/A"}]
["Mexican (Portugese) cypress",{"$error":"#N/A"},{"$error":"#N/A"}," ",null,null,null,null,null,{"$error":"#N/A"},{"$error":"#N/A"},null,{"$error":"#N/A"},{"$error":"#N/A"}]
["mock orange",{"$error":"#N/A"},{"$error":"#N/A"}," ",null,null,null,null,null,{"$error":"#N/A"},{"$error":"#N/A"},null,{"$error":"#N/A"},{"$error":"#N/A"}]
["Nicaraguan rosewood, cocobolo",{"$error":"#N/A"},{"$error":"#N/A"}," ",null,null,null,null,null,{"$error":"#N/A"},{"$error":"#N/A"},null,{"$error":"#N/A"},{"$error":"#N/A"}]
["ohe makai",{"$error":"#N/A"},{"$error":"#N/A"}," ",null,null,null,null,null,{"$error":"#N/A"},{"$error":"#N/A"},null,{"$error":"#N/A"},{"$error":"#N/A"}]
["olopua",{"$error":"#N/A"},{"$error":"#N/A"}," ",null,null,null,null,null,{"$error":"#N/A"},{"$error":"#N/A"},null,{"$error":"#N/A"},{"$error":"#N/A"}]
["primavera, gold tree",{"$error":"#N/A"},{"$error":"#N/A"}," ",null,null,null,null,null,{"$error":"#N/A"},{"$error":"#N/A"},null,{"$error":"#N/A"},{"$error":"#N/A"}]
["Queensland kauri",{"$error":"#N/A"},{"$error":"#N/A"}," ",null,null,null,null,null,{"$error":"#N/A"},{"$error":"#N/A"},null,{"$error":"#N/A"},{"$error":"#N/A"}]
["song of India",{"$error":"#N/A"},{"$error":"#N/A"}," ",null,null,null,null,null,{"$error":"#N/A"},{"$error":"#N/A"},null,{"$error":"#N/A"},{"$error":"#N/A"}]
[{"$f":"IF(A1667<>\"\",A1667,0)","v":"tallowwood"},{"$error":"#N/A"},{"$error":"#N/A"}," ",null,null,null,null,null,{"$error":"#N/A"},{"$error":"#N/A"},null,{"$error":"#N/A"},{"$error":"#N/A"}]
["ti, ki, lai",{"$error":"#N/A"},{"$error":"#N/A"}," ",null,null,null,null,null,{"$error":"#N/A"},{"$error":"#N/A"},null,{"$error":"#N/A"},{"$error":"#N/A"}]
["West Indies/Cuban mahogany",{"$error":"#N/A"},{"$error":"#N/A"}," ",null,null,null,null,null,{"$error":"#N/A"},{"$error":"#N/A"},null,{"$error":"#N/A"},{"$error":"#N/A"}]
[0,0,{"$error":"#N/A"}," ",null,null,null,null,null,{"$error":"#N/A"},{"$error":"#N/A"},null,{"$error":"#N/A"},{"$error":"#N/A"}]
[0,0,{"$error":"#N/A"}," ",null,null,null,null,null,{"$error":"#N/A"},{"$error":"#N/A"},null,{"$error":"#N/A"},{"$error":"#N/A"}]
[0,0,{"$error":"#N/A"}," ",null,null,null,null,null,{"$error":"#N/A"},{"$error":"#N/A"},null,{"$error":"#N/A"},{"$error":"#N/A"}]
[0,0,{"$error":"#N/A"}," ",null,null,null,null,null,{"$error":"#N/A"},{"$error":"#N/A"},null,{"$error":"#N/A"},{"$error":"#N/A"}]
[0,0,{"$error":"#N/A"}," ",null,null,null,null,null,{"$error":"#N/A"},{"$error":"#N/A"},null,{"$error":"#N/A"},{"$error":"#N/A"}]
[0,0,{"$error":"#N/A"}," ",null,null,null,null,null,{"$error":"#N/A"},{"$error":"#N/A"},null,{"$error":"#N/A"},{"$error":"#N/A"}]
[0,0,{"$error":"#N/A"}," ",null,null,null,null,null,{"$error":"#N/A"},{"$error":"#N/A"},null,{"$error":"#N/A"},{"$error":"#N/A"}]
[0,0,{"$error":"#N/A"}," ",null,null,null,null,null,{"$error":"#N/A"},{"$error":"#N/A"},null,{"$error":"#N/A"},{"$error":"#N/A"}]
[{"$f":"IF(A1731<>\"\",A1731,0)","v":0},0,{"$error":"#N/A"}," ",null,null,null,null,null,{"$error":"#N/A"},{"$error":"#N/A"},null,{"$error":"#N/A"},{"$error":"#N/A"}]
[0,0,{"$error":"#N/A"}," ",null,null,null,null,null,{"$error":"#N/A"},{"$error":"#N/A"},null,{"$error":"#N/A"},{"$error":"#N/A"}]
[0,0,{"$error":"#N/A"}," ",null,null,null,null,null,{"$error":"#N/A"},{"$error":"#N/A"},null,{"$error":"#N/A"},{"$error":"#N/A"}]
[0,0,{"$error":"#N/A"}," ",null,null,null,null,null,{"$error":"#N/A"},{"$error":"#N/A"},null,{"$error":"#N/A"},{"$error":"#N/A"}]
[0,0,{"$error":"#N/A"}," ",null,null,null,null,null,{"$error":"#N/A"},{"$error":"#N/A"},null,{"$error":"#N/A"},{"$error":"#N/A"}]
[0,0,{"$error":"#N/A"}," ",null,null,null,null,null,{"$error":"#N/A"},{"$error":"#N/A"},null,{"$error":"#N/A"},{"$error":"#N/A"}]
[0,0,{"$error":"#N/A"}," ",null,null,null,null,null,{"$error":"#N/A"},{"$error":"#N/A"},null,{"$error":"#N/A"},{"$error":"#N/A"}]
[0,0,{"$error":"#N/A"}," ",null,null,null,null,null,{"$error":"#N/A"},{"$error":"#N/A"},null,{"$error":"#N/A"},{"$error":"#N/A"}]
[0,0,{"$error":"#N/A"}," ",null,null,null,null,null,{"$error":"#N/A"},{"$error":"#N/A"},null,{"$error":"#N/A"},{"$error":"#N/A"}]
[0,0,{"$error":"#N/A"}," ",null,null,null,null,null,{"$error":"#N/A"},{"$error":"#N/A"},null,{"$error":"#N/A"},{"$error":"#N/A"}]
[0,0,{"$error":"#N/A"}," ",null,null,null,null,null,{"$error":"#N/A"},{"$error":"#N/A"},null,{"$error":"#N/A"},{"$error":"#N/A"}]
[{"$f":"IF(A1795<>\"\",A1795,0)","v":0},0,{"$error":"#N/A"}," ",null,null,null,null,null,{"$error":"#N/A"},{"$error":"#N/A"},null,{"$error":"#N/A"},{"$error":"#N/A"}]
[0,0,{"$error":"#N/A"}," ",null,null,null,null,null,{"$error":"#N/A"},{"$error":"#N/A"},null,{"$error":"#N/A"},{"$error":"#N/A"}]
[0,0,{"$error":"#N/A"}," ",null,null,null,null,null,{"$error":"#N/A"},{"$error":"#N/A"},null,{"$error":"#N/A"},{"$error":"#N/A"}]
[0,0,{"$error":"#N/A"}," ",null,null,null,null,null,{"$error":"#N/A"},{"$error":"#N/A"},null,{"$error":"#N/A"},{"$error":"#N/A"}]
[0,0,{"$error":"#N/A"}," ",null,null,null,null,null,{"$error":"#N/A"},{"$error":"#N/A"},null,{"$error":"#N/A"},{"$error":"#N/A"}]
[0,0,{"$error":"#N/A"}," ",null,null,null,null,null,{"$error":"#N/A"},{"$error":"#N/A"},null,{"$error":"#N/A"},{"$error":"#N/A"}]
[0,0,{"$error":"#N/A"}," ",null,null,null,null,null,{"$error":"#N/A"},{"$error":"#N/A"},null,{"$error":"#N/A"},{"$error":"#N/A"}]
[0,0,{"$error":"#N/A"}," ",null,null,null,null,null,{"$error":"#N/A"},{"$error":"#N/A"},null,{"$error":"#N/A"},{"$error":"#N/A"}]
[0,0,{"$error":"#N/A"}," ",null,null,null,null,null,{"$error":"#N/A"},{"$error":"#N/A"},null,{"$error":"#N/A"},{"$error":"#N/A"}]
[0,0,{"$error":"#N/A"}," ",null,null,null,null,null,{"$error":"#N/A"},{"$error":"#N/A"},null,{"$error":"#N/A"},{"$error":"#N/A"}]
[0,0,{"$error":"#N/A"}," ",null,null,null,null,null,{"$error":"#N/A"},{"$error":"#N/A"},null,{"$error":"#N/A"},{"$error":"#N/A"}]
[0,0,{"$error":"#N/A"}," ",null,null,null,null,null,{"$error":"#N/A"},{"$error":"#N/A"},null,{"$error":"#N/A"},{"$error":"#N/A"}]
[0,0,{"$error":"#N/A"}," ",null,null,null,null,null,{"$error":"#N/A"},{"$error":"#N/A"},null,{"$error":"#N/A"},{"$error":"#N/A"}]
[0,0,{"$error":"#N/A"}," ",null,null,null,null,null,{"$error":"#N/A"},{"$error":"#N/A"},null,{"$error":"#N/A"},{"$error":"#N/A"}]
[0,0,{"$error":"#N/A"}," ",null,null,null,null,null,{"$error":"#N/A"},{"$error":"#N/A"},null,{"$error":"#N/A"},{"$error":"#N/A"}]
[0,0,{"$error":"#N/A"}," ",null,null,null,null,null,{"$error":"#N/A"},{"$error":"#N/A"},null,{"$error":"#N/A"},{"$error":"#N/A"}]
[0,0,{"$error":"#N/A"}," ",null,null,null,null,null,{"$error":"#N/A"},{"$error":"#N/A"},null,{"$error":"#N/A"},{"$error":"#N/A"}]
[0,0,{"$error":"#N/A"}," ",null,null,null,null,null,{"$error":"#N/A"},{"$error":"#N/A"},null,{"$error":"#N/A"},{"$error":"#N/A"}]
[0,0,{"$error":"#N/A"}," ",null,null,null,null,null,{"$error":"#N/A"},{"$error":"#N/A"},null,{"$error":"#N/A"},{"$error":"#N/A"}]
[0,0,{"$error":"#N/A"}," ",null,null,null,null,null,{"$error":"#N/A"},{"$error":"#N/A"},null,{"$error":"#N/A"},{"$error":"#N/A"}]
[0,0,{"$error":"#N/A"}," ",null,null,null,null,null,{"$error":"#N/A"},{"$error":"#N/A"},null,{"$error":"#N/A"},{"$error":"#N/A"}]
[0,0,{"$error":"#N/A"}," ",null,null,null,null,null,{"$error":"#N/A"},{"$error":"#N/A"},null,{"$error":"#N/A"},{"$error":"#N/A"}]
[0,0,{"$error":"#N/A"}," ",null,null,null,null,null,{"$error":"#N/A"},{"$error":"#N/A"},null,{"$error":"#N/A"},{"$error":"#N/A"}]
[0,0,{"$error":"#N/A"}," ",null,null,null,null,null,{"$error":"#N/A"},{"$error":"#N/A"},null,{"$error":"#N/A"},{"$error":"#N/A"}]
[0,0,{"$error":"#N/A"}," ",null,null,null,null,null,{"$error":"#N/A"},{"$error":"#N/A"},null,{"$error":"#N/A"},{"$error":"#N/A"}]
[0,0,{"$error":"#N/A"}," ",null,null,null,null,null,{"$error":"#N/A"},{"$error":"#N/A"},null,{"$error":"#N/A"},{"$error":"#N/A"}]
[0,0,{"$error":"#N/A"}," ",null,null,null,null,null,{"$error":"#N/A"},{"$error":"#N/A"},null,{"$error":"#N/A"},{"$error":"#N/A"}]
[0,0,{"$error":"#N/A"}," ",null,null,null,null,null,{"$error":"#N/A"},{"$error":"#N/A"},null,{"$error":"#N/A"},{"$error":"#N/A"}]
[0,0,{"$error":"#N/A"}," ",null,null,null,null,null,{"$error":"#N/A"},{"$error":"#N/A"},null,{"$error":"#N/A"},{"$error":"#N/A"}]
[0,0,{"$error":"#N/A"}," ",null,null,null,null,null,{"$error":"#N/A"},{"$error":"#N/A"},null,{"$error":"#N/A"},{"$error":"#N/A"}]
[0,0,{"$error":"#N/A"}," ",null,null,null,null,null,{"$error":"#N/A"},{"$error":"#N/A"},null,{"$error":"#N/A"},{"$error":"#N/A"}]
[0,0,{"$error":"#N/A"}," ",null,null,null,null,null,{"$error":"#N/A"},{"$error":"#N/A"},null,{"$error":"#N/A"},{"$error":"#N/A"}]
[0,0,{"$error":"#N/A"}," ",null,null,null,null,null,{"$error":"#N/A"},{"$error":"#N/A"},null,{"$error":"#N/A"},{"$error":"#N/A"}]
[0,0,{"$error":"#N/A"}," ",null,null,null,null,null,{"$error":"#N/A"},{"$error":"#N/A"},null,{"$error":"#N/A"},{"$error":"#N/A"}]
[0,0,{"$error":"#N/A"}," ",null,null,null,null,null,{"$error":"#N/A"},{"$error":"#N/A"},null,{"$error":"#N/A"},{"$error":"#N/A"}]
[0,0,{"$error":"#N/A"}," ",null,null,null,null,null,{"$error":"#N/A"},{"$error":"#N/A"},null,{"$error":"#N/A"},{"$error":"#N/A"}]
[0,0,{"$error":"#N/A"}," ",null,null,null,null,null,{"$error":"#N/A"},{"$error":"#N/A"},null,{"$error":"#N/A"},{"$error":"#N/A"}]
[0,0,{"$error":"#N/A"}," ",null,null,null,null,null,{"$error":"#N/A"},{"$error":"#N/A"},null,{"$error":"#N/A"},{"$error":"#N/A"}]
[0,0,{"$error":"#N/A"}," ",null,null,null,null,null,{"$error":"#N/A"},{"$error":"#N/A"},null,{"$error":"#N/A"},{"$error":"#N/A"}]
[0,0,{"$error":"#N/A"}," ",null,null,null,null,null,{"$error":"#N/A"},{"$error":"#N/A"},null,{"$error":"#N/A"},{"$error":"#N/A"}]
[0,0,{"$error":"#N/A"}," ",null,null,null,null,null,{"$error":"#N/A"},{"$error":"#N/A"},null,{"$error":"#N/A"},{"$error":"#N/A"}]
[0,0,{"$error":"#N/A"}," ",null,null,null,null,null,{"$error":"#N/A"},{"$error":"#N/A"},null,{"$error":"#N/A"},{"$error":"#N/A"}]
[0,0,{"$error":"#N/A"}," ",null,null,null,null,null,{"$error":"#N/A"},{"$error":"#N/A"},null,{"$error":"#N/A"},{"$error":"#N/A"}]
[0,0,{"$error":"#N/A"}," ",null,null,null,null,null,{"$error":"#N/A"},{"$error":"#N/A"},null,{"$error":"#N/A"},{"$error":"#N/A"}]
[{"$f":"IF(A1987<>\"\",A1987,0)","v":0},0,{"$error":"#N/A"}," ",null,null,null,null,null,{"$error":"#N/A"},{"$error":"#N/A"},null,{"$error":"#N/A"},{"$error":"#N/A"}]
[0,0,{"$error":"#N/A"}," ",null,null,null,null,null,{"$error":"#N/A"},{"$error":"#N/A"},null,{"$error":"#N/A"},{"$error":"#N/A"}]
[0,0,{"$error":"#N/A"}," ",null,null,null,null,null,{"$error":"#N/A"},{"$error":"#N/A"},null,{"$error":"#N/A"},{"$error":"#N/A"}]
[0,0,{"$error":"#N/A"}," ",null,null,null,null,null,{"$error":"#N/A"},{"$error":"#N/A"},null,{"$error":"#N/A"},{"$error":"#N/A"}]
[0,0,{"$error":"#N/A"}," ",null,null,null,null,null,{"$error":"#N/A"},{"$error":"#N/A"},null,{"$error":"#N/A"},{"$error":"#N/A"}]
[0,0,{"$error":"#N/A"}," ",null,null,null,null,null,{"$error":"#N/A"},{"$error":"#N/A"},null,{"$error":"#N/A"},{"$error":"#N/A"}]
[0,0,{"$error":"#N/A"}," ",null,null,null,null,null,{"$error":"#N/A"},{"$error":"#N/A"},null,{"$error":"#N/A"},{"$error":"#N/A"}]
[0,0,{"$error":"#N/A"}," ",null,null,null,null,null,{"$error":"#N/A"},{"$error":"#N/A"},null,{"$error":"#N/A"},{"$error":"#N/A"}]
[0,0,{"$error":"#N/A"}," ",null,null,null,null,null,{"$error":"#N/A"},{"$error":"#N/A"},null,{"$error":"#N/A"},{"$error":"#N/A"}]
[0,0,{"$error":"#N/A"}," ",null,null,null,null,null,{"$error":"#N/A"},{"$error":"#N/A"},null,{"$error":"#N/A"},{"$error":"#N/A"}]
[0,0,{"$error":"#N/A"}," ",null,null,null,null,null,{"$error":"#N/A"},{"$error":"#N/A"},null,{"$error":"#N/A"},{"$error":"#N/A"}]
[0,0,{"$error":"#N/A"}," ",null,null,null,null,null,{"$error":"#N/A"},{"$error":"#N/A"},null,{"$error":"#N/A"},{"$error":"#N/A"}]
[0,0,{"$error":"#N/A"}," ",null,null,null,null,null,{"$error":"#N/A"},{"$error":"#N/A"},null,{"$error":"#N/A"},{"$error":"#N/A"}]
[0,0,{"$error":"#N/A"}," ",null,null,null,null,null,{"$error":"#N/A"},{"$error":"#N/A"},null,{"$error":"#N/A"},{"$error":"#N/A"}]
[0,0,{"$error":"#N/A"}," ",null,null,null,null,null,{"$error":"#N/A"},{"$error":"#N/A"},null,{"$error":"#N/A"},{"$error":"#N/A"}]
[0,0,{"$error":"#N/A"}," ",null,null,null,null,null,{"$error":"#N/A"},{"$error":"#N/A"},null,{"$error":"#N/A"},{"$error":"#N/A"}]
[0,0,{"$error":"#N/A"}," ",null,null,null,null,null,{"$error":"#N/A"},{"$error":"#N/A"},null,{"$error":"#N/A"},{"$error":"#N/A"}]
[0,0,{"$error":"#N/A"}," ",null,null,null,null,null,{"$error":"#N/A"},{"$error":"#N/A"},null,{"$error":"#N/A"},{"$error":"#N/A"}]
[0,0,{"$error":"#N/A"}," ",null,null,null,null,null,{"$error":"#N/A"},{"$error":"#N/A"},null,{"$error":"#N/A"},{"$error":"#N/A"}]
[0,0,{"$error":"#N/A"}," ",null,null,null,null,null,{"$error":"#N/A"},{"$error":"#N/A"},null,{"$error":"#N/A"},{"$error":"#N/A"}]
[0,0,{"$error":"#N/A"}," ",null,null,null,null,null,{"$error":"#N/A"},{"$error":"#N/A"},null,{"$error":"#N/A"},{"$error":"#N/A"}]
[0,0,{"$error":"#N/A"}," ",null,null,null,null,null,{"$error":"#N/A"},{"$error":"#N/A"},null,{"$error":"#N/A"},{"$error":"#N/A"}]
[0,0,{"$error":"#N/A"}," ",null,null,null,null,null,{"$error":"#N/A"},{"$error":"#N/A"},null,{"$error":"#N/A"},{"$error":"#N/A"}]
[0,0,{"$error":"#N/A"}," ",null,null,null,null,null,{"$error":"#N/A"},{"$error":"#N/A"},null,{"$error":"#N/A"},{"$error":"#N/A"}]
[0,0,{"$error":"#N/A"}," ",null,null,null,null,null,{"$error":"#N/A"},{"$error":"#N/A"},null,{"$error":"#N/A"},{"$error":"#N/A"}]
[0,0,{"$f":"VLOOKUP(B3413,$AZ$19:$DE$561,57,FALSE)","v":{"$error":"#N/A"}}," ",null,null,null,null,null,{"$f":"IF(C3413<>0,A3413,\"z\")","v":{"$error":"#N/A"}},{"$f":"IF(J3413<>\"\",C3413,\"#N/A\")","v":{"$error":"#N/A"}},null,{"$error":"#N/A"},{"$error":"#N/A"}]
[0,0,{"$error":"#N/A"}," ",null,null,null,null,null,{"$error":"#N/A"},{"$error":"#N/A"},null,{"$error":"#N/A"},{"$error":"#N/A"}]
[0,0,{"$error":"#N/A"}," ",null,null,null,null,null,{"$error":"#N/A"},{"$error":"#N/A"},null,{"$error":"#N/A"},{"$error":"#N/A"}]
[0,0,{"$error":"#N/A"}," ",null,null,null,null,null,{"$error":"#N/A"},{"$error":"#N/A"},null,{"$error":"#N/A"},{"$error":"#N/A"}]
[0,0,{"$error":"#N/A"}," ",null,null,null,null,null,{"$error":"#N/A"},{"$error":"#N/A"},null,{"$error":"#N/A"},{"$error":"#N/A"}]
[0,0,{"$error":"#N/A"}," ",null,null,null,null,null,{"$error":"#N/A"},{"$error":"#N/A"},null,{"$error":"#N/A"},{"$error":"#N/A"}]
[0,0,{"$error":"#N/A"}," ",null,null,null,null,null,{"$error":"#N/A"},{"$error":"#N/A"},null,{"$error":"#N/A"},{"$error":"#N/A"}]
[0,0,{"$error":"#N/A"}," ",null,null,null,null,null,{"$error":"#N/A"},{"$error":"#N/A"},null,{"$error":"#N/A"},{"$error":"#N/A"}]
[0,0,{"$error":"#N/A"}," ",null,null,null,null,null,{"$error":"#N/A"},{"$error":"#N/A"},null,{"$error":"#N/A"},{"$error":"#N/A"}]
[0,0,{"$error":"#N/A"}," ",null,null,null,null,null,{"$error":"#N/A"},{"$error":"#N/A"},null,{"$error":"#N/A"},{"$error":"#N/A"}]
[0,0,{"$error":"#N/A"}," ",null,null,null,null,null,{"$error":"#N/A"},{"$error":"#N/A"},null,{"$error":"#N/A"},{"$error":"#N/A"}]
[0,0,{"$error":"#N/A"}," ",null,null,null,null,null,{"$error":"#N/A"},{"$error":"#N/A"},null,{"$error":"#N/A"},{"$error":"#N/A"}]
[0,0,{"$error":"#N/A"}," ",null,null,null,null,null,{"$error":"#N/A"},{"$error":"#N/A"},null,{"$error":"#N/A"},{"$error":"#N/A"}]
[0,0,{"$error":"#N/A"}," ",null,null,null,null,null,{"$error":"#N/A"},{"$error":"#N/A"},null,{"$error":"#N/A"},{"$error":"#N/A"}]
[0,0,{"$error":"#N/A"}," ",null,null,null,null,null,{"$error":"#N/A"},{"$error":"#N/A"},null,{"$error":"#N/A"},{"$error":"#N/A"}]
[0,0,{"$error":"#N/A"}," ",null,null,null,null,null,{"$error":"#N/A"},{"$error":"#N/A"},null,{"$error":"#N/A"},{"$error":"#N/A"}]
[0,0,{"$error":"#N/A"}," ",null,null,null,null,null,{"$error":"#N/A"},{"$error":"#N/A"},null,{"$error":"#N/A"},{"$error":"#N/A"}]
[0,0,{"$error":"#N/A"}," ",null,null,null,null,null,{"$error":"#N/A"},{"$error":"#N/A"},null,{"$error":"#N/A"},{"$error":"#N/A"}]
[0,0,{"$error":"#N/A"}," ",null,null,null,null,null,{"$error":"#N/A"},{"$error":"#N/A"},null,{"$error":"#N/A"},{"$error":"#N/A"}]
[0,0,{"$error":"#N/A"}," ",null,null,null,null,null,{"$error":"#N/A"},{"$error":"#N/A"},null,{"$error":"#N/A"},{"$error":"#N/A"}]
[0,0,{"$error":"#N/A"}," ",null,null,null,null,null,{"$error":"#N/A"},{"$error":"#N/A"},null,{"$error":"#N/A"},{"$error":"#N/A"}]
[0,0,{"$error":"#N/A"}," ",null,null,null,null,null,{"$error":"#N/A"},{"$error":"#N/A"},null,{"$error":"#N/A"},{"$error":"#N/A"}]
[0,0,{"$error":"#N/A"}," ",null,null,null,null,null,{"$error":"#N/A"},{"$error":"#N/A"},null,{"$error":"#N/A"},{"$error":"#N/A"}]
[0,0,{"$error":"#N/A"}," ",null,null,null,null,null,{"$error":"#N/A"},{"$error":"#N/A"},null,{"$error":"#N/A"},{"$error":"#N/A"}]
[0,0,{"$error":"#N/A"}," ",null,null,null,null,null,{"$error":"#N/A"},{"$error":"#N/A"},null,{"$error":"#N/A"},{"$error":"#N/A"}]
[0,0,{"$error":"#N/A"}," ",null,null,null,null,null,{"$error":"#N/A"},{"$error":"#N/A"},null,{"$error":"#N/A"},{"$error":"#N/A"}]
[0,0,{"$error":"#N/A"}," ",null,null,null,null,null,{"$error":"#N/A"},{"$error":"#N/A"},null,{"$error":"#N/A"},{"$error":"#N/A"}]
[0,0,{"$error":"#N/A"}," ",null,null,null,null,null,{"$error":"#N/A"},{"$error":"#N/A"},null,{"$error":"#N/A"},{"$error":"#N/A"}]
[0,0,{"$error":"#N/A"}," ",null,null,null,null,null,{"$error":"#N/A"},{"$error":"#N/A"},null,{"$error":"#N/A"},{"$error":"#N/A"}]
[0,0,{"$error":"#N/A"}," ",null,null,null,null,null,{"$error":"#N/A"},{"$error":"#N/A"},null,{"$error":"#N/A"},{"$error":"#N/A"}]
[0,0,{"$error":"#N/A"}," ",null,null,null,null,null,{"$error":"#N/A"},{"$error":"#N/A"},null,{"$error":"#N/A"},{"$error":"#N/A"}]
[0,0,{"$error":"#N/A"}," ",null,null,null,null,null,{"$error":"#N/A"},{"$error":"#N/A"},null,{"$error":"#N/A"},{"$error":"#N/A"}]
[0,0,{"$error":"#N/A"}," ",null,null,null,null,null,{"$error":"#N/A"},{"$error":"#N/A"},null,{"$error":"#N/A"},{"$error":"#N/A"}]
[0,0,{"$error":"#N/A"}," ",null,null,null,null,null,{"$error":"#N/A"},{"$error":"#N/A"},null,{"$error":"#N/A"},{"$error":"#N/A"}]
[0,0,{"$error":"#N/A"}," ",null,null,null,null,null,{"$error":"#N/A"},{"$error":"#N/A"},null,{"$error":"#N/A"},{"$error":"#N/A"}]
[0,0,{"$error":"#N/A"}," ",null,null,null,null,null,{"$error":"#N/A"},{"$error":"#N/A"},null,{"$error":"#N/A"},{"$error":"#N/A"}]
[0,0,{"$error":"#N/A"}," ",null,null,null,null,null,{"$error":"#N/A"},{"$error":"#N/A"},null,{"$error":"#N/A"},{"$error":"#N/A"}]
[0,0,{"$error":"#N/A"}," ",null,null,null,null,null,{"$error":"#N/A"},{"$error":"#N/A"},null,{"$error":"#REF!"},{"$error":"#REF!"}]
[0,0,{"$error":"#N/A"}," ",null,null,null,null,null,{"$error":"#N/A"},{"$error":"#N/A"},null,{"$error":"#N/A"},{"$error":"#N/A"}]
[{"$f":"IF(A2051<>\"\",A2051,0)","v":0},0,{"$error":"#N/A"}," ",null,null,null,null,null,{"$error":"#N/A"},{"$error":"#N/A"},null,{"$error":"#N/A"},{"$error":"#N/A"}]
[0,0,{"$error":"#N/A"}," ",null,null,null,null,null,{"$error":"#N/A"},{"$error":"#N/A"},null,{"$error":"#N/A"},{"$error":"#N/A"}]
[0,0,{"$error":"#N/A"}," ",null,null,null,null,null,{"$error":"#N/A"},{"$error":"#N/A"},null,{"$error":"#N/A"},{"$error":"#N/A"}]
[0,0,{"$error":"#N/A"}," ",null,null,null,null,null,{"$error":"#N/A"},{"$error":"#N/A"},null,{"$error":"#N/A"},{"$error":"#N/A"}]
[0,0,{"$error":"#N/A"}," ",null,null,null,null,null,{"$error":"#N/A"},{"$error":"#N/A"},null,{"$error":"#N/A"},{"$error":"#N/A"}]
[0,0,{"$error":"#N/A"}," ",null,null,null,null,null,{"$error":"#N/A"},{"$error":"#N/A"},null,{"$error":"#N/A"},{"$error":"#N/A"}]
[0,0,{"$error":"#N/A"}," ",null,null,null,null,null,{"$error":"#N/A"},{"$error":"#N/A"},null,{"$error":"#N/A"},{"$error":"#N/A"}]
[0,0,{"$error":"#N/A"}," ",null,null,null,null,null,{"$error":"#N/A"},{"$error":"#N/A"},null,{"$error":"#N/A"},{"$error":"#N/A"}]
[0,0,{"$error":"#N/A"}," ",null,null,null,null,null,{"$error":"#N/A"},{"$error":"#N/A"},null,{"$error":"#N/A"},{"$error":"#N/A"}]
[0,0,{"$error":"#N/A"}," ",null,null,null,null,null,{"$error":"#N/A"},{"$error":"#N/A"},null,{"$error":"#N/A"},{"$error":"#N/A"}]
[0,0,{"$error":"#N/A"}," ",null,null,null,null,null,{"$error":"#N/A"},{"$error":"#N/A"},null,{"$error":"#N/A"},{"$error":"#N/A"}]
[0,0,{"$error":"#N/A"}," ",null,null,null,null,null,{"$error":"#N/A"},{"$error":"#N/A"},null,{"$error":"#N/A"},{"$error":"#N/A"}]
[0,0,{"$error":"#N/A"}," ",null,null,null,null,null,{"$error":"#N/A"},{"$error":"#N/A"},null,{"$error":"#N/A"},{"$error":"#N/A"}]
[0,0,{"$error":"#N/A"}," ",null,null,null,null,null,{"$error":"#N/A"},{"$error":"#N/A"},null,{"$error":"#N/A"},{"$error":"#N/A"}]
[0,0,{"$error":"#N/A"}," ",null,null,null,null,null,{"$error":"#N/A"},{"$error":"#N/A"},null,{"$error":"#N/A"},{"$error":"#N/A"}]
[0,0,{"$error":"#N/A"}," ",null,null,null,null,null,{"$error":"#N/A"},{"$error":"#N/A"},null,{"$error":"#N/A"},{"$error":"#N/A"}]
[0,0,{"$error":"#N/A"}," ",null,null,null,null,null,{"$error":"#N/A"},{"$error":"#N/A"},null,{"$error":"#N/A"},{"$error":"#N/A"}]
[0,0,{"$error":"#N/A"}," ",null,null,null,null,null,{"$error":"#N/A"},{"$error":"#N/A"},null,{"$error":"#N/A"},{"$error":"#N/A"}]
[0,0,{"$error":"#N/A"}," ",null,null,null,null,null,{"$error":"#N/A"},{"$error":"#N/A"},null,{"$error":"#N/A"},{"$error":"#N/A"}]
[0,0,{"$error":"#N/A"}," ",null,null,null,null,null,{"$error":"#N/A"},{"$error":"#N/A"},null,{"$error":"#N/A"},{"$error":"#N/A"}]
[0,0,{"$error":"#N/A"}," ",null,null,null,null,null,{"$error":"#N/A"},{"$error":"#N/A"},null,{"$error":"#N/A"},{"$error":"#N/A"}]
[0,0,{"$error":"#N/A"}," ",null,null,null,null,null,{"$error":"#N/A"},{"$error":"#N/A"},null,{"$error":"#N/A"},{"$error":"#N/A"}]
[0,0,{"$error":"#N/A"}," ",null,null,null,null,null,{"$error":"#N/A"},{"$error":"#N/A"},null,{"$error":"#N/A"},{"$error":"#N/A"}]
[0,0,{"$error":"#N/A"}," ",null,null,null,null,null,{"$error":"#N/A"},{"$error":"#N/A"},null,{"$error":"#N/A"},{"$error":"#N/A"}]
[0,0,{"$error":"#N/A"}," ",null,null,null,null,null,{"$error":"#N/A"},{"$error":"#N/A"},null,{"$error":"#N/A"},{"$error":"#N/A"}]
[0,0,{"$f":"VLOOKUP(B3477,$AZ$19:$DE$561,57,FALSE)","v":{"$error":"#N/A"}}," ",null,null,null,null,null,{"$f":"IF(C3477<>0,A3477,\"z\")","v":{"$error":"#N/A"}},{"$f":"IF(J3477<>\"\",C3477,\"#N/A\")","v":{"$error":"#N/A"}},null,{"$error":"#N/A"},{"$error":"#N/A"}]
[0,0,{"$error":"#N/A"}," ",null,null,null,null,null,{"$error":"#N/A"},{"$error":"#N/A"},null,{"$error":"#N/A"},{"$error":"#N/A"}]
[0,0,{"$error":"#N/A"}," ",null,null,null,null,null,{"$error":"#N/A"},{"$error":"#N/A"},null,{"$error":"#N/A"},{"$error":"#N/A"}]
[0,0,{"$error":"#N/A"}," ",null,null,null,null,null,{"$error":"#N/A"},{"$error":"#N/A"},null,{"$error":"#N/A"},{"$error":"#N/A"}]
[0,0,{"$error":"#N/A"}," ",null,null,null,null,null,{"$error":"#N/A"},{"$error":"#N/A"},null,{"$error":"#N/A"},{"$error":"#N/A"}]
[0,0,{"$error":"#N/A"}," ",null,null,null,null,null,{"$error":"#N/A"},{"$error":"#N/A"},null,{"$error":"#N/A"},{"$error":"#N/A"}]
[0,0,{"$error":"#N/A"}," ",null,null,null,null,null,{"$error":"#N/A"},{"$error":"#N/A"},null,{"$error":"#N/A"},{"$error":"#N/A"}]
[0,0,{"$error":"#N/A"}," ",null,null,null,null,null,{"$error":"#N/A"},{"$error":"#N/A"},null,{"$error":"#N/A"},{"$error":"#N/A"}]
[0,0,{"$error":"#N/A"}," ",null,null,null,null,null,{"$error":"#N/A"},{"$error":"#N/A"},null,{"$error":"#N/A"},{"$error":"#N/A"}]
[0,0,{"$error":"#N/A"}," ",null,null,null,null,null,{"$error":"#N/A"},{"$error":"#N/A"},null,{"$error":"#N/A"},{"$error":"#N/A"}]
[0,0,{"$error":"#N/A"}," ",null,null,null,null,null,{"$error":"#N/A"},{"$error":"#N/A"},null,{"$error":"#N/A"},{"$error":"#N/A"}]
[0,0,{"$error":"#N/A"}," ",null,null,null,null,null,{"$error":"#N/A"},{"$error":"#N/A"},null,{"$error":"#N/A"},{"$error":"#N/A"}]
[0,0,{"$error":"#N/A"}," ",null,null,null,null,null,{"$error":"#N/A"},{"$error":"#N/A"},null,{"$error":"#N/A"},{"$error":"#N/A"}]
[0,0,{"$error":"#N/A"}," ",null,null,null,null,null,{"$error":"#N/A"},{"$error":"#N/A"},null,{"$error":"#N/A"},{"$error":"#N/A"}]
[0,0,{"$error":"#N/A"}," ",null,null,null,null,null,{"$error":"#N/A"},{"$error":"#N/A"},null,{"$error":"#N/A"},{"$error":"#N/A"}]
[0,0,{"$error":"#N/A"}," ",null,null,null,null,null,{"$error":"#N/A"},{"$error":"#N/A"},null,{"$error":"#N/A"},{"$error":"#N/A"}]
[0,0,{"$error":"#N/A"}," ",null,null,null,null,null,{"$error":"#N/A"},{"$error":"#N/A"},null,{"$error":"#N/A"},{"$error":"#N/A"}]
[0,0,{"$error":"#N/A"}," ",null,null,null,null,null,{"$error":"#N/A"},{"$error":"#N/A"},null,{"$error":"#N/A"},{"$error":"#N/A"}]
[0,0,{"$error":"#N/A"}," ",null,null,null,null,null,{"$error":"#N/A"},{"$error":"#N/A"},null,{"$error":"#N/A"},{"$error":"#N/A"}]
[0,0,{"$error":"#N/A"}," ",null,null,null,null,null,{"$error":"#N/A"},{"$error":"#N/A"},null,{"$error":"#N/A"},{"$error":"#N/A"}]
[0,0,{"$error":"#N/A"}," ",null,null,null,null,null,{"$error":"#N/A"},{"$error":"#N/A"},null,{"$error":"#N/A"},{"$error":"#N/A"}]
[0,0,{"$error":"#N/A"}," ",null,null,null,null,null,{"$error":"#N/A"},{"$error":"#N/A"},null,{"$error":"#N/A"},{"$error":"#N/A"}]
[0,0,{"$error":"#N/A"}," ",null,null,null,null,null,{"$error":"#N/A"},{"$error":"#N/A"},null,{"$error":"#N/A"},{"$error":"#N/A"}]
[0,0,{"$error":"#N/A"}," ",null,null,null,null,null,{"$error":"#N/A"},{"$error":"#N/A"},null,{"$error":"#N/A"},{"$error":"#N/A"}]

{"sheet":"Cover Crop Evaluator","index":1,"n_rows":722,"n_cols":83,"rows_kept":722,"cut":false,"hidden":false,"merged":[[31,4,31,5],[32,4,32,5],[33,4,33,5],[8,6,8,8],[4,1,4,3],[4,6,4,8],[5,1,5,3],[5,6,5,8],[6,6,6,8],[7,1,7,3],[7,6,7,8],[0,1,0,19],[1,1,1,2],[2,1,2,3],[2,6,2,8],[2,10,2,12],[1,3,1,6],[499,53,499,64],[527,47,527,48],[620,30,620,37],[45,75,46,82],[9,1,9,3],[9,6,9,8],[10,6,10,8],[11,1,11,3],[11,6,11,8],[12,1,12,3],[12,6,12,8],[13,1,13,3],[13,6,13,8],[17,5,17,13],[30,1,30,13],[45,67,46,74],[31,9,31,10],[32,9,32,10],[33,9,33,10],[499,32,499,41],[499,43,499,52]]}
[null,"Cover Crop Evaluator"]
[null,"Producer:",null,null,null,null,null,null,null,null,null,"Date:"]
[null,"Objectives",null,null,null,{"$f":"IF(F4>1,1,0)","v":0},"Species",null,null,null,"   Seeding Rate PLS/ac"]
[null,null,null,null,null,{"$f":"SUM(K5:K14)","v":0},null,null,null,null,null,"Recommended ","Planned"]
[null,"High Priority",null,null,null,{"$f":"IF(F4>1,F4,\"\")","v":""},"Select Species",null,null,null,{"$f":"IF(OR(G5=\"\",G5=\"Select Species\"),\"\",M5/L5)","v":""},{"$f":"IF(OR(G5=\"\",G5=\"Select Species\"),\"\",VLOOKUP(G5,AF$502:AO$525,10,FALSE))","v":""}]
[null,"Select Attribute",null,null,null,null,"Select Species",null,null,null,{"$f":"IF(OR(G6=\"\",G6=\"Select Species\"),\"\",M6/L6)","v":""},{"$f":"IF(OR(G6=\"\",G6=\"Select Species\"),\"\",VLOOKUP(G6,AF$502:AO$525,10,FALSE))","v":""}]
[null,"Moderate Priority",null,null,null,null,"Select Species",null,null,null,"",""]
[null,"Select Attribute",null,null,null,null,"Select Species",null,null,null,"",""]
[null,"Low Priority",null,null,null,null,"Select Species",null,null,null,"",""]
[null,"Select Attribute",null,null,null,null,"Select Species",null,null,null,"",""]
[null,"Days of Cover Crop Needed",null,null,null,null,"Select Species",null,null,null,"",""]
[null,"Select Days",null,null,null,null,"Select Species",null,null,null,"",""]
[null,"Termination Technique",null,null,null,null,"Select Species",null,null,null,"",""]
[null,"Select Technique",null,null,null,null,"Select Species",null,null,null,"",""]
[]
[]
[]
[]
[]
[]
[]
[]
[]
[]
[]
[]
[]
[]
[]
[]
[null,"Seeding Mixture and Termination Compatibility Table"]
[null,null,{"$f":"IF(OR(G5=\"\",G5=\"Select Species\"),\"\",G5)","v":""},{"$f":"IF(OR(G6=\"\",G6=\"Select Species\"),\"\",G6)","v":""},{"$f":"IF(OR(G7=\"\",G7=\"Select Species\"),\"\",G7)","v":""},null,{"$f":"IF(OR(G8=\"\",G8=\"Select Species\"),\"\",G8)","v":""},{"$f":"IF(OR(G9=\"\",G9=\"Select Species\"),\"\",G9)","v":""},{"$f":"IF(OR(G10=\"\",G10=\"Select Species\"),\"\",G10)","v":""},{"$f":"IF(OR(G11=\"\",G11=\"Select Species\"),\"\",G11)","v":""},null,{"$f":"IF(OR(G12=\"\",G12=\"Select Species\"),\"\",G12)","v":""},{"$f":"IF(OR(G13=\"\",G13=\"Select Species\"),\"\",G13)","v":""},{"$f":"IF(OR(G14=\"\",G14=\"Select Species\"),\"\",G14)","v":""}]
[null,"Species",{"$f":"IF(C32=\"\",\"\",VLOOKUP(C32,$AF$502:$AX$525,19,FALSE))","v":""},{"$f":"IF(D32=\"\",\"\",VLOOKUP(D32,$AF$502:$AX$525,19,FALSE))","v":""},{"$f":"IF(E32=\"\",\"\",VLOOKUP(E32,$AF$502:$AX$525,19,FALSE))","v":""},null,{"$f":"IF(G32=\"\",\"\",VLOOKUP(G32,$AF$502:$AX$525,19,FALSE))","v":""},{"$f":"IF(H32=\"\",\"\",VLOOKUP(H32,$AF$502:$AX$525,19,FALSE))","v":""},{"$f":"IF(I32=\"\",\"\",VLOOKUP(I32,$AF$502:$AX$525,19,FALSE))","v":""},{"$f":"IF(J32=\"\",\"\",VLOOKUP(J32,$AF$502:$AX$525,19,FALSE))","v":""},null,{"$f":"IF(L32=\"\",\"\",VLOOKUP(L32,$AF$502:$AX$525,19,FALSE))","v":""},{"$f":"IF(M32=\"\",\"\",VLOOKUP(M32,$AF$502:$AX$525,19,FALSE))","v":""},{"$f":"IF(N32=\"\",\"\",VLOOKUP(N32,$AF$502:$AX$525,19,FALSE))","v":""}]
[null,"Termination Technique",{"$f":"IF(C32=\"\",\"\",INDEX($AF502:$BD525,MATCH(C32,$AF502:$AF525,0),MATCH($B$14,$AF501:$BD501,0)))","v":""},{"$f":"IF(D32=\"\",\"\",INDEX($AF502:$BD525,MATCH(D32,$AF502:$AF525,0),MATCH($B$14,$AF501:$BD501,0)))","v":""},{"$f":"IF(E32=\"\",\"\",INDEX($AF502:$BD525,MATCH(E32,$AF502:$AF525,0),MATCH($B$14,$AF501:$BD501,0)))","v":""},null,{"$f":"IF(G32=\"\",\"\",INDEX($AF502:$BD525,MATCH(G32,$AF502:$AF525,0),MATCH($B$14,$AF501:$BD501,0)))","v":""},{"$f":"IF(H32=\"\",\"\",INDEX($AF502:$BD525,MATCH(H32,$AF502:$AF525,0),MATCH($B$14,$AF501:$BD501,0)))","v":""},{"$f":"IF(I32=\"\",\"\",INDEX($AF502:$BD525,MATCH(I32,$AF502:$AF525,0),MATCH($B$14,$AF501:$BD501,0)))","v":""},{"$f":"IF(J32=\"\",\"\",INDEX($AF502:$BD525,MATCH(J32,$AF502:$AF525,0),MATCH($B$14,$AF501:$BD501,0)))","v":""},null,{"$f":"IF(L32=\"\",\"\",INDEX($AF502:$BD525,MATCH(L32,$AF502:$AF525,0),MATCH($B$14,$AF501:$BD501,0)))","v":""},{"$f":"IF(M32=\"\",\"\",INDEX($AF502:$BD525,MATCH(M32,$AF502:$AF525,0),MATCH($B$14,$AF501:$BD501,0)))","v":""},{"$f":"IF(N32=\"\",\"\",INDEX($AF502:$BD525,MATCH(N32,$AF502:$AF525,0),MATCH($B$14,$AF501:$BD501,0)))","v":""}]
[]
[]
[]
[]
[]
[]
[]
[]
[]
[]
[]
[null,null,null,null,null,null,null,null,null,null,null,null,null,null,null,null,null,null,null,null,null,null,null,null,null,null,null,null,null,null,null,null,null,null,null,null,null,null,null,null,null,null,null,null,null,null,null,null,null,null,null,null,null,null,null,null,null,null,null,null,null,null,null,null,null,null,null,"Height at Termination",null,null,null,null,null,null,null,"Biomass at Termination"]
[]
[]
[]
[]
[]
[]
[]
[]
[]
[]
[]
[]
[]
[]
[]
[]
[]
[]
[]
[]
[]
[]
[]
[]
[]
[]
[]
[]
[]
[]
[]
[]
[]
[]
[]
[]
[]
[]
[]
[]
[]
[]
[]
[]
[]
[]
[]
[]
[]
[]
[]
[]
[]
[]
[]
[]
[]
[]
[]
[]
[]
[]
[]
[]
[]
[]
[]
[]
[]
[]
[]
[]
[]
[]
[]
[]
[]
[]
[]
[]
[]
[]
[]
[]
[]
[]
[]
[]
[]
[]
[]
[]
[]
[]
[]
[]
[]
[]
[]
[]
[]
[]
[]
[]
[]
[]
[]
[]
[]
[]
[]
[]
[]
[]
[]
[]
[]
[]
[]
[]
[]
[]
[]
[]
[]
[]
[]
[]
[]
[]
[]
[]
[]
[]
[]
[]
[]
[]
[]
[]
[]
[]
[]
[]
[]
[]
[]
[]
[]
[]
[]
[]
[]
[]
[]
[]
[]
[]
[]
[]
[]
[]
[]
[]
[]
[]
[]
[]
[]
[]
[]
[]
[]
[]
[]
[]
[]
[]
[]
[]
[]
[]
[]
[]
[]
[]
[]
[]
[]
[]
[]
[]
[]
[]
[]
[]
[]
[]
[]
[]
[]
[]
[]
[]
[]
[]
[]
[]
[]
[]
[]
[]
[]
[]
[]
[]
[]
[]
[]
[]
[]
[]
[]
[]
[]
[]
[]
[]
[]
[]
[]
[]
[]
[]
[]
[]
[]
[]
[]
[]
[]
[]
[]
[]
[]
[]
[]
[]
[]
[]
[]
[]
[]
[]
[]
[]
[]
[]
[]
[]
[]
[]
[]
[]
[]
[]
[]
[]
[]
[]
[]
[]
[]
[]
[]
[]
[]
[]
[]
[]
[]
[]
[]
[]
[]
[]
[]
[]
[]
[]
[]
[]
[]
[]
[]
[]
[]
[]
[]
[]
[]
[]
[]
[]
[]
[]
[]
[]
[]
[]
[]
[]
[]
[]
[]
[]
[]
[]
[]
[]
[]
[]
[]
[]
[]
[]
[]
[]
[]
[]
[]
[]
[]
[]
[]
[]
[]
[]
[]
[]
[]
[]
[]
[]
[]
[]
[]
[]
[]
[]
[]
[]
[]
[]
[]
[]
[]
[]
[]
[]
[]
[]
[]
[]
[]
[]
[]
[]
[]
[]
[]
[]
[]
[]
[]
[]
[]
[]
[]
[]
[]
[]
[]
[]
[]
[]
[]
[]
[null,null,null,null,null,null,null,null,null,null,null,null,null,null,null,null,null,null,null,null,null,null,null,null,null,null,null,null,null,null,null,"Cover Crop Species"]
[]
[null,null,null,null,null,null,null,null,null,null,null,null,null,null,null,null,null,null,null,null,null,null,null,null,null,null,null,null,null,null,null,"Alfalfa"]
[null,null,null,null,null,null,null,null,null,null,null,null,null,null,null,null,null,null,null,null,null,null,null,null,null,null,null,null,null,null,null,"Annual ryegrass"]
[null,null,null,null,null,null,null,null,null,null,null,null,null,null,null,null,null,null,null,null,null,null,null,null,null,null,null,null,null,null,null,"Barley"]
[null,null,null,null,null,null,null,null,null,null,null,null,null,null,null,null,null,null,null,null,null,null,null,null,null,null,null,null,null,null,null,"Buckwheat"]
[null,null,null,null,null,null,null,null,null,null,null,null,null,null,null,null,null,null,null,null,null,null,null,null,null,null,null,null,null,null,null,"Clover, yellow sweet"]
[null,null,null,null,null,null,null,null,null,null,null,null,null,null,null,null,null,null,null,null,null,null,null,null,null,null,null,null,null,null,null,"Clover, white sweet"]
[null,null,null,null,null,null,null,null,null,null,null,null,null,null,null,null,null,null,null,null,null,null,null,null,null,null,null,null,null,null,null,"Cow pea"]
[null,null,null,null,null,null,null,null,null,null,null,null,null,null,null,null,null,null,null,null,null,null,null,null,null,null,null,null,null,null,null,"Lablab"]
[null,null,null,null,null,null,null,null,null,null,null,null,null,null,null,null,null,null,null,null,null,null,null,null,null,null,null,null,null,null,null,"Pearlmillet"]
[null,null,null,null,null,null,null,null,null,null,null,null,null,null,null,null,null,null,null,null,null,null,null,null,null,null,null,null,null,null,null,"Mung bean"]
[null,null,null,null,null,null,null,null,null,null,null,null,null,null,null,null,null,null,null,null,null,null,null,null,null,null,null,null,null,null,null,"Oats"]
[null,null,null,null,null,null,null,null,null,null,null,null,null,null,null,null,null,null,null,null,null,null,null,null,null,null,null,null,null,null,null,"Pigeonpea"]
[null,null,null,null,null,null,null,null,null,null,null,null,null,null,null,null,null,null,null,null,null,null,null,null,null,null,null,null,null,null,null,"Rye, cereal"]
[null,null,null,null,null,null,null,null,null,null,null,null,null,null,null,null,null,null,null,null,null,null,null,null,null,null,null,null,null,null,null,"Sorghum"]
[null,null,null,null,null,null,null,null,null,null,null,null,null,null,null,null,null,null,null,null,null,null,null,null,null,null,null,null,null,null,null,"Sorghum x sudangrass"]
[null,null,null,null,null,null,null,null,null,null,null,null,null,null,null,null,null,null,null,null,null,null,null,null,null,null,null,null,null,null,null,"Soybean"]
[null,null,null,null,null,null,null,null,null,null,null,null,null,null,null,null,null,null,null,null,null,null,null,null,null,null,null,null,null,null,null,"Sudangrass"]
[null,null,null,null,null,null,null,null,null,null,null,null,null,null,null,null,null,null,null,null,null,null,null,null,null,null,null,null,null,null,null,"Sunn hemp"]
[null,null,null,null,null,null,null,null,null,null,null,null,null,null,null,null,null,null,null,null,null,null,null,null,null,null,null,null,null,null,null,"Vetch"]
[null,null,null,null,null,null,null,null,null,null,null,null,null,null,null,null,null,null,null,null,null,null,null,null,null,null,null,null,null,null,null,"Wheat"]
[]
[]
[]
[]
[]
[]
[]
[]
[]
[]
[]
[]
[]
[]
[]
[]
[]
[]
[]
[]
[]
[]
[]
[]
[]
[]
[]
[]
[]
[]
[]
[]
[]
[]
[]
[]
[]
[]
[]
[]
[]
[]
[]
[null,null,null,null,null,null,null,null,null,null,null,null,null,null,null,null,null,null,null,null,null,null,null,null,null,null,null,null,null,null,null,"Cover Crop Species","Attributes",null,null,null,null,null,null,null,null,null,null,"Compatibility",null,null,null,null,null,null,null,null,null,"Termination"]
[null,null,null,null,null,"Days","Termination Date","Height (ft)","Biomass (tons)",null,null,null,null,null,null,null,null,null,null,null,null,null,null,null,null,null,null,null,null,"Select Species",null,null,"Erosion Control","Nitrogen Fixation","Nitrogen Scavaging","Lasting Residue","Weed Suppression","Compacted Soils","Attract Beneficial Insects","Soil Organic Matter","Seeding Rate","Days to Flowering","Height ","Vine","Rating","Percent Planting",1,2,3,null,"Mechanical Incorporation","Herbicide","Herbicide + Mechanical Incorporation","Roller Crimper","Roller Crimper + Herbicide","Mowing","Functional Group","Erosion Control","Nitrogen Fixation","Nitrogen Scavaging","Lasting Residue","Weed Suppression","Compacted Soils","Attract Beneficial Insects",null,"Seeding Rate","Days to Flowering",30,45,60,75,90,105,120,"Height at Termination",30,45,60,75,90,105,120,"Biomass at Termination"]
[null,"cover crop",null,null,null,null,null,null,null,null,null,null,null,null,null,null,null,null,null,null,null,null,null,null,null,null,null,null,null,{"$f":"'Veg Guide Data Base'!A1499","v":"aalii, hopbush"},null,"alfalfa",{"$f":"(IF(OR(B$14=\"Mechanical Incorporation\",B$14=\"Herbicide + Mechanical Incorporation\"),BF502*0.75,BF502))","v":90},100,50,{"$f":"(IF(OR(B$14=\"Mechanical Incorporation\",B$14=\"Herbicide + Mechanical Incorporation\"),BI502*0,BI502))","v":30},{"$f":"(IF(OR(B$14=\"Mechanical Incorporation\",B$14=\"Herbicide + Mechanical Incorporation\"),BJ502*0.75,BJ502))","v":60},{"$f":"(IF(OR(B$14=\"Mechanical Incorporation\",B$14=\"Herbicide + Mechanical Incorporation\"),BK502*0.5,BK502))","v":80},{"$f":"IF(AP502>F$529,0,BL502)","v":0},30,{"$f":"VLOOKUP(AF502,'Veg Guide Data Base'!A$1499:G$1554,7,FALSE)","v":{"$error":"#N/A"}},40,"Short","No",{"$f":"IF(OR(AQ502=\"Tall\",AR502=\"Yes\"),1,IF(AQ502=\"moderate\",2,3))","v":3},{"$f":"IFERROR(VLOOKUP(AF502,G$5:L$14,5,FALSE),0)","v":0},{"$f":"IF(AU$501=AS502,AT502,0)","v":0},{"$f":"IF(AV$501=AS502,AT502,0)","v":0},{"$f":"IF(AW$501=AS502,AT502,0)","v":0},{"$f":"IF(AU502>0,AU$530,IF(AV502>0,AV$530,IF(AW502>0,AW$530,0)))","v":0},"Good","Good","Good","Poor","Good","Poor","WSB",90,100,50,30,60,80,80,null,{"$f":"AO502","v":{"$error":"#N/A"}},75,8,12,16,20,30,30,30,{"$f":"IF(F$529=BP$501,BP502,IF(F$529=BQ$501,BQ502,IF(F$529=BR$501,BR502,IF(F$529=BS$501,BS502,IF(F$529=BT$501,BT502,IF(F$529=BU$501,BU502,IF(F$529=BV$501,BV502,0)))))))","v":0},0.5,1,2,2.5,3,3,3,{"$f":"IF(F$529=BX$501,BX502,IF(F$529=BY$501,BY502,IF(F$529=BZ$501,BZ502,IF(F$529=CA$501,CA502,IF(F$529=CB$501,CB502,IF(F$529=CC$501,CC502,IF(F$529=CD$501,CD502,0)))))))","v":0}]
[null,{"$f":"IF(OR(G5=\"\",G5=\"Select Species\"),\"\",G5)","v":""},null,null,null,{"$f":"VLOOKUP(B503,AF$502:AP$525,11,FALSE)","v":{"$error":"#N/A"}},{"$f":"IF(B$12=B$522,30,IF(B$12=B$523,45,IF(B$12=B$524,60,IF(B$12=B$525,75,IF(B$12=B$526,90,IF(B$12=B$527,105,IF(B$12=B$528,120,\"\")))))))","v":""},{"$f":"IF(B503=\"\",\"\",IF(B503=\"Select Species\",\"\",VLOOKUP(B503,AF$502:BW$525,43))/12)","v":""},{"$f":"IF(OR(B503=\"\",B503=\"Select Species\"),\"\",IF(K5<1,VLOOKUP(B503,AF$502:CE$525,51)*K5,VLOOKUP(B503,AF$502:CE$525,51)*1))","v":""},null,null,null,null,null,null,null,null,null,null,null,null,null,null,null,null,null,null,null,null,{"$f":"'Veg Guide Data Base'!A1500","v":"ae - 1"},null,"annual ryegrass - 2",90,0,80,70,70,30,0,40,{"$f":"VLOOKUP(AF503,'Veg Guide Data Base'!A$1499:G$1554,7,FALSE)","v":{"$error":"#N/A"}},50,"Short","No",3,{"$f":"IFERROR(VLOOKUP(AF503,G$5:L$14,5,FALSE),0)","v":0},{"$f":"IF(AU$501=AS503,AT503,0)","v":0},0,0,0,"Good","Good","Good","Moderate","Good","Moderate","CSG",90,0,80,70,70,30,20,null,{"$error":"#N/A"},40,8,16,24,24,24,24,24,{"$f":"IF(F$529=BP$501,BP503,IF(F$529=BQ$501,BQ503,IF(F$529=BR$501,BR503,IF(F$529=BS$501,BS503,IF(F$529=BT$501,BT503,IF(F$529=BU$501,BU503,IF(F$529=BV$501,BV503,0)))))))","v":0},0.5,0.75,1,1.5,2,2,2,0]
[null,{"$f":"IF(OR(G6=\"\",G6=\"Select Species\"),\"\",G6)","v":""},null,null,null,{"$error":"#N/A"},"","","",null,null,null,null,null,null,null,{"$f":"G5","v":"Select Species"},{"$f":"IF(Q504=0,\"\",VLOOKUP(Q504,AF$502:AK$527,6))","v":70},{"$f":"IF(R504*K5<100,R504*K5,R504)","v":{"$error":"#VALUE!"}},null,null,null,null,null,null,null,null,null,null,{"$f":"'Veg Guide Data Base'!A1501","v":"ae - 2"},null,"barley ",90,0,80,70,60,30,0,50,{"$f":"VLOOKUP(AF504,'Veg Guide Data Base'!A$1499:G$1554,7,FALSE)","v":{"$error":"#N/A"}},50,"Moderate","No",2,0,0,0,0,0,"Good","Good","Good","Good","Good","Moderate","CSG",90,0,80,70,60,30,20,null,{"$error":"#N/A"},60,12,18,24,24,0,0,0,{"$f":"IF(F$529=BP$501,BP504,IF(F$529=BQ$501,BQ504,IF(F$529=BR$501,BR504,IF(F$529=BS$501,BS504,IF(F$529=BT$501,BT504,IF(F$529=BU$501,BU504,IF(F$529=BV$501,BV504,0)))))))","v":0},0.5,0.75,1,1.5,2,2,2,0]
[null,"",null,null,null,{"$error":"#N/A"},"","","",null,null,null,null,null,null,null,{"$f":"G6","v":"Select Species"},70,{"$f":"IF(R505*K6<100,R505*K6,R505)","v":{"$error":"#VALUE!"}},null,null,null,null,null,null,null,null,null,null,{"$f":"'Veg Guide Data Base'!A1502","v":"ae, manele, soapberry"},null,"buckwheat",70,0,50,20,50,50,0,20,{"$f":"VLOOKUP(AF505,'Veg Guide Data Base'!A$1499:G$1554,7,FALSE)","v":{"$error":"#N/A"}},30,"Short","No",3,0,0,0,0,0,"Good","Good","Good","Moderate","Good","Moderate","WSB",70,0,50,20,50,50,90,null,{"$error":"#N/A"},24,15,20,20,20,20,20,20,{"$f":"IF(F$529=BP$501,BP505,IF(F$529=BQ$501,BQ505,IF(F$529=BR$501,BR505,IF(F$529=BS$501,BS505,IF(F$529=BT$501,BT505,IF(F$529=BU$501,BU505,IF(F$529=BV$501,BV505,0)))))))","v":0},1,1.5,1.5,1.5,1.5,1.5,1.5,0]
[null,"",null,null,null,{"$error":"#N/A"},"","","",null,null,null,null,null,null,null,"Select Species",70,{"$error":"#VALUE!"},null,null,null,null,null,null,null,null,null,null,{"$f":"'Veg Guide Data Base'!A1503","v":"African mahogany"},null,"clover, sweet - 1",90,100,50,30,80,80,0,30,{"$f":"VLOOKUP(AF506,'Veg Guide Data Base'!A$1499:G$1554,7,FALSE)","v":{"$error":"#N/A"}},40,"Moderate","No",2,0,0,0,0,0,"Good","Good","Good","Poor","Good","Poor","CSB",90,100,50,30,80,80,20,null,{"$error":"#N/A"},40,15,20,30,36,36,36,36,{"$f":"IF(F$529=BP$501,BP506,IF(F$529=BQ$501,BQ506,IF(F$529=BR$501,BR506,IF(F$529=BS$501,BS506,IF(F$529=BT$501,BT506,IF(F$529=BU$501,BU506,IF(F$529=BV$501,BV506,0)))))))","v":0},1,2,3,4,5,5,5,0]
[null,"",null,null,null,{"$error":"#N/A"},"","","",null,null,null,null,null,null,null,"Select Species",70,{"$error":"#VALUE!"},null,null,null,null,null,null,null,null,null,null,{"$f":"'Veg Guide Data Base'!A1504","v":"ahakea"},null,"clover, sweet - 2",90,100,50,30,80,80,0,30,{"$f":"VLOOKUP(AF507,'Veg Guide Data Base'!A$1499:G$1554,7,FALSE)","v":{"$error":"#N/A"}},40,"Moderate","No",2,0,0,0,0,0,"Good","Good","Good","Poor","Good","Poor","CSB",90,100,50,30,80,80,20,null,{"$error":"#N/A"},40,15,20,30,36,36,36,36,36,1,2,3,4,5,5,5,0]
[null,"",null,null,null,{"$error":"#N/A"},"","","",null,null,null,null,null,null,null,"Select Species",70,{"$error":"#VALUE!"},null,null,null,null,null,null,null,null,null,null,{"$f":"'Veg Guide Data Base'!A1505","v":"akia - 1"},null,"cowpea",90,100,50,30,90,80,0,40,{"$f":"VLOOKUP(AF508,'Veg Guide Data Base'!A$1499:G$1554,7,FALSE)","v":{"$error":"#N/A"}},60,"Tall","No",1,0,0,0,0,0,"Good","Good","Good","Moderate","Good","Moderate","WSB",90,100,50,30,90,80,80,null,{"$error":"#N/A"},50,12,24,36,36,36,36,36,{"$f":"IF(F$529=BP$501,BP508,IF(F$529=BQ$501,BQ508,IF(F$529=BR$501,BR508,IF(F$529=BS$501,BS508,IF(F$529=BT$501,BT508,IF(F$529=BU$501,BU508,IF(F$529=BV$501,BV508,0)))))))","v":0},0.5,1,2,3,4,4,4,0]
[null,"",null,null,null,{"$error":"#N/A"},"","","",null,null,null,null,null,null,null,"Select Species",70,{"$error":"#VALUE!"},null,null,null,null,null,null,null,null,null,null,{"$f":"'Veg Guide Data Base'!A1506","v":"akia - 2"},null,"lablab, dolichos",100,100,50,30,90,80,0,40,{"$f":"VLOOKUP(AF509,'Veg Guide Data Base'!A$1499:G$1554,7,FALSE)","v":{"$error":"#N/A"}},60,"Short","Yes",1,0,0,0,0,0,"Good","Good","Good","Poor","Good","Poor","WSB",100,100,50,30,90,80,50,null,{"$error":"#N/A"},50,12,24,36,36,36,36,36,0,2,4,5,5,5,5,5,0]
[null,"",null,null,null,{"$error":"#N/A"},"","","",null,null,null,null,null,null,null,"Select Species",70,{"$error":"#VALUE!"},null,null,null,null,null,null,null,null,null,null,{"$f":"'Veg Guide Data Base'!A1507","v":"akia - 3"},null,"millet, pearl millet ",100,0,80,80,90,70,0,80,{"$f":"VLOOKUP(AF510,'Veg Guide Data Base'!A$1499:G$1554,7,FALSE)","v":{"$error":"#N/A"}},60,"Tall","No",1,0,0,0,0,0,"Good","Good","Good","Moderate","Good","Poor","WSG",100,0,80,80,90,70,50,null,{"$error":"#N/A"},50,30,75,100,100,100,100,100,0,1,2,3,4,4,4,4,0]
[null,"",null,null,null,{"$error":"#N/A"},"","","",null,null,null,null,null,null,null,"Select Species",70,{"$error":"#VALUE!"},null,null,null,null,null,null,null,null,null,null,{"$f":"'Veg Guide Data Base'!A1508","v":"akia - 4"},null,"mung bean",90,100,50,30,90,80,0,40,{"$f":"VLOOKUP(AF511,'Veg Guide Data Base'!A$1499:G$1554,7,FALSE)","v":{"$error":"#N/A"}},60,"Moderate","No",2,0,0,0,0,0,"Good","Good","Good","Moderate","Good","Poor","WSB",90,100,50,30,90,80,50,null,{"$error":"#N/A"},50,12,24,36,36,36,36,36,0,1,2,3,3,3,3,3,0]
[null,"",null,null,null,{"$error":"#N/A"},"","","",null,null,null,null,null,null,null,"Select Species",70,{"$error":"#VALUE!"},null,null,null,null,null,null,null,null,null,null,{"$f":"'Veg Guide Data Base'!A1509","v":"akia - 5"},null,"oats, black",90,0,80,80,70,30,0,50,{"$f":"VLOOKUP(AF512,'Veg Guide Data Base'!A$1499:G$1554,7,FALSE)","v":{"$error":"#N/A"}},50,"Moderate","No",2,0,0,0,0,0,"Good","Good","Good","Good","Good","Moderate","CSG",90,0,80,80,70,30,10,null,{"$error":"#N/A"},80,6,12,18,24,30,30,30,0,0.5,1,2,3,3,3,3,0]
[null,null,null,null,null,null,null,null,null,null,null,null,null,null,null,null,null,null,null,null,null,null,null,null,null,null,null,null,null,{"$f":"'Veg Guide Data Base'!A1510","v":"akia - 6"},null,"oats, common (alone)",90,0,80,80,70,30,0,50,{"$f":"VLOOKUP(AF513,'Veg Guide Data Base'!A$1499:G$1554,7,FALSE)","v":{"$error":"#N/A"}},50,"Moderate","No",2,0,0,0,0,0,"Good","Good","Good","Good","Good","Moderate","CSG",90,0,80,80,70,30,10,null,{"$error":"#N/A"},60,6,12,18,24,30,30,30,0,0.5,1,2,3,3,3,3,0]
[null,null,null,null,null,null,null,null,null,null,null,null,null,null,null,null,null,null,null,null,null,null,null,null,null,null,null,null,null,{"$f":"'Veg Guide Data Base'!A1511","v":"akoko - 1"},null,"oats, red",90,0,80,80,70,30,0,50,{"$f":"VLOOKUP(AF514,'Veg Guide Data Base'!A$1499:G$1554,7,FALSE)","v":{"$error":"#N/A"}},50,"Moderate","No",2,0,0,0,0,0,"Good","Good","Good","Good","Good","Moderate","CSG",90,0,80,80,70,30,10,null,70,60,6,12,18,24,30,30,30,0,0.5,1,2,3,3,3,3,0]
[null,null,null,null,null,null,null,null,null,null,null,null,null,null,null,null,null,null,null,null,null,null,null,null,null,null,null,null,null,{"$f":"'Veg Guide Data Base'!A1512","v":"akoko - 4"},null,"pigeon pea, pi nunu, pi pokoliko",100,100,50,30,90,90,0,40,{"$f":"VLOOKUP(AF515,'Veg Guide Data Base'!A$1499:G$1554,7,FALSE)","v":{"$error":"#N/A"}},70,"Moderate","Yes",1,0,0,0,0,0,"Good","Good","Good","Moderate","Good","Moderate","WSB",100,100,50,30,90,90,50,null,{"$f":"AO515","v":{"$error":"#N/A"}},90,10,20,30,50,70,90,90,0,1,2,3,4,5,5,5,0]
[null,null,null,{"$f":"IF(K501=\"Height at Termination\",\"Feet\",IF(K501=\"Biomass at Termination\",\"Tons\",\"\"))","v":""},null,null,null,null,null,null,null,null,null,null,null,null,null,null,null,null,null,null,null,null,null,null,null,null,null,{"$f":"'Veg Guide Data Base'!A1513","v":"akoko - 5"},null,"rye, cereal ",80,0,80,80,70,30,0,40,{"$f":"VLOOKUP(AF516,'Veg Guide Data Base'!A$1499:G$1554,7,FALSE)","v":{"$error":"#N/A"}},50,"Moderate","No",2,0,0,0,0,0,"Good","Good","Good","Good","Good","Moderate","CSG",80,0,80,80,70,30,10,null,{"$error":"#N/A"},50,10,20,24,24,24,24,24,0,0.5,1,2,2.5,3,3,3,0]
[null,null,null,null,null,null,null,null,null,null,null,null,null,null,null,null,null,null,null,null,null,null,null,null,null,null,null,null,null,{"$f":"'Veg Guide Data Base'!A1514","v":"akolea"},null,"sorghum x sudan hybrids",100,0,80,80,90,70,0,80,{"$f":"VLOOKUP(AF517,'Veg Guide Data Base'!A$1499:G$1554,7,FALSE)","v":{"$error":"#N/A"}},60,"Tall","No",1,0,0,0,0,0,"Good","Good","Good","Moderate","Good","Poor","WSG",100,0,80,80,90,70,50,null,{"$error":"#N/A"},60,30,50,70,100,100,100,100,0,2,4,5,5,5,5,5,0]
[null,null,null,null,null,null,null,null,null,null,null,null,null,null,null,null,{"$f":"G14","v":"Select Species"},{"$f":"IF(Q518=0,\"\",VLOOKUP(Q518,AF$502:AK$527,6))","v":70},{"$f":"IF(R518*K14<100,R518*K14,R518)","v":{"$error":"#VALUE!"}},null,null,null,null,null,null,null,null,null,null,{"$f":"'Veg Guide Data Base'!A1515","v":"alahee"},null,"sorghum x sudangrass",100,0,80,80,90,70,0,80,{"$f":"VLOOKUP(AF518,'Veg Guide Data Base'!A$1499:G$1554,7,FALSE)","v":{"$error":"#N/A"}},60,"Tall","No",1,0,0,0,0,0,"Good","Good","Good","Moderate","Good","Poor","WSG",100,0,80,80,90,70,50,null,{"$error":"#N/A"},53,30,50,70,100,100,100,100,0,2,4,6,6,6,6,6,0]
[null,null,null,null,null,null,null,null,null,null,null,null,null,null,null,null,null,null,null,null,null,null,null,null,null,null,null,null,null,{"$f":"'Veg Guide Data Base'!A1516","v":"alani"},null,"soybean",70,100,50,30,50,50,0,30,{"$f":"VLOOKUP(AF519,'Veg Guide Data Base'!A$1499:G$1554,7,FALSE)","v":{"$error":"#N/A"}},30,"Moderate","No",2,0,0,0,0,0,"Good","Good","Good","Moderate","Good","Moderate","WSB",70,100,50,30,50,50,50,null,{"$error":"#N/A"},35,12,16,30,30,30,30,30,0,0.5,1,2,2.5,3,3,3,0]
[null,null,null,null,null,null,null,null,"Select Technique",null,null,null,null,null,null,null,null,null,null,null,null,null,null,null,null,null,null,null,null,{"$f":"'Veg Guide Data Base'!A1517","v":"alani"},null,"sudangrass",100,0,80,80,90,70,0,80,{"$f":"VLOOKUP(AF520,'Veg Guide Data Base'!A$1499:G$1554,7,FALSE)","v":{"$error":"#N/A"}},60,"Tall","No",1,0,0,0,0,0,"Good","Good","Good","Moderate","Good","Poor","CSG",100,0,80,80,90,70,50,null,{"$error":"#N/A"},60,30,50,70,100,100,100,100,0,2,4,6,6,6,6,6,0]
[null,"Select Days",null,null,null,"Termination",null,null,"Mechanical Incorporation",null,null,0.25,null,null,null,null,null,null,null,null,null,null,null,null,null,null,null,null,null,{"$f":"'Veg Guide Data Base'!A1518","v":"aloalo, hau hele wai, ʻakiohala, Hawaiian pink hibiscus, lindenleaf rosemallow"},null,"sunn hemp",100,100,50,30,90,90,0,50,{"$f":"VLOOKUP(AF521,'Veg Guide Data Base'!A$1499:G$1554,7,FALSE)","v":{"$error":"#N/A"}},70,"Tall","No",1,0,0,0,0,0,"Good","Good","Good","Good","Good","Moderate","WSB",100,100,50,30,90,90,80,null,{"$error":"#N/A"},60,30,60,75,100,100,100,100,0,2,4,5,5,5,5,5,0]
[null,"30 days",null,null,null,{"$f":"IF(B$12=B522,30,\"\")","v":""},null,null,"Herbicide",null,null,1,null,null,null,null,null,null,null,null,null,null,null,null,null,null,null,null,null,{"$f":"'Veg Guide Data Base'!A1519","v":"amau"},null,"vetch (common)",90,100,50,30,60,50,0,40,{"$f":"VLOOKUP(AF522,'Veg Guide Data Base'!A$1499:G$1554,7,FALSE)","v":{"$error":"#N/A"}},40,"Moderate","Yes",1,0,0,0,0,0,"Good","Good","Good","Poor","Good","Poor","CSB",90,100,50,30,60,50,80,null,{"$error":"#N/A"},80,4,6,8,12,16,16,16,0,0.5,1,2,2.5,3,3,3,0]
[null,"45 days",null,null,null,{"$f":"IF(B$12=B523,45,\"\")","v":""},null,null,"Herbicide + Mechanical Incorporation",null,null,0.25,null,null,null,null,null,null,null,null,null,null,null,null,null,null,null,null,null,{"$f":"'Veg Guide Data Base'!A1520","v":"areca palm"},null,"vetch (purple)",90,100,50,30,60,50,0,40,{"$f":"VLOOKUP(AF523,'Veg Guide Data Base'!A$1499:G$1554,7,FALSE)","v":{"$error":"#N/A"}},40,"Moderate","Yes",1,0,0,0,0,0,"Good","Good","Good","Poor","Good","Poor","CSB",90,100,50,30,60,50,80,null,{"$error":"#N/A"},75,4,6,8,12,16,16,16,0,0.5,1,2,2.5,3,3,3,0]
[null,"60 days",null,null,null,{"$f":"IF(B$12=B524,60,\"\")","v":""},null,null,"Roller Crimper",null,null,1,null,null,null,null,null,null,null,null,null,null,null,null,null,null,null,null,null,{"$f":"'Veg Guide Data Base'!A1521","v":"atemoya"},null,"vetch (woolypod)",90,100,50,30,60,50,0,40,{"$f":"VLOOKUP(AF524,'Veg Guide Data Base'!A$1499:G$1554,7,FALSE)","v":{"$error":"#N/A"}},40,"Moderate","Yes",1,0,0,0,0,0,"Good","Good","Good","Poor","Good","Poor","CSB",90,100,50,30,60,50,80,null,{"$error":"#N/A"},90,4,6,8,10,12,16,16,0,0.5,1,2,2.5,3,3,3,0]
[null,"75 days",null,null,null,{"$f":"IF(B$12=B525,75,\"\")","v":""},null,null,"Roller Crimper + Herbicide",null,null,1,null,null,null,null,null,null,null,null,null,null,null,null,null,null,null,null,null,{"$f":"'Veg Guide Data Base'!A1522","v":"aulu"},null,"wheat",{"$f":"(IF(OR(B$14=\"Mechanical Incorporation\",B$14=\"Herbicide + Mechanical Incorporation\"),BF525*0.75,BF525))","v":90},0,80,{"$f":"(IF(OR(B$14=\"Mechanical Incorporation\",B$14=\"Herbicide + Mechanical Incorporation\"),BI525*0,BI525))","v":80},{"$f":"(IF(OR(B$14=\"Mechanical Incorporation\",B$14=\"Herbicide + Mechanical Incorporation\"),BJ525*0.75,BJ525))","v":60},{"$f":"(IF(OR(B$14=\"Mechanical Incorporation\",B$14=\"Herbicide + Mechanical Incorporation\"),BK525*0.5,BK525))","v":30},{"$f":"IF(AP525>F$529,0,BL525)","v":0},50,{"$f":"VLOOKUP(AF525,'Veg Guide Data Base'!A$1499:G$1554,7,FALSE)","v":{"$error":"#N/A"}},50,"Moderate","No",{"$f":"IF(OR(AQ525=\"Tall\",AR525=\"Yes\"),1,IF(AQ525=\"moderate\",2,3))","v":2},0,{"$f":"IF(AU$501=AS525,AT525,0)","v":0},{"$f":"IF(AV$501=AS525,AT525,0)","v":0},{"$f":"IF(AW$501=AS525,AT525,0)","v":0},{"$f":"IF(AU525>0,AU$530,IF(AV525>0,AV$530,IF(AW525>0,AW$530,0)))","v":0},"Good","Good","Good","Moderate","Good","Moderate","CSG",90,0,80,80,60,30,10,null,{"$error":"#N/A"},50,12,24,30,30,30,30,30,0,0.5,1,2,2.5,3,3,3,0]
[null,"90 days",null,null,null,{"$f":"IF(B$12=B526,90,\"\")","v":""},null,null,"Mowing",null,null,0.25]
[null,"105 days",null,null,null,{"$f":"IF(B$12=B527,105,\"\")","v":""},null,null,null,null,null,null,null,null,null,null,null,null,null,null,null,null,null,null,null,null,null,null,null,null,null,null,null,null,null,null,null,null,null,null,null,null,"Short <24\"",null,null,null,{"$f":"SUM(AU502:AU525)","v":0},{"$f":"SUM(AV502:AV525)","v":0},{"$f":"SUM(AW502:AW525)","v":0}]
[null,"120 days",null,null,null,{"$f":"IF(B$12=B528,120,\"\")","v":""},null,null,null,null,null,null,null,null,null,null,null,null,null,null,null,null,null,null,null,null,null,null,null,null,null,null,null,null,null,null,null,null,null,null,null,null,"Moderate 24-48\"",null,null,null,null,{"$f":"SUM(AU527:AV527)","v":0}]
[null,null,null,null,null,{"$f":"SUM(F522:F528)","v":0},null,null,null,null,null,null,null,null,null,null,null,null,null,null,null,null,null,null,null,null,null,null,null,null,null,null,null,null,null,null,null,null,null,null,null,null,"Tall = >48\""]
[null,null,null,null,null,null,null,null,null,null,null,null,null,null,null,null,null,null,null,null,null,null,null,null,null,null,null,null,null,null,null,null,null,null,null,null,null,null,null,null,null,null,null,null,null,null,"Good",{"$f":"IF(AU527>60%,\"Poor\",IF(AU527>50%,\"Moderate\",\"Good\"))","v":"Good"},{"$f":"IF(AU527>40%,\"Poor\",IF(AV528>50%,\"Poor\",IF(AV528>40%,\"Moderate\",\"Good\")))","v":"Good"}]
[null,null,null,null,null,null,null,null,null,null,null,null,null,null,null,null,null,null,null,null,null,null,null,null,null,null,null,null,null,{"$f":"'Veg Guide Data Base'!A1523","v":"avocado"}]
[]
[null,null,null,null,null,null,null,null,null,null,null,null,null,null,null,null,null,null,null,null,null,null,null,null,null,null,null,null,null,null,null,null,null,null,null,null,null,null,{"$f":"B6","v":"Select Attribute"},{"$f":"B8","v":"Select Attribute"},{"$f":"B10","v":"Select Attribute"},null,null,"1st RC"]
[null,null,null,null,null,null,null,null,null,null,null,null,null,null,null,null,null,null,null,null,null,null,null,null,null,null,null,null,null,null,"high priority",3,null,"Select Attribute",null,null,null,null,{"$f":"IF(OR(B$6=\"\",B$6=\"Select Attribute\"),\"\",IF(OR(G5=\"\",G5=\"Select Species\"),\"\",INDEX(AG$502:AO$525,MATCH(G5,AF$502:AF$525,0),MATCH(B$6,AG$501:AO$501,0))*K5))","v":""},{"$f":"IF(OR(B$8=\"\",B$8=\"Select Attribute\"),\"\",IF(OR(G5=\"\",G5=\"Select Species\"),\"\",INDEX(AF$502:AN$525,MATCH(G5,AF$502:AF$525,0),MATCH(B$8,AF$501:AN$501,0))*K5))","v":""},{"$f":"IF(OR(B$10=\"\",B$10=\"Select Attribute\"),\"\",IF(OR(G5=\"\",G5=\"Select Species\"),\"\",INDEX(AF$502:AN$525,MATCH(G5,AF$502:AF$525,0),MATCH(B$10,AF$501:AN$501,0))*K5))","v":""},null,null,"Speedometer",null,null,"Pointer "]
[null,null,null,null,null,null,null,null,null,null,null,null,null,null,null,null,null,null,null,null,null,null,null,null,null,null,null,null,null,null,"med priority",4,1,"Erosion Control",null,null,null,null,{"$f":"IF(OR(B$6=\"\",B$6=\"Select Attribute\"),\"\",IF(OR(G6=\"\",G6=\"Select Species\"),\"\",INDEX(AG$502:AO$525,MATCH(G6,AF$502:AF$525,0),MATCH(B$6,AG$501:AO$501,0))*K6))","v":""},{"$f":"IF(OR(B$8=\"\",B$8=\"Select Attribute\"),\"\",IF(OR(G6=\"\",G6=\"Select Species\"),\"\",INDEX(AF$502:AN$525,MATCH(G6,AF$502:AF$525,0),MATCH(B$8,AF$501:AN$501,0))*K6))","v":""},{"$f":"IF(OR(B$10=\"\",B$10=\"Select Attribute\"),\"\",IF(OR(G6=\"\",G6=\"Select Species\"),\"\",INDEX(AF$502:AN$525,MATCH(G6,AF$502:AF$525,0),MATCH(B$10,AF$501:AN$501,0))*K6))","v":""},null,null,"Start",0,null,"Value",{"$f":"AM544","v":0}]
[null,null,null,null,null,null,null,null,null,null,null,null,null,null,null,null,null,null,null,null,null,null,null,null,null,null,null,null,null,null,"low priority",7,2,"Nitrogen Fixation",null,null,null,null,"","","",null,null,"Initial",25,null,"Pointer ",1]
[null,null,null,null,null,null,null,null,null,null,null,null,null,null,null,null,null,null,null,null,null,null,null,null,null,null,null,null,null,null,null,null,3,"Nitrogen Scavaging",null,null,null,null,"","","",null,null,"Middle",50,null,"End",{"$f":"200-AV535-AV536","v":199}]
[null,null,null,null,null,null,null,null,null,null,null,null,null,null,null,null,null,null,null,null,null,null,null,null,null,null,null,null,null,null,null,null,4,"Lasting Residue",null,null,null,null,"","","",null,null,"End",25]
[null,null,null,null,null,null,null,null,null,null,null,null,null,null,null,null,null,null,null,null,null,null,null,null,null,null,null,null,null,null,null,null,5,"Weed Suppression",null,null,null,null,"","","",null,null,"Max",100]
[null,null,null,null,null,null,null,null,null,null,null,null,null,null,null,null,null,null,null,null,null,null,null,null,null,null,null,null,null,null,null,null,6,"Compacted Soils",null,null,null,null,"","","",null,null,"2nd RC"]
[null,null,null,null,null,null,null,null,null,null,null,null,null,null,null,null,null,null,null,null,null,null,null,null,null,null,null,null,null,null,null,null,7,"Attract Beneficial Insects",null,null,null,null,"","","",null,null,"Speedometer",null,null,"Pointer "]
[null,null,null,null,null,null,null,null,null,null,null,null,null,null,null,null,null,null,null,null,null,null,null,null,null,null,null,null,null,null,null,null,8,"Soil Organic Matter",null,null,null,null,"","","",null,null,"Start",0,null,"Value",{"$f":"AN544","v":0}]
[null,null,null,null,null,null,null,null,null,null,null,null,null,null,null,null,null,null,null,null,null,null,null,null,null,null,null,null,null,null,null,null,null,null,null,null,null,null,"","","",null,null,"Initial",25,null,"Pointer ",1]
[null,null,null,null,null,null,null,null,null,null,null,null,null,null,null,null,null,null,null,null,null,null,null,null,null,null,null,null,null,null,null,null,null,null,null,null,null,null,{"$f":"IF(SUM(AM534:AM543)>100,100,SUM(AM534:AM543))","v":0},{"$f":"IF(SUM(AN534:AN543)>100,100,SUM(AN534:AN543))","v":0},0,null,null,"Middle",50,null,"End",{"$f":"200-AV542-AV543","v":199}]
[null,null,null,null,null,null,null,null,null,null,null,null,null,null,null,null,null,null,null,null,null,null,null,null,null,null,null,null,null,null,null,null,null,null,null,null,null,null,null,null,null,null,null,"End",25]
[null,null,null,null,null,null,null,null,null,null,null,null,null,null,null,null,null,null,null,null,null,null,null,null,null,null,null,null,null,null,null,null,null,null,null,null,null,null,null,null,null,null,null,"Max",100]
[null,null,null,null,null,null,null,null,null,null,null,null,null,null,null,null,null,null,null,null,null,null,null,null,null,null,null,null,null,null,null,null,null,null,null,null,null,null,null,null,null,null,null,"3rd RC"]
[null,null,null,null,null,null,null,null,null,null,null,null,null,null,null,null,null,null,null,null,null,null,null,null,null,null,null,null,null,null,null,null,null,null,null,null,null,null,null,null,null,null,null,"Speedometer",null,null,"Pointer "]
[null,null,null,null,null,null,null,null,null,null,null,null,null,null,null,null,null,null,null,null,null,null,null,null,null,null,null,null,null,null,null,null,null,null,null,null,null,null,null,null,null,null,null,"Start",0,null,"Value",{"$f":"AO544","v":0}]
[null,null,null,null,null,null,null,null,null,null,null,null,null,null,null,null,null,null,null,null,null,null,null,null,null,null,null,null,null,null,null,null,null,null,null,null,null,null,null,null,null,null,null,"Initial",25,null,"Pointer ",1]
[null,null,null,null,null,null,null,null,null,null,null,null,null,null,null,null,null,null,null,null,null,null,null,null,null,null,null,null,null,null,null,null,null,null,null,null,null,null,null,null,null,null,null,"Middle",50,null,"End",{"$f":"200-AV549-AV550","v":199}]
[null,null,null,null,null,null,null,null,null,null,null,null,null,null,null,null,null,null,null,null,null,null,null,null,null,null,null,null,null,null,null,null,null,null,null,null,null,null,null,null,null,null,null,"End",25]
[null,null,null,null,null,null,null,null,null,null,null,null,null,null,null,null,null,null,null,null,null,null,null,null,null,null,null,null,null,null,null,null,null,null,null,null,null,null,null,null,null,null,null,"Max",100]
[]
[]
[]
[]
[]
[]
[]
[]
[]
[]
[]
[]
[]
[]
[]
[]
[]
[]
[]
[]
[]
[]
[]
[]
[]
[]
[]
[]
[]
[]
[]
[]
[]
[]
[]
[]
[]
[]
[]
[]
[]
[]
[]
[]
[]
[]
[]
[]
[]
[]
[null,null,null,null,null,null,null,null,"WSG",null,"CSG","WSB","CSB"]
[null,"Alfalfa",null,null,null,{"$f":"G5","v":"Select Species"},{"$f":"IF(F605=0,\"\",(VLOOKUP(F605,AF$502:BE$525,26)))","v":"CSG"},{"$f":"INDEX(K$5:K$14,MATCH(F605,G$5:G$14,0))","v":""},{"$f":"IF(G605=I$604,H605,0)","v":0},null,{"$f":"IF(G605=K$604,H605,0)","v":""},{"$f":"IF(G605=L$604,H605,0)","v":0},{"$f":"IF(G605=M$604,H605,0)","v":0}]
[null,"Annual ryegrass",null,null,null,"Select Species",{"$f":"IF(F606=0,\"\",(VLOOKUP(F606,AF$502:BE$525,26)))","v":"CSG"},{"$f":"INDEX(K$5:K$14,MATCH(F606,G$5:G$14,0))","v":""},{"$f":"IF(G606=I$604,H606,0)","v":0},null,"",0,0]
[null,"Barley",null,null,null,"Select Species","CSG",{"$f":"INDEX(K$5:K$14,MATCH(F607,G$5:G$14,0))","v":""},0,null,"",0,0]
[null,"Buckwheat",null,null,null,"Select Species","CSG","",0,null,"",0,0]
[null,"Clover, sweet",null,null,null,"Select Species","CSG","",0,null,"",0,0]
[null,"Cow pea",null,null,null,"Select Species","CSG","",0,null,"",0,0]
[null,"Lablab",null,null,null,"Select Species","CSG","",0,null,"",0,0]
[null,"Millet, pearlmillet",null,null,null,"Select Species","CSG","",0,null,"",0,0]
[null,"Mung bean",null,null,null,"Select Species","CSG","",0,null,"",0,0]
[null,"Oats",null,null,null,"Select Species","CSG","",0,null,"",0,0]
[null,"Pigeonpea",null,null,null,null,null,null,{"$f":"IF(SUM(I605:I614)>1,1,SUM(I605:I614))","v":0},null,{"$f":"IF(SUM(K605:K614)>1,1,SUM(K605:K614))","v":0},0,0,{"$f":"SUM(I615:M615)","v":0}]
[null,"Rye, cereal"]
[null,"Sorghum x sudangrass",null,null,null,null,null,null,{"$f":"IF(N615=0,0,IF(I615=0,0,I615/N615))","v":0},null,{"$f":"IF(N615=0,0,K615/N615)","v":0},{"$f":"IF(N615=0,0,L615/N615)","v":0},{"$f":"IF(N615=0,0,M615/N615)","v":0}]
[null,"Soybean",null,null,null,null,null,null,{"$f":"VLOOKUP(I617,F622:G722,2)","v":0},null,{"$f":"VLOOKUP(K617,F622:G722,2)","v":0},{"$f":"VLOOKUP(L617,F622:G722,2)","v":0},{"$f":"VLOOKUP(M617,F622:G722,2)","v":0}]
[null,"Sudangrass",null,null,null,null,null,null,{"$f":"I618/4","v":0},null,{"$f":"K618/4","v":0},{"$f":"L618/4","v":0},0,{"$f":"SUM(I619:M619)","v":0}]
[null,"Sunn hemp"]
[null,"Vetch",null,null,null,null,null,null,null,null,null,null,null,100]
[null,"Wheat",null,1,null,0,0]
[null,null,null,0.99,null,0.01,4]
[null,null,null,0.98,null,0.02,8]
[null,null,null,0.97,null,0.03,12]
[1,null,null,0.96,null,0.04,16]
[2,null,null,0.95,null,0.05,20]
[3,null,null,0.94,null,0.06,24]
[4,null,null,0.93,null,7.0000000000000007E-2,28]
[5,null,null,0.92,null,0.08,32]
[6,null,null,0.91,null,0.09,36,null,null,null,null,null,null,null,"Diversty"]
[7,null,null,0.9,null,0.1,40,null,null,null,null,null,null,null,"Speedometer",null,null,"Pointer "]
[8,null,null,0.89,null,0.11,44,null,null,null,null,null,null,null,"Start",0,null,"Value",{"$f":"N619","v":0}]
[9,null,null,0.88,null,0.12,48,null,null,null,null,null,null,null,"Initial",25,null,"Pointer ",1]
[10,null,null,0.87,null,0.13,52,null,null,null,null,null,null,null,"Middle",50,null,"End",{"$f":"200-S633-S634","v":199}]
[11,null,null,0.86,null,0.14000000000000001,56,null,null,null,null,null,null,null,"End",25]
[12,null,null,0.85,null,0.15,60,null,null,null,null,null,null,null,"Max",100]
[13,null,null,0.84,null,0.16,64]
[14,null,null,0.83,null,0.17,68,null,null,null,null,null,null,null,null,null,"Soil Health Rating"]
[15,null,null,0.82,null,0.18,72,null,null,null,null,null,null,null,null,"Diversity",{"$f":"S633","v":0},{"$f":"IF(Q640<25,1,IF(Q640<50,2,IF(Q640<75,3,4)))","v":1}]
[16,null,null,0.81,null,0.19,76,null,null,null,null,null,null,null,null,"Days",{"$f":"F529","v":0},{"$f":"IF(Q641<30,1,IF(Q641<45,2,IF(Q641<60,3,IF(Q641<75,4,IF(Q641<90,5,IF(Q641<105,6,IF(Q641<120,7,8)))))))","v":1}]
[17,null,null,0.8,null,0.2,80,null,null,null,null,null,null,null,null,"Termination",{"$f":"VLOOKUP(B14,I521:L526,4,FALSE)","v":{"$error":"#N/A"}}]
[18,null,null,0.79,null,0.21,84,null,null,null,null,null,null,null,null,"Soil Health Benefit",null,{"$f":"(R640+R641)*Q642","v":{"$error":"#N/A"}}]
[19,null,null,0.78,null,0.22,88]
[20,null,null,0.77,null,0.23,92]
[21,null,null,0.76,null,0.24,96]
[22,null,null,0.75,null,0.25,100]
[23,null,null,0.74,null,0.26,98.667000000000002]
[24,null,null,0.73,null,0.27,97.334000000000003]
[25,null,null,0.72,null,0.28000000000000003,96.001000000000005]
[26,null,null,0.71,null,0.28999999999999998,94.668000000000006]
[27,null,null,0.7,null,0.3,93.334999999999994]
[28,null,null,0.69,null,0.31,92.001999999999995]
[29,null,null,0.68,null,0.32,90.668999999999997]
[30,null,null,0.67,null,0.33,89.335999999999999]
[31,null,null,0.66,null,0.34,88.003]
[32,null,null,0.65,null,0.35,86.67]
[33,null,null,0.64,null,0.36,85.337000000000003]
[34,null,null,0.63,null,0.37,84.004000000000005]
[35,null,null,0.62,null,0.38,82.671000000000006]
[36,null,null,0.61,null,0.39,81.337999999999994]
[37,null,null,0.6,null,0.4,80.004999999999995]
[38,null,null,0.59,null,0.41,78.671999999999997]
[39,null,null,0.57999999999999996,null,0.42,77.338999999999999]
[40,null,null,0.56999999999999995,null,0.43,76.006]
[41,null,null,0.56000000000000005,null,0.44,74.673000000000002]
[42,null,null,0.55000000000000004,null,0.45,73.34]
[43,null,null,0.54,null,0.46,72.007000000000005]
[44,null,null,0.53,null,0.47,70.674000000000007]
[45,null,null,0.52,null,0.48,69.340999999999994]
[46,null,null,0.51,null,0.49,68.007999999999996]
[47,null,null,0.5,null,0.5,66.674999999999997]
[48,null,null,0.49,null,0.51,65.341999999999999]
[49,null,null,0.48,null,0.52,64.009]
[50,null,null,0.47,null,0.53,62.676000000000002]
[51,null,null,0.46,null,0.54,61.343000000000004]
[52,null,null,0.45,null,0.55000000000000004,60.01]
[53,null,null,0.44,null,0.56000000000000005,58.677]
[54,null,null,0.42999999999999899,null,0.56999999999999995,57.344000000000101]
[55,null,null,0.41999999999999899,null,0.57999999999999996,56.011000000000102]
[56,null,null,0.40999999999999898,null,0.59,54.678000000000097]
[57,null,null,0.39999999999999902,null,0.6,53.345000000000098]
[58,null,null,0.38999999999999901,null,0.61,52.0120000000001]
[59,null,null,0.37999999999999901,null,0.62,50.679000000000102]
[60,null,null,0.369999999999999,null,0.63,49.346000000000103]
[61,null,null,0.35999999999999899,null,0.64,48.013000000000098]
[62,null,null,0.34999999999999898,null,0.65,46.680000000000099]
[63,null,null,0.33999999999999903,null,0.66,45.347000000000101]
[64,null,null,0.32999999999999902,null,0.67,44.014000000000102]
[65,null,null,0.31999999999999901,null,0.68,42.681000000000097]
[66,null,null,0.309999999999999,null,0.69,41.348000000000098]
[67,null,null,0.29999999999999899,null,0.7,40.0150000000001]
[68,null,null,0.28999999999999898,null,0.71,38.682000000000102]
[69,null,null,0.27999999999999903,null,0.72,37.349000000000103]
[70,null,null,0.26999999999999902,null,0.73,36.016000000000098]
[null,null,null,0.25999999999999901,null,0.74,34.683000000000099]
[null,null,null,0.249999999999999,null,0.75,33.350000000000101]
[null,null,null,0.23999999999999899,null,0.76,32.017000000000102]
[null,null,null,0.22999999999999901,null,0.77,30.684000000000101]
[null,null,null,0.219999999999999,null,0.78,29.351000000000099]
[null,null,null,0.20999999999999899,null,0.79,28.0180000000001]
[null,null,null,0.19999999999999901,null,0.8,26.685000000000102]
[null,null,null,0.189999999999999,null,0.81,25.3520000000001]
[null,null,null,0.17999999999999899,null,0.82,24.019000000000101]
[null,null,null,0.16999999999999901,null,0.83,22.686000000000099]
[null,null,null,0.159999999999999,null,0.84,21.353000000000101]
[null,null,null,0.149999999999999,null,0.85,20.020000000000099]
[null,null,null,0.13999999999999899,null,0.86,18.687000000000101]
[null,null,null,0.12999999999999901,null,0.87,17.354000000000099]
[null,null,null,0.119999999999999,null,0.88,16.0210000000001]
[null,null,null,0.109999999999999,null,0.89,14.6880000000001]
[null,null,null,9.9999999999999006E-2,null,0.9,13.3550000000001]
[null,null,null,8.9999999999998997E-2,null,0.91,12.0220000000001]
[null,null,null,7.9999999999999002E-2,null,0.92,10.6890000000001]
[null,null,null,6.9999999999998994E-2,null,0.93,9.3560000000000905]
[null,null,null,5.9999999999999103E-2,null,0.94,8.0230000000000992]
[null,null,null,4.9999999999998997E-2,null,0.95,6.6900000000000999]
[null,null,null,3.9999999999999002E-2,null,0.96,5.3570000000000997]
[null,null,null,2.9999999999999E-2,null,0.97,4.0240000000001004]
[null,null,null,1.9999999999999001E-2,null,0.98,2.6910000000001002]
[null,null,null,9.9999999999990097E-3,null,0.99,1.3580000000001]
[null,null,null,0,null,1,2.5000000000105198E-2]

{"sheet":"Soils Data","index":2,"n_rows":1896,"n_cols":30,"rows_kept":1896,"cut":false,"hidden":false,"merged":[]}
["areasymbol","areaname","musym",null,"mukey","muname","compname","localphase","comppct_r","reskind","resdept_r","frags_0_25cm","slope_r","awc_0_50cm","flood_freq","flood_dur","flood_month","pond_freq","pond_dur","pond_month"]
["HI801","Hawaii",8,{"$f":"IF(B2='Veg Guide Data Base'!$AD$1376,C2,FALSE)","v":false},"2371777","Lava flows-Cinder land complex, 2 to 40 percent slopes","Lava flows","`a`a",45,"bedrock, lithic",39,95,15,0.2,"none",null,null,"none"]
["HI801","Hawaii",8,{"$f":"IF(B3='Veg Guide Data Base'!$AD$1376,C3,FALSE)","v":false},"2371777","Lava flows-Cinder land complex, 2 to 40 percent slopes","Cinder land",null,40,null,80,100,15,0.6,"none",null,null,"none"]
["HI801","Hawaii",9,{"$f":"IF(B4='Veg Guide Data Base'!$AD$1376,C4,FALSE)","v":false},"2371778","Rubble land, 12 to 40 percent slopes","Rubble land",false,false,false,false,0,true,false,true,true,null,"none"]
["HI801","Hawaii",10,{"$f":"IF(B5='Veg Guide Data Base'!$AD$1376,C5,FALSE)","v":false},"2371213","Lava flows, `a`a, 2 to 20 percent slopes","Lava flows","`a`a",100,"bedrock, lithic",39,95,15,0.2,"none",null,null,"none"]
["HI801","Hawaii",11,{"$f":"IF(B6='Veg Guide Data Base'!$AD$1376,C6,FALSE)","v":false},"2371214","Lava flows, `a`a, 20 to 40 percent slopes","Lava flows","`a`a",100,"bedrock, lithic",39,95,30,0.2,"none",null,null,"none"]
["HI801","Hawaii",12,{"$f":"IF(B7='Veg Guide Data Base'!$AD$1376,C7,FALSE)","v":false},"2371215","Lava flows, pahoehoe, 2 to 20 percent slopes","Lava flows","pahoehoe",100,"bedrock, lithic",0,0,15,0,"none",null,null,"none"]
["HI801","Hawaii",13,{"$f":"IF(B8='Veg Guide Data Base'!$AD$1376,C8,FALSE)","v":false},"2371577","Lava flows, pahoehoe, 20 to 40 percent slopes","Lava flows","pahoehoe",100,"bedrock, lithic",0,0,30,0,"none",null,null,"none"]
["HI801","Hawaii",14,{"$f":"IF(B9='Veg Guide Data Base'!$AD$1376,C9,FALSE)","v":false},"2371217","Lava flows complex, 2 to 20 percent slopes","Lava flows","pahoehoe",50,"bedrock, lithic",0,0,15,0,"none",null,null,"none"]
["HI801","Hawaii",14,{"$f":"IF(B10='Veg Guide Data Base'!$AD$1376,C10,FALSE)","v":false},"2371217","Lava flows complex, 2 to 20 percent slopes","Lava flows","`a`a",50,"bedrock, lithic",39,95,15,0.2,"none",null,null,"none"]
["HI801","Hawaii",15,{"$f":"IF(B11='Veg Guide Data Base'!$AD$1376,C11,FALSE)","v":false},"2371218","Cinder land, 2 to 20 percent slopes","Cinder land",null,100,null,80,100,15,0.6,"none",null,null,"none"]
["HI801","Hawaii",16,{"$f":"IF(B12='Veg Guide Data Base'!$AD$1376,C12,FALSE)","v":false},"2371219","Cinder land, 20 to 40 percent slopes","Cinder land",null,100,null,80,100,30,0.6,"none",null,null,"none"]
["HI801","Hawaii",17,{"$f":"IF(B13='Veg Guide Data Base'!$AD$1376,C13,FALSE)","v":false},"2371581","Dumps, sanitary landfill","Dumps","sanitary landfill",100,null,80,0,40,null,"none",null,null,"none"]
["HI801","Hawaii",19,{"$f":"IF(B14='Veg Guide Data Base'!$AD$1376,C14,FALSE)","v":false},"2452754","Lava flows-Water, tide pools, complex, 0 to 2 percent slopes","Lava flows","pahoehoe",55,"bedrock, lithic",0,0,1,0,"none",null,null,"none"]
["HI801","Hawaii",19,{"$f":"IF(B15='Veg Guide Data Base'!$AD$1376,C15,FALSE)","v":false},"2452754","Lava flows-Water, tide pools, complex, 0 to 2 percent slopes","Water","tidal pools",45,null,80,0,null,null,"none",null,null,"frequent","very long","January, February, March, April, May, June, July, August, September, October, November, December"]
["HI801","Hawaii",20,{"$f":"IF(B16='Veg Guide Data Base'!$AD$1376,C16,FALSE)","v":false},"2371220","Beaches, 0 to 6 percent slopes","Beaches",null,90,null,80,0,3,null,"occasional, very rare","extremely brief","January, February, March, April, October, November, December","none"]
["HI801","Hawaii",21,{"$f":"IF(B17='Veg Guide Data Base'!$AD$1376,C17,FALSE)","v":false},"2371221","Dune land, 2 to 20 percent slopes","Dune land",null,70,null,80,0,12,null,"none",null,null,"none"]
["HI801","Hawaii",22,{"$f":"IF(B18='Veg Guide Data Base'!$AD$1376,C18,FALSE)","v":false},"2371584","Pits, quarry","Pits","quarry",100,null,80,0,60,null,"none",null,null,"none"]
["HI801","Hawaii",23,{"$f":"IF(B19='Veg Guide Data Base'!$AD$1376,C19,FALSE)","v":false},"2371585","Water, sewage treatment","Water","sewage treatment",90,null,80,0,0,null,"none",null,null,"frequent","very long","January, February, March, April, May, June, July, August, September, October, November, December"]
["HI801","Hawaii",25,{"$f":"IF(B20='Veg Guide Data Base'!$AD$1376,C20,FALSE)","v":false},"2371586","Badland, 10 to 50 percent slopes","Badland",null,85,null,80,0,25,null,"none",null,null,"none"]
["HI801","Hawaii",25,{"$f":"IF(B21='Veg Guide Data Base'!$AD$1376,C21,FALSE)","v":false},"2371586","Badland, 10 to 50 percent slopes","Waikaloa",null,15,null,80,3,25,5.0999999999999996,"none",null,null,"none"]
["HI801","Hawaii",27,{"$f":"IF(B22='Veg Guide Data Base'!$AD$1376,C22,FALSE)","v":false},"2384114","Dumps, fill land, 0 to 3 percent slopes","Dumps","fill land",100,null,80,0,1,null,"occasional, rare","very brief","January, February, March, April, November, December","none"]
["HI801","Hawaii",100,{"$f":"IF(B23='Veg Guide Data Base'!$AD$1376,C23,FALSE)","v":false},"2371587","Kaimu extremely cobbly highly decomposed plant material, 2 to 10 percent slopes","Kaimu",null,90,"bedrock, lithic",40,65,6,2.2999999999999998,"none",null,null,"none"]
["HI801","Hawaii",101,{"$f":"IF(B24='Veg Guide Data Base'!$AD$1376,C24,FALSE)","v":false},"2371588","Kaimu extremely cobbly highly decomposed plant material, 10 to 20 percent slopes","Kaimu",null,90,"bedrock, lithic",40,65,15,2.2999999999999998,"none",null,null,"none"]
["HI801","Hawaii",102,{"$f":"IF(B25='Veg Guide Data Base'!$AD$1376,C25,FALSE)","v":false},"2371589","Kaimu-Lava flows complex, 2 to 10 percent slopes","Kaimu",null,60,"bedrock, lithic",40,65,6,2.2999999999999998,"none",null,null,"none"]
["HI801","Hawaii",102,{"$f":"IF(B26='Veg Guide Data Base'!$AD$1376,C26,FALSE)","v":false},"2371589","Kaimu-Lava flows complex, 2 to 10 percent slopes","Lava flows","`a`a",35,"bedrock, lithic",39,95,6,0.2,"none",null,null,"none"]
["HI801","Hawaii",103,{"$f":"IF(B27='Veg Guide Data Base'!$AD$1376,C27,FALSE)","v":false},"2371590","Kaimu-Lava flows complex, 10 to 20 percent slopes","Kaimu",null,60,"bedrock, lithic",40,65,15,2.2999999999999998,"none",null,null,"none"]
["HI801","Hawaii",103,{"$f":"IF(B28='Veg Guide Data Base'!$AD$1376,C28,FALSE)","v":false},"2371590","Kaimu-Lava flows complex, 10 to 20 percent slopes","Lava flows","`a`a",35,"bedrock, lithic",39,95,15,0.2,"none",null,null,"none"]
["HI801","Hawaii",104,{"$f":"IF(B29='Veg Guide Data Base'!$AD$1376,C29,FALSE)","v":false},"2371591","Lava flows-Kaimu complex, 2 to 20 percent slopes","Lava flows","`a`a",60,"bedrock, lithic",39,95,12,0.2,"none",null,null,"none"]
["HI801","Hawaii",104,{"$f":"IF(B30='Veg Guide Data Base'!$AD$1376,C30,FALSE)","v":false},"2371591","Lava flows-Kaimu complex, 2 to 20 percent slopes","Kaimu",null,35,"bedrock, lithic",40,65,12,2.2999999999999998,"none",null,null,"none"]
["HI801","Hawaii",107,{"$f":"IF(B31='Veg Guide Data Base'!$AD$1376,C31,FALSE)","v":false},"2371593","Lava flows-Honokohau complex, 2 to 20 percent slopes","Lava flows","pahoehoe",60,"bedrock, lithic",0,0,11,0,"none",null,null,"none"]
["HI801","Hawaii",107,{"$f":"IF(B32='Veg Guide Data Base'!$AD$1376,C32,FALSE)","v":false},"2371593","Lava flows-Honokohau complex, 2 to 20 percent slopes","Honokohau",null,40,"bedrock, lithic",6,10,11,null,"very rare","extremely brief","January, February, March, April, May, June, July, August, September, October, November, December","none"]
["HI801","Hawaii",108,{"$f":"IF(B33='Veg Guide Data Base'!$AD$1376,C33,FALSE)","v":false},"2371594","Noio-Lava flows complex, 2 to 10 percent slopes","Noio",null,60,"bedrock, lithic",34,84,6,0.9,"none",null,null,"none"]
["HI801","Hawaii",108,{"$f":"IF(B34='Veg Guide Data Base'!$AD$1376,C34,FALSE)","v":false},"2371594","Noio-Lava flows complex, 2 to 10 percent slopes","Lava flows","`a`a",40,"bedrock, lithic",39,95,6,0.2,"none",null,null,"none"]
["HI801","Hawaii",109,{"$f":"IF(B35='Veg Guide Data Base'!$AD$1376,C35,FALSE)","v":false},"2371595","Noio-Lava flows complex, 10 to 20 percent slopes","Noio",null,60,"bedrock, lithic",34,84,15,0.9,"none",null,null,"none"]
["HI801","Hawaii",109,{"$f":"IF(B36='Veg Guide Data Base'!$AD$1376,C36,FALSE)","v":false},"2371595","Noio-Lava flows complex, 10 to 20 percent slopes","Lava flows","`a`a",40,"bedrock, lithic",39,95,15,0.2,"none",null,null,"none"]
["HI801","Hawaii",110,{"$f":"IF(B37='Veg Guide Data Base'!$AD$1376,C37,FALSE)","v":false},"2371596","Puna and Haplic Udarents soils, 2 to 10 percent slopes","Puna",null,60,"bedrock, lithic",30,69,6,1.1000000000000001,"none",null,null,"none"]
["HI801","Hawaii",110,{"$f":"IF(B38='Veg Guide Data Base'!$AD$1376,C38,FALSE)","v":false},"2371596","Puna and Haplic Udarents soils, 2 to 10 percent slopes","Haplic Udarents",null,30,null,80,75,6,0.8,"none",null,null,"none"]
["HI801","Hawaii",111,{"$f":"IF(B39='Veg Guide Data Base'!$AD$1376,C39,FALSE)","v":false},"2371597","Puna and Haplic Udarents soils, 10 to 20 percent slopes","Puna",null,60,"bedrock, lithic",30,69,15,1.1000000000000001,"none",null,null,"none"]
["HI801","Hawaii",111,{"$f":"IF(B40='Veg Guide Data Base'!$AD$1376,C40,FALSE)","v":false},"2371597","Puna and Haplic Udarents soils, 10 to 20 percent slopes","Haplic Udarents",null,30,null,80,75,15,0.8,"none",null,null,"none"]
["HI801","Hawaii",112,{"$f":"IF(B41='Veg Guide Data Base'!$AD$1376,C41,FALSE)","v":false},"2371598","Puna-Lava flows complex, 2 to 10 percent slopes","Puna",null,60,"bedrock, lithic",30,69,6,1.1000000000000001,"none",null,null,"none"]
["HI801","Hawaii",112,{"$f":"IF(B42='Veg Guide Data Base'!$AD$1376,C42,FALSE)","v":false},"2371598","Puna-Lava flows complex, 2 to 10 percent slopes","Lava flows","`a`a",35,"bedrock, lithic",39,95,6,0.2,"none",null,null,"none"]
["HI801","Hawaii",113,{"$f":"IF(B43='Veg Guide Data Base'!$AD$1376,C43,FALSE)","v":false},"2371599","Puna-Lava flows complex, 10 to 20 percent slopes","Puna",null,60,"bedrock, lithic",30,69,15,1.1000000000000001,"none",null,null,"none"]
["HI801","Hawaii",113,{"$f":"IF(B44='Veg Guide Data Base'!$AD$1376,C44,FALSE)","v":false},"2371599","Puna-Lava flows complex, 10 to 20 percent slopes","Lava flows","`a`a",35,"bedrock, lithic",39,95,15,0.2,"none",null,null,"none"]
["HI801","Hawaii",114,{"$f":"IF(B45='Veg Guide Data Base'!$AD$1376,C45,FALSE)","v":false},"2371600","Puna very cobbly highly decomposed plant material, 20 to 40 percent slopes","Puna",null,90,"bedrock, lithic",30,69,30,1.1000000000000001,"none",null,null,"none"]
["HI801","Hawaii",115,{"$f":"IF(B46='Veg Guide Data Base'!$AD$1376,C46,FALSE)","v":false},"2371601","Kapua and Haplic Ustarents soils, 2 to 10 percent slopes","Kapua",null,60,null,80,58,6,3,"none",null,null,"none"]
["HI801","Hawaii",115,{"$f":"IF(B47='Veg Guide Data Base'!$AD$1376,C47,FALSE)","v":false},"2371601","Kapua and Haplic Ustarents soils, 2 to 10 percent slopes","Haplic Ustarents",null,30,null,80,75,6,0.8,"none",null,null,"none"]
["HI801","Hawaii",116,{"$f":"IF(B48='Veg Guide Data Base'!$AD$1376,C48,FALSE)","v":false},"2371602","Kapua and Haplic Ustarents soils, 10 to 20 percent slopes","Kapua",null,60,null,80,58,15,3,"none",null,null,"none"]
["HI801","Hawaii",116,{"$f":"IF(B49='Veg Guide Data Base'!$AD$1376,C49,FALSE)","v":false},"2371602","Kapua and Haplic Ustarents soils, 10 to 20 percent slopes","Haplic Ustarents",null,30,null,80,75,15,0.8,"none",null,null,"none"]
["HI801","Hawaii",117,{"$f":"IF(B50='Veg Guide Data Base'!$AD$1376,C50,FALSE)","v":false},"2371603","Kapua-Lava flows complex, 2 to 10 percent slopes","Kapua",null,60,null,80,58,6,3,"none",null,null,"none"]
["HI801","Hawaii",117,{"$f":"IF(B51='Veg Guide Data Base'!$AD$1376,C51,FALSE)","v":false},"2371603","Kapua-Lava flows complex, 2 to 10 percent slopes","Lava flows","`a`a",35,"bedrock, lithic",39,95,6,0.2,"none",null,null,"none"]
["HI801","Hawaii",118,{"$f":"IF(B52='Veg Guide Data Base'!$AD$1376,C52,FALSE)","v":false},"2371604","Kapua-Lava flows complex, 10 to 20 percent slopes","Kapua",null,60,null,80,58,15,3,"none",null,null,"none"]
["HI801","Hawaii",118,{"$f":"IF(B53='Veg Guide Data Base'!$AD$1376,C53,FALSE)","v":false},"2371604","Kapua-Lava flows complex, 10 to 20 percent slopes","Lava flows","`a`a",35,"bedrock, lithic",39,95,15,0.2,"none",null,null,"none"]
["HI801","Hawaii",119,{"$f":"IF(B54='Veg Guide Data Base'!$AD$1376,C54,FALSE)","v":false},"2371605","Puuiki-Lava flows complex, moist, 10 to 20 percent slopes","Puuiki","moist",60,"bedrock, lithic",5,50,15,0.7,"none",null,null,"none"]
["HI801","Hawaii",119,{"$f":"IF(B55='Veg Guide Data Base'!$AD$1376,C55,FALSE)","v":false},"2371605","Puuiki-Lava flows complex, moist, 10 to 20 percent slopes","Lava flows","pahoehoe",35,"bedrock, lithic",0,0,15,0,"none",null,null,"none"]
["HI801","Hawaii",120,{"$f":"IF(B56='Veg Guide Data Base'!$AD$1376,C56,FALSE)","v":false},"2371606","Punaluu highly decomposed plant material, 2 to 10 percent slopes","Punaluu",null,90,"bedrock, lithic",6,5,6,null,"occasional","extremely brief","January, February, March, April, May, June, July, August, September, October, November, December","none"]
["HI801","Hawaii",121,{"$f":"IF(B57='Veg Guide Data Base'!$AD$1376,C57,FALSE)","v":false},"2371607","Punaluu-Lava flows complex, 2 to 10 percent slopes","Punaluu",null,60,"bedrock, lithic",6,5,6,null,"occasional","extremely brief","January, February, March, April, May, June, July, August, September, October, November, December","none"]
["HI801","Hawaii",121,{"$f":"IF(B58='Veg Guide Data Base'!$AD$1376,C58,FALSE)","v":false},"2371607","Punaluu-Lava flows complex, 2 to 10 percent slopes","Lava flows","pahoehoe",35,"bedrock, lithic",0,0,6,0,"none",null,null,"none"]
["HI801","Hawaii",122,{"$f":"IF(B59='Veg Guide Data Base'!$AD$1376,C59,FALSE)","v":false},"2371608","Punaluu-Lava flows complex, 10 to 20 percent slopes","Punaluu",null,60,"bedrock, lithic",6,5,15,null,"occasional","extremely brief","January, February, March, April, May, June, July, August, September, October, November, December","none"]
["HI801","Hawaii",122,{"$f":"IF(B60='Veg Guide Data Base'!$AD$1376,C60,FALSE)","v":false},"2371608","Punaluu-Lava flows complex, 10 to 20 percent slopes","Lava flows","pahoehoe",35,"bedrock, lithic",0,0,15,0,"none",null,null,"none"]
["HI801","Hawaii",123,{"$f":"IF(B61='Veg Guide Data Base'!$AD$1376,C61,FALSE)","v":false},"2371609","Lava flows-Punaluu complex, 2 to 20 percent slopes","Lava flows","pahoehoe",70,"bedrock, lithic",0,0,11,0,"none",null,null,"none"]
["HI801","Hawaii",123,{"$f":"IF(B62='Veg Guide Data Base'!$AD$1376,C62,FALSE)","v":false},"2371609","Lava flows-Punaluu complex, 2 to 20 percent slopes","Punaluu",null,25,"bedrock, lithic",6,5,11,null,"occasional","extremely brief","January, February, March, April, May, June, July, August, September, October, November, December","none"]
["HI801","Hawaii",124,{"$f":"IF(B63='Veg Guide Data Base'!$AD$1376,C63,FALSE)","v":false},"2371610","Punaluu highly decomposed plant material, 10 to 20 percent slopes","Punaluu",null,90,"bedrock, lithic",6,5,15,null,"occasional","extremely brief","January, February, March, April, May, June, July, August, September, October, November, December","none"]
["HI801","Hawaii",125,{"$f":"IF(B64='Veg Guide Data Base'!$AD$1376,C64,FALSE)","v":false},"2371611","Lava flows-Puuiki complex, moist, 2 to 20 percent slopes","Lava flows","pahoehoe",70,"bedrock, lithic",0,0,11,0,"none",null,null,"none"]
["HI801","Hawaii",125,{"$f":"IF(B65='Veg Guide Data Base'!$AD$1376,C65,FALSE)","v":false},"2371611","Lava flows-Puuiki complex, moist, 2 to 20 percent slopes","Puuiki","moist",25,"bedrock, lithic",5,50,11,0.7,"none",null,null,"none"]
["HI801","Hawaii",126,{"$f":"IF(B66='Veg Guide Data Base'!$AD$1376,C66,FALSE)","v":false},"2371612","Kali-Lava flows complex, 10 to 20 percent slopes","Kali",null,60,"bedrock, lithic",5,30,15,0.8,"none",null,null,"none"]
["HI801","Hawaii",126,{"$f":"IF(B67='Veg Guide Data Base'!$AD$1376,C67,FALSE)","v":false},"2371612","Kali-Lava flows complex, 10 to 20 percent slopes","Lava flows","pahoehoe",35,"bedrock, lithic",0,0,15,0,"none",null,null,"none"]
["HI801","Hawaii",127,{"$f":"IF(B68='Veg Guide Data Base'!$AD$1376,C68,FALSE)","v":false},"2371613","Puuiki-Lava flows complex, moist, 20 to 50 percent slopes","Puuiki","moist",60,"bedrock, lithic",5,50,35,0.7,"none",null,null,"none"]
["HI801","Hawaii",127,{"$f":"IF(B69='Veg Guide Data Base'!$AD$1376,C69,FALSE)","v":false},"2371613","Puuiki-Lava flows complex, moist, 20 to 50 percent slopes","Lava flows","pahoehoe",35,"bedrock, lithic",0,0,35,0,"none",null,null,"none"]
["HI801","Hawaii",129,{"$f":"IF(B70='Veg Guide Data Base'!$AD$1376,C70,FALSE)","v":false},"2371615","Puuiki-Kamawai complex, moist, 10 to 20 percent slopes","Puuiki","moist",60,"bedrock, lithic",5,50,15,0.7,"none",null,null,"none"]
["HI801","Hawaii",129,{"$f":"IF(B71='Veg Guide Data Base'!$AD$1376,C71,FALSE)","v":false},"2371615","Puuiki-Kamawai complex, moist, 10 to 20 percent slopes","Kamawai","moist",35,"bedrock, lithic",20,80,15,0.6,"none",null,null,"none"]
["HI801","Hawaii",130,{"$f":"IF(B72='Veg Guide Data Base'!$AD$1376,C72,FALSE)","v":false},"2371616","Mawae very cobbly highly decomposed plant material, 2 to 10 percent slopes","Mawae",null,90,"bedrock, lithic",40,72,6,1,"none",null,null,"none"]
["HI801","Hawaii",131,{"$f":"IF(B73='Veg Guide Data Base'!$AD$1376,C73,FALSE)","v":false},"2371617","Mawae very cobbly highly decomposed plant material, 10 to 20 percent slopes","Mawae",null,90,"bedrock, lithic",40,72,15,1,"none",null,null,"none"]
["HI801","Hawaii",132,{"$f":"IF(B74='Veg Guide Data Base'!$AD$1376,C74,FALSE)","v":false},"2371618","Mawae-Lava flows complex, 2 to 10 percent slopes","Mawae",null,60,"bedrock, lithic",40,72,6,1,"none",null,null,"none"]
["HI801","Hawaii",132,{"$f":"IF(B75='Veg Guide Data Base'!$AD$1376,C75,FALSE)","v":false},"2371618","Mawae-Lava flows complex, 2 to 10 percent slopes","Lava flows","`a`a",35,"bedrock, lithic",39,95,6,0.2,"none",null,null,"none"]
["HI801","Hawaii",133,{"$f":"IF(B76='Veg Guide Data Base'!$AD$1376,C76,FALSE)","v":false},"2371619","Mawae-Lava flows complex, 10 to 20 percent slopes","Mawae",null,60,"bedrock, lithic",40,72,15,1,"none",null,null,"none"]
["HI801","Hawaii",133,{"$f":"IF(B77='Veg Guide Data Base'!$AD$1376,C77,FALSE)","v":false},"2371619","Mawae-Lava flows complex, 10 to 20 percent slopes","Lava flows","`a`a",35,"bedrock, lithic",39,95,15,0.2,"none",null,null,"none"]
["HI801","Hawaii",134,{"$f":"IF(B78='Veg Guide Data Base'!$AD$1376,C78,FALSE)","v":false},"2371620","Kamawai-Puuiki complex, moist, 2 to 10 percent slopes","Kamawai","moist",60,"bedrock, lithic",20,80,6,0.6,"none",null,null,"none"]
["HI801","Hawaii",134,{"$f":"IF(B79='Veg Guide Data Base'!$AD$1376,C79,FALSE)","v":false},"2371620","Kamawai-Puuiki complex, moist, 2 to 10 percent slopes","Puuiki","moist",35,"bedrock, lithic",5,50,6,0.7,"none",null,null,"none"]
["HI801","Hawaii",135,{"$f":"IF(B80='Veg Guide Data Base'!$AD$1376,C80,FALSE)","v":false},"2371621","Kekake gravelly highly decomposed plant material, 2 to 10 percent slopes","Kekake",null,90,"bedrock, lithic",5,22,6,1.2,"none",null,null,"none"]
["HI801","Hawaii",136,{"$f":"IF(B81='Veg Guide Data Base'!$AD$1376,C81,FALSE)","v":false},"2371622","Kekake gravelly highly decomposed plant material, 10 to 20 percent slopes","Kekake",null,90,"bedrock, lithic",5,22,15,1.2,"none",null,null,"none"]
["HI801","Hawaii",137,{"$f":"IF(B82='Veg Guide Data Base'!$AD$1376,C82,FALSE)","v":false},"2371623","Kekake-Lava flows complex, 2 to 10 percent slopes","Kekake",null,60,"bedrock, lithic",5,22,6,1.2,"none",null,null,"none"]
["HI801","Hawaii",137,{"$f":"IF(B83='Veg Guide Data Base'!$AD$1376,C83,FALSE)","v":false},"2371623","Kekake-Lava flows complex, 2 to 10 percent slopes","Lava flows","pahoehoe",35,"bedrock, lithic",0,0,6,0,"none",null,null,"none"]
["HI801","Hawaii",138,{"$f":"IF(B84='Veg Guide Data Base'!$AD$1376,C84,FALSE)","v":false},"2371624","Kekake-Lava flows complex, 10 to 25 percent slopes","Kekake",null,60,"bedrock, lithic",5,22,15,1.2,"none",null,null,"none"]
["HI801","Hawaii",138,{"$f":"IF(B85='Veg Guide Data Base'!$AD$1376,C85,FALSE)","v":false},"2371624","Kekake-Lava flows complex, 10 to 25 percent slopes","Lava flows","pahoehoe",35,"bedrock, lithic",0,0,15,0,"none",null,null,"none"]
["HI801","Hawaii",139,{"$f":"IF(B86='Veg Guide Data Base'!$AD$1376,C86,FALSE)","v":false},"2371625","Kamawai-Puuiki complex, moist, 10 to 20 percent slopes","Kamawai","moist",60,"bedrock, lithic",20,80,15,0.6,"none",null,null,"none"]
["HI801","Hawaii",139,{"$f":"IF(B87='Veg Guide Data Base'!$AD$1376,C87,FALSE)","v":false},"2371625","Kamawai-Puuiki complex, moist, 10 to 20 percent slopes","Puuiki","moist",35,"bedrock, lithic",5,50,15,0.7,"none",null,null,"none"]
["HI801","Hawaii",140,{"$f":"IF(B88='Veg Guide Data Base'!$AD$1376,C88,FALSE)","v":false},"2371626","Kona and Haplic Udarents soils, 2 to 10 percent slopes","Kona","highly decomposed plant material",60,"bedrock, lithic",5,0,6,null,"occasional","extremely brief","January, February, March, April, May, June, July, August, September, October, November, December","none"]
["HI801","Hawaii",140,{"$f":"IF(B89='Veg Guide Data Base'!$AD$1376,C89,FALSE)","v":false},"2371626","Kona and Haplic Udarents soils, 2 to 10 percent slopes","Haplic Udarents",null,30,"bedrock, lithic",19,75,6,0.8,"none",null,null,"none"]
["HI801","Hawaii",142,{"$f":"IF(B90='Veg Guide Data Base'!$AD$1376,C90,FALSE)","v":false},"2371627","Kona and Haplic Udarents soils, 10 to 20 percent slopes","Kona",null,60,"bedrock, lithic",5,40,15,1.1000000000000001,"occasional","extremely brief","January, February, March, April, May, June, July, August, September, October, November, December","none"]
["HI801","Hawaii",142,{"$f":"IF(B91='Veg Guide Data Base'!$AD$1376,C91,FALSE)","v":false},"2371627","Kona and Haplic Udarents soils, 10 to 20 percent slopes","Haplic Udarents",null,30,"bedrock, lithic",19,75,15,0.8,"none",null,null,"none"]
["HI801","Hawaii",143,{"$f":"IF(B92='Veg Guide Data Base'!$AD$1376,C92,FALSE)","v":false},"2371628","Kona-Lava flows complex, 2 to 10 percent slopes","Kona",null,60,"bedrock, lithic",5,40,6,1.1000000000000001,"occasional","extremely brief","January, February, March, April, May, June, July, August, September, October, November, December","none"]
["HI801","Hawaii",143,{"$f":"IF(B93='Veg Guide Data Base'!$AD$1376,C93,FALSE)","v":false},"2371628","Kona-Lava flows complex, 2 to 10 percent slopes","Lava flows","pahoehoe",35,"bedrock, lithic",0,0,6,0,"none",null,null,"none"]
["HI801","Hawaii",144,{"$f":"IF(B94='Veg Guide Data Base'!$AD$1376,C94,FALSE)","v":false},"2371629","Kona-Lava flows complex, 10 to 20 percent slopes","Kona",null,60,"bedrock, lithic",5,40,15,1.1000000000000001,"occasional","extremely brief","January, February, March, April, May, June, July, August, September, October, November, December","none"]
["HI801","Hawaii",144,{"$f":"IF(B95='Veg Guide Data Base'!$AD$1376,C95,FALSE)","v":false},"2371629","Kona-Lava flows complex, 10 to 20 percent slopes","Lava flows","pahoehoe",35,"bedrock, lithic",0,0,15,0,"none",null,null,"none"]
["HI801","Hawaii",145,{"$f":"IF(B96='Veg Guide Data Base'!$AD$1376,C96,FALSE)","v":false},"2371630","Kamawai-Puuiki complex, moist, 20 to 50 percent slopes","Kamawai","moist",60,"bedrock, lithic",20,80,35,0.6,"none",null,null,"none"]
["HI801","Hawaii",145,{"$f":"IF(B97='Veg Guide Data Base'!$AD$1376,C97,FALSE)","v":false},"2371630","Kamawai-Puuiki complex, moist, 20 to 50 percent slopes","Puuiki","moist",35,"bedrock, lithic",5,50,35,0.7,"none",null,null,"none"]
["HI801","Hawaii",146,{"$f":"IF(B98='Veg Guide Data Base'!$AD$1376,C98,FALSE)","v":false},"2371631","Lava flows-Kona complex, 10 to 20 percent slopes","Lava flows","pahoehoe",70,"bedrock, lithic",0,0,15,0,"none",null,null,"none"]
["HI801","Hawaii",146,{"$f":"IF(B99='Veg Guide Data Base'!$AD$1376,C99,FALSE)","v":false},"2371631","Lava flows-Kona complex, 10 to 20 percent slopes","Kona",null,25,"bedrock, lithic",5,40,15,1.1000000000000001,"occasional","extremely brief","January, February, March, April, May, June, July, August, September, October, November, December","none"]
["HI801","Hawaii",147,{"$f":"IF(B100='Veg Guide Data Base'!$AD$1376,C100,FALSE)","v":false},"2371632","Kona very cobbly highly decomposed plant material, 20 to 40 percent slopes","Kona",null,90,"bedrock, lithic",5,40,30,1.1000000000000001,"occasional","extremely brief","January, February, March, April, May, June, July, August, September, October, November, December","none"]
["HI801","Hawaii",148,{"$f":"IF(B101='Veg Guide Data Base'!$AD$1376,C101,FALSE)","v":false},"2371633","Kona-Napoopoo complex, 2 to 10 percent slopes","Kona","highly decomposed plant material",70,"bedrock, lithic",5,0,6,null,"occasional","extremely brief","January, February, March, April, May, June, July, August, September, October, November, December","none"]
["HI801","Hawaii",148,{"$f":"IF(B102='Veg Guide Data Base'!$AD$1376,C102,FALSE)","v":false},"2371633","Kona-Napoopoo complex, 2 to 10 percent slopes","Napoopoo","hydrous silt loam",26,"bedrock, lithic",19,22,6,2,"occasional","extremely brief","January, February, March, April, May, June, July, August, September, October, November, December","none"]
["HI801","Hawaii",149,{"$f":"IF(B103='Veg Guide Data Base'!$AD$1376,C103,FALSE)","v":false},"2371634","Kona-Napoopoo complex, 10 to 20 percent slopes","Kona","highly decomposed plant material",70,"bedrock, lithic",5,0,15,null,"occasional","extremely brief","January, February, March, April, May, June, July, August, September, October, November, December","none"]
["HI801","Hawaii",149,{"$f":"IF(B104='Veg Guide Data Base'!$AD$1376,C104,FALSE)","v":false},"2371634","Kona-Napoopoo complex, 10 to 20 percent slopes","Napoopoo","hydrous silt loam",26,"bedrock, lithic",19,22,15,2,"occasional","extremely brief","January, February, March, April, May, June, July, August, September, October, November, December","none"]
["HI801","Hawaii",150,{"$f":"IF(B105='Veg Guide Data Base'!$AD$1376,C105,FALSE)","v":false},"2371635","Puuikaaka-Lava flows complex, 2 to 10 percent slopes","Puuikaaka",null,60,"bedrock, lithic",6,50,6,0.5,"none",null,null,"none"]
["HI801","Hawaii",150,{"$f":"IF(B106='Veg Guide Data Base'!$AD$1376,C106,FALSE)","v":false},"2371635","Puuikaaka-Lava flows complex, 2 to 10 percent slopes","Lava flows","pahoehoe",35,"bedrock, lithic",0,0,6,0,"none",null,null,"none"]
["HI801","Hawaii",151,{"$f":"IF(B107='Veg Guide Data Base'!$AD$1376,C107,FALSE)","v":false},"2371636","Puuikaaka-Lava flows complex, 10 to 20 percent slopes","Puuikaaka",null,60,"bedrock, lithic",6,50,15,0.5,"none",null,null,"none"]
["HI801","Hawaii",151,{"$f":"IF(B108='Veg Guide Data Base'!$AD$1376,C108,FALSE)","v":false},"2371636","Puuikaaka-Lava flows complex, 10 to 20 percent slopes","Lava flows","pahoehoe",35,"bedrock, lithic",0,0,15,0,"none",null,null,"none"]
["HI801","Hawaii",152,{"$f":"IF(B109='Veg Guide Data Base'!$AD$1376,C109,FALSE)","v":false},"2371637","Lava flows-Puuikaaka complex, 2 to 20 percent slopes","Lava flows","pahoehoe",70,"bedrock, lithic",0,0,10,0,"none",null,null,"none"]
["HI801","Hawaii",152,{"$f":"IF(B110='Veg Guide Data Base'!$AD$1376,C110,FALSE)","v":false},"2371637","Lava flows-Puuikaaka complex, 2 to 20 percent slopes","Puuikaaka",null,25,"bedrock, lithic",6,50,10,0.5,"none",null,null,"none"]
["HI801","Hawaii",153,{"$f":"IF(B111='Veg Guide Data Base'!$AD$1376,C111,FALSE)","v":false},"2371638","Kamawai extremely cobbly medial highly decomposed plant material, moist, 10 to 20 percent slopes","Kamawai","moist",90,"bedrock, lithic",20,80,15,0.6,"none",null,null,"none"]
["HI801","Hawaii",154,{"$f":"IF(B112='Veg Guide Data Base'!$AD$1376,C112,FALSE)","v":false},"2371639","Puuiki-Lava flows complex, moist, 2 to 10 percent slopes","Puuiki","moist",60,"bedrock, lithic",5,50,6,0.7,"none",null,null,"none"]
["HI801","Hawaii",154,{"$f":"IF(B113='Veg Guide Data Base'!$AD$1376,C113,FALSE)","v":false},"2371639","Puuiki-Lava flows complex, moist, 2 to 10 percent slopes","Lava flows","pahoehoe",35,"bedrock, lithic",0,0,6,0,"none",null,null,"none"]
["HI801","Hawaii",155,{"$f":"IF(B114='Veg Guide Data Base'!$AD$1376,C114,FALSE)","v":false},"2371640","Kamawai extremely cobbly medial highly decomposed plant material, moist, 2 to 10 percent slopes","Kamawai","moist",90,"bedrock, lithic",20,80,6,0.6,"none",null,null,"none"]
["HI801","Hawaii",156,{"$f":"IF(B115='Veg Guide Data Base'!$AD$1376,C115,FALSE)","v":false},"2371641","Napuu extremely cobbly medial highly decomposed plant material, 2 to 10 percent slopes","Napuu",null,90,"bedrock, lithic",15,85,6,0.4,"none",null,null,"none"]
["HI801","Hawaii",157,{"$f":"IF(B116='Veg Guide Data Base'!$AD$1376,C116,FALSE)","v":false},"2371642","Napuu extremely cobbly medial highly decomposed plant material, 10 to 20 percent slopes","Napuu",null,90,"bedrock, lithic",15,85,15,0.4,"none",null,null,"none"]
["HI801","Hawaii",158,{"$f":"IF(B117='Veg Guide Data Base'!$AD$1376,C117,FALSE)","v":false},"2371643","Lava flows-Napuu complex, 2 to 20 percent slopes","Lava flows","`a`a",70,"bedrock, lithic",39,95,10,0.2,"none",null,null,"none"]
["HI801","Hawaii",158,{"$f":"IF(B118='Veg Guide Data Base'!$AD$1376,C118,FALSE)","v":false},"2371643","Lava flows-Napuu complex, 2 to 20 percent slopes","Napuu",null,25,"bedrock, lithic",15,85,10,0.4,"none",null,null,"none"]
["HI801","Hawaii",159,{"$f":"IF(B119='Veg Guide Data Base'!$AD$1376,C119,FALSE)","v":false},"2371644","Napuu extremely cobbly medial highly decomposed plant material, 40 to 70 percent slopes","Napuu",null,90,"bedrock, lithic",15,85,55,0.4,"none",null,null,"none"]
["HI801","Hawaii",160,{"$f":"IF(B120='Veg Guide Data Base'!$AD$1376,C120,FALSE)","v":false},"2371645","Kekake-Mawae complex, 2 to 10 percent slopes","Kekake",null,60,"bedrock, lithic",5,22,6,1.2,"none",null,null,"none"]
["HI801","Hawaii",160,{"$f":"IF(B121='Veg Guide Data Base'!$AD$1376,C121,FALSE)","v":false},"2371645","Kekake-Mawae complex, 2 to 10 percent slopes","Mawae",null,35,"bedrock, lithic",40,72,6,1,"none",null,null,"none"]
["HI801","Hawaii",161,{"$f":"IF(B122='Veg Guide Data Base'!$AD$1376,C122,FALSE)","v":false},"2371646","Kekake-Mawae complex, 10 to 20 percent slopes","Kekake",null,60,"bedrock, lithic",5,22,15,1.2,"none",null,null,"none"]
["HI801","Hawaii",161,{"$f":"IF(B123='Veg Guide Data Base'!$AD$1376,C123,FALSE)","v":false},"2371646","Kekake-Mawae complex, 10 to 20 percent slopes","Mawae",null,35,"bedrock, lithic",40,72,15,1,"none",null,null,"none"]
["HI801","Hawaii",162,{"$f":"IF(B124='Veg Guide Data Base'!$AD$1376,C124,FALSE)","v":false},"2371647","Lava flows-Kekake complex, 2 to 10 percent slopes","Lava flows","pahoehoe",70,"bedrock, lithic",0,0,6,0,"none",null,null,"none"]
["HI801","Hawaii",162,{"$f":"IF(B125='Veg Guide Data Base'!$AD$1376,C125,FALSE)","v":false},"2371647","Lava flows-Kekake complex, 2 to 10 percent slopes","Kekake",null,25,"bedrock, lithic",5,22,6,1.2,"none",null,null,"none"]
["HI801","Hawaii",163,{"$f":"IF(B126='Veg Guide Data Base'!$AD$1376,C126,FALSE)","v":false},"2371648","Lava flows-Kekake complex, 10 to 20 percent slopes","Lava flows","pahoehoe",70,"bedrock, lithic",0,0,15,0,"none",null,null,"none"]
["HI801","Hawaii",163,{"$f":"IF(B127='Veg Guide Data Base'!$AD$1376,C127,FALSE)","v":false},"2371648","Lava flows-Kekake complex, 10 to 20 percent slopes","Kekake",null,25,"bedrock, lithic",5,22,15,1.2,"none",null,null,"none"]
["HI801","Hawaii",164,{"$f":"IF(B128='Veg Guide Data Base'!$AD$1376,C128,FALSE)","v":false},"2371649","Lava flows-Kekake complex, 2 to 20 percent slopes","Lava flows","pahoehoe",80,"bedrock, lithic",0,0,11,0,"none",null,null,"none"]
["HI801","Hawaii",164,{"$f":"IF(B129='Veg Guide Data Base'!$AD$1376,C129,FALSE)","v":false},"2371649","Lava flows-Kekake complex, 2 to 20 percent slopes","Kekake",null,20,"bedrock, lithic",5,22,11,1.2,"none",null,null,"none"]
["HI801","Hawaii",165,{"$f":"IF(B130='Veg Guide Data Base'!$AD$1376,C130,FALSE)","v":false},"2371650","Puuiki-Lava flows complex, 2 to 10 percent slopes","Puuiki",null,60,"bedrock, lithic",5,50,6,0.7,"none",null,null,"none"]
["HI801","Hawaii",165,{"$f":"IF(B131='Veg Guide Data Base'!$AD$1376,C131,FALSE)","v":false},"2371650","Puuiki-Lava flows complex, 2 to 10 percent slopes","Lava flows","pahoehoe",35,"bedrock, lithic",0,0,6,0,"none",null,null,"none"]
["HI801","Hawaii",166,{"$f":"IF(B132='Veg Guide Data Base'!$AD$1376,C132,FALSE)","v":false},"2371651","Puuiki-Lava flows complex, 10 to 20 percent slopes","Puuiki",null,60,"bedrock, lithic",5,50,15,0.7,"none",null,null,"none"]
["HI801","Hawaii",166,{"$f":"IF(B133='Veg Guide Data Base'!$AD$1376,C133,FALSE)","v":false},"2371651","Puuiki-Lava flows complex, 10 to 20 percent slopes","Lava flows","pahoehoe",35,"bedrock, lithic",0,0,15,0,"none",null,null,"none"]
["HI801","Hawaii",167,{"$f":"IF(B134='Veg Guide Data Base'!$AD$1376,C134,FALSE)","v":false},"2371652","Lava flows-Puuiki complex, 2 to 20 percent slopes","Lava flows","pahoehoe",70,"bedrock, lithic",0,0,11,0,"none",null,null,"none"]
["HI801","Hawaii",167,{"$f":"IF(B135='Veg Guide Data Base'!$AD$1376,C135,FALSE)","v":false},"2371652","Lava flows-Puuiki complex, 2 to 20 percent slopes","Puuiki",null,25,"bedrock, lithic",5,50,11,0.7,"none",null,null,"none"]
["HI801","Hawaii",169,{"$f":"IF(B136='Veg Guide Data Base'!$AD$1376,C136,FALSE)","v":false},"2371222","Iwalani-Lava flows complex, moist, 2 to 10 percent slopes","Iwalani","moist",60,"bedrock, lithic",10,5,6,1.5,"none",null,null,"none"]
["HI801","Hawaii",169,{"$f":"IF(B137='Veg Guide Data Base'!$AD$1376,C137,FALSE)","v":false},"2371222","Iwalani-Lava flows complex, moist, 2 to 10 percent slopes","Lava flows","pahoehoe",40,"bedrock, lithic",0,0,6,0,"none",null,null,"none"]
["HI801","Hawaii",170,{"$f":"IF(B138='Veg Guide Data Base'!$AD$1376,C138,FALSE)","v":false},"2371654","Puuiki-Kamawai complex, 2 to 10 percent slopes","Puuiki",null,60,"bedrock, lithic",5,50,6,0.7,"none",null,null,"none"]
["HI801","Hawaii",170,{"$f":"IF(B139='Veg Guide Data Base'!$AD$1376,C139,FALSE)","v":false},"2371654","Puuiki-Kamawai complex, 2 to 10 percent slopes","Kamawai",null,35,"bedrock, lithic",20,80,6,0.6,"none",null,null,"none"]
["HI801","Hawaii",172,{"$f":"IF(B140='Veg Guide Data Base'!$AD$1376,C140,FALSE)","v":false},"2371655","Kamawai-Puuiki complex, 2 to 10 percent slopes","Kamawai",null,60,"bedrock, lithic",20,80,6,0.6,"none",null,null,"none"]
["HI801","Hawaii",172,{"$f":"IF(B141='Veg Guide Data Base'!$AD$1376,C141,FALSE)","v":false},"2371655","Kamawai-Puuiki complex, 2 to 10 percent slopes","Puuiki",null,35,"bedrock, lithic",5,50,6,0.7,"none",null,null,"none"]
["HI801","Hawaii",173,{"$f":"IF(B142='Veg Guide Data Base'!$AD$1376,C142,FALSE)","v":false},"2371656","Kamawai-Puuiki complex, 10 to 20 percent slopes","Kamawai",null,60,"bedrock, lithic",20,80,15,0.6,"none",null,null,"none"]
["HI801","Hawaii",173,{"$f":"IF(B143='Veg Guide Data Base'!$AD$1376,C143,FALSE)","v":false},"2371656","Kamawai-Puuiki complex, 10 to 20 percent slopes","Puuiki",null,35,"bedrock, lithic",5,50,15,0.7,"none",null,null,"none"]
["HI801","Hawaii",175,{"$f":"IF(B144='Veg Guide Data Base'!$AD$1376,C144,FALSE)","v":false},"2371657","Kamawai extremely cobbly medial highly decomposed plant material, 2 to 10 percent slopes","Kamawai",null,90,"bedrock, lithic",20,80,6,0.6,"none",null,null,"none"]
["HI801","Hawaii",176,{"$f":"IF(B145='Veg Guide Data Base'!$AD$1376,C145,FALSE)","v":false},"2371658","Kamawai extremely cobbly medial highly decomposed plant material, 10 to 20 percent slopes","Kamawai",null,90,"bedrock, lithic",20,80,15,0.6,"none",null,null,"none"]
["HI801","Hawaii",177,{"$f":"IF(B146='Veg Guide Data Base'!$AD$1376,C146,FALSE)","v":false},"2371659","Lava flows-Kamawai complex, 2 to 20 percent slopes","Lava flows","`a`a",60,"bedrock, lithic",39,95,11,0.2,"none",null,null,"none"]
["HI801","Hawaii",177,{"$f":"IF(B147='Veg Guide Data Base'!$AD$1376,C147,FALSE)","v":false},"2371659","Lava flows-Kamawai complex, 2 to 20 percent slopes","Kamawai",null,35,"bedrock, lithic",20,80,11,0.6,"none",null,null,"none"]
["HI801","Hawaii",178,{"$f":"IF(B148='Veg Guide Data Base'!$AD$1376,C148,FALSE)","v":false},"2371660","Kamawai extremely cobbly highly organic medial silt loam, 20 to 50 percent slopes","Kamawai",null,90,"bedrock, lithic",20,80,35,0.6,"none",null,null,"none"]
["HI801","Hawaii",179,{"$f":"IF(B149='Veg Guide Data Base'!$AD$1376,C149,FALSE)","v":false},"2371223","Iwalani-Lava flows complex, moist, 10 to 20 percent slopes","Iwalani","moist",70,"bedrock, lithic",10,5,15,1.5,"none",null,null,"none"]
["HI801","Hawaii",179,{"$f":"IF(B150='Veg Guide Data Base'!$AD$1376,C150,FALSE)","v":false},"2371223","Iwalani-Lava flows complex, moist, 10 to 20 percent slopes","Lava flows","pahoehoe",30,"bedrock, lithic",0,0,15,0,"none",null,null,"none"]
["HI801","Hawaii",180,{"$f":"IF(B151='Veg Guide Data Base'!$AD$1376,C151,FALSE)","v":false},"2371661","Lava flows-Halekula complex, moist, 2 to 20 percent slope","Lava flows","`a`a",60,"bedrock, lithic",39,95,11,0.2,"none",null,null,"none"]
["HI801","Hawaii",180,{"$f":"IF(B152='Veg Guide Data Base'!$AD$1376,C152,FALSE)","v":false},"2371661","Lava flows-Halekula complex, moist, 2 to 20 percent slope","Halekula","moist",35,"bedrock, lithic",27,53,11,1.4,"none",null,null,"none"]
["HI801","Hawaii",201,{"$f":"IF(B153='Veg Guide Data Base'!$AD$1376,C153,FALSE)","v":false},"2371662","Honaunau hydrous silt loam, 2 to 10 percent slopes","Honaunau",null,90,"bedrock, lithic",26,0,6,2.6,"occasional","extremely brief","January, February, March, April, May, June, July, August, September, October, November, December","none"]
["HI801","Hawaii",202,{"$f":"IF(B154='Veg Guide Data Base'!$AD$1376,C154,FALSE)","v":false},"2371663","Honaunau hydrous silt loam, 10 to 20 percent slopes","Honaunau",null,90,"bedrock, lithic",26,0,15,2.6,"occasional","extremely brief","January, February, March, April, May, June, July, August, September, October, November, December","none"]
["HI801","Hawaii",204,{"$f":"IF(B155='Veg Guide Data Base'!$AD$1376,C155,FALSE)","v":false},"2371664","Honaunau cobbly hydrous silt loam, 10 to 20 percent slopes","Honaunau","cobbly",90,"bedrock, lithic",26,10,15,2.6,"occasional","extremely brief","January, February, March, April, May, June, July, August, September, October, November, December","none"]
["HI801","Hawaii",213,{"$f":"IF(B156='Veg Guide Data Base'!$AD$1376,C156,FALSE)","v":false},"2371667","Nanaia-Lava flows complex, moist, 2 to 10 percent slopes","Nanaia","moist",60,"bedrock, lithic",6,5,6,0.7,"none",null,null,"none"]
["HI801","Hawaii",213,{"$f":"IF(B157='Veg Guide Data Base'!$AD$1376,C157,FALSE)","v":false},"2371667","Nanaia-Lava flows complex, moist, 2 to 10 percent slopes","Lava flows","pahoehoe",35,"bedrock, lithic",0,0,6,0,"none",null,null,"none"]
["HI801","Hawaii",221,{"$f":"IF(B158='Veg Guide Data Base'!$AD$1376,C158,FALSE)","v":false},"2371675","Kainaliu silty clay loam, 10 to 20 percent slopes","Kainaliu","silty clay loam",90,"bedrock, lithic",39,34,15,2,"occasional","extremely brief","January, February, March, April, May, June, July, August, September, October, November, December","none"]
["HI801","Hawaii",223,{"$f":"IF(B159='Veg Guide Data Base'!$AD$1376,C159,FALSE)","v":false},"2371677","Kainaliu cobbly silty clay loam, 10 to 20 percent slopes","Kainaliu",null,90,"bedrock, lithic",39,42,15,2,"occasional","extremely brief","January, February, March, April, May, June, July, August, September, October, November, December","none"]
["HI801","Hawaii",224,{"$f":"IF(B160='Veg Guide Data Base'!$AD$1376,C160,FALSE)","v":false},"2371678","Kainaliu-Lava flows complex, 2 to 10 percent slopes","Kainaliu",null,70,"bedrock, lithic",39,42,6,2,"occasional","extremely brief","January, February, March, April, May, June, July, August, September, October, November, December","none"]
["HI801","Hawaii",224,{"$f":"IF(B161='Veg Guide Data Base'!$AD$1376,C161,FALSE)","v":false},"2371678","Kainaliu-Lava flows complex, 2 to 10 percent slopes","Lava flows","`a`a",25,"bedrock, lithic",39,95,6,0.2,"none",null,null,"none"]
["HI801","Hawaii",225,{"$f":"IF(B162='Veg Guide Data Base'!$AD$1376,C162,FALSE)","v":false},"2371679","Kainaliu-Lava flows complex, 10 to 20 percent slopes","Kainaliu",null,70,"bedrock, lithic",39,42,15,2,"occasional","extremely brief","January, February, March, April, May, June, July, August, September, October, November, December","none"]
["HI801","Hawaii",225,{"$f":"IF(B163='Veg Guide Data Base'!$AD$1376,C163,FALSE)","v":false},"2371679","Kainaliu-Lava flows complex, 10 to 20 percent slopes","Lava flows","`a`a",25,"bedrock, lithic",39,95,15,0.2,"none",null,null,"none"]
["HI801","Hawaii",226,{"$f":"IF(B164='Veg Guide Data Base'!$AD$1376,C164,FALSE)","v":false},"2371680","Kainaliu cobbly silty clay loam, 20 to 40 percent slopes","Kainaliu",null,90,"bedrock, lithic",39,42,30,2,"occasional","extremely brief","January, February, March, April, May, June, July, August, September, October, November, December","none"]
["HI801","Hawaii",227,{"$f":"IF(B165='Veg Guide Data Base'!$AD$1376,C165,FALSE)","v":false},"2371681","Kainaliu-Waiaha complex, 10 to 20 percent slopes","Kainaliu",null,60,"bedrock, lithic",39,42,15,2,"occasional","extremely brief","January, February, March, April, May, June, July, August, September, October, November, December","none"]
["HI801","Hawaii",227,{"$f":"IF(B166='Veg Guide Data Base'!$AD$1376,C166,FALSE)","v":false},"2371681","Kainaliu-Waiaha complex, 10 to 20 percent slopes","Waiaha",null,35,"bedrock, lithic",15,37,15,1.3,"occasional","extremely brief","January, February, March, April, May, June, July, August, September, October, November, December","none"]
["HI801","Hawaii",231,{"$f":"IF(B167='Veg Guide Data Base'!$AD$1376,C167,FALSE)","v":false},"2371683","Honuaulu hydrous silt loam, 10 to 20 percent slopes","Honuaulu",null,90,"bedrock, lithic",29,18,15,1.7,"occasional","extremely brief","January, February, March, April, May, June, July, August, September, October, November, December","none"]
["HI801","Hawaii",232,{"$f":"IF(B168='Veg Guide Data Base'!$AD$1376,C168,FALSE)","v":false},"2371684","Honuaulu cobbly hydrous silt loam, 2 to 10 percent slopes","Honuaulu","cobbly",90,"bedrock, lithic",29,21,6,1.7,"occasional","extremely brief","January, February, March, April, May, June, July, August, September, October, November, December","none"]
["HI801","Hawaii",233,{"$f":"IF(B169='Veg Guide Data Base'!$AD$1376,C169,FALSE)","v":false},"2371685","Honuaulu cobbly hydrous silt loam, 10 to 20 percent slopes","Honuaulu","cobbly",90,"bedrock, lithic",29,21,15,1.7,"occasional","extremely brief","January, February, March, April, May, June, July, August, September, October, November, December","none"]
["HI801","Hawaii",234,{"$f":"IF(B170='Veg Guide Data Base'!$AD$1376,C170,FALSE)","v":false},"2371686","Honuaulu cobbly hydrous silt loam, 20 to 40 percent slopes","Honuaulu","cobbly",90,"bedrock, lithic",29,21,30,1.7,"occasional","extremely brief","January, February, March, April, May, June, July, August, September, October, November, December","none"]
["HI801","Hawaii",235,{"$f":"IF(B171='Veg Guide Data Base'!$AD$1376,C171,FALSE)","v":false},"2371687","Honuaulu-Kealakekua complex, 10 to 20 percent slopes","Honuaulu",null,50,"bedrock, lithic",29,18,15,1.7,"occasional","extremely brief","January, February, March, April, May, June, July, August, September, October, November, December","none"]
["HI801","Hawaii",235,{"$f":"IF(B172='Veg Guide Data Base'!$AD$1376,C172,FALSE)","v":false},"2371687","Honuaulu-Kealakekua complex, 10 to 20 percent slopes","Kealakekua",null,35,"bedrock, lithic",31,0,15,2.6,"occasional","extremely brief","January, February, March, April, May, June, July, August, September, October, November, December","none"]
["HI801","Hawaii",236,{"$f":"IF(B173='Veg Guide Data Base'!$AD$1376,C173,FALSE)","v":false},"2371688","Honuaulu-Kealakekua complex, 2 to 10 percent slopes","Honuaulu",null,50,"bedrock, lithic",29,18,6,1.7,"occasional","extremely brief","January, February, March, April, May, June, July, August, September, October, November, December","none"]
["HI801","Hawaii",236,{"$f":"IF(B174='Veg Guide Data Base'!$AD$1376,C174,FALSE)","v":false},"2371688","Honuaulu-Kealakekua complex, 2 to 10 percent slopes","Kealakekua",null,35,"bedrock, lithic",31,0,6,2.6,"occasional","extremely brief","January, February, March, April, May, June, July, August, September, October, November, December","none"]
["HI801","Hawaii",242,{"$f":"IF(B175='Veg Guide Data Base'!$AD$1376,C175,FALSE)","v":false},"2371689","Waiaha medial silt loam, 2 to 10 percent slopes","Waiaha","medial silt loam",90,"bedrock, lithic",15,13,6,1.6,"occasional","extremely brief","January, February, March, April, May, June, July, August, September, October, November, December","none"]
["HI801","Hawaii",243,{"$f":"IF(B176='Veg Guide Data Base'!$AD$1376,C176,FALSE)","v":false},"2371690","Waiaha medial silt loam, 10 to 20 percent slopes","Waiaha","medial silt loam",90,"bedrock, lithic",15,13,15,1.6,"occasional","extremely brief","January, February, March, April, May, June, July, August, September, October, November, December","none"]
["HI801","Hawaii",244,{"$f":"IF(B177='Veg Guide Data Base'!$AD$1376,C177,FALSE)","v":false},"2371691","Waiaha cobbly medial silt loam, 2 to 10 percent slopes","Waiaha",null,90,"bedrock, lithic",15,37,6,1.3,"occasional","extremely brief","January, February, March, April, May, June, July, August, September, October, November, December","none"]
["HI801","Hawaii",245,{"$f":"IF(B178='Veg Guide Data Base'!$AD$1376,C178,FALSE)","v":false},"2371692","Waiaha cobbly medial silt loam, 10 to 20 percent slopes","Waiaha",null,90,"bedrock, lithic",15,37,15,1.3,"occasional","extremely brief","January, February, March, April, May, June, July, August, September, October, November, December","none"]
["HI801","Hawaii",248,{"$f":"IF(B179='Veg Guide Data Base'!$AD$1376,C179,FALSE)","v":false},"2371694","Waiaha-Lava flows complex, 40 to 99 percent slopes","Waiaha",null,60,"bedrock, lithic",15,37,70,1.3,"occasional","extremely brief","January, February, March, April, May, June, July, August, September, October, November, December","none"]
["HI801","Hawaii",248,{"$f":"IF(B180='Veg Guide Data Base'!$AD$1376,C180,FALSE)","v":false},"2371694","Waiaha-Lava flows complex, 40 to 99 percent slopes","Lava flows",null,35,null,80,0,70,null,"none",null,null,"none"]
["HI801","Hawaii",249,{"$f":"IF(B181='Veg Guide Data Base'!$AD$1376,C181,FALSE)","v":false},"2371695","Waiaha-Punaluu-Lava flows complex, 2 to 10 percent slopes","Waiaha","medial silt loam",50,"bedrock, lithic",15,13,6,1.6,"occasional","extremely brief","January, February, March, April, May, June, July, August, September, October, November, December","none"]
["HI801","Hawaii",249,{"$f":"IF(B182='Veg Guide Data Base'!$AD$1376,C182,FALSE)","v":false},"2371695","Waiaha-Punaluu-Lava flows complex, 2 to 10 percent slopes","Punaluu",null,30,"bedrock, lithic",6,5,6,null,"occasional","extremely brief","January, February, March, April, May, June, July, August, September, October, November, December","none"]
["HI801","Hawaii",249,{"$f":"IF(B183='Veg Guide Data Base'!$AD$1376,C183,FALSE)","v":false},"2371695","Waiaha-Punaluu-Lava flows complex, 2 to 10 percent slopes","Lava flows","pahoehoe",15,"bedrock, lithic",0,0,6,0,"none",null,null,"none"]
["HI801","Hawaii",250,{"$f":"IF(B184='Veg Guide Data Base'!$AD$1376,C184,FALSE)","v":false},"2371696","Waiaha-Punaluu-Lava flows complex, 10 to 20 percent slopes","Waiaha","medial silt loam",50,"bedrock, lithic",15,13,15,1.6,"occasional","extremely brief","January, February, March, April, May, June, July, August, September, October, November, December","none"]
["HI801","Hawaii",250,{"$f":"IF(B185='Veg Guide Data Base'!$AD$1376,C185,FALSE)","v":false},"2371696","Waiaha-Punaluu-Lava flows complex, 10 to 20 percent slopes","Punaluu",null,30,"bedrock, lithic",6,5,15,null,"occasional","extremely brief","January, February, March, April, May, June, July, August, September, October, November, December","none"]
["HI801","Hawaii",250,{"$f":"IF(B186='Veg Guide Data Base'!$AD$1376,C186,FALSE)","v":false},"2371696","Waiaha-Punaluu-Lava flows complex, 10 to 20 percent slopes","Lava flows","pahoehoe",20,"bedrock, lithic",0,0,15,0,"none",null,null,"none"]
["HI801","Hawaii",252,{"$f":"IF(B187='Veg Guide Data Base'!$AD$1376,C187,FALSE)","v":false},"2371697","Napoopoo hydrous silt loam, 10 to 20 percent slopes","Napoopoo","hydrous silt loam",90,"bedrock, lithic",19,22,15,2,"occasional","extremely brief","January, February, March, April, May, June, July, August, September, October, November, December","none"]
["HI801","Hawaii",253,{"$f":"IF(B188='Veg Guide Data Base'!$AD$1376,C188,FALSE)","v":false},"2371698","Napoopoo cobbly hydrous silt loam, 2 to 10 percent slopes","Napoopoo",null,90,"bedrock, lithic",19,28,6,1.9,"occasional","extremely brief","January, February, March, April, May, June, July, August, September, October, November, December","none"]
["HI801","Hawaii",254,{"$f":"IF(B189='Veg Guide Data Base'!$AD$1376,C189,FALSE)","v":false},"2371699","Napoopoo cobbly hydrous silt loam, 10 to 20 percent slopes","Napoopoo",null,90,"bedrock, lithic",19,28,15,1.9,"occasional","extremely brief","January, February, March, April, May, June, July, August, September, October, November, December","none"]
["HI801","Hawaii",256,{"$f":"IF(B190='Veg Guide Data Base'!$AD$1376,C190,FALSE)","v":false},"2371700","Napoopoo-Lava flows complex, 10 to 20 percent slopes","Napoopoo",null,70,"bedrock, lithic",19,28,15,1.9,"occasional","extremely brief","January, February, March, April, May, June, July, August, September, October, November, December","none"]
["HI801","Hawaii",256,{"$f":"IF(B191='Veg Guide Data Base'!$AD$1376,C191,FALSE)","v":false},"2371700","Napoopoo-Lava flows complex, 10 to 20 percent slopes","Lava flows",null,25,null,80,0,15,null,"none",null,null,"none"]
["HI801","Hawaii",257,{"$f":"IF(B192='Veg Guide Data Base'!$AD$1376,C192,FALSE)","v":false},"2371701","Napoopoo cobbly hydrous silt loam, 20 to 40 percent slopes","Napoopoo",null,90,"bedrock, lithic",19,28,30,1.9,"occasional","extremely brief","January, February, March, April, May, June, July, August, September, October, November, December","none"]
["HI801","Hawaii",258,{"$f":"IF(B193='Veg Guide Data Base'!$AD$1376,C193,FALSE)","v":false},"2371702","Napoopoo-Honuaulu complex, 10 to 20 percent slopes","Napoopoo",null,60,"bedrock, lithic",19,28,15,1.9,"occasional","extremely brief","January, February, March, April, May, June, July, August, September, October, November, December","none"]
["HI801","Hawaii",258,{"$f":"IF(B194='Veg Guide Data Base'!$AD$1376,C194,FALSE)","v":false},"2371702","Napoopoo-Honuaulu complex, 10 to 20 percent slopes","Honuaulu","cobbly",35,"bedrock, lithic",29,21,15,1.7,"occasional","extremely brief","January, February, March, April, May, June, July, August, September, October, November, December","none"]
["HI801","Hawaii",259,{"$f":"IF(B195='Veg Guide Data Base'!$AD$1376,C195,FALSE)","v":false},"2371703","Napoopoo-Honuaulu complex, 20 to 40 percent slopes","Napoopoo",null,60,"bedrock, lithic",19,28,30,1.9,"occasional","extremely brief","January, February, March, April, May, June, July, August, September, October, November, December","none"]
["HI801","Hawaii",259,{"$f":"IF(B196='Veg Guide Data Base'!$AD$1376,C196,FALSE)","v":false},"2371703","Napoopoo-Honuaulu complex, 20 to 40 percent slopes","Honuaulu","cobbly",35,"bedrock, lithic",29,21,30,1.7,"occasional","extremely brief","January, February, March, April, May, June, July, August, September, October, November, December","none"]
["HI801","Hawaii",260,{"$f":"IF(B197='Veg Guide Data Base'!$AD$1376,C197,FALSE)","v":false},"2371704","Kealakekua hydrous silty clay loam, 2 to 10 percent slopes","Kealakekua",null,90,"bedrock, lithic",31,0,6,2.6,"occasional","extremely brief","January, February, March, April, May, June, July, August, September, October, November, December","none"]
["HI801","Hawaii",261,{"$f":"IF(B198='Veg Guide Data Base'!$AD$1376,C198,FALSE)","v":false},"2371705","Kealakekua hydrous silty clay loam, 10 to 20 percent slopes","Kealakekua",null,90,"bedrock, lithic",31,0,15,2.6,"occasional","extremely brief","January, February, March, April, May, June, July, August, September, October, November, December","none"]
["HI801","Hawaii",264,{"$f":"IF(B199='Veg Guide Data Base'!$AD$1376,C199,FALSE)","v":false},"2371706","Kealakekua cobbly hydrous silty clay loam, 2 to 10 percent slopes","Kealakekua","cobbly",90,"bedrock, lithic",31,25,6,2.2000000000000002,"occasional","extremely brief","January, February, March, April, May, June, July, August, September, October, November, December","none"]
["HI801","Hawaii",265,{"$f":"IF(B200='Veg Guide Data Base'!$AD$1376,C200,FALSE)","v":false},"2371707","Kealakekua cobbly hydrous silty clay loam, 10 to 20 percent slopes","Kealakekua","cobbly",90,"bedrock, lithic",31,25,15,2.2000000000000002,"occasional","extremely brief","January, February, March, April, May, June, July, August, September, October, November, December","none"]
["HI801","Hawaii",266,{"$f":"IF(B201='Veg Guide Data Base'!$AD$1376,C201,FALSE)","v":false},"2371708","Kealakekua cobbly hydrous silty clay loam, 20 to 40 percent slopes","Kealakekua","cobbly",90,"bedrock, lithic",31,25,30,2.2000000000000002,"occasional","extremely brief","January, February, March, April, May, June, July, August, September, October, November, December","none"]
["HI801","Hawaii",271,{"$f":"IF(B202='Veg Guide Data Base'!$AD$1376,C202,FALSE)","v":false},"2371228","Lava flows-Kanohina complex, 2 to 20 percent slopes","Lava flows","pahoehoe",60,"bedrock, lithic",0,0,11,0,"none",null,null,"none"]
["HI801","Hawaii",271,{"$f":"IF(B203='Veg Guide Data Base'!$AD$1376,C203,FALSE)","v":false},"2371228","Lava flows-Kanohina complex, 2 to 20 percent slopes","Kanohina",null,40,"bedrock, lithic",6,0,11,0.6,"none",null,null,"none"]
["HI801","Hawaii",272,{"$f":"IF(B204='Veg Guide Data Base'!$AD$1376,C204,FALSE)","v":false},"2371229","Kanohina ashy very fine sandy loam, 2 to 10 percent slopes","Kanohina",null,90,"bedrock, lithic",6,0,6,0.6,"none",null,null,"none"]
["HI801","Hawaii",275,{"$f":"IF(B205='Veg Guide Data Base'!$AD$1376,C205,FALSE)","v":false},"2371230","Kapulehu-Lava flows complex, 2 to 10 percent slopes","Kapulehu",null,60,"bedrock, lithic",26,55,6,1.3,"none",null,null,"none"]
["HI801","Hawaii",275,{"$f":"IF(B206='Veg Guide Data Base'!$AD$1376,C206,FALSE)","v":false},"2371230","Kapulehu-Lava flows complex, 2 to 10 percent slopes","Lava flows","`a`a",40,"bedrock, lithic",39,95,6,0.2,"none",null,null,"none"]
["HI801","Hawaii",276,{"$f":"IF(B207='Veg Guide Data Base'!$AD$1376,C207,FALSE)","v":false},"2371231","Kapulehu very cobbly medial silt loam, 2 to 10 percent slopes","Kapulehu",null,95,"bedrock, lithic",26,55,6,1.3,"none",null,null,"none"]
["HI801","Hawaii",277,{"$f":"IF(B208='Veg Guide Data Base'!$AD$1376,C208,FALSE)","v":false},"2371232","Kapulehu very cobbly medial silt loam, 10 to 20 percent slopes","Kapulehu",null,95,"bedrock, lithic",26,55,15,1.3,"none",null,null,"none"]
["HI801","Hawaii",280,{"$f":"IF(B209='Veg Guide Data Base'!$AD$1376,C209,FALSE)","v":false},"2371233","Nanaia-Lava flows complex, 2 to 10 percent slopes","Nanaia",null,60,"bedrock, lithic",6,5,6,0.7,"none",null,null,"none"]
["HI801","Hawaii",280,{"$f":"IF(B210='Veg Guide Data Base'!$AD$1376,C210,FALSE)","v":false},"2371233","Nanaia-Lava flows complex, 2 to 10 percent slopes","Lava flows","pahoehoe",35,"bedrock, lithic",0,0,6,0,"none",null,null,"none"]
["HI801","Hawaii",281,{"$f":"IF(B211='Veg Guide Data Base'!$AD$1376,C211,FALSE)","v":false},"2371713","Lava flows-Nanaia complex, 2 to 20 percent slopes","Lava flows","pahoehoe",60,"bedrock, lithic",0,0,11,0,"none",null,null,"none"]
["HI801","Hawaii",281,{"$f":"IF(B212='Veg Guide Data Base'!$AD$1376,C212,FALSE)","v":false},"2371713","Lava flows-Nanaia complex, 2 to 20 percent slopes","Nanaia",null,35,"bedrock, lithic",6,5,11,0.7,"none",null,null,"none"]
["HI801","Hawaii",290,{"$f":"IF(B213='Veg Guide Data Base'!$AD$1376,C213,FALSE)","v":false},"2371235","Keaa cobbly medial loam, 2 to 10 percent slopes","Keaa",null,90,"bedrock, lithic",18,37,6,1.5,"none",null,null,"none"]
["HI801","Hawaii",291,{"$f":"IF(B214='Veg Guide Data Base'!$AD$1376,C214,FALSE)","v":false},"2371236","Keaa cobbly medial loam, 10 to 20 percent slopes","Keaa",null,90,"bedrock, lithic",18,37,15,1.5,"none",null,null,"none"]
["HI801","Hawaii",292,{"$f":"IF(B215='Veg Guide Data Base'!$AD$1376,C215,FALSE)","v":false},"2371237","Keaa-Kiolakaa complex, 2 to 10 percent slopes","Keaa",null,60,"bedrock, lithic",18,37,6,1.5,"none",null,null,"none"]
["HI801","Hawaii",292,{"$f":"IF(B216='Veg Guide Data Base'!$AD$1376,C216,FALSE)","v":false},"2371237","Keaa-Kiolakaa complex, 2 to 10 percent slopes","Kiolakaa",null,35,"bedrock, lithic",25,14,6,1.9,"none",null,null,"none"]
["HI801","Hawaii",300,{"$f":"IF(B217='Veg Guide Data Base'!$AD$1376,C217,FALSE)","v":false},"2371238","Kamaoa medial loam, 2 to 10 percent slopes","Kamaoa",null,90,"bedrock, lithic",68,0,6,2.6,"none",null,null,"none"]
["HI801","Hawaii",301,{"$f":"IF(B218='Veg Guide Data Base'!$AD$1376,C218,FALSE)","v":false},"2371239","Kamaoa cobbly medial loam, 50 to 70 percent slopes","Kamaoa","cobbly",90,"bedrock, lithic",68,18,60,2.6,"none",null,null,"none"]
["HI801","Hawaii",305,{"$f":"IF(B219='Veg Guide Data Base'!$AD$1376,C219,FALSE)","v":false},"2371240","Kiolakaa medial loam, 2 to 10 percent slopes","Kiolakaa",null,90,"bedrock, lithic",25,14,6,1.9,"none",null,null,"none"]
["HI801","Hawaii",310,{"$f":"IF(B220='Veg Guide Data Base'!$AD$1376,C220,FALSE)","v":false},"2371719","Auwaiakeakua extremely cobbly silt loam, 2 to 10 percent slopes","Auwaiakeakua",null,90,"bedrock, lithic",33,79,6,1,"none",null,null,"none"]
["HI801","Hawaii",311,{"$f":"IF(B221='Veg Guide Data Base'!$AD$1376,C221,FALSE)","v":false},"2371720","Auwaiakeakua extremely cobbly silt loam, 10 to 20 percent slopes","Auwaiakeakua",null,90,"bedrock, lithic",33,79,15,1,"none",null,null,"none"]
["HI801","Hawaii",312,{"$f":"IF(B222='Veg Guide Data Base'!$AD$1376,C222,FALSE)","v":false},"2401297","Lava flows-Auwaiakeakua complex, 2 to 20 percent slopes","Lava flows","`a`a",60,"bedrock, lithic",39,95,15,0.2,"none",null,null,"none"]
["HI801","Hawaii",312,{"$f":"IF(B223='Veg Guide Data Base'!$AD$1376,C223,FALSE)","v":false},"2401297","Lava flows-Auwaiakeakua complex, 2 to 20 percent slopes","Auwaiakeakua",null,40,"bedrock, lithic",33,79,15,1,"none",null,null,"none"]
["HI801","Hawaii",316,{"$f":"IF(B224='Veg Guide Data Base'!$AD$1376,C224,FALSE)","v":false},"2371721","Lava flows-Kiholo complex, 2 to 20 percent slopes","Lava flows","pahoehoe",70,"bedrock, lithic",0,0,11,0,"none",null,null,"none"]
["HI801","Hawaii",316,{"$f":"IF(B225='Veg Guide Data Base'!$AD$1376,C225,FALSE)","v":false},"2371721","Lava flows-Kiholo complex, 2 to 20 percent slopes","Kiholo",null,30,"bedrock, lithic",8,4,11,1.6,"very rare","extremely brief","January, February, March, April, May, June, July, August, September, October, November, December","none"]
["HI801","Hawaii",317,{"$f":"IF(B226='Veg Guide Data Base'!$AD$1376,C226,FALSE)","v":false},"2371722","Kiholo-Lava flows complex, 2 to 10 percent slopes","Kiholo",null,60,"bedrock, lithic",8,4,6,1.6,"very rare","extremely brief","January, February, March, April, May, June, July, August, September, October, November, December","none"]
["HI801","Hawaii",317,{"$f":"IF(B227='Veg Guide Data Base'!$AD$1376,C227,FALSE)","v":false},"2371722","Kiholo-Lava flows complex, 2 to 10 percent slopes","Lava flows","pahoehoe",40,"bedrock, lithic",0,0,6,0,"none",null,null,"none"]
["HI801","Hawaii",330,{"$f":"IF(B228='Veg Guide Data Base'!$AD$1376,C228,FALSE)","v":false},"2371723","Kahaumanu-Lava flows complex, 2 to 10 percent slopes","Kahaumanu",null,60,"bedrock, lithic",15,20,6,1.8,"none",null,null,"none"]
["HI801","Hawaii",330,{"$f":"IF(B229='Veg Guide Data Base'!$AD$1376,C229,FALSE)","v":false},"2371723","Kahaumanu-Lava flows complex, 2 to 10 percent slopes","Lava flows","pahoehoe",40,"bedrock, lithic",0,0,6,0,"none",null,null,"none"]
["HI801","Hawaii",331,{"$f":"IF(B230='Veg Guide Data Base'!$AD$1376,C230,FALSE)","v":false},"2371724","Kahaumanu-Lava flows complex, 10 to 20 percent slopes","Kahaumanu",null,60,"bedrock, lithic",15,20,15,1.8,"none",null,null,"none"]
["HI801","Hawaii",331,{"$f":"IF(B231='Veg Guide Data Base'!$AD$1376,C231,FALSE)","v":false},"2371724","Kahaumanu-Lava flows complex, 10 to 20 percent slopes","Lava flows","pahoehoe",40,"bedrock, lithic",0,0,15,0,"none",null,null,"none"]
["HI801","Hawaii",332,{"$f":"IF(B232='Veg Guide Data Base'!$AD$1376,C232,FALSE)","v":false},"2371725","Lava flows-Kahaumanu complex, 2 to 20 percent slopes","Lava flows","pahoehoe",70,"bedrock, lithic",0,0,11,0,"none",null,null,"none"]
["HI801","Hawaii",332,{"$f":"IF(B233='Veg Guide Data Base'!$AD$1376,C233,FALSE)","v":false},"2371725","Lava flows-Kahaumanu complex, 2 to 20 percent slopes","Kahaumanu",null,30,"bedrock, lithic",15,20,11,1.8,"none",null,null,"none"]
["HI801","Hawaii",333,{"$f":"IF(B234='Veg Guide Data Base'!$AD$1376,C234,FALSE)","v":false},"2371794","Puu Pa very cobbly medial very fine sandy loam, 6 to 12 percent slopes","Puu Pa",null,100,"bedrock, lithic",50,38,9,3.9,"none",null,null,"none"]
["HI801","Hawaii",334,{"$f":"IF(B235='Veg Guide Data Base'!$AD$1376,C235,FALSE)","v":false},"2371795","Puu Pa very cobbly medial very fine sandy loam, 12 to 20 percent slopes","Puu Pa",null,100,"bedrock, lithic",50,38,16,3.9,"none",null,null,"none"]
["HI801","Hawaii",335,{"$f":"IF(B236='Veg Guide Data Base'!$AD$1376,C236,FALSE)","v":false},"2371796","Waikaloa-Puu Pa complex, 10 to 20 percent slopes","Waikaloa",null,70,null,80,3,15,5.0999999999999996,"none",null,null,"none"]
["HI801","Hawaii",335,{"$f":"IF(B237='Veg Guide Data Base'!$AD$1376,C237,FALSE)","v":false},"2371796","Waikaloa-Puu Pa complex, 10 to 20 percent slopes","Puu Pa","medial very fine sandy loam",30,"bedrock, lithic",50,28,15,4.0999999999999996,"none",null,null,"none"]
["HI801","Hawaii",336,{"$f":"IF(B238='Veg Guide Data Base'!$AD$1376,C238,FALSE)","v":false},"2371797","Puako fine sandy loam, 0 to 6 percent slopes","Puako",null,100,null,80,0,3,4.8,"occasional","very brief","January, February, March, April, May, June, July, August, September, October, November, December","none"]
["HI801","Hawaii",337,{"$f":"IF(B239='Veg Guide Data Base'!$AD$1376,C239,FALSE)","v":false},"2371798","Waikaloa-Puu Pa complex, 2 to 10 percent slopes","Waikaloa",null,70,null,80,3,6,5.0999999999999996,"none",null,null,"none"]
["HI801","Hawaii",337,{"$f":"IF(B240='Veg Guide Data Base'!$AD$1376,C240,FALSE)","v":false},"2371798","Waikaloa-Puu Pa complex, 2 to 10 percent slopes","Puu Pa","medial very fine sandy loam",28,"bedrock, lithic",50,28,6,4.0999999999999996,"none",null,null,"none"]
["HI801","Hawaii",340,{"$f":"IF(B241='Veg Guide Data Base'!$AD$1376,C241,FALSE)","v":false},"2371726","Waawaa medial silt loam, 2 to 10 percent slopes","Waawaa",null,100,null,80,0,6,3,"none",null,null,"none"]
["HI801","Hawaii",341,{"$f":"IF(B242='Veg Guide Data Base'!$AD$1376,C242,FALSE)","v":false},"2371727","Waawaa medial silt loam, 10 to 20 percent slopes","Waawaa",null,100,null,80,0,15,3,"none",null,null,"none"]
["HI801","Hawaii",342,{"$f":"IF(B243='Veg Guide Data Base'!$AD$1376,C243,FALSE)","v":false},"2371728","Waawaa medial silt loam, 40 to 70 percent slopes","Waawaa",null,100,null,80,0,55,3,"none",null,null,"none"]
["HI801","Hawaii",345,{"$f":"IF(B244='Veg Guide Data Base'!$AD$1376,C244,FALSE)","v":false},"2371799","Waikaloa medial very fine sandy loam, 2 to 10 percent slopes","Waikaloa",null,90,null,80,3,6,5.0999999999999996,"none",null,null,"none"]
["HI801","Hawaii",346,{"$f":"IF(B245='Veg Guide Data Base'!$AD$1376,C245,FALSE)","v":false},"2371729","Waikaloa medial very fine sandy loam, 10 to 20 percent slopes","Waikaloa",null,90,null,80,3,15,5.0999999999999996,"none",null,null,"none"]
["HI801","Hawaii",347,{"$f":"IF(B246='Veg Guide Data Base'!$AD$1376,C246,FALSE)","v":false},"2371801","Waikaloa medial very fine sandy loam, 20 to 50 percent slopes","Waikaloa",null,90,null,80,3,35,5.0999999999999996,"none",null,null,"none"]
["HI801","Hawaii",350,{"$f":"IF(B247='Veg Guide Data Base'!$AD$1376,C247,FALSE)","v":false},"2371730","Nanuku extremely cobbly silt loam, 2 to 10 percent slopes","Nanuku",null,90,"bedrock, lithic",30,78,6,0.9,"none",null,null,"none"]
["HI801","Hawaii",351,{"$f":"IF(B248='Veg Guide Data Base'!$AD$1376,C248,FALSE)","v":false},"2371803","Nanuku extremely cobbly silt loam, 10 to 20 percent slopes","Nanuku",null,90,"bedrock, lithic",30,78,15,0.9,"none",null,null,"none"]
["HI801","Hawaii",352,{"$f":"IF(B249='Veg Guide Data Base'!$AD$1376,C249,FALSE)","v":false},"2371804","Lava flows-Nanuku complex, 2 to 20 percent slopes","Lava flows","`a`a",60,"bedrock, lithic",39,95,11,0.2,"none",null,null,"none"]
["HI801","Hawaii",352,{"$f":"IF(B250='Veg Guide Data Base'!$AD$1376,C250,FALSE)","v":false},"2371804","Lava flows-Nanuku complex, 2 to 20 percent slopes","Nanuku",null,40,"bedrock, lithic",30,78,11,0.9,"none",null,null,"none"]
["HI801","Hawaii",356,{"$f":"IF(B251='Veg Guide Data Base'!$AD$1376,C251,FALSE)","v":false},"2371731","Akahipuu very cobbly medial silt loam, 2 to 10 percent slopes","Akahipuu",null,90,"bedrock, lithic",38,56,6,1.4,"none",null,null,"none"]
["HI801","Hawaii",357,{"$f":"IF(B252='Veg Guide Data Base'!$AD$1376,C252,FALSE)","v":false},"2371732","Akahipuu very cobbly medial silt loam, 10 to 20 percent slopes","Akahipuu",null,90,"bedrock, lithic",38,56,15,1.4,"none",null,null,"none"]
["HI801","Hawaii",370,{"$f":"IF(B253='Veg Guide Data Base'!$AD$1376,C253,FALSE)","v":false},"2371807","Waikui-Hapuna complex, 2 to 10 percent slopes","Waikui",null,70,null,80,52,9,3.9,"none",null,null,"none"]
["HI801","Hawaii",370,{"$f":"IF(B254='Veg Guide Data Base'!$AD$1376,C254,FALSE)","v":false},"2371807","Waikui-Hapuna complex, 2 to 10 percent slopes","Hapuna",null,30,"petrocalcic",12,52,9,2.7,"none",null,null,"none"]
["HI801","Hawaii",371,{"$f":"IF(B255='Veg Guide Data Base'!$AD$1376,C255,FALSE)","v":false},"2371808","Waikui-Hapuna complex, 10 to 20 percent slopes","Waikui",null,70,null,80,52,16,3.9,"none",null,null,"none"]
["HI801","Hawaii",371,{"$f":"IF(B256='Veg Guide Data Base'!$AD$1376,C256,FALSE)","v":false},"2371808","Waikui-Hapuna complex, 10 to 20 percent slopes","Hapuna",null,30,"petrocalcic",12,52,16,2.7,"none",null,null,"none"]
["HI801","Hawaii",373,{"$f":"IF(B257='Veg Guide Data Base'!$AD$1376,C257,FALSE)","v":false},"2371810","Hapuna-Waikui-Lalamilo complex, 0 to 20 percent slopes","Hapuna",null,35,"petrocalcic",12,52,10,2.7,"none",null,null,"none"]
["HI801","Hawaii",373,{"$f":"IF(B258='Veg Guide Data Base'!$AD$1376,C258,FALSE)","v":false},"2371810","Hapuna-Waikui-Lalamilo complex, 0 to 20 percent slopes","Waikui",null,35,null,80,52,10,3.9,"none",null,null,"none"]
["HI801","Hawaii",373,{"$f":"IF(B259='Veg Guide Data Base'!$AD$1376,C259,FALSE)","v":false},"2371810","Hapuna-Waikui-Lalamilo complex, 0 to 20 percent slopes","Lalamilo",null,20,"duripan",45,6,10,5,"rare","extremely brief",null,"none"]
["HI801","Hawaii",374,{"$f":"IF(B260='Veg Guide Data Base'!$AD$1376,C260,FALSE)","v":false},"2371811","Rock outcrop-Waikui-Hapuna complex, 2 to 70 percent slopes","Rock outcrop","basalt",40,null,80,0,20,null,"none",null,null,"none"]
["HI801","Hawaii",374,{"$f":"IF(B261='Veg Guide Data Base'!$AD$1376,C261,FALSE)","v":false},"2371811","Rock outcrop-Waikui-Hapuna complex, 2 to 70 percent slopes","Waikui",null,30,null,80,52,20,3.9,"none",null,null,"none"]
["HI801","Hawaii",374,{"$f":"IF(B262='Veg Guide Data Base'!$AD$1376,C262,FALSE)","v":false},"2371811","Rock outcrop-Waikui-Hapuna complex, 2 to 70 percent slopes","Hapuna",null,20,"petrocalcic",12,52,20,2.7,"none",null,null,"none"]
["HI801","Hawaii",375,{"$f":"IF(B263='Veg Guide Data Base'!$AD$1376,C263,FALSE)","v":false},"2371812","Kawaihae very cobbly very fine sandy loam, 6 to 12 percent slopes","Kawaihae",null,95,"bedrock, lithic",33,18,9,3.2,"none",null,null,"none"]
["HI801","Hawaii",376,{"$f":"IF(B264='Veg Guide Data Base'!$AD$1376,C264,FALSE)","v":false},"2371813","Kawaihae very cobbly very fine sandy loam, 12 to 20 percent slopes","Kawaihae",null,90,"bedrock, lithic",33,18,16,3.2,"none",null,null,"none"]
["HI801","Hawaii",377,{"$f":"IF(B265='Veg Guide Data Base'!$AD$1376,C265,FALSE)","v":false},"2371814","Kawaihae very cobbly silt loam,  6 to 20 percent slopes","Kawaihae","eroded",90,"bedrock, lithic",31,50,13,2.2000000000000002,"none",null,null,"none"]
["HI801","Hawaii",379,{"$f":"IF(B266='Veg Guide Data Base'!$AD$1376,C266,FALSE)","v":false},"2371815","Rock outcrop-Kamakoa complex, 6 to 20 percent slopes","Rock outcrop","basalt",70,null,80,0,12,null,"none",null,null,"none"]
["HI801","Hawaii",379,{"$f":"IF(B267='Veg Guide Data Base'!$AD$1376,C267,FALSE)","v":false},"2371815","Rock outcrop-Kamakoa complex, 6 to 20 percent slopes","Kamakoa",null,25,null,80,1,12,3.5,"occasional, rare","very brief","January, February, November, December","none"]
["HI801","Hawaii",380,{"$f":"IF(B268='Veg Guide Data Base'!$AD$1376,C268,FALSE)","v":false},"2371816","Kamakoa very fine sandy loam, 2 to 10 percent slopes","Kamakoa",null,95,null,80,1,3,3.5,"rare, occasional","very brief","January, February, November, December","none"]
["HI801","Hawaii",381,{"$f":"IF(B269='Veg Guide Data Base'!$AD$1376,C269,FALSE)","v":false},"2371817","Waimea medial very fine sandy loam, 6 to 12 percent slopes","Waimea","medial very fine sandy loam",100,"bedrock, lithic",42,4,9,5,"none",null,null,"none"]
["HI801","Hawaii",382,{"$f":"IF(B270='Veg Guide Data Base'!$AD$1376,C270,FALSE)","v":false},"2371818","Waimea medial very fine sandy loam, 12 to 20 percent slopes","Waimea","medial very fine sandy loam",100,"bedrock, lithic",42,4,16,5,"none",null,null,"none"]
["HI801","Hawaii",383,{"$f":"IF(B271='Veg Guide Data Base'!$AD$1376,C271,FALSE)","v":false},"2371819","Waimea medial very fine sandy loam, 0 to 6 percent slopes","Waimea","medial very fine sandy loam",100,"bedrock, lithic",42,4,3,5,"none",null,null,"none"]
["HI801","Hawaii",384,{"$f":"IF(B272='Veg Guide Data Base'!$AD$1376,C272,FALSE)","v":false},"2371820","Waimea medial very fine sandy loam, 20 to 50 percent slopes","Waimea","medial very fine sandy loam",100,"bedrock, lithic",42,4,35,5,"none",null,null,"none"]
["HI801","Hawaii",385,{"$f":"IF(B273='Veg Guide Data Base'!$AD$1376,C273,FALSE)","v":false},"2371733","Hua hydrous silt loam, 2 to 10 percent slopes","Hua",null,90,"bedrock, lithic",8,9,6,0.9,"occasional","extremely brief","January, February, March, April, May, June, July, August, September, October, November, December","occasional","very brief","January, February, March, April, May, June, July, August, September, October, November, December"]
["HI801","Hawaii",386,{"$f":"IF(B274='Veg Guide Data Base'!$AD$1376,C274,FALSE)","v":false},"2371734","Hua hydrous silt loam, 10 to 20 percent slopes","Hua",null,90,"bedrock, lithic",8,9,15,0.9,"occasional","extremely brief","January, February, March, April, May, June, July, August, September, October, November, December","occasional","very brief","January, February, March, April, May, June, July, August, September, October, November, December"]
["HI801","Hawaii",387,{"$f":"IF(B275='Veg Guide Data Base'!$AD$1376,C275,FALSE)","v":false},"2371735","Hua-Honaunau complex, 2 to 10 percent slopes","Hua",null,60,"bedrock, lithic",8,9,6,0.9,"occasional","extremely brief","January, February, March, April, May, June, July, August, September, October, November, December","occasional","very brief","January, February, March, April, May, June, July, August, September, October, November, December"]
["HI801","Hawaii",387,{"$f":"IF(B276='Veg Guide Data Base'!$AD$1376,C276,FALSE)","v":false},"2371735","Hua-Honaunau complex, 2 to 10 percent slopes","Honaunau",null,35,"bedrock, lithic",26,0,6,2.6,"occasional","extremely brief","January, February, March, April, May, June, July, August, September, October, November, December","none"]
["HI801","Hawaii",388,{"$f":"IF(B277='Veg Guide Data Base'!$AD$1376,C277,FALSE)","v":false},"2371736","Hua-Honaunau complex, 10 to 20 percent slopes","Hua",null,60,"bedrock, lithic",8,9,15,0.9,"occasional","extremely brief","January, February, March, April, May, June, July, August, September, October, November, December","occasional","very brief","January, February, March, April, May, June, July, August, September, October, November, December"]
["HI801","Hawaii",388,{"$f":"IF(B278='Veg Guide Data Base'!$AD$1376,C278,FALSE)","v":false},"2371736","Hua-Honaunau complex, 10 to 20 percent slopes","Honaunau",null,35,"bedrock, lithic",26,0,15,2.6,"occasional","extremely brief","January, February, March, April, May, June, July, August, September, October, November, December","none"]
["HI801","Hawaii",389,{"$f":"IF(B279='Veg Guide Data Base'!$AD$1376,C279,FALSE)","v":false},"2371737","Hua-Honaunau complex, 20 to 40 percent slopes","Hua",null,60,"bedrock, lithic",8,9,30,0.9,"occasional","extremely brief","January, February, March, April, May, June, July, August, September, October, November, December","occasional","very brief","January, February, March, April, May, June, July, August, September, October, November, December"]
["HI801","Hawaii",389,{"$f":"IF(B280='Veg Guide Data Base'!$AD$1376,C280,FALSE)","v":false},"2371737","Hua-Honaunau complex, 20 to 40 percent slopes","Honaunau",null,35,"bedrock, lithic",26,0,30,2.6,"occasional","extremely brief","January, February, March, April, May, June, July, August, September, October, November, December","none"]
["HI801","Hawaii",390,{"$f":"IF(B281='Veg Guide Data Base'!$AD$1376,C281,FALSE)","v":false},"2371738","Manahaa hydrous silt loam, 2 to 10 percent slopes","Manahaa",null,90,"bedrock, lithic",25,0,6,3,"occasional","extremely brief","January, February, March, April, May, June, July, August, September, October, November, December","none"]
["HI801","Hawaii",391,{"$f":"IF(B282='Veg Guide Data Base'!$AD$1376,C282,FALSE)","v":false},"2371739","Manahaa hydrous silt loam, 10 to 20 percent slopes","Manahaa",null,90,"bedrock, lithic",25,0,15,3,"occasional","extremely brief","January, February, March, April, May, June, July, August, September, October, November, December","none"]
["HI801","Hawaii",394,{"$f":"IF(B283='Veg Guide Data Base'!$AD$1376,C283,FALSE)","v":false},"2371741","Hokukano-Lava flows complex, 2 to 10 percent slopes","Hokukano",null,60,"bedrock, lithic",20,9,6,2.6,"occasional","extremely brief","January, February, March, April, May, June, July, August, September, October, November, December","none"]
["HI801","Hawaii",394,{"$f":"IF(B284='Veg Guide Data Base'!$AD$1376,C284,FALSE)","v":false},"2371741","Hokukano-Lava flows complex, 2 to 10 percent slopes","Lava flows","pahoehoe",35,"bedrock, lithic",0,0,6,0,"none",null,null,"none"]
["HI801","Hawaii",395,{"$f":"IF(B285='Veg Guide Data Base'!$AD$1376,C285,FALSE)","v":false},"2371742","Hokukano-Lava flows complex, 10 to 20 percent slopes","Hokukano",null,60,"bedrock, lithic",20,9,15,2.6,"occasional","extremely brief","January, February, March, April, May, June, July, August, September, October, November, December","none"]
["HI801","Hawaii",395,{"$f":"IF(B286='Veg Guide Data Base'!$AD$1376,C286,FALSE)","v":false},"2371742","Hokukano-Lava flows complex, 10 to 20 percent slopes","Lava flows","pahoehoe",35,"bedrock, lithic",0,0,15,0,"none",null,null,"none"]
["HI801","Hawaii",396,{"$f":"IF(B287='Veg Guide Data Base'!$AD$1376,C287,FALSE)","v":false},"2371743","Hokukano medial silt loam, 2 to 10 percent slopes","Hokukano",null,90,"bedrock, lithic",20,9,6,2.6,"occasional","extremely brief","January, February, March, April, May, June, July, August, September, October, November, December","none"]
["HI801","Hawaii",397,{"$f":"IF(B288='Veg Guide Data Base'!$AD$1376,C288,FALSE)","v":false},"2371744","Hokukano medial silt loam, 10 to 20 percent slopes","Hokukano",null,90,"bedrock, lithic",20,9,15,2.6,"occasional","extremely brief","January, February, March, April, May, June, July, August, September, October, November, December","none"]
["HI801","Hawaii",398,{"$f":"IF(B289='Veg Guide Data Base'!$AD$1376,C289,FALSE)","v":false},"2371745","Hokukano-Manahaa complex, 2 to 10 percent slopes","Hokukano",null,50,"bedrock, lithic",20,9,6,2.6,"occasional","extremely brief","January, February, March, April, May, June, July, August, September, October, November, December","none"]
["HI801","Hawaii",398,{"$f":"IF(B290='Veg Guide Data Base'!$AD$1376,C290,FALSE)","v":false},"2371745","Hokukano-Manahaa complex, 2 to 10 percent slopes","Manahaa",null,40,"bedrock, lithic",25,0,6,3,"occasional","extremely brief","January, February, March, April, May, June, July, August, September, October, November, December","none"]
["HI801","Hawaii",399,{"$f":"IF(B291='Veg Guide Data Base'!$AD$1376,C291,FALSE)","v":false},"2371746","Hokukano-Manahaa complex, 10 to 20 percent slopes","Hokukano",null,50,"bedrock, lithic",20,9,15,2.6,"occasional","extremely brief","January, February, March, April, May, June, July, August, September, October, November, December","none"]
["HI801","Hawaii",399,{"$f":"IF(B292='Veg Guide Data Base'!$AD$1376,C292,FALSE)","v":false},"2371746","Hokukano-Manahaa complex, 10 to 20 percent slopes","Manahaa",null,40,"bedrock, lithic",25,0,15,3,"occasional","extremely brief","January, February, March, April, May, June, July, August, September, October, November, December","none"]
["HI801","Hawaii",400,{"$f":"IF(B293='Veg Guide Data Base'!$AD$1376,C293,FALSE)","v":false},"2371747","Manahaa hydrous silt loam, 20 to 50 percent slopes","Manahaa",null,90,"bedrock, lithic",25,0,35,3,"occasional","extremely brief","January, February, March, April, May, June, July, August, September, October, November, December","none"]
["HI801","Hawaii",401,{"$f":"IF(B294='Veg Guide Data Base'!$AD$1376,C294,FALSE)","v":false},"2371748","Ihuanu-Lava flows, `a`a complex, 10 to 20 percent slopes","Ihuanu",null,60,"bedrock, lithic",22,60,15,1.2,"none",null,null,"none"]
["HI801","Hawaii",401,{"$f":"IF(B295='Veg Guide Data Base'!$AD$1376,C295,FALSE)","v":false},"2371748","Ihuanu-Lava flows, `a`a complex, 10 to 20 percent slopes","Lava flows","`a`a",40,"bedrock, lithic",39,95,15,0.2,"none",null,null,"none"]
["HI801","Hawaii",402,{"$f":"IF(B296='Veg Guide Data Base'!$AD$1376,C296,FALSE)","v":false},"2371242","Ihuanu very cobbly medial silt loam, 10 to 20 percent slopes","Ihuanu",null,95,"bedrock, lithic",22,60,15,1.2,"none",null,null,"none"]
["HI801","Hawaii",403,{"$f":"IF(B297='Veg Guide Data Base'!$AD$1376,C297,FALSE)","v":false},"2371243","Ihuanu very cobbly medial silt loam, 2 to 10 percent slopes","Ihuanu",null,95,"bedrock, lithic",22,60,6,1.2,"none",null,null,"none"]
["HI801","Hawaii",405,{"$f":"IF(B298='Veg Guide Data Base'!$AD$1376,C298,FALSE)","v":false},"2371244","Iwalani medial loam, 10 to 20 percent slopes","Iwalani",null,90,"bedrock, lithic",10,5,15,1.5,"none",null,null,"none"]
["HI801","Hawaii",406,{"$f":"IF(B299='Veg Guide Data Base'!$AD$1376,C299,FALSE)","v":false},"2371245","Lava flows-Iwalani complex, 10 to 20 percent slopes","Lava flows","pahoehoe",70,"bedrock, lithic",0,0,15,0,"none",null,null,"none"]
["HI801","Hawaii",406,{"$f":"IF(B300='Veg Guide Data Base'!$AD$1376,C300,FALSE)","v":false},"2371245","Lava flows-Iwalani complex, 10 to 20 percent slopes","Iwalani",null,30,"bedrock, lithic",10,5,15,1.5,"none",null,null,"none"]
["HI801","Hawaii",407,{"$f":"IF(B301='Veg Guide Data Base'!$AD$1376,C301,FALSE)","v":false},"2371246","Iwalani-Lava flows complex, 2 to 10 percent slopes","Iwalani",null,60,"bedrock, lithic",10,5,6,1.5,"none",null,null,"none"]
["HI801","Hawaii",407,{"$f":"IF(B302='Veg Guide Data Base'!$AD$1376,C302,FALSE)","v":false},"2371246","Iwalani-Lava flows complex, 2 to 10 percent slopes","Lava flows","pahoehoe",40,"bedrock, lithic",0,0,6,0,"none",null,null,"none"]
["HI801","Hawaii",408,{"$f":"IF(B303='Veg Guide Data Base'!$AD$1376,C303,FALSE)","v":false},"2371247","Iwalani-Lava flows complex, 10 to 20 percent slopes","Iwalani",null,70,"bedrock, lithic",10,5,15,1.5,"none",null,null,"none"]
["HI801","Hawaii",408,{"$f":"IF(B304='Veg Guide Data Base'!$AD$1376,C304,FALSE)","v":false},"2371247","Iwalani-Lava flows complex, 10 to 20 percent slopes","Lava flows","pahoehoe",30,"bedrock, lithic",0,0,15,0,"none",null,null,"none"]
["HI801","Hawaii",409,{"$f":"IF(B305='Veg Guide Data Base'!$AD$1376,C305,FALSE)","v":false},"2371248","Iwalani medial loam, 3 to 10 percent slopes","Iwalani",null,95,"bedrock, lithic",10,5,6,1.5,"none",null,null,"none"]
["HI801","Hawaii",410,{"$f":"IF(B306='Veg Guide Data Base'!$AD$1376,C306,FALSE)","v":false},"2371750","Nawahine gravelly medial silt loam, 20 to 50 percent slopes","Nawahine",null,100,"abrupt textural change",20,48,35,1.1000000000000001,"none",null,null,"none"]
["HI801","Hawaii",411,{"$f":"IF(B307='Veg Guide Data Base'!$AD$1376,C307,FALSE)","v":false},"2371821","Mahukona silty clay loam, 3 to 12 percent slopes","Mahukona",null,85,"bedrock, paralithic",36,2,8,2.8,"none",null,null,"none"]
["HI801","Hawaii",412,{"$f":"IF(B308='Veg Guide Data Base'!$AD$1376,C308,FALSE)","v":false},"2371822","Mahukona very stony silty clay loam, 6 to 12 percent slopes","Mahukona","very stony",85,"bedrock, paralithic",36,27,9,2.8,"none",null,null,"none"]
["HI801","Hawaii",413,{"$f":"IF(B309='Veg Guide Data Base'!$AD$1376,C309,FALSE)","v":false},"2371823","Hawi very stony silty clay, 6 to 12 percent slopes","Hawi","very stony",95,null,80,38,9,2.6,"none",null,null,"none"]
["HI801","Hawaii",414,{"$f":"IF(B310='Veg Guide Data Base'!$AD$1376,C310,FALSE)","v":false},"2371824","Hawi silty clay, 0 to 3 percent slopes","Hawi",null,95,null,80,0,2,2.6,"none",null,null,"none"]
["HI801","Hawaii",415,{"$f":"IF(B311='Veg Guide Data Base'!$AD$1376,C311,FALSE)","v":false},"2371825","Hawi silty clay, 3 to 12 percent slopes","Hawi",null,95,null,80,0,8,2.6,"none",null,null,"none"]
["HI801","Hawaii",416,{"$f":"IF(B312='Veg Guide Data Base'!$AD$1376,C312,FALSE)","v":false},"2371826","Kohala silty clay, 3 to 12 percent slopes","Kohala",null,100,"bedrock, paralithic",39,4,8,2.8,"none",null,null,"none"]
["HI801","Hawaii",417,{"$f":"IF(B313='Veg Guide Data Base'!$AD$1376,C313,FALSE)","v":false},"2371827","Waimea medial silt loam, 6 to 12 percent slopes","Waimea",null,85,"bedrock, lithic",42,4,9,5,"none",null,null,"none"]
["HI801","Hawaii",418,{"$f":"IF(B314='Veg Guide Data Base'!$AD$1376,C314,FALSE)","v":false},"2371828","Waimea medial silt loam, 12 to 20 percent slopes","Waimea",null,85,"bedrock, lithic",42,4,16,5,"none",null,null,"none"]
["HI801","Hawaii",419,{"$f":"IF(B315='Veg Guide Data Base'!$AD$1376,C315,FALSE)","v":false},"2371829","Waimea medial silt loam, 20 to 50 percent slopes","Waimea",null,85,"bedrock, lithic",42,4,35,5,"none",null,null,"none"]
["HI801","Hawaii",420,{"$f":"IF(B316='Veg Guide Data Base'!$AD$1376,C316,FALSE)","v":false},"2371830","Palapalai hydrous silt loam, 6 to 12 percent slopes","Palapalai",null,90,null,80,0,9,3,"none",null,null,"none"]
["HI801","Hawaii",421,{"$f":"IF(B317='Veg Guide Data Base'!$AD$1376,C317,FALSE)","v":false},"2371831","Palapalai hydrous silt loam, 12 to 20 percent slopes","Palapalai",null,90,null,80,0,16,3,"none",null,null,"none"]
["HI801","Hawaii",422,{"$f":"IF(B318='Veg Guide Data Base'!$AD$1376,C318,FALSE)","v":false},"2371832","Palapalai hydrous silt loam, 20 to 50 percent slopes","Palapalai",null,100,null,80,0,35,3,"none",null,null,"none"]
["HI801","Hawaii",423,{"$f":"IF(B319='Veg Guide Data Base'!$AD$1376,C319,FALSE)","v":false},"2371833","Palapalai hydrous silty clay loam, 6 to 12 percent slopes","Palapalai","hydrous silty clay loam",100,null,80,0,9,3.2,"none",null,null,"none"]
["HI801","Hawaii",424,{"$f":"IF(B320='Veg Guide Data Base'!$AD$1376,C320,FALSE)","v":false},"2371834","Kahua-Kehena complex, 6 to 20 percent slopes","Kahua",null,60,"placic",8,0,13,2.5,"none",null,null,"occasional","very brief,","January, February, March, October, November, December"]
["HI801","Hawaii",424,{"$f":"IF(B321='Veg Guide Data Base'!$AD$1376,C321,FALSE)","v":false},"2371834","Kahua-Kehena complex, 6 to 20 percent slopes","Kehena",null,30,"bedrock, lithic",37,0,13,5.9,"none",null,null,"none"]
["HI801","Hawaii",425,{"$f":"IF(B322='Veg Guide Data Base'!$AD$1376,C322,FALSE)","v":false},"2371835","Kahua mucky medial silt loam, 20 to 50 percent slopes","Kahua",null,90,"placic",8,0,35,2.5,"none",null,null,"occasional","very brief,","January, February, March, October, November, December"]
["HI801","Hawaii",426,{"$f":"IF(B323='Veg Guide Data Base'!$AD$1376,C323,FALSE)","v":false},"2401298","Amalu-Kahua-Kehena complex, 3 to 20 percent slopes","Amalu",null,50,"placic",16,2,12,4.3,"none",null,null,"occasional","very brief,","January, February, March, October, November, December"]
["HI801","Hawaii",426,{"$f":"IF(B324='Veg Guide Data Base'!$AD$1376,C324,FALSE)","v":false},"2401298","Amalu-Kahua-Kehena complex, 3 to 20 percent slopes","Kahua",null,25,"placic",8,0,12,3.4,"none",null,null,"occasional","very brief,","January, February, March, October, November, December"]
["HI801","Hawaii",426,{"$f":"IF(B325='Veg Guide Data Base'!$AD$1376,C325,FALSE)","v":false},"2401298","Amalu-Kahua-Kehena complex, 3 to 20 percent slopes","Kehena",null,25,"bedrock, lithic",26,5,12,4.9000000000000004,"none",null,null,"none"]
["HI801","Hawaii",427,{"$f":"IF(B326='Veg Guide Data Base'!$AD$1376,C326,FALSE)","v":false},"2401398","Amalu-Kehena complex, 20 to 50 percent slopes","Amalu",null,60,"placic",16,2,35,4.3,"none",null,null,"occasional","very brief,","January, February, March, October, November, December"]
["HI801","Hawaii",427,{"$f":"IF(B327='Veg Guide Data Base'!$AD$1376,C327,FALSE)","v":false},"2401398","Amalu-Kehena complex, 20 to 50 percent slopes","Kehena",null,30,"bedrock, lithic",26,5,35,4.9000000000000004,"none",null,null,"none"]
["HI801","Hawaii",428,{"$f":"IF(B328='Veg Guide Data Base'!$AD$1376,C328,FALSE)","v":false},"2401400","Kehena-Kahua complex, 3 to 20 percent slopes","Kehena",null,55,"bedrock, lithic",37,0,12,5.9,"none",null,null,"none"]
["HI801","Hawaii",428,{"$f":"IF(B329='Veg Guide Data Base'!$AD$1376,C329,FALSE)","v":false},"2401400","Kehena-Kahua complex, 3 to 20 percent slopes","Kahua",null,30,"placic",8,0,12,2.5,"none",null,null,"occasional","very brief,","January, February, March, October, November, December"]
["HI801","Hawaii",429,{"$f":"IF(B330='Veg Guide Data Base'!$AD$1376,C330,FALSE)","v":false},"2401401","Kehena-Niulii-Rock outcrop complex, 70 to 100 percent slopes","Kehena",null,40,"bedrock, lithic",37,0,85,5.9,"none",null,null,"none"]
["HI801","Hawaii",429,{"$f":"IF(B331='Veg Guide Data Base'!$AD$1376,C331,FALSE)","v":false},"2401401","Kehena-Niulii-Rock outcrop complex, 70 to 100 percent slopes","Rock outcrop","basalt",30,null,80,0,85,null,"none",null,null,"none"]
["HI801","Hawaii",429,{"$f":"IF(B332='Veg Guide Data Base'!$AD$1376,C332,FALSE)","v":false},"2401401","Kehena-Niulii-Rock outcrop complex, 70 to 100 percent slopes","Niulii",null,30,"bedrock, lithic",30,8,85,4.5,"none",null,null,"none"]
["HI801","Hawaii",430,{"$f":"IF(B333='Veg Guide Data Base'!$AD$1376,C333,FALSE)","v":false},"2401402","Typic Endoaquepts, 0 to 1 percent slopes","Typic Endoaquepts",null,100,null,80,0,1,2.2999999999999998,"frequent","long","January, February, March, April, May, June, July, August, September, October, November, December","frequent","long","January, February, March, April, May, June, July, August, September, October, November, December"]
["HI801","Hawaii",431,{"$f":"IF(B334='Veg Guide Data Base'!$AD$1376,C334,FALSE)","v":false},"2401403","Hanalei complex, 0 to 2 percent slopes","Hanalei",null,70,null,80,1,1,3.2,"frequent, occasional","very brief","January, February, March, April, May, June, July, August, September, October, November, December","occasional, rare","very brief","January, February, March, April, November, December"]
["HI801","Hawaii",431,{"$f":"IF(B335='Veg Guide Data Base'!$AD$1376,C335,FALSE)","v":false},"2401403","Hanalei complex, 0 to 2 percent slopes","Hanalei","ponded",30,null,80,2,1,3.7,"frequent","long","January, February, March, April, May, June, July, August, September, October, November, December","frequent","long","January, February, March, April, May, June, July, August, September, October, November, December"]
["HI801","Hawaii",432,{"$f":"IF(B336='Veg Guide Data Base'!$AD$1376,C336,FALSE)","v":false},"2401404","Niulii-Rock outcrop complex, 35 to 70 percent slopes","Niulii",null,70,"bedrock, lithic",30,8,50,4.5,"none",null,null,"none"]
["HI801","Hawaii",432,{"$f":"IF(B337='Veg Guide Data Base'!$AD$1376,C337,FALSE)","v":false},"2401404","Niulii-Rock outcrop complex, 35 to 70 percent slopes","Rock outcrop","basalt",30,null,80,0,50,null,"none",null,null,"none"]
["HI801","Hawaii",433,{"$f":"IF(B338='Veg Guide Data Base'!$AD$1376,C338,FALSE)","v":false},"2401407","Ainakea-Rock outcrop complex, 35 to 70 percent slopes","Ainakea",null,70,"bedrock, paralithic",30,7,55,5.5,"none",null,null,"none"]
["HI801","Hawaii",433,{"$f":"IF(B339='Veg Guide Data Base'!$AD$1376,C339,FALSE)","v":false},"2401407","Ainakea-Rock outcrop complex, 35 to 70 percent slopes","Rock outcrop","basalt",30,null,80,0,55,null,"none",null,null,"none"]
["HI801","Hawaii",434,{"$f":"IF(B340='Veg Guide Data Base'!$AD$1376,C340,FALSE)","v":false},"2401410","Kehena medial silty clay loam, 6 to 12 percent slopes","Kehena",null,100,"bedrock, lithic",37,0,9,5.9,"none",null,null,"none"]
["HI801","Hawaii",435,{"$f":"IF(B341='Veg Guide Data Base'!$AD$1376,C341,FALSE)","v":false},"2401411","Kohala silty clay, 0 to 3 percent slopes","Kohala",null,100,"bedrock, paralithic",39,4,2,2.8,"none",null,null,"none"]
["HI801","Hawaii",436,{"$f":"IF(B342='Veg Guide Data Base'!$AD$1376,C342,FALSE)","v":false},"2401412","Kohala silty clay, 12 to 20 percent slopes","Kohala",null,100,"bedrock, paralithic",39,4,16,2.8,"none",null,null,"none"]
["HI801","Hawaii",437,{"$f":"IF(B343='Veg Guide Data Base'!$AD$1376,C343,FALSE)","v":false},"2401413","Kohala silty clay, 20 to 35 percent slopes","Kohala",null,100,"bedrock, paralithic",39,4,25,2.8,"none",null,null,"none"]
["HI801","Hawaii",438,{"$f":"IF(B344='Veg Guide Data Base'!$AD$1376,C344,FALSE)","v":false},"2401414","Kohala silty clay, 35 to 70 percent slopes","Kohala",null,100,"bedrock, paralithic",39,4,50,2.8,"none",null,null,"none"]
["HI801","Hawaii",439,{"$f":"IF(B345='Veg Guide Data Base'!$AD$1376,C345,FALSE)","v":false},"2401415","Ainakea medial silty clay loam, 3 to 12 percent slopes","Ainakea",null,100,"bedrock, paralithic",30,7,8,5.5,"none",null,null,"none"]
["HI801","Hawaii",440,{"$f":"IF(B346='Veg Guide Data Base'!$AD$1376,C346,FALSE)","v":false},"2401416","Ainakea medial silty clay loam, 12 to 20 percent slopes","Ainakea",null,100,"bedrock, paralithic",30,7,15,5.5,"none",null,null,"none"]
["HI801","Hawaii",441,{"$f":"IF(B347='Veg Guide Data Base'!$AD$1376,C347,FALSE)","v":false},"2401417","Ainakea medial silty clay loam, 20 to 35 percent slopes","Ainakea",null,100,"bedrock, paralithic",30,7,28,5.5,"none",null,null,"none"]
["HI801","Hawaii",442,{"$f":"IF(B348='Veg Guide Data Base'!$AD$1376,C348,FALSE)","v":false},"2401418","Niulii medial silty clay loam, 6 to 12 percent slopes","Niulii",null,100,"bedrock, lithic",30,8,9,4.5,"none",null,null,"none"]
["HI801","Hawaii",443,{"$f":"IF(B349='Veg Guide Data Base'!$AD$1376,C349,FALSE)","v":false},"2401419","Niulii medial silty clay loam, 12 to 20 percent slopes","Niulii",null,100,"bedrock, lithic",30,8,16,4.5,"none",null,null,"none"]
["HI801","Hawaii",444,{"$f":"IF(B350='Veg Guide Data Base'!$AD$1376,C350,FALSE)","v":false},"2401420","Niulii medial silty clay loam, 20 to 35 percent slopes","Niulii",null,100,"bedrock, lithic",30,8,28,4.5,"none",null,null,"none"]
["HI801","Hawaii",445,{"$f":"IF(B351='Veg Guide Data Base'!$AD$1376,C351,FALSE)","v":false},"2401421","Ainakea-Rock outcrop complex, 70 to 100 percent slopes","Ainakea",null,70,"bedrock, paralithic",30,7,85,5.5,"none",null,null,"none"]
["HI801","Hawaii",445,{"$f":"IF(B352='Veg Guide Data Base'!$AD$1376,C352,FALSE)","v":false},"2401421","Ainakea-Rock outcrop complex, 70 to 100 percent slopes","Rock outcrop","basalt",20,null,80,0,85,null,"none",null,null,"none"]
["HI801","Hawaii",446,{"$f":"IF(B353='Veg Guide Data Base'!$AD$1376,C353,FALSE)","v":false},"2401422","Pololu extremely stony very fine sandy loam, 3 to 12 percent slopes","Pololu",null,100,null,80,75,6,2.5,"occasional, none","very brief,","January, February, March, April, October, November, December","none"]
["HI801","Hawaii",447,{"$f":"IF(B354='Veg Guide Data Base'!$AD$1376,C354,FALSE)","v":false},"2401423","Niulii-Rock outcrop complex, 70 to 100 percent slopes","Niulii",null,70,"bedrock, lithic",30,8,85,4.5,"none",null,null,"none"]
["HI801","Hawaii",447,{"$f":"IF(B355='Veg Guide Data Base'!$AD$1376,C355,FALSE)","v":false},"2401423","Niulii-Rock outcrop complex, 70 to 100 percent slopes","Rock outcrop","basalt",20,null,80,0,85,null,"none",null,null,"none"]
["HI801","Hawaii",448,{"$f":"IF(B356='Veg Guide Data Base'!$AD$1376,C356,FALSE)","v":false},"2371751","Puukala-Kekake-Lava flows complex, 2 to 10 percent slopes","Puukala","cobbly medial silt loam",40,"bedrock, lithic",18,29,6,2.4,"very rare","extremely brief","January, February, March, April, May, June, July, August, September, October, November, December","none"]
["HI801","Hawaii",448,{"$f":"IF(B357='Veg Guide Data Base'!$AD$1376,C357,FALSE)","v":false},"2371751","Puukala-Kekake-Lava flows complex, 2 to 10 percent slopes","Kekake",null,30,"bedrock, lithic",5,22,6,1.2,"none",null,null,"none"]
["HI801","Hawaii",448,{"$f":"IF(B358='Veg Guide Data Base'!$AD$1376,C358,FALSE)","v":false},"2371751","Puukala-Kekake-Lava flows complex, 2 to 10 percent slopes","Lava flows","pahoehoe",30,"bedrock, lithic",0,0,6,0,"none",null,null,"none"]
["HI801","Hawaii",449,{"$f":"IF(B359='Veg Guide Data Base'!$AD$1376,C359,FALSE)","v":false},"2371752","Puukala-Kekake-Lava flows complex, 10 to 20 percent slopes","Puukala","cobbly medial silt loam",40,"bedrock, lithic",18,29,15,2.4,"very rare","extremely brief","January, February, March, April, May, June, July, August, September, October, November, December","none"]
["HI801","Hawaii",449,{"$f":"IF(B360='Veg Guide Data Base'!$AD$1376,C360,FALSE)","v":false},"2371752","Puukala-Kekake-Lava flows complex, 10 to 20 percent slopes","Lava flows","pahoehoe",30,"bedrock, lithic",0,0,15,0,"none",null,null,"none"]
["HI801","Hawaii",449,{"$f":"IF(B361='Veg Guide Data Base'!$AD$1376,C361,FALSE)","v":false},"2371752","Puukala-Kekake-Lava flows complex, 10 to 20 percent slopes","Kekake",null,30,"bedrock, lithic",5,22,6,1.2,"none",null,null,"none"]
["HI801","Hawaii",450,{"$f":"IF(B362='Veg Guide Data Base'!$AD$1376,C362,FALSE)","v":false},"2371753","Puukala medial silt loam, 2 to 10 percent slopes","Puukala",null,90,"bedrock, lithic",18,23,6,2.4,"very rare","extremely brief","January, February, March, April, May, June, July, August, September, October, November, December","none"]
["HI801","Hawaii",451,{"$f":"IF(B363='Veg Guide Data Base'!$AD$1376,C363,FALSE)","v":false},"2371754","Puukala medial silt loam, 10 to 20 percent slopes","Puukala",null,90,"bedrock, lithic",18,23,15,2.4,"very rare","extremely brief","January, February, March, April, May, June, July, August, September, October, November, December","none"]
["HI801","Hawaii",452,{"$f":"IF(B364='Veg Guide Data Base'!$AD$1376,C364,FALSE)","v":false},"2371755","Puukala-Kealoha complex, 2 to 10 percent slopes","Puukala","cobbly medial silt loam",50,"bedrock, lithic",18,29,6,2.4,"very rare","extremely brief","January, February, March, April, May, June, July, August, September, October, November, December","none"]
["HI801","Hawaii",452,{"$f":"IF(B365='Veg Guide Data Base'!$AD$1376,C365,FALSE)","v":false},"2371755","Puukala-Kealoha complex, 2 to 10 percent slopes","Kealoha",null,40,"bedrock, lithic",50,45,6,1.7,"none",null,null,"none"]
["HI801","Hawaii",453,{"$f":"IF(B366='Veg Guide Data Base'!$AD$1376,C366,FALSE)","v":false},"2371756","Puukala-Kealoha complex, 10 to 20 percent slopes","Puukala","cobbly medial silt loam",50,"bedrock, lithic",18,29,15,2.4,"very rare","extremely brief","January, February, March, April, May, June, July, August, September, October, November, December","none"]
["HI801","Hawaii",453,{"$f":"IF(B367='Veg Guide Data Base'!$AD$1376,C367,FALSE)","v":false},"2371756","Puukala-Kealoha complex, 10 to 20 percent slopes","Kealoha",null,40,"bedrock, lithic",50,45,15,1.7,"none",null,null,"none"]
["HI801","Hawaii",454,{"$f":"IF(B368='Veg Guide Data Base'!$AD$1376,C368,FALSE)","v":false},"2371757","Kealoha very gravelly medial silt loam, 2 to 10 percent slopes","Kealoha",null,90,"bedrock, lithic",50,45,6,1.7,"none",null,null,"none"]
["HI801","Hawaii",455,{"$f":"IF(B369='Veg Guide Data Base'!$AD$1376,C369,FALSE)","v":false},"2371758","Kealoha very gravelly medial silt loam, 10 to 20 percent slopes","Kealoha",null,90,"bedrock, lithic",50,45,15,1.7,"none",null,null,"none"]
["HI801","Hawaii",456,{"$f":"IF(B370='Veg Guide Data Base'!$AD$1376,C370,FALSE)","v":false},"2452571","Typic Ustipsamments, 0 to 15 percent slopes","Typic Ustipsamments",null,100,null,80,4,8,1.2,"rare","very brief",null,"none"]
["HI801","Hawaii",457,{"$f":"IF(B371='Veg Guide Data Base'!$AD$1376,C371,FALSE)","v":false},"2371759","Hookena very cobbly medial silt loam, 10 to 20 percent slopes","Hookena",null,90,null,80,35,15,1.6,"rare","extremely brief",null,"none"]
["HI801","Hawaii",458,{"$f":"IF(B372='Veg Guide Data Base'!$AD$1376,C372,FALSE)","v":false},"2371760","Kealoha very gravelly medial silt loam, 20 to 50 percent slopes","Kealoha",null,90,"bedrock, lithic",50,45,35,1.7,"none",null,null,"none"]
["HI801","Hawaii",459,{"$f":"IF(B373='Veg Guide Data Base'!$AD$1376,C373,FALSE)","v":false},"2452572","Kemole stony medial silt loam, 12 to 20 percent slopes","Kemole","stony medial silt loam",95,null,80,41,16,2.2000000000000002,"none",null,null,"none"]
["HI801","Hawaii",460,{"$f":"IF(B374='Veg Guide Data Base'!$AD$1376,C374,FALSE)","v":false},"2371761","Hapuu very gravelly medial silt loam, 2 to 10 percent slopes","Hapuu","very gravelly",90,"bedrock, lithic",43,63,6,0.9,"none",null,null,"none"]
["HI801","Hawaii",461,{"$f":"IF(B375='Veg Guide Data Base'!$AD$1376,C375,FALSE)","v":false},"2371762","Hapuu very gravelly medial silt loam, 10 to 20 percent slopes","Hapuu","very gravelly",90,"bedrock, lithic",43,63,15,0.9,"none",null,null,"none"]
["HI801","Hawaii",462,{"$f":"IF(B376='Veg Guide Data Base'!$AD$1376,C376,FALSE)","v":false},"2371763","Hapuu extremely gravelly medial silt loam, 2 to 10 percent slopes","Hapuu",null,90,"bedrock, lithic",43,73,6,0.7,"none",null,null,"none"]
["HI801","Hawaii",463,{"$f":"IF(B377='Veg Guide Data Base'!$AD$1376,C377,FALSE)","v":false},"2371764","Hapuu extremely gravelly medial silt loam, 10 to 20 percent slopes","Hapuu",null,90,"bedrock, lithic",43,73,15,0.7,"none",null,null,"none",null,null,null,null,null,null,null,null,null,null,null,"Guam"]
["HI801","Hawaii",464,{"$f":"IF(B378='Veg Guide Data Base'!$AD$1376,C378,FALSE)","v":false},"2452573","Kemole stony medial silt loam, 6 to 12 percent slopes","Kemole","stony medial silt loam",95,null,80,41,9,2.2000000000000002,"none",null,null,"none",null,null,null,null,null,null,null,null,null,null,null,true]
["HI801","Hawaii",465,{"$f":"IF(B379='Veg Guide Data Base'!$AD$1376,C379,FALSE)","v":false},"2452574","Paauhau medial silty clay loam, 0 to 10 percent slopes","Paauhau",null,100,"bedrock, paralithic",41,5,6,4.9000000000000004,"none",null,null,"none",null,null,null,null,null,null,null,null,null,null,null,false]
["HI801","Hawaii",466,{"$f":"IF(B380='Veg Guide Data Base'!$AD$1376,C380,FALSE)","v":false},"2371765","Nenenui-Lava flows complex, 2 to 10 percent slopes","Nenenui",null,60,"bedrock, lithic",6,95,6,0.1,"none",null,null,"none"]
["HI801","Hawaii",466,{"$f":"IF(B381='Veg Guide Data Base'!$AD$1376,C381,FALSE)","v":false},"2371765","Nenenui-Lava flows complex, 2 to 10 percent slopes","Lava flows","pahoehoe",40,"bedrock, lithic",0,0,6,0,"none",null,null,"none"]
["HI801","Hawaii",467,{"$f":"IF(B382='Veg Guide Data Base'!$AD$1376,C382,FALSE)","v":false},"2371766","Nenenui-Lava flows complex, 10 to 20 percent slopes","Nenenui",null,60,"bedrock, lithic",6,95,15,0.1,"none",null,null,"none"]
["HI801","Hawaii",467,{"$f":"IF(B383='Veg Guide Data Base'!$AD$1376,C383,FALSE)","v":false},"2371766","Nenenui-Lava flows complex, 10 to 20 percent slopes","Lava flows","pahoehoe",40,"bedrock, lithic",0,0,15,0,"none",null,null,"none"]
["HI801","Hawaii",468,{"$f":"IF(B384='Veg Guide Data Base'!$AD$1376,C384,FALSE)","v":false},"2452575","Maile hydrous silt loam, 0 to 6 percent slopes","Maile",null,90,null,80,6,2,3,"none",null,null,"none"]
["HI801","Hawaii",469,{"$f":"IF(B385='Veg Guide Data Base'!$AD$1376,C385,FALSE)","v":false},"2452576","Paauhau medial silty clay loam, 20 to 35 percent slopes","Paauhau",null,100,"bedrock, paralithic",41,5,28,4.9000000000000004,"none",null,null,"none"]
["HI801","Hawaii",470,{"$f":"IF(B386='Veg Guide Data Base'!$AD$1376,C386,FALSE)","v":false},"2371767","Ohianui extremely gravelly ashy loamy sand, 2 to 10 percent slopes","Ohianui",null,90,"bedrock, lithic",24,70,6,0.5,"none",null,null,"none"]
["HI801","Hawaii",471,{"$f":"IF(B387='Veg Guide Data Base'!$AD$1376,C387,FALSE)","v":false},"2371768","Ohianui extremely gravelly ashy loamy sand, 10 to 20 percent slopes","Ohianui",null,90,"bedrock, lithic",24,70,15,0.5,"none",null,null,"none"]
["HI801","Hawaii",472,{"$f":"IF(B388='Veg Guide Data Base'!$AD$1376,C388,FALSE)","v":false},"2452577","Paauhau- Rock outcrop complex, 35 to 70 percent slopes","Paauhau",null,70,"bedrock, paralithic",41,5,55,4.9000000000000004,"none",null,null,"none"]
["HI801","Hawaii",472,{"$f":"IF(B389='Veg Guide Data Base'!$AD$1376,C389,FALSE)","v":false},"2452577","Paauhau- Rock outcrop complex, 35 to 70 percent slopes","Rock outcrop","basalt",30,null,80,0,55,null,"none",null,null,"none"]
["HI801","Hawaii",473,{"$f":"IF(B390='Veg Guide Data Base'!$AD$1376,C390,FALSE)","v":false},"2452578","Kukaiau medial silty clay loam, 0 to 10 percent slopes","Kukaiau",null,100,"bedrock, lithic",50,2,6,4.5,"none",null,null,"none"]
["HI801","Hawaii",474,{"$f":"IF(B391='Veg Guide Data Base'!$AD$1376,C391,FALSE)","v":false},"2452579","Kukaiau medial silty clay loam, 10 to 20 percent slopes","Kukaiau",null,100,"bedrock, lithic",50,2,16,4.5,"none",null,null,"none"]
["HI801","Hawaii",475,{"$f":"IF(B392='Veg Guide Data Base'!$AD$1376,C392,FALSE)","v":false},"2452580","Kukaiau medial silty clay loam, 20 to 35 percent slopes","Kukaiau",null,100,"bedrock, lithic",50,2,28,4.5,"none",null,null,"none"]
["HI801","Hawaii",476,{"$f":"IF(B393='Veg Guide Data Base'!$AD$1376,C393,FALSE)","v":false},"2371769","Huikau ashy loamy sand, 2 to 10 percent slopes","Huikau","ashy loamy sand",90,"abrupt textural change",45,7,6,1.4,"none",null,null,"none"]
["HI801","Hawaii",477,{"$f":"IF(B394='Veg Guide Data Base'!$AD$1376,C394,FALSE)","v":false},"2371770","Huikau ashy loamy sand, 10 to 20 percent slopes","Huikau","ashy loamy sand",90,"abrupt textural change",45,7,15,1.4,"none",null,null,"none"]
["HI801","Hawaii",478,{"$f":"IF(B395='Veg Guide Data Base'!$AD$1376,C395,FALSE)","v":false},"2452581","Kukaiau-Rock outcrop complex, 35 to 70 percent slopes","Kukaiau",null,70,"bedrock, lithic",50,2,55,4.5,"none",null,null,"none"]
["HI801","Hawaii",478,{"$f":"IF(B396='Veg Guide Data Base'!$AD$1376,C396,FALSE)","v":false},"2452581","Kukaiau-Rock outcrop complex, 35 to 70 percent slopes","Rock outcrop","basalt",30,null,80,0,55,null,"none",null,null,"none"]
["HI801","Hawaii",481,{"$f":"IF(B397='Veg Guide Data Base'!$AD$1376,C397,FALSE)","v":false},"2371772","Halekula very cobbly medial silt loam, 10 to 20 percent slopes","Halekula",null,90,"bedrock, lithic",27,53,15,1.4,"none",null,null,"none"]
["HI801","Hawaii",483,{"$f":"IF(B398='Veg Guide Data Base'!$AD$1376,C398,FALSE)","v":false},"2371773","Halekula very cobbly medial silt loam, 20 to 50 percent slopes","Halekula",null,90,"bedrock, lithic",27,53,35,1.4,"none",null,null,"none"]
["HI801","Hawaii",485,{"$f":"IF(B399='Veg Guide Data Base'!$AD$1376,C399,FALSE)","v":false},"2371836","Kemole extremely stony medial very fine sandy loam, 12 to 20 percent slopes","Kemole",null,90,null,80,67,16,2.2000000000000002,"none",null,null,"none"]
["HI801","Hawaii",486,{"$f":"IF(B400='Veg Guide Data Base'!$AD$1376,C400,FALSE)","v":false},"2371837","Kemole extremely stony medial very fine sandy loam, 6 to 12 percent slopes","Kemole",null,90,null,80,67,9,2.2000000000000002,"none",null,null,"none"]
["HI801","Hawaii",487,{"$f":"IF(B401='Veg Guide Data Base'!$AD$1376,C401,FALSE)","v":false},"2401424","Kikoni medial very fine sandy loam, 0 to 6 percent slopes","Kikoni",null,100,null,80,0,3,4.3,"none",null,null,"none"]
["HI801","Hawaii",488,{"$f":"IF(B402='Veg Guide Data Base'!$AD$1376,C402,FALSE)","v":false},"2401425","Kikoni medial very fine sandy loam, 6 to 12 percent slopes","Kikoni",null,100,null,80,0,9,4.3,"none",null,null,"none"]
["HI801","Hawaii",489,{"$f":"IF(B403='Veg Guide Data Base'!$AD$1376,C403,FALSE)","v":false},"2401426","Maile hydrous silt loam, 6 to 20 percent slopes","Maile",null,90,null,80,6,13,3,"none",null,null,"none"]
["HI801","Hawaii",490,{"$f":"IF(B404='Veg Guide Data Base'!$AD$1376,C404,FALSE)","v":false},"2371774","Okoe extremely cobbly medial silt loam, 2 to 10 percent slopes","Okoe",null,90,"bedrock, lithic",36,72,6,0.9,"none",null,null,"none"]
["HI801","Hawaii",491,{"$f":"IF(B405='Veg Guide Data Base'!$AD$1376,C405,FALSE)","v":false},"2371775","Okoe extremely cobbly medial silt loam, 10 to 20 percent slopes","Okoe",null,90,"bedrock, lithic",36,72,15,0.9,"none",null,null,"none"]
["HI801","Hawaii",493,{"$f":"IF(B406='Veg Guide Data Base'!$AD$1376,C406,FALSE)","v":false},"2401428","Kikoni medial silt loam,  0 to 3 percent slopes","Kikoni","medial silt loam",100,null,80,0,2,4.8,"none",null,null,"none"]
["HI801","Hawaii",502,{"$f":"IF(B407='Veg Guide Data Base'!$AD$1376,C407,FALSE)","v":false},"2371249","Kaalualu cobbly medial loamy sand, 2 to 10 percent slopes","Kaalualu",null,95,"abrupt textural change",24,39,6,2,"none",null,null,"none"]
["HI801","Hawaii",503,{"$f":"IF(B408='Veg Guide Data Base'!$AD$1376,C408,FALSE)","v":false},"2371250","Kaalualu cobbly medial loamy sand, 10 to 20 percent slopes","Kaalualu",null,95,"abrupt textural change",24,39,15,2,"none",null,null,"none"]
["HI801","Hawaii",504,{"$f":"IF(B409='Veg Guide Data Base'!$AD$1376,C409,FALSE)","v":false},"2371251","Kaalualu extremely cobbly medial loamy sand, 2 to 10 percent slopes","Kaalualu","extremely cobbly",95,"abrupt textural change",24,65,6,1.3,"none",null,null,"none"]
["HI801","Hawaii",505,{"$f":"IF(B410='Veg Guide Data Base'!$AD$1376,C410,FALSE)","v":false},"2371252","Kaalualu-Pakini complex, 2 to 10 percent slopes","Kaalualu",null,60,"abrupt textural change",24,39,6,2,"none",null,null,"none"]
["HI801","Hawaii",505,{"$f":"IF(B411='Veg Guide Data Base'!$AD$1376,C411,FALSE)","v":false},"2371252","Kaalualu-Pakini complex, 2 to 10 percent slopes","Pakini",null,40,null,80,5,4,2,"none",null,null,"none"]
["HI801","Hawaii",507,{"$f":"IF(B412='Veg Guide Data Base'!$AD$1376,C412,FALSE)","v":false},"2371254","Pakini medial very fine sandy loam, 10 to 20 percent slopes","Pakini",null,95,null,80,5,15,2,"none",null,null,"none"]
["HI801","Hawaii",510,{"$f":"IF(B413='Veg Guide Data Base'!$AD$1376,C413,FALSE)","v":false},"2371255","Pakini-Kaalualu complex, 50 to 70 percent slopes","Pakini",null,60,null,80,5,60,2,"none",null,null,"none"]
["HI801","Hawaii",510,{"$f":"IF(B414='Veg Guide Data Base'!$AD$1376,C414,FALSE)","v":false},"2371255","Pakini-Kaalualu complex, 50 to 70 percent slopes","Kaalualu",null,40,"abrupt textural change",24,39,60,2,"none",null,null,"none"]
["HI801","Hawaii",511,{"$f":"IF(B415='Veg Guide Data Base'!$AD$1376,C415,FALSE)","v":false},"2371256","Akihi very cobbly hydrous silt loam, 10 to 20 percent slopes","Akihi",null,100,"bedrock, lithic",35,35,15,2.2999999999999998,"none",null,null,"none"]
["HI801","Hawaii",512,{"$f":"IF(B416='Veg Guide Data Base'!$AD$1376,C416,FALSE)","v":false},"2371257","Akihi very cobbly hydrous silt loam, 2 to 10 percent slopes","Akihi",null,100,"bedrock, lithic",35,35,6,2.2999999999999998,"none",null,null,"none"]
["HI801","Hawaii",513,{"$f":"IF(B417='Veg Guide Data Base'!$AD$1376,C417,FALSE)","v":false},"2371258","Hilea hydrous silty clay loam, 10 to 20 percent slopes","Hilea",null,100,"bedrock, lithic",19,8,15,3.6,"none",null,null,"none"]
["HI801","Hawaii",514,{"$f":"IF(B418='Veg Guide Data Base'!$AD$1376,C418,FALSE)","v":false},"2371259","Hilea hydrous silty clay loam, 3 to 10 percent slopes","Hilea",null,100,"bedrock, lithic",19,8,6,3.6,"none",null,null,"none"]
["HI801","Hawaii",515,{"$f":"IF(B419='Veg Guide Data Base'!$AD$1376,C419,FALSE)","v":false},"2371260","Pahipa-Puali association, 2 to 20 percent slopes","Pahipa",null,45,"bedrock, lithic",39,10,12,2.9,"none",null,null,"none"]
["HI801","Hawaii",515,{"$f":"IF(B420='Veg Guide Data Base'!$AD$1376,C420,FALSE)","v":false},"2371260","Pahipa-Puali association, 2 to 20 percent slopes","Puali",null,45,"bedrock, lithic",18,0,12,2.7,"none",null,null,"none"]
["HI801","Hawaii",516,{"$f":"IF(B421='Veg Guide Data Base'!$AD$1376,C421,FALSE)","v":false},"2371261","Alapai hydrous silty clay loam, 3 to 10 percent slopes","Alapai",null,100,null,80,1,6,3.9,"none",null,null,"none"]
["HI801","Hawaii",517,{"$f":"IF(B422='Veg Guide Data Base'!$AD$1376,C422,FALSE)","v":false},"2371262","Alapai hydrous silty clay loam, 10 to 20 percent slopes","Alapai",null,100,null,80,1,15,3.9,"none",null,null,"none"]
["HI801","Hawaii",518,{"$f":"IF(B423='Veg Guide Data Base'!$AD$1376,C423,FALSE)","v":false},"2371263","Alapai hydrous silty clay loam, 20 to 35 percent slopes","Alapai",null,100,null,80,1,28,3.9,"none",null,null,"none"]
["HI801","Hawaii",519,{"$f":"IF(B424='Veg Guide Data Base'!$AD$1376,C424,FALSE)","v":false},"2371264","Lalaau very cobbly highly decomposed plant material, 2 to 10 percent slopes","Lalaau",null,95,"bedrock, lithic",53,77,6,0.8,"none",null,null,"none"]
["HI801","Hawaii",520,{"$f":"IF(B425='Veg Guide Data Base'!$AD$1376,C425,FALSE)","v":false},"2371265","Naalehu medial silty clay loam, 35 to 70 percent slopes","Naalehu",null,100,null,80,2,55,3.9,"none",null,null,"none"]
["HI801","Hawaii",521,{"$f":"IF(B426='Veg Guide Data Base'!$AD$1376,C426,FALSE)","v":false},"2371266","Naalehu medial silty clay loam, 3 to 10 percent slopes","Naalehu",null,100,null,80,2,6,3.9,"none",null,null,"none"]
["HI801","Hawaii",522,{"$f":"IF(B427='Veg Guide Data Base'!$AD$1376,C427,FALSE)","v":false},"2371267","Naalehu medial silty clay loam, 10 to 20 percent slopes","Naalehu",null,100,null,80,2,15,3.9,"none",null,null,"none"]
["HI801","Hawaii",523,{"$f":"IF(B428='Veg Guide Data Base'!$AD$1376,C428,FALSE)","v":false},"2371268","Naalehu medial silty clay loam, 20 to 35 percent slopes","Naalehu",null,100,null,80,2,30,3.9,"none",null,null,"none"]
["HI801","Hawaii",527,{"$f":"IF(B429='Veg Guide Data Base'!$AD$1376,C429,FALSE)","v":false},"2371272","Alapai hydrous silty clay loam, 35 to 70 percent slopes","Alapai","lower precipitation",100,null,80,2,55,3.9,"none",null,null,"none"]
["HI801","Hawaii",528,{"$f":"IF(B430='Veg Guide Data Base'!$AD$1376,C430,FALSE)","v":false},"2371273","Alapai hydrous silty clay loam, 0 to 3 percent slopes","Alapai",null,100,null,80,1,1,3.9,"none",null,null,"none"]
["HI801","Hawaii",529,{"$f":"IF(B431='Veg Guide Data Base'!$AD$1376,C431,FALSE)","v":false},"2371274","Honuapo-Hilea complex, 10 to 20 percent slopes","Honuapo",null,70,"bedrock, lithic",39,0,15,3.9,"occasional","extremely brief","January, February, March, April, May, June, July, August, September, October, November, December","none"]
["HI801","Hawaii",529,{"$f":"IF(B432='Veg Guide Data Base'!$AD$1376,C432,FALSE)","v":false},"2371274","Honuapo-Hilea complex, 10 to 20 percent slopes","Hilea",null,30,"bedrock, lithic",19,8,15,3.6,"none",null,null,"none"]
["HI801","Hawaii",530,{"$f":"IF(B433='Veg Guide Data Base'!$AD$1376,C433,FALSE)","v":false},"2371275","Hilea-Lava flows complex, 3 to 10 percent slopes","Hilea","cobbly",70,"bedrock, lithic",19,20,6,3.6,"none",null,null,"none"]
["HI801","Hawaii",530,{"$f":"IF(B434='Veg Guide Data Base'!$AD$1376,C434,FALSE)","v":false},"2371275","Hilea-Lava flows complex, 3 to 10 percent slopes","Lava flows","pahoehoe",30,"bedrock, lithic",0,0,6,0,"none",null,null,"none"]
["HI801","Hawaii",531,{"$f":"IF(B435='Veg Guide Data Base'!$AD$1376,C435,FALSE)","v":false},"2371276","Hilea-Lava flows complex, 10 to 20 percent slopes","Hilea","cobbly",70,"bedrock, lithic",19,20,15,3.6,"none",null,null,"none"]
["HI801","Hawaii",531,{"$f":"IF(B436='Veg Guide Data Base'!$AD$1376,C436,FALSE)","v":false},"2371276","Hilea-Lava flows complex, 10 to 20 percent slopes","Lava flows","pahoehoe",30,"bedrock, lithic",0,0,15,0,"none",null,null,"none"]
["HI801","Hawaii",532,{"$f":"IF(B437='Veg Guide Data Base'!$AD$1376,C437,FALSE)","v":false},"2371277","Honuapo hydrous silt loam, 3 to 10 percent slopes","Honuapo",null,100,"bedrock, lithic",39,0,6,3.9,"occasional","extremely brief","January, February, March, April, May, June, July, August, September, October, November, December","none"]
["HI801","Hawaii",533,{"$f":"IF(B438='Veg Guide Data Base'!$AD$1376,C438,FALSE)","v":false},"2371278","Honuapo-Hilea complex, 20 to 35 percent slopes","Honuapo",null,70,"bedrock, lithic",39,0,28,3.9,"occasional","extremely brief","January, February, March, April, May, June, July, August, September, October, November, December","none"]
["HI801","Hawaii",533,{"$f":"IF(B439='Veg Guide Data Base'!$AD$1376,C439,FALSE)","v":false},"2371278","Honuapo-Hilea complex, 20 to 35 percent slopes","Hilea",null,30,"bedrock, lithic",19,8,28,3.6,"none",null,null,"none"]
["HI801","Hawaii",534,{"$f":"IF(B440='Veg Guide Data Base'!$AD$1376,C440,FALSE)","v":false},"2371279","Kahaluu-Lava flows complex, 2 to 10 percent slopes","Kahaluu",null,60,"bedrock, lithic",5,0,6,null,"none",null,null,"none"]
["HI801","Hawaii",534,{"$f":"IF(B441='Veg Guide Data Base'!$AD$1376,C441,FALSE)","v":false},"2371279","Kahaluu-Lava flows complex, 2 to 10 percent slopes","Lava flows","pahoehoe",40,"bedrock, lithic",0,0,6,0,"none",null,null,"none"]
["HI801","Hawaii",535,{"$f":"IF(B442='Veg Guide Data Base'!$AD$1376,C442,FALSE)","v":false},"2371280","Lithic Haplotorrands-Lava flows complex, 2 to 10 percent slopes","Lithic Haplotorrands",null,70,"bedrock, lithic",9,3,6,1.8,"none",null,null,"none"]
["HI801","Hawaii",535,{"$f":"IF(B443='Veg Guide Data Base'!$AD$1376,C443,FALSE)","v":false},"2371280","Lithic Haplotorrands-Lava flows complex, 2 to 10 percent slopes","Lava flows","pahoehoe",30,"bedrock, lithic",0,0,6,0,"none",null,null,"none"]
["HI801","Hawaii",536,{"$f":"IF(B444='Veg Guide Data Base'!$AD$1376,C444,FALSE)","v":false},"2371281","Puueo extremely cobbly medial silt loam, 2 to 10 percent slopes","Puueo",null,90,"bedrock, lithic",30,68,6,2.9,"none",null,null,"none"]
["HI801","Hawaii",537,{"$f":"IF(B445='Veg Guide Data Base'!$AD$1376,C445,FALSE)","v":false},"2371283","Naalehu medial silt loam, 0 to 3 percent slopes","Naalehu",null,100,null,80,2,2,3.9,"none",null,null,"none"]
["HI801","Hawaii",538,{"$f":"IF(B446='Veg Guide Data Base'!$AD$1376,C446,FALSE)","v":false},"2371284","Kanohina-Lava flows complex, 10 to 20 percent slopes","Kanohina","cobbly",70,"bedrock, lithic",15,25,15,1.8,"none",null,null,"none"]
["HI801","Hawaii",539,{"$f":"IF(B447='Veg Guide Data Base'!$AD$1376,C447,FALSE)","v":false},"2371284","Kanohina-Lava flows complex, 10 to 20 percent slopes","Lava flows","pahoehoe",30,"bedrock, lithic",0,0,15,0,"none",null,null,"none"]
["HI801","Hawaii",540,{"$f":"IF(B448='Veg Guide Data Base'!$AD$1376,C448,FALSE)","v":false},"2371285","Kanohina-Lava flows complex, 20 to 35 percent slopes","Kanohina","cobbly",70,"bedrock, lithic",15,25,28,1.8,"none",null,null,"none"]
["HI801","Hawaii",540,{"$f":"IF(B449='Veg Guide Data Base'!$AD$1376,C449,FALSE)","v":false},"2371285","Kanohina-Lava flows complex, 20 to 35 percent slopes","Lava flows","pahoehoe",30,"bedrock, lithic",0,0,28,0,"none",null,null,"none"]
["HI801","Hawaii",541,{"$f":"IF(B450='Veg Guide Data Base'!$AD$1376,C450,FALSE)","v":false},"2371286","Lava flows-Puueo complex, 2 to 20 percent slopes","Lava flows","`a`a",70,"bedrock, lithic",39,95,11,0.2,"none",null,null,"none"]
["HI801","Hawaii",541,{"$f":"IF(B451='Veg Guide Data Base'!$AD$1376,C451,FALSE)","v":false},"2371286","Lava flows-Puueo complex, 2 to 20 percent slopes","Puueo",null,30,"bedrock, lithic",30,68,11,2.9,"none",null,null,"none"]
["HI801","Hawaii",551,{"$f":"IF(B452='Veg Guide Data Base'!$AD$1376,C452,FALSE)","v":false},"2371287","Puiwa medial loam, 2 to 20 percent slopes","Puiwa",null,88,"bedrock, lithic",38,0,12,5.0999999999999996,"none",null,null,"none"]
["HI801","Hawaii",552,{"$f":"IF(B453='Veg Guide Data Base'!$AD$1376,C453,FALSE)","v":false},"2371288","Keamoku medial silt loam, 10 to 20 percent slopes","Keamoku",null,88,null,80,0,12,4.9000000000000004,"none",null,null,"none"]
["HI801","Hawaii",553,{"$f":"IF(B454='Veg Guide Data Base'!$AD$1376,C454,FALSE)","v":false},"2371289","Kuanene medial fine sandy loam, 3 to 20 percent slopes","Kuanene",null,85,"bedrock, lithic",17,0,12,3.7,"rare","very brief",null,"none"]
["HI801","Hawaii",554,{"$f":"IF(B455='Veg Guide Data Base'!$AD$1376,C455,FALSE)","v":false},"2371290","Kapulehu-Lava flows-Lithic Ustipsamments complex, 2 to 20 percent slopes","Kapulehu",null,60,"bedrock, lithic",26,55,15,1.3,"none",null,null,"none"]
["HI801","Hawaii",554,{"$f":"IF(B456='Veg Guide Data Base'!$AD$1376,C456,FALSE)","v":false},"2371290","Kapulehu-Lava flows-Lithic Ustipsamments complex, 2 to 20 percent slopes","Lava flows","pahoehoe",20,"bedrock, lithic",0,0,5,0,"none",null,null,"none"]
["HI801","Hawaii",554,{"$f":"IF(B457='Veg Guide Data Base'!$AD$1376,C457,FALSE)","v":false},"2371290","Kapulehu-Lava flows-Lithic Ustipsamments complex, 2 to 20 percent slopes","Lithic Ustipsamments",null,20,"bedrock, lithic",10,0,5,1,"none",null,null,"none"]
["HI801","Hawaii",555,{"$f":"IF(B458='Veg Guide Data Base'!$AD$1376,C458,FALSE)","v":false},"2371291","Lava flows-Kuanene complex, 20 to 35 percent slopes","Kuanene",null,55,"bedrock, lithic",17,0,30,3.7,"none",null,null,"none"]
["HI801","Hawaii",555,{"$f":"IF(B459='Veg Guide Data Base'!$AD$1376,C459,FALSE)","v":false},"2371291","Lava flows-Kuanene complex, 20 to 35 percent slopes","Lava flows","pahoehoe",45,"bedrock, lithic",0,0,30,0,"none",null,null,"none"]
["HI801","Hawaii",557,{"$f":"IF(B460='Veg Guide Data Base'!$AD$1376,C460,FALSE)","v":false},"2371292","Udifluvents-Kuanene complex, 2 to 10 percent slopes","Udifluvents",null,50,"bedrock, lithic",30,60,8,2,"occasional, rare","very brief","January, February, March, April, May, October, November, December","none"]
["HI801","Hawaii",557,{"$f":"IF(B461='Veg Guide Data Base'!$AD$1376,C461,FALSE)","v":false},"2371292","Udifluvents-Kuanene complex, 2 to 10 percent slopes","Kuanene",null,45,"bedrock, lithic",17,0,8,3.7,"rare","very brief",null,"none"]
["HI801","Hawaii",558,{"$f":"IF(B462='Veg Guide Data Base'!$AD$1376,C462,FALSE)","v":false},"2371293","Akihi-Alapai complex, 40 to 70 percent slopes","Akihi",null,50,"bedrock, lithic",35,35,60,2.2999999999999998,"none",null,null,"none"]
["HI801","Hawaii",558,{"$f":"IF(B463='Veg Guide Data Base'!$AD$1376,C463,FALSE)","v":false},"2371293","Akihi-Alapai complex, 40 to 70 percent slopes","Alapai",null,35,null,80,1,60,3.9,"none",null,null,"none"]
["HI801","Hawaii",559,{"$f":"IF(B464='Veg Guide Data Base'!$AD$1376,C464,FALSE)","v":false},"2371294","Alapai-Akihi complex, 10 to 20 percent slopes","Alapai",null,55,null,80,1,15,3.9,"none",null,null,"none"]
["HI801","Hawaii",559,{"$f":"IF(B465='Veg Guide Data Base'!$AD$1376,C465,FALSE)","v":false},"2371294","Alapai-Akihi complex, 10 to 20 percent slopes","Akihi",null,45,"bedrock, lithic",35,35,15,2.2999999999999998,"none",null,null,"none"]
["HI801","Hawaii",561,{"$f":"IF(B466='Veg Guide Data Base'!$AD$1376,C466,FALSE)","v":false},"2371296","Akihi-Alapai complex, 3 to 10 percent slopes","Akihi",null,60,"bedrock, lithic",35,35,6,2.2999999999999998,"none",null,null,"none"]
["HI801","Hawaii",561,{"$f":"IF(B467='Veg Guide Data Base'!$AD$1376,C467,FALSE)","v":false},"2371296","Akihi-Alapai complex, 3 to 10 percent slopes","Alapai",null,40,null,80,2,6,3.9,"none",null,null,"none"]
["HI801","Hawaii",562,{"$f":"IF(B468='Veg Guide Data Base'!$AD$1376,C468,FALSE)","v":false},"2371297","Akihi-Alapai complex, 10 to 20 percent slopes","Akihi",null,60,"bedrock, lithic",35,35,16,2.2999999999999998,"none",null,null,"none"]
["HI801","Hawaii",562,{"$f":"IF(B469='Veg Guide Data Base'!$AD$1376,C469,FALSE)","v":false},"2371297","Akihi-Alapai complex, 10 to 20 percent slopes","Alapai",null,30,null,80,2,16,3.9,"none",null,null,"none"]
["HI801","Hawaii",563,{"$f":"IF(B470='Veg Guide Data Base'!$AD$1376,C470,FALSE)","v":false},"2371298","Alapai-Akihi complex, 20 to 35 percent slopes","Alapai",null,55,null,80,1,25,3.9,"none",null,null,"none"]
["HI801","Hawaii",563,{"$f":"IF(B471='Veg Guide Data Base'!$AD$1376,C471,FALSE)","v":false},"2371298","Alapai-Akihi complex, 20 to 35 percent slopes","Akihi",null,45,"bedrock, lithic",35,35,25,2.2999999999999998,"none",null,null,"none"]
["HI801","Hawaii",565,{"$f":"IF(B472='Veg Guide Data Base'!$AD$1376,C472,FALSE)","v":false},"2371300","Ustifluvents-Lava flows complex,, 3 to 10 percent slopes, occasionally flooded","Ustifluvents",null,60,"bedrock, lithic",26,60,5,2,"occasional, rare","very brief","January, February, March, April, May, October, November, December","none"]
["HI801","Hawaii",565,{"$f":"IF(B473='Veg Guide Data Base'!$AD$1376,C473,FALSE)","v":false},"2371300","Ustifluvents-Lava flows complex,, 3 to 10 percent slopes, occasionally flooded","Lava flows","pahoehoe",40,"bedrock, lithic",0,0,5,0,"none",null,null,"none"]
["HI801","Hawaii",567,{"$f":"IF(B474='Veg Guide Data Base'!$AD$1376,C474,FALSE)","v":false},"2371302","Puueo-Naalehu complex, 3 to 10 percent slopes","Puueo",null,65,"bedrock, lithic",30,68,6,2.9,"none",null,null,"none"]
["HI801","Hawaii",567,{"$f":"IF(B475='Veg Guide Data Base'!$AD$1376,C475,FALSE)","v":false},"2371302","Puueo-Naalehu complex, 3 to 10 percent slopes","Naalehu",null,35,null,80,2,6,3.9,"none",null,null,"none"]
["HI801","Hawaii",568,{"$f":"IF(B476='Veg Guide Data Base'!$AD$1376,C476,FALSE)","v":false},"2371303","Honuapo hydrous silt loam, 10 to 20 percent slopes","Honuapo",null,85,"bedrock, lithic",39,0,16,3.9,"occasional","extremely brief","January, February, March, April, May, June, July, August, September, October, November, December","none"]
["HI801","Hawaii",569,{"$f":"IF(B477='Veg Guide Data Base'!$AD$1376,C477,FALSE)","v":false},"2371304","Puueo extremely cobbly medial silt loam, 10 to 20 percent slopes","Puueo",null,90,"bedrock, lithic",30,68,16,2.9,"none",null,null,"none"]
["HI801","Hawaii",570,{"$f":"IF(B478='Veg Guide Data Base'!$AD$1376,C478,FALSE)","v":false},"2371305","Kanohina-Ustifluvents-Lava flows complex, 3 to 10 percent slopes","Kanohina",null,50,"bedrock, lithic",6,0,6,0.6,"none",null,null,"none"]
["HI801","Hawaii",570,{"$f":"IF(B479='Veg Guide Data Base'!$AD$1376,C479,FALSE)","v":false},"2371305","Kanohina-Ustifluvents-Lava flows complex, 3 to 10 percent slopes","Ustifluvents",null,30,"bedrock, lithic",26,60,4,2,"occasional, rare","very brief","January, February, March, April, May, October, November, December","none"]
["HI801","Hawaii",570,{"$f":"IF(B480='Veg Guide Data Base'!$AD$1376,C480,FALSE)","v":false},"2371305","Kanohina-Ustifluvents-Lava flows complex, 3 to 10 percent slopes","Lava flows","pahoehoe",20,"bedrock, lithic",0,0,5,0,"none",null,null,"none"]
["HI801","Hawaii",571,{"$f":"IF(B481='Veg Guide Data Base'!$AD$1376,C481,FALSE)","v":false},"2371306","Ustifluvents-Lava flows-Naalehu complex, 3 to 10 percent slopes, occasionally flooded","Ustifluvents",null,35,"bedrock, lithic",26,60,4,2,"occasional, rare","very brief","January, February, March, April, May, October, November, December","none"]
["HI801","Hawaii",571,{"$f":"IF(B482='Veg Guide Data Base'!$AD$1376,C482,FALSE)","v":false},"2371306","Ustifluvents-Lava flows-Naalehu complex, 3 to 10 percent slopes, occasionally flooded","Naalehu","occasionally flooded",30,null,80,2,3,3.9,"occasional","very brief","January, February, March, April, May, June, July, August, September, October, November, December","occasional","brief","January, February, March, April, May, June, July, August, September, October, November, December"]
["HI801","Hawaii",571,{"$f":"IF(B483='Veg Guide Data Base'!$AD$1376,C483,FALSE)","v":false},"2371306","Ustifluvents-Lava flows-Naalehu complex, 3 to 10 percent slopes, occasionally flooded","Lava flows","pahoehoe",30,"bedrock, lithic",0,0,6,0,"none",null,null,"none"]
["HI801","Hawaii",572,{"$f":"IF(B484='Veg Guide Data Base'!$AD$1376,C484,FALSE)","v":false},"2371307","Puu Oo medial silt loam, 10 to 20 percent slopes","Puu Oo",null,100,"bedrock, paralithic",27,0,14,5.2,"none",null,null,"none"]
["HI801","Hawaii",573,{"$f":"IF(B485='Veg Guide Data Base'!$AD$1376,C485,FALSE)","v":false},"2371308","Kaholimo medial silt loam, 10 to 20 percent slopes","Kaholimo",null,95,"bedrock, lithic",13,0,13,3.2,"none",null,null,"none"]
["HI801","Hawaii",574,{"$f":"IF(B486='Veg Guide Data Base'!$AD$1376,C486,FALSE)","v":false},"2371309","Ihuanu-Lava flows, pahoehoe complex, 10 to 20 percent slopes","Ihuanu",null,55,"bedrock, lithic",22,60,15,1.2,"none",null,null,"none"]
["HI801","Hawaii",574,{"$f":"IF(B487='Veg Guide Data Base'!$AD$1376,C487,FALSE)","v":false},"2371309","Ihuanu-Lava flows, pahoehoe complex, 10 to 20 percent slopes","Lava flows","pahoehoe",35,"bedrock, lithic",0,0,15,0,"none",null,null,"none"]
["HI801","Hawaii",575,{"$f":"IF(B488='Veg Guide Data Base'!$AD$1376,C488,FALSE)","v":false},"2371310","Humic Durustands, 2 to 10 percent slopes","Humic Durustands",null,95,"bedrock, lithic",26,0,8,3.7,"none",null,null,"none"]
["HI801","Hawaii",576,{"$f":"IF(B489='Veg Guide Data Base'!$AD$1376,C489,FALSE)","v":false},"2371311","Puali-Puu Oo-Pahipa association, 2 to 20 percent slopes","Puali",null,35,"bedrock, lithic",18,0,12,2.7,"none",null,null,"none"]
["HI801","Hawaii",576,{"$f":"IF(B490='Veg Guide Data Base'!$AD$1376,C490,FALSE)","v":false},"2371311","Puali-Puu Oo-Pahipa association, 2 to 20 percent slopes","Puu Oo",null,35,"bedrock, paralithic",27,0,12,5.2,"none",null,null,"none"]
["HI801","Hawaii",576,{"$f":"IF(B491='Veg Guide Data Base'!$AD$1376,C491,FALSE)","v":false},"2371311","Puali-Puu Oo-Pahipa association, 2 to 20 percent slopes","Pahipa",null,25,"bedrock, lithic",39,10,12,2.9,"none",null,null,"none"]
["HI801","Hawaii",577,{"$f":"IF(B492='Veg Guide Data Base'!$AD$1376,C492,FALSE)","v":false},"2371312","Pahipa-Puu Oo association, 2 to 20 percent slopes","Pahipa",null,70,"bedrock, lithic",39,10,12,2.9,"none",null,null,"none"]
["HI801","Hawaii",577,{"$f":"IF(B493='Veg Guide Data Base'!$AD$1376,C493,FALSE)","v":false},"2371312","Pahipa-Puu Oo association, 2 to 20 percent slopes","Puu Oo",null,25,"bedrock, paralithic",27,0,12,5.2,"none",null,null,"none"]
["HI801","Hawaii",578,{"$f":"IF(B494='Veg Guide Data Base'!$AD$1376,C494,FALSE)","v":false},"2371313","Puu Oo-Kaholimo association, 2 to 20 percent slopes","Puu Oo",null,55,"bedrock, paralithic",27,0,12,5.2,"none",null,null,"none"]
["HI801","Hawaii",578,{"$f":"IF(B495='Veg Guide Data Base'!$AD$1376,C495,FALSE)","v":false},"2371313","Puu Oo-Kaholimo association, 2 to 20 percent slopes","Kaholimo",null,40,"bedrock, lithic",13,0,12,3.2,"none",null,null,"none"]
["HI801","Hawaii",579,{"$f":"IF(B496='Veg Guide Data Base'!$AD$1376,C496,FALSE)","v":false},"2371314","Kaholimo-Lava flows complex, 20 to 40 percent slopes","Kaholimo",null,60,"bedrock, lithic",13,0,25,3.2,"none",null,null,"none"]
["HI801","Hawaii",579,{"$f":"IF(B497='Veg Guide Data Base'!$AD$1376,C497,FALSE)","v":false},"2371314","Kaholimo-Lava flows complex, 20 to 40 percent slopes","Lava flows","pahoehoe",30,"bedrock, lithic",0,0,35,0,"none",null,null,"none"]
["HI801","Hawaii",601,{"$f":"IF(B498='Veg Guide Data Base'!$AD$1376,C498,FALSE)","v":false},"2371316","Kaholimo-Lava flows complex, 3 to 10 percent slopes","Kaholimo",null,75,"bedrock, lithic",13,0,3,3.2,"none",null,null,"none"]
["HI801","Hawaii",601,{"$f":"IF(B499='Veg Guide Data Base'!$AD$1376,C499,FALSE)","v":false},"2371316","Kaholimo-Lava flows complex, 3 to 10 percent slopes","Lava flows","pahoehoe",25,"bedrock, lithic",0,0,3,0,"none",null,null,"none"]
["HI801","Hawaii",602,{"$f":"IF(B500='Veg Guide Data Base'!$AD$1376,C500,FALSE)","v":false},"2371317","Keamoku stony medial loam, 3 to 10 percent slopes","Keamoku","stony",90,null,80,25,4,4.4000000000000004,"none",null,null,"none"]
["HI801","Hawaii",603,{"$f":"IF(B501='Veg Guide Data Base'!$AD$1376,C501,FALSE)","v":false},"2371318","Pekailio stony medial loam, 3 to 10 percent slopes","Pekailio",null,100,null,80,30,4,3.8,"none",null,null,"none"]
["HI801","Hawaii",604,{"$f":"IF(B502='Veg Guide Data Base'!$AD$1376,C502,FALSE)","v":false},"2371319","Hydric Endoaquands, 0 to 3 percent slopes","Hydric Endoaquands",null,85,"bedrock, lithic",29,0,1,4,"none",null,null,"frequent","very brief","January, February, March, April, May, June, July, August, September, October, November, December"]
["HI801","Hawaii",605,{"$f":"IF(B503='Veg Guide Data Base'!$AD$1376,C503,FALSE)","v":false},"2371320","Kaholimo-Ki complex, 3 to 10 percent slopes","Kaholimo",null,60,"bedrock, lithic",13,0,3,3.2,"none",null,null,"none"]
["HI801","Hawaii",605,{"$f":"IF(B504='Veg Guide Data Base'!$AD$1376,C504,FALSE)","v":false},"2371320","Kaholimo-Ki complex, 3 to 10 percent slopes","Ki",null,35,null,80,15,5,3.2,"none",null,null,"none"]
["HI801","Hawaii",606,{"$f":"IF(B505='Veg Guide Data Base'!$AD$1376,C505,FALSE)","v":false},"2371321","Puaulu-Hilea-Pekailio complex, 40 to 70 percent slopes","Puaulu",null,35,"densic material",12,6,60,4.9000000000000004,"none",null,null,"none"]
["HI801","Hawaii",606,{"$f":"IF(B506='Veg Guide Data Base'!$AD$1376,C506,FALSE)","v":false},"2371321","Puaulu-Hilea-Pekailio complex, 40 to 70 percent slopes","Hilea",null,35,"bedrock, lithic",7,8,40,1.4,"none",null,null,"none"]
["HI801","Hawaii",606,{"$f":"IF(B507='Veg Guide Data Base'!$AD$1376,C507,FALSE)","v":false},"2371321","Puaulu-Hilea-Pekailio complex, 40 to 70 percent slopes","Pekailio",null,30,null,80,30,60,3.8,"none",null,null,"none"]
["HI801","Hawaii",607,{"$f":"IF(B508='Veg Guide Data Base'!$AD$1376,C508,FALSE)","v":false},"2371322","Kaholimo-Ki complex, 10 to 20 percent slopes","Kaholimo",null,60,"bedrock, lithic",13,0,10,3.2,"none",null,null,"none"]
["HI801","Hawaii",607,{"$f":"IF(B509='Veg Guide Data Base'!$AD$1376,C509,FALSE)","v":false},"2371322","Kaholimo-Ki complex, 10 to 20 percent slopes","Ki",null,35,null,80,15,10,3.2,"none",null,null,"none"]
["HI801","Hawaii",608,{"$f":"IF(B510='Veg Guide Data Base'!$AD$1376,C510,FALSE)","v":false},"2371323","Kau-Lalo complex, 3 to 10 percent slopes","Kau",null,50,"bedrock, lithic",40,14,4,4.2,"none",null,null,"none"]
["HI801","Hawaii",608,{"$f":"IF(B511='Veg Guide Data Base'!$AD$1376,C511,FALSE)","v":false},"2371323","Kau-Lalo complex, 3 to 10 percent slopes","Lalo",null,40,null,80,3,4,5.8,"none",null,null,"none"]
["HI801","Hawaii",609,{"$f":"IF(B512='Veg Guide Data Base'!$AD$1376,C512,FALSE)","v":false},"2371324","Piihonua hydrous silty clay loam, 20 to 35 percent slopes","Piihonua",null,100,"bedrock, lithic",47,0,25,5,"none",null,null,"none"]
["HI801","Hawaii",610,{"$f":"IF(B513='Veg Guide Data Base'!$AD$1376,C513,FALSE)","v":false},"2371325","Piihonua hydrous silty clay loam, 0 to 3 percent slopes","Piihonua",null,100,"bedrock, lithic",47,0,2,5,"none",null,null,"none"]
["HI801","Hawaii",611,{"$f":"IF(B514='Veg Guide Data Base'!$AD$1376,C514,FALSE)","v":false},"2371326","Kulani hydrous highly organic loam, 10 to 20 percent slopes","Kulani",null,100,"placic",7,8,15,3.3,"none",null,null,"none"]
["HI801","Hawaii",612,{"$f":"IF(B515='Veg Guide Data Base'!$AD$1376,C515,FALSE)","v":false},"2371327","Kulani hydrous highly organic loam, 3 to 10 percent slopes","Kulani",null,90,"placic",7,8,5,3.3,"none",null,null,"none"]
["HI801","Hawaii",613,{"$f":"IF(B516='Veg Guide Data Base'!$AD$1376,C516,FALSE)","v":false},"2371328","Kiloa extremely cobbly highly decomposed plant material, 3 to 10 percent slopes","Kiloa",null,95,"bedrock, lithic",60,65,4,1.7,"none",null,null,"none"]
["HI801","Hawaii",614,{"$f":"IF(B517='Veg Guide Data Base'!$AD$1376,C517,FALSE)","v":false},"2371329","Waiakea hydrous loam, 2 to 20 percent slopes","Waiakea",null,95,"bedrock, lithic",39,13,4,4.5999999999999996,"none",null,null,"none"]
["HI801","Hawaii",615,{"$f":"IF(B518='Veg Guide Data Base'!$AD$1376,C518,FALSE)","v":false},"2371330","Kau hydrous silt loam, 3 to 10 percent slopes","Kau",null,100,"bedrock, lithic",40,14,4,4.2,"none",null,null,"none"]
["HI801","Hawaii",616,{"$f":"IF(B519='Veg Guide Data Base'!$AD$1376,C519,FALSE)","v":false},"2371331","Kahaluu highly decomposed plant material, 3 to 10 percent slopes","Kahaluu",null,90,"bedrock, lithic",10,5,4,0,"none",null,null,"none"]
["HI801","Hawaii",617,{"$f":"IF(B520='Veg Guide Data Base'!$AD$1376,C520,FALSE)","v":false},"2371332","Kaholimo medial silt loam, 3 to 10 percent slopes","Kaholimo",null,90,"bedrock, lithic",13,0,3,3.2,"none",null,null,"none"]
["HI801","Hawaii",619,{"$f":"IF(B521='Veg Guide Data Base'!$AD$1376,C521,FALSE)","v":false},"2371334","Kiloa-Lava flows complex, 3 to 10 percent slopes","Kiloa",null,50,"bedrock, lithic",60,65,4,1.7,"none",null,null,"none"]
["HI801","Hawaii",619,{"$f":"IF(B522='Veg Guide Data Base'!$AD$1376,C522,FALSE)","v":false},"2371334","Kiloa-Lava flows complex, 3 to 10 percent slopes","Lava flows","`a`a",50,"bedrock, lithic",39,95,4,0.2,"none",null,null,"none"]
["HI801","Hawaii",621,{"$f":"IF(B523='Veg Guide Data Base'!$AD$1376,C523,FALSE)","v":false},"2371336","Eheuiki-Pekailio complex, 3 to 10 percent slopes","Eheuiki",null,60,null,80,1,4,6.3,"none",null,null,"none"]
["HI801","Hawaii",621,{"$f":"IF(B524='Veg Guide Data Base'!$AD$1376,C524,FALSE)","v":false},"2371336","Eheuiki-Pekailio complex, 3 to 10 percent slopes","Pekailio",null,40,null,80,30,4,3.8,"none",null,null,"none"]
["HI801","Hawaii",622,{"$f":"IF(B525='Veg Guide Data Base'!$AD$1376,C525,FALSE)","v":false},"2371337","Kopua-Makaala complex, 3 to 10 percent slopes","Kopua",null,65,"bedrock, lithic",19,9,3,3.6,"none",null,null,"occasional",",very brief","September, October, November"]
["HI801","Hawaii",622,{"$f":"IF(B526='Veg Guide Data Base'!$AD$1376,C526,FALSE)","v":false},"2371337","Kopua-Makaala complex, 3 to 10 percent slopes","Makaala",null,30,"bedrock, lithic",29,9,3,5.9,"none",null,null,"none"]
["HI801","Hawaii",623,{"$f":"IF(B527='Veg Guide Data Base'!$AD$1376,C527,FALSE)","v":false},"2371338","Keei very cobbly slightly decomposed plant material, 3 to 10 percent slopes","Keei","very cobbly",85,"bedrock, lithic",5,35,4,0.7,"none",null,null,"none"]
["HI801","Hawaii",624,{"$f":"IF(B528='Veg Guide Data Base'!$AD$1376,C528,FALSE)","v":false},"2371339","Kopua-Ihope complex, 3 to 10 percent slopes","Kopua",null,70,"bedrock, lithic",17,4,3,4.4000000000000004,"none",null,null,"occasional",",very brief","September, October, November"]
["HI801","Hawaii",624,{"$f":"IF(B529='Veg Guide Data Base'!$AD$1376,C529,FALSE)","v":false},"2371339","Kopua-Ihope complex, 3 to 10 percent slopes","Ihope","hydrous silt loam",20,"bedrock, lithic",17,0,3,3.6,"none",null,null,"frequent","very brief","January, February, March, April, May, June, July, August, September, October, November, December"]
["HI801","Hawaii",625,{"$f":"IF(B530='Veg Guide Data Base'!$AD$1376,C530,FALSE)","v":false},"2371340","Hao medial loam, 3 to 10 percent slopes","Hao",null,90,"placic",15,0,4,4.5,"none",null,null,"frequent, occasional","brief,","January, February, March, November, December"]
["HI801","Hawaii",626,{"$f":"IF(B531='Veg Guide Data Base'!$AD$1376,C531,FALSE)","v":false},"2371341","Lalaau-Lava flows complex, 2 to 20 percent slopes","Lava flows","`a`a",45,"bedrock, lithic",39,95,6,0.2,"none",null,null,"none"]
["HI801","Hawaii",626,{"$f":"IF(B532='Veg Guide Data Base'!$AD$1376,C532,FALSE)","v":false},"2371341","Lalaau-Lava flows complex, 2 to 20 percent slopes","Lalaau",null,45,"bedrock, lithic",53,77,6,0.8,"none",null,null,"none"]
["HI801","Hawaii",627,{"$f":"IF(B533='Veg Guide Data Base'!$AD$1376,C533,FALSE)","v":false},"2371342","Kahaluu-lava flows-Ainahou complex, 2 to 10 percent slopes","Kahaluu",null,35,"bedrock, lithic",10,5,6,0,"none",null,null,"none"]
["HI801","Hawaii",627,{"$f":"IF(B534='Veg Guide Data Base'!$AD$1376,C534,FALSE)","v":false},"2371342","Kahaluu-lava flows-Ainahou complex, 2 to 10 percent slopes","Lava flows","pahoehoe",35,"bedrock, lithic",0,0,6,0,"none",null,null,"none"]
["HI801","Hawaii",627,{"$f":"IF(B535='Veg Guide Data Base'!$AD$1376,C535,FALSE)","v":false},"2371342","Kahaluu-lava flows-Ainahou complex, 2 to 10 percent slopes","Ainahou",null,30,"bedrock, lithic",9,0,3,2,"none",null,null,"frequent","brief,very brief","January, February, March, April, May, June, July, August, September, October, November, December"]
["HI801","Hawaii",628,{"$f":"IF(B536='Veg Guide Data Base'!$AD$1376,C536,FALSE)","v":false},"2371343","Papai extremely cobbly highly decomposed plant material, 2 to 10 percent slopes","Papai",null,95,"bedrock, lithic",53,65,4,1.7,"none",null,null,"none"]
["HI801","Hawaii",629,{"$f":"IF(B537='Veg Guide Data Base'!$AD$1376,C537,FALSE)","v":false},"2371344","Panaewa very cobbly hydrous loam, 2 to 10 percent slopes","Panaewa",null,80,"bedrock, lithic",16,65,3,2.8,"none",null,null,"occasional",",very brief","October, November"]
["HI801","Hawaii",630,{"$f":"IF(B538='Veg Guide Data Base'!$AD$1376,C538,FALSE)","v":false},"2371345","Nanaia-Ohaikea complex, 2 to 10 percent slopes","Ohaikea",null,45,"bedrock, lithic",30,1,4,4.8,"none",null,null,"none"]
["HI801","Hawaii",630,{"$f":"IF(B539='Veg Guide Data Base'!$AD$1376,C539,FALSE)","v":false},"2371345","Nanaia-Ohaikea complex, 2 to 10 percent slopes","Nanaia","medial loam",45,"bedrock, lithic",6,2,4,0.7,"none",null,null,"none"]
["HI801","Hawaii",631,{"$f":"IF(B540='Veg Guide Data Base'!$AD$1376,C540,FALSE)","v":false},"2371346","Kapapala medial loam, 2 to 10 percent slopes","Kapapala",null,90,"bedrock, lithic",43,1,4,4.5,"none",null,null,"none"]
["HI801","Hawaii",632,{"$f":"IF(B541='Veg Guide Data Base'!$AD$1376,C541,FALSE)","v":false},"2371347","Kapapala medial loam, 20 to 40 percent slopes","Kapapala",null,85,"bedrock, lithic",43,1,30,4.5,"none",null,null,"none"]
["HI801","Hawaii",634,{"$f":"IF(B542='Veg Guide Data Base'!$AD$1376,C542,FALSE)","v":false},"2371348","Ohaikea highly organic medial loam, 2 to 10 percent slopes","Ohaikea",null,85,"bedrock, lithic",30,1,4,4.8,"none",null,null,"none"]
["HI801","Hawaii",636,{"$f":"IF(B543='Veg Guide Data Base'!$AD$1376,C543,FALSE)","v":false},"2371349","Nanaia-Lava flows complex, 20 to 40 percent slopes","Nanaia","medial loam",60,"bedrock, lithic",6,2,25,0.7,"none",null,null,"none"]
["HI801","Hawaii",636,{"$f":"IF(B544='Veg Guide Data Base'!$AD$1376,C544,FALSE)","v":false},"2371349","Nanaia-Lava flows complex, 20 to 40 percent slopes","Lava flows","pahoehoe",40,"bedrock, lithic",0,0,35,0,"none",null,null,"none"]
["HI801","Hawaii",637,{"$f":"IF(B545='Veg Guide Data Base'!$AD$1376,C545,FALSE)","v":false},"2371350","Papai-Urban land complex, 2 to 10 percent slopes","Papai",null,50,"bedrock, lithic",53,65,4,1.7,"none",null,null,"none"]
["HI801","Hawaii",637,{"$f":"IF(B546='Veg Guide Data Base'!$AD$1376,C546,FALSE)","v":false},"2371350","Papai-Urban land complex, 2 to 10 percent slopes","Urban land",null,45,null,80,0,4,null,"none",null,null,"none"]
["HI801","Hawaii",638,{"$f":"IF(B547='Veg Guide Data Base'!$AD$1376,C547,FALSE)","v":false},"2371351","Panaewa-Urban land complex, 2 to 10 percent slopes","Urban land",null,45,null,80,0,3,null,"none",null,null,"none"]
["HI801","Hawaii",638,{"$f":"IF(B548='Veg Guide Data Base'!$AD$1376,C548,FALSE)","v":false},"2371351","Panaewa-Urban land complex, 2 to 10 percent slopes","Panaewa",null,45,"bedrock, lithic",16,65,3,2.8,"none",null,null,"occasional",",very brief","October, November"]
["HI801","Hawaii",639,{"$f":"IF(B549='Veg Guide Data Base'!$AD$1376,C549,FALSE)","v":false},"2371352","Keaukaha-Urban land complex, 2 to 10 percent slopes","Keaukaha",null,45,"bedrock, lithic",4,2,4,null,"none",null,null,"none"]
["HI801","Hawaii",639,{"$f":"IF(B550='Veg Guide Data Base'!$AD$1376,C550,FALSE)","v":false},"2371352","Keaukaha-Urban land complex, 2 to 10 percent slopes","Urban land",null,45,null,80,0,4,null,"none",null,null,"none"]
["HI801","Hawaii",640,{"$f":"IF(B551='Veg Guide Data Base'!$AD$1376,C551,FALSE)","v":false},"2371353","Opihikao-Urban land complex, 2 to 20 percent slopes","Urban land",null,45,null,80,0,8,null,"none",null,null,"none"]
["HI801","Hawaii",640,{"$f":"IF(B552='Veg Guide Data Base'!$AD$1376,C552,FALSE)","v":false},"2371353","Opihikao-Urban land complex, 2 to 20 percent slopes","Opihikao",null,45,"bedrock, lithic",3,0,8,null,"none",null,null,"none"]
["HI801","Hawaii",641,{"$f":"IF(B553='Veg Guide Data Base'!$AD$1376,C553,FALSE)","v":false},"2371354","Kau very cobbly highly organic hydrous silt loam, 2 to 10 percent slopes","Kau","very cobbly highly organic hydrous silt",85,"bedrock, lithic",40,42,4,4.2,"none",null,null,"none"]
["HI801","Hawaii",651,{"$f":"IF(B554='Veg Guide Data Base'!$AD$1376,C554,FALSE)","v":false},"2371355","Keei slightly decomposed plant material, 3 to 10 percent slopes","Keei",null,92,"bedrock, lithic",5,9,4,null,"none",null,null,"none"]
["HI801","Hawaii",652,{"$f":"IF(B555='Veg Guide Data Base'!$AD$1376,C555,FALSE)","v":false},"2371356","Ohia hydrous silt loam, 3 to 10 percent slopes","Ohia",null,95,"bedrock, lithic",62,0,4,5.7,"none",null,null,"none"]
["HI801","Hawaii",653,{"$f":"IF(B556='Veg Guide Data Base'!$AD$1376,C556,FALSE)","v":false},"2371357","Keaukaha highly decomposed plant material, 2 to 10 percent slopes","Keaukaha",null,90,"bedrock, lithic",4,2,4,null,"none",null,null,"none"]
["HI801","Hawaii",655,{"$f":"IF(B557='Veg Guide Data Base'!$AD$1376,C557,FALSE)","v":false},"2371358","Hakuma  highly organic hydrous loam, 2 to 10 percent slopes, occasionally flooded","Hakuma","occasionally flooded",90,"bedrock, lithic",13,7,4,3.3,"occasional, none","extremely brief,","January, February, October, November, December","none"]
["HI801","Hawaii",657,{"$f":"IF(B558='Veg Guide Data Base'!$AD$1376,C558,FALSE)","v":false},"2371359","Malama-Lava flows complex, dry, 2 to 40 percent slopes","Malama",null,60,"bedrock, lithic",50,89,10,0.8,"none",null,null,"none"]
["HI801","Hawaii",657,{"$f":"IF(B559='Veg Guide Data Base'!$AD$1376,C559,FALSE)","v":false},"2371359","Malama-Lava flows complex, dry, 2 to 40 percent slopes","Lava flows","`a`a",40,"bedrock, lithic",39,95,10,0.2,"none",null,null,"none"]
["HI801","Hawaii",659,{"$f":"IF(B560='Veg Guide Data Base'!$AD$1376,C560,FALSE)","v":false},"2371361","Malama extremely cobbly highly decomposed plant material, 2 to 40 percent slopes","Malama",null,90,"bedrock, lithic",50,89,4,0.8,"none",null,null,"none"]
["HI801","Hawaii",660,{"$f":"IF(B561='Veg Guide Data Base'!$AD$1376,C561,FALSE)","v":false},"2371362","Olaa cobbly hydrous loam, 2 to 10 percent slopes","Olaa",null,90,"bedrock, lithic",31,32,4,3.4,"none",null,null,"none"]
["HI801","Hawaii",662,{"$f":"IF(B562='Veg Guide Data Base'!$AD$1376,C562,FALSE)","v":false},"2371364","Hakuma highly organic hydrous loam, 2 to 10 percent slopes","Hakuma",null,90,"bedrock, lithic",12,6,4,3,"none",null,null,"rare","very brief,"]
["HI801","Hawaii",664,{"$f":"IF(B563='Veg Guide Data Base'!$AD$1376,C563,FALSE)","v":false},"2371366","Opihikao highly decomposed plant material, 2 to 20 percent slopes","Opihikao",null,90,"bedrock, lithic",3,0,8,null,"none",null,null,"none"]
["HI801","Hawaii",665,{"$f":"IF(B564='Veg Guide Data Base'!$AD$1376,C564,FALSE)","v":false},"2371367","Iilewa cobbly hydrous highly organic silty clay loam, 30 to 80 percent slopes","Iilewa",null,85,"bedrock, lithic",28,24,60,5.0999999999999996,"none",null,null,"none"]
["HI801","Hawaii",666,{"$f":"IF(B565='Veg Guide Data Base'!$AD$1376,C565,FALSE)","v":false},"2435741","Hakuma highly organic hydrous loam, dry, 2 to 10 percent slopes","Hakuma","dry",90,"bedrock, lithic",12,6,4,3,"none",null,null,"rare","very brief,"]
["HI801","Hawaii",667,{"$f":"IF(B566='Veg Guide Data Base'!$AD$1376,C566,FALSE)","v":false},"2435742","Opihikao highly decomposed plant material, dry, 2 to 20 percent slopes","Opihikao","dry",90,"bedrock, lithic",3,0,8,null,"none",null,null,"none"]
["HI801","Hawaii",669,{"$f":"IF(B567='Veg Guide Data Base'!$AD$1376,C567,FALSE)","v":false},"2371368","Iilewa cobbly hydrous highly organic silty clay loam, 0 to 30 percent slopes","Iilewa",null,85,"bedrock, lithic",28,24,10,5.0999999999999996,"none",null,null,"none"]
["HI801","Hawaii",670,{"$f":"IF(B568='Veg Guide Data Base'!$AD$1376,C568,FALSE)","v":false},"2371369","Panaewa very cobbly hydrous loam, dry, 2 to 10 percent slopes","Panaewa","dry",85,"bedrock, lithic",16,65,3,2.8,"none",null,null,"occasional",",very brief","October, November"]
["HI801","Hawaii",671,{"$f":"IF(B569='Veg Guide Data Base'!$AD$1376,C569,FALSE)","v":false},"2371370","Olaa cobbly hydrous loam, dry, 2 to 10 percent slopes","Olaa","dry",95,"bedrock, lithic",31,32,4,3.4,"none",null,null,"none"]
["HI801","Hawaii",672,{"$f":"IF(B570='Veg Guide Data Base'!$AD$1376,C570,FALSE)","v":false},"2371371","Malama extremely cobbly highly decomposed plant material, dry, 2 to 40 percent slopes","Malama","dry",90,"bedrock, lithic",50,89,4,0.8,"none",null,null,"none"]
["HI801","Hawaii",673,{"$f":"IF(B571='Veg Guide Data Base'!$AD$1376,C571,FALSE)","v":false},"2371372","Malama-Lava flows complex, 2 to 40 percent slopes","Malama",null,60,"bedrock, lithic",50,89,10,0.8,"none",null,null,"none"]
["HI801","Hawaii",673,{"$f":"IF(B572='Veg Guide Data Base'!$AD$1376,C572,FALSE)","v":false},"2371372","Malama-Lava flows complex, 2 to 40 percent slopes","Lava flows","`a`a",40,"bedrock, lithic",39,95,10,0.2,"none",null,null,"none"]
["HI801","Hawaii",709,{"$f":"IF(B573='Veg Guide Data Base'!$AD$1376,C573,FALSE)","v":false},"2371373","Lava flows-Lithic Ustipsamments complex, 2 to 10 percent slopes","Lava flows","pahoehoe",60,"bedrock, lithic",0,0,8,0,"none",null,null,"none"]
["HI801","Hawaii",709,{"$f":"IF(B574='Veg Guide Data Base'!$AD$1376,C574,FALSE)","v":false},"2371373","Lava flows-Lithic Ustipsamments complex, 2 to 10 percent slopes","Lithic Ustipsamments",null,40,"bedrock, lithic",10,0,3,1,"none",null,null,"none"]
["HI801","Hawaii",711,{"$f":"IF(B575='Veg Guide Data Base'!$AD$1376,C575,FALSE)","v":false},"2371875","Lava flows-Apuki complex, 2 to 20 percent slopes","Lava flows","pahoehoe",65,"bedrock, lithic",0,0,8,0,"none",null,null,"none"]
["HI801","Hawaii",711,{"$f":"IF(B576='Veg Guide Data Base'!$AD$1376,C576,FALSE)","v":false},"2371875","Lava flows-Apuki complex, 2 to 20 percent slopes","Apuki",null,30,"bedrock, lithic",7,0,3,0.9,"none",null,null,"none"]
["HI801","Hawaii",716,{"$f":"IF(B577='Veg Guide Data Base'!$AD$1376,C577,FALSE)","v":false},"2371876","Alahapa extremely stony ashy sandy loam, 2 to 10 percent slopes","Alahapa",null,90,null,80,78,4,0.8,"none",null,null,"none"]
["HI801","Hawaii",717,{"$f":"IF(B578='Veg Guide Data Base'!$AD$1376,C578,FALSE)","v":false},"2371374","Alahapa-Lava flows complex, 2 to 10 percent slopes","Alahapa",null,50,null,80,78,4,0.8,"none",null,null,"none"]
["HI801","Hawaii",717,{"$f":"IF(B579='Veg Guide Data Base'!$AD$1376,C579,FALSE)","v":false},"2371374","Alahapa-Lava flows complex, 2 to 10 percent slopes","Lava flows","`a`a",40,"bedrock, lithic",39,95,8,0.2,"none",null,null,"none"]
["HI801","Hawaii",719,{"$f":"IF(B580='Veg Guide Data Base'!$AD$1376,C580,FALSE)","v":false},"2371877","Heake ashy loam, 2 to 10 percent slopes","Heake",null,85,"densic material",8,6,4,2.7,"none",null,null,"none"]
["HI801","Hawaii",720,{"$f":"IF(B581='Veg Guide Data Base'!$AD$1376,C581,FALSE)","v":false},"2371878","Heake-Lava flows complex, 2 to 10 percent slopes","Heake",null,45,"densic material",8,6,4,2.7,"none",null,null,"none"]
["HI801","Hawaii",720,{"$f":"IF(B582='Veg Guide Data Base'!$AD$1376,C582,FALSE)","v":false},"2371878","Heake-Lava flows complex, 2 to 10 percent slopes","Lava flows","pahoehoe",35,"bedrock, lithic",0,0,8,0,"none",null,null,"none"]
["HI801","Hawaii",725,{"$f":"IF(B583='Veg Guide Data Base'!$AD$1376,C583,FALSE)","v":false},"2495917","Lava flows-Kaholimo complex, 2 to 15 percent slopes","Lava flows","pahoehoe",55,"bedrock, lithic",0,0,8,0,"none",null,null,"none"]
["HI801","Hawaii",725,{"$f":"IF(B584='Veg Guide Data Base'!$AD$1376,C584,FALSE)","v":false},"2495917","Lava flows-Kaholimo complex, 2 to 15 percent slopes","Kaholimo",null,20,"bedrock, lithic",13,0,3,3.2,"none",null,null,"none"]
["HI801","Hawaii",726,{"$f":"IF(B585='Veg Guide Data Base'!$AD$1376,C585,FALSE)","v":false},"2371375","Kulalio silt loam, 2 to 10 percent slopes","Kulalio",null,88,null,80,26,4,3.1,"none",null,null,"none"]
["HI801","Hawaii",727,{"$f":"IF(B586='Veg Guide Data Base'!$AD$1376,C586,FALSE)","v":false},"2371879","Puaulu hydrous silt loam, 2 to 20 percent slopes","Puaulu",null,90,"densic material",12,6,4,4.9000000000000004,"none",null,null,"none"]
["HI801","Hawaii",728,{"$f":"IF(B587='Veg Guide Data Base'!$AD$1376,C587,FALSE)","v":false},"2371376","Puaulu-Hao complex, 2 to 20 percent slopes","Puaulu",null,65,"densic material",12,6,4,4.9000000000000004,"none",null,null,"none"]
["HI801","Hawaii",728,{"$f":"IF(B588='Veg Guide Data Base'!$AD$1376,C588,FALSE)","v":false},"2371376","Puaulu-Hao complex, 2 to 20 percent slopes","Hao",null,25,"placic",3,1,4,5.8,"none",null,null,"frequent, occasional","brief,","January, February, March, November, December"]
["HI801","Hawaii",729,{"$f":"IF(B589='Veg Guide Data Base'!$AD$1376,C589,FALSE)","v":false},"2371377","Eheuiki-Puaulu complex, 2 to 20 percent slopes","Eheuiki",null,60,null,80,1,4,6.3,"none",null,null,"none"]
["HI801","Hawaii",729,{"$f":"IF(B590='Veg Guide Data Base'!$AD$1376,C590,FALSE)","v":false},"2371377","Eheuiki-Puaulu complex, 2 to 20 percent slopes","Puaulu",null,40,"densic material",12,6,4,4.9000000000000004,"none",null,null,"none"]
["HI801","Hawaii",734,{"$f":"IF(B591='Veg Guide Data Base'!$AD$1376,C591,FALSE)","v":false},"2384139","Kanohina-Lava flows complex, 2 to 10 percent slopes","Kanohina",null,60,"bedrock, lithic",7,13,4,1.6,"none",null,null,"none"]
["HI801","Hawaii",734,{"$f":"IF(B592='Veg Guide Data Base'!$AD$1376,C592,FALSE)","v":false},"2384139","Kanohina-Lava flows complex, 2 to 10 percent slopes","Lava flows","pahoehoe",30,"bedrock, lithic",0,0,3,0,"none",null,null,"none"]
["HI801","Hawaii",735,{"$f":"IF(B593='Veg Guide Data Base'!$AD$1376,C593,FALSE)","v":false},"2371880","Puhimau ashy silt loam, 2 to 10 percent slopes","Puhimau",null,90,"bedrock, lithic",13,17,3,3.1,"none",null,null,"none"]
["HI801","Hawaii",736,{"$f":"IF(B594='Veg Guide Data Base'!$AD$1376,C594,FALSE)","v":false},"2371881","Manu medial silt loam, 2 to 10 percent slopes","Manu",null,92,"bedrock, lithic",34,23,4,3.8,"none",null,null,"none"]
["HI801","Hawaii",743,{"$f":"IF(B595='Veg Guide Data Base'!$AD$1376,C595,FALSE)","v":false},"2375673","Pakini medial very fine sandy loam, 2 to 10 percent slopes","Pakini",null,90,null,80,2,4,2,"none",null,null,"none"]
["HI801","Hawaii",744,{"$f":"IF(B596='Veg Guide Data Base'!$AD$1376,C596,FALSE)","v":false},"2371378","Haa-Keamoku complex, 2 to 10 percent slopes","Haa",null,45,"bedrock, lithic",43,5,4,5.5,"none",null,null,"none"]
["HI801","Hawaii",744,{"$f":"IF(B597='Veg Guide Data Base'!$AD$1376,C597,FALSE)","v":false},"2371378","Haa-Keamoku complex, 2 to 10 percent slopes","Keamoku",null,40,null,80,0,4,4.9000000000000004,"none",null,null,"none"]
["HI801","Hawaii",745,{"$f":"IF(B598='Veg Guide Data Base'!$AD$1376,C598,FALSE)","v":false},"2371379","Maunaiu-Akelelu complex, 3 to 10 percent slopes","Maunaiu",null,60,"bedrock, lithic",19,0,4,5.7,"none",null,null,"none"]
["HI801","Hawaii",745,{"$f":"IF(B599='Veg Guide Data Base'!$AD$1376,C599,FALSE)","v":false},"2371379","Maunaiu-Akelelu complex, 3 to 10 percent slopes","Akelelu",null,25,"bedrock, lithic",34,0,4,5.6,"none",null,null,"none"]
["HI801","Hawaii",746,{"$f":"IF(B600='Veg Guide Data Base'!$AD$1376,C600,FALSE)","v":false},"2371380","Kulalio-Maunaiu-Akelelu complex, 3 to 10 percent slopes","Kulalio",null,40,null,80,26,4,3.1,"none",null,null,"none"]
["HI801","Hawaii",746,{"$f":"IF(B601='Veg Guide Data Base'!$AD$1376,C601,FALSE)","v":false},"2371380","Kulalio-Maunaiu-Akelelu complex, 3 to 10 percent slopes","Maunaiu",null,30,"bedrock, lithic",19,0,4,5.7,"none",null,null,"none"]
["HI801","Hawaii",746,{"$f":"IF(B602='Veg Guide Data Base'!$AD$1376,C602,FALSE)","v":false},"2371380","Kulalio-Maunaiu-Akelelu complex, 3 to 10 percent slopes","Akelelu",null,20,"bedrock, lithic",34,0,4,5.6,"none",null,null,"none"]
["HI801","Hawaii",747,{"$f":"IF(B603='Veg Guide Data Base'!$AD$1376,C603,FALSE)","v":false},"2371381","Oneula extremely stony loam, 2 to 10 percent slopes","Oneula",null,90,null,80,86,4,0.8,"none",null,null,"none"]
["HI801","Hawaii",748,{"$f":"IF(B604='Veg Guide Data Base'!$AD$1376,C604,FALSE)","v":false},"2371382","Lava flows-Menehune complex, 2 to 20 percent slopes","Lava flows","pahoehoe",65,"bedrock, lithic",0,0,12,0,"none",null,null,"none"]
["HI801","Hawaii",748,{"$f":"IF(B605='Veg Guide Data Base'!$AD$1376,C605,FALSE)","v":false},"2371382","Lava flows-Menehune complex, 2 to 20 percent slopes","Menehune",null,25,"bedrock, lithic",14,0,4,2.7,"none",null,null,"none"]
["HI801","Hawaii",749,{"$f":"IF(B606='Veg Guide Data Base'!$AD$1376,C606,FALSE)","v":false},"2371882","Wahi extremely cobbly medial loam, 2 to 20 percent slopes","Wahi",null,76,null,80,80,4,1.4,"none",null,null,"none"]
["HI801","Hawaii",750,{"$f":"IF(B607='Veg Guide Data Base'!$AD$1376,C607,FALSE)","v":false},"2371383","Ki medial loam, 3 to 10 percent slopes","Ki",null,85,null,80,15,4,3.2,"none",null,null,"none"]
["HI801","Hawaii",752,{"$f":"IF(B608='Veg Guide Data Base'!$AD$1376,C608,FALSE)","v":false},"2371884","Oneula-Keamoku-Maunaiu complex, 2 to 10 percent slopes","Oneula","low elevation",40,null,80,86,4,0.8,"none",null,null,"none"]
["HI801","Hawaii",752,{"$f":"IF(B609='Veg Guide Data Base'!$AD$1376,C609,FALSE)","v":false},"2371884","Oneula-Keamoku-Maunaiu complex, 2 to 10 percent slopes","Keamoku",null,30,null,80,0,4,4.9000000000000004,"none",null,null,"none"]
["HI801","Hawaii",752,{"$f":"IF(B610='Veg Guide Data Base'!$AD$1376,C610,FALSE)","v":false},"2371884","Oneula-Keamoku-Maunaiu complex, 2 to 10 percent slopes","Maunaiu",null,20,"bedrock, lithic",19,0,4,5.7,"none",null,null,"none"]
["HI801","Hawaii",755,{"$f":"IF(B611='Veg Guide Data Base'!$AD$1376,C611,FALSE)","v":false},"2371885","Makaopuhi very paragravelly highly decomposed plant material, 2 to 10 percent slopes","Makaopuhi",null,88,"bedrock, lithic",6,20,3,1.1000000000000001,"none",null,null,"none"]
["HI801","Hawaii",801,{"$f":"IF(B612='Veg Guide Data Base'!$AD$1376,C612,FALSE)","v":false},"2371839","Puu Pa-Waikaloa complex, 2 to 10 percent slopes","Puu Pa",null,70,"bedrock, lithic",50,46,7,1.6,"none",null,null,"none"]
["HI801","Hawaii",801,{"$f":"IF(B613='Veg Guide Data Base'!$AD$1376,C613,FALSE)","v":false},"2371839","Puu Pa-Waikaloa complex, 2 to 10 percent slopes","Waikaloa",null,20,"bedrock, lithic",65,4,4,5.0999999999999996,"none",null,null,"none"]
["HI801","Hawaii",802,{"$f":"IF(B614='Veg Guide Data Base'!$AD$1376,C614,FALSE)","v":false},"2371840","Puu Pa complex, 2 to 20 percent slopes","Puu Pa","extremely stony",65,"bedrock, lithic",50,80,12,1.6,"none",null,null,"none"]
["HI801","Hawaii",802,{"$f":"IF(B615='Veg Guide Data Base'!$AD$1376,C615,FALSE)","v":false},"2371840","Puu Pa complex, 2 to 20 percent slopes","Puu Pa",null,25,"bedrock, lithic",50,50,12,1.6,"none",null,null,"none"]
["HI801","Hawaii",804,{"$f":"IF(B616='Veg Guide Data Base'!$AD$1376,C616,FALSE)","v":false},"2371841","Waimea-Kemole complex, 2 to 20 percent slopes","Waimea","medial very fine sandy loam",55,"bedrock, lithic",59,4,12,5.0999999999999996,"none",null,null,"none"]
["HI801","Hawaii",804,{"$f":"IF(B617='Veg Guide Data Base'!$AD$1376,C617,FALSE)","v":false},"2371841","Waimea-Kemole complex, 2 to 20 percent slopes","Kemole",null,45,null,80,67,12,2.2000000000000002,"none",null,null,"none"]
["HI801","Hawaii",805,{"$f":"IF(B618='Veg Guide Data Base'!$AD$1376,C618,FALSE)","v":false},"2495911","Kemole extremely stony medial very fine sandy loam, dry, 2 to 12 percent slopes","Kemole","dry",95,null,80,67,8,2.2000000000000002,"none",null,null,"none"]
["HI801","Hawaii",806,{"$f":"IF(B619='Veg Guide Data Base'!$AD$1376,C619,FALSE)","v":false},"2371842","Kilohana medial very fine sandy loam, 10 to 20 percent slopes","Kilohana",null,95,"cemented horizon",11,3,13,4.2,"none",null,null,"none"]
["HI801","Hawaii",807,{"$f":"IF(B620='Veg Guide Data Base'!$AD$1376,C620,FALSE)","v":false},"2371843","Kilohana medial loamy sand, 20 to 40 percent slopes","Kilohana","medial loamy sand",100,"cemented horizon",5,0,30,3.9,"none",null,null,"none"]
["HI801","Hawaii",808,{"$f":"IF(B621='Veg Guide Data Base'!$AD$1376,C621,FALSE)","v":false},"2371844","Kemole-Waimea complex, 12 to 20 percent slopes","Kemole",null,55,null,80,67,15,2.2000000000000002,"none",null,null,"none"]
["HI801","Hawaii",808,{"$f":"IF(B622='Veg Guide Data Base'!$AD$1376,C622,FALSE)","v":false},"2371844","Kemole-Waimea complex, 12 to 20 percent slopes","Waimea","medial very fine sandy loam",45,"bedrock, lithic",59,4,15,5.0999999999999996,"none",null,null,"none"]
["HI801","Hawaii",809,{"$f":"IF(B623='Veg Guide Data Base'!$AD$1376,C623,FALSE)","v":false},"2371845","Waimea medial very fine sandy loam, dry, 0 to 6 percent slopes","Waimea","dry",90,"bedrock, lithic",59,4,4,5.0999999999999996,"none",null,null,"none"]
["HI801","Hawaii",811,{"$f":"IF(B624='Veg Guide Data Base'!$AD$1376,C624,FALSE)","v":false},"2371847","Waimea medial very fine sandy loam, dry, 6 to 12 percent slopes","Waimea","dry",85,"bedrock, lithic",59,4,9,5.0999999999999996,"none",null,null,"none"]
["HI801","Hawaii",812,{"$f":"IF(B625='Veg Guide Data Base'!$AD$1376,C625,FALSE)","v":false},"2371848","Kemole extremely stony medial very fine sandy loam, dry, 12 to 20 percent slopes","Kemole","dry",95,null,80,67,14,2.2000000000000002,"none",null,null,"none"]
["HI801","Hawaii",813,{"$f":"IF(B626='Veg Guide Data Base'!$AD$1376,C626,FALSE)","v":false},"2371849","Kilohana medial very fine sandy loam, dry, 10 to 20 percent slopes","Kilohana","dry",85,"cemented horizon",19,3,13,4.2,"none",null,null,"none"]
["HI801","Hawaii",814,{"$f":"IF(B627='Veg Guide Data Base'!$AD$1376,C627,FALSE)","v":false},"2371850","Lapa extremely cobbly medial fine sandy loam, 20 to 40 percent slopes","Lapa",null,80,"bedrock, lithic",11,46,30,1.7,"none",null,null,"none"]
["HI801","Hawaii",815,{"$f":"IF(B628='Veg Guide Data Base'!$AD$1376,C628,FALSE)","v":false},"2495912","Pohakulehu cobbly ashy loamy fine sand, 20 to 40 percent slopes","Pohakulehu","cobbly ashy loamy fine sand",85,null,80,32,30,2.2000000000000002,"none",null,null,"none"]
["HI801","Hawaii",816,{"$f":"IF(B629='Veg Guide Data Base'!$AD$1376,C629,FALSE)","v":false},"2495914","Kemole-Waimea complex, dry, 2 to 12 percent slopes","Kemole","dry",75,null,80,67,7,2.2000000000000002,"none",null,null,"none"]
["HI801","Hawaii",816,{"$f":"IF(B630='Veg Guide Data Base'!$AD$1376,C630,FALSE)","v":false},"2495914","Kemole-Waimea complex, dry, 2 to 12 percent slopes","Waimea","dry",25,"bedrock, lithic",59,4,7,5.0999999999999996,"none",null,null,"none"]
["HI801","Hawaii",817,{"$f":"IF(B631='Veg Guide Data Base'!$AD$1376,C631,FALSE)","v":false},"2495915","Kemole extremely stony medial very fine sandy loam, dry, 35 to 70 percent slopes","Kemole","dry",95,null,80,67,55,2.2000000000000002,"none",null,null,"none"]
["HI801","Hawaii",818,{"$f":"IF(B632='Veg Guide Data Base'!$AD$1376,C632,FALSE)","v":false},"2371851","Pohakulehu-Lanapohaku complex, dry, 12 to 20 percent slopes","Pohakulehu","dry",60,null,80,40,15,2.2000000000000002,"none",null,null,"none"]
["HI801","Hawaii",818,{"$f":"IF(B633='Veg Guide Data Base'!$AD$1376,C633,FALSE)","v":false},"2371851","Pohakulehu-Lanapohaku complex, dry, 12 to 20 percent slopes","Lanapohaku","dry",40,null,80,10,13,2.4,"none",null,null,"none"]
["HI801","Hawaii",820,{"$f":"IF(B634='Veg Guide Data Base'!$AD$1376,C634,FALSE)","v":false},"2371853","Pohakulehu very stony highly organic medial sandy loam, dry, 20 to 40 percent slopes","Pohakulehu","dry",90,null,80,40,25,2.2000000000000002,"none",null,null,"none"]
["HI801","Hawaii",821,{"$f":"IF(B635='Veg Guide Data Base'!$AD$1376,C635,FALSE)","v":false},"2371854","Kemole-Kilohana complex, 12 to 20 percent slopes","Kemole",null,65,null,80,67,19,2.2000000000000002,"none",null,null,"none"]
["HI801","Hawaii",821,{"$f":"IF(B636='Veg Guide Data Base'!$AD$1376,C636,FALSE)","v":false},"2371854","Kemole-Kilohana complex, 12 to 20 percent slopes","Kilohana",null,35,"cemented horizon",19,3,13,4.2,"none",null,null,"none"]
["HI801","Hawaii",822,{"$f":"IF(B637='Veg Guide Data Base'!$AD$1376,C637,FALSE)","v":false},"2371855","Pohakulehu very cobbly medial very fine sandy loam, 12 to 20 percent slopes","Pohakulehu","very cobbly medial very fine sandy loam",95,null,80,40,15,2.2000000000000002,"none",null,null,"none"]
["HI801","Hawaii",823,{"$f":"IF(B638='Veg Guide Data Base'!$AD$1376,C638,FALSE)","v":false},"2371856","Pohakulehu-Lapa complex, 20 to 40 percent slopes","Pohakulehu",null,60,null,80,40,30,2.2000000000000002,"none",null,null,"none"]
["HI801","Hawaii",823,{"$f":"IF(B639='Veg Guide Data Base'!$AD$1376,C639,FALSE)","v":false},"2371856","Pohakulehu-Lapa complex, 20 to 40 percent slopes","Lapa",null,35,"bedrock, lithic",11,46,30,1.7,"none",null,null,"none"]
["HI801","Hawaii",825,{"$f":"IF(B640='Veg Guide Data Base'!$AD$1376,C640,FALSE)","v":false},"2375448","Puako, dry substratum, 3 to 6 percent slopes","Puako","dry substratum",100,null,80,0,3,4.8,"occasional","very brief","January, February, March, April, May, June, July, August, September, October, November, December","none"]
["HI801","Hawaii",826,{"$f":"IF(B641='Veg Guide Data Base'!$AD$1376,C641,FALSE)","v":false},"2371858","Pohakulehu cobbly ashy loamy fine sand, 6 to 12 percent slopes","Pohakulehu","cobbly ashy loamy fine sand",85,null,80,32,10,2.2000000000000002,"none",null,null,"none"]
["HI801","Hawaii",827,{"$f":"IF(B642='Veg Guide Data Base'!$AD$1376,C642,FALSE)","v":false},"2371859","Pohakulehu cobbly ashy loamy fine sand, 12 to 20 percent slopes","Pohakulehu","cobbly ashy loamy fine sand",85,null,80,32,17,2.2000000000000002,"none",null,null,"none"]
["HI801","Hawaii",828,{"$f":"IF(B643='Veg Guide Data Base'!$AD$1376,C643,FALSE)","v":false},"2371860","Kemole-Waimea extremely cobbly substratum complex, 12 to 20 percent slopes","Kemole",null,50,null,80,67,19,2.2000000000000002,"none",null,null,"none"]
["HI801","Hawaii",828,{"$f":"IF(B644='Veg Guide Data Base'!$AD$1376,C644,FALSE)","v":false},"2371860","Kemole-Waimea extremely cobbly substratum complex, 12 to 20 percent slopes","Waimea","extremely cobbly substratum",50,"bedrock, lithic",59,4,12,5.0999999999999996,"none",null,null,"none"]
["HI801","Hawaii",829,{"$f":"IF(B645='Veg Guide Data Base'!$AD$1376,C645,FALSE)","v":false},"2371861","Lanapohaku-Lava flows complex, 6 to 40 percent slopes","Lanapohaku","cobbly ashy loamy fine sand",65,null,80,20,8,1.4,"none",null,null,"none"]
["HI801","Hawaii",829,{"$f":"IF(B646='Veg Guide Data Base'!$AD$1376,C646,FALSE)","v":false},"2371861","Lanapohaku-Lava flows complex, 6 to 40 percent slopes","Lava flows","`a`a",30,"bedrock, lithic",39,95,30,0.2,"none",null,null,"none"]
["HI801","Hawaii",830,{"$f":"IF(B647='Veg Guide Data Base'!$AD$1376,C647,FALSE)","v":false},"2371862","Huikau ashy sandy loam, 30 to 50 percent slopes","Huikau",null,90,"abrupt textural change",45,14,40,1.4,"none",null,null,"none"]
["HI801","Hawaii",831,{"$f":"IF(B648='Veg Guide Data Base'!$AD$1376,C648,FALSE)","v":false},"2371863","Lava flows-Lapa-Pohakulehu complex, 30 to 50 percent slopes","Lava flows","`a`a",35,"bedrock, lithic",39,95,45,0.2,"none",null,null,"none"]
["HI801","Hawaii",831,{"$f":"IF(B649='Veg Guide Data Base'!$AD$1376,C649,FALSE)","v":false},"2371863","Lava flows-Lapa-Pohakulehu complex, 30 to 50 percent slopes","Lapa",null,30,"bedrock, lithic",11,46,35,1.7,"none",null,null,"none"]
["HI801","Hawaii",831,{"$f":"IF(B650='Veg Guide Data Base'!$AD$1376,C650,FALSE)","v":false},"2371863","Lava flows-Lapa-Pohakulehu complex, 30 to 50 percent slopes","Pohakulehu",null,30,null,80,40,35,2.2000000000000002,"none",null,null,"none"]
["HI801","Hawaii",832,{"$f":"IF(B651='Veg Guide Data Base'!$AD$1376,C651,FALSE)","v":false},"2494441","Keekee ashy loamy sand, 0 to 6 percent slopes","Keekee",null,90,"densic material",16,28,3,1.4,"rare, occasional","very brief","January, February, March, November, December","none"]
["HI801","Hawaii",834,{"$f":"IF(B652='Veg Guide Data Base'!$AD$1376,C652,FALSE)","v":false},"2371865","Lanapohaku-Huikau-Dune land complex, 30 to 50 percent slopes","Lanapohaku",null,40,null,80,10,30,2.4,"none",null,null,"none"]
["HI801","Hawaii",834,{"$f":"IF(B653='Veg Guide Data Base'!$AD$1376,C653,FALSE)","v":false},"2371865","Lanapohaku-Huikau-Dune land complex, 30 to 50 percent slopes","Huikau",null,35,"abrupt textural change",45,14,40,1.4,"none",null,null,"none"]
["HI801","Hawaii",834,{"$f":"IF(B654='Veg Guide Data Base'!$AD$1376,C654,FALSE)","v":false},"2371865","Lanapohaku-Huikau-Dune land complex, 30 to 50 percent slopes","Dune land",null,20,null,80,0,40,null,"none",null,null,"none"]
["HI801","Hawaii",835,{"$f":"IF(B655='Veg Guide Data Base'!$AD$1376,C655,FALSE)","v":false},"2371866","Pohakulehu-Lava flows complex, 20 to 40 percent slopes","Pohakulehu","dry",60,null,80,40,25,2.2000000000000002,"none",null,null,"none"]
["HI801","Hawaii",835,{"$f":"IF(B656='Veg Guide Data Base'!$AD$1376,C656,FALSE)","v":false},"2371866","Pohakulehu-Lava flows complex, 20 to 40 percent slopes","Lava flows","`a`a",35,"bedrock, lithic",39,95,30,0.2,"none",null,null,"none"]
["HI801","Hawaii",836,{"$f":"IF(B657='Veg Guide Data Base'!$AD$1376,C657,FALSE)","v":false},"2371867","Pohakulehu very stony highly organic medial sandy loam, cool, 20 to 40 percent slopes","Pohakulehu","cool",85,null,80,40,25,2.2000000000000002,"none",null,null,"none"]
["HI801","Hawaii",837,{"$f":"IF(B658='Veg Guide Data Base'!$AD$1376,C658,FALSE)","v":false},"2371868","Lava flows-Lapa-Pohakulehu complex, cool, 30 to 50 percent slopes","Lava flows","`a`a",35,"bedrock, lithic",39,95,45,0.2,"none",null,null,"none"]
["HI801","Hawaii",837,{"$f":"IF(B659='Veg Guide Data Base'!$AD$1376,C659,FALSE)","v":false},"2371868","Lava flows-Lapa-Pohakulehu complex, cool, 30 to 50 percent slopes","Pohakulehu","cool",30,null,80,40,35,2.2000000000000002,"none",null,null,"none"]
["HI801","Hawaii",837,{"$f":"IF(B660='Veg Guide Data Base'!$AD$1376,C660,FALSE)","v":false},"2371868","Lava flows-Lapa-Pohakulehu complex, cool, 30 to 50 percent slopes","Lapa","cool",30,"bedrock, lithic",11,46,35,1.7,"none",null,null,"none"]
["HI801","Hawaii",839,{"$f":"IF(B661='Veg Guide Data Base'!$AD$1376,C661,FALSE)","v":false},"2371870","Huikau very gravelly ashy sandy loam, 30 to 50 percent slopes","Huikau","very gravelly",90,"abrupt textural change",45,43,40,1.4,"none",null,null,"none"]
["HI801","Hawaii",840,{"$f":"IF(B662='Veg Guide Data Base'!$AD$1376,C662,FALSE)","v":false},"2371871","Pohakulehu-Lanapohaku complex, 12 to 20 percent slopes","Pohakulehu",null,60,null,80,40,16,2.2000000000000002,"none",null,null,"none"]
["HI801","Hawaii",840,{"$f":"IF(B663='Veg Guide Data Base'!$AD$1376,C663,FALSE)","v":false},"2371871","Pohakulehu-Lanapohaku complex, 12 to 20 percent slopes","Lanapohaku",null,40,null,80,10,13,2.4,"none",null,null,"none"]
["HI801","Hawaii",841,{"$f":"IF(B664='Veg Guide Data Base'!$AD$1376,C664,FALSE)","v":false},"2371872","Alaone-Keekee complex, 2 to 6 percent slopes","Alaone",null,60,null,80,80,5,1,"none",null,null,"none"]
["HI801","Hawaii",841,{"$f":"IF(B665='Veg Guide Data Base'!$AD$1376,C665,FALSE)","v":false},"2371872","Alaone-Keekee complex, 2 to 6 percent slopes","Keekee",null,35,"densic material",16,28,3,1.4,"rare, occasional","very brief","January, February, March, November, December","none"]
["HI801","Hawaii",842,{"$f":"IF(B666='Veg Guide Data Base'!$AD$1376,C666,FALSE)","v":false},"2371873","Pohakulehu-Lanapohaku complex, moist, 12 to 20 percent slopes","Pohakulehu","moist",60,null,80,40,16,2.2000000000000002,"none",null,null,"none"]
["HI801","Hawaii",842,{"$f":"IF(B667='Veg Guide Data Base'!$AD$1376,C667,FALSE)","v":false},"2371873","Pohakulehu-Lanapohaku complex, moist, 12 to 20 percent slopes","Lanapohaku","moist",40,null,80,10,13,2.4,"none",null,null,"none"]
["HI801","Hawaii",843,{"$f":"IF(B668='Veg Guide Data Base'!$AD$1376,C668,FALSE)","v":false},"2421568","Puu Oo highly organic hydrous silty clay loam, 6 to 20 percent slopes","Puu Oo","highly organic hydrous silty clay loam",95,"bedrock, paralithic",59,0,13,5.2,"none",null,null,"none"]
["HI801","Hawaii",844,{"$f":"IF(B669='Veg Guide Data Base'!$AD$1376,C669,FALSE)","v":false},"2421569","Keamoku-Laumaia complex, 6 to 20 percent slopes","Keamoku","extremely cobbly",55,null,80,80,16,3,"none",null,null,"none"]
["HI801","Hawaii",844,{"$f":"IF(B670='Veg Guide Data Base'!$AD$1376,C670,FALSE)","v":false},"2421569","Keamoku-Laumaia complex, 6 to 20 percent slopes","Laumaia",null,35,"bedrock, paralithic",35,0,10,6.5,"none",null,null,"none"]
["HI801","Hawaii",845,{"$f":"IF(B671='Veg Guide Data Base'!$AD$1376,C671,FALSE)","v":false},"2421570","Keamoku extremely cobbly medial loam, 10 to 20 percent slopes","Keamoku","extremely cobbly",90,null,80,80,16,3,"none",null,null,"none"]
["HI801","Hawaii",846,{"$f":"IF(B672='Veg Guide Data Base'!$AD$1376,C672,FALSE)","v":false},"2421571","Lanapohaku-Pohakulehu-Lava flows complex, 6 to 20 percent slopes","Lanapohaku",null,45,null,80,10,12,2.4,"none",null,null,"none"]
["HI801","Hawaii",846,{"$f":"IF(B673='Veg Guide Data Base'!$AD$1376,C673,FALSE)","v":false},"2421571","Lanapohaku-Pohakulehu-Lava flows complex, 6 to 20 percent slopes","Pohakulehu",null,35,null,80,40,16,2.2000000000000002,"none",null,null,"none"]
["HI801","Hawaii",846,{"$f":"IF(B674='Veg Guide Data Base'!$AD$1376,C674,FALSE)","v":false},"2421571","Lanapohaku-Pohakulehu-Lava flows complex, 6 to 20 percent slopes","Lava flows","`a`a",20,"bedrock, lithic",39,95,16,0.2,"none",null,null,"none"]
["HI801","Hawaii",848,{"$f":"IF(B675='Veg Guide Data Base'!$AD$1376,C675,FALSE)","v":false},"2421573","Laumaia medial silt loam, 2 to 20 percent slopes","Laumaia",null,90,"bedrock, paralithic",35,0,8,6.5,"none",null,null,"none"]
["HI801","Hawaii",849,{"$f":"IF(B676='Veg Guide Data Base'!$AD$1376,C676,FALSE)","v":false},"2421574","Kau very cobbly highly organic medial loam, 6 to 20 percent slopes","Kau","very cobbly highly organic medial loam",100,"bedrock, lithic",40,42,12,4.2,"none",null,null,"none"]
["HI801","Hawaii",850,{"$f":"IF(B677='Veg Guide Data Base'!$AD$1376,C677,FALSE)","v":false},"2421575","Kaiwiki highly organic hydrous silty clay loam, 6 to 20 percent slopes","Kaiwiki","highly organic hydrous silty clay loam",90,null,80,2,12,5.9,"none",null,null,"none"]
["HI801","Hawaii",851,{"$f":"IF(B678='Veg Guide Data Base'!$AD$1376,C678,FALSE)","v":false},"2421576","Waiakea very cobbly hydrous loam, 10 to 20 percent slopes","Waiakea","very cobbly hydrous loam",95,"bedrock, lithic",39,41,14,4.5999999999999996,"none",null,null,"none"]
["HI801","Hawaii",900,{"$f":"IF(B679='Veg Guide Data Base'!$AD$1376,C679,FALSE)","v":false},"2371874","Kaiwiki hydrous silty clay loam, 0 to 10 percent slopes","Kaiwiki","hydrous silty clay loam",90,null,80,2,7,5.9,"none",null,null,"none"]
["HI801","Hawaii",901,{"$f":"IF(B680='Veg Guide Data Base'!$AD$1376,C680,FALSE)","v":false},"2424226","Hilo hydrous silty clay loam, 0 to 10 percent slopes","Hilo",null,85,null,80,2,5,5.2,"none",null,null,"none"]
["HI801","Hawaii",902,{"$f":"IF(B681='Veg Guide Data Base'!$AD$1376,C681,FALSE)","v":false},"2424227","Hilo hydrous silty clay loam, 20 to 35 percent slopes","Hilo",null,80,null,80,2,30,5.2,"none",null,null,"none"]
["HI801","Hawaii",903,{"$f":"IF(B682='Veg Guide Data Base'!$AD$1376,C682,FALSE)","v":false},"2424228","Hilo hydrous silty clay loam, 10 to 20 percent slopes","Hilo",null,80,null,80,2,15,5.2,"none",null,null,"none"]
["HI801","Hawaii",904,{"$f":"IF(B683='Veg Guide Data Base'!$AD$1376,C683,FALSE)","v":false},"2431435","Akaka-Onomea complex, 0 to 10 percent slopes","Akaka",null,50,"bedrock, lithic",49,0,3,5.9,"none",null,null,"frequent","very brief,","January, February, March, November, December"]
["HI801","Hawaii",904,{"$f":"IF(B684='Veg Guide Data Base'!$AD$1376,C684,FALSE)","v":false},"2431435","Akaka-Onomea complex, 0 to 10 percent slopes","Onomea",null,40,"bedrock, lithic",49,0,2,8.3000000000000007,"none",null,null,"frequent","very long","January, February, March, April, May, June, July, August, September, October, November, December"]
["HI801","Hawaii",905,{"$f":"IF(B685='Veg Guide Data Base'!$AD$1376,C685,FALSE)","v":false},"2431209","Akaka-Kaiwiki complex, 0 to 10 percent slopes","Akaka",null,55,"bedrock, lithic",49,0,3,5.9,"none",null,null,"frequent","very brief,","January, February, March, November, December"]
["HI801","Hawaii",905,{"$f":"IF(B686='Veg Guide Data Base'!$AD$1376,C686,FALSE)","v":false},"2431209","Akaka-Kaiwiki complex, 0 to 10 percent slopes","Kaiwiki","highly organic hydrous silty clay loam",35,null,80,2,7,5.9,"none",null,null,"none"]
["HI801","Hawaii",906,{"$f":"IF(B687='Veg Guide Data Base'!$AD$1376,C687,FALSE)","v":false},"2431211","Kaiwiki hydrous silty clay loam, 10 to 20 percent slopes","Kaiwiki","hydrous silty clay loam",90,null,80,2,12,5.9,"none",null,null,"none"]
["HI801","Hawaii",907,{"$f":"IF(B688='Veg Guide Data Base'!$AD$1376,C688,FALSE)","v":false},"2431212","Kaiwiki hydrous silty clay loam, 20 to 35 percent","Kaiwiki","hydrous silty clay loam",90,null,80,2,30,5.9,"none",null,null,"none"]
["HI801","Hawaii",908,{"$f":"IF(B689='Veg Guide Data Base'!$AD$1376,C689,FALSE)","v":false},"2431213","Kaiwiki-Rock outcrop complex, 35 to 100 percent slopes","Kaiwiki","hydrous silty clay loam",65,null,80,2,70,5.9,"none",null,null,"none"]
["HI801","Hawaii",908,{"$f":"IF(B690='Veg Guide Data Base'!$AD$1376,C690,FALSE)","v":false},"2431213","Kaiwiki-Rock outcrop complex, 35 to 100 percent slopes","Rock outcrop","basalt",25,null,80,0,70,null,"none",null,null,"none"]
["HI801","Hawaii",909,{"$f":"IF(B691='Veg Guide Data Base'!$AD$1376,C691,FALSE)","v":false},"2431216","Hilo-Rock outcrop complex, 35 to 100 percent slopes","Hilo",null,65,null,80,2,75,5.2,"none",null,null,"none"]
["HI801","Hawaii",909,{"$f":"IF(B692='Veg Guide Data Base'!$AD$1376,C692,FALSE)","v":false},"2431216","Hilo-Rock outcrop complex, 35 to 100 percent slopes","Rock outcrop","basalt",35,null,80,0,100,null,"none",null,null,"none"]
["HI801","Hawaii",910,{"$f":"IF(B693='Veg Guide Data Base'!$AD$1376,C693,FALSE)","v":false},"2495916","Laumaia medial silt loam, 20 to 50 percent slopes","Laumaia",null,80,"bedrock, paralithic",35,0,35,6.5,"none",null,null,"none"]
["HI801","Hawaii",911,{"$f":"IF(B694='Veg Guide Data Base'!$AD$1376,C694,FALSE)","v":false},"2512246","Puu Oo-Kau-Rock outcrop complex, 6 to 35 percent slopes","Puu Oo","highly organic medial loam",60,"bedrock, paralithic",59,0,20,5.2,"none",null,null,"none"]
["HI801","Hawaii",911,{"$f":"IF(B695='Veg Guide Data Base'!$AD$1376,C695,FALSE)","v":false},"2512246","Puu Oo-Kau-Rock outcrop complex, 6 to 35 percent slopes","Kau","very cobbly highly organic medial loam",20,"bedrock, lithic",40,42,20,4.2,"none",null,null,"none"]
["HI801","Hawaii",911,{"$f":"IF(B696='Veg Guide Data Base'!$AD$1376,C696,FALSE)","v":false},"2512246","Puu Oo-Kau-Rock outcrop complex, 6 to 35 percent slopes","Rock outcrop","basalt",20,null,80,0,20,null,"none",null,null,"none"]
["HI801","Hawaii",951,{"$f":"IF(B697='Veg Guide Data Base'!$AD$1376,C697,FALSE)","v":false},"2452925","Ookala medial silty clay loam, 0 to 10 percent slopes","Ookala",null,95,null,80,0,5,3,"none",null,null,"none"]
["HI801","Hawaii",952,{"$f":"IF(B698='Veg Guide Data Base'!$AD$1376,C698,FALSE)","v":false},"2437839","Ookala medial silty clay loam, 10 to 20 percent slopes","Ookala",null,95,null,80,0,15,3,"none",null,null,"none"]
["HI801","Hawaii",953,{"$f":"IF(B699='Veg Guide Data Base'!$AD$1376,C699,FALSE)","v":false},"2452926","Ookala medial silty clay loam, 20 to 35 percent slopes","Ookala",null,95,null,80,0,25,3,"none",null,null,"none"]
["HI801","Hawaii",954,{"$f":"IF(B700='Veg Guide Data Base'!$AD$1376,C700,FALSE)","v":false},"2452927","Ookala-Rock outcrop complex, 35 to 100 percent slopes","Ookala",null,55,null,80,0,75,3,"none",null,null,"none"]
["HI801","Hawaii",954,{"$f":"IF(B701='Veg Guide Data Base'!$AD$1376,C701,FALSE)","v":false},"2452927","Ookala-Rock outcrop complex, 35 to 100 percent slopes","Rock outcrop","basalt",45,null,80,0,75,null,"none",null,null,"none"]
["HI801","Hawaii",955,{"$f":"IF(B702='Veg Guide Data Base'!$AD$1376,C702,FALSE)","v":false},"2452583","Honokaa highly organic hydrous silty clay loam, 0 to 10 percent","Honokaa",null,85,null,80,2,5,5.9,"none",null,null,"none"]
["HI801","Hawaii",956,{"$f":"IF(B703='Veg Guide Data Base'!$AD$1376,C703,FALSE)","v":false},"2452584","Honokaa highly organic hydrous silty clay loam, 10 to 20 percent slopes","Honokaa",null,85,null,80,2,15,5.9,"none",null,null,"none"]
["HI801","Hawaii",957,{"$f":"IF(B704='Veg Guide Data Base'!$AD$1376,C704,FALSE)","v":false},"2452585","Honokaa highly organic hydrous silty clay loam, 20 to 35 percent slopes","Honokaa",null,85,null,80,2,28,5.9,"none",null,null,"none"]
["HI801","Hawaii",958,{"$f":"IF(B705='Veg Guide Data Base'!$AD$1376,C705,FALSE)","v":false},"2452929","Honokaa-Rock outcrop complex, 35 to 100 percent slopes","Honokaa",null,55,null,80,2,75,5.9,"none",null,null,"none"]
["HI801","Hawaii",958,{"$f":"IF(B706='Veg Guide Data Base'!$AD$1376,C706,FALSE)","v":false},"2452929","Honokaa-Rock outcrop complex, 35 to 100 percent slopes","Rock outcrop","basalt",45,null,80,0,75,null,"none",null,null,"none"]
["HI801","Hawaii",959,{"$f":"IF(B707='Veg Guide Data Base'!$AD$1376,C707,FALSE)","v":false},"2452586","Paauhau medial silty clay loam, 10 to 20 percent slopes","Paauhau",null,95,"bedrock, paralithic",41,5,16,4.9000000000000004,"none",null,null,"none"]
["HI801","Hawaii",960,{"$f":"IF(B708='Veg Guide Data Base'!$AD$1376,C708,FALSE)","v":false},"2452587","Honokaa hydrous silty clay loam, warm, 0 to 10 percent slopes","Honokaa","warm",90,null,80,4,5,5.9,"none",null,null,"none"]
["HI801","Hawaii",961,{"$f":"IF(B709='Veg Guide Data Base'!$AD$1376,C709,FALSE)","v":false},"2452588","Honokaa hydrous silty clay loam, warm, 10 to 20 percent slopes","Honokaa","warm",90,null,80,4,15,5.9,"none",null,null,"none"]
["HI801","Hawaii",962,{"$f":"IF(B710='Veg Guide Data Base'!$AD$1376,C710,FALSE)","v":false},"2452589","Honokaa hydrous silty clay loam, warm, 20 to 35 percent slopes","Honokaa","warm",90,null,80,4,28,5.9,"none",null,null,"none"]
["HI801","Hawaii",963,{"$f":"IF(B711='Veg Guide Data Base'!$AD$1376,C711,FALSE)","v":false},"2478615","Umikoa medial silt loam, 6 to 20 percent slopes","Umikoa",null,90,null,80,5,15,3,"none",null,null,"none"]
["HI801","Hawaii",964,{"$f":"IF(B712='Veg Guide Data Base'!$AD$1376,C712,FALSE)","v":false},"2478616","Umikoa-Kemole-Rock outcrop complex, 6 to 35 percent slopes","Umikoa",null,60,null,80,5,15,3,"none",null,null,"none"]
["HI801","Hawaii",964,{"$f":"IF(B713='Veg Guide Data Base'!$AD$1376,C713,FALSE)","v":false},"2478616","Umikoa-Kemole-Rock outcrop complex, 6 to 35 percent slopes","Kemole",null,20,null,80,67,25,2.2000000000000002,"none",null,null,"none"]
["HI801","Hawaii",964,{"$f":"IF(B714='Veg Guide Data Base'!$AD$1376,C714,FALSE)","v":false},"2478616","Umikoa-Kemole-Rock outcrop complex, 6 to 35 percent slopes","Rock outcrop","basalt",20,null,80,0,25,null,"none",null,null,"none"]
["HI801","Hawaii",965,{"$f":"IF(B715='Veg Guide Data Base'!$AD$1376,C715,FALSE)","v":false},"2478617","Hanipoe medial fine sandy loam, 6 to 20 percent slopes","Hanipoe",null,90,null,80,2,16,2.6,"none",null,null,"none"]
["HI801","Hawaii",966,{"$f":"IF(B716='Veg Guide Data Base'!$AD$1376,C716,FALSE)","v":false},"2478618","Hanipoe-Pohakulehu-Rock outcrop complex, 6 to 35 percent slopes","Hanipoe",null,60,null,80,2,16,2.6,"none",null,null,"none"]
["HI801","Hawaii",966,{"$f":"IF(B717='Veg Guide Data Base'!$AD$1376,C717,FALSE)","v":false},"2478618","Hanipoe-Pohakulehu-Rock outcrop complex, 6 to 35 percent slopes","Rock outcrop","basalt",20,null,80,0,25,null,"none",null,null,"none"]
["HI801","Hawaii",966,{"$f":"IF(B718='Veg Guide Data Base'!$AD$1376,C718,FALSE)","v":false},"2478618","Hanipoe-Pohakulehu-Rock outcrop complex, 6 to 35 percent slopes","Pohakulehu","dry",20,null,80,40,25,2.2000000000000002,"none",null,null,"none"]
["HI801","Hawaii",967,{"$f":"IF(B719='Veg Guide Data Base'!$AD$1376,C719,FALSE)","v":false},"2478619","Olaa cobbly hydrous loam, older substrate, 2 to 20 percent slopes","Olaa","older substrate",95,"bedrock, lithic",31,32,15,3.4,"none",null,null,"none"]
["HI801","Hawaii",968,{"$f":"IF(B720='Veg Guide Data Base'!$AD$1376,C720,FALSE)","v":false},"2478620","Hanipoe medial fine sandy loam, 0 to 6 percent slopes","Hanipoe",null,90,null,80,2,4,2.6,"none",null,null,"none"]
["HI801","Hawaii",969,{"$f":"IF(B721='Veg Guide Data Base'!$AD$1376,C721,FALSE)","v":false},"2478621","Umikoa medial silt loam, 0 to 6 percent slopes","Umikoa",null,90,null,80,5,4,3,"none",null,null,"none"]
["HI801","Hawaii",970,{"$f":"IF(B722='Veg Guide Data Base'!$AD$1376,C722,FALSE)","v":false},"2478622","Maile-Waiakea-Rock outcrop complex, 6 to 35 percent slopes","Maile",null,60,null,80,6,16,3,"none",null,null,"none"]
["HI801","Hawaii",970,{"$f":"IF(B723='Veg Guide Data Base'!$AD$1376,C723,FALSE)","v":false},"2478622","Maile-Waiakea-Rock outcrop complex, 6 to 35 percent slopes","Rock outcrop","basalt",20,null,80,0,25,null,"none",null,null,"none"]
["HI801","Hawaii",970,{"$f":"IF(B724='Veg Guide Data Base'!$AD$1376,C724,FALSE)","v":false},"2478622","Maile-Waiakea-Rock outcrop complex, 6 to 35 percent slopes","Waiakea",null,20,"bedrock, lithic",39,13,25,4.5999999999999996,"none",null,null,"none"]
["HI801","Hawaii",971,{"$f":"IF(B725='Veg Guide Data Base'!$AD$1376,C725,FALSE)","v":false},"2512231","Waiakea-Onomea complex, 0 to 20 percent slopes","Waiakea",null,68,"bedrock, lithic",39,13,15,4.5999999999999996,"none",null,null,"none"]
["HI801","Hawaii",971,{"$f":"IF(B726='Veg Guide Data Base'!$AD$1376,C726,FALSE)","v":false},"2512231","Waiakea-Onomea complex, 0 to 20 percent slopes","Onomea",null,30,"bedrock, lithic",49,0,2,8.6999999999999993,"none",null,null,"frequent","very long","January, February, March, April, May, June, July, August, September, October, November, December"]
["HI801","Hawaii","W",{"$f":"IF(B727='Veg Guide Data Base'!$AD$1376,C727,FALSE)","v":false},"2371582","Water","Water",null,100,null,80,0,null,null,"none",null,null,"frequent","very long","January, February, March, April, May, June, July, August, September, October, November, December"]
["HI950","Molokai","AeE",{"$f":"IF(B728='Veg Guide Data Base'!$AD$1376,C728,FALSE)","v":false},"468142","Alaeloa silty clay, 15 to 35 percent slopes","Alaeloa",null,100,null,80,6,25,2.6,"none",null,null,"none"]
["HI950","Molokai","ALE3",{"$f":"IF(B729='Veg Guide Data Base'!$AD$1376,C729,FALSE)","v":false},"468139","Alaeloa silty clay, 15 to 35 percent slopes, severely eroded","Alaeloa",null,100,null,80,6,25,2.6,"none",null,null,"none"]
["HI950","Molokai","AME3",{"$f":"IF(B730='Veg Guide Data Base'!$AD$1376,C730,FALSE)","v":false},"468140","Alaeloa stony silty clay, 15 to 35 percent slopes, severely eroded","Alaeloa","stony",100,null,80,6,25,2.6,"none",null,null,"none"]
["HI950","Molokai","ANE",{"$f":"IF(B731='Veg Guide Data Base'!$AD$1376,C731,FALSE)","v":false},"468141","Alaeloa stony silty clay, overwash, 15 to 35 percent slopes","Alaeloa","stony",100,null,80,19,25,2.4,"none",null,null,"none"]
["HI950","Molokai","BS",{"$f":"IF(B732='Veg Guide Data Base'!$AD$1376,C732,FALSE)","v":false},"468143","Beaches","Beaches",null,100,null,80,12,3,0.8,"frequent","very brief","January, February, March, April, May, June, July, August, September, October, November, December","none"]
["HI950","Molokai","CO",{"$f":"IF(B733='Veg Guide Data Base'!$AD$1376,C733,FALSE)","v":false},"468144","Colluvial land","Colluvial land",null,100,null,80,37,43,2.4,"none",null,null,"none"]
["HI950","Molokai","GL",{"$f":"IF(B734='Veg Guide Data Base'!$AD$1376,C734,FALSE)","v":false},"468145","Gullied land","Gullied land",null,100,null,80,0,48,0,"none",null,null,"none"]
["HI950","Molokai","HcB",{"$f":"IF(B735='Veg Guide Data Base'!$AD$1376,C735,FALSE)","v":false},"468148","Haleiwa silty clay loam, 0 to 10 percent slopes","Haleiwa",null,100,null,80,8,5,2.8,"occasional, rare","very brief","January, February, March, April, November, December","none"]
["HI950","Molokai","HdC",{"$f":"IF(B736='Veg Guide Data Base'!$AD$1376,C736,FALSE)","v":false},"468149","Haleiwa very stony silty clay loam, 0 to 15 percent slopes","Haleiwa","very stony",100,null,80,35,8,2.4,"occasional, none","very brief,","January, February, March, April, October, November, December","none"]
["HI950","Molokai","HID",{"$f":"IF(B737='Veg Guide Data Base'!$AD$1376,C737,FALSE)","v":false},"468146","Halawa silty clay, 3 to 25 percent slopes","Halawa",null,100,"bedrock, paralithic",58,0,14,2.6,"none",null,null,"none"]
["HI950","Molokai","HID3",{"$f":"IF(B738='Veg Guide Data Base'!$AD$1376,C738,FALSE)","v":false},"468147","Halawa silty clay, 3 to 25 percent slopes, severely eroded","Halawa",null,100,"bedrock, paralithic",50,0,14,2.6,"none",null,null,"none"]
["HI950","Molokai","HvA",{"$f":"IF(B739='Veg Guide Data Base'!$AD$1376,C739,FALSE)","v":false},"468150","Holomua silt loam, 0 to 3 percent slopes","Holomua",null,100,null,80,0,1,2.6,"none",null,null,"none"]
["HI950","Molokai","HvB",{"$f":"IF(B740='Veg Guide Data Base'!$AD$1376,C740,FALSE)","v":false},"468151","Holomua silt loam, 3 to 7 percent slopes","Holomua",null,100,null,80,0,5,2.6,"none",null,null,"none"]
["HI950","Molokai","HvB3",{"$f":"IF(B741='Veg Guide Data Base'!$AD$1376,C741,FALSE)","v":false},"468152","Holomua silt loam, 3 to 7 percent slopes, severely eroded","Holomua",null,100,null,80,0,5,2.6,"none",null,null,"none"]
["HI950","Molokai","HvC",{"$f":"IF(B742='Veg Guide Data Base'!$AD$1376,C742,FALSE)","v":false},"468153","Holomua silt loam, 7 to 15 percent slopes","Holomua",null,100,null,80,0,11,2.6,"none",null,null,"none"]
["HI950","Molokai","HvC3",{"$f":"IF(B743='Veg Guide Data Base'!$AD$1376,C743,FALSE)","v":false},"468154","Holomua silt loam, 7 to 15 percent slopes, severely eroded","Holomua",null,100,null,80,0,11,2.6,"none",null,null,"none"]
["HI950","Molokai","HyB3",{"$f":"IF(B744='Veg Guide Data Base'!$AD$1376,C744,FALSE)","v":false},"468155","Hoolehua silty clay loam, 3 to 10 percent slopes, severely eroded","Hoolehua",null,100,null,80,6,7,1,"none",null,null,"none"]
["HI950","Molokai","HzA",{"$f":"IF(B745='Veg Guide Data Base'!$AD$1376,C745,FALSE)","v":false},"468156","Hoolehua silty clay, 0 to 3 percent slopes","Hoolehua",null,100,null,80,6,2,1.2,"none",null,null,"none"]
["HI950","Molokai","HzB",{"$f":"IF(B746='Veg Guide Data Base'!$AD$1376,C746,FALSE)","v":false},"468157","Hoolehua silty clay, 3 to 7 percent slopes","Hoolehua",null,100,null,80,6,5,1.2,"none",null,null,"none"]
["HI950","Molokai","HzC",{"$f":"IF(B747='Veg Guide Data Base'!$AD$1376,C747,FALSE)","v":false},"468158","Hoolehua silty clay, 7 to 15 percent slopes","Hoolehua",null,100,null,80,6,11,1.2,"none",null,null,"none"]
["HI950","Molokai","HzE",{"$f":"IF(B748='Veg Guide Data Base'!$AD$1376,C748,FALSE)","v":false},"468159","Hoolehua silty clay, 15 to 35 percent slopes","Hoolehua",null,100,"bedrock, paralithic",36,6,25,1.2,"none",null,null,"none"]
["HI950","Molokai","JaC",{"$f":"IF(B749='Veg Guide Data Base'!$AD$1376,C749,FALSE)","v":false},"468161","Jaucas sand, 0 to 15 percent slopes","Jaucas",null,100,null,80,0,8,1.1000000000000001,"rare","very brief",null,"none"]
["HI950","Molokai","JL",{"$f":"IF(B750='Veg Guide Data Base'!$AD$1376,C750,FALSE)","v":false},"468160","Jaucas-Blownout land complex","Jaucas",null,50,null,80,0,8,1.3,"none",null,null,"none"]
["HI950","Molokai","JL",{"$f":"IF(B751='Veg Guide Data Base'!$AD$1376,C751,FALSE)","v":false},"468160","Jaucas-Blownout land complex","Blown-out land",null,50,"bedrock, paralithic",20,0,8,2.4,"none",null,null,"none"]
["HI950","Molokai","KATD",{"$f":"IF(B752='Veg Guide Data Base'!$AD$1376,C752,FALSE)","v":false},"468162","Kahanui gravelly silty clay, 3 to 20 percent slopes","Kahanui","gravelly",100,"placic",21,22,12,2.2000000000000002,"none",null,null,"none"]
["HI950","Molokai","KcB",{"$f":"IF(B753='Veg Guide Data Base'!$AD$1376,C753,FALSE)","v":false},"468167","Kalae silty clay, 2 to 7 percent slopes","Kalae",null,100,null,80,2,5,2,"none",null,null,"none"]
["HI950","Molokai","KcC",{"$f":"IF(B754='Veg Guide Data Base'!$AD$1376,C754,FALSE)","v":false},"468168","Kalae silty clay, 7 to 15 percent slopes","Kalae",null,100,null,80,2,11,2,"none",null,null,"none"]
["HI950","Molokai","KcC3",{"$f":"IF(B755='Veg Guide Data Base'!$AD$1376,C755,FALSE)","v":false},"468169","Kalae silty clay, 5-15 percent slopes, severely eroded","Kalae",null,100,null,80,2,10,1.1000000000000001,"none",null,null,"none"]
["HI950","Molokai","KcD3",{"$f":"IF(B756='Veg Guide Data Base'!$AD$1376,C756,FALSE)","v":false},"468170","Kalae silty clay, 15 to 25 percent slopes, severely eroded","Kalae",null,100,null,80,2,20,1.1000000000000001,"none",null,null,"none"]
["HI950","Molokai","KcE3",{"$f":"IF(B757='Veg Guide Data Base'!$AD$1376,C757,FALSE)","v":false},"468171","Kalae silty clay, 25 to 40 percent slopes, severely eroded","Kalae",null,100,null,80,2,33,1.1000000000000001,"none",null,null,"none"]
["HI950","Molokai","KFID",{"$f":"IF(B758='Veg Guide Data Base'!$AD$1376,C758,FALSE)","v":false},"468163","Kalaupapa very rocky silty clay loam, 3 to 25 percent slopes","Kalaupapa","very rocky",85,"bedrock, lithic",14,11,14,2.8,"none",null,null,"none"]
["HI950","Molokai","KKTC",{"$f":"IF(B759='Veg Guide Data Base'!$AD$1376,C759,FALSE)","v":false},"468164","Kapuhikani extremely stony clay, 3 to 15 percent slopes","Kapuhikani","extremely stony",100,"bedrock, lithic",27,34,9,2.2999999999999998,"none",null,null,"none"]
["HI950","Molokai","KlA",{"$f":"IF(B760='Veg Guide Data Base'!$AD$1376,C760,FALSE)","v":false},"468172","Kawaihapai clay loam, 0 to 2 percent slopes","Kawaihapai",null,85,null,80,10,1,2.8,"rare, occasional","very brief","January, February, March, April, November, December","none"]
["HI950","Molokai","KlaB",{"$f":"IF(B761='Veg Guide Data Base'!$AD$1376,C761,FALSE)","v":false},"468173","Kawaihapai stony clay loam, 2 to 6 percent slopes","Kawaihapai","stony",100,null,80,22,4,2.4,"occasional, rare","very brief","January, February, March, April, November, December","none"]
["HI950","Molokai","KlbC",{"$f":"IF(B762='Veg Guide Data Base'!$AD$1376,C762,FALSE)","v":false},"468174","Kawaihapai very stony clay loam, 0 to 15 percent slopes","Kawaihapai","very stony",100,null,80,40,8,2,"occasional, rare","very brief","January, February, March, April, November, December","none"]
["HI950","Molokai","KlcB",{"$f":"IF(B763='Veg Guide Data Base'!$AD$1376,C763,FALSE)","v":false},"468175","Kawaihapai silty clay loam, 2 to 7 percent slopes","Kawaihapai",null,100,null,80,10,5,2.8,"occasional, rare","very brief","January, February, March, April, November, December","none"]
["HI950","Molokai","KMW",{"$f":"IF(B764='Veg Guide Data Base'!$AD$1376,C764,FALSE)","v":false},"468165","Kealia silt loam","Kealia",null,45,null,80,0,1,2,"frequent, rare","brief","January, February, March, April, November, December","occasional, rare","long","January, February, March, April, May, October, November, December"]
["HI950","Molokai","KMW",{"$f":"IF(B765='Veg Guide Data Base'!$AD$1376,C765,FALSE)","v":false},"468165","Kealia silt loam","Kealia, deep water table",null,35,null,80,0,1,2,"occasional, rare","very brief","January, February, March, April, November, December","occasional, rare","long","January, February, March, April, May, October, November, December"]
["HI950","Molokai","KRL",{"$f":"IF(B766='Veg Guide Data Base'!$AD$1376,C766,FALSE)","v":false},"468166","Koele-Badland complex","Koele",null,70,null,80,14,14,2.7,"rare","very brief",null,"none"]
["HI950","Molokai","KRL",{"$f":"IF(B767='Veg Guide Data Base'!$AD$1376,C767,FALSE)","v":false},"468166","Koele-Badland complex","Badland",null,30,"bedrock, paralithic",0,0,55,2,"none",null,null,"none"]
["HI950","Molokai","LaA",{"$f":"IF(B768='Veg Guide Data Base'!$AD$1376,C768,FALSE)","v":false},"468176","Lahaina silty clay, 0 to 3 percent slopes","Lahaina",null,100,null,80,0,2,2.2000000000000002,"none",null,null,"none"]
["HI950","Molokai","LaB",{"$f":"IF(B769='Veg Guide Data Base'!$AD$1376,C769,FALSE)","v":false},"468177","Lahaina silty clay, 3 to 7 percent slopes","Lahaina",null,100,null,80,0,5,2.2000000000000002,"none",null,null,"none"]
["HI950","Molokai","LaC",{"$f":"IF(B770='Veg Guide Data Base'!$AD$1376,C770,FALSE)","v":false},"468178","Lahaina silty clay, 7 to 15 percent slopes","Lahaina",null,100,null,80,0,11,2.2000000000000002,"none",null,null,"none"]
["HI950","Molokai","LaC3",{"$f":"IF(B771='Veg Guide Data Base'!$AD$1376,C771,FALSE)","v":false},"468179","Lahaina silty clay, 7 to 15 percent slopes, severely eroded","Lahaina",null,100,null,80,0,11,2.2000000000000002,"none",null,null,"none"]
["HI950","Molokai","LaD3",{"$f":"IF(B772='Veg Guide Data Base'!$AD$1376,C772,FALSE)","v":false},"468180","Lahaina silty clay, 15 to 25 percent slopes, severely eroded","Lahaina",null,100,null,80,0,20,2.2000000000000002,"none",null,null,"none"]
["HI950","Molokai","LaE3",{"$f":"IF(B773='Veg Guide Data Base'!$AD$1376,C773,FALSE)","v":false},"468181","Lahaina silty clay, 25 to 40 percent slopes, severely eroded","Lahaina",null,100,null,80,0,33,2.2000000000000002,"none",null,null,"none"]
["HI950","Molokai","LuA",{"$f":"IF(B774='Veg Guide Data Base'!$AD$1376,C774,FALSE)","v":false},"468182","Lualualei clay, 0 to 2 percent slopes","Lualualei",null,100,null,80,8,1,2.2999999999999998,"rare","very brief",null,"none"]
["HI950","Molokai","MmA",{"$f":"IF(B775='Veg Guide Data Base'!$AD$1376,C775,FALSE)","v":false},"468184","Mala silty clay, 0 to 3 percent slopes","Mala",null,100,null,80,6,2,2.4,"occasional, rare","very brief","January, February, March, April, November, December","none"]
["HI950","Molokai","MmB",{"$f":"IF(B776='Veg Guide Data Base'!$AD$1376,C776,FALSE)","v":false},"468185","Mala silty clay, 3 to 7 percent slopes","Mala",null,100,null,80,6,5,2.4,"occasional, rare","very brief","January, February, March, April, November, December","none"]
["HI950","Molokai","MuA",{"$f":"IF(B777='Veg Guide Data Base'!$AD$1376,C777,FALSE)","v":false},"468186","Molokai silty clay loam, 0 to 3 percent slopes","Molokai",null,100,null,80,0,2,2.1,"none",null,null,"none"]
["HI950","Molokai","MuB",{"$f":"IF(B778='Veg Guide Data Base'!$AD$1376,C778,FALSE)","v":false},"468187","Molokai silty clay loam, 3 to 7 percent slopes","Molokai",null,100,null,80,0,5,2.1,"none",null,null,"none"]
["HI950","Molokai","MuB3",{"$f":"IF(B779='Veg Guide Data Base'!$AD$1376,C779,FALSE)","v":false},"468188","Molokai silty clay loam, 3 to 7 percent slopes, severely eroded","Molokai",null,100,null,80,0,5,2.2000000000000002,"none",null,null,"none"]
["HI950","Molokai","MuC",{"$f":"IF(B780='Veg Guide Data Base'!$AD$1376,C780,FALSE)","v":false},"468189","Molokai silty clay loam, 7 to 15 percent slopes","Molokai",null,100,null,80,0,11,2.1,"none",null,null,"none"]
["HI950","Molokai","MuC3",{"$f":"IF(B781='Veg Guide Data Base'!$AD$1376,C781,FALSE)","v":false},"468190","Molokai silty clay loam, 7 to 15 percent slopes, severely eroded","Molokai",null,100,null,80,0,11,2.2000000000000002,"none",null,null,"none"]
["HI950","Molokai","MvD3",{"$f":"IF(B782='Veg Guide Data Base'!$AD$1376,C782,FALSE)","v":false},"468191","Molokai silty clay loam, shallow variant, 15 to 25 percent slopes, severely eroded","Molokai variant",null,100,null,80,0,20,2.1,"none",null,null,"none"]
["HI950","Molokai","MZ",{"$f":"IF(B783='Veg Guide Data Base'!$AD$1376,C783,FALSE)","v":false},"468183","Marsh","Marsh",null,100,null,80,0,1,5.3,"frequent","long","January, February, March, April, May, June, July, August, September, October, November, December","frequent","very long","January, February, March, April, May, June, July, August, September, October, November, December"]
["HI950","Molokai","NAC",{"$f":"IF(B784='Veg Guide Data Base'!$AD$1376,C784,FALSE)","v":false},"468192","Naiwa silty clay loam, 3 to 20 percent slopes","Naiwa",null,100,"bedrock, paralithic",52,0,12,2,"none",null,null,"none"]
["HI950","Molokai","NAC3",{"$f":"IF(B785='Veg Guide Data Base'!$AD$1376,C785,FALSE)","v":false},"468193","Naiwa silty clay loam, 7 to 15 percent slopes, severely eroded","Naiwa",null,100,"bedrock, paralithic",41,3,11,2,"none",null,null,"none"]
["HI950","Molokai","NLE",{"$f":"IF(B786='Veg Guide Data Base'!$AD$1376,C786,FALSE)","v":false},"468194","Niulii silty clay loam, 7 to 30 percent slopes","Niulii",null,100,"bedrock, lithic",30,8,19,2.6,"none",null,null,"none"]
["HI950","Molokai","NME",{"$f":"IF(B787='Veg Guide Data Base'!$AD$1376,C787,FALSE)","v":false},"468195","Niulii silty clay loam, medium textured variant, 7 to 30 percent slopes","Niulii variant",null,100,"bedrock, lithic",30,8,19,2.6,"none",null,null,"none"]
["HI950","Molokai","OFC",{"$f":"IF(B788='Veg Guide Data Base'!$AD$1376,C788,FALSE)","v":false},"468196","Olelo silty clay, 3 to 15 percent slopes","Olelo",null,100,null,80,7,9,2.2000000000000002,"none",null,null,"none"]
["HI950","Molokai","OME",{"$f":"IF(B789='Veg Guide Data Base'!$AD$1376,C789,FALSE)","v":false},"468197","Oli silt loam, 10 to 30 percent slopes","Oli",null,100,"bedrock, lithic",30,0,20,2.6,"none",null,null,"none"]
["HI950","Molokai","OMF",{"$f":"IF(B790='Veg Guide Data Base'!$AD$1376,C790,FALSE)","v":false},"468198","Oli silt loam, 30 to 70 percent slopes","Oli",null,100,"bedrock, lithic",30,0,50,2.6,"none",null,null,"none"]
["HI950","Molokai","OOE",{"$f":"IF(B791='Veg Guide Data Base'!$AD$1376,C791,FALSE)","v":false},"468199","Olokui silty clay loam, 3 to 30 percent slopes","Olokui",null,85,"placic",15,3,17,3.2,"none",null,null,"none"]
["HI950","Molokai","PID",{"$f":"IF(B792='Veg Guide Data Base'!$AD$1376,C792,FALSE)","v":false},"468200","Pamoa silty clay, 5 to 20 percent slopes","Pamoa",null,100,null,80,6,13,1,"none",null,null,"none"]
["HI950","Molokai","PID2",{"$f":"IF(B793='Veg Guide Data Base'!$AD$1376,C793,FALSE)","v":false},"468201","Pamoa silty clay, 5 to 20 percent slopes, eroded","Pamoa",null,100,null,80,2,13,1,"none",null,null,"none"]
["HI950","Molokai","PJD2",{"$f":"IF(B794='Veg Guide Data Base'!$AD$1376,C794,FALSE)","v":false},"468202","Pamoa stony silty clay, 5 to 20 percent slopes, eroded","Pamoa","stony",100,null,80,6,13,1,"none",null,null,"none"]
["HI950","Molokai","PoaB",{"$f":"IF(B795='Veg Guide Data Base'!$AD$1376,C795,FALSE)","v":false},"468204","Pulehu stony sandy loam, 0 to 7 percent slopes","Pulehu","stony",100,null,80,29,4,1.6,"rare, occasional","very brief","January, February, March, November, December","none"]
["HI950","Molokai","PoB",{"$f":"IF(B796='Veg Guide Data Base'!$AD$1376,C796,FALSE)","v":false},"468203","Pulehu sandy loam, 2 to 6 percent slopes","Pulehu",null,100,null,80,14,4,2,"rare, occasional","very brief","January, February, March, November, December","none"]
["HI950","Molokai","PsA",{"$f":"IF(B797='Veg Guide Data Base'!$AD$1376,C797,FALSE)","v":false},"468205","Pulehu clay loam, 0 to 3 percent slopes","Pulehu",null,100,null,80,14,2,2.8,"rare, occasional","very brief","January, February, March, November, December","none"]
["HI950","Molokai","rAMD",{"$f":"IF(B798='Veg Guide Data Base'!$AD$1376,C798,FALSE)","v":false},"468214","Amalu peaty silty clay, 3 to 20 percent slopes","Amalu","peaty",100,"placic",16,2,12,4.5,"none",null,null,"none"]
["HI950","Molokai","rAOD",{"$f":"IF(B799='Veg Guide Data Base'!$AD$1376,C799,FALSE)","v":false},"468215","Amalu-Olokui association, 3 to 20 percent slopes","Amalu",null,60,"placic",16,2,12,3.7,"none",null,null,"none"]
["HI950","Molokai","rAOD",{"$f":"IF(B800='Veg Guide Data Base'!$AD$1376,C800,FALSE)","v":false},"468215","Amalu-Olokui association, 3 to 20 percent slopes","Olokui",null,25,"placic",15,3,17,3.2,"none",null,null,"none"]
["HI950","Molokai","rRK",{"$f":"IF(B801='Veg Guide Data Base'!$AD$1376,C801,FALSE)","v":false},"468216","Rock land","Rock land",null,55,"bedrock, lithic",8,11,55,1.1000000000000001,"none",null,null,"none"]
["HI950","Molokai","rRO",{"$f":"IF(B802='Veg Guide Data Base'!$AD$1376,C802,FALSE)","v":false},"468217","Rock outcrop","Rock outcrop",null,100,"bedrock, lithic",0,0,52,0,"none",null,null,"none"]
["HI950","Molokai","rRR",{"$f":"IF(B803='Veg Guide Data Base'!$AD$1376,C803,FALSE)","v":false},"468218","Rough broken land","Rough broken land",null,100,"bedrock, paralithic",30,10,55,3,"none",null,null,"none"]
["HI950","Molokai","rRT",{"$f":"IF(B804='Veg Guide Data Base'!$AD$1376,C804,FALSE)","v":false},"468219","Rough mountainous land","Rough mountainous land",null,100,"bedrock, paralithic",25,23,75,2.5,"none",null,null,"none"]
["HI950","Molokai","rSM",{"$f":"IF(B805='Veg Guide Data Base'!$AD$1376,C805,FALSE)","v":false},"468220","Stony alluvial land","Stony alluvial land",null,100,null,80,61,9,1.2,"rare, frequent","very brief,brief","January, February, March, October, November, December","none"]
["HI950","Molokai","rSO",{"$f":"IF(B806='Veg Guide Data Base'!$AD$1376,C806,FALSE)","v":false},"468221","Stony colluvial land","Stony colluvial land",null,100,null,80,62,33,2.1,"none",null,null,"none"]
["HI950","Molokai","rTO",{"$f":"IF(B807='Veg Guide Data Base'!$AD$1376,C807,FALSE)","v":false},"468222","Tropaquods","Tropaquods",null,100,"placic",10,0,50,2.8,"none",null,null,"none"]
["HI950","Molokai","rVS",{"$f":"IF(B808='Veg Guide Data Base'!$AD$1376,C808,FALSE)","v":false},"468223","Very stony land","Very stony land",null,100,"bedrock, paralithic",5,61,19,0.5,"none",null,null,"none"]
["HI950","Molokai","rVT2",{"$f":"IF(B809='Veg Guide Data Base'!$AD$1376,C809,FALSE)","v":false},"468224","Very stony land, eroded","Very stony land, eroded","eroded",100,"bedrock, paralithic",30,61,19,1.8,"none",null,null,"none"]
["HI950","Molokai","W",{"$f":"IF(B810='Veg Guide Data Base'!$AD$1376,C810,FALSE)","v":false},"468206","Water > 40 acres","Water > 40 acres",null,100,null,80,0,null,null,"none",null,null,"none"]
["HI950","Molokai","WoB",{"$f":"IF(B811='Veg Guide Data Base'!$AD$1376,C811,FALSE)","v":false},"468207","Waihuna clay, 3 to 7 percent slopes","Waihuna",null,100,null,80,4,5,2,"none",null,null,"none"]
["HI950","Molokai","WoC",{"$f":"IF(B812='Veg Guide Data Base'!$AD$1376,C812,FALSE)","v":false},"468208","Waihuna clay, 7 to 15 percent slopes","Waihuna",null,100,null,80,4,11,2,"none",null,null,"none"]
["HI950","Molokai","WoD",{"$f":"IF(B813='Veg Guide Data Base'!$AD$1376,C813,FALSE)","v":false},"468209","Waihuna clay, 15 to 25 percent slopes","Waihuna",null,100,null,80,4,20,2,"none",null,null,"none"]
["HI950","Molokai","WrA",{"$f":"IF(B814='Veg Guide Data Base'!$AD$1376,C814,FALSE)","v":false},"468210","Waikapu silty clay loam, 0 to 3 percent slopes","Waikapu",null,100,null,80,6,2,2,"none",null,null,"none"]
["HI950","Molokai","WrB",{"$f":"IF(B815='Veg Guide Data Base'!$AD$1376,C815,FALSE)","v":false},"468211","Waikapu silty clay loam, 3 to 7 percent slopes","Waikapu",null,100,null,80,6,5,2,"none",null,null,"none"]
["HI950","Molokai","WrB3",{"$f":"IF(B816='Veg Guide Data Base'!$AD$1376,C816,FALSE)","v":false},"468212","Waikapu silty clay loam, 3 to 7 percent slopes, severely eroded","Waikapu",null,100,null,80,6,5,2,"none",null,null,"none"]
["HI950","Molokai","WrC3",{"$f":"IF(B817='Veg Guide Data Base'!$AD$1376,C817,FALSE)","v":false},"468213","Waikapu silty clay loam, 7 to 15 percent slopes, severely eroded","Waikapu",null,100,null,80,6,11,2,"none",null,null,"none"]
["HI960","Kauai","BL",{"$f":"IF(B818='Veg Guide Data Base'!$AD$1376,C818,FALSE)","v":false},"467799","Badland","Badland",null,100,"bedrock, paralithic",0,0,45,2,"none",null,null,"none"]
["HI960","Kauai","BM",{"$f":"IF(B819='Veg Guide Data Base'!$AD$1376,C819,FALSE)","v":false},"467800","Badland-Mahana complex","Badland",null,60,"bedrock, paralithic",0,0,45,2,"none",null,null,"none"]
["HI960","Kauai","BM",{"$f":"IF(B820='Veg Guide Data Base'!$AD$1376,C820,FALSE)","v":false},"467800","Badland-Mahana complex","Mahana",null,40,null,80,0,28,1.9,"none",null,null,"none"]
["HI960","Kauai","BP",{"$f":"IF(B821='Veg Guide Data Base'!$AD$1376,C821,FALSE)","v":false},"467795","Borrow pit","Borrow pit",null,100,null,80,0,null,null,"none",null,null,"none"]
["HI960","Kauai","BS",{"$f":"IF(B822='Veg Guide Data Base'!$AD$1376,C822,FALSE)","v":false},"467801","Beaches","Beaches",null,100,null,80,12,3,0.8,"frequent","very brief","January, February, March, April, May, June, July, August, September, October, November, December","none"]
["HI960","Kauai","DL",{"$f":"IF(B823='Veg Guide Data Base'!$AD$1376,C823,FALSE)","v":false},"467802","Dune land","Dune land",null,100,null,80,0,20,0.8,"none",null,null,"none"]
["HI960","Kauai","Fd",{"$f":"IF(B824='Veg Guide Data Base'!$AD$1376,C824,FALSE)","v":false},"467803","Fill land","Fill land",null,100,"bedrock, lithic",30,8,2,3,"occasional, none","very brief,","January, February, March, April, November, December","none"]
["HI960","Kauai","FL",{"$f":"IF(B825='Veg Guide Data Base'!$AD$1376,C825,FALSE)","v":false},"467796","Fill land, mixed","Fill land, mixed","mixed",100,"bedrock, lithic",60,20,null,1.8,"none",null,null,"none"]
["HI960","Kauai","HfB",{"$f":"IF(B826='Veg Guide Data Base'!$AD$1376,C826,FALSE)","v":false},"467807","Halii gravelly silty clay, 3 to 8 percent slopes","Halii","gravelly",100,null,80,16,6,2.2000000000000002,"none",null,null,"none"]
["HI960","Kauai","HfC",{"$f":"IF(B827='Veg Guide Data Base'!$AD$1376,C827,FALSE)","v":false},"467808","Halii gravelly silty clay, 8 to 15 percent slopes","Halii","gravelly",100,null,80,16,12,2.2000000000000002,"none",null,null,"none"]
["HI960","Kauai","HfD2",{"$f":"IF(B828='Veg Guide Data Base'!$AD$1376,C828,FALSE)","v":false},"467809","Halii gravelly silty clay, 15 to 25 percent slopes, eroded","Halii","gravelly",100,null,80,7,20,2.2000000000000002,"none",null,null,"none"]
["HI960","Kauai","HfE2",{"$f":"IF(B829='Veg Guide Data Base'!$AD$1376,C829,FALSE)","v":false},"467810","Halii gravelly silty clay, 25 to 40 percent slopes, eroded","Halii","gravelly",100,null,80,7,33,2.2000000000000002,"none",null,null,"none"]
["HI960","Kauai","HmA",{"$f":"IF(B830='Veg Guide Data Base'!$AD$1376,C830,FALSE)","v":false},"467811","Hanalei silty clay loam, 0 to 2 percent slopes","Hanalei",null,85,null,80,4,1,3.3,"frequent, occasional","very brief","January, February, March, April, May, June, July, August, September, October, November, December","occasional, rare","very brief","January, February, March, April, November, December"]
["HI960","Kauai","HMMF",{"$f":"IF(B831='Veg Guide Data Base'!$AD$1376,C831,FALSE)","v":false},"467804","Hihimanu silty clay loam, 40 to 70 percent slopes","Hihimanu",null,100,null,80,7,55,2.4,"none",null,null,"none"]
["HI960","Kauai","HnA",{"$f":"IF(B832='Veg Guide Data Base'!$AD$1376,C832,FALSE)","v":false},"467812","Hanalei silty clay, 0 to 2 percent slopes","Hanalei",null,85,null,80,4,1,3.3,"frequent, occasional","very brief","January, February, March, April, May, May, June, July, August, September, October, November, December","occasional, rare","very brief","January, February, March, April, November, December"]
["HI960","Kauai","HNUD",{"$f":"IF(B833='Veg Guide Data Base'!$AD$1376,C833,FALSE)","v":false},"467805","Hulua gravelly silty clay loam, 3 to 25 percent slopes","Hulua","gravelly",85,"placic",16,20,14,2.2999999999999998,"none",null,null,"none"]
["HI960","Kauai","HNUF",{"$f":"IF(B834='Veg Guide Data Base'!$AD$1376,C834,FALSE)","v":false},"467806","Hulua gravelly silty clay loam, 25 to 70 percent slopes","Hulua","gravelly",80,"placic",16,20,48,2.2999999999999998,"none",null,null,"none"]
["HI960","Kauai","HpA",{"$f":"IF(B835='Veg Guide Data Base'!$AD$1376,C835,FALSE)","v":false},"467813","Hanalei peaty silty clay loam, 0 to 2 percent slopes","Hanalei","peaty",100,null,80,4,1,3.3,"frequent, occasional","very brief","January, February, March, April, May, June, July, August, September, October, November, December","frequent","long","January, February, March, April, May, June, July, August, September, October, November, December"]
["HI960","Kauai","HrB",{"$f":"IF(B836='Veg Guide Data Base'!$AD$1376,C836,FALSE)","v":false},"467814","Hanalei silty clay, deep water table, 0 to 6 percent slopes","Hanalei",null,85,null,80,4,3,3.3,"frequent, occasional, rare","very brief","January, February, March, April, May, October, November, December","rare","very brief"]
["HI960","Kauai","HsB",{"$f":"IF(B837='Veg Guide Data Base'!$AD$1376,C837,FALSE)","v":false},"467815","Hanamaulu silty clay, 3 to 8 percent slopes","Hanamaulu",null,100,null,80,0,6,2.8,"none",null,null,"none"]
["HI960","Kauai","HsC",{"$f":"IF(B838='Veg Guide Data Base'!$AD$1376,C838,FALSE)","v":false},"467816","Hanamaulu silty clay, 8 to 15 percent slopes","Hanamaulu",null,100,null,80,0,12,2.8,"none",null,null,"none"]
["HI960","Kauai","HsD",{"$f":"IF(B839='Veg Guide Data Base'!$AD$1376,C839,FALSE)","v":false},"467817","Hanamaulu silty clay, 15 to 25 percent slopes","Hanamaulu",null,100,null,80,0,20,2.8,"none",null,null,"none"]
["HI960","Kauai","HsE",{"$f":"IF(B840='Veg Guide Data Base'!$AD$1376,C840,FALSE)","v":false},"467818","Hanamaulu silty clay, 25 to 40 percent slopes","Hanamaulu",null,100,null,80,0,33,2.8,"none",null,null,"none"]
["HI960","Kauai","HtE",{"$f":"IF(B841='Veg Guide Data Base'!$AD$1376,C841,FALSE)","v":false},"467819","Hanamaulu stony silty clay, 10 to 35 percent slopes","Hanamaulu","stony",100,null,80,12,18,2.8,"none",null,null,"none"]
["HI960","Kauai","HuE",{"$f":"IF(B842='Veg Guide Data Base'!$AD$1376,C842,FALSE)","v":false},"467820","Hanamaulu bouldery silty clay, 10 to 35 percent slopes","Hanamaulu","bouldery",100,null,80,12,23,2.8,"none",null,null,"none"]
["HI960","Kauai","IoB",{"$f":"IF(B843='Veg Guide Data Base'!$AD$1376,C843,FALSE)","v":false},"467821","Ioleau silty clay loam, 2 to 6 percent slopes","Ioleau",null,100,null,80,0,4,2.6,"none",null,null,"none"]
["HI960","Kauai","IoC",{"$f":"IF(B844='Veg Guide Data Base'!$AD$1376,C844,FALSE)","v":false},"467822","Ioleau silty clay loam, 6 to 12 percent slopes","Ioleau",null,100,null,80,0,9,2.6,"none",null,null,"none"]
["HI960","Kauai","IoD2",{"$f":"IF(B845='Veg Guide Data Base'!$AD$1376,C845,FALSE)","v":false},"467823","Ioleau silty clay loam, 12 to 20 percent slopes, eroded","Ioleau",null,100,null,80,0,16,2.6,"none",null,null,"none"]
["HI960","Kauai","IoE2",{"$f":"IF(B846='Veg Guide Data Base'!$AD$1376,C846,FALSE)","v":false},"467824","Ioleau silty clay loam, 20 to 30 percent slopes, eroded","Ioleau",null,100,null,80,0,25,2.6,"none",null,null,"none"]
["HI960","Kauai","JfB",{"$f":"IF(B847='Veg Guide Data Base'!$AD$1376,C847,FALSE)","v":false},"467825","Jaucas loamy fine sand, 0 to 8 percent slopes","Jaucas",null,100,null,80,0,4,1.3,"rare","very brief",null,"none"]
["HI960","Kauai","JkB",{"$f":"IF(B848='Veg Guide Data Base'!$AD$1376,C848,FALSE)","v":false},"467826","Jaucas loamy fine sand, dark variant, 0 to 8 percent slopes","Jaucas variant",null,100,null,80,12,4,1.2,"rare","very brief",null,"none"]
["HI960","Kauai","KavB",{"$f":"IF(B849='Veg Guide Data Base'!$AD$1376,C849,FALSE)","v":false},"467835","Kaena clay, brown variant, 1 to 6 percent slopes","Kaena variant",null,100,null,80,9,4,2.5,"none",null,null,"none"]
["HI960","Kauai","KavC",{"$f":"IF(B850='Veg Guide Data Base'!$AD$1376,C850,FALSE)","v":false},"467836","Kaena clay, brown variant, 6 to 12 percent slopes","Kaena variant",null,100,null,80,9,9,2.5,"none",null,null,"none"]
["HI960","Kauai","KdD",{"$f":"IF(B851='Veg Guide Data Base'!$AD$1376,C851,FALSE)","v":false},"467837","Kalapa silty clay, 8 to 20 percent slopes","Kalapa",null,100,null,80,0,14,2.6,"none",null,null,"none"]
["HI960","Kauai","KdE",{"$f":"IF(B852='Veg Guide Data Base'!$AD$1376,C852,FALSE)","v":false},"467838","Kalapa silty clay, 20 to 40 percent slopes","Kalapa",null,100,null,80,0,30,2.6,"none",null,null,"none"]
["HI960","Kauai","KdF",{"$f":"IF(B853='Veg Guide Data Base'!$AD$1376,C853,FALSE)","v":false},"467839","Kalapa silty clay, 40 to 70 percent slopes","Kalapa",null,100,null,80,0,55,2.6,"none",null,null,"none"]
["HI960","Kauai","Ke",{"$f":"IF(B854='Veg Guide Data Base'!$AD$1376,C854,FALSE)","v":false},"467840","Kalihi clay","Kalihi",null,100,null,80,6,1,2.6,"rare, occasional","very brief","January, February, March, November, December","frequent","very brief","January, February, March, April, May, June, July, August, September, October, November, December"]
["HI960","Kauai","KEHF",{"$f":"IF(B855='Veg Guide Data Base'!$AD$1376,C855,FALSE)","v":false},"467827","Kalapa very rocky silty clay, 40 to 70 percent slopes","Kalapa","very rocky",75,null,80,0,55,2.6,"none",null,null,"none"]
["HI960","Kauai","KEHF",{"$f":"IF(B856='Veg Guide Data Base'!$AD$1376,C856,FALSE)","v":false},"467827","Kalapa very rocky silty clay, 40 to 70 percent slopes","Rock outcrop",null,25,"bedrock, lithic",0,0,55,0,"none",null,null,"none"]
["HI960","Kauai","Kf",{"$f":"IF(B857='Veg Guide Data Base'!$AD$1376,C857,FALSE)","v":false},"467841","Kaloko clay loam","Kaloko",null,60,null,80,5,1,2.6,"occasional, rare","very brief","January, February, March, April, November, December","occasional, rare","very brief","January, February, March, April, November, December"]
["HI960","Kauai","Kf",{"$f":"IF(B858='Veg Guide Data Base'!$AD$1376,C858,FALSE)","v":false},"467841","Kaloko clay loam","Kaloko, drained",null,40,null,80,5,1,2.6,"occasional, rare","very brief","January, February, March, April, November, December","occasional, rare","very brief","January, February, March, April, November, December"]
["HI960","Kauai","Kfa",{"$f":"IF(B859='Veg Guide Data Base'!$AD$1376,C859,FALSE)","v":false},"467842","Kaloko clay","Kaloko",null,60,null,80,0,1,2.6,"occasional, rare","very brief","January, February, March, April, November, December","occasional, rare","very brief","January, February, March, April, November, December"]
["HI960","Kauai","Kfa",{"$f":"IF(B860='Veg Guide Data Base'!$AD$1376,C860,FALSE)","v":false},"467842","Kaloko clay","Kaloko, drained",null,40,null,80,0,1,2.6,"occasional, rare","very brief","January, February, March, April, November, December","occasional, rare","very brief","January, February, March, April, November, December"]
["HI960","Kauai","KkB",{"$f":"IF(B861='Veg Guide Data Base'!$AD$1376,C861,FALSE)","v":false},"467843","Kapaa silty clay, 3 to 8 percent slopes","Kapaa",null,100,null,80,2,6,2.5,"none",null,null,"none"]
["HI960","Kauai","KkC",{"$f":"IF(B862='Veg Guide Data Base'!$AD$1376,C862,FALSE)","v":false},"467844","Kapaa silty clay, 8 to 15 percent slopes","Kapaa",null,100,null,80,2,12,2.5,"none",null,null,"none"]
["HI960","Kauai","KkD",{"$f":"IF(B863='Veg Guide Data Base'!$AD$1376,C863,FALSE)","v":false},"467845","Kapaa silty clay, 15 to 25 percent slopes","Kapaa",null,100,null,80,2,20,2.5,"none",null,null,"none"]
["HI960","Kauai","KkE",{"$f":"IF(B864='Veg Guide Data Base'!$AD$1376,C864,FALSE)","v":false},"467846","Kapaa silty clay, 25 to 40 percent slopes","Kapaa",null,100,null,80,2,33,2.5,"none",null,null,"none"]
["HI960","Kauai","KoA",{"$f":"IF(B865='Veg Guide Data Base'!$AD$1376,C865,FALSE)","v":false},"467847","Kekaha silty clay, 0 to 2 percent slopes","Kekaha",null,100,null,80,0,1,2,"occasional, none","very brief,","January, February, March, April, October, November, December","rare","very brief"]
["HI960","Kauai","KoB",{"$f":"IF(B866='Veg Guide Data Base'!$AD$1376,C866,FALSE)","v":false},"467848","Kekaha silty clay, 2 to 6 percent slopes","Kekaha",null,100,null,80,0,4,2,"occasional, none","very brief,","January, February, March, April, October, November, December","rare","very brief"]
["HI960","Kauai","KobA",{"$f":"IF(B867='Veg Guide Data Base'!$AD$1376,C867,FALSE)","v":false},"467849","Kekaha clay, 0 to 2 percent slopes","Kekaha",null,100,null,80,0,1,2,"occasional, none","very brief,","January, February, March, April, October, November, December","rare","very brief"]
["HI960","Kauai","KOYE",{"$f":"IF(B868='Veg Guide Data Base'!$AD$1376,C868,FALSE)","v":false},"467828","Kekaha extremely stony silty clay loam, 0 to 35 percent slopes","Kekaha","extremely stony",100,null,80,60,18,1.8,"occasional, none, rare","very brief,","January, February, March, April, November, December","rare","very brief"]
["HI960","Kauai","KSKE",{"$f":"IF(B869='Veg Guide Data Base'!$AD$1376,C869,FALSE)","v":false},"467829","Kokee silty clay loam, 0 to 35 percent slopes","Kokee",null,100,"bedrock, lithic",40,0,18,3.1,"none",null,null,"none"]
["HI960","Kauai","KSKF",{"$f":"IF(B870='Veg Guide Data Base'!$AD$1376,C870,FALSE)","v":false},"467830","Kokee silty clay loam, 35 to 70 percent slopes","Kokee",null,100,"bedrock, paralithic",42,0,53,3.1,"none",null,null,"none"]
["HI960","Kauai","KUL",{"$f":"IF(B871='Veg Guide Data Base'!$AD$1376,C871,FALSE)","v":false},"467831","Kolokolo extremely stony clay loam","Kolokolo","extremely stony",100,null,80,61,1,2.2000000000000002,"rare, occasional","very brief","January, February, March, November, December","rare","very brief"]
["HI960","Kauai","KvB",{"$f":"IF(B872='Veg Guide Data Base'!$AD$1376,C872,FALSE)","v":false},"467850","Koloa stony silty clay, 3 to 8 percent slopes","Koloa","stony",100,"bedrock, lithic",20,21,6,2.5,"none",null,null,"none"]
["HI960","Kauai","KvC",{"$f":"IF(B873='Veg Guide Data Base'!$AD$1376,C873,FALSE)","v":false},"467851","Koloa stony silty clay, 8 to 15 percent slopes","Koloa","stony",100,"bedrock, lithic",20,21,12,2.5,"none",null,null,"none"]
["HI960","Kauai","KvD",{"$f":"IF(B874='Veg Guide Data Base'!$AD$1376,C874,FALSE)","v":false},"467852","Koloa stony silty clay, 15 to 25 percent slopes","Koloa","stony",100,"bedrock, lithic",20,21,20,2.5,"none",null,null,"none"]
["HI960","Kauai","KVSB",{"$f":"IF(B875='Veg Guide Data Base'!$AD$1376,C875,FALSE)","v":false},"467832","Koolau silty clay, 0 to 8 percent slopes","Koolau",null,100,null,80,2,4,2.6,"none",null,null,"none"]
["HI960","Kauai","KVSE",{"$f":"IF(B876='Veg Guide Data Base'!$AD$1376,C876,FALSE)","v":false},"467833","Koolau silty clay, 8 to 30 percent slopes","Koolau",null,100,null,80,2,19,2.6,"none",null,null,"none"]
["HI960","Kauai","Kw",{"$f":"IF(B877='Veg Guide Data Base'!$AD$1376,C877,FALSE)","v":false},"467853","Kolokolo clay loam","Kolokolo",null,100,null,80,11,1,2.6,"occasional, rare","very brief","January, February, March, April, November, December","rare","very brief"]
["HI960","Kauai","KZC",{"$f":"IF(B878='Veg Guide Data Base'!$AD$1376,C878,FALSE)","v":false},"467834","Kunuweia very gravelly clay loam, 0 to 15 percent slopes","Kunuweia","very gravelly",100,null,80,35,8,2.2000000000000002,"none",null,null,"none"]
["HI960","Kauai","LcB",{"$f":"IF(B879='Veg Guide Data Base'!$AD$1376,C879,FALSE)","v":false},"467855","Lawai silty clay, 0 to 8 percent slopes","Lawai",null,100,null,80,4,4,3,"none",null,null,"none"]
["HI960","Kauai","LcC",{"$f":"IF(B880='Veg Guide Data Base'!$AD$1376,C880,FALSE)","v":false},"467856","Lawai silty clay, 8 to 15 percent slopes","Lawai",null,100,null,80,4,12,3,"none",null,null,"none"]
["HI960","Kauai","LcD",{"$f":"IF(B881='Veg Guide Data Base'!$AD$1376,C881,FALSE)","v":false},"467857","Lawai silty clay, 15 to 25 percent slopes","Lawai",null,100,null,80,4,20,3,"none",null,null,"none"]
["HI960","Kauai","LhB",{"$f":"IF(B882='Veg Guide Data Base'!$AD$1376,C882,FALSE)","v":false},"467858","Lihue silty clay, 0 to 8 percent slopes","Lihue",null,100,null,80,4,4,2.8,"none",null,null,"none"]
["HI960","Kauai","LhC",{"$f":"IF(B883='Veg Guide Data Base'!$AD$1376,C883,FALSE)","v":false},"467859","Lihue silty clay, 8 to 15 percent slopes","Lihue",null,100,null,80,4,12,2.8,"none",null,null,"none"]
["HI960","Kauai","LhD",{"$f":"IF(B884='Veg Guide Data Base'!$AD$1376,C884,FALSE)","v":false},"467860","Lihue silty clay, 15 to 25 percent slopes","Lihue",null,100,null,80,4,20,2.8,"none",null,null,"none"]
["HI960","Kauai","LhE2",{"$f":"IF(B885='Veg Guide Data Base'!$AD$1376,C885,FALSE)","v":false},"467861","Lihue silty clay, 25 to 40 percent slopes, eroded","Lihue",null,100,null,80,5,33,2.8,"none",null,null,"none"]
["HI960","Kauai","LlB",{"$f":"IF(B886='Veg Guide Data Base'!$AD$1376,C886,FALSE)","v":false},"467862","Lihue gravelly silty clay, 0 to 8 percent slopes","Lihue","gravelly",100,null,80,22,4,2.8,"none",null,null,"none"]
["HI960","Kauai","LlC",{"$f":"IF(B887='Veg Guide Data Base'!$AD$1376,C887,FALSE)","v":false},"467863","Lihue gravelly silty clay, 8 to 15 percent slopes","Lihue","gravelly",100,null,80,22,12,2.8,"none",null,null,"none"]
["HI960","Kauai","LPE",{"$f":"IF(B888='Veg Guide Data Base'!$AD$1376,C888,FALSE)","v":false},"467854","Lualualei extremely stony clay, 3 to 35 percent slopes","Lualualei","extremely stony",100,null,80,61,19,1.8,"none",null,null,"none"]
["HI960","Kauai","LuA",{"$f":"IF(B889='Veg Guide Data Base'!$AD$1376,C889,FALSE)","v":false},"467864","Lualualei clay, 0 to 2 percent slopes","Lualualei",null,100,null,80,8,1,2.2999999999999998,"rare","very brief",null,"rare","very brief"]
["HI960","Kauai","LuB",{"$f":"IF(B890='Veg Guide Data Base'!$AD$1376,C890,FALSE)","v":false},"467865","Lualualei clay, 2 to 6 percent slopes","Lualualei",null,100,null,80,8,4,2.2999999999999998,"rare","very brief",null,"rare","very brief"]
["HI960","Kauai","MaC",{"$f":"IF(B891='Veg Guide Data Base'!$AD$1376,C891,FALSE)","v":false},"467867","Mahana silt loam, 6 to 12 percent slopes","Mahana",null,100,null,80,0,9,1.9,"none",null,null,"none"]
["HI960","Kauai","MaD",{"$f":"IF(B892='Veg Guide Data Base'!$AD$1376,C892,FALSE)","v":false},"467868","Mahana silt loam, 12 to 20 percent slopes","Mahana",null,100,null,80,0,16,1.9,"none",null,null,"none"]
["HI960","Kauai","MaD3",{"$f":"IF(B893='Veg Guide Data Base'!$AD$1376,C893,FALSE)","v":false},"467869","Mahana silt loam, 12 to 20 percent slopes, severely eroded","Mahana",null,100,null,80,0,16,2.2000000000000002,"none",null,null,"none"]
["HI960","Kauai","MaE",{"$f":"IF(B894='Veg Guide Data Base'!$AD$1376,C894,FALSE)","v":false},"467870","Mahana silt loam, 20 to 35 percent slopes","Mahana",null,100,null,80,0,28,1.9,"none",null,null,"none"]
["HI960","Kauai","MaE3",{"$f":"IF(B895='Veg Guide Data Base'!$AD$1376,C895,FALSE)","v":false},"467871","Mahana silt loam, 20-35 percent slopes, severely eroded","Mahana",null,100,null,80,0,28,2.2000000000000002,"none",null,null,"none"]
["HI960","Kauai","MeB",{"$f":"IF(B896='Veg Guide Data Base'!$AD$1376,C896,FALSE)","v":false},"467872","Makapili silty clay, 0 to 8 percent slopes","Makapili",null,100,null,80,2,4,2.6,"none",null,null,"none"]
["HI960","Kauai","MeC",{"$f":"IF(B897='Veg Guide Data Base'!$AD$1376,C897,FALSE)","v":false},"467873","Makapili silty clay, 8 to 15 percent slopes","Makapili",null,100,null,80,2,12,2.6,"none",null,null,"none"]
["HI960","Kauai","MeD",{"$f":"IF(B898='Veg Guide Data Base'!$AD$1376,C898,FALSE)","v":false},"467874","Makapili silty clay, 15 to 25 percent slopes","Makapili",null,100,null,80,2,20,2.6,"none",null,null,"none"]
["HI960","Kauai","MeE",{"$f":"IF(B899='Veg Guide Data Base'!$AD$1376,C899,FALSE)","v":false},"467875","Makapili silty clay, 25 to 40 percent slopes","Makapili",null,100,null,80,2,33,2.6,"none",null,null,"none"]
["HI960","Kauai","MgB",{"$f":"IF(B900='Veg Guide Data Base'!$AD$1376,C900,FALSE)","v":false},"467876","Makaweli silty clay loam, 0 to 6 percent slopes","Makaweli",null,100,null,80,2,3,3,"none",null,null,"none"]
["HI960","Kauai","MgC",{"$f":"IF(B901='Veg Guide Data Base'!$AD$1376,C901,FALSE)","v":false},"467877","Makaweli silty clay loam, 6 to 12 percent slopes","Makaweli",null,100,null,80,2,9,3,"none",null,null,"none"]
["HI960","Kauai","MgD",{"$f":"IF(B902='Veg Guide Data Base'!$AD$1376,C902,FALSE)","v":false},"467878","Makaweli silty clay loam, 12 to 20 percent slopes","Makaweli",null,100,null,80,2,16,3,"none",null,null,"none"]
["HI960","Kauai","MgE2",{"$f":"IF(B903='Veg Guide Data Base'!$AD$1376,C903,FALSE)","v":false},"467879","Makaweli silty clay loam, 20 to 35 percent slopes, eroded","Makaweli",null,100,null,80,2,28,3,"none",null,null,"none"]
["HI960","Kauai","MhB",{"$f":"IF(B904='Veg Guide Data Base'!$AD$1376,C904,FALSE)","v":false},"467880","Makaweli stony silty clay loam, 0 to 6 percent slopes","Makaweli",null,100,null,80,17,3,2.7,"none",null,null,"none"]
["HI960","Kauai","MhC",{"$f":"IF(B905='Veg Guide Data Base'!$AD$1376,C905,FALSE)","v":false},"467881","Makaweli stony silty clay loam, 6 to 12 percent slopes","Makaweli",null,100,null,80,17,9,2.7,"none",null,null,"none"]
["HI960","Kauai","MhD",{"$f":"IF(B906='Veg Guide Data Base'!$AD$1376,C906,FALSE)","v":false},"467882","Makaweli stony silty clay loam, 12 to 20 percent slopes","Makaweli",null,100,null,80,17,16,2.7,"none",null,null,"none"]
["HI960","Kauai","MhE",{"$f":"IF(B907='Veg Guide Data Base'!$AD$1376,C907,FALSE)","v":false},"467883","Makaweli stony silty clay loam, 20 to 35 percent slopes","Makaweli",null,100,null,80,17,28,2.7,"none",null,null,"none"]
["HI960","Kauai","MnC",{"$f":"IF(B908='Veg Guide Data Base'!$AD$1376,C908,FALSE)","v":false},"467884","Mamala stony silty clay loam, 0 to 12 percent slopes","Mamala",null,100,"bedrock, lithic",19,20,6,2.1,"rare","very brief",null,"none"]
["HI960","Kauai","Mr",{"$f":"IF(B909='Veg Guide Data Base'!$AD$1376,C909,FALSE)","v":false},"467885","Mokuleia fine sandy loam","Mokuleia",null,100,null,80,7,1,2,"rare, occasional","very brief","January, February, March, October, November, December","none"]
["HI960","Kauai","Mta",{"$f":"IF(B910='Veg Guide Data Base'!$AD$1376,C910,FALSE)","v":false},"467886","Mokuleia clay loam, poorly drained variant","Mokuleia variant",null,85,null,80,7,1,2.5,"rare, occasional","very brief","January, February, March, November, December","rare, occasional","very brief","January, February, March, November, December"]
["HI960","Kauai","MZ",{"$f":"IF(B911='Veg Guide Data Base'!$AD$1376,C911,FALSE)","v":false},"467866","Marsh","Marsh",null,100,null,80,0,1,5.3,"frequent","long","January, February, March, April, May, June, July, August, September, October, November, December","frequent","very long","January, February, March, April, May, June, July, August, September, October, November, December"]
["HI960","Kauai","NcC",{"$f":"IF(B912='Veg Guide Data Base'!$AD$1376,C912,FALSE)","v":false},"467887","Niu silty clay loam, 6 to 12 percent slopes","Niu",null,100,null,80,0,9,2.4,"none",null,null,"none"]
["HI960","Kauai","NcD",{"$f":"IF(B913='Veg Guide Data Base'!$AD$1376,C913,FALSE)","v":false},"467888","Niu silty clay loam, 12 to 20 percent slopes","Niu",null,100,null,80,0,16,2.4,"none",null,null,"none"]
["HI960","Kauai","NcD2",{"$f":"IF(B914='Veg Guide Data Base'!$AD$1376,C914,FALSE)","v":false},"467889","Niu silty clay loam, 6 to 12 percent slopes, eroded","Niu",null,100,null,80,0,9,2.4,"none",null,null,"none"]
["HI960","Kauai","NcE2",{"$f":"IF(B915='Veg Guide Data Base'!$AD$1376,C915,FALSE)","v":false},"467890","Niu silty clay loam 20 to 35 percent slopes, eroded","Niu",null,100,null,80,0,28,2.4,"none",null,null,"none"]
["HI960","Kauai","Nh",{"$f":"IF(B916='Veg Guide Data Base'!$AD$1376,C916,FALSE)","v":false},"467891","Nohili clay","Nohili",null,100,null,80,0,1,2.2999999999999998,"occasional, rare","very brief","January, February, March, April, November, December","occasional, rare","very brief","January, February, March, April, November, December"]
["HI960","Kauai","NnC",{"$f":"IF(B917='Veg Guide Data Base'!$AD$1376,C917,FALSE)","v":false},"467892","Nonopahu clay, 2 to 10 percent slopes","Nonopahu",null,100,null,80,5,6,7.9,"none",null,null,"none"]
["HI960","Kauai","NoC",{"$f":"IF(B918='Veg Guide Data Base'!$AD$1376,C918,FALSE)","v":false},"467893","Nonopahu stony clay, 2 to 12 percent slopes","Nonopahu","stony",100,null,80,14,7,7.9,"none",null,null,"none"]
["HI960","Kauai","OlD",{"$f":"IF(B919='Veg Guide Data Base'!$AD$1376,C919,FALSE)","v":false},"467896","Oli loam, 12 to 20 percent slopes","Oli",null,100,"bedrock, lithic",30,0,16,2.6,"none",null,null,"none"]
["HI960","Kauai","OME",{"$f":"IF(B920='Veg Guide Data Base'!$AD$1376,C920,FALSE)","v":false},"467894","Oli silt loam, 10 to 30 percent slopes","Oli",null,100,"bedrock, lithic",30,0,20,2.6,"none",null,null,"none"]
["HI960","Kauai","OMF",{"$f":"IF(B921='Veg Guide Data Base'!$AD$1376,C921,FALSE)","v":false},"467895","Oli silt loam, 30 to 70 percent slopes","Oli",null,100,"bedrock, lithic",18,0,50,2.4,"none",null,null,"none"]
["HI960","Kauai","PdA",{"$f":"IF(B922='Veg Guide Data Base'!$AD$1376,C922,FALSE)","v":false},"467900","Pakala clay loam, 0 to 2 percent slopes","Pakala",null,100,null,80,0,1,2.2000000000000002,"rare, occasional","very brief","January, February, March, November, December","rare, occasional","very brief","January, February, March, November, December"]
["HI960","Kauai","PdC",{"$f":"IF(B923='Veg Guide Data Base'!$AD$1376,C923,FALSE)","v":false},"467901","Pakala clay loam, 2 to 10 percent slopes","Pakala",null,100,null,80,0,6,2.2000000000000002,"none, rare, occasional","very brief","January, February, March, November, December","none"]
["HI960","Kauai","PGE",{"$f":"IF(B924='Veg Guide Data Base'!$AD$1376,C924,FALSE)","v":false},"467897","Paaiki loam, 6 to 35 percent slopes","Paaiki",null,100,"bedrock, lithic",40,0,21,3.5,"none",null,null,"none"]
["HI960","Kauai","PGF",{"$f":"IF(B925='Veg Guide Data Base'!$AD$1376,C925,FALSE)","v":false},"467898","Paaiki loam, 35 to 70 percent slopes","Paaiki",null,100,"bedrock, lithic",40,0,53,3.5,"none",null,null,"none"]
["HI960","Kauai","PHXC",{"$f":"IF(B926='Veg Guide Data Base'!$AD$1376,C926,FALSE)","v":false},"467899","Pakala extremely stony sandy clay loam, 0 to 12 percent slopes","Pakala","extremely stony",100,null,80,60,6,2.2000000000000002,"rare, occasional","very brief","January, February, March, November, December","none"]
["HI960","Kauai","PIT",{"$f":"IF(B927='Veg Guide Data Base'!$AD$1376,C927,FALSE)","v":false},"467797","Pits","Pits",null,100,null,80,0,null,null,"none",null,null,"none"]
["HI960","Kauai","PkB",{"$f":"IF(B928='Veg Guide Data Base'!$AD$1376,C928,FALSE)","v":false},"467902","Pohakupu silty clay loam, 0 to 8 percent slopes","Pohakupu",null,100,null,80,0,4,2.6,"none",null,null,"none"]
["HI960","Kauai","PlB",{"$f":"IF(B929='Veg Guide Data Base'!$AD$1376,C929,FALSE)","v":false},"467903","Pooku silty clay loam, 3 to 8 percent slopes","Pooku",null,100,null,80,0,6,2.6,"none",null,null,"none"]
["HI960","Kauai","PlD",{"$f":"IF(B930='Veg Guide Data Base'!$AD$1376,C930,FALSE)","v":false},"467904","Pooku silty clay loam, 8 to 25 percent slopes","Pooku",null,100,null,80,0,17,2.6,"none",null,null,"none"]
["HI960","Kauai","PmB",{"$f":"IF(B931='Veg Guide Data Base'!$AD$1376,C931,FALSE)","v":false},"467905","Pooku silty clay, 0 to 8 percent slopes","Pooku",null,100,null,80,0,4,2.6,"none",null,null,"none"]
["HI960","Kauai","PmC",{"$f":"IF(B932='Veg Guide Data Base'!$AD$1376,C932,FALSE)","v":false},"467906","Pooku silty clay, 8 to 15 percent slopes","Pooku",null,100,null,80,0,12,2.6,"none",null,null,"none"]
["HI960","Kauai","PmD",{"$f":"IF(B933='Veg Guide Data Base'!$AD$1376,C933,FALSE)","v":false},"467907","Pooku silty clay, 15 to 25 percent slopes","Pooku",null,100,null,80,0,20,2.6,"none",null,null,"none"]
["HI960","Kauai","PmE",{"$f":"IF(B934='Veg Guide Data Base'!$AD$1376,C934,FALSE)","v":false},"467908","Pooku silty clay, 25 to 40 percent slopes","Pooku",null,100,null,80,0,33,2.6,"none",null,null,"none"]
["HI960","Kauai","PnA",{"$f":"IF(B935='Veg Guide Data Base'!$AD$1376,C935,FALSE)","v":false},"467909","Puhi silty clay loam, 0 to 3 percent slopes","Puhi",null,100,null,80,0,2,2.2000000000000002,"none",null,null,"none"]
["HI960","Kauai","PnB",{"$f":"IF(B936='Veg Guide Data Base'!$AD$1376,C936,FALSE)","v":false},"467910","Puhi silty clay loam, 3 to 8 percent slopes","Puhi",null,100,null,80,0,6,2.2000000000000002,"none",null,null,"none"]
["HI960","Kauai","PnC",{"$f":"IF(B937='Veg Guide Data Base'!$AD$1376,C937,FALSE)","v":false},"467911","Puhi silty clay loam, 8 to 15 percent slopes","Puhi",null,100,null,80,0,12,2.2000000000000002,"none",null,null,"none"]
["HI960","Kauai","PnD",{"$f":"IF(B938='Veg Guide Data Base'!$AD$1376,C938,FALSE)","v":false},"467912","Puhi silty clay loam, 15 to 25 percent slopes","Puhi",null,100,null,80,0,20,2.2000000000000002,"none",null,null,"none"]
["HI960","Kauai","PnE",{"$f":"IF(B939='Veg Guide Data Base'!$AD$1376,C939,FALSE)","v":false},"467913","Puhi silty clay loam, 25 to 40 percent slopes","Puhi",null,100,null,80,0,33,2.2000000000000002,"none",null,null,"none"]
["HI960","Kauai","PwC",{"$f":"IF(B940='Veg Guide Data Base'!$AD$1376,C940,FALSE)","v":false},"467914","Puu Opae silty clay loam, 8 to 15 percent slopes","Puu Opae",null,100,null,80,2,12,2.6,"none",null,null,"none"]
["HI960","Kauai","PwD",{"$f":"IF(B941='Veg Guide Data Base'!$AD$1376,C941,FALSE)","v":false},"467915","Puu Opae silty clay loam, 15 to 25 percent slopes","Puu Opae",null,100,null,80,2,20,2.6,"none",null,null,"none"]
["HI960","Kauai","PwE",{"$f":"IF(B942='Veg Guide Data Base'!$AD$1376,C942,FALSE)","v":false},"467916","Puu Opae silty clay loam, 25 to 40 percent slopes","Puu Opae",null,100,null,80,2,33,2.6,"none",null,null,"none"]
["HI960","Kauai","QU",{"$f":"IF(B943='Veg Guide Data Base'!$AD$1376,C943,FALSE)","v":false},"467798","Quarry","Quarry",null,100,null,80,0,null,null,"none",null,null,"none"]
["HI960","Kauai","rAAE",{"$f":"IF(B944='Veg Guide Data Base'!$AD$1376,C944,FALSE)","v":false},"467922","Alakai mucky peat, 0 to 30 percent slopes","Alakai",null,100,null,80,0,15,4.5,"none",null,null,"none"]
["HI960","Kauai","rRH",{"$f":"IF(B945='Veg Guide Data Base'!$AD$1376,C945,FALSE)","v":false},"467923","Riverwash","Riverwash",null,80,null,80,60,2,0.5,"frequent, rare","very brief,","January, February, March, April, May, June, July, October, November, December","none"]
["HI960","Kauai","rRK",{"$f":"IF(B946='Veg Guide Data Base'!$AD$1376,C946,FALSE)","v":false},"467924","Rock land","Rock land",null,55,"bedrock, lithic",8,11,40,1.1000000000000001,"none",null,null,"none"]
["HI960","Kauai","rRK",{"$f":"IF(B947='Veg Guide Data Base'!$AD$1376,C947,FALSE)","v":false},"467924","Rock land","Rock outcrop",null,45,"bedrock, lithic",0,0,40,0,"none",null,null,"none"]
["HI960","Kauai","rRO",{"$f":"IF(B948='Veg Guide Data Base'!$AD$1376,C948,FALSE)","v":false},"467925","Rock outcrop","Rock outcrop",null,100,"bedrock, lithic",0,0,52,0,"none",null,null,"none"]
["HI960","Kauai","rRR",{"$f":"IF(B949='Veg Guide Data Base'!$AD$1376,C949,FALSE)","v":false},"467926","Rough broken land","Rough broken land",null,100,"bedrock, paralithic",30,10,55,3,"none",null,null,"none"]
["HI960","Kauai","rRT",{"$f":"IF(B950='Veg Guide Data Base'!$AD$1376,C950,FALSE)","v":false},"467927","Rough mountainous land","Rough mountainous land",null,100,"bedrock, paralithic",25,23,75,2.5,"none",null,null,"none"]
["HI960","Kauai","rRU",{"$f":"IF(B951='Veg Guide Data Base'!$AD$1376,C951,FALSE)","v":false},"467928","Rubble land","Rubble land",null,100,null,80,80,23,1,"none",null,null,"none"]
["HI960","Kauai","rWAF",{"$f":"IF(B952='Veg Guide Data Base'!$AD$1376,C952,FALSE)","v":false},"467929","Waialeale mucky silty clay loam, 30 to 70 percent slopes","Waialeale","mucky",80,"bedrock, paralithic",24,11,50,3,"none",null,null,"none"]
["HI960","Kauai","W",{"$f":"IF(B953='Veg Guide Data Base'!$AD$1376,C953,FALSE)","v":false},"467917","Water > 40 acres","Water > 40 acres",null,100,null,80,0,null,null,"none",null,null,"none"]
["HI960","Kauai","WJF",{"$f":"IF(B954='Veg Guide Data Base'!$AD$1376,C954,FALSE)","v":false},"467918","Waiawa extremely rocky clay, 30 to 80 percent slopes","Waiawa","extremely rocky",65,"bedrock, lithic",14,1,55,2.2999999999999998,"none",null,null,"none"]
["HI960","Kauai","WJF",{"$f":"IF(B955='Veg Guide Data Base'!$AD$1376,C955,FALSE)","v":false},"467918","Waiawa extremely rocky clay, 30 to 80 percent slopes","Rock outcrop",null,35,"bedrock, lithic",0,0,55,0,"none",null,null,"none"]
["HI960","Kauai","Ws",{"$f":"IF(B956='Veg Guide Data Base'!$AD$1376,C956,FALSE)","v":false},"467919","Waikomo stony silty clay","Waikomo",null,100,"bedrock, lithic",20,30,4,2,"none",null,null,"none"]
["HI960","Kauai","Wt",{"$f":"IF(B957='Veg Guide Data Base'!$AD$1376,C957,FALSE)","v":false},"467920","Waikomo very rocky silty clay","Waikomo","very rocky",65,"bedrock, lithic",20,30,4,2,"none",null,null,"none"]
["HI960","Kauai","Wt",{"$f":"IF(B958='Veg Guide Data Base'!$AD$1376,C958,FALSE)","v":false},"467920","Waikomo very rocky silty clay","Rock outcrop",null,35,"bedrock, lithic",0,0,4,0,"none",null,null,"none"]
["HI960","Kauai","Wu",{"$f":"IF(B959='Veg Guide Data Base'!$AD$1376,C959,FALSE)","v":false},"467921","Waikomo extremely rocky silty clay","Waikomo","extremely rocky",60,"bedrock, lithic",20,30,4,2,"none",null,null,"none"]
["HI960","Kauai","Wu",{"$f":"IF(B960='Veg Guide Data Base'!$AD$1376,C960,FALSE)","v":false},"467921","Waikomo extremely rocky silty clay","Rock outcrop",null,40,"bedrock, lithic",0,0,4,0,"none",null,null,"none"]
["HI970","Lanai","BS",{"$f":"IF(B961='Veg Guide Data Base'!$AD$1376,C961,FALSE)","v":false},"467930","Beaches","Beaches",null,100,null,80,12,3,0.8,"frequent","very brief","January, February, March, April, May, June, July, August, September, October, November, December","none"]
["HI970","Lanai","BW",{"$f":"IF(B962='Veg Guide Data Base'!$AD$1376,C962,FALSE)","v":false},"467931","Blown-out land","Blown-out land",null,100,"bedrock, paralithic",20,0,8,2.4,"none",null,null,"none"]
["HI970","Lanai","CR",{"$f":"IF(B963='Veg Guide Data Base'!$AD$1376,C963,FALSE)","v":false},"467987","Coral outcrop","Coral outcrop",null,85,"bedrock, lithic",0,0,10,0,"none",null,null,"none"]
["HI970","Lanai","JaC",{"$f":"IF(B964='Veg Guide Data Base'!$AD$1376,C964,FALSE)","v":false},"467932","Jaucas sand, 0 to 15 percent slopes","Jaucas",null,100,null,80,0,8,1.1000000000000001,"rare","very brief",null,"none"]
["HI970","Lanai","KASD",{"$f":"IF(B965='Veg Guide Data Base'!$AD$1376,C965,FALSE)","v":false},"467933","Kahanui silty clay, 3 to 20 percent slopes","Kahanui",null,100,"placic",21,8,12,2.2000000000000002,"none",null,null,"none"]
["HI970","Lanai","KcB",{"$f":"IF(B966='Veg Guide Data Base'!$AD$1376,C966,FALSE)","v":false},"467935","Kalae silty clay, 2 to 7 percent slopes","Kalae",null,100,null,80,2,5,2.5,"none",null,null,"none"]
["HI970","Lanai","KcC",{"$f":"IF(B967='Veg Guide Data Base'!$AD$1376,C967,FALSE)","v":false},"467936","Kalae silty clay, 7 to 15 percent slopes","Kalae",null,100,null,80,2,11,2,"none",null,null,"none"]
["HI970","Lanai","KcD3",{"$f":"IF(B968='Veg Guide Data Base'!$AD$1376,C968,FALSE)","v":false},"467937","Kalae silty clay, 15 to 25 percent slopes, severely eroded","Kalae",null,100,null,80,2,20,1.1000000000000001,"none",null,null,"none"]
["HI970","Lanai","KhB",{"$f":"IF(B969='Veg Guide Data Base'!$AD$1376,C969,FALSE)","v":false},"467938","Kanepuu silty clay, 3 to 7 percent slopes","Kanepuu",null,100,null,80,0,5,2.4,"none",null,null,"none"]
["HI970","Lanai","KhB2",{"$f":"IF(B970='Veg Guide Data Base'!$AD$1376,C970,FALSE)","v":false},"467939","Kanepuu silty clay, 3 to 7 percent slopes, eroded","Kanepuu",null,100,null,80,0,5,2.4,"none",null,null,"none"]
["HI970","Lanai","KhC",{"$f":"IF(B971='Veg Guide Data Base'!$AD$1376,C971,FALSE)","v":false},"467940","Kanepuu silty clay, 7 to 15 percent slopes","Kanepuu",null,100,null,80,0,11,2.4,"none",null,null,"none"]
["HI970","Lanai","KhC2",{"$f":"IF(B972='Veg Guide Data Base'!$AD$1376,C972,FALSE)","v":false},"467941","Kanepuu silty clay, 7 to 15 percent slopes, eroded","Kanepuu",null,100,null,80,0,11,2.4,"none",null,null,"none"]
["HI970","Lanai","KrB",{"$f":"IF(B973='Veg Guide Data Base'!$AD$1376,C973,FALSE)","v":false},"467942","Koele silty clay loam, 3 to 7 percent slopes","Koele",null,100,"strongly contrasting textural stratification",33,14,5,2.7,"rare","very brief",null,"none"]
["HI970","Lanai","KrC",{"$f":"IF(B974='Veg Guide Data Base'!$AD$1376,C974,FALSE)","v":false},"467943","Koele silty clay loam, 7 to 15 percent slopes","Koele",null,100,"strongly contrasting textural stratification",33,14,11,2.7,"none",null,null,"none"]
["HI970","Lanai","KrD",{"$f":"IF(B975='Veg Guide Data Base'!$AD$1376,C975,FALSE)","v":false},"467944","Koele silty clay loam, 15 to 25 percent slopes","Koele",null,100,"strongly contrasting textural stratification",33,14,20,2.7,"none",null,null,"none"]
["HI970","Lanai","KRL",{"$f":"IF(B976='Veg Guide Data Base'!$AD$1376,C976,FALSE)","v":false},"467934","Koele-Badland complex","Koele",null,70,"strongly contrasting textural stratification",33,14,14,2.7,"rare","very brief",null,"none"]
["HI970","Lanai","KRL",{"$f":"IF(B977='Veg Guide Data Base'!$AD$1376,C977,FALSE)","v":false},"467934","Koele-Badland complex","Badland",null,30,"bedrock, paralithic",0,0,55,2,"none",null,null,"none"]
["HI970","Lanai","LaA",{"$f":"IF(B978='Veg Guide Data Base'!$AD$1376,C978,FALSE)","v":false},"467945","Lahaina silty clay, 0 to 3 percent slopes","Lahaina",null,100,null,80,0,2,2.2000000000000002,"none",null,null,"none"]
["HI970","Lanai","LaB",{"$f":"IF(B979='Veg Guide Data Base'!$AD$1376,C979,FALSE)","v":false},"467946","Lahaina silty clay, 3 to 7 percent slopes","Lahaina",null,100,null,80,0,5,2.2000000000000002,"none",null,null,"none"]
["HI970","Lanai","LaB3",{"$f":"IF(B980='Veg Guide Data Base'!$AD$1376,C980,FALSE)","v":false},"467947","Lahaina silty clay, 3 to 7 percent slopes, severely eroded","Lahaina",null,100,null,80,0,5,2.2000000000000002,"none",null,null,"none"]
["HI970","Lanai","LaC",{"$f":"IF(B981='Veg Guide Data Base'!$AD$1376,C981,FALSE)","v":false},"467948","Lahaina silty clay, 7 to 15 percent slopes","Lahaina",null,100,null,80,0,11,2.2000000000000002,"none",null,null,"none"]
["HI970","Lanai","LaC3",{"$f":"IF(B982='Veg Guide Data Base'!$AD$1376,C982,FALSE)","v":false},"467949","Lahaina silty clay, 7 to 15 percent slopes, severely eroded","Lahaina",null,100,null,80,0,11,2.2000000000000002,"none",null,null,"none"]
["HI970","Lanai","LaD3",{"$f":"IF(B983='Veg Guide Data Base'!$AD$1376,C983,FALSE)","v":false},"467950","Lahaina silty clay, 15 to 25 percent slopes, severely eroded","Lahaina",null,100,null,80,0,20,2.2000000000000002,"none",null,null,"none"]
["HI970","Lanai","LaE3",{"$f":"IF(B984='Veg Guide Data Base'!$AD$1376,C984,FALSE)","v":false},"467951","Lahaina silty clay, 25 to 40 percent slopes, severely eroded","Lahaina",null,100,null,80,0,33,2.2000000000000002,"none",null,null,"none"]
["HI970","Lanai","LuA",{"$f":"IF(B985='Veg Guide Data Base'!$AD$1376,C985,FALSE)","v":false},"467952","Lualualei clay, 0 to 2 percent slopes","Lualualei",null,100,null,80,8,1,2.2999999999999998,"rare","very brief",null,"none"]
["HI970","Lanai","MmA",{"$f":"IF(B986='Veg Guide Data Base'!$AD$1376,C986,FALSE)","v":false},"467953","Mala silty clay, 0 to 3 percent slopes","Mala",null,100,null,80,6,2,2.4,"occasional, rare","very brief","January, February, March, April, November, December","none"]
["HI970","Lanai","MmB",{"$f":"IF(B987='Veg Guide Data Base'!$AD$1376,C987,FALSE)","v":false},"467954","Mala silty clay, 3 to 7 percent slopes","Mala",null,100,null,80,6,5,2.4,"occasional, rare","very brief","January, February, March, April, November, December","none"]
["HI970","Lanai","MuA",{"$f":"IF(B988='Veg Guide Data Base'!$AD$1376,C988,FALSE)","v":false},"467955","Molokai silty clay loam, 0 to 3 percent slopes","Molokai",null,100,null,80,0,2,2.4,"none",null,null,"none"]
["HI970","Lanai","MuB",{"$f":"IF(B989='Veg Guide Data Base'!$AD$1376,C989,FALSE)","v":false},"467956","Molokai silty clay loam, 3 to 7 percent slopes","Molokai",null,100,null,80,0,5,2.4,"none",null,null,"none"]
["HI970","Lanai","MuC",{"$f":"IF(B990='Veg Guide Data Base'!$AD$1376,C990,FALSE)","v":false},"467957","Molokai silty clay loam, 7 to 15 percent slopes","Molokai",null,100,null,80,0,11,2.4,"none",null,null,"none"]
["HI970","Lanai","MuC3",{"$f":"IF(B991='Veg Guide Data Base'!$AD$1376,C991,FALSE)","v":false},"467958","Molokai silty clay loam, 7 to 15 percent slopes, severely eroded","Molokai",null,100,null,80,0,11,2.4,"none",null,null,"none"]
["HI970","Lanai","MvD3",{"$f":"IF(B992='Veg Guide Data Base'!$AD$1376,C992,FALSE)","v":false},"467959","Molokai silty clay loam, shallow variant, 15 to 25 percent slopes, severely eroded","Molokai variant",null,100,null,80,0,20,2.2000000000000002,"none",null,null,"none"]
["HI970","Lanai","NAC",{"$f":"IF(B993='Veg Guide Data Base'!$AD$1376,C993,FALSE)","v":false},"467960","Naiwa silty clay loam, 3 to 20 percent slopes","Naiwa",null,100,"bedrock, paralithic",52,0,12,2,"none",null,null,"none"]
["HI970","Lanai","OOE",{"$f":"IF(B994='Veg Guide Data Base'!$AD$1376,C994,FALSE)","v":false},"467961","Olokui silty clay loam, 3 to 30 percent slopes","Olokui",null,100,"placic",15,3,17,3.2,"frequent, none","brief,","January, February, March, April, May, June, November, December","frequent","very brief,","January, February, March, April, May, June, November, December"]
["HI970","Lanai","PID",{"$f":"IF(B995='Veg Guide Data Base'!$AD$1376,C995,FALSE)","v":false},"467962","Pamoa silty clay, 5 to 20 percent slopes","Pamoa",null,100,null,80,9,13,1.1000000000000001,"none",null,null,"none"]
["HI970","Lanai","PID2",{"$f":"IF(B996='Veg Guide Data Base'!$AD$1376,C996,FALSE)","v":false},"467963","Pamoa silty clay, 5 to 20 percent slopes, eroded","Pamoa",null,100,null,80,2,13,1,"none",null,null,"none"]
["HI970","Lanai","PoaB",{"$f":"IF(B997='Veg Guide Data Base'!$AD$1376,C997,FALSE)","v":false},"467965","Pulehu stony sandy loam, 0 to 7 percent slopes","Pulehu","stony",100,null,80,29,4,1.6,"rare, occasional","very brief","January, February, March, November, December","none"]
["HI970","Lanai","PoB",{"$f":"IF(B998='Veg Guide Data Base'!$AD$1376,C998,FALSE)","v":false},"467964","Pulehu sandy loam, 2 to 6 percent slopes","Pulehu",null,100,null,80,14,4,2,"rare, occasional","very brief","January, February, March, November, December","none"]
["HI970","Lanai","PsA",{"$f":"IF(B999='Veg Guide Data Base'!$AD$1376,C999,FALSE)","v":false},"467966","Pulehu clay loam, 0 to 3 percent slopes","Pulehu",null,100,null,80,14,2,2.8,"rare, occasional","very brief","January, February, March, November, December","none"]
["HI970","Lanai","rRK",{"$f":"IF(B1000='Veg Guide Data Base'!$AD$1376,C1000,FALSE)","v":false},"467978","Rock land","Rock land",null,55,"bedrock, lithic",8,11,40,1.1000000000000001,"none",null,null,"none"]
["HI970","Lanai","rRO",{"$f":"IF(B1001='Veg Guide Data Base'!$AD$1376,C1001,FALSE)","v":false},"467979","Rock outcrop","Rock outcrop",null,100,"bedrock, lithic",0,0,52,0,"none",null,null,"none"]
["HI970","Lanai","rRR",{"$f":"IF(B1002='Veg Guide Data Base'!$AD$1376,C1002,FALSE)","v":false},"467980","Rough broken land","Rough broken land",null,100,"bedrock, paralithic",30,10,55,3,"none",null,null,"none"]
["HI970","Lanai","rRT",{"$f":"IF(B1003='Veg Guide Data Base'!$AD$1376,C1003,FALSE)","v":false},"467981","Rough mountainous land","Rough mountainous land",null,100,"bedrock, paralithic",25,23,75,2.5,"none",null,null,"none"]
["HI970","Lanai","rSL",{"$f":"IF(B1004='Veg Guide Data Base'!$AD$1376,C1004,FALSE)","v":false},"467982","Sandy alluvial land","Sandy alluvial land",null,100,null,80,13,3,0.8,"frequent, rare","very brief","January, February, March, April, November, December","none"]
["HI970","Lanai","rSM",{"$f":"IF(B1005='Veg Guide Data Base'!$AD$1376,C1005,FALSE)","v":false},"467983","Stony alluvial land","Stony alluvial land",null,100,null,80,61,9,1.2,"rare, occasional","very brief,brief","January, February, March, October, November, December","none"]
["HI970","Lanai","rSN",{"$f":"IF(B1006='Veg Guide Data Base'!$AD$1376,C1006,FALSE)","v":false},"467984","Stony blown-out land","Stony blown-out land",null,100,"bedrock, paralithic",20,35,19,1.6,"none",null,null,"none"]
["HI970","Lanai","rVS",{"$f":"IF(B1007='Veg Guide Data Base'!$AD$1376,C1007,FALSE)","v":false},"467985","Very stony land","Very stony land",null,100,"bedrock, lithic",5,61,19,0.5,"none",null,null,"none"]
["HI970","Lanai","rVT2",{"$f":"IF(B1008='Veg Guide Data Base'!$AD$1376,C1008,FALSE)","v":false},"467986","Very stony land, eroded","Very stony land, eroded","eroded",100,"bedrock, lithic",30,61,19,1.8,"none",null,null,"none"]
["HI970","Lanai","UwB",{"$f":"IF(B1009='Veg Guide Data Base'!$AD$1376,C1009,FALSE)","v":false},"467967","Uwala silty clay loam, 2 to 7 percent slopes","Uwala",null,100,null,80,4,5,2.2000000000000002,"none",null,null,"none"]
["HI970","Lanai","UwC",{"$f":"IF(B1010='Veg Guide Data Base'!$AD$1376,C1010,FALSE)","v":false},"467968","Uwala silty clay loam, 7 to 15 percent slopes","Uwala",null,100,null,80,4,11,2.2000000000000002,"none",null,null,"none"]
["HI970","Lanai","UwC3",{"$f":"IF(B1011='Veg Guide Data Base'!$AD$1376,C1011,FALSE)","v":false},"467969","Uwala silty clay loam, 7 to 15 percent slopes, severely eroded","Uwala",null,100,null,80,4,11,2.2000000000000002,"none",null,null,"none"]
["HI970","Lanai","W",{"$f":"IF(B1012='Veg Guide Data Base'!$AD$1376,C1012,FALSE)","v":false},"467970","Water > 40 acres","Water > 40 acres",null,100,null,80,0,null,null,"none",null,null,"none"]
["HI970","Lanai","WoA",{"$f":"IF(B1013='Veg Guide Data Base'!$AD$1376,C1013,FALSE)","v":false},"467971","Waihuna clay, 0 to 3 percent slopes","Waihuna",null,100,null,80,4,2,2,"none",null,null,"rare","brief,"]
["HI970","Lanai","WoB",{"$f":"IF(B1014='Veg Guide Data Base'!$AD$1376,C1014,FALSE)","v":false},"467972","Waihuna clay, 3 to 7 percent slopes","Waihuna",null,100,null,80,4,5,2,"none",null,null,"none"]
["HI970","Lanai","WoC",{"$f":"IF(B1015='Veg Guide Data Base'!$AD$1376,C1015,FALSE)","v":false},"467973","Waihuna clay, 7 to 15 percent slopes","Waihuna",null,100,null,80,4,11,2,"none",null,null,"none"]
["HI970","Lanai","WoD",{"$f":"IF(B1016='Veg Guide Data Base'!$AD$1376,C1016,FALSE)","v":false},"467974","Waihuna clay, 15 to 25 percent slopes","Waihuna",null,100,null,80,4,20,2,"none",null,null,"none"]
["HI970","Lanai","WohB",{"$f":"IF(B1017='Veg Guide Data Base'!$AD$1376,C1017,FALSE)","v":false},"467975","Waihuna gravelly clay, 3 to 7 percent slopes","Waihuna","gravelly",100,null,80,21,5,1.8,"none",null,null,"none"]
["HI970","Lanai","WrA",{"$f":"IF(B1018='Veg Guide Data Base'!$AD$1376,C1018,FALSE)","v":false},"467976","Waikapu silty clay loam, 0 to 3 percent slopes","Waikapu",null,100,null,80,6,2,2,"none",null,null,"none"]
["HI970","Lanai","WrC3",{"$f":"IF(B1019='Veg Guide Data Base'!$AD$1376,C1019,FALSE)","v":false},"467977","Waikapu silty clay loam, 7 to 15 percent slopes, severely eroded","Waikapu",null,100,null,80,6,11,2,"none",null,null,"none"]
["HI980","Maui","AaB",{"$f":"IF(B1020='Veg Guide Data Base'!$AD$1376,C1020,FALSE)","v":false},"468228","Alae sandy loam, 3 to 7 percent slopes","Alae",null,100,null,80,13,5,1.9,"rare, occasional","very brief","January, February, March, November, December","none"]
["HI980","Maui","AcA",{"$f":"IF(B1021='Veg Guide Data Base'!$AD$1376,C1021,FALSE)","v":false},"468229","Alae cobbly sandy loam, 0 to 3 percent slopes","Alae","cobbly",100,null,80,26,2,1.8,"occasional, rare","very brief","January, February, March, November, December","none"]
["HI980","Maui","AcB",{"$f":"IF(B1022='Veg Guide Data Base'!$AD$1376,C1022,FALSE)","v":false},"468230","Alae cobbly sandy loam, 3 to 7 percent slopes","Alae","cobbly",100,null,80,29,5,1.8,"occasional, rare","very brief","January, February, March, November, December","none"]
["HI980","Maui","AeB",{"$f":"IF(B1023='Veg Guide Data Base'!$AD$1376,C1023,FALSE)","v":false},"468231","Alaeloa silty clay, 3 to 7 percent slopes","Alaeloa",null,100,null,80,6,5,2.6,"none",null,null,"none"]
["HI980","Maui","AeC",{"$f":"IF(B1024='Veg Guide Data Base'!$AD$1376,C1024,FALSE)","v":false},"468232","Alaeloa silty clay, 7 to 15 percent slopes","Alaeloa",null,100,null,80,6,11,2.6,"none",null,null,"none"]
["HI980","Maui","AeE",{"$f":"IF(B1025='Veg Guide Data Base'!$AD$1376,C1025,FALSE)","v":false},"468233","Alaeloa silty clay, 15 to 35 percent slopes","Alaeloa",null,100,null,80,6,25,2.6,"none",null,null,"none"]
["HI980","Maui","BS",{"$f":"IF(B1026='Veg Guide Data Base'!$AD$1376,C1026,FALSE)","v":false},"468234","Beaches","Beaches",null,100,null,80,12,3,0.8,"frequent","very brief","January, February, March, April, May, June, July, August, September, October, November, December","none"]
["HI980","Maui","CPI",{"$f":"IF(B1027='Veg Guide Data Base'!$AD$1376,C1027,FALSE)","v":false},"468226","Cinder pit","Cinder pit",null,100,null,80,0,null,null,"none",null,null,"none"]
["HI980","Maui","DL",{"$f":"IF(B1028='Veg Guide Data Base'!$AD$1376,C1028,FALSE)","v":false},"468235","Dune land","Dune land",null,100,null,80,0,20,0.8,"none",null,null,"none"]
["HI980","Maui","EaA",{"$f":"IF(B1029='Veg Guide Data Base'!$AD$1376,C1029,FALSE)","v":false},"468236","Ewa silty clay loam, 0 to 3 percent slopes","Ewa",null,100,null,80,0,2,2.2000000000000002,"none",null,null,"none"]
["HI980","Maui","EcA",{"$f":"IF(B1030='Veg Guide Data Base'!$AD$1376,C1030,FALSE)","v":false},"468237","Ewa cobbly silty clay loam, 0 to 3 percent slopes","Ewa","cobbly",100,null,80,19,2,2,"none",null,null,"none"]
["HI980","Maui","EcB",{"$f":"IF(B1031='Veg Guide Data Base'!$AD$1376,C1031,FALSE)","v":false},"468238","Ewa cobbly silty clay loam, 3 to 7 percent slopes","Ewa","cobbly",100,null,80,19,5,2,"none",null,null,"none"]
["HI980","Maui","EsA",{"$f":"IF(B1032='Veg Guide Data Base'!$AD$1376,C1032,FALSE)","v":false},"468239","Ewa silty clay, 0 to 3 percent slopes","Ewa",null,100,null,80,0,2,2.2000000000000002,"none",null,null,"none"]
["HI980","Maui","EsB",{"$f":"IF(B1033='Veg Guide Data Base'!$AD$1376,C1033,FALSE)","v":false},"468240","Ewa silty clay, 3 to 7 percent slopes","Ewa",null,100,null,80,0,5,2.2000000000000002,"none",null,null,"none"]
["HI980","Maui","EtB",{"$f":"IF(B1034='Veg Guide Data Base'!$AD$1376,C1034,FALSE)","v":false},"468241","Ewa cobbly silty clay, 3 to 7 percent slopes","Ewa","cobbly",100,null,80,19,5,2,"none",null,null,"none"]
["HI980","Maui","Fd",{"$f":"IF(B1035='Veg Guide Data Base'!$AD$1376,C1035,FALSE)","v":false},"468242","Fill land","Fill land",null,100,"bedrock, lithic",60,8,2,3,"occasional, none","very brief,","January, February, March, April, November, December","none"]
["HI980","Maui","GPI",{"$f":"IF(B1036='Veg Guide Data Base'!$AD$1376,C1036,FALSE)","v":false},"468225","Gravel pit","Gravel pit",null,100,null,80,0,null,null,"none",null,null,"none"]
["HI980","Maui","HaB",{"$f":"IF(B1037='Veg Guide Data Base'!$AD$1376,C1037,FALSE)","v":false},"468248","Haiku silty clay, 3 to 7 percent slopes","Haiku",null,100,null,80,2,5,2.4,"none",null,null,"none"]
["HI980","Maui","HaC",{"$f":"IF(B1038='Veg Guide Data Base'!$AD$1376,C1038,FALSE)","v":false},"468249","Haiku silty clay, 7 to 15 percent slopes","Haiku",null,100,null,80,2,11,2.4,"none",null,null,"none"]
["HI980","Maui","HbB",{"$f":"IF(B1039='Veg Guide Data Base'!$AD$1376,C1039,FALSE)","v":false},"468250","Haiku clay, 3 to 7 percent slopes","Haiku",null,100,null,80,2,5,2.4,"none",null,null,"none"]
["HI980","Maui","HbC",{"$f":"IF(B1040='Veg Guide Data Base'!$AD$1376,C1040,FALSE)","v":false},"468251","Haiku clay, 7 to 15 percent slopes","Haiku",null,100,null,80,2,11,2.4,"none",null,null,"none"]
["HI980","Maui","HgB",{"$f":"IF(B1041='Veg Guide Data Base'!$AD$1376,C1041,FALSE)","v":false},"468252","Haliimaile silty clay loam, 3 to 7 percent slopes","Haliimaile",null,100,null,80,0,5,2,"none",null,null,"none"]
["HI980","Maui","HgC",{"$f":"IF(B1042='Veg Guide Data Base'!$AD$1376,C1042,FALSE)","v":false},"468253","Haliimaile silty clay loam, 7 to 15 percent slopes","Haliimaile",null,100,null,80,0,11,2,"none",null,null,"none"]
["HI980","Maui","HhB",{"$f":"IF(B1043='Veg Guide Data Base'!$AD$1376,C1043,FALSE)","v":false},"468254","Haliimaile silty clay, 3 to 7 percent slopes","Haliimaile",null,100,null,80,0,5,2,"none",null,null,"none"]
["HI980","Maui","HhC",{"$f":"IF(B1044='Veg Guide Data Base'!$AD$1376,C1044,FALSE)","v":false},"468255","Haliimaile silty clay, 7 to 15 percent slopes","Haliimaile",null,100,null,80,0,11,2,"none",null,null,"none"]
["HI980","Maui","HID",{"$f":"IF(B1045='Veg Guide Data Base'!$AD$1376,C1045,FALSE)","v":false},"468243","Halawa silty clay, 3 to 25 percent slopes","Halawa",null,100,"bedrock, paralithic",58,0,14,2.6,"none",null,null,"none"]
["HI980","Maui","HkC2",{"$f":"IF(B1046='Veg Guide Data Base'!$AD$1376,C1046,FALSE)","v":false},"468256","Haliimaile gravelly silty clay, 7 to 15 percent slopes, eroded","Haliimaile","gravelly",100,null,80,18,11,1.8,"none",null,null,"none"]
["HI980","Maui","HKLD",{"$f":"IF(B1047='Veg Guide Data Base'!$AD$1376,C1047,FALSE)","v":false},"468244","Hana very stony silty clay loam, 3 to 25 percent slopes","Hana","very stony",100,null,80,40,14,2.6,"none",null,null,"none"]
["HI980","Maui","HKMD",{"$f":"IF(B1048='Veg Guide Data Base'!$AD$1376,C1048,FALSE)","v":false},"468245","Hana extremely stony silty clay loam, 3 to 25 percent slopes","Hana","extremely stony",100,null,80,70,14,2.6,"none",null,null,"none"]
["HI980","Maui","HKNC",{"$f":"IF(B1049='Veg Guide Data Base'!$AD$1376,C1049,FALSE)","v":false},"468246","Hana silty clay loam, moderately deep variant, 3 to 15 percent slopes","Hana variant",null,100,"bedrock, lithic",30,14,9,2.6,"none",null,null,"none"]
["HI980","Maui","HKOC",{"$f":"IF(B1050='Veg Guide Data Base'!$AD$1376,C1050,FALSE)","v":false},"468247","Hana extremely stony silty clay loam, moderately deep variant, 3 to 15 percent slopes","Hana variant","extremely stony",100,"bedrock, lithic",30,79,9,2.6,"none",null,null,"none"]
["HI980","Maui","HlB",{"$f":"IF(B1051='Veg Guide Data Base'!$AD$1376,C1051,FALSE)","v":false},"468257","Hamakuapoko silty clay, 3 to 7 percent slopes","Hamakuapoko",null,100,null,80,0,5,2.6,"none",null,null,"none"]
["HI980","Maui","HlC",{"$f":"IF(B1052='Veg Guide Data Base'!$AD$1376,C1052,FALSE)","v":false},"468258","Hamakuapoko silty clay, 7 to 15 percent slopes","Hamakuapoko",null,100,null,80,0,11,2.6,"none",null,null,"none"]
["HI980","Maui","HlC2",{"$f":"IF(B1053='Veg Guide Data Base'!$AD$1376,C1053,FALSE)","v":false},"468259","Hamakuapoko silty clay, 7 to 15 percent slopes, eroded","Hamakuapoko",null,100,null,80,0,11,2.6,"none",null,null,"none"]
["HI980","Maui","HwC",{"$f":"IF(B1054='Veg Guide Data Base'!$AD$1376,C1054,FALSE)","v":false},"468260","Honolua silty clay, 7 to 15 percent slopes","Honolua",null,100,null,80,0,11,2.6,"none",null,null,"none"]
["HI980","Maui","HwD",{"$f":"IF(B1055='Veg Guide Data Base'!$AD$1376,C1055,FALSE)","v":false},"468261","Honolua silty clay, 15 to 25 percent slopes","Honolua",null,100,null,80,0,20,2.6,"none",null,null,"none"]
["HI980","Maui","IaA",{"$f":"IF(B1056='Veg Guide Data Base'!$AD$1376,C1056,FALSE)","v":false},"468263","Iao silty clay, 0 to 3 percent slopes","Iao",null,100,null,80,6,2,2.8,"none",null,null,"none"]
["HI980","Maui","IaB",{"$f":"IF(B1057='Veg Guide Data Base'!$AD$1376,C1057,FALSE)","v":false},"468264","Iao silty clay, 3 to 7 percent slopes","Iao",null,100,null,80,6,5,2.8,"none",null,null,"none"]
["HI980","Maui","IbB",{"$f":"IF(B1058='Veg Guide Data Base'!$AD$1376,C1058,FALSE)","v":false},"468265","Iao cobbly silty clay, 3 to 7 percent slopes","Iao","cobbly",100,null,80,23,5,2.6,"none",null,null,"none"]
["HI980","Maui","IbC",{"$f":"IF(B1059='Veg Guide Data Base'!$AD$1376,C1059,FALSE)","v":false},"468266","Iao cobbly silty clay, 7 to 15 percent slopes","Iao","cobbly",100,null,80,23,11,2.6,"none",null,null,"none"]
["HI980","Maui","IcB",{"$f":"IF(B1060='Veg Guide Data Base'!$AD$1376,C1060,FALSE)","v":false},"468267","Iao clay, 3 to 7 percent slopes","Iao",null,100,null,80,6,5,2.8,"none",null,null,"none"]
["HI980","Maui","IcC",{"$f":"IF(B1061='Veg Guide Data Base'!$AD$1376,C1061,FALSE)","v":false},"468268","Iao clay, 7 to 15 percent slopes","Iao",null,100,null,80,6,11,2.8,"none",null,null,"none"]
["HI980","Maui","ISD",{"$f":"IF(B1062='Veg Guide Data Base'!$AD$1376,C1062,FALSE)","v":false},"468262","Io silt loam, 7 to 25 percent slopes","Io",null,100,null,80,0,16,3.1,"none",null,null,"none"]
["HI980","Maui","JaC",{"$f":"IF(B1063='Veg Guide Data Base'!$AD$1376,C1063,FALSE)","v":false},"468269","Jaucas sand, 0 to 15 percent slopes","Jaucas",null,100,null,80,0,8,1.1000000000000001,"rare","very brief",null,"none"]
["HI980","Maui","JcC",{"$f":"IF(B1064='Veg Guide Data Base'!$AD$1376,C1064,FALSE)","v":false},"468270","Jaucas sand, saline, 0 to 12 percent slopes","Jaucas",null,100,null,80,12,6,1.2,"occasional, rare","very brief","January, February, March, April, October, November, December","rare","very brief"]
["HI980","Maui","KbB",{"$f":"IF(B1065='Veg Guide Data Base'!$AD$1376,C1065,FALSE)","v":false},"468282","Kahana silty clay, 3 to 7 percent slopes","Kahana",null,100,null,80,4,5,2.2000000000000002,"none",null,null,"none"]
["HI980","Maui","KbC",{"$f":"IF(B1066='Veg Guide Data Base'!$AD$1376,C1066,FALSE)","v":false},"468283","Kahana silty clay, 7 to 15 percent slopes","Kahana",null,100,null,80,4,11,2.2000000000000002,"none",null,null,"none"]
["HI980","Maui","KbD",{"$f":"IF(B1067='Veg Guide Data Base'!$AD$1376,C1067,FALSE)","v":false},"468284","Kahana silty clay, 15 to 25 percent slopes","Kahana",null,100,null,80,4,20,2.2000000000000002,"none",null,null,"none"]
["HI980","Maui","KBID",{"$f":"IF(B1068='Veg Guide Data Base'!$AD$1376,C1068,FALSE)","v":false},"468271","Kailua silty clay, 3 to 25 percent slopes","Kailua",null,100,null,80,0,14,2.6,"none",null,null,"none"]
["HI980","Maui","KCXD",{"$f":"IF(B1069='Veg Guide Data Base'!$AD$1376,C1069,FALSE)","v":false},"468272","Kaimu extremely stony peat, 7 to 25 percent slopes","Kaimu","etremely stony",100,"bedrock, lithic",60,65,16,0.7,"none",null,null,"none"]
["HI980","Maui","KDIE",{"$f":"IF(B1070='Veg Guide Data Base'!$AD$1376,C1070,FALSE)","v":false},"468273","Kaipoioi loam, 7 to 40 percent slopes","Kaipoioi",null,100,null,80,0,24,2.8,"none",null,null,"none"]
["HI980","Maui","KDVE",{"$f":"IF(B1071='Veg Guide Data Base'!$AD$1376,C1071,FALSE)","v":false},"468274","Kaipoioi very rocky loam, 7 to 40 percent slopes","Kaipoioi","very rocky",85,null,80,0,24,2.8,"none",null,null,"none"]
["HI980","Maui","KGKC",{"$f":"IF(B1072='Veg Guide Data Base'!$AD$1376,C1072,FALSE)","v":false},"468275","Kamaole very stony silt loam, 3 to 15 percent slopes","Kamaole","very stony",100,null,80,35,9,2.1,"none",null,null,"none"]
["HI980","Maui","KGLC",{"$f":"IF(B1073='Veg Guide Data Base'!$AD$1376,C1073,FALSE)","v":false},"468276","Kamaole extremely stony silt loam, 3 to 15 percent slopes","Kamaole","extremely stony",100,null,80,52,9,2.1,"none",null,null,"none"]
["HI980","Maui","KLUD",{"$f":"IF(B1074='Veg Guide Data Base'!$AD$1376,C1074,FALSE)","v":false},"468277","Kaupo very stony silty clay loam, 3 to 25 percent slopes","Kaupo","very stony",100,null,80,40,14,2.2000000000000002,"none",null,null,"none"]
["HI980","Maui","KLVD",{"$f":"IF(B1075='Veg Guide Data Base'!$AD$1376,C1075,FALSE)","v":false},"468278","Kaupo extremely stony silty clay, 3 to 25 percent slopes","Kaupo","extremely stony",100,null,80,52,14,2.2000000000000002,"none",null,null,"none"]
["HI980","Maui","KMW",{"$f":"IF(B1076='Veg Guide Data Base'!$AD$1376,C1076,FALSE)","v":false},"468279","Kealia silt loam","Kealia",null,45,null,80,0,1,2,"frequent, rare","brief","January, February, March, April, November, December","frequent, rare","long,brief","January, February, March, April, November, December"]
["HI980","Maui","KMW",{"$f":"IF(B1077='Veg Guide Data Base'!$AD$1376,C1077,FALSE)","v":false},"468279","Kealia silt loam","Kealia, deep water table",null,35,null,80,0,1,2,"frequent, rare","brief","January, February, March, April, November, December","frequent, rare","long,brief","January, February, March, April, November, December"]
["HI980","Maui","KnaB",{"$f":"IF(B1078='Veg Guide Data Base'!$AD$1376,C1078,FALSE)","v":false},"468287","Keahua cobbly silty clay loam, 3 to 7 percent slopes","Keahua","cobbly",100,null,80,15,5,1.6,"none",null,null,"none"]
["HI980","Maui","KnaC",{"$f":"IF(B1079='Veg Guide Data Base'!$AD$1376,C1079,FALSE)","v":false},"468288","Keahua cobbly silty clay loam, 7 to 15 percent slopes","Keahua","cobbly",100,null,80,15,11,1.6,"none",null,null,"none"]
["HI980","Maui","KnaD",{"$f":"IF(B1080='Veg Guide Data Base'!$AD$1376,C1080,FALSE)","v":false},"468289","Keahua cobbly silty clay loam, 15 to 25 percent slopes","Keahua","cobbly",100,null,80,15,20,1.6,"none",null,null,"none"]
["HI980","Maui","KnB",{"$f":"IF(B1081='Veg Guide Data Base'!$AD$1376,C1081,FALSE)","v":false},"468285","Keahua silty clay loam, 3 to 7 percent slopes","Keahua",null,100,null,80,6,5,1.9,"none",null,null,"none"]
["HI980","Maui","KnbD",{"$f":"IF(B1082='Veg Guide Data Base'!$AD$1376,C1082,FALSE)","v":false},"468290","Keahua very stony silty clay loam, 7 to 25 percent slopes","Keahua","very stony",100,null,80,35,16,1.4,"none",null,null,"none"]
["HI980","Maui","KnC",{"$f":"IF(B1083='Veg Guide Data Base'!$AD$1376,C1083,FALSE)","v":false},"468286","Keahua silty clay loam, 7 to 15 percent slopes","Keahua",null,100,null,80,6,11,1.9,"none",null,null,"none"]
["HI980","Maui","KncC",{"$f":"IF(B1084='Veg Guide Data Base'!$AD$1376,C1084,FALSE)","v":false},"468291","Keahua silty clay, 7 to 15 percent slopes","Keahua",null,100,null,80,6,11,1.6,"none",null,null,"none"]
["HI980","Maui","KnhC",{"$f":"IF(B1085='Veg Guide Data Base'!$AD$1376,C1085,FALSE)","v":false},"468292","Keahua cobbly silty clay, 7 to 15 percent slopes","Keahua","cobbly",100,null,80,14,11,1.7,"none",null,null,"none"]
["HI980","Maui","KnsC",{"$f":"IF(B1086='Veg Guide Data Base'!$AD$1376,C1086,FALSE)","v":false},"468293","Keahua stony silty clay, 7 to 15 percent slopes","Keahua","stony",100,null,80,14,11,1.5,"none",null,null,"none"]
["HI980","Maui","KNXD",{"$f":"IF(B1087='Veg Guide Data Base'!$AD$1376,C1087,FALSE)","v":false},"468280","Keawakapu extremely stony silty clay loam, 3 to 25 percent slopes","Keawakapu","extremely stony",100,null,80,57,14,2.4,"none",null,null,"none"]
["HI980","Maui","KRX",{"$f":"IF(B1088='Veg Guide Data Base'!$AD$1376,C1088,FALSE)","v":false},"468281","Koele-Rocky complex","Rock outcrop",null,50,"bedrock, lithic",0,0,25,0,"none",null,null,"none"]
["HI980","Maui","KRX",{"$f":"IF(B1089='Veg Guide Data Base'!$AD$1376,C1089,FALSE)","v":false},"468281","Koele-Rocky complex","Koele",null,50,null,80,14,25,2.7,"rare","very brief",null,"none"]
["HI980","Maui","KxaD",{"$f":"IF(B1090='Veg Guide Data Base'!$AD$1376,C1090,FALSE)","v":false},"468296","Kula cobbly loam, 12 to 20 percent slopes","Kula","cobbly",100,"bedrock, paralithic",54,0,16,2.4,"none",null,null,"none"]
["HI980","Maui","KxbE",{"$f":"IF(B1091='Veg Guide Data Base'!$AD$1376,C1091,FALSE)","v":false},"468297","Kula very rocky loam, 12 to 40 percent slopes","Kula","very rocky",80,"bedrock, paralithic",54,0,26,3,"none",null,null,"none"]
["HI980","Maui","KxC",{"$f":"IF(B1092='Veg Guide Data Base'!$AD$1376,C1092,FALSE)","v":false},"468294","Kula loam, 4 to 12 percent slopes","Kula",null,100,"bedrock, paralithic",54,0,8,3,"none",null,null,"none"]
["HI980","Maui","KxD",{"$f":"IF(B1093='Veg Guide Data Base'!$AD$1376,C1093,FALSE)","v":false},"468295","Kula loam, 12 to 20 percent slopes","Kula",null,100,"bedrock, paralithic",54,0,16,3,"none",null,null,"none"]
["HI980","Maui","LaB",{"$f":"IF(B1094='Veg Guide Data Base'!$AD$1376,C1094,FALSE)","v":false},"468301","Lahaina silty clay, 3 to 7 percent slopes","Lahaina",null,100,null,80,0,5,2.2000000000000002,"none",null,null,"none"]
["HI980","Maui","LaC",{"$f":"IF(B1095='Veg Guide Data Base'!$AD$1376,C1095,FALSE)","v":false},"468302","Lahaina silty clay, 7 to 15 percent slopes","Lahaina",null,100,null,80,0,11,2.2000000000000002,"none",null,null,"none"]
["HI980","Maui","LaD",{"$f":"IF(B1096='Veg Guide Data Base'!$AD$1376,C1096,FALSE)","v":false},"468303","Lahaina silty clay, 15 to 25 percent slopes","Lahaina",null,100,null,80,0,20,2.2000000000000002,"none",null,null,"none"]
["HI980","Maui","LME",{"$f":"IF(B1097='Veg Guide Data Base'!$AD$1376,C1097,FALSE)","v":false},"468298","Laumaia loam, 7 to 40 percent slopes","Laumaia",null,100,null,80,0,24,3,"none",null,null,"none"]
["HI980","Maui","LMF",{"$f":"IF(B1098='Veg Guide Data Base'!$AD$1376,C1098,FALSE)","v":false},"468299","Laumaia loam, 40 to 70 percent slopes","Laumaia",null,100,null,80,0,55,3,"none",null,null,"none"]
["HI980","Maui","LNE",{"$f":"IF(B1099='Veg Guide Data Base'!$AD$1376,C1099,FALSE)","v":false},"468300","Laumaia extremely stony loam, 7 to 40 percent slopes","Laumaia","extremely stony",100,"bedrock, lithic",55,60,24,2.2000000000000002,"none",null,null,"none"]
["HI980","Maui","MfB",{"$f":"IF(B1100='Veg Guide Data Base'!$AD$1376,C1100,FALSE)","v":false},"468309","Makawao silty clay, 3 to 7 percent slopes","Makawao",null,100,null,80,0,5,1.8,"none",null,null,"none"]
["HI980","Maui","MfC",{"$f":"IF(B1101='Veg Guide Data Base'!$AD$1376,C1101,FALSE)","v":false},"468310","Makawao silty clay, 7 to 15 percent slopes","Makawao",null,100,null,80,0,11,1.8,"none",null,null,"none"]
["HI980","Maui","MID",{"$f":"IF(B1102='Veg Guide Data Base'!$AD$1376,C1102,FALSE)","v":false},"468304","Makaalae silty clay, 7 to 25 percent slopes","Makaalae",null,100,null,80,14,16,1.9,"none",null,null,"none"]
["HI980","Maui","MJD",{"$f":"IF(B1103='Veg Guide Data Base'!$AD$1376,C1103,FALSE)","v":false},"468305","Makaalae extremely stony silty clay, 7 to 25 percent slopes","Makaalae","extremely stony",100,null,80,61,16,1.8,"none",null,null,"none"]
["HI980","Maui","MuA",{"$f":"IF(B1104='Veg Guide Data Base'!$AD$1376,C1104,FALSE)","v":false},"468311","Molokai silty clay loam, 0 to 3 percent slopes","Molokai",null,100,null,80,0,2,2.4,"none",null,null,"none"]
["HI980","Maui","MuB",{"$f":"IF(B1105='Veg Guide Data Base'!$AD$1376,C1105,FALSE)","v":false},"468312","Molokai silty clay loam, 3 to 7 percent slopes","Molokai",null,100,null,80,0,5,2.4,"none",null,null,"none"]
["HI980","Maui","MuC",{"$f":"IF(B1106='Veg Guide Data Base'!$AD$1376,C1106,FALSE)","v":false},"468313","Molokai silty clay loam, 7 to 15 percent slopes","Molokai",null,100,null,80,0,11,2.4,"none",null,null,"none"]
["HI980","Maui","MWE",{"$f":"IF(B1107='Veg Guide Data Base'!$AD$1376,C1107,FALSE)","v":false},"468306","Makaalae clay, 7 to 40 percent slopes","Makaalae",null,100,null,80,14,24,1.9,"none",null,null,"none"]
["HI980","Maui","MXC",{"$f":"IF(B1108='Veg Guide Data Base'!$AD$1376,C1108,FALSE)","v":false},"468307","Makena loam, stony complex, 3 to 15 percent slopes","Makena",null,50,null,80,5,9,3.5,"none",null,null,"none"]
["HI980","Maui","MXC",{"$f":"IF(B1109='Veg Guide Data Base'!$AD$1376,C1109,FALSE)","v":false},"468307","Makena loam, stony complex, 3 to 15 percent slopes","Stony land",null,50,"bedrock, paralithic",10,60,11,0.9,"none",null,null,"none"]
["HI980","Maui","MYD",{"$f":"IF(B1110='Veg Guide Data Base'!$AD$1376,C1110,FALSE)","v":false},"468308","Malama extremely stony muck, 3 to 25 percent slopes","Malama","extremely stony",100,null,80,41,14,0.7,"none",null,null,"none"]
["HI980","Maui","NAC",{"$f":"IF(B1111='Veg Guide Data Base'!$AD$1376,C1111,FALSE)","v":false},"468314","Naiwa silty clay loam, 3 to 20 percent slopes","Naiwa",null,100,"bedrock, paralithic",52,0,12,2,"none",null,null,"none"]
["HI980","Maui","OAD",{"$f":"IF(B1112='Veg Guide Data Base'!$AD$1376,C1112,FALSE)","v":false},"468315","Oanapuka very stony silt loam, 7 to 25 percent slopes","Oanapuka","very stony",100,null,80,30,16,2.1,"none",null,null,"none"]
["HI980","Maui","OED",{"$f":"IF(B1113='Veg Guide Data Base'!$AD$1376,C1113,FALSE)","v":false},"468316","Oanapuka extremely stony silt loam, 7 to 25 percent slopes","Oanapuka","extremely stony",100,null,80,4,16,2.2000000000000002,"none",null,null,"none"]
["HI980","Maui","OFC",{"$f":"IF(B1114='Veg Guide Data Base'!$AD$1376,C1114,FALSE)","v":false},"468317","Olelo silty clay, 3 to 15 percent slopes","Olelo",null,100,null,80,7,9,2.2000000000000002,"none",null,null,"none"]
["HI980","Maui","OMB",{"$f":"IF(B1115='Veg Guide Data Base'!$AD$1376,C1115,FALSE)","v":false},"468318","Oli silt loam, 3 to 10 percent slopes","Oli",null,100,"bedrock, lithic",30,0,7,2.6,"none",null,null,"none"]
["HI980","Maui","ONC",{"$f":"IF(B1116='Veg Guide Data Base'!$AD$1376,C1116,FALSE)","v":false},"468319","Olinda loam, 4 to 12 percent slopes","Olinda",null,100,"bedrock, lithic",40,0,8,2.8,"none",null,null,"none"]
["HI980","Maui","OND",{"$f":"IF(B1117='Veg Guide Data Base'!$AD$1376,C1117,FALSE)","v":false},"468320","Olinda loam, 12 to 20 percent slopes","Olinda",null,100,"bedrock, lithic",40,0,16,2.8,"none",null,null,"none"]
["HI980","Maui","ONE",{"$f":"IF(B1118='Veg Guide Data Base'!$AD$1376,C1118,FALSE)","v":false},"468321","Olinda loam, 20 to 40 percent slopes","Olinda",null,100,"bedrock, lithic",40,0,30,2.8,"none",null,null,"none"]
["HI980","Maui","OPD",{"$f":"IF(B1119='Veg Guide Data Base'!$AD$1376,C1119,FALSE)","v":false},"468322","Opihikao extremely rocky muck, 3 to 25 percent slopes","Opihikao","extremely rocky",55,"bedrock, lithic",5,0,14,1.1000000000000001,"none",null,null,"none"]
["HI980","Maui","OPD",{"$f":"IF(B1120='Veg Guide Data Base'!$AD$1376,C1120,FALSE)","v":false},"468322","Opihikao extremely rocky muck, 3 to 25 percent slopes","Rock outcrop",null,45,"bedrock, lithic",0,0,14,0,"none",null,null,"none"]
["HI980","Maui","PcB",{"$f":"IF(B1121='Veg Guide Data Base'!$AD$1376,C1121,FALSE)","v":false},"468326","Paia silty clay, 3 to 7 percent slopes","Paia",null,100,null,80,0,5,2.8,"none",null,null,"none"]
["HI980","Maui","PcC",{"$f":"IF(B1122='Veg Guide Data Base'!$AD$1376,C1122,FALSE)","v":false},"468327","Paia silty clay, 7 to 15 percent slopes","Paia",null,100,null,80,0,11,2.8,"none",null,null,"none"]
["HI980","Maui","PcC2",{"$f":"IF(B1123='Veg Guide Data Base'!$AD$1376,C1123,FALSE)","v":false},"468328","Paia silty clay, 7 to 15 percent slopes, eroded","Paia",null,100,null,80,0,11,2.8,"none",null,null,"none"]
["HI980","Maui","PfB",{"$f":"IF(B1124='Veg Guide Data Base'!$AD$1376,C1124,FALSE)","v":false},"468329","Pauwela clay, 3 to 7 percent slopes","Pauwela",null,100,null,80,2,5,2.2000000000000002,"none",null,null,"none"]
["HI980","Maui","PfC",{"$f":"IF(B1125='Veg Guide Data Base'!$AD$1376,C1125,FALSE)","v":false},"468330","Pauwela clay, 7 to 15 percent slopes","Pauwela",null,100,null,80,2,11,2.2000000000000002,"none",null,null,"none"]
["HI980","Maui","PfD",{"$f":"IF(B1126='Veg Guide Data Base'!$AD$1376,C1126,FALSE)","v":false},"468331","Pauwela clay, 15 to 25 percent slopes","Pauwela",null,100,null,80,2,20,2.2000000000000002,"none",null,null,"none"]
["HI980","Maui","PpA",{"$f":"IF(B1127='Veg Guide Data Base'!$AD$1376,C1127,FALSE)","v":false},"468332","Pulehu silt loam, 0 to 3 percent slopes","Pulehu",null,100,null,80,14,2,2.8,"rare, occasional","very brief","January, February, March, November, December","none"]
["HI980","Maui","PpB",{"$f":"IF(B1128='Veg Guide Data Base'!$AD$1376,C1128,FALSE)","v":false},"468333","Pulehu silt loam, 3 to 7 percent slopes","Pulehu",null,100,null,80,14,5,2.8,"rare, occasional","very brief","January, February, March, November, December","none"]
["HI980","Maui","PrA",{"$f":"IF(B1129='Veg Guide Data Base'!$AD$1376,C1129,FALSE)","v":false},"468334","Pulehu cobbly silt loam, 0 to 3 percent slopes","Pulehu",null,100,null,80,25,2,2,"rare, occasional","very brief","January, February, March, November, December","none"]
["HI980","Maui","PrB",{"$f":"IF(B1130='Veg Guide Data Base'!$AD$1376,C1130,FALSE)","v":false},"468335","Pulehu cobbly silt loam, 3 to 7 percent slopes","Pulehu",null,100,null,80,25,5,2,"rare, occasional","very brief","January, February, March, November, December","none"]
["HI980","Maui","PsA",{"$f":"IF(B1131='Veg Guide Data Base'!$AD$1376,C1131,FALSE)","v":false},"468336","Pulehu clay loam, 0 to 3 percent slopes","Pulehu",null,100,null,80,14,2,2.8,"rare, occasional","very brief","January, February, March, November, December","none"]
["HI980","Maui","PtA",{"$f":"IF(B1132='Veg Guide Data Base'!$AD$1376,C1132,FALSE)","v":false},"468337","Pulehu cobbly clay loam, 0 to 3 percent slopes","Pulehu",null,100,null,80,25,2,2,"rare, occasional","very brief","January, February, March, November, December","none"]
["HI980","Maui","PtB",{"$f":"IF(B1133='Veg Guide Data Base'!$AD$1376,C1133,FALSE)","v":false},"468338","Pulehu cobbly clay loam, 3 to 7 percent slopes","Pulehu",null,100,null,80,25,5,2,"rare, occasional","very brief","January, February, March, November, December","none"]
["HI980","Maui","PXD",{"$f":"IF(B1134='Veg Guide Data Base'!$AD$1376,C1134,FALSE)","v":false},"468323","Pane silt loam, 7 to 25 percent slopes","Pane",null,100,null,80,6,16,3,"none",null,null,"none"]
["HI980","Maui","PZUE",{"$f":"IF(B1135='Veg Guide Data Base'!$AD$1376,C1135,FALSE)","v":false},"468324","Puuone sand, 7 to 30 percent slopes","Puuone",null,100,"cemented horizon",20,13,19,1.4,"none",null,null,"none"]
["HI980","Maui","PZVE",{"$f":"IF(B1136='Veg Guide Data Base'!$AD$1376,C1136,FALSE)","v":false},"468325","Puu Pa very stony silt loam, 7 to 40 percent slopes","Puu Pa","very stony",100,null,80,35,24,2.7,"none",null,null,"none"]
["HI980","Maui","QU",{"$f":"IF(B1137='Veg Guide Data Base'!$AD$1376,C1137,FALSE)","v":false},"468227","Quarry","Quarry",null,100,null,80,0,null,null,"none",null,null,"none"]
["HI980","Maui","rAMD",{"$f":"IF(B1138='Veg Guide Data Base'!$AD$1376,C1138,FALSE)","v":false},"468364","Amalu peaty silty clay, 3 to 20 percent slopes","Amalu",null,100,"placic",16,2,12,4.5,"none",null,null,"none"]
["HI980","Maui","rCI",{"$f":"IF(B1139='Veg Guide Data Base'!$AD$1376,C1139,FALSE)","v":false},"468365","Cinder land","Cinder land",null,100,null,80,55,45,0.6,"none",null,null,"none"]
["HI980","Maui","rHOD",{"$f":"IF(B1140='Veg Guide Data Base'!$AD$1376,C1140,FALSE)","v":false},"468366","Honomanu silty clay, 5 to 25 percent slopes","Honomanu",null,100,null,80,2,15,3.3,"none",null,null,"none"]
["HI980","Maui","rHR",{"$f":"IF(B1141='Veg Guide Data Base'!$AD$1376,C1141,FALSE)","v":false},"468367","Honomanu-Amalu association","Honomanu",null,60,null,80,2,15,3.3,"none",null,null,"none"]
["HI980","Maui","rHR",{"$f":"IF(B1142='Veg Guide Data Base'!$AD$1376,C1142,FALSE)","v":false},"468367","Honomanu-Amalu association","Amalu",null,40,"placic",16,2,12,4.5,"none",null,null,"none"]
["HI980","Maui","rHT",{"$f":"IF(B1143='Veg Guide Data Base'!$AD$1376,C1143,FALSE)","v":false},"468368","Hydrandepts-Tropaquods association","Hydrandepts",null,60,"bedrock, paralithic",60,4,19,4.2,"none",null,null,"none"]
["HI980","Maui","rHT",{"$f":"IF(B1144='Veg Guide Data Base'!$AD$1376,C1144,FALSE)","v":false},"468368","Hydrandepts-Tropaquods association","Tropaquods",null,30,"placic",10,0,14,2.8,"none",null,null,"none"]
["HI980","Maui","rLW",{"$f":"IF(B1145='Veg Guide Data Base'!$AD$1376,C1145,FALSE)","v":false},"468369","Lava flows, aa","Lava flows","aa",100,"bedrock, lithic",60,74,35,0.2,"none",null,null,"none"]
["HI980","Maui","rRK",{"$f":"IF(B1146='Veg Guide Data Base'!$AD$1376,C1146,FALSE)","v":false},"468370","Rock land","Rock land",null,55,"bedrock, lithic",8,11,35,1.1000000000000001,"none",null,null,"none"]
["HI980","Maui","rRO",{"$f":"IF(B1147='Veg Guide Data Base'!$AD$1376,C1147,FALSE)","v":false},"468371","Rock outcrop","Rock outcrop",null,100,"bedrock, lithic",0,0,52,0,"none",null,null,"none"]
["HI980","Maui","rRR",{"$f":"IF(B1148='Veg Guide Data Base'!$AD$1376,C1148,FALSE)","v":false},"468372","Rough broken land","Rough broken land",null,100,"bedrock, paralithic",30,10,55,3,"none",null,null,"none"]
["HI980","Maui","rRS",{"$f":"IF(B1149='Veg Guide Data Base'!$AD$1376,C1149,FALSE)","v":false},"468373","Rough broken and stony land","Rough broken and stony land",null,100,"bedrock, paralithic",18,31,55,2.2000000000000002,"none",null,null,"none"]
["HI980","Maui","rRT",{"$f":"IF(B1150='Veg Guide Data Base'!$AD$1376,C1150,FALSE)","v":false},"468374","Rough mountainous land","Rough mountainous land",null,100,"bedrock, paralithic",25,23,75,2.5,"none",null,null,"none"]
["HI980","Maui","rSM",{"$f":"IF(B1151='Veg Guide Data Base'!$AD$1376,C1151,FALSE)","v":false},"468375","Stony alluvial land","Stony alluvial land",null,100,null,80,61,9,1.2,"frequent","very long","January, February, March, April, May, June, July, August, September, October, November, December","none"]
["HI980","Maui","rVS",{"$f":"IF(B1152='Veg Guide Data Base'!$AD$1376,C1152,FALSE)","v":false},"468376","Very stony land","Very stony land",null,100,"bedrock, lithic",60,60,19,1.7,"none",null,null,"none"]
["HI980","Maui","TR",{"$f":"IF(B1153='Veg Guide Data Base'!$AD$1376,C1153,FALSE)","v":false},"468339","Tropaquepts","Tropaquepts",null,90,null,80,0,1,3.1,"frequent","long","January, February, March, April, May, June, July, August, September, October, November, December","frequent","long","January, February, March, April, May, June, July, August, September, October, November, December"]
["HI980","Maui","ULD",{"$f":"IF(B1154='Veg Guide Data Base'!$AD$1376,C1154,FALSE)","v":false},"468340","Ulupalakua silt loam, 7 to 25 percent slopes","Ulupalakua",null,100,null,80,10,16,3.5,"none",null,null,"none"]
["HI980","Maui","UME",{"$f":"IF(B1155='Veg Guide Data Base'!$AD$1376,C1155,FALSE)","v":false},"468341","Uma loamy coarse sand, 15 to 40 percent slopes","Uma",null,100,null,80,27,28,1.4,"none",null,null,"none"]
["HI980","Maui","UMF",{"$f":"IF(B1156='Veg Guide Data Base'!$AD$1376,C1156,FALSE)","v":false},"468342","Uma loamy coarse sand, 40 to 70 percent slopes","Uma",null,100,null,80,27,55,1.4,"none",null,null,"none"]
["HI980","Maui","URD",{"$f":"IF(B1157='Veg Guide Data Base'!$AD$1376,C1157,FALSE)","v":false},"468343","Uma rocky loamy coarse sand, 7 to 25 percent slopes","Uma","rocky",80,null,80,27,16,1.4,"none",null,null,"none"]
["HI980","Maui","W",{"$f":"IF(B1158='Veg Guide Data Base'!$AD$1376,C1158,FALSE)","v":false},"468344","Water > 40 acres","Water > 40 acres",null,100,null,80,0,null,null,"none",null,null,"none"]
["HI980","Maui","WbB",{"$f":"IF(B1159='Veg Guide Data Base'!$AD$1376,C1159,FALSE)","v":false},"468346","Wahikuli silty clay, 3 to 7 percent slopes","Wahikuli",null,100,"bedrock, lithic",32,6,5,2.6,"none",null,null,"none"]
["HI980","Maui","WcB",{"$f":"IF(B1160='Veg Guide Data Base'!$AD$1376,C1160,FALSE)","v":false},"468347","Wahikuli stony silty clay, 3 to 7 percent slopes","Wahikuli","stony",100,"bedrock, lithic",32,19,5,2.6,"none",null,null,"none"]
["HI980","Maui","WcC",{"$f":"IF(B1161='Veg Guide Data Base'!$AD$1376,C1161,FALSE)","v":false},"468348","Wahikuli stony silty clay, 7 to 15 percent slopes","Wahikuli","stony",100,"bedrock, lithic",32,19,11,2.6,"none",null,null,"none"]
["HI980","Maui","WdB",{"$f":"IF(B1162='Veg Guide Data Base'!$AD$1376,C1162,FALSE)","v":false},"468349","Wahikuli very stony silty clay, 3 to 7 percent slopes","Wahikuli","very stony",100,"bedrock, lithic",32,37,5,2.6,"none",null,null,"none"]
["HI980","Maui","WeB",{"$f":"IF(B1163='Veg Guide Data Base'!$AD$1376,C1163,FALSE)","v":false},"468350","Waiakoa silty clay loam, 3 to 7 percent slopes","Waiakoa",null,100,"bedrock, lithic",33,10,5,2.6,"none",null,null,"none"]
["HI980","Maui","WeC",{"$f":"IF(B1164='Veg Guide Data Base'!$AD$1376,C1164,FALSE)","v":false},"468351","Waiakoa silty clay loam, 7 to 15 percent slopes","Waiakoa",null,100,"bedrock, lithic",33,10,11,2.6,"none",null,null,"none"]
["HI980","Maui","WfB",{"$f":"IF(B1165='Veg Guide Data Base'!$AD$1376,C1165,FALSE)","v":false},"468352","Waiakoa cobbly silty clay loam, 3 to 7 percent slopes","Waiakoa","cobbly",100,"bedrock, lithic",33,15,5,2.5,"none",null,null,"none"]
["HI980","Maui","WgB",{"$f":"IF(B1166='Veg Guide Data Base'!$AD$1376,C1166,FALSE)","v":false},"468353","Waiakoa very stony silty clay loam, 3 to 7 percent slopes","Waiakoa","very stony",100,"bedrock, lithic",33,18,5,2.5,"none",null,null,"none"]
["HI980","Maui","WgC",{"$f":"IF(B1167='Veg Guide Data Base'!$AD$1376,C1167,FALSE)","v":false},"468354","Waiakoa very stony silty clay loam, 7 to 15 percent slopes","Waiakoa","very stony",100,"bedrock, lithic",33,18,11,2.5,"none",null,null,"none"]
["HI980","Maui","WhB",{"$f":"IF(B1168='Veg Guide Data Base'!$AD$1376,C1168,FALSE)","v":false},"468355","Waiakoa extremely stony silty clay loam, 3 to 7 percent slopes","Waiakoa","extremely stony",100,"bedrock, lithic",33,24,5,2.4,"none",null,null,"none"]
["HI980","Maui","WhC",{"$f":"IF(B1169='Veg Guide Data Base'!$AD$1376,C1169,FALSE)","v":false},"468356","Waiakoa extremely stony silty clay loam, 7 to 15 percent slopes","Waiakoa","extremely stony",100,"bedrock, lithic",33,24,11,2.4,"none",null,null,"none"]
["HI980","Maui","WID2",{"$f":"IF(B1170='Veg Guide Data Base'!$AD$1376,C1170,FALSE)","v":false},"468345","Waiakoa extremely stony silty clay loam, 3 to 25 percent slopes, eroded","Waiakoa","extremely stony",100,"bedrock, lithic",28,62,14,2.5,"none",null,null,"none"]
["HI980","Maui","WvB",{"$f":"IF(B1171='Veg Guide Data Base'!$AD$1376,C1171,FALSE)","v":false},"468357","Wailuku silty clay, 3 to 7 percent slopes","Wailuku",null,100,null,80,6,5,2.8,"none",null,null,"none"]
["HI980","Maui","WvC",{"$f":"IF(B1172='Veg Guide Data Base'!$AD$1376,C1172,FALSE)","v":false},"468358","Wailuku silty clay, 7 to 15 percent slopes","Wailuku",null,100,null,80,6,11,2.8,"none",null,null,"none"]
["HI980","Maui","WwC",{"$f":"IF(B1173='Veg Guide Data Base'!$AD$1376,C1173,FALSE)","v":false},"468359","Wailuku cobbly silty clay, 7 to 15 percent slopes","Wailuku","cobbly",100,null,80,16,11,2.8,"none",null,null,"none"]
["HI980","Maui","WxB",{"$f":"IF(B1174='Veg Guide Data Base'!$AD$1376,C1174,FALSE)","v":false},"468360","Wainee very stony silty clay, 3 to 7 percent slopes","Wainee","very stony",100,null,80,36,5,1.2,"none",null,null,"none"]
["HI980","Maui","WxC",{"$f":"IF(B1175='Veg Guide Data Base'!$AD$1376,C1175,FALSE)","v":false},"468361","Wainee very stony silty clay, 7 to 15 percent slopes","Wainee","very stony",100,null,80,36,11,1.2,"none",null,null,"none"]
["HI980","Maui","WyB",{"$f":"IF(B1176='Veg Guide Data Base'!$AD$1376,C1176,FALSE)","v":false},"468362","Wainee extremely stony silty clay, 3 to 7 percent slopes","Wainee","extremely stony",100,null,80,60,5,1.2,"none",null,null,"none"]
["HI980","Maui","WyC",{"$f":"IF(B1177='Veg Guide Data Base'!$AD$1376,C1177,FALSE)","v":false},"468363","Wainee extremely stony silty clay, 7 to 15 percent slopes","Wainee","extremely stony",100,null,80,60,11,1.2,"none",null,null,"none"]
["HI990","Oahu","AeE",{"$f":"IF(B1178='Veg Guide Data Base'!$AD$1376,C1178,FALSE)","v":false},"468379","Alaeloa silty clay, 15 to 35 percent slopes","Alaeloa",null,100,null,80,6,25,2.6,"none",null,null,"none"]
["HI990","Oahu","ALF",{"$f":"IF(B1179='Veg Guide Data Base'!$AD$1376,C1179,FALSE)","v":false},"468378","Alaeloa silty clay, 40 to 70 percent slopes","Alaeloa",null,100,null,80,6,55,2.6,"none",null,null,"none"]
["HI990","Oahu","BS",{"$f":"IF(B1180='Veg Guide Data Base'!$AD$1376,C1180,FALSE)","v":false},"468380","Beaches","Beaches",null,100,null,80,12,3,0.8,"frequent","very brief","January, February, March, April, May, June, July, August, September, October, November, December","none"]
["HI990","Oahu","CR",{"$f":"IF(B1181='Veg Guide Data Base'!$AD$1376,C1181,FALSE)","v":false},"468381","Coral outcrop","Coral outcrop",null,85,"bedrock, lithic",0,0,13,0,"rare","very brief",null,"none"]
["HI990","Oahu","EaB",{"$f":"IF(B1182='Veg Guide Data Base'!$AD$1376,C1182,FALSE)","v":false},"468382","Ewa silty clay loam, 3 to 6 percent slopes","Ewa",null,100,null,80,0,5,2.2000000000000002,"none",null,null,"none"]
["HI990","Oahu","EaC",{"$f":"IF(B1183='Veg Guide Data Base'!$AD$1376,C1183,FALSE)","v":false},"468383","Ewa silty clay loam, 6 to 12 percent slopes","Ewa",null,100,null,80,0,9,2.2000000000000002,"none",null,null,"none"]
["HI990","Oahu","EmA",{"$f":"IF(B1184='Veg Guide Data Base'!$AD$1376,C1184,FALSE)","v":false},"468384","Ewa silty clay loam, moderately shallow, 0 to 2 percent slopes","Ewa",null,100,"bedrock, paralithic",29,0,1,2.5,"none",null,null,"none"]
["HI990","Oahu","EmB",{"$f":"IF(B1185='Veg Guide Data Base'!$AD$1376,C1185,FALSE)","v":false},"468385","Ewa silty clay loam, moderately shallow, 2 to 6 percent slopes","Ewa",null,100,"bedrock, paralithic",29,0,4,2.5,"none",null,null,"none"]
["HI990","Oahu","EwA",{"$f":"IF(B1186='Veg Guide Data Base'!$AD$1376,C1186,FALSE)","v":false},"468386","Ewa stony silty clay, 0 to 2 percent slopes","Ewa",null,100,null,80,19,1,2,"none",null,null,"none"]
["HI990","Oahu","EwB",{"$f":"IF(B1187='Veg Guide Data Base'!$AD$1376,C1187,FALSE)","v":false},"468387","Ewa stony silty clay, 2 to 6 percent slopes","Ewa",null,100,null,80,19,4,2,"none",null,null,"none"]
["HI990","Oahu","EwC",{"$f":"IF(B1188='Veg Guide Data Base'!$AD$1376,C1188,FALSE)","v":false},"468388","Ewa stony silty clay, 6 to 12 percent slopes","Ewa",null,100,null,80,19,9,2,"none",null,null,"none"]
["HI990","Oahu","Fd",{"$f":"IF(B1189='Veg Guide Data Base'!$AD$1376,C1189,FALSE)","v":false},"468390","Fill land","Fill land",null,100,"bedrock, lithic",30,8,2,3,"occasional, rare","very brief","January, February, March, April, November, December","none"]
["HI990","Oahu","FL",{"$f":"IF(B1190='Veg Guide Data Base'!$AD$1376,C1190,FALSE)","v":false},"468389","Fill land, mixed","Fill land, mixed","mixed",100,"bedrock, lithic",60,20,2,1.8,"rare","very brief",null,"none"]
["HI990","Oahu","HeA",{"$f":"IF(B1191='Veg Guide Data Base'!$AD$1376,C1191,FALSE)","v":false},"468394","Haleiwa silty clay, 0 to 2 percent slopes","Haleiwa",null,85,null,80,8,1,2.8,"occasional, rare","very brief","January, February, March, April, November, December","none"]
["HI990","Oahu","HeB",{"$f":"IF(B1192='Veg Guide Data Base'!$AD$1376,C1192,FALSE)","v":false},"468395","Haleiwa silty clay, 2 to 6 percent slopes","Haleiwa",null,100,null,80,8,4,2.8,"occasional, rare","very brief","January, February, March, April, November, December","none"]
["HI990","Oahu","HJE",{"$f":"IF(B1193='Veg Guide Data Base'!$AD$1376,C1193,FALSE)","v":false},"468391","Halawa silt loam, 20 to 35 percent slopes","Halawa",null,100,"bedrock, paralithic",53,0,28,2.6,"none",null,null,"none"]
["HI990","Oahu","HJF2",{"$f":"IF(B1194='Veg Guide Data Base'!$AD$1376,C1194,FALSE)","v":false},"468392","Halawa silt loam, 35 to 70 percent slopes, eroded","Halawa",null,100,"bedrock, paralithic",45,0,53,2.6,"none",null,null,"none"]
["HI990","Oahu","HLMG",{"$f":"IF(B1195='Veg Guide Data Base'!$AD$1376,C1195,FALSE)","v":false},"468393","Helemano silty clay, 30 to 90 percent slopes","Helemano",null,100,null,80,9,60,2.2000000000000002,"none",null,null,"none"]
["HI990","Oahu","HnA",{"$f":"IF(B1196='Veg Guide Data Base'!$AD$1376,C1196,FALSE)","v":false},"468396","Hanalei silty clay, 0 to 2 percent slopes","Hanalei",null,85,null,80,4,1,3.3,"frequent, occasional","very brief","January, February, March, April, May, June, July, August, September, October, November, December","occasional, rare","very brief","January, February, March, April, November, December"]
["HI990","Oahu","HnB",{"$f":"IF(B1197='Veg Guide Data Base'!$AD$1376,C1197,FALSE)","v":false},"468397","Hanalei silty clay, 2 to 6 percent slopes","Hanalei",null,85,null,80,4,4,3.3,"frequent, occasional","very brief","January, February, March, April, May, June, July, August, September, October, November, December","rare","very brief"]
["HI990","Oahu","HoB",{"$f":"IF(B1198='Veg Guide Data Base'!$AD$1376,C1198,FALSE)","v":false},"468398","Hanalei stony silty clay, 2 to 6 percent slopes","Hanalei",null,85,null,80,22,4,3.1,"frequent, occasional","very brief","January, February, March, April, May, June, July, August, September, October, November, December","rare","very brief"]
["HI990","Oahu","HxA",{"$f":"IF(B1199='Veg Guide Data Base'!$AD$1376,C1199,FALSE)","v":false},"468399","Honouliuli clay, 0 to 2 percent slopes","Honouliuli",null,100,null,80,0,1,2.8,"rare","very brief",null,"rare","very brief"]
["HI990","Oahu","HxB",{"$f":"IF(B1200='Veg Guide Data Base'!$AD$1376,C1200,FALSE)","v":false},"468400","Honouliuli clay, 2 to 6 percent slopes","Honouliuli",null,100,null,80,0,4,2.8,"rare","very brief",null,"none"]
["HI990","Oahu","JaC",{"$f":"IF(B1201='Veg Guide Data Base'!$AD$1376,C1201,FALSE)","v":false},"468401","Jaucas sand, 0 to 15 percent slopes","Jaucas",null,100,null,80,0,8,1.1000000000000001,"rare","very brief",null,"none"]
["HI990","Oahu","JcC",{"$f":"IF(B1202='Veg Guide Data Base'!$AD$1376,C1202,FALSE)","v":false},"468402","Jaucas sand, saline, 0 to 12 percent slopes","Jaucas","saline",100,null,80,12,6,1.2,"rare",null,null,"none"]
["HI990","Oahu","KaB",{"$f":"IF(B1203='Veg Guide Data Base'!$AD$1376,C1203,FALSE)","v":false},"468410","Kaena clay, 2 to 6 percent slopes","Kaena",null,100,null,80,9,4,2.5,"none",null,null,"none"]
["HI990","Oahu","KaC",{"$f":"IF(B1204='Veg Guide Data Base'!$AD$1376,C1204,FALSE)","v":false},"468411","Kaena clay, 6 to 12 percent slopes","Kaena",null,100,null,80,9,9,2.5,"none",null,null,"none"]
["HI990","Oahu","KaeB",{"$f":"IF(B1205='Veg Guide Data Base'!$AD$1376,C1205,FALSE)","v":false},"468412","Kaena stony clay, 2 to 6 percent slopes","Kaena",null,100,null,80,21,4,2.4,"none",null,null,"none"]
["HI990","Oahu","KaeC",{"$f":"IF(B1206='Veg Guide Data Base'!$AD$1376,C1206,FALSE)","v":false},"468413","Kaena stony clay, 6 to 12 percent slopes","Kaena",null,100,null,80,21,9,2.4,"none",null,null,"none"]
["HI990","Oahu","KaeD",{"$f":"IF(B1207='Veg Guide Data Base'!$AD$1376,C1207,FALSE)","v":false},"468414","Kaena stony clay, 12 to 20 percent slopes","Kaena",null,100,null,80,21,16,2.4,"none",null,null,"none"]
["HI990","Oahu","KanE",{"$f":"IF(B1208='Veg Guide Data Base'!$AD$1376,C1208,FALSE)","v":false},"468415","Kaena very stony clay, 10 to 35 percent slopes","Kaena",null,100,null,80,37,23,2.2999999999999998,"none",null,null,"none"]
["HI990","Oahu","Kfa",{"$f":"IF(B1209='Veg Guide Data Base'!$AD$1376,C1209,FALSE)","v":false},"468416","Kaloko clay","Kaloko, drained",null,60,null,80,0,1,2.6,"occasional, rare","very brief","January, February, March, April, November, December","rare","brief"]
["HI990","Oahu","Kfa",{"$f":"IF(B1210='Veg Guide Data Base'!$AD$1376,C1210,FALSE)","v":false},"468416","Kaloko clay","Kaloko",null,40,null,80,0,1,2.6,"occasional, rare","very brief","January, February, March, April, November, December","occasional, rare","brief","January, February, March, April, November, December"]
["HI990","Oahu","Kfb",{"$f":"IF(B1211='Veg Guide Data Base'!$AD$1376,C1211,FALSE)","v":false},"468417","Kaloko clay, noncalcareous variant","Kaloko variant",null,85,null,80,0,1,2.6,"occasional, rare","very brief","January, February, March, April, November, December","occasional, rare","brief","January, February, March, April, November, December"]
["HI990","Oahu","KgB",{"$f":"IF(B1212='Veg Guide Data Base'!$AD$1376,C1212,FALSE)","v":false},"468418","Kaneohe silty clay, 3 to 8 percent slopes","Kaneohe",null,100,null,80,4,6,2.4,"none",null,null,"none"]
["HI990","Oahu","KgC",{"$f":"IF(B1213='Veg Guide Data Base'!$AD$1376,C1213,FALSE)","v":false},"468419","Kaneohe silty clay, 8 to 15 percent slopes","Kaneohe",null,100,null,80,4,12,2.4,"none",null,null,"none"]
["HI990","Oahu","KHMC",{"$f":"IF(B1214='Veg Guide Data Base'!$AD$1376,C1214,FALSE)","v":false},"468403","Kaneohe silty clay loam, 5 to 15 percent slopes","Kaneohe",null,100,null,80,4,10,2.4,"none",null,null,"none"]
["HI990","Oahu","KHME",{"$f":"IF(B1215='Veg Guide Data Base'!$AD$1376,C1215,FALSE)","v":false},"468404","Kaneohe silty clay loam, 15 to 30 percent slopes","Kaneohe",null,100,null,80,4,23,2.4,"none",null,null,"none"]
["HI990","Oahu","KHMF",{"$f":"IF(B1216='Veg Guide Data Base'!$AD$1376,C1216,FALSE)","v":false},"468405","Kaneohe silty clay loam, 30 to 65 percent slopes","Kaneohe",null,100,null,80,4,48,2.4,"none",null,null,"none"]
["HI990","Oahu","KHOF",{"$f":"IF(B1217='Veg Guide Data Base'!$AD$1376,C1217,FALSE)","v":false},"468406","Kaneohe silty clay, 30 to 65 percent slopes","Kaneohe",null,100,null,80,4,48,2.4,"none",null,null,"none"]
["HI990","Oahu","KIG",{"$f":"IF(B1218='Veg Guide Data Base'!$AD$1376,C1218,FALSE)","v":false},"468407","Kapaa silty clay, 40 to 100 percent slopes","Kapaa",null,100,null,80,2,70,2.5,"none",null,null,"none"]
["HI990","Oahu","KlA",{"$f":"IF(B1219='Veg Guide Data Base'!$AD$1376,C1219,FALSE)","v":false},"468420","Kawaihapai clay loam, 0 to 2 percent slopes","Kawaihapai",null,100,null,80,10,1,2.8,"occasional, rare","very brief","January, February, March, April, November, December","occasional, rare","very brief","January, February, March, April, November, December"]
["HI990","Oahu","KlaA",{"$f":"IF(B1220='Veg Guide Data Base'!$AD$1376,C1220,FALSE)","v":false},"468423","Kawaihapai stony clay loam, 0 to 2 percent slopes","Kawaihapai",null,100,null,80,22,1,2.4,"occasional, rare","very brief","January, February, March, April, November, December","occasional, rare","very brief","January, February, March, April, November, December"]
["HI990","Oahu","KlaB",{"$f":"IF(B1221='Veg Guide Data Base'!$AD$1376,C1221,FALSE)","v":false},"468424","Kawaihapai stony clay loam, 2 to 6 percent slopes","Kawaihapai",null,100,null,80,22,4,2.4,"occasional, rare","very brief","January, February, March, April, November, December","none"]
["HI990","Oahu","KlB",{"$f":"IF(B1222='Veg Guide Data Base'!$AD$1376,C1222,FALSE)","v":false},"468421","Kawaihapai clay loam, 2 to 6 percent slopes","Kawaihapai",null,100,null,80,10,4,2.8,"occasional, rare","very brief","January, February, March, April, November, December","none"]
["HI990","Oahu","KlbC",{"$f":"IF(B1223='Veg Guide Data Base'!$AD$1376,C1223,FALSE)","v":false},"468425","Kawaihapai very stony clay loam, 0 to 15 percent slopes","Kawaihapai",null,100,null,80,40,8,2,"occasional, rare","very brief","January, February, March, April, November, December","none"]
["HI990","Oahu","KlC",{"$f":"IF(B1224='Veg Guide Data Base'!$AD$1376,C1224,FALSE)","v":false},"468422","Kawaihapai clay loam, 6 to 15 percent slopes","Kawaihapai",null,100,null,80,10,11,2.8,"occasional, rare","very brief","January, February, March, April, November, December","none"]
["HI990","Oahu","KmA",{"$f":"IF(B1225='Veg Guide Data Base'!$AD$1376,C1225,FALSE)","v":false},"468426","Keaau clay, 0 to 2 percent slopes","Keaau",null,85,"cemented horizon",34,0,1,2.6,"occasional, rare","very brief","January, February, March, November, December","occasional, rare","very brief","January, February, March, April, November, December"]
["HI990","Oahu","KmaB",{"$f":"IF(B1226='Veg Guide Data Base'!$AD$1376,C1226,FALSE)","v":false},"468427","Keaau stony clay, 2 to 6 percent slopes","Keaau",null,85,"cemented horizon",34,16,4,2.6,"occasional, rare","very brief","January, February, March, November, December","occasional, rare","very brief","January, February, March, April, November, December"]
["HI990","Oahu","KmbA",{"$f":"IF(B1227='Veg Guide Data Base'!$AD$1376,C1227,FALSE)","v":false},"468428","Keaau clay, saline, 0 to 2 percent slopes","Keaau",null,85,"cemented horizon",34,0,1,2.6,"occasional, rare","very brief","January, February, March, November, December","occasional, rare","very brief","January, February, March, April, November, December"]
["HI990","Oahu","KpB",{"$f":"IF(B1228='Veg Guide Data Base'!$AD$1376,C1228,FALSE)","v":false},"468429","Kemoo silty clay, 2 to 6 percent slopes","Kemoo",null,100,null,80,0,4,3.1,"none",null,null,"none"]
["HI990","Oahu","KpC",{"$f":"IF(B1229='Veg Guide Data Base'!$AD$1376,C1229,FALSE)","v":false},"468430","Kemoo silty clay, 6 to 12 percent slopes","Kemoo",null,100,null,80,0,9,3.1,"none",null,null,"none"]
["HI990","Oahu","KpD",{"$f":"IF(B1230='Veg Guide Data Base'!$AD$1376,C1230,FALSE)","v":false},"468431","Kemoo silty clay, 12 to 20 percent slopes","Kemoo",null,100,null,80,0,16,3.1,"none",null,null,"none"]
["HI990","Oahu","KpE",{"$f":"IF(B1231='Veg Guide Data Base'!$AD$1376,C1231,FALSE)","v":false},"468432","Kemoo silty clay, 20 to 35 percent slopes","Kemoo",null,100,null,80,0,28,3.1,"none",null,null,"none"]
["HI990","Oahu","KpF",{"$f":"IF(B1232='Veg Guide Data Base'!$AD$1376,C1232,FALSE)","v":false},"468433","Kemoo silty clay, 35 to 70 percent slopes","Kemoo",null,100,null,80,0,53,3.1,"none",null,null,"none"]
["HI990","Oahu","KPZ",{"$f":"IF(B1233='Veg Guide Data Base'!$AD$1376,C1233,FALSE)","v":false},"468408","Kemoo-Badland complex","Kemoo",null,60,null,80,0,40,3.1,"none",null,null,"none"]
["HI990","Oahu","KPZ",{"$f":"IF(B1234='Veg Guide Data Base'!$AD$1376,C1234,FALSE)","v":false},"468408","Kemoo-Badland complex","Badland",null,40,"bedrock, paralithic",0,0,40,2,"none",null,null,"none"]
["HI990","Oahu","KsB",{"$f":"IF(B1235='Veg Guide Data Base'!$AD$1376,C1235,FALSE)","v":false},"468434","Koko silt loam, 2 to 6 percent slopes","Koko",null,100,"bedrock, paralithic",48,0,4,3.3,"none",null,null,"none"]
["HI990","Oahu","KsC",{"$f":"IF(B1236='Veg Guide Data Base'!$AD$1376,C1236,FALSE)","v":false},"468435","Koko silt loam, 6 to 12 percent slopes","Koko",null,100,"bedrock, paralithic",48,0,9,3.3,"none",null,null,"none"]
["HI990","Oahu","KsD",{"$f":"IF(B1237='Veg Guide Data Base'!$AD$1376,C1237,FALSE)","v":false},"468436","Koko silt loam, 12 to 25 percent slopes","Koko",null,100,"bedrock, paralithic",48,0,19,3.3,"none",null,null,"none"]
["HI990","Oahu","KtC",{"$f":"IF(B1238='Veg Guide Data Base'!$AD$1376,C1238,FALSE)","v":false},"468437","Kokokahi clay, 6 to 12 percent slopes","Kokokahi",null,100,null,80,10,9,2.6,"none",null,null,"none"]
["HI990","Oahu","KTKE",{"$f":"IF(B1239='Veg Guide Data Base'!$AD$1376,C1239,FALSE)","v":false},"468409","Kokokahi very stony clay, 0 to 35 percent slopes","Kokokahi",null,100,null,80,38,18,1.8,"none",null,null,"none"]
["HI990","Oahu","KuB",{"$f":"IF(B1240='Veg Guide Data Base'!$AD$1376,C1240,FALSE)","v":false},"468438","Kolekole silty clay loam, 1 to 6 percent slopes","Kolekole",null,100,null,80,0,4,2,"none",null,null,"none"]
["HI990","Oahu","KuC",{"$f":"IF(B1241='Veg Guide Data Base'!$AD$1376,C1241,FALSE)","v":false},"468439","Kolekole silty clay loam, 6 to 12 percent slopes","Kolekole",null,100,null,80,0,9,2,"none",null,null,"none"]
["HI990","Oahu","KuD",{"$f":"IF(B1242='Veg Guide Data Base'!$AD$1376,C1242,FALSE)","v":false},"468440","Kolekole silty clay loam, 12 to 25 percent slopes","Kolekole",null,100,null,80,0,19,2,"none",null,null,"none"]
["HI990","Oahu","KyA",{"$f":"IF(B1243='Veg Guide Data Base'!$AD$1376,C1243,FALSE)","v":false},"468441","Kunia silty clay, 0 to 3 percent slopes","Kunia",null,100,null,80,0,2,2.6,"none",null,null,"none"]
["HI990","Oahu","KyB",{"$f":"IF(B1244='Veg Guide Data Base'!$AD$1376,C1244,FALSE)","v":false},"468442","Kunia silty clay, 3 to 8 percent slopes","Kunia",null,100,null,80,0,6,2.6,"none",null,null,"none"]
["HI990","Oahu","KyC",{"$f":"IF(B1245='Veg Guide Data Base'!$AD$1376,C1245,FALSE)","v":false},"468443","Kunia silty clay, 8 to 15 percent slopes","Kunia",null,100,null,80,0,12,2.6,"none",null,null,"none"]
["HI990","Oahu","LaA",{"$f":"IF(B1246='Veg Guide Data Base'!$AD$1376,C1246,FALSE)","v":false},"468445","Lahaina silty clay, 0 to 3 percent slopes","Lahaina",null,100,null,80,0,2,2.2000000000000002,"none",null,null,"none"]
["HI990","Oahu","LaB",{"$f":"IF(B1247='Veg Guide Data Base'!$AD$1376,C1247,FALSE)","v":false},"468446","Lahaina silty clay, 3 to 7 percent slopes","Lahaina",null,100,null,80,0,5,2.2000000000000002,"none",null,null,"none"]
["HI990","Oahu","LaC",{"$f":"IF(B1248='Veg Guide Data Base'!$AD$1376,C1248,FALSE)","v":false},"468447","Lahaina silty clay, 7 to 15 percent slopes","Lahaina",null,100,null,80,0,11,2.2000000000000002,"none",null,null,"none"]
["HI990","Oahu","LaC3",{"$f":"IF(B1249='Veg Guide Data Base'!$AD$1376,C1249,FALSE)","v":false},"468448","Lahaina silty clay, 7 to 15 percent slopes, severely eroded","Lahaina",null,100,null,80,0,11,2.2000000000000002,"none",null,null,"none"]
["HI990","Oahu","LeB",{"$f":"IF(B1250='Veg Guide Data Base'!$AD$1376,C1250,FALSE)","v":false},"468449","Leilehua silty clay, 2 to 6 percent slopes","Leilehua",null,100,null,80,0,4,2.2000000000000002,"none",null,null,"none"]
["HI990","Oahu","LeC",{"$f":"IF(B1251='Veg Guide Data Base'!$AD$1376,C1251,FALSE)","v":false},"468450","Leilehua silty clay, 6 to 12 percent","Leilehua",null,100,null,80,0,9,2.2000000000000002,"none",null,null,"none"]
["HI990","Oahu","LoB",{"$f":"IF(B1252='Veg Guide Data Base'!$AD$1376,C1252,FALSE)","v":false},"468451","Lolekaa silty clay, 3 to 8 percent slopes","Lolekaa",null,100,null,80,4,6,2.2000000000000002,"none",null,null,"none"]
["HI990","Oahu","LoC",{"$f":"IF(B1253='Veg Guide Data Base'!$AD$1376,C1253,FALSE)","v":false},"468452","Lolekaa silty clay, 8 to 15 percent slopes","Lolekaa",null,100,null,80,4,12,2.2000000000000002,"none",null,null,"none"]
["HI990","Oahu","LoD",{"$f":"IF(B1254='Veg Guide Data Base'!$AD$1376,C1254,FALSE)","v":false},"468453","Lolekaa silty clay, 15 to 25 percent slopes","Lolekaa",null,100,null,80,4,20,2.2000000000000002,"none",null,null,"none"]
["HI990","Oahu","LoE",{"$f":"IF(B1255='Veg Guide Data Base'!$AD$1376,C1255,FALSE)","v":false},"468454","Lolekaa silty clay, 25 to 40 percent slopes","Lolekaa",null,100,null,80,4,33,2.2000000000000002,"none",null,null,"none"]
["HI990","Oahu","LoF",{"$f":"IF(B1256='Veg Guide Data Base'!$AD$1376,C1256,FALSE)","v":false},"468455","Lolekaa silty clay, 40 to 70 percent slopes","Lolekaa",null,100,null,80,4,55,2.2000000000000002,"none",null,null,"none"]
["HI990","Oahu","LPE",{"$f":"IF(B1257='Veg Guide Data Base'!$AD$1376,C1257,FALSE)","v":false},"468444","Lualualei extremely stony clay, 3 to 35 percent slopes","Lualualei","extremely stony",100,null,80,61,19,1.8,"none",null,null,"none"]
["HI990","Oahu","LuA",{"$f":"IF(B1258='Veg Guide Data Base'!$AD$1376,C1258,FALSE)","v":false},"468456","Lualualei clay, 0 to 2 percent slopes","Lualualei",null,100,null,80,8,1,2.2999999999999998,"rare","very brief",null,"none"]
["HI990","Oahu","LuB",{"$f":"IF(B1259='Veg Guide Data Base'!$AD$1376,C1259,FALSE)","v":false},"468457","Lualualei clay, 2 to 6 percent slopes","Lualualei",null,100,null,80,8,4,2.2999999999999998,"rare","very brief",null,"none"]
["HI990","Oahu","LvA",{"$f":"IF(B1260='Veg Guide Data Base'!$AD$1376,C1260,FALSE)","v":false},"468458","Lualualei stony clay, 0 to 2 percent slopes","Lualualei","stony",100,null,80,12,1,2.2999999999999998,"rare","very brief",null,"none"]
["HI990","Oahu","LvB",{"$f":"IF(B1261='Veg Guide Data Base'!$AD$1376,C1261,FALSE)","v":false},"468459","Lualualei stony clay, 2 to 6 percent slopes","Lualualei","stony",100,null,80,12,4,2.2999999999999998,"rare","very brief",null,"none"]
["HI990","Oahu","MBL",{"$f":"IF(B1262='Veg Guide Data Base'!$AD$1376,C1262,FALSE)","v":false},"468460","Mahana-Badland complex","Mahana",null,55,null,80,0,28,2.4,"none",null,null,"none"]
["HI990","Oahu","MBL",{"$f":"IF(B1263='Veg Guide Data Base'!$AD$1376,C1263,FALSE)","v":false},"468460","Mahana-Badland complex","Badland",null,45,"bedrock, paralithic",0,0,45,2,"none",null,null,"none"]
["HI990","Oahu","McC2",{"$f":"IF(B1264='Veg Guide Data Base'!$AD$1376,C1264,FALSE)","v":false},"468462","Mahana silty clay loam, 6 to 12 percent slopes, eroded","Mahana",null,100,null,80,0,9,2.4,"none",null,null,"none"]
["HI990","Oahu","McD2",{"$f":"IF(B1265='Veg Guide Data Base'!$AD$1376,C1265,FALSE)","v":false},"468463","Mahana silty clay loam, 12 to 20 percent slopes, eroded","Mahana",null,100,null,80,0,16,2.4,"none",null,null,"none"]
["HI990","Oahu","McE2",{"$f":"IF(B1266='Veg Guide Data Base'!$AD$1376,C1266,FALSE)","v":false},"468464","Mahana silty clay loam, 20 to 35 percent slopes, eroded","Mahana",null,100,null,80,0,28,2.4,"none",null,null,"none"]
["HI990","Oahu","MdB",{"$f":"IF(B1267='Veg Guide Data Base'!$AD$1376,C1267,FALSE)","v":false},"468465","Makalapa clay, 2 to 6 percent slopes","Makalapa",null,100,"bedrock, paralithic",38,13,4,2.4,"none",null,null,"none"]
["HI990","Oahu","MdC",{"$f":"IF(B1268='Veg Guide Data Base'!$AD$1376,C1268,FALSE)","v":false},"468466","Makalapa clay, 6 to 12 percent slopes","Makalapa",null,100,"bedrock, paralithic",38,13,9,2.4,"none",null,null,"none"]
["HI990","Oahu","MdD",{"$f":"IF(B1269='Veg Guide Data Base'!$AD$1376,C1269,FALSE)","v":false},"468467","Makalapa clay, 12 to 20 percent slopes","Makalapa",null,100,"bedrock, paralithic",38,13,16,2.4,"none",null,null,"none"]
["HI990","Oahu","MkA",{"$f":"IF(B1270='Veg Guide Data Base'!$AD$1376,C1270,FALSE)","v":false},"468468","Makiki clay loam, 0 to 2 percent slopes","Makiki",null,100,null,80,11,1,2.8,"none",null,null,"none"]
["HI990","Oahu","MlA",{"$f":"IF(B1271='Veg Guide Data Base'!$AD$1376,C1271,FALSE)","v":false},"468469","Makiki stony clay loam, 0 to 3 percent slopes","Makiki","stony",100,null,80,23,2,2.6,"none",null,null,"none"]
["HI990","Oahu","MnC",{"$f":"IF(B1272='Veg Guide Data Base'!$AD$1376,C1272,FALSE)","v":false},"468470","Mamala stony silty clay loam, 0 to 12 percent slopes","Mamala","stony",100,"bedrock, lithic",19,20,6,2.1,"rare","very brief",null,"none"]
["HI990","Oahu","MoB",{"$f":"IF(B1273='Veg Guide Data Base'!$AD$1376,C1273,FALSE)","v":false},"468471","Manana silty clay loam, 2 to 6 percent slopes","Manana",null,100,null,80,2,4,2,"none",null,null,"none"]
["HI990","Oahu","MoC",{"$f":"IF(B1274='Veg Guide Data Base'!$AD$1376,C1274,FALSE)","v":false},"468472","Manana silty clay loam, 6 to 12 percent slopes","Manana",null,100,null,80,2,9,2,"none",null,null,"none"]
["HI990","Oahu","MoD2",{"$f":"IF(B1275='Veg Guide Data Base'!$AD$1376,C1275,FALSE)","v":false},"468473","Manana silty clay loam, 12 to 25 percent slopes, eroded","Manana",null,100,null,80,2,19,2.1,"none",null,null,"none"]
["HI990","Oahu","MpB",{"$f":"IF(B1276='Veg Guide Data Base'!$AD$1376,C1276,FALSE)","v":false},"468474","Manana silty clay, 3 to 8 percent slopes","Manana",null,100,null,80,2,6,2,"none",null,null,"none"]
["HI990","Oahu","MpC",{"$f":"IF(B1277='Veg Guide Data Base'!$AD$1376,C1277,FALSE)","v":false},"468475","Manana silty clay, 8 to 15 percent slopes","Manana",null,100,null,80,2,12,2,"none",null,null,"none"]
["HI990","Oahu","MpD",{"$f":"IF(B1278='Veg Guide Data Base'!$AD$1376,C1278,FALSE)","v":false},"468476","Manana silty clay, 15 to 25 percent slopes","Manana",null,100,null,80,2,20,2,"none",null,null,"none"]
["HI990","Oahu","MpD2",{"$f":"IF(B1279='Veg Guide Data Base'!$AD$1376,C1279,FALSE)","v":false},"468477","Manana silty clay, 12 to 25 percent slopes, eroded","Manana",null,100,null,80,2,19,2.1,"none",null,null,"none"]
["HI990","Oahu","MpE",{"$f":"IF(B1280='Veg Guide Data Base'!$AD$1376,C1280,FALSE)","v":false},"468478","Manana silty clay, 25 to 40 percent slopes","Manana",null,100,null,80,2,33,2,"none",null,null,"none"]
["HI990","Oahu","Ms",{"$f":"IF(B1281='Veg Guide Data Base'!$AD$1376,C1281,FALSE)","v":false},"468479","Mokuleia loam","Mokuleia",null,100,null,80,7,1,2,"rare","very brief",null,"none"]
["HI990","Oahu","Mt",{"$f":"IF(B1282='Veg Guide Data Base'!$AD$1376,C1282,FALSE)","v":false},"468480","Mokuleia clay loam","Mokuleia",null,100,null,80,7,1,2.5,"rare","very brief",null,"none"]
["HI990","Oahu","Mtb",{"$f":"IF(B1283='Veg Guide Data Base'!$AD$1376,C1283,FALSE)","v":false},"468481","Mokuleia clay","Mokuleia",null,100,null,80,4,1,2.7,"rare","very brief",null,"none"]
["HI990","Oahu","MuA",{"$f":"IF(B1284='Veg Guide Data Base'!$AD$1376,C1284,FALSE)","v":false},"468482","Molokai silty clay loam, 0 to 3 percent slopes","Molokai",null,100,null,80,0,2,2.4,"none",null,null,"none"]
["HI990","Oahu","MuB",{"$f":"IF(B1285='Veg Guide Data Base'!$AD$1376,C1285,FALSE)","v":false},"468483","Molokai silty clay loam, 3 to 7 percent slopes","Molokai",null,100,null,80,0,5,2.4,"none",null,null,"none"]
["HI990","Oahu","MuC",{"$f":"IF(B1286='Veg Guide Data Base'!$AD$1376,C1286,FALSE)","v":false},"468484","Molokai silty clay loam, 7 to 15 percent slopes","Molokai",null,100,null,80,0,11,2.4,"none",null,null,"none"]
["HI990","Oahu","MuD",{"$f":"IF(B1287='Veg Guide Data Base'!$AD$1376,C1287,FALSE)","v":false},"468485","Molokai silty clay loam, 15 to 25 percent slopes","Molokai",null,100,null,80,0,20,2.4,"none",null,null,"none"]
["HI990","Oahu","MZ",{"$f":"IF(B1288='Veg Guide Data Base'!$AD$1376,C1288,FALSE)","v":false},"468461","Marsh","Marsh",null,100,null,80,0,1,5.3,"frequent","long","January, February, March, April, May, June, July, August, September, October, November, December","frequent","very long","January, February, March, April, May, June, July, August, September, October, November, December"]
["HI990","Oahu","PaC",{"$f":"IF(B1289='Veg Guide Data Base'!$AD$1376,C1289,FALSE)","v":false},"468491","Paaloa silty clay, 3 to 12 percent slopes","Paaloa",null,100,null,80,0,8,2.2000000000000002,"none",null,null,"none"]
["HI990","Oahu","PbC",{"$f":"IF(B1290='Veg Guide Data Base'!$AD$1376,C1290,FALSE)","v":false},"468492","Paaloa clay, 2 to 12 percent","Paaloa",null,100,null,80,0,7,2.2000000000000002,"none",null,null,"none"]
["HI990","Oahu","PeB",{"$f":"IF(B1291='Veg Guide Data Base'!$AD$1376,C1291,FALSE)","v":false},"468493","Paumalu silty clay, 3 to 8 percent slopes","Paumalu",null,100,null,80,0,6,2.2000000000000002,"none",null,null,"none"]
["HI990","Oahu","PeC",{"$f":"IF(B1292='Veg Guide Data Base'!$AD$1376,C1292,FALSE)","v":false},"468494","Paumalu silty clay, 8-15 percent slopes","Paumalu",null,100,null,80,0,12,2.2000000000000002,"none",null,null,"none"]
["HI990","Oahu","PeD",{"$f":"IF(B1293='Veg Guide Data Base'!$AD$1376,C1293,FALSE)","v":false},"468495","Paumalu silty clay, 15 to 25 percent slopes","Paumalu",null,100,null,80,0,20,2.2000000000000002,"none",null,null,"none"]
["HI990","Oahu","PeE",{"$f":"IF(B1294='Veg Guide Data Base'!$AD$1376,C1294,FALSE)","v":false},"468496","Paumalu silty clay, 25 to 40 percent slopes","Paumalu",null,100,null,80,0,33,2.2000000000000002,"none",null,null,"none"]
["HI990","Oahu","PeF",{"$f":"IF(B1295='Veg Guide Data Base'!$AD$1376,C1295,FALSE)","v":false},"468497","Paumalu silty clay, 40 to 70 percent slopes","Paumalu",null,100,null,80,0,55,2.2000000000000002,"none",null,null,"none"]
["HI990","Oahu","Ph",{"$f":"IF(B1296='Veg Guide Data Base'!$AD$1376,C1296,FALSE)","v":false},"468498","Pearl Harbor clay","Pearl Harbor",null,80,null,80,2,1,2.2000000000000002,"rare, occasional","very brief","January, February, March, November, December","occasional, frequent","long","January, February, March, April, May, June, July, August, September, October, November, December"]
["HI990","Oahu","PID",{"$f":"IF(B1297='Veg Guide Data Base'!$AD$1376,C1297,FALSE)","v":false},"468486","Pamoa silty clay, 5 to 20 percent slopes","Pamoa",null,100,null,80,9,13,1.1000000000000001,"none",null,null,"none"]
["HI990","Oahu","PkB",{"$f":"IF(B1298='Veg Guide Data Base'!$AD$1376,C1298,FALSE)","v":false},"468499","Pohakupu silty clay loam, 0 to 8 percent slopes","Pohakupu",null,100,null,80,0,4,2.6,"none",null,null,"none"]
["HI990","Oahu","PkC",{"$f":"IF(B1299='Veg Guide Data Base'!$AD$1376,C1299,FALSE)","v":false},"468500","Pohakupu silty clay loam, 8 to 15 percent slopes","Pohakupu",null,100,null,80,0,12,2.6,"none",null,null,"none"]
["HI990","Oahu","PsA",{"$f":"IF(B1300='Veg Guide Data Base'!$AD$1376,C1300,FALSE)","v":false},"468501","Pulehu clay loam, 0 to 3 percent slopes","Pulehu",null,100,null,80,14,2,2.8,"rare, occasional","very brief","January, February, March, November, December","none"]
["HI990","Oahu","PuB",{"$f":"IF(B1301='Veg Guide Data Base'!$AD$1376,C1301,FALSE)","v":false},"468502","Pulehu stony clay loam, 2 to 6 percent slopes","Pulehu","stony",100,null,80,27,4,2.8,"rare, occasional","very brief","January, February, March, November, December","none"]
["HI990","Oahu","PvC",{"$f":"IF(B1302='Veg Guide Data Base'!$AD$1376,C1302,FALSE)","v":false},"468503","Pulehu very stony clay loam, 0 to 12 percent slopes","Pulehu","very stony",100,null,80,38,6,2.2000000000000002,"rare, occasional","very brief","January, February, March, November, December","none"]
["HI990","Oahu","PYD",{"$f":"IF(B1303='Veg Guide Data Base'!$AD$1376,C1303,FALSE)","v":false},"468487","Papaa clay, 6 to 25 percent slopes","Papaa",null,100,"bedrock, paralithic",40,11,16,2.2000000000000002,"none",null,null,"none"]
["HI990","Oahu","PYE",{"$f":"IF(B1304='Veg Guide Data Base'!$AD$1376,C1304,FALSE)","v":false},"468488","Papaa clay, 20 to 35 percent slopes","Papaa",null,100,"bedrock, paralithic",40,11,28,2.2000000000000002,"none",null,null,"none"]
["HI990","Oahu","PYF",{"$f":"IF(B1305='Veg Guide Data Base'!$AD$1376,C1305,FALSE)","v":false},"468489","Papaa clay, 35 to 70 percent slopes","Papaa",null,100,"bedrock, paralithic",40,11,53,2.2000000000000002,"none",null,null,"none"]
["HI990","Oahu","PZ",{"$f":"IF(B1306='Veg Guide Data Base'!$AD$1376,C1306,FALSE)","v":false},"468490","Paumalu-Badland complex","Paumalu",null,50,null,80,0,40,2.2000000000000002,"none",null,null,"none"]
["HI990","Oahu","PZ",{"$f":"IF(B1307='Veg Guide Data Base'!$AD$1376,C1307,FALSE)","v":false},"468490","Paumalu-Badland complex","Badland",null,30,"bedrock, paralithic",0,0,40,2,"none",null,null,"none"]
["HI990","Oahu","QU",{"$f":"IF(B1308='Veg Guide Data Base'!$AD$1376,C1308,FALSE)","v":false},"468377","Quarry","Quarry",null,100,null,80,0,null,null,"none",null,null,"none"]
["HI990","Oahu","rAAE",{"$f":"IF(B1309='Veg Guide Data Base'!$AD$1376,C1309,FALSE)","v":false},"468529","Alakai mucky peat, 0 to 30 percent slopes","Alakai",null,100,"bedrock, paralithic",60,0,15,4.5,"none",null,null,"none"]
["HI990","Oahu","rCI",{"$f":"IF(B1310='Veg Guide Data Base'!$AD$1376,C1310,FALSE)","v":false},"468530","Cinder land","Cinder land",null,100,null,80,75,45,0.4,"none",null,null,"none"]
["HI990","Oahu","rRK",{"$f":"IF(B1311='Veg Guide Data Base'!$AD$1376,C1311,FALSE)","v":false},"468531","Rock land","Rock land",null,55,"bedrock, lithic",8,11,38,1.1000000000000001,"none",null,null,"none"]
["HI990","Oahu","rRO",{"$f":"IF(B1312='Veg Guide Data Base'!$AD$1376,C1312,FALSE)","v":false},"468532","Rock outcrop","Rock outcrop",null,100,"bedrock, lithic",0,0,52,0,"none",null,null,"none"]
["HI990","Oahu","rRT",{"$f":"IF(B1313='Veg Guide Data Base'!$AD$1376,C1313,FALSE)","v":false},"468533","Rough mountainous land","Rough mountainous land",null,100,"bedrock, paralithic",25,23,75,2.5,"none",null,null,"none"]
["HI990","Oahu","rST",{"$f":"IF(B1314='Veg Guide Data Base'!$AD$1376,C1314,FALSE)","v":false},"468534","Stony land","Stony land",null,100,null,80,72,23,1.8,"none",null,null,"none"]
["HI990","Oahu","rSY",{"$f":"IF(B1315='Veg Guide Data Base'!$AD$1376,C1315,FALSE)","v":false},"468535","Stony steep land","Stony steep land",null,100,null,80,74,55,1.8,"none",null,null,"none"]
["HI990","Oahu","rTP",{"$f":"IF(B1316='Veg Guide Data Base'!$AD$1376,C1316,FALSE)","v":false},"468536","Tropohumults-Dystrandepts association","Tropohumults",null,50,"placic",57,0,60,2.6,"none",null,null,"none"]
["HI990","Oahu","rTP",{"$f":"IF(B1317='Veg Guide Data Base'!$AD$1376,C1317,FALSE)","v":false},"468536","Tropohumults-Dystrandepts association","Dystrandepts",null,30,"bedrock, paralithic",50,10,60,3.5,"none",null,null,"none"]
["HI990","Oahu","TAE",{"$f":"IF(B1318='Veg Guide Data Base'!$AD$1376,C1318,FALSE)","v":false},"468504","Tantalus silt loam, 15 to 40 percent slopes","Tantalus",null,100,null,80,10,28,2.8,"none",null,null,"none"]
["HI990","Oahu","TAF",{"$f":"IF(B1319='Veg Guide Data Base'!$AD$1376,C1319,FALSE)","v":false},"468505","Tantalus silt loam, 40 to 70 percent slopes","Tantalus",null,100,null,80,10,55,2.8,"none",null,null,"none"]
["HI990","Oahu","TCC",{"$f":"IF(B1320='Veg Guide Data Base'!$AD$1376,C1320,FALSE)","v":false},"468506","Tantalus silty clay loam, 8 to 15 percent slopes","Tantalus",null,100,null,80,10,12,2.8,"none",null,null,"none"]
["HI990","Oahu","TCE",{"$f":"IF(B1321='Veg Guide Data Base'!$AD$1376,C1321,FALSE)","v":false},"468507","Tantalus silty clay loam, 15 to 40 percent slopes","Tantalus",null,100,null,80,10,28,2.8,"none",null,null,"none"]
["HI990","Oahu","TR",{"$f":"IF(B1322='Veg Guide Data Base'!$AD$1376,C1322,FALSE)","v":false},"468508","Tropaquepts","Tropaquepts",null,90,null,80,0,1,3.1,"frequent","long","January, February, March, April, May, June, July, August, September, October, November, December","frequent","long","January, February, March, April, May, June, July, August, September, October, November, December"]
["HI990","Oahu","W",{"$f":"IF(B1323='Veg Guide Data Base'!$AD$1376,C1323,FALSE)","v":false},"468509","Water > 40 acres","Water > 40 acres",null,100,null,80,0,null,null,"none",null,null,"none"]
["HI990","Oahu","WaA",{"$f":"IF(B1324='Veg Guide Data Base'!$AD$1376,C1324,FALSE)","v":false},"468510","Wahiawa silty clay, 0 to 3 percent slopes","Wahiawa",null,100,null,80,0,2,2.4,"none",null,null,"none"]
["HI990","Oahu","WaB",{"$f":"IF(B1325='Veg Guide Data Base'!$AD$1376,C1325,FALSE)","v":false},"468511","Wahiawa silty clay, 3 to 8 percent slopes","Wahiawa",null,100,null,80,0,6,2.4,"none",null,null,"none"]
["HI990","Oahu","WaC",{"$f":"IF(B1326='Veg Guide Data Base'!$AD$1376,C1326,FALSE)","v":false},"468512","Wahiawa silty clay, 8 to 15 percent slopes","Wahiawa",null,100,null,80,0,12,2.4,"none",null,null,"none"]
["HI990","Oahu","WaD2",{"$f":"IF(B1327='Veg Guide Data Base'!$AD$1376,C1327,FALSE)","v":false},"468513","Wahiawa silty clay, 15 to 25 percent slopes, eroded","Wahiawa",null,100,null,80,0,20,2.4,"none",null,null,"none"]
["HI990","Oahu","WkA",{"$f":"IF(B1328='Veg Guide Data Base'!$AD$1376,C1328,FALSE)","v":false},"468514","Waialua silty clay, 0 to 3 percent slopes","Waialua",null,100,null,80,6,2,2.8,"none",null,null,"none"]
["HI990","Oahu","WkB",{"$f":"IF(B1329='Veg Guide Data Base'!$AD$1376,C1329,FALSE)","v":false},"468515","Waialua silty clay, 3 to 8 percent slopes","Waialua",null,100,null,80,6,6,2.8,"none",null,null,"none"]
["HI990","Oahu","WlB",{"$f":"IF(B1330='Veg Guide Data Base'!$AD$1376,C1330,FALSE)","v":false},"468516","Waialua stony silty clay, 3 to 8 percent slopes","Waialua",null,100,null,80,24,6,2.6,"none",null,null,"none"]
["HI990","Oahu","WlE",{"$f":"IF(B1331='Veg Guide Data Base'!$AD$1376,C1331,FALSE)","v":false},"468517","Waialua stony silty clay, 12 to 30 percent slopes","Waialua","stony",100,null,80,24,21,2.6,"none",null,null,"none"]
["HI990","Oahu","WmD",{"$f":"IF(B1332='Veg Guide Data Base'!$AD$1376,C1332,FALSE)","v":false},"468518","Waialua very stony silty clay, 12 to 20 percent slopes","Waialua","very stony",100,null,80,37,16,2.6,"none",null,null,"none"]
["HI990","Oahu","WnB",{"$f":"IF(B1333='Veg Guide Data Base'!$AD$1376,C1333,FALSE)","v":false},"468519","Waialua clay, 2 to 6 percent slopes","Waialua",null,100,null,80,6,4,2.8,"none",null,null,"none"]
["HI990","Oahu","WpaE",{"$f":"IF(B1334='Veg Guide Data Base'!$AD$1376,C1334,FALSE)","v":false},"468525","Waikane stony silty clay, 15 to 30 percent slopes","Waikane","stony",100,null,80,14,23,2.2000000000000002,"none",null,null,"none"]
["HI990","Oahu","WpB",{"$f":"IF(B1335='Veg Guide Data Base'!$AD$1376,C1335,FALSE)","v":false},"468520","Waikane silty clay, 3 to 8 percent slopes","Waikane",null,100,null,80,5,6,2.2000000000000002,"none",null,null,"none"]
["HI990","Oahu","WpC",{"$f":"IF(B1336='Veg Guide Data Base'!$AD$1376,C1336,FALSE)","v":false},"468521","Waikane silty clay, 8 to 15 percent slopes","Waikane",null,100,null,80,5,12,2.2000000000000002,"none",null,null,"none"]
["HI990","Oahu","WpE",{"$f":"IF(B1337='Veg Guide Data Base'!$AD$1376,C1337,FALSE)","v":false},"468522","Waikane silty clay, 25 to 40 percent slopes","Waikane",null,100,null,80,5,33,2.2000000000000002,"none",null,null,"none"]
["HI990","Oahu","WpF",{"$f":"IF(B1338='Veg Guide Data Base'!$AD$1376,C1338,FALSE)","v":false},"468523","Waikane silty clay, 40 to 70 percent slopes","Waikane",null,100,null,80,5,55,2.2000000000000002,"none",null,null,"none"]
["HI990","Oahu","WpF2",{"$f":"IF(B1339='Veg Guide Data Base'!$AD$1376,C1339,FALSE)","v":false},"468524","Waikane silty clay, 40 to 70 percent slopes, eroded","Waikane",null,100,null,80,6,55,2.2000000000000002,"none",null,null,"none"]
["HI990","Oahu","WzA",{"$f":"IF(B1340='Veg Guide Data Base'!$AD$1376,C1340,FALSE)","v":false},"468526","Waipahu silty clay, 0 to 2 percent slopes","Waipahu",null,100,null,80,4,1,2.4,"rare","very brief",null,"none"]
["HI990","Oahu","WzB",{"$f":"IF(B1341='Veg Guide Data Base'!$AD$1376,C1341,FALSE)","v":false},"468527","Waipahu silty clay, 2 to 6 percent slopes","Waipahu",null,100,null,80,4,4,2.4,"rare","very brief",null,"none"]
["HI990","Oahu","WzC",{"$f":"IF(B1342='Veg Guide Data Base'!$AD$1376,C1342,FALSE)","v":false},"468528","Waipahu silty clay, 6 to 12 percent slopes","Waipahu",null,100,null,80,4,9,2.4,"none",null,null,"none"]
["HI995","Kahoolawe",1,{"$f":"IF(B1343='Veg Guide Data Base'!$AD$1376,C1343,FALSE)","v":false},"1909490","Typic Torriorthents, badlands-Typic Haplotorrox-Rock outcrop complex,10 to 30 percent slopes","Typic Torriorthents","badland",40,null,80,10,20,2.4,"none",null,null,"none"]
["HI995","Kahoolawe",1,{"$f":"IF(B1344='Veg Guide Data Base'!$AD$1376,C1344,FALSE)","v":false},"1909490","Typic Torriorthents, badlands-Typic Haplotorrox-Rock outcrop complex,10 to 30 percent slopes","Typic Haplotorrox",null,35,null,80,4,20,3.1,"none",null,null,"none"]
["HI995","Kahoolawe",1,{"$f":"IF(B1345='Veg Guide Data Base'!$AD$1376,C1345,FALSE)","v":false},"1909490","Typic Torriorthents, badlands-Typic Haplotorrox-Rock outcrop complex,10 to 30 percent slopes","Rock outcrop",null,25,"bedrock, lithic",0,0,20,0,"none",null,null,"none"]
["HI995","Kahoolawe",2,{"$f":"IF(B1346='Veg Guide Data Base'!$AD$1376,C1346,FALSE)","v":false},"1909491","Typic Torriorthents, badlands-Typic Torriorthents, eolian, complex,5 to 25 percent slopes","Typic Torriorthents","badland",50,null,80,10,15,2.4,"none",null,null,"none"]
["HI995","Kahoolawe",2,{"$f":"IF(B1347='Veg Guide Data Base'!$AD$1376,C1347,FALSE)","v":false},"1909491","Typic Torriorthents, badlands-Typic Torriorthents, eolian, complex,5 to 25 percent slopes","Typic Torriorthents","eolian",30,null,80,4,15,3,"none",null,null,"none"]
["HI995","Kahoolawe",4,{"$f":"IF(B1348='Veg Guide Data Base'!$AD$1376,C1348,FALSE)","v":false},"1909493","Beaches, 0 to 5 percent slopes","Beaches",null,95,null,80,0,3,1.1000000000000001,"rare","very brief",null,"none"]
["HI995","Kahoolawe",5,{"$f":"IF(B1349='Veg Guide Data Base'!$AD$1376,C1349,FALSE)","v":false},"1909494","Typic Haplotorrox, 5 to 15 percent slopes","Typic Haplotorrox",null,90,null,80,4,11,3.1,"none",null,null,"none"]
["HI995","Kahoolawe",6,{"$f":"IF(B1350='Veg Guide Data Base'!$AD$1376,C1350,FALSE)","v":false},"1909495","Typic Haplotorrox, wind polished, 3 to12 percent slopes","Typic Haplotorrox","wind polished",80,null,80,5,6,2.4,"none",null,null,"none"]
["HI995","Kahoolawe",7,{"$f":"IF(B1351='Veg Guide Data Base'!$AD$1376,C1351,FALSE)","v":false},"1909496","Typic Haplotorrox, wind polished, 12 to 20 percent slopes","Typic Haplotorrox","wind polished",80,null,80,5,16,2.4,"none",null,null,"none"]
["HI995","Kahoolawe",8,{"$f":"IF(B1352='Veg Guide Data Base'!$AD$1376,C1352,FALSE)","v":false},"1909497","Typic Haplotorrox, wind polished-Typic Torriorthents, badlands, complex, 3 to 12 percent slopes","Typic Haplotorrox","wind polished",40,null,80,5,8,2.4,"none",null,null,"none"]
["HI995","Kahoolawe",8,{"$f":"IF(B1353='Veg Guide Data Base'!$AD$1376,C1353,FALSE)","v":false},"1909497","Typic Haplotorrox, wind polished-Typic Torriorthents, badlands, complex, 3 to 12 percent slopes","Typic Torriorthents","badland",40,null,80,10,8,2.4,"none",null,null,"none"]
["HI995","Kahoolawe",9,{"$f":"IF(B1354='Veg Guide Data Base'!$AD$1376,C1354,FALSE)","v":false},"1909498","Typic Torriorthents, eolian, 3 to 15 percent slopes","Typic Torriorthents","eolian",80,null,80,4,8,3,"none",null,null,"none"]
["HI995","Kahoolawe",11,{"$f":"IF(B1355='Veg Guide Data Base'!$AD$1376,C1355,FALSE)","v":false},"1909500","Typic Torriorthents, eolian, 15 to 30 percent slopes","Typic Torriorthents","eolian",80,null,80,4,22,3,"none",null,null,"none"]
["HI995","Kahoolawe",12,{"$f":"IF(B1356='Veg Guide Data Base'!$AD$1376,C1356,FALSE)","v":false},"1909501","Typic Haplotorrerts, extremely stony, 3 to 15 percent slopes","Typic Haplotorrerts",null,80,null,80,8,10,1.8,"none",null,null,"none"]
["HI995","Kahoolawe",13,{"$f":"IF(B1357='Veg Guide Data Base'!$AD$1376,C1357,FALSE)","v":false},"1909502","Typic Torrifluvents, 0 to 6 percent slopes","Typic Torrifluvents",null,85,null,80,6,2,2.4,"rare, occasional","very brief","January, February, March, April, November, December","frequent",",long","January, February, March, April, November, December"]
["HI995","Kahoolawe",14,{"$f":"IF(B1358='Veg Guide Data Base'!$AD$1376,C1358,FALSE)","v":false},"1909503","Typic Haplocambids, moderately deep, 3 to 12 percent slopes","Typic Haplocambids","moderately deep",80,"bedrock, lithic",31,6,5,1.9,"none",null,null,"none"]
["HI995","Kahoolawe",15,{"$f":"IF(B1359='Veg Guide Data Base'!$AD$1376,C1359,FALSE)","v":false},"1909504","Typic Haplocambids, moderately deep-Rock outcrop complex, 5 to 20 percent slopes","Typic Haplocambids","moderately deep",60,"bedrock, lithic",31,6,11,1.9,"none",null,null,"none"]
["HI995","Kahoolawe",15,{"$f":"IF(B1360='Veg Guide Data Base'!$AD$1376,C1360,FALSE)","v":false},"1909504","Typic Haplocambids, moderately deep-Rock outcrop complex, 5 to 20 percent slopes","Rock outcrop",null,30,"bedrock, lithic",0,0,11,0,"none",null,null,"none"]
["HI995","Kahoolawe",16,{"$f":"IF(B1361='Veg Guide Data Base'!$AD$1376,C1361,FALSE)","v":false},"1909505","Typic Haplotorrox, windblown, 3 to 12 percent slopes","Typic Haplotorrox","wind blown",90,null,80,5,6,2.4,"none",null,null,"none"]
["HI995","Kahoolawe",17,{"$f":"IF(B1362='Veg Guide Data Base'!$AD$1376,C1362,FALSE)","v":false},"1909506","Typic Haplotorrox, windblown, 8 to 20 percent slopes","Typic Haplotorrox","wind blown",90,null,80,5,11,2.4,"none",null,null,"none"]
["HI995","Kahoolawe",18,{"$f":"IF(B1363='Veg Guide Data Base'!$AD$1376,C1363,FALSE)","v":false},"1909507","Typic Haplotorrox, black subsoil, 8 to 20 percent slopes, gullied","Typic Haplotorrox","black subsoil",85,null,80,5,11,2.4,"none",null,null,"none"]
["HI995","Kahoolawe",19,{"$f":"IF(B1364='Veg Guide Data Base'!$AD$1376,C1364,FALSE)","v":false},"1909508","Typic Haplotorrox, windblown, 3 to 8 percent slopes, hummocky","Typic Haplotorrox","wind blown",85,null,80,5,6,2.4,"none",null,null,"none"]
["HI995","Kahoolawe",20,{"$f":"IF(B1365='Veg Guide Data Base'!$AD$1376,C1365,FALSE)","v":false},"1909509","Rock outcrop-Lithic Torriorthents complex, 50 to 150 percent slopes","Rock outcrop",null,80,"bedrock, lithic",0,0,100,0,"none",null,null,"none"]
["HI995","Kahoolawe",20,{"$f":"IF(B1366='Veg Guide Data Base'!$AD$1376,C1366,FALSE)","v":false},"1909509","Rock outcrop-Lithic Torriorthents complex, 50 to 150 percent slopes","Lithic Torriorthents","extremely stony",20,"bedrock, lithic",16,0,100,1.5,"none",null,null,"none"]
["HI995","Kahoolawe",21,{"$f":"IF(B1367='Veg Guide Data Base'!$AD$1376,C1367,FALSE)","v":false},"1909510","Rock outcrop-Typic Haplotorrerts complex, 8 to 20 percent slopes","Rock outcrop",null,60,"bedrock, lithic",0,0,15,0,"none",null,null,"none"]
["HI995","Kahoolawe",21,{"$f":"IF(B1368='Veg Guide Data Base'!$AD$1376,C1368,FALSE)","v":false},"1909510","Rock outcrop-Typic Haplotorrerts complex, 8 to 20 percent slopes","Typic Haplotorrerts",null,35,null,80,8,15,1.8,"none",null,null,"none"]
["HI995","Kahoolawe",22,{"$f":"IF(B1369='Veg Guide Data Base'!$AD$1376,C1369,FALSE)","v":false},"1909511","Rock outcrop-Typic Haplocambid, moderately deep, complex, 12 to 25 percent slopes","Rock outcrop",null,55,"bedrock, lithic",0,0,18,0,"none",null,null,"none"]
["HI995","Kahoolawe",22,{"$f":"IF(B1370='Veg Guide Data Base'!$AD$1376,C1370,FALSE)","v":false},"1909511","Rock outcrop-Typic Haplocambid, moderately deep, complex, 12 to 25 percent slopes","Typic Haplocambids","moderately deep",45,"bedrock, lithic",31,6,18,1.9,"none",null,null,"none"]
["HI995","Kahoolawe",23,{"$f":"IF(B1371='Veg Guide Data Base'!$AD$1376,C1371,FALSE)","v":false},"1909879","Lithic Torriorthents-Rock outcrop complex, 5 to 15 percent slopes","Lithic Torriorthents","extremely stony",70,"bedrock, lithic",16,0,10,1.5,"none",null,null,"none"]
["HI995","Kahoolawe",23,{"$f":"IF(B1372='Veg Guide Data Base'!$AD$1376,C1372,FALSE)","v":false},"1909879","Lithic Torriorthents-Rock outcrop complex, 5 to 15 percent slopes","Rock outcrop",null,30,"bedrock, lithic",0,0,10,0,"none",null,null,"none"]
["HI995","Kahoolawe",24,{"$f":"IF(B1373='Veg Guide Data Base'!$AD$1376,C1373,FALSE)","v":false},"1909880","Lithic Torriorthents-Rock outcrop complex, 15 to 30 percent slopes","Lithic Torriorthents","extremely stony",55,"bedrock, lithic",16,0,25,1.5,"none",null,null,"none"]
["HI995","Kahoolawe",24,{"$f":"IF(B1374='Veg Guide Data Base'!$AD$1376,C1374,FALSE)","v":false},"1909880","Lithic Torriorthents-Rock outcrop complex, 15 to 30 percent slopes","Rock outcrop",null,45,"bedrock, lithic",0,0,25,0,"none",null,null,"none"]
["HI995","Kahoolawe",25,{"$f":"IF(B1375='Veg Guide Data Base'!$AD$1376,C1375,FALSE)","v":false},"1909881","Rock outcrop-Lithic Torriorthents complex, 30 to 50 percent slopes","Rock outcrop",null,60,"bedrock, lithic",0,0,40,0,"none",null,null,"none"]
["HI995","Kahoolawe",25,{"$f":"IF(B1376='Veg Guide Data Base'!$AD$1376,C1376,FALSE)","v":false},"1909881","Rock outcrop-Lithic Torriorthents complex, 30 to 50 percent slopes","Lithic Torriorthents","extremely stony",40,"bedrock, lithic",16,0,40,1.5,"none",null,null,"none"]
["HI995","Kahoolawe",26,{"$f":"IF(B1377='Veg Guide Data Base'!$AD$1376,C1377,FALSE)","v":false},"1909882","Rubble land, 3 to 12 percent slopes","Rubble land",null,85,null,80,80,8,1,"none",null,null,"none"]
["HI995","Kahoolawe",27,{"$f":"IF(B1378='Veg Guide Data Base'!$AD$1376,C1378,FALSE)","v":false},"1909883","Typic Torriorthents, saprolite-Rock outcrop complex, 5 to 20 percent slopes","Typic Torriorthents","saprolite",80,null,80,10,11,2.4,"none",null,null,"none"]
["HI995","Kahoolawe",27,{"$f":"IF(B1379='Veg Guide Data Base'!$AD$1376,C1379,FALSE)","v":false},"1909883","Typic Torriorthents, saprolite-Rock outcrop complex, 5 to 20 percent slopes","Rock outcrop",null,20,null,80,0,10,0,"none",null,null,"none"]
["HI995","Kahoolawe",28,{"$f":"IF(B1380='Veg Guide Data Base'!$AD$1376,C1380,FALSE)","v":false},"1909884","Typic Haplotorrerts, excavated-Urban Land complex, 0 to 8 percent slopes","Typic Haplotorrerts","excavated",80,null,80,8,4,1.8,"none",null,null,"none"]
["HI995","Kahoolawe",28,{"$f":"IF(B1381='Veg Guide Data Base'!$AD$1376,C1381,FALSE)","v":false},"1909884","Typic Haplotorrerts, excavated-Urban Land complex, 0 to 8 percent slopes","Urban land",null,20,"human-manufactured materials",0,0,4,0,"none",null,null,"none"]
["HI995","Kahoolawe",29,{"$f":"IF(B1382='Veg Guide Data Base'!$AD$1376,C1382,FALSE)","v":false},"1909885","Typic Haplocambids,deep, 3  to 12 percent slopes","Typic Haplocambids","deep",80,"bedrock, lithic",50,7,5,2.7,"none",null,null,"none"]
["HI995","Kahoolawe",30,{"$f":"IF(B1383='Veg Guide Data Base'!$AD$1376,C1383,FALSE)","v":false},"1909886","Typic Haplocambids,deep,  8 to 20 percent slopes","Typic Haplocambids","deep",80,"bedrock, lithic",50,7,15,2.7,"none",null,null,"none"]
["HI995","Kahoolawe",31,{"$f":"IF(B1384='Veg Guide Data Base'!$AD$1376,C1384,FALSE)","v":false},"1909887","Typic Haplocambids, deep-Typic Haplocambids, moderately deep complex, 3 to 8 percent slopes","Typic Haplocambids","deep",55,"bedrock, lithic",50,7,5,2.7,"none",null,null,"none"]
["HI995","Kahoolawe",31,{"$f":"IF(B1385='Veg Guide Data Base'!$AD$1376,C1385,FALSE)","v":false},"1909887","Typic Haplocambids, deep-Typic Haplocambids, moderately deep complex, 3 to 8 percent slopes","Typic Haplocambids","moderately deep",40,"bedrock, lithic",31,6,5,1.9,"none",null,null,"none"]
["HI995","Kahoolawe",32,{"$f":"IF(B1386='Veg Guide Data Base'!$AD$1376,C1386,FALSE)","v":false},"1909888","Typic Haplotorrox, dark surface, 3 to 8 percent slopes, severely eroded","Typic Haplotorrox dark surface",null,85,null,80,6,5,2,"none",null,null,"none"]
["PB630","American Samoa",1,{"$f":"IF(B1387='Veg Guide Data Base'!$AD$1376,C1387,FALSE)","v":false},"465394","Aua very stony silty clay loam, 15 to 30 percent slopes","AUA",null,85,null,80,34,23,2.5,"none",null,null,"none"]
["PB630","American Samoa",2,{"$f":"IF(B1388='Veg Guide Data Base'!$AD$1376,C1388,FALSE)","v":false},"465405","Aua very stony silty clay loam, 30 to 60 percent slopes","AUA",null,85,null,80,34,45,2.5,"none",null,null,"none"]
["PB630","American Samoa",3,{"$f":"IF(B1389='Veg Guide Data Base'!$AD$1376,C1389,FALSE)","v":false},"465416","Fagasa-Ofu silty clays, 30 to 60 percent slopes","FAGASA",null,50,"bedrock, paralithic",29,24,45,2.6,"none",null,null,"none"]
["PB630","American Samoa",3,{"$f":"IF(B1390='Veg Guide Data Base'!$AD$1376,C1390,FALSE)","v":false},"465416","Fagasa-Ofu silty clays, 30 to 60 percent slopes","OFU",null,35,null,80,0,45,2.6,"none",null,null,"none"]
["PB630","American Samoa",4,{"$f":"IF(B1391='Veg Guide Data Base'!$AD$1376,C1391,FALSE)","v":false},"465423","Fagasa family-Lithic Hapludolls-Rock outcrop association, very steep","FAGASA",null,50,"bedrock, paralithic",29,19,73,2.6,"none",null,null,"none"]
["PB630","American Samoa",4,{"$f":"IF(B1392='Veg Guide Data Base'!$AD$1376,C1392,FALSE)","v":false},"465423","Fagasa family-Lithic Hapludolls-Rock outcrop association, very steep","ROCK OUTCROP",null,15,"bedrock, lithic",0,0,85,0,"none",null,null,"none"]
["PB630","American Samoa",5,{"$f":"IF(B1393='Veg Guide Data Base'!$AD$1376,C1393,FALSE)","v":false},"465424","Iliili extremely stony mucky clay loam, 3 to 15 percent slopes","ILIILI",null,90,"bedrock, lithic",9,44,9,1.1000000000000001,"none",null,null,"none"]
["PB630","American Samoa",6,{"$f":"IF(B1394='Veg Guide Data Base'!$AD$1376,C1394,FALSE)","v":false},"465425","Insak mucky sandy loam","INSAK",null,95,"bedrock, lithic",26,13,1,2,"frequent","very long","January, February, March, April, May, June, July, August, September, October, November, December","rare","very long"]
["PB630","American Samoa",7,{"$f":"IF(B1395='Veg Guide Data Base'!$AD$1376,C1395,FALSE)","v":false},"465426","Insak variant clay loam","INSAK VARIANT",null,95,null,80,5,1,2.6,"none, occasional",",brief","January, February, March, October, November, December","none"]
["PB630","American Samoa",8,{"$f":"IF(B1396='Veg Guide Data Base'!$AD$1376,C1396,FALSE)","v":false},"465427","Leafu silty clay, 0 to 3 percent slopes","LEAFU",null,95,null,80,2,2,2.9,"occasional, none","brief,","January, February, March, April, May, October, November, December","none"]
["PB630","American Samoa",9,{"$f":"IF(B1397='Veg Guide Data Base'!$AD$1376,C1397,FALSE)","v":false},"465428","Leafu stony silty clay, 0 to 3 percent slopes","LEAFU","stony",95,null,80,16,2,2.7,"occasional, none","brief,","January, February, March, April, May, October, November, December","none"]
["PB630","American Samoa",10,{"$f":"IF(B1398='Veg Guide Data Base'!$AD$1376,C1398,FALSE)","v":false},"465395","Mesei variant peat","MESEI VARIANT",null,95,null,80,0,1,4.9000000000000004,"frequent","very long","January, February, March, April, May, June, July, August, September, October, November, December","none","very long"]
["PB630","American Samoa",11,{"$f":"IF(B1399='Veg Guide Data Base'!$AD$1376,C1399,FALSE)","v":false},"465396","Ngedebus mucky sand","NGEDEBUS",null,95,null,80,26,1,1.5,"occasional","very brief","January, February, March, April, May, June, July, August, September, October, November, December","none"]
["PB630","American Samoa",12,{"$f":"IF(B1400='Veg Guide Data Base'!$AD$1376,C1400,FALSE)","v":false},"465397","Ngedebus variant extremely cobbly sand, 0 to 5 percent slopes","NGEDEBUS VARIANT",null,95,null,80,51,3,0.6,"occasional","very brief","January, February, March, April, May, June, July, August, September, October, November, December","none"]
["PB630","American Samoa",13,{"$f":"IF(B1401='Veg Guide Data Base'!$AD$1376,C1401,FALSE)","v":false},"465398","Ngerungor variant mucky peat","NGERUNGOR VARIANT",null,95,null,80,0,1,4.9000000000000004,"frequent","long","January, February, March, April, May, June, July, August, September, October, November, December","none","very long"]
["PB630","American Samoa",14,{"$f":"IF(B1402='Veg Guide Data Base'!$AD$1376,C1402,FALSE)","v":false},"465399","Ofu silty clay, 15 to 40 percent slopes","OFU",null,90,null,80,0,28,2.6,"none",null,null,"none"]
["PB630","American Samoa",15,{"$f":"IF(B1403='Veg Guide Data Base'!$AD$1376,C1403,FALSE)","v":false},"465400","Ofu silty clay, 40 to 70 percent slopes","OFU",null,80,null,80,0,55,2.6,"none",null,null,"none"]
["PB630","American Samoa",16,{"$f":"IF(B1404='Veg Guide Data Base'!$AD$1376,C1404,FALSE)","v":false},"465401","Ofu variant silty clay, 6 to 20 percent slopes","OFU VARIANT",null,90,null,80,0,13,2.6,"none",null,null,"none"]
["PB630","American Samoa",17,{"$f":"IF(B1405='Veg Guide Data Base'!$AD$1376,C1405,FALSE)","v":false},"465402","Ofu variant silty clay, 20 to 40 percent slopes","OFU VARIANT",null,90,null,80,0,30,2.6,"none",null,null,"none"]
["PB630","American Samoa",18,{"$f":"IF(B1406='Veg Guide Data Base'!$AD$1376,C1406,FALSE)","v":false},"465403","Ofu variant-Rock outcrop complex, 40 to 70 percent slopes","OFU VARIANT",null,65,null,80,0,55,2.6,"none",null,null,"none"]
["PB630","American Samoa",18,{"$f":"IF(B1407='Veg Guide Data Base'!$AD$1376,C1407,FALSE)","v":false},"465403","Ofu variant-Rock outcrop complex, 40 to 70 percent slopes","ROCK OUTCROP",null,25,"bedrock, lithic",0,0,55,0,"none",null,null,"none"]
["PB630","American Samoa",19,{"$f":"IF(B1408='Veg Guide Data Base'!$AD$1376,C1408,FALSE)","v":false},"465404","Oloava silty clay loam, 6 to 12 percent slopes","OLOAVA",null,90,"strongly contrasting textural stratification",14,6,9,2.2999999999999998,"none",null,null,"none"]
["PB630","American Samoa",20,{"$f":"IF(B1409='Veg Guide Data Base'!$AD$1376,C1409,FALSE)","v":false},"465406","Oloava silty clay loam, 12 to 25 percent slopes","OLOAVA",null,90,"strongly contrasting textural stratification",14,6,19,2.2999999999999998,"none",null,null,"none"]
["PB630","American Samoa",21,{"$f":"IF(B1410='Veg Guide Data Base'!$AD$1376,C1410,FALSE)","v":false},"465407","Oloava silty clay loam, 40 to 100 percent slopes","OLOAVA",null,90,"strongly contrasting textural stratification",14,6,43,2.1,"none",null,null,"none"]
["PB630","American Samoa",22,{"$f":"IF(B1411='Veg Guide Data Base'!$AD$1376,C1411,FALSE)","v":false},"465408","Olotania family, 15 to 40 percent slopes","OLOTANIA",null,85,"bedrock, paralithic",35,8,28,3.1,"none",null,null,"none"]
["PB630","American Samoa",23,{"$f":"IF(B1412='Veg Guide Data Base'!$AD$1376,C1412,FALSE)","v":false},"465409","Pavaiai stony clay loam, 6 to 12 percent slopes","PAVAIAI",null,85,"bedrock, lithic",38,15,9,3.3,"none",null,null,"none"]
["PB630","American Samoa",24,{"$f":"IF(B1413='Veg Guide Data Base'!$AD$1376,C1413,FALSE)","v":false},"465410","Pavaiai stony clay loam, 12 to 25 percent slopes","PAVAIAI",null,85,"bedrock, lithic",38,15,19,3.3,"none",null,null,"none"]
["PB630","American Samoa",25,{"$f":"IF(B1414='Veg Guide Data Base'!$AD$1376,C1414,FALSE)","v":false},"465411","Pavaiai stony clay loam, 25 to 40 percent slopes","PAVAIAI",null,85,"bedrock, lithic",30,18,33,2.4,"none",null,null,"none"]
["PB630","American Samoa",26,{"$f":"IF(B1415='Veg Guide Data Base'!$AD$1376,C1415,FALSE)","v":false},"465412","Puapua-Rock outcrop complex, 40 to 100 percent slopes","PUAPUA",null,50,"bedrock, paralithic",16,5,43,3.6,"none",null,null,"none"]
["PB630","American Samoa",26,{"$f":"IF(B1416='Veg Guide Data Base'!$AD$1376,C1416,FALSE)","v":false},"465412","Puapua-Rock outcrop complex, 40 to 100 percent slopes","ROCK OUTCROP",null,30,"bedrock, lithic",0,0,70,0,"none",null,null,"none"]
["PB630","American Samoa",27,{"$f":"IF(B1417='Veg Guide Data Base'!$AD$1376,C1417,FALSE)","v":false},"465413","Rock outcrop-Hydrandepts-Dystrandepts association, very steep","ROCK OUTCROP",null,35,"bedrock, lithic",0,0,85,0,"none",null,null,"none"]
["PB630","American Samoa",27,{"$f":"IF(B1418='Veg Guide Data Base'!$AD$1376,C1418,FALSE)","v":false},"465413","Rock outcrop-Hydrandepts-Dystrandepts association, very steep","HYDRUDANDS",null,30,"bedrock, paralithic",30,10,85,3,"none",null,null,"none"]
["PB630","American Samoa",27,{"$f":"IF(B1419='Veg Guide Data Base'!$AD$1376,C1419,FALSE)","v":false},"465413","Rock outcrop-Hydrandepts-Dystrandepts association, very steep","DYSTRANDEPTS",null,25,"bedrock, paralithic",30,10,85,3,"none",null,null,"none"]
["PB630","American Samoa",28,{"$f":"IF(B1420='Veg Guide Data Base'!$AD$1376,C1420,FALSE)","v":false},"465414","Sogi-Puapua clay loams, 0 to 6 percent slopes","SOGI",null,50,"bedrock, paralithic",26,5,3,4.7,"none",null,null,"none"]
["PB630","American Samoa",28,{"$f":"IF(B1421='Veg Guide Data Base'!$AD$1376,C1421,FALSE)","v":false},"465414","Sogi-Puapua clay loams, 0 to 6 percent slopes","PUAPUA",null,35,"bedrock, paralithic",16,5,3,3.6,"none",null,null,"none"]
["PB630","American Samoa",29,{"$f":"IF(B1422='Veg Guide Data Base'!$AD$1376,C1422,FALSE)","v":false},"465415","Sogi-Puapua clay loams, 6 to 20 percent slopes","SOGI",null,45,"bedrock, paralithic",26,5,13,4.7,"none",null,null,"none"]
["PB630","American Samoa",29,{"$f":"IF(B1423='Veg Guide Data Base'!$AD$1376,C1423,FALSE)","v":false},"465415","Sogi-Puapua clay loams, 6 to 20 percent slopes","PUAPUA",null,40,"bedrock, paralithic",16,5,13,3.6,"none",null,null,"none"]
["PB630","American Samoa",30,{"$f":"IF(B1424='Veg Guide Data Base'!$AD$1376,C1424,FALSE)","v":false},"465417","Sogi-Puapua clay loams, 20 to 40 percent slopes","SOGI",null,45,"bedrock, paralithic",27,5,30,3.8,"none",null,null,"none"]
["PB630","American Samoa",30,{"$f":"IF(B1425='Veg Guide Data Base'!$AD$1376,C1425,FALSE)","v":false},"465417","Sogi-Puapua clay loams, 20 to 40 percent slopes","PUAPUA",null,40,"bedrock, paralithic",16,5,30,3.6,"none",null,null,"none"]
["PB630","American Samoa",31,{"$f":"IF(B1426='Veg Guide Data Base'!$AD$1376,C1426,FALSE)","v":false},"465418","Sogi variant-Pavaiai association, 15 to 50 percent slope","SOGI VARIANT",null,50,"bedrock, lithic",30,0,35,2.6,"none",null,null,"none"]
["PB630","American Samoa",31,{"$f":"IF(B1427='Veg Guide Data Base'!$AD$1376,C1427,FALSE)","v":false},"465418","Sogi variant-Pavaiai association, 15 to 50 percent slope","PAVAIAI",null,40,"bedrock, lithic",30,18,28,2.4,"none",null,null,"none"]
["PB630","American Samoa",32,{"$f":"IF(B1428='Veg Guide Data Base'!$AD$1376,C1428,FALSE)","v":false},"465419","Tafuna extremely stony muck, 3 to 15 percent slopes","TAFUNA",null,80,"bedrock, lithic",43,57,9,2.4,"none",null,null,"none"]
["PB630","American Samoa",33,{"$f":"IF(B1429='Veg Guide Data Base'!$AD$1376,C1429,FALSE)","v":false},"465420","Troporthents, 0 to 6 percent slopes","TROPORTHENTS",null,90,null,80,0,3,0,"none",null,null,"none"]
["PB630","American Samoa",34,{"$f":"IF(B1430='Veg Guide Data Base'!$AD$1376,C1430,FALSE)","v":false},"465421","Urban land-Aua-Leafu complex, 0 to 30 percent slopes","URBAN LAND",null,55,null,80,0,3,0,"none",null,null,"none"]
["PB630","American Samoa",34,{"$f":"IF(B1431='Veg Guide Data Base'!$AD$1376,C1431,FALSE)","v":false},"465421","Urban land-Aua-Leafu complex, 0 to 30 percent slopes","AUA",null,30,null,80,34,18,2.5,"none",null,null,"none"]
["PB630","American Samoa",34,{"$f":"IF(B1432='Veg Guide Data Base'!$AD$1376,C1432,FALSE)","v":false},"465421","Urban land-Aua-Leafu complex, 0 to 30 percent slopes","LEAFU",null,12,null,80,2,3,2.6,"occasional, none","brief,","January, February, March, April, May, October, November, December","none"]
["PB630","American Samoa",35,{"$f":"IF(B1433='Veg Guide Data Base'!$AD$1376,C1433,FALSE)","v":false},"465422","Urban land-Ngedebus complex","URBAN LAND",null,55,null,80,0,3,0,"none",null,null,"none"]
["PB630","American Samoa",35,{"$f":"IF(B1434='Veg Guide Data Base'!$AD$1376,C1434,FALSE)","v":false},"465422","Urban land-Ngedebus complex","NGEDEBUS",null,40,null,80,21,3,1.2,"occasional","very brief","January, February, March, April, May, June, July, August, September, October, November, December","none"]
["PB630","American Samoa","W",{"$f":"IF(B1435='Veg Guide Data Base'!$AD$1376,C1435,FALSE)","v":false},"465429","Water","Water",null,100,null,80,0,null,null,"none",null,null,"none"]
["PB640","Guam",1,{"$f":"IF(B1436='Veg Guide Data Base'!$AD$1376,C1436,FALSE)","v":false},"465524","Agfayan clay, 15 to 30 percent slopes","Agfayan",null,85,"bedrock, paralithic",14,9,23,2.4,"none",null,null,"none"]
["PB640","Guam",2,{"$f":"IF(B1437='Veg Guide Data Base'!$AD$1376,C1437,FALSE)","v":false},"465535","Agfayan clay, 30 to 60 percent slopes","Agfayan",null,85,"bedrock, paralithic",14,0,45,2.4,"none",null,null,"none"]
["PB640","Guam",3,{"$f":"IF(B1438='Veg Guide Data Base'!$AD$1376,C1438,FALSE)","v":false},"465546","Agfayan-Rock outcrop complex, 7 to 15 percent slopes","Agfayan",null,60,"bedrock, paralithic",14,0,11,2.4,"none",null,null,"none"]
["PB640","Guam",3,{"$f":"IF(B1439='Veg Guide Data Base'!$AD$1376,C1439,FALSE)","v":false},"465546","Agfayan-Rock outcrop complex, 7 to 15 percent slopes","Rock outcrop",null,20,"bedrock, lithic",0,0,11,0,"none",null,null,"none"]
["PB640","Guam",4,{"$f":"IF(B1440='Veg Guide Data Base'!$AD$1376,C1440,FALSE)","v":false},"465557","Agfayan-Rock outcrop complex, 15 to 30 percent slopes","Agfayan",null,60,"bedrock, paralithic",14,0,23,2.4,"none",null,null,"none"]
["PB640","Guam",4,{"$f":"IF(B1441='Veg Guide Data Base'!$AD$1376,C1441,FALSE)","v":false},"465557","Agfayan-Rock outcrop complex, 15 to 30 percent slopes","Rock outcrop",null,20,"bedrock, lithic",0,0,23,0,"none",null,null,"none"]
["PB640","Guam",5,{"$f":"IF(B1442='Veg Guide Data Base'!$AD$1376,C1442,FALSE)","v":false},"465568","Agfayan-Rock outcrop complex, 30 to 60 percent slopes","Agfayan",null,65,"bedrock, paralithic",14,0,45,2.4,"none",null,null,"none"]
["PB640","Guam",5,{"$f":"IF(B1443='Veg Guide Data Base'!$AD$1376,C1443,FALSE)","v":false},"465568","Agfayan-Rock outcrop complex, 30 to 60 percent slopes","Rock outcrop",null,25,"bedrock, lithic",0,0,45,0,"none",null,null,"none"]
["PB640","Guam",6,{"$f":"IF(B1444='Veg Guide Data Base'!$AD$1376,C1444,FALSE)","v":false},"465576","Agfayan-Akina association, extremely steep","Agfayan",null,60,"bedrock, paralithic",14,0,65,2.4,"none",null,null,"none"]
["PB640","Guam",6,{"$f":"IF(B1445='Veg Guide Data Base'!$AD$1376,C1445,FALSE)","v":false},"465576","Agfayan-Akina association, extremely steep","Akina",null,30,"bedrock, paralithic",24,4,65,2.2000000000000002,"none",null,null,"none"]
["PB640","Guam",7,{"$f":"IF(B1446='Veg Guide Data Base'!$AD$1376,C1446,FALSE)","v":false},"465577","Agfayan-Akina-Rock outcrop association, extremely steep","Agfayan",null,50,"bedrock, paralithic",14,0,60,2.4,"none",null,null,"none"]
["PB640","Guam",7,{"$f":"IF(B1447='Veg Guide Data Base'!$AD$1376,C1447,FALSE)","v":false},"465577","Agfayan-Akina-Rock outcrop association, extremely steep","Akina",null,25,"bedrock, paralithic",24,0,60,2.2000000000000002,"none",null,null,"none"]
["PB640","Guam",7,{"$f":"IF(B1448='Veg Guide Data Base'!$AD$1376,C1448,FALSE)","v":false},"465577","Agfayan-Akina-Rock outcrop association, extremely steep","Rock outcrop",null,20,"bedrock, lithic",0,0,60,0,"none",null,null,"none"]
["PB640","Guam",8,{"$f":"IF(B1449='Veg Guide Data Base'!$AD$1376,C1449,FALSE)","v":false},"465578","Akina silty clay, 3 to 7 percent slopes","Akina",null,90,"bedrock, paralithic",24,0,5,2.2000000000000002,"none",null,null,"none"]
["PB640","Guam",9,{"$f":"IF(B1450='Veg Guide Data Base'!$AD$1376,C1450,FALSE)","v":false},"465579","Akina silty clay 7 to 15 percent slopes","Akina",null,90,"bedrock, paralithic",24,0,11,2.2000000000000002,"none",null,null,"none"]
["PB640","Guam",10,{"$f":"IF(B1451='Veg Guide Data Base'!$AD$1376,C1451,FALSE)","v":false},"465525","Akina silty clay, 15 to 30 percent slopes","Akina",null,90,"bedrock, paralithic",24,0,23,2.2000000000000002,"none",null,null,"none"]
["PB640","Guam",11,{"$f":"IF(B1452='Veg Guide Data Base'!$AD$1376,C1452,FALSE)","v":false},"465526","Akina slity clay, 30 to 60 percent slopes","Akina",null,90,"bedrock, paralithic",24,0,45,2.2000000000000002,"none",null,null,"none"]
["PB640","Guam",12,{"$f":"IF(B1453='Veg Guide Data Base'!$AD$1376,C1453,FALSE)","v":false},"465527","Akina-Agfayan association, steep","Akina",null,50,"bedrock, paralithic",24,0,45,2.2000000000000002,"none",null,null,"none"]
["PB640","Guam",12,{"$f":"IF(B1454='Veg Guide Data Base'!$AD$1376,C1454,FALSE)","v":false},"465527","Akina-Agfayan association, steep","Agfayan",null,30,"bedrock, paralithic",14,0,45,2.4,"none",null,null,"none"]
["PB640","Guam",13,{"$f":"IF(B1455='Veg Guide Data Base'!$AD$1376,C1455,FALSE)","v":false},"465528","Akina-Atate slity clays, 0 to 7 percent slopes","Akina",null,50,"bedrock, paralithic",24,0,4,2.2000000000000002,"none",null,null,"none"]
["PB640","Guam",13,{"$f":"IF(B1456='Veg Guide Data Base'!$AD$1376,C1456,FALSE)","v":false},"465528","Akina-Atate slity clays, 0 to 7 percent slopes","Atate",null,40,"bedrock, paralithic",43,0,4,2.4,"none",null,null,"none"]
["PB640","Guam",14,{"$f":"IF(B1457='Veg Guide Data Base'!$AD$1376,C1457,FALSE)","v":false},"465529","Akina-Atate silty clays, 7 to 15 percent slopes","Akina",null,50,"bedrock, paralithic",24,0,11,2.2000000000000002,"none",null,null,"none"]
["PB640","Guam",14,{"$f":"IF(B1458='Veg Guide Data Base'!$AD$1376,C1458,FALSE)","v":false},"465529","Akina-Atate silty clays, 7 to 15 percent slopes","Atate",null,40,"bedrock, paralithic",43,0,11,2.4,"none",null,null,"none"]
["PB640","Guam",15,{"$f":"IF(B1459='Veg Guide Data Base'!$AD$1376,C1459,FALSE)","v":false},"465530","Akina-Atate silty clays, 15 to 30 percent slopes","Akina",null,50,"bedrock, paralithic",24,0,23,2.2000000000000002,"none",null,null,"none"]
["PB640","Guam",15,{"$f":"IF(B1460='Veg Guide Data Base'!$AD$1376,C1460,FALSE)","v":false},"465530","Akina-Atate silty clays, 15 to 30 percent slopes","Atate",null,40,"bedrock, paralithic",43,0,23,2.4,"none",null,null,"none"]
["PB640","Guam",16,{"$f":"IF(B1461='Veg Guide Data Base'!$AD$1376,C1461,FALSE)","v":false},"465531","Akina-Atate silty clays, 30 to 60 percent slopes","Akina",null,50,"bedrock, paralithic",24,0,45,2.2000000000000002,"none",null,null,"none"]
["PB640","Guam",16,{"$f":"IF(B1462='Veg Guide Data Base'!$AD$1376,C1462,FALSE)","v":false},"465531","Akina-Atate silty clays, 30 to 60 percent slopes","Atate",null,40,"bedrock, paralithic",43,0,45,2.4,"none",null,null,"none"]
["PB640","Guam",17,{"$f":"IF(B1463='Veg Guide Data Base'!$AD$1376,C1463,FALSE)","v":false},"465532","Akina-Atate association, steep","Akina",null,55,"bedrock, paralithic",24,0,40,2.2000000000000002,"none",null,null,"none"]
["PB640","Guam",17,{"$f":"IF(B1464='Veg Guide Data Base'!$AD$1376,C1464,FALSE)","v":false},"465532","Akina-Atate association, steep","Atate",null,35,"bedrock, paralithic",43,0,40,2.4,"none",null,null,"none"]
["PB640","Guam",18,{"$f":"IF(B1465='Veg Guide Data Base'!$AD$1376,C1465,FALSE)","v":false},"465533","Akina-Badland complex, 7 to 15 percent slopes","Akina",null,65,"bedrock, paralithic",24,0,11,2.2000000000000002,"none",null,null,"none"]
["PB640","Guam",18,{"$f":"IF(B1466='Veg Guide Data Base'!$AD$1376,C1466,FALSE)","v":false},"465533","Akina-Badland complex, 7 to 15 percent slopes","Badland",null,30,"bedrock, paralithic",0,0,11,0,"none",null,null,"none"]
["PB640","Guam",19,{"$f":"IF(B1467='Veg Guide Data Base'!$AD$1376,C1467,FALSE)","v":false},"465534","Akina-Badland complex, 15 to 30 percent slopes","Akina",null,65,"bedrock, paralithic",24,0,23,2.2000000000000002,"none",null,null,"none"]
["PB640","Guam",19,{"$f":"IF(B1468='Veg Guide Data Base'!$AD$1376,C1468,FALSE)","v":false},"465534","Akina-Badland complex, 15 to 30 percent slopes","Badland",null,30,"bedrock, paralithic",0,0,23,0,"none",null,null,"none"]
["PB640","Guam",20,{"$f":"IF(B1469='Veg Guide Data Base'!$AD$1376,C1469,FALSE)","v":false},"465536","Akina-Badland complex, 30 to 60 percent slopes","Akina",null,65,"bedrock, paralithic",24,0,45,2.2000000000000002,"none",null,null,"none"]
["PB640","Guam",20,{"$f":"IF(B1470='Veg Guide Data Base'!$AD$1376,C1470,FALSE)","v":false},"465536","Akina-Badland complex, 30 to 60 percent slopes","Badland",null,30,"bedrock, paralithic",0,0,45,0,"none",null,null,"none"]
["PB640","Guam",21,{"$f":"IF(B1471='Veg Guide Data Base'!$AD$1376,C1471,FALSE)","v":false},"465537","Akina-Badland association, steep","Akina",null,60,"bedrock, paralithic",24,0,40,2.2000000000000002,"none",null,null,"none"]
["PB640","Guam",21,{"$f":"IF(B1472='Veg Guide Data Base'!$AD$1376,C1472,FALSE)","v":false},"465537","Akina-Badland association, steep","Badland",null,25,"bedrock, paralithic",0,0,40,0,"none",null,null,"none"]
["PB640","Guam",22,{"$f":"IF(B1473='Veg Guide Data Base'!$AD$1376,C1473,FALSE)","v":false},"465538","Akina-Urban land complex, 0 to 7 percent slopes","Akina",null,60,"bedrock, paralithic",24,0,4,2.2000000000000002,"none",null,null,"none"]
["PB640","Guam",22,{"$f":"IF(B1474='Veg Guide Data Base'!$AD$1376,C1474,FALSE)","v":false},"465538","Akina-Urban land complex, 0 to 7 percent slopes","Urban land",null,30,null,80,0,4,0,"none",null,null,"none"]
["PB640","Guam",23,{"$f":"IF(B1475='Veg Guide Data Base'!$AD$1376,C1475,FALSE)","v":false},"465539","Chacha clay, 0 to 5 percent slopes","Chacha",null,90,"bedrock, paralithic",43,0,3,2.6,"rare",null,null,"none"]
["PB640","Guam",24,{"$f":"IF(B1476='Veg Guide Data Base'!$AD$1376,C1476,FALSE)","v":false},"465540","Chacha variant clay, 0 to 3 percent slopes","Chacha variant",null,90,null,80,0,2,2.6,"none",null,null,"rare",",long"]
["PB640","Guam",25,{"$f":"IF(B1477='Veg Guide Data Base'!$AD$1376,C1477,FALSE)","v":false},"465541","Guam cobbly clay loam, 3 to 7 percent slopes","Guam",null,90,"bedrock, lithic",8,28,5,1.7,"none",null,null,"none"]
["PB640","Guam",26,{"$f":"IF(B1478='Veg Guide Data Base'!$AD$1376,C1478,FALSE)","v":false},"465542","Guam cobbly clay loam, 7 to 15 percent slopes","Guam",null,90,"bedrock, lithic",8,0,11,1.7,"none",null,null,"none"]
["PB640","Guam",27,{"$f":"IF(B1479='Veg Guide Data Base'!$AD$1376,C1479,FALSE)","v":false},"465543","Guam-Saipan complex, 0 to 7 percent slopes","Guam",null,60,"bedrock, lithic",8,0,4,1.7,"none",null,null,"none"]
["PB640","Guam",27,{"$f":"IF(B1480='Veg Guide Data Base'!$AD$1376,C1480,FALSE)","v":false},"465543","Guam-Saipan complex, 0 to 7 percent slopes","Saipan",null,30,null,80,5,2,2.4,"none",null,null,"none"]
["PB640","Guam",28,{"$f":"IF(B1481='Veg Guide Data Base'!$AD$1376,C1481,FALSE)","v":false},"465544","Guam-Urban land complex, 0 to 3 percent slopes","Guam",null,55,"bedrock, lithic",8,0,2,1.7,"none",null,null,"none"]
["PB640","Guam",28,{"$f":"IF(B1482='Veg Guide Data Base'!$AD$1376,C1482,FALSE)","v":false},"465544","Guam-Urban land complex, 0 to 3 percent slopes","Urban land",null,45,null,80,0,2,0,"none",null,null,"none"]
["PB640","Guam",29,{"$f":"IF(B1483='Veg Guide Data Base'!$AD$1376,C1483,FALSE)","v":false},"465545","Guam-Yigo complex, 0 to 7 percent slopes","Guam",null,55,"bedrock, lithic",8,0,4,1.7,"none",null,null,"none"]
["PB640","Guam",29,{"$f":"IF(B1484='Veg Guide Data Base'!$AD$1376,C1484,FALSE)","v":false},"465545","Guam-Yigo complex, 0 to 7 percent slopes","Yigo",null,40,"bedrock, lithic",64,5,2,1.8,"none",null,null,"none"]
["PB640","Guam",30,{"$f":"IF(B1485='Veg Guide Data Base'!$AD$1376,C1485,FALSE)","v":false},"465547","Inarajan clay, 0 to 4 percent slopes","Inarajan",null,95,null,80,0,2,3.2,"none, occasional",",brief","June, July, August, September, October, November","none"]
["PB640","Guam",31,{"$f":"IF(B1486='Veg Guide Data Base'!$AD$1376,C1486,FALSE)","v":false},"465548","Inarajan sandy clay loam, 0 to 3 percent slopes","Inarajan","sandy clay loam",85,null,80,0,2,2.8,"none, occasional",",brief","June, July, August, September, October, November","none"]
["PB640","Guam",32,{"$f":"IF(B1487='Veg Guide Data Base'!$AD$1376,C1487,FALSE)","v":false},"465549","Inarajan variant mucky clay, 0 to 3 percent slopes","Inarajan variant",null,90,null,80,0,2,2.9,"none, frequent",",brief","June, July, August, September, October, November","none"]
["PB640","Guam",33,{"$f":"IF(B1488='Veg Guide Data Base'!$AD$1376,C1488,FALSE)","v":false},"465550","Pulantat clay, 3 to 7 percent slopes","Pulantat",null,90,"bedrock, paralithic",12,11,3,2.8,"none",null,null,"none"]
["PB640","Guam",34,{"$f":"IF(B1489='Veg Guide Data Base'!$AD$1376,C1489,FALSE)","v":false},"465551","Pulantat clay, 7 to 15 percent slopes","Pulantat",null,90,"bedrock, paralithic",12,0,11,2.8,"none",null,null,"none"]
["PB640","Guam",35,{"$f":"IF(B1490='Veg Guide Data Base'!$AD$1376,C1490,FALSE)","v":false},"465552","Pulantat clay, 15 to 30 percent slopes","Pulantat",null,90,"bedrock, paralithic",12,0,23,2.8,"none",null,null,"none"]
["PB640","Guam",36,{"$f":"IF(B1491='Veg Guide Data Base'!$AD$1376,C1491,FALSE)","v":false},"465553","Pulantat clay, 30 to 60 percent slopes","Pulantat",null,90,"bedrock, paralithic",12,0,45,2.8,"none",null,null,"none"]
["PB640","Guam",37,{"$f":"IF(B1492='Veg Guide Data Base'!$AD$1376,C1492,FALSE)","v":false},"465554","Pulantat-Chacha clays, undulating","Pulantat",null,60,"bedrock, paralithic",12,0,5,2.8,"none",null,null,"none"]
["PB640","Guam",37,{"$f":"IF(B1493='Veg Guide Data Base'!$AD$1376,C1493,FALSE)","v":false},"465554","Pulantat-Chacha clays, undulating","Chacha",null,35,"bedrock, paralithic",43,0,3,2.6,"rare",null,null,"none"]
["PB640","Guam",38,{"$f":"IF(B1494='Veg Guide Data Base'!$AD$1376,C1494,FALSE)","v":false},"465555","Pulantat-Chacha clays, rolling","Pulantat",null,60,"bedrock, paralithic",12,0,11,2.8,"none",null,null,"none"]
["PB640","Guam",38,{"$f":"IF(B1495='Veg Guide Data Base'!$AD$1376,C1495,FALSE)","v":false},"465555","Pulantat-Chacha clays, rolling","Chacha",null,35,"bedrock, paralithic",43,0,3,2.6,"rare",null,null,"none"]
["PB640","Guam",39,{"$f":"IF(B1496='Veg Guide Data Base'!$AD$1376,C1496,FALSE)","v":false},"465556","Pulantat-Kagman clays, 0 to 7 percent slopes","Pulantat",null,60,"bedrock, paralithic",12,0,5,2.8,"none",null,null,"none"]
["PB640","Guam",39,{"$f":"IF(B1497='Veg Guide Data Base'!$AD$1376,C1497,FALSE)","v":false},"465556","Pulantat-Kagman clays, 0 to 7 percent slopes","Kagman",null,30,"bedrock, lithic",59,6,2,2.7,"none",null,null,"none"]
["PB640","Guam",40,{"$f":"IF(B1498='Veg Guide Data Base'!$AD$1376,C1498,FALSE)","v":false},"465558","Pulantat-Kagman clays, 7 to 15 percent slopes","Pulantat",null,60,"bedrock, paralithic",12,0,11,2.8,"none",null,null,"none"]
["PB640","Guam",40,{"$f":"IF(B1499='Veg Guide Data Base'!$AD$1376,C1499,FALSE)","v":false},"465558","Pulantat-Kagman clays, 7 to 15 percent slopes","Kagman",null,30,"bedrock, lithic",59,0,11,2.7,"none",null,null,"none"]
["PB640","Guam",41,{"$f":"IF(B1500='Veg Guide Data Base'!$AD$1376,C1500,FALSE)","v":false},"465559","Pulantat-Urban land complex, 0 to 7 percent slopes","Pulantat",null,50,"bedrock, paralithic",12,0,4,2.8,"none",null,null,"none"]
["PB640","Guam",41,{"$f":"IF(B1501='Veg Guide Data Base'!$AD$1376,C1501,FALSE)","v":false},"465559","Pulantat-Urban land complex, 0 to 7 percent slopes","Urban land",null,35,null,80,0,4,0,"none",null,null,"none"]
["PB640","Guam",42,{"$f":"IF(B1502='Veg Guide Data Base'!$AD$1376,C1502,FALSE)","v":false},"465560","Pulantat-Urban land complex, 7 to 15 percent slopes","Pulantat",null,70,"bedrock, paralithic",12,0,11,2.8,"none",null,null,"none"]
["PB640","Guam",42,{"$f":"IF(B1503='Veg Guide Data Base'!$AD$1376,C1503,FALSE)","v":false},"465560","Pulantat-Urban land complex, 7 to 15 percent slopes","Urban land",null,30,null,80,0,11,0,"none",null,null,"none"]
["PB640","Guam",43,{"$f":"IF(B1504='Veg Guide Data Base'!$AD$1376,C1504,FALSE)","v":false},"465561","Ritidian-Rock outcrop complex, 3 to 15 percent slopes","Ritidian",null,45,"bedrock, lithic",10,64,9,0.7,"none",null,null,"none"]
["PB640","Guam",43,{"$f":"IF(B1505='Veg Guide Data Base'!$AD$1376,C1505,FALSE)","v":false},"465561","Ritidian-Rock outcrop complex, 3 to 15 percent slopes","Rock outcrop",null,40,"bedrock, lithic",0,0,9,0,"none",null,null,"none"]
["PB640","Guam",44,{"$f":"IF(B1506='Veg Guide Data Base'!$AD$1376,C1506,FALSE)","v":false},"465562","Ritidian-Rock outcrop complex, 15 to 60 percent slopes","Ritidian",null,50,"bedrock, lithic",10,0,38,0.7,"none",null,null,"none"]
["PB640","Guam",44,{"$f":"IF(B1507='Veg Guide Data Base'!$AD$1376,C1507,FALSE)","v":false},"465562","Ritidian-Rock outcrop complex, 15 to 60 percent slopes","Rock outcrop",null,45,"bedrock, lithic",0,0,38,0,"none",null,null,"none"]
["PB640","Guam",45,{"$f":"IF(B1508='Veg Guide Data Base'!$AD$1376,C1508,FALSE)","v":false},"465563","Rock outcrop-Ritidian complex, 60 to 99 percent slopes","Rock outcrop",null,50,"bedrock, lithic",0,0,80,0,"none",null,null,"none"]
["PB640","Guam",45,{"$f":"IF(B1509='Veg Guide Data Base'!$AD$1376,C1509,FALSE)","v":false},"465563","Rock outcrop-Ritidian complex, 60 to 99 percent slopes","Ritidian",null,45,"bedrock, lithic",10,0,80,0.7,"none",null,null,"none"]
["PB640","Guam",46,{"$f":"IF(B1510='Veg Guide Data Base'!$AD$1376,C1510,FALSE)","v":false},"465564","Sasalaguan clay, 7 to 15 percent slopes","Sasalaguan",null,90,"bedrock, paralithic",28,0,11,2.8,"none",null,null,"none"]
["PB640","Guam",47,{"$f":"IF(B1511='Veg Guide Data Base'!$AD$1376,C1511,FALSE)","v":false},"465565","Shioya loamy sand, 0 to 5 percent slopes","Shioya",null,85,"bedrock, lithic",63,10,3,1.6,"rare",null,null,"none"]
["PB640","Guam",48,{"$f":"IF(B1512='Veg Guide Data Base'!$AD$1376,C1512,FALSE)","v":false},"465566","Togcha-Akina silty clays, 3 to 7 percent slopes","Togcha",null,65,null,80,0,5,2.2999999999999998,"none",null,null,"none"]
["PB640","Guam",48,{"$f":"IF(B1513='Veg Guide Data Base'!$AD$1376,C1513,FALSE)","v":false},"465566","Togcha-Akina silty clays, 3 to 7 percent slopes","Akina",null,25,"bedrock, paralithic",24,0,5,2.2000000000000002,"none",null,null,"none"]
["PB640","Guam",49,{"$f":"IF(B1514='Veg Guide Data Base'!$AD$1376,C1514,FALSE)","v":false},"465567","Togcha-Akina silty clays, 7 to 15 percent slopes","Togcha",null,65,null,80,0,11,2.2999999999999998,"none",null,null,"none"]
["PB640","Guam",49,{"$f":"IF(B1515='Veg Guide Data Base'!$AD$1376,C1515,FALSE)","v":false},"465567","Togcha-Akina silty clays, 7 to 15 percent slopes","Akina",null,25,"bedrock, paralithic",24,0,11,2.2000000000000002,"none",null,null,"none"]
["PB640","Guam",50,{"$f":"IF(B1516='Veg Guide Data Base'!$AD$1376,C1516,FALSE)","v":false},"465569","Togcha-Ylig complex, 3 to 7 percent slopes","Togcha",null,60,null,80,0,5,2.2999999999999998,"none",null,null,"none"]
["PB640","Guam",50,{"$f":"IF(B1517='Veg Guide Data Base'!$AD$1376,C1517,FALSE)","v":false},"465569","Togcha-Ylig complex, 3 to 7 percent slopes","Ylig",null,35,null,80,4,5,3.4,"rare",null,null,"none"]
["PB640","Guam",51,{"$f":"IF(B1518='Veg Guide Data Base'!$AD$1376,C1518,FALSE)","v":false},"465570","Togcha-Ylig complex, 7 to 15 percent slopes","Togcha",null,60,null,80,0,11,2.2999999999999998,"none",null,null,"none"]
["PB640","Guam",51,{"$f":"IF(B1519='Veg Guide Data Base'!$AD$1376,C1519,FALSE)","v":false},"465570","Togcha-Ylig complex, 7 to 15 percent slopes","Ylig",null,35,null,80,0,11,3.4,"rare",null,null,"none"]
["PB640","Guam",52,{"$f":"IF(B1520='Veg Guide Data Base'!$AD$1376,C1520,FALSE)","v":false},"465571","Troposaprists, 0 to 1 percent slopes","Troposaprists",null,90,null,80,0,1,5.5,"none, frequent",",brief","June, July, August, September, October, November","frequent","very long","January, February, March, April, May, June, July, August, September, October, November, December"]
["PB640","Guam",53,{"$f":"IF(B1521='Veg Guide Data Base'!$AD$1376,C1521,FALSE)","v":false},"465572","Urban land-Ustorthents complex, nearly level","Urban land",null,60,null,80,0,3,0,"none",null,null,"none"]
["PB640","Guam",53,{"$f":"IF(B1522='Veg Guide Data Base'!$AD$1376,C1522,FALSE)","v":false},"465572","Urban land-Ustorthents complex, nearly level","Ustorthents",null,30,null,80,0,3,null,"none",null,null,"none"]
["PB640","Guam",54,{"$f":"IF(B1523='Veg Guide Data Base'!$AD$1376,C1523,FALSE)","v":false},"465573","Ylig clay, 0 to 3 percent slopes","Ylig",null,90,null,80,0,2,3.4,"rare",null,null,"none"]
["PB640","Guam",55,{"$f":"IF(B1524='Veg Guide Data Base'!$AD$1376,C1524,FALSE)","v":false},"465574","Ylig clay, 3 to 7 percent slopes","Ylig",null,90,null,80,0,5,3.4,"rare",null,null,"none"]
["PB640","Guam",56,{"$f":"IF(B1525='Veg Guide Data Base'!$AD$1376,C1525,FALSE)","v":false},"465575","Water","Water",null,100,null,80,0,null,null,"none",null,null,"none"]
["PB645","Northern Marianas",1,{"$f":"IF(B1526='Veg Guide Data Base'!$AD$1376,C1526,FALSE)","v":false},"465589","Agfayan variant-Rock outcrop complex, 15 to 30 percent slopes","Agfayan variant",null,55,"bedrock, paralithic",14,30,23,1.5,"none",null,null,"none"]
["PB645","Northern Marianas",1,{"$f":"IF(B1527='Veg Guide Data Base'!$AD$1376,C1527,FALSE)","v":false},"465589","Agfayan variant-Rock outcrop complex, 15 to 30 percent slopes","Rock outcrop",null,30,"bedrock, lithic",0,0,23,null,"none",null,null,"none"]
["PB645","Northern Marianas",2,{"$f":"IF(B1528='Veg Guide Data Base'!$AD$1376,C1528,FALSE)","v":false},"465600","Agfayan variant-Rock outcrop complex, 30 to 60 percent slopes","Agfayan variant",null,55,"bedrock, paralithic",14,30,45,1.5,"none",null,null,"none"]
["PB645","Northern Marianas",2,{"$f":"IF(B1529='Veg Guide Data Base'!$AD$1376,C1529,FALSE)","v":false},"465600","Agfayan variant-Rock outcrop complex, 30 to 60 percent slopes","Rock outcrop",null,30,"bedrock, lithic",0,0,45,null,"none",null,null,"none"]
["PB645","Northern Marianas",3,{"$f":"IF(B1530='Veg Guide Data Base'!$AD$1376,C1530,FALSE)","v":false},"465611","Akina-Badland complex, 15 to 30 percent slopes","Akina",null,60,"bedrock, paralithic",24,0,23,2.2000000000000002,"none",null,null,"none"]
["PB645","Northern Marianas",3,{"$f":"IF(B1531='Veg Guide Data Base'!$AD$1376,C1531,FALSE)","v":false},"465611","Akina-Badland complex, 15 to 30 percent slopes","Badland",null,30,"bedrock, paralithic",0,0,23,0,"none",null,null,"none"]
["PB645","Northern Marianas",4,{"$f":"IF(B1532='Veg Guide Data Base'!$AD$1376,C1532,FALSE)","v":false},"465622","Akina-Badland complex, 30 to 60 percent slopes","Akina",null,60,"bedrock, paralithic",24,0,45,2.2000000000000002,"none",null,null,"none"]
["PB645","Northern Marianas",4,{"$f":"IF(B1533='Veg Guide Data Base'!$AD$1376,C1533,FALSE)","v":false},"465622","Akina-Badland complex, 30 to 60 percent slopes","Badland",null,30,"bedrock, paralithic",0,0,45,null,"none",null,null,"none"]
["PB645","Northern Marianas",5,{"$f":"IF(B1534='Veg Guide Data Base'!$AD$1376,C1534,FALSE)","v":false},"465633","Banaderu clay loam, 3 to 5 percent slopes","Banaderu",null,85,"bedrock, lithic",19,12,4,2.6,"none",null,null,"none"]
["PB645","Northern Marianas",6,{"$f":"IF(B1535='Veg Guide Data Base'!$AD$1376,C1535,FALSE)","v":false},"465639","Banaderu clay loam, 5 to 15 percent slopes","Banaderu",null,85,"bedrock, lithic",19,12,10,2.6,"none",null,null,"none"]
["PB645","Northern Marianas",7,{"$f":"IF(B1536='Veg Guide Data Base'!$AD$1376,C1536,FALSE)","v":false},"465640","Banaderu-Rock outcrop complex, 5 to 15 percent slopes","Banaderu",null,55,"bedrock, lithic",19,12,10,2.6,"none",null,null,"none"]
["PB645","Northern Marianas",7,{"$f":"IF(B1537='Veg Guide Data Base'!$AD$1376,C1537,FALSE)","v":false},"465640","Banaderu-Rock outcrop complex, 5 to 15 percent slopes","Rock outcrop",null,35,"bedrock, lithic",0,0,10,null,"none",null,null,"none"]
["PB645","Northern Marianas",8,{"$f":"IF(B1538='Veg Guide Data Base'!$AD$1376,C1538,FALSE)","v":false},"465641","Banaderu-Rock outcrop complex, 15 to 30 percent slopes","Banaderu",null,55,"bedrock, lithic",19,12,23,2.6,"none",null,null,"none"]
["PB645","Northern Marianas",8,{"$f":"IF(B1539='Veg Guide Data Base'!$AD$1376,C1539,FALSE)","v":false},"465641","Banaderu-Rock outcrop complex, 15 to 30 percent slopes","Rock outcrop",null,35,"bedrock, lithic",0,0,23,null,"none",null,null,"none"]
["PB645","Northern Marianas",9,{"$f":"IF(B1540='Veg Guide Data Base'!$AD$1376,C1540,FALSE)","v":false},"465642","Chacha clay, drained, 0 to 5 percent slopes","Chacha","drained",90,"bedrock, paralithic",39,3,3,2.6,"none",null,null,"none"]
["PB645","Northern Marianas",10,{"$f":"IF(B1541='Veg Guide Data Base'!$AD$1376,C1541,FALSE)","v":false},"465590","Chinen clay loam, 0 to 5 percent slopes","Chinen",null,80,"bedrock, lithic",14,10,3,1.8,"none",null,null,"none"]
["PB645","Northern Marianas",11,{"$f":"IF(B1542='Veg Guide Data Base'!$AD$1376,C1542,FALSE)","v":false},"465591","Chinen clay loam, 5 to 15 percent slopes","Chinen",null,80,"bedrock, lithic",14,10,10,1.8,"none",null,null,"none"]
["PB645","Northern Marianas",12,{"$f":"IF(B1543='Veg Guide Data Base'!$AD$1376,C1543,FALSE)","v":false},"465592","Chinen clay loam, 15 to 30 percent slopes","Chinen",null,80,"bedrock, lithic",14,10,23,1.8,"none",null,null,"none"]
["PB645","Northern Marianas",13,{"$f":"IF(B1544='Veg Guide Data Base'!$AD$1376,C1544,FALSE)","v":false},"465593","Chinen very gravelly sandy loam, 0 to 5 percent slopes","Chinen","very gravelly sandy loam",80,"bedrock, lithic",21,35,3,1.7,"none",null,null,"none"]
["PB645","Northern Marianas",14,{"$f":"IF(B1545='Veg Guide Data Base'!$AD$1376,C1545,FALSE)","v":false},"465594","Chinen very gravelly sandy loam, 5 to 15 percent slopes","Chinen","very gravelly sandy loam",80,"bedrock, lithic",21,35,10,1.7,"none",null,null,"none"]
["PB645","Northern Marianas",15,{"$f":"IF(B1546='Veg Guide Data Base'!$AD$1376,C1546,FALSE)","v":false},"465595","Chinen-Rock outcrop complex, 3 to 15 percent slopes","Chinen",null,50,"bedrock, lithic",14,10,9,1.8,"none",null,null,"none"]
["PB645","Northern Marianas",15,{"$f":"IF(B1547='Veg Guide Data Base'!$AD$1376,C1547,FALSE)","v":false},"465595","Chinen-Rock outcrop complex, 3 to 15 percent slopes","Rock outcrop",null,30,"bedrock, lithic",0,0,9,null,"none",null,null,"none"]
["PB645","Northern Marianas",16,{"$f":"IF(B1548='Veg Guide Data Base'!$AD$1376,C1548,FALSE)","v":false},"465596","Chinen-Rock outcrop complex, 15 to 30 percent slopes","Chinen",null,50,"bedrock, lithic",14,10,23,1.8,"none",null,null,"none"]
["PB645","Northern Marianas",16,{"$f":"IF(B1549='Veg Guide Data Base'!$AD$1376,C1549,FALSE)","v":false},"465596","Chinen-Rock outcrop complex, 15 to 30 percent slopes","Rock outcrop",null,30,"bedrock, lithic",0,0,23,null,"none",null,null,"none"]
["PB645","Northern Marianas",17,{"$f":"IF(B1550='Veg Guide Data Base'!$AD$1376,C1550,FALSE)","v":false},"465597","Chinen-Urban land complex, 0 to 5 percent slopes","Chinen",null,50,"bedrock, lithic",14,10,3,1.8,"none",null,null,"none"]
["PB645","Northern Marianas",17,{"$f":"IF(B1551='Veg Guide Data Base'!$AD$1376,C1551,FALSE)","v":false},"465597","Chinen-Urban land complex, 0 to 5 percent slopes","Urban land",null,30,null,80,0,3,0,"none",null,null,"none"]
["PB645","Northern Marianas",18,{"$f":"IF(B1552='Veg Guide Data Base'!$AD$1376,C1552,FALSE)","v":false},"465598","Chinen-Urban land complex, 5 to 15 percent slopes","Chinen",null,55,"bedrock, lithic",14,10,10,1.8,"none",null,null,"none"]
["PB645","Northern Marianas",18,{"$f":"IF(B1553='Veg Guide Data Base'!$AD$1376,C1553,FALSE)","v":false},"465598","Chinen-Urban land complex, 5 to 15 percent slopes","Urban land",null,25,null,80,0,10,0,"none",null,null,"none"]
["PB645","Northern Marianas",19,{"$f":"IF(B1554='Veg Guide Data Base'!$AD$1376,C1554,FALSE)","v":false},"465599","Dandan-Chinen complex, 0 to 5 percent slopes","Dandan",null,50,"bedrock, lithic",26,5,3,2.6,"none",null,null,"none"]
["PB645","Northern Marianas",19,{"$f":"IF(B1555='Veg Guide Data Base'!$AD$1376,C1555,FALSE)","v":false},"465599","Dandan-Chinen complex, 0 to 5 percent slopes","Chinen",null,40,"bedrock, lithic",14,10,3,1.8,"none",null,null,"none"]
["PB645","Northern Marianas",20,{"$f":"IF(B1556='Veg Guide Data Base'!$AD$1376,C1556,FALSE)","v":false},"465601","Dandan-Chinen complex, 5 to 15 percent slopes","Dandan",null,50,"bedrock, lithic",26,0,10,2.6,"none",null,null,"none"]
["PB645","Northern Marianas",20,{"$f":"IF(B1557='Veg Guide Data Base'!$AD$1376,C1557,FALSE)","v":false},"465601","Dandan-Chinen complex, 5 to 15 percent slopes","Chinen",null,40,"bedrock, lithic",14,10,10,1.8,"none",null,null,"none"]
["PB645","Northern Marianas",21,{"$f":"IF(B1558='Veg Guide Data Base'!$AD$1376,C1558,FALSE)","v":false},"465602","Dandan-Chinen-Pits complex, 0 to 5 percent slopes","Dandan",null,30,"bedrock, lithic",26,0,3,2.6,"none",null,null,"none"]
["PB645","Northern Marianas",21,{"$f":"IF(B1559='Veg Guide Data Base'!$AD$1376,C1559,FALSE)","v":false},"465602","Dandan-Chinen-Pits complex, 0 to 5 percent slopes","Chinen",null,30,"bedrock, lithic",14,10,3,1.8,"none",null,null,"none"]
["PB645","Northern Marianas",21,{"$f":"IF(B1560='Veg Guide Data Base'!$AD$1376,C1560,FALSE)","v":false},"465602","Dandan-Chinen-Pits complex, 0 to 5 percent slopes","Pits",null,30,null,80,0,2,0,"none",null,null,"none"]
["PB645","Northern Marianas",22,{"$f":"IF(B1561='Veg Guide Data Base'!$AD$1376,C1561,FALSE)","v":false},"465603","Dandan-Chinen-Pits complex, 5 to 15 percent slopes","Pits",null,30,null,80,0,10,0,"none",null,null,"none"]
["PB645","Northern Marianas",22,{"$f":"IF(B1562='Veg Guide Data Base'!$AD$1376,C1562,FALSE)","v":false},"465603","Dandan-Chinen-Pits complex, 5 to 15 percent slopes","Chinen",null,30,"bedrock, lithic",14,10,10,1.8,"none",null,null,"none"]
["PB645","Northern Marianas",22,{"$f":"IF(B1563='Veg Guide Data Base'!$AD$1376,C1563,FALSE)","v":false},"465603","Dandan-Chinen-Pits complex, 5 to 15 percent slopes","Dandan",null,30,"bedrock, lithic",26,0,10,2.6,"none",null,null,"none"]
["PB645","Northern Marianas",23,{"$f":"IF(B1564='Veg Guide Data Base'!$AD$1376,C1564,FALSE)","v":false},"465604","Dandan-Saipan clays, 0 to 5 percent slopes","Dandan",null,50,"bedrock, lithic",26,0,3,2.6,"none",null,null,"none"]
["PB645","Northern Marianas",23,{"$f":"IF(B1565='Veg Guide Data Base'!$AD$1376,C1565,FALSE)","v":false},"465604","Dandan-Saipan clays, 0 to 5 percent slopes","Saipan",null,35,"bedrock, lithic",47,0,3,2.4,"none",null,null,"none"]
["PB645","Northern Marianas",24,{"$f":"IF(B1566='Veg Guide Data Base'!$AD$1376,C1566,FALSE)","v":false},"465605","Dandan-Saipan clays, 5 to 15 percent slopes","Dandan",null,50,"bedrock, lithic",26,0,10,2.6,"none",null,null,"none"]
["PB645","Northern Marianas",24,{"$f":"IF(B1567='Veg Guide Data Base'!$AD$1376,C1567,FALSE)","v":false},"465605","Dandan-Saipan clays, 5 to 15 percent slopes","Saipan",null,35,"bedrock, lithic",47,0,10,2.4,"none",null,null,"none"]
["PB645","Northern Marianas",25,{"$f":"IF(B1568='Veg Guide Data Base'!$AD$1376,C1568,FALSE)","v":false},"465606","Inarajan clay, 0 to 5 percent slopes","Inarajan",null,90,null,80,0,3,3,"none, occasional",",brief","June, July, August, September, October, November","none"]
["PB645","Northern Marianas",26,{"$f":"IF(B1569='Veg Guide Data Base'!$AD$1376,C1569,FALSE)","v":false},"465607","Kagman clay, 0 to 5 percent slopes","Kagman",null,80,null,80,6,3,2.7,"none",null,null,"none"]
["PB645","Northern Marianas",27,{"$f":"IF(B1570='Veg Guide Data Base'!$AD$1376,C1570,FALSE)","v":false},"465608","Kagman clay, 5 to 15 percent slopes","Kagman",null,80,null,80,0,10,2.7,"none",null,null,"none"]
["PB645","Northern Marianas",28,{"$f":"IF(B1571='Veg Guide Data Base'!$AD$1376,C1571,FALSE)","v":false},"465609","Kagman very gravelly sandy loam, 0 to 5 percent slopes","Kagman","very gravelly sandy loam",90,null,80,33,3,1.9,"none",null,null,"none"]
["PB645","Northern Marianas",29,{"$f":"IF(B1572='Veg Guide Data Base'!$AD$1376,C1572,FALSE)","v":false},"465610","Kagman-Urban land complex, 0 to 5 percent slopes","Kagman",null,50,null,80,0,3,2.7,"none",null,null,"none"]
["PB645","Northern Marianas",29,{"$f":"IF(B1573='Veg Guide Data Base'!$AD$1376,C1573,FALSE)","v":false},"465610","Kagman-Urban land complex, 0 to 5 percent slopes","Urban land",null,30,null,80,0,3,null,"none",null,null,"none"]
["PB645","Northern Marianas",30,{"$f":"IF(B1574='Veg Guide Data Base'!$AD$1376,C1574,FALSE)","v":false},"465612","Laolao clay, 0 to 5 percent slopes","Laolao",null,90,"bedrock, paralithic",32,2,3,2.9,"none",null,null,"none"]
["PB645","Northern Marianas",31,{"$f":"IF(B1575='Veg Guide Data Base'!$AD$1376,C1575,FALSE)","v":false},"465613","Laolao clay, 5 to 15 percent slopes","Laolao",null,80,"bedrock, paralithic",32,0,10,2.9,"none",null,null,"none"]
["PB645","Northern Marianas",32,{"$f":"IF(B1576='Veg Guide Data Base'!$AD$1376,C1576,FALSE)","v":false},"465614","Laolao clay, 15 to 30 percent slopes","Laolao",null,75,"bedrock, paralithic",32,0,23,2.9,"none",null,null,"none"]
["PB645","Northern Marianas",33,{"$f":"IF(B1577='Veg Guide Data Base'!$AD$1376,C1577,FALSE)","v":false},"465615","Laolao clay, 30 to 60 percent slopes","Laolao",null,75,"bedrock, paralithic",32,0,45,2.9,"none",null,null,"none"]
["PB645","Northern Marianas",34,{"$f":"IF(B1578='Veg Guide Data Base'!$AD$1376,C1578,FALSE)","v":false},"465616","Luta cobbly clay loam, 0 to 5 percent slopes","Luta",null,85,"bedrock, lithic",12,13,3,0.9,"none",null,null,"none"]
["PB645","Northern Marianas",35,{"$f":"IF(B1579='Veg Guide Data Base'!$AD$1376,C1579,FALSE)","v":false},"465617","Luta cobbly clay loam, 5 to 15 percent slopes","Luta",null,85,"bedrock, lithic",12,7,10,0.9,"none",null,null,"none"]
["PB645","Northern Marianas",36,{"$f":"IF(B1580='Veg Guide Data Base'!$AD$1376,C1580,FALSE)","v":false},"465618","Luta cobbly clay loam, moist, 0 to 5 percent slopes","Luta","moist",85,"bedrock, lithic",12,7,3,0.9,"none",null,null,"none"]
["PB645","Northern Marianas",37,{"$f":"IF(B1581='Veg Guide Data Base'!$AD$1376,C1581,FALSE)","v":false},"465619","Luta cobbly clay loam, moist, 5 to 15 percent slopes","Luta","moist",85,"bedrock, lithic",12,7,10,0.9,"none",null,null,"none"]
["PB645","Northern Marianas",38,{"$f":"IF(B1582='Veg Guide Data Base'!$AD$1376,C1582,FALSE)","v":false},"465620","Luta-Rock outcrop complex, 0 to 5 percent slopes","Luta",null,60,"bedrock, lithic",6,21,3,0.9,"none",null,null,"none"]
["PB645","Northern Marianas",38,{"$f":"IF(B1583='Veg Guide Data Base'!$AD$1376,C1583,FALSE)","v":false},"465620","Luta-Rock outcrop complex, 0 to 5 percent slopes","Rock outcrop",null,25,"bedrock, lithic",0,0,3,null,"none",null,null,"none"]
["PB645","Northern Marianas",39,{"$f":"IF(B1584='Veg Guide Data Base'!$AD$1376,C1584,FALSE)","v":false},"465621","Luta-Rock outcrop complex, 5 to 15 percent slopes","Luta",null,60,"bedrock, lithic",6,11,10,0.9,"none",null,null,"none"]
["PB645","Northern Marianas",39,{"$f":"IF(B1585='Veg Guide Data Base'!$AD$1376,C1585,FALSE)","v":false},"465621","Luta-Rock outcrop complex, 5 to 15 percent slopes","Rock outcrop",null,25,"bedrock, lithic",0,0,10,null,"none",null,null,"none"]
["PB645","Northern Marianas",40,{"$f":"IF(B1586='Veg Guide Data Base'!$AD$1376,C1586,FALSE)","v":false},"465623","Luta-Rock outcrop complex, 15 to 30 percent slopes","Luta",null,60,"bedrock, lithic",6,11,23,0.9,"none",null,null,"none"]
["PB645","Northern Marianas",40,{"$f":"IF(B1587='Veg Guide Data Base'!$AD$1376,C1587,FALSE)","v":false},"465623","Luta-Rock outcrop complex, 15 to 30 percent slopes","Rock outcrop",null,35,"bedrock, lithic",0,0,23,null,"none",null,null,"none"]
["PB645","Northern Marianas",41,{"$f":"IF(B1588='Veg Guide Data Base'!$AD$1376,C1588,FALSE)","v":false},"465624","Mesei variant muck, 0 to 2 percent slopes","Mesei variant",null,85,null,80,13,1,4.9000000000000004,"none, frequent",",very brief","July, August, September, October, November","rare","very long"]
["PB645","Northern Marianas",42,{"$f":"IF(B1589='Veg Guide Data Base'!$AD$1376,C1589,FALSE)","v":false},"465625","Rock outcrop-Takpochao complex, 60 to 99 percent slopes","Rock outcrop",null,50,"bedrock, lithic",0,0,80,null,"none",null,null,"none"]
["PB645","Northern Marianas",42,{"$f":"IF(B1590='Veg Guide Data Base'!$AD$1376,C1590,FALSE)","v":false},"465625","Rock outcrop-Takpochao complex, 60 to 99 percent slopes","Takpochao",null,40,"bedrock, lithic",12,38,80,1.3,"none",null,null,"none"]
["PB645","Northern Marianas",43,{"$f":"IF(B1591='Veg Guide Data Base'!$AD$1376,C1591,FALSE)","v":false},"465626","Saipan clay, 0 to 5 percent slopes","Saipan",null,80,"bedrock, lithic",47,0,3,2.4,"none",null,null,"none"]
["PB645","Northern Marianas",44,{"$f":"IF(B1592='Veg Guide Data Base'!$AD$1376,C1592,FALSE)","v":false},"465627","Saipan clay, 5 to 15 percent slopes","Saipan",null,80,"bedrock, lithic",47,0,10,2.4,"none",null,null,"none"]
["PB645","Northern Marianas",45,{"$f":"IF(B1593='Veg Guide Data Base'!$AD$1376,C1593,FALSE)","v":false},"465628","Saipan very gravelly sandy loam, 0 to 5 percent slopes","Saipan","very gravelly sandy loam",90,"bedrock, lithic",55,33,3,1.9,"none",null,null,"none"]
["PB645","Northern Marianas",46,{"$f":"IF(B1594='Veg Guide Data Base'!$AD$1376,C1594,FALSE)","v":false},"465629","Saipan very gravelly sandy loam, 5 to 15 percent slopes","Saipan","very gravelly sandy loam",80,"bedrock, lithic",59,33,10,1.9,"none",null,null,"none"]
["PB645","Northern Marianas",47,{"$f":"IF(B1595='Veg Guide Data Base'!$AD$1376,C1595,FALSE)","v":false},"465630","Saipan-Rock outcrop complex, 0 to 5 percent slopes","Saipan",null,70,"bedrock, lithic",47,0,3,2.4,"none",null,null,"none"]
["PB645","Northern Marianas",47,{"$f":"IF(B1596='Veg Guide Data Base'!$AD$1376,C1596,FALSE)","v":false},"465630","Saipan-Rock outcrop complex, 0 to 5 percent slopes","Rock outcrop",null,15,"bedrock, lithic",0,0,3,null,"none",null,null,"none"]
["PB645","Northern Marianas",48,{"$f":"IF(B1597='Veg Guide Data Base'!$AD$1376,C1597,FALSE)","v":false},"465631","Shioya loamy sand, 0 to 3 percent slopes","Shioya",null,90,"bedrock, lithic",63,11,2,1.5,"rare",null,null,"none"]
["PB645","Northern Marianas",49,{"$f":"IF(B1598='Veg Guide Data Base'!$AD$1376,C1598,FALSE)","v":false},"465632","Shioya-Urban land complex, 0 to 3 percent slopes","Shioya",null,60,"bedrock, lithic",63,3,2,1.5,"rare",null,null,"none"]
["PB645","Northern Marianas",49,{"$f":"IF(B1599='Veg Guide Data Base'!$AD$1376,C1599,FALSE)","v":false},"465632","Shioya-Urban land complex, 0 to 3 percent slopes","Urban land",null,30,null,80,0,2,0,"none",null,null,"none"]
["PB645","Northern Marianas",50,{"$f":"IF(B1600='Veg Guide Data Base'!$AD$1376,C1600,FALSE)","v":false},"465634","Takpochao-Rock outcrop complex, 3 to 15 percent slopes","Takpochao",null,50,"bedrock, lithic",12,38,9,1.3,"none",null,null,"none"]
["PB645","Northern Marianas",50,{"$f":"IF(B1601='Veg Guide Data Base'!$AD$1376,C1601,FALSE)","v":false},"465634","Takpochao-Rock outcrop complex, 3 to 15 percent slopes","Rock outcrop",null,40,"bedrock, lithic",0,0,9,null,"none",null,null,"none"]
["PB645","Northern Marianas",51,{"$f":"IF(B1602='Veg Guide Data Base'!$AD$1376,C1602,FALSE)","v":false},"465635","Takpochao-Rock outcrop complex, 15 to 30 percent slopes","Takpochao",null,50,"bedrock, lithic",12,38,23,1.3,"none",null,null,"none"]
["PB645","Northern Marianas",51,{"$f":"IF(B1603='Veg Guide Data Base'!$AD$1376,C1603,FALSE)","v":false},"465635","Takpochao-Rock outcrop complex, 15 to 30 percent slopes","Rock outcrop",null,40,"bedrock, lithic",0,0,23,null,"none",null,null,"none"]
["PB645","Northern Marianas",52,{"$f":"IF(B1604='Veg Guide Data Base'!$AD$1376,C1604,FALSE)","v":false},"465636","Takpochao-Rock outcrop complex, 30 to 60 percent slopes","Takpochao",null,50,"bedrock, lithic",12,38,45,1.3,"none",null,null,"none"]
["PB645","Northern Marianas",52,{"$f":"IF(B1605='Veg Guide Data Base'!$AD$1376,C1605,FALSE)","v":false},"465636","Takpochao-Rock outcrop complex, 30 to 60 percent slopes","Rock outcrop",null,40,"bedrock, lithic",0,0,45,null,"none",null,null,"none"]
["PB645","Northern Marianas",53,{"$f":"IF(B1606='Veg Guide Data Base'!$AD$1376,C1606,FALSE)","v":false},"465637","Takpochao variant-Shioya complex, 1 to 10 percent slopes","Takpochao variant",null,60,"bedrock, lithic",6,40,7,0.4,"rare",null,null,"none"]
["PB645","Northern Marianas",53,{"$f":"IF(B1607='Veg Guide Data Base'!$AD$1376,C1607,FALSE)","v":false},"465637","Takpochao variant-Shioya complex, 1 to 10 percent slopes","Shioya",null,30,"bedrock, lithic",63,3,7,1.5,"rare",null,null,"none"]
["PB645","Northern Marianas",54,{"$f":"IF(B1608='Veg Guide Data Base'!$AD$1376,C1608,FALSE)","v":false},"465644","Quarry","Quarry",null,100,null,80,0,null,null,"none",null,null,"none"]
["PB645","Northern Marianas",55,{"$f":"IF(B1609='Veg Guide Data Base'!$AD$1376,C1609,FALSE)","v":false},"465643","Landfill","Landfill",null,100,null,80,0,null,null,"none",null,null,"none"]
["PB645","Northern Marianas",56,{"$f":"IF(B1610='Veg Guide Data Base'!$AD$1376,C1610,FALSE)","v":false},"465638","Water","Water",null,100,null,80,0,null,null,"none",null,null,"none"]
["PB646","Northern Marianas",101,{"$f":"IF(B1611='Veg Guide Data Base'!$AD$1376,C1611,FALSE)","v":false},"471949","Lava flows, `a`a lava, 0 to 45 percent slopes","Lava flows","`a`a lava, cobbly",90,"bedrock, lithic",39,95,10,0,"none",null,null,"none"]
["PB646","Northern Marianas",102,{"$f":"IF(B1612='Veg Guide Data Base'!$AD$1376,C1612,FALSE)","v":false},"471952","Lava flows, `a`a lava, 15 to 150 percent slopes, very bouldery","Lava flows","`a`a lava, bouldery",90,"bedrock, lithic",39,95,100,0,"none",null,null,"none"]
["PB646","Northern Marianas",103,{"$f":"IF(B1613='Veg Guide Data Base'!$AD$1376,C1613,FALSE)","v":false},"471953","Lava flows-Vitrandic Ustorthents, sandy complex, 15 to 45 percent slopes, extremely stony","Lava flows","`a`a lava, extremely stony",65,"bedrock, lithic",39,75,30,0,"none",null,null,"none"]
["PB646","Northern Marianas",103,{"$f":"IF(B1614='Veg Guide Data Base'!$AD$1376,C1614,FALSE)","v":false},"471953","Lava flows-Vitrandic Ustorthents, sandy complex, 15 to 45 percent slopes, extremely stony","Vitrandic Ustorthents","sandy",25,null,80,7,30,1.4,"none",null,null,"none"]
["PB646","Northern Marianas",104,{"$f":"IF(B1615='Veg Guide Data Base'!$AD$1376,C1615,FALSE)","v":false},"471954","Lava flows-Vitrandic Ustorthents, sandy, complex, 45 to 100 percent slopes, extremely stony","Lava flows","`a`a lava, extremely stony",65,"bedrock, lithic",39,75,75,0,"none",null,null,"none"]
["PB646","Northern Marianas",104,{"$f":"IF(B1616='Veg Guide Data Base'!$AD$1376,C1616,FALSE)","v":false},"471954","Lava flows-Vitrandic Ustorthents, sandy, complex, 45 to 100 percent slopes, extremely stony","Vitrandic Ustorthents","sandy",25,null,80,7,75,1.4,"none",null,null,"none"]
["PB646","Northern Marianas",106,{"$f":"IF(B1617='Veg Guide Data Base'!$AD$1376,C1617,FALSE)","v":false},"471956","Apilam ashy silt loam, 8 to 15 percent slopes","Apilam",null,80,"densic material",44,0,13,3.7,"none",null,null,"none"]
["PB646","Northern Marianas",107,{"$f":"IF(B1618='Veg Guide Data Base'!$AD$1376,C1618,FALSE)","v":false},"471957","Apilam ashy silt loam, 15 to 45 percent slopes","Apilam",null,65,"densic material",28,0,30,4.3,"none",null,null,"none"]
["PB646","Northern Marianas",108,{"$f":"IF(B1619='Veg Guide Data Base'!$AD$1376,C1619,FALSE)","v":false},"471958","Apilam ashy silt loam, 45 to 150 percent slopes","Apilam",null,70,"densic material",53,0,78,3.7,"none",null,null,"none"]
["PB646","Northern Marianas",109,{"$f":"IF(B1620='Veg Guide Data Base'!$AD$1376,C1620,FALSE)","v":false},"471959","Beaches-rock outcrop complex, 10 to 30 percent slopes, bouldery","Beaches","bouldery",90,null,80,12,20,0.8,"frequent","very brief","January, February, March, April, May, June, July, August, September, October, November, December","none"]
["PB646","Northern Marianas",109,{"$f":"IF(B1621='Veg Guide Data Base'!$AD$1376,C1621,FALSE)","v":false},"471959","Beaches-rock outcrop complex, 10 to 30 percent slopes, bouldery","Rock outcrop",null,10,"bedrock, lithic",0,0,85,0,"none",null,null,"none"]
["PB646","Northern Marianas",110,{"$f":"IF(B1622='Veg Guide Data Base'!$AD$1376,C1622,FALSE)","v":false},"471960","Beaches, sand and coral, 8 to 60 percent slopes","Beaches","sand and coral",90,null,80,12,34,0.8,"frequent","very brief","January, February, March, April, May, June, July, August, September, October, November, December","none"]
["PB646","Northern Marianas",111,{"$f":"IF(B1623='Veg Guide Data Base'!$AD$1376,C1623,FALSE)","v":false},"471961","Beaches, black sand, 8 to 60 percent slopes","Beaches","black sand",90,null,80,12,34,0.8,"frequent","very brief","January, February, March, April, May, June, July, August, September, October, November, December","none"]
["PB646","Northern Marianas",112,{"$f":"IF(B1624='Veg Guide Data Base'!$AD$1376,C1624,FALSE)","v":false},"471962","Benedicto silt loam, 0 to 8 percent slopes","Benedicto",null,85,null,80,0,0.5,4.5999999999999996,"none",null,null,"rare, occasional, frequent","very brief,brief","May, June, July, August, September, October, November"]
["PB646","Northern Marianas",113,{"$f":"IF(B1625='Veg Guide Data Base'!$AD$1376,C1625,FALSE)","v":false},"471963","Cinder land, 0 to 8 percent slopes","Cinder land","rocky",85,null,80,45,5,0.8,"none",null,null,"none"]
["PB646","Northern Marianas",114,{"$f":"IF(B1626='Veg Guide Data Base'!$AD$1376,C1626,FALSE)","v":false},"471964","Cinder land, 15 to 45 percent slopes","Cinder land",null,85,null,80,54,35,0.8,"none",null,null,"none"]
["PB646","Northern Marianas",116,{"$f":"IF(B1627='Veg Guide Data Base'!$AD$1376,C1627,FALSE)","v":false},"471966","Cinder land, tuff substrate, 3 to 15 percent slopes","Cinder land","tuff substrate",95,null,80,0,6,null,"none",null,null,"none"]
["PB646","Northern Marianas",117,{"$f":"IF(B1628='Veg Guide Data Base'!$AD$1376,C1628,FALSE)","v":false},"471967","Cinder land, tuff substrate, 15 to 60 percent slopes","Cinder land","tuff substrate",95,null,80,0,52,null,"none",null,null,"none"]
["PB646","Northern Marianas",118,{"$f":"IF(B1629='Veg Guide Data Base'!$AD$1376,C1629,FALSE)","v":false},"471968","Cinder land complex, 0 to 25 percent slopes","Cinder land",null,45,null,80,54,12,0.8,"none",null,null,"none"]
["PB646","Northern Marianas",118,{"$f":"IF(B1630='Veg Guide Data Base'!$AD$1376,C1630,FALSE)","v":false},"471968","Cinder land complex, 0 to 25 percent slopes","Cinder land","alluvial",45,null,80,54,5,1.3,"none",null,null,"none"]
["PB646","Northern Marianas",119,{"$f":"IF(B1631='Veg Guide Data Base'!$AD$1376,C1631,FALSE)","v":false},"471969","Cinder land, `a`a lava substratum-Rock outcrop complex, 15 to 45 percent slopes","Cinder land","`a`a lava substratum",85,null,80,54,25,1.5,"none",null,null,"none"]
["PB646","Northern Marianas",119,{"$f":"IF(B1632='Veg Guide Data Base'!$AD$1376,C1632,FALSE)","v":false},"471969","Cinder land, `a`a lava substratum-Rock outcrop complex, 15 to 45 percent slopes","Rock outcrop",null,10,"bedrock, lithic",0,0,25,0,"none",null,null,"none"]
["PB646","Northern Marianas",120,{"$f":"IF(B1633='Veg Guide Data Base'!$AD$1376,C1633,FALSE)","v":false},"471970","Cinder land, `a`a lava substratum-Rock outcrop complex, 45 to 125 percent slopes","Cinder land","`a`a lava substratum",85,null,80,54,70,1.5,"none",null,null,"none"]
["PB646","Northern Marianas",120,{"$f":"IF(B1634='Veg Guide Data Base'!$AD$1376,C1634,FALSE)","v":false},"471970","Cinder land, `a`a lava substratum-Rock outcrop complex, 45 to 125 percent slopes","Rock outcrop",null,10,"bedrock, lithic",0,0,70,0,"none",null,null,"none"]
["PB646","Northern Marianas",121,{"$f":"IF(B1635='Veg Guide Data Base'!$AD$1376,C1635,FALSE)","v":false},"471971","Cinder land-Rock outcrop-Vitrandic Ustorthents complex, 10 to 45 percent slopes","Cinder land",null,45,null,80,54,25,0.8,"none",null,null,"none"]
["PB646","Northern Marianas",121,{"$f":"IF(B1636='Veg Guide Data Base'!$AD$1376,C1636,FALSE)","v":false},"471971","Cinder land-Rock outcrop-Vitrandic Ustorthents complex, 10 to 45 percent slopes","Rock outcrop",null,25,"bedrock, lithic",0,0,25,0,"none",null,null,"none"]
["PB646","Northern Marianas",121,{"$f":"IF(B1637='Veg Guide Data Base'!$AD$1376,C1637,FALSE)","v":false},"471971","Cinder land-Rock outcrop-Vitrandic Ustorthents complex, 10 to 45 percent slopes","Vitrandic Ustorthents",null,25,null,80,7,25,1.4,"none",null,null,"none"]
["PB646","Northern Marianas",122,{"$f":"IF(B1638='Veg Guide Data Base'!$AD$1376,C1638,FALSE)","v":false},"471972","Cinder land-Rock outcrop-Vitrandic Ustorthents complex, 35 to 100 percent slopes","Cinder land",null,45,null,80,54,80,0.8,"none",null,null,"none"]
["PB646","Northern Marianas",122,{"$f":"IF(B1639='Veg Guide Data Base'!$AD$1376,C1639,FALSE)","v":false},"471972","Cinder land-Rock outcrop-Vitrandic Ustorthents complex, 35 to 100 percent slopes","Rock outcrop",null,30,"bedrock, lithic",0,0,80,0,"none",null,null,"none"]
["PB646","Northern Marianas",122,{"$f":"IF(B1640='Veg Guide Data Base'!$AD$1376,C1640,FALSE)","v":false},"471972","Cinder land-Rock outcrop-Vitrandic Ustorthents complex, 35 to 100 percent slopes","Vitrandic Ustorthents",null,20,null,80,7,45,1.4,"none",null,null,"none"]
["PB646","Northern Marianas",123,{"$f":"IF(B1641='Veg Guide Data Base'!$AD$1376,C1641,FALSE)","v":false},"471973","Dekairu ashy fine sandy loam, 8 to 15 percent slopes","Dekairu",null,85,"bedrock, paralithic",27,34,12,3.5,"none",null,null,"none"]
["PB646","Northern Marianas",124,{"$f":"IF(B1642='Veg Guide Data Base'!$AD$1376,C1642,FALSE)","v":false},"471974","Dekairu ashy fine sandy loam, 15 to 45 percent slopes","Dekairu",null,75,"bedrock, paralithic",27,34,34,3.5,"none",null,null,"none"]
["PB646","Northern Marianas",125,{"$f":"IF(B1643='Veg Guide Data Base'!$AD$1376,C1643,FALSE)","v":false},"471975","Dekairu very gravelly ashy loamy fine sand, deep, 15 to 45 percent slopes","Dekairu","deep",75,"bedrock, paralithic",44,26,32,4,"none",null,null,"none"]
["PB646","Northern Marianas",126,{"$f":"IF(B1644='Veg Guide Data Base'!$AD$1376,C1644,FALSE)","v":false},"471976","Dekairu, very gravelly ashy loamy fine sand, 45 to 100 percent slopes","Dekairu",null,80,"bedrock, paralithic",24,26,60,4.0999999999999996,"none",null,null,"none"]
["PB646","Northern Marianas",127,{"$f":"IF(B1645='Veg Guide Data Base'!$AD$1376,C1645,FALSE)","v":false},"471977","Dekairu-Vitrandic Ustorthents, leveled land, association, 0 to 8 percent slopes","Dekairu","very gravelly loamy fine sand",45,"bedrock, paralithic",27,34,3,3.5,"none",null,null,"none"]
["PB646","Northern Marianas",127,{"$f":"IF(B1646='Veg Guide Data Base'!$AD$1376,C1646,FALSE)","v":false},"471977","Dekairu-Vitrandic Ustorthents, leveled land, association, 0 to 8 percent slopes","Vitrandic Ustorthents","leveled land",30,"bedrock, paralithic",27,81,0.5,1.3,"none",null,null,"none"]
["PB646","Northern Marianas",128,{"$f":"IF(B1647='Veg Guide Data Base'!$AD$1376,C1647,FALSE)","v":false},"471945","Vitrandic Ustorthents-Cinder land complex, 15 to 35 percent","Vitrandic Ustorthents",null,55,null,80,7,12,1.4,"none",null,null,"none"]
["PB646","Northern Marianas",128,{"$f":"IF(B1648='Veg Guide Data Base'!$AD$1376,C1648,FALSE)","v":false},"471945","Vitrandic Ustorthents-Cinder land complex, 15 to 35 percent","Cinder land",null,30,null,80,54,25,0.8,"none",null,null,"none"]
["PB646","Northern Marianas",129,{"$f":"IF(B1649='Veg Guide Data Base'!$AD$1376,C1649,FALSE)","v":false},"471894","Vitrandic Ustorthents-Cinder land complex, 35 to 99 percent","Vitrandic Ustorthents",null,55,null,80,7,40,1.4,"none",null,null,"none"]
["PB646","Northern Marianas",129,{"$f":"IF(B1650='Veg Guide Data Base'!$AD$1376,C1650,FALSE)","v":false},"471894","Vitrandic Ustorthents-Cinder land complex, 35 to 99 percent","Cinder land",null,30,null,80,54,60,0.8,"none",null,null,"none"]
["PB646","Northern Marianas",130,{"$f":"IF(B1651='Veg Guide Data Base'!$AD$1376,C1651,FALSE)","v":false},"471978","Vitrandic Ustorthents, colluvial, 8 to 15 percent slopes","Vitrandic Ustorthents","colluvial",90,null,80,45,13,1.4,"none",null,null,"none"]
["PB646","Northern Marianas",131,{"$f":"IF(B1652='Veg Guide Data Base'!$AD$1376,C1652,FALSE)","v":false},"471979","Vitrandic Ustorthents, colluvial, 15 to 45 percent slopes","Vitrandic Ustorthents","colluvial",90,null,80,45,30,1.4,"none",null,null,"none"]
["PB646","Northern Marianas",132,{"$f":"IF(B1653='Veg Guide Data Base'!$AD$1376,C1653,FALSE)","v":false},"471980","Hatisu-Apilam complex, 45 to 150 percent slopes","Hatisu",null,70,null,80,4,83,4.7,"none",null,null,"none"]
["PB646","Northern Marianas",132,{"$f":"IF(B1654='Veg Guide Data Base'!$AD$1376,C1654,FALSE)","v":false},"471980","Hatisu-Apilam complex, 45 to 150 percent slopes","Apilam",null,20,"densic material",71,0,70,4.9000000000000004,"none",null,null,"none"]
["PB646","Northern Marianas",133,{"$f":"IF(B1655='Veg Guide Data Base'!$AD$1376,C1655,FALSE)","v":false},"471981","Lava flows, coastal escarpments, 0 to 99 percent slopes","Lava flows","`a`a lava, coastal",80,"bedrock, lithic",0,0,40,null,"none",null,null,"none"]
["PB646","Northern Marianas",133,{"$f":"IF(B1656='Veg Guide Data Base'!$AD$1376,C1656,FALSE)","v":false},"471981","Lava flows, coastal escarpments, 0 to 99 percent slopes","Rubble land",null,5,null,80,0,75,null,"none",null,null,"none"]
["PB646","Northern Marianas",134,{"$f":"IF(B1657='Veg Guide Data Base'!$AD$1376,C1657,FALSE)","v":false},"471983","Plasanbola very gravely highly organic ashy loam, 15 to 35 percent slope","Plasanbola","highly organic ashy gravely loam",65,"bedrock, lithic",5,45,25,0.9,"none",null,null,"none"]
["PB646","Northern Marianas",135,{"$f":"IF(B1658='Veg Guide Data Base'!$AD$1376,C1658,FALSE)","v":false},"471984","Plasanbola very gravely highly organic ashy loam, 35 to 125 percent slope","Plasanbola","highly organic ashy gravely loam",80,"bedrock, lithic",1,45,70,0.2,"none",null,null,"none"]
["PB646","Northern Marianas",136,{"$f":"IF(B1659='Veg Guide Data Base'!$AD$1376,C1659,FALSE)","v":false},"471982","Plasanbola very gravely highly organic ashy loam, 8 to 15 percent slope","Plasanbola","highly organic ashy gravely loam",70,"bedrock, lithic",5,45,12,0.9,"none",null,null,"none"]
["PB646","Northern Marianas",137,{"$f":"IF(B1660='Veg Guide Data Base'!$AD$1376,C1660,FALSE)","v":false},"471985","Plasanbola-Rock outcrop complex, 45 to 125 percent slopes","Plasanbola",null,65,"bedrock, lithic",1,45,100,0.2,"none",null,null,"none"]
["PB646","Northern Marianas",137,{"$f":"IF(B1661='Veg Guide Data Base'!$AD$1376,C1661,FALSE)","v":false},"471985","Plasanbola-Rock outcrop complex, 45 to 125 percent slopes","Rock outcrop",null,25,"bedrock, lithic",0,0,80,0,"none",null,null,"none"]
["PB646","Northern Marianas",138,{"$f":"IF(B1662='Veg Guide Data Base'!$AD$1376,C1662,FALSE)","v":false},"471986","Rock outcrop, escarpment-Rubble land complex, 45 to 150 percent slopes","Rock outcrop","scarp",45,"bedrock, lithic",0,0,67,0,"none",null,null,"none"]
["PB646","Northern Marianas",138,{"$f":"IF(B1663='Veg Guide Data Base'!$AD$1376,C1663,FALSE)","v":false},"471986","Rock outcrop, escarpment-Rubble land complex, 45 to 150 percent slopes","Rubble land",null,45,null,80,0,75,null,"none",null,null,"none"]
["PB646","Northern Marianas",139,{"$f":"IF(B1664='Veg Guide Data Base'!$AD$1376,C1664,FALSE)","v":false},"471987","Rock outcrop, tuff escarpments-Cinder land complex, 45 to 150 percent slopes","Rock outcrop","tuff",60,"bedrock, lithic",0,0,85,0,"none",null,null,"none"]
["PB646","Northern Marianas",140,{"$f":"IF(B1665='Veg Guide Data Base'!$AD$1376,C1665,FALSE)","v":false},"471988","Haplustands-Rock outcrop-, 45 to 150 percent slopes complex","Haplustands","extremely stony",40,null,80,70,75,4.0999999999999996,"none",null,null,"none"]
["PB646","Northern Marianas",140,{"$f":"IF(B1666='Veg Guide Data Base'!$AD$1376,C1666,FALSE)","v":false},"471988","Haplustands-Rock outcrop-, 45 to 150 percent slopes complex","Haplustands","moderately deep",40,null,80,0,75,4.3,"none",null,null,"none"]
["PB646","Northern Marianas",140,{"$f":"IF(B1667='Veg Guide Data Base'!$AD$1376,C1667,FALSE)","v":false},"471988","Haplustands-Rock outcrop-, 45 to 150 percent slopes complex","Rock outcrop",null,15,"bedrock, lithic",0,0,99,0,"none",null,null,"none"]
["PB646","Northern Marianas",141,{"$f":"IF(B1668='Veg Guide Data Base'!$AD$1376,C1668,FALSE)","v":false},"471989","Shomushon-Cinder land complex, 0 to 8 percent slopes","Shomushon",null,65,null,80,7,2,1.4,"none",null,null,"none"]
["PB646","Northern Marianas",141,{"$f":"IF(B1669='Veg Guide Data Base'!$AD$1376,C1669,FALSE)","v":false},"471989","Shomushon-Cinder land complex, 0 to 8 percent slopes","Cinder land",null,15,null,80,54,5,1.3,"none",null,null,"none"]
["PB646","Northern Marianas",142,{"$f":"IF(B1670='Veg Guide Data Base'!$AD$1376,C1670,FALSE)","v":false},"471991","Shomushon-Cinder land complex, 15 to 45 percent slopes","Shomushon",null,50,null,80,7,32,1.4,"none",null,null,"none"]
["PB646","Northern Marianas",142,{"$f":"IF(B1671='Veg Guide Data Base'!$AD$1376,C1671,FALSE)","v":false},"471991","Shomushon-Cinder land complex, 15 to 45 percent slopes","Cinder land",null,30,null,80,60,35,1.4,"none",null,null,"none"]
["PB646","Northern Marianas",143,{"$f":"IF(B1672='Veg Guide Data Base'!$AD$1376,C1672,FALSE)","v":false},"471990","Shomushon-Cinder land complex, 8 to 15 percent slopes","Shomushon",null,65,null,80,7,12,1.4,"none",null,null,"none"]
["PB646","Northern Marianas",144,{"$f":"IF(B1673='Veg Guide Data Base'!$AD$1376,C1673,FALSE)","v":false},"471992","Songsong, ashy loam, 0 to 8 percent slopes","Songsong",null,70,null,80,22,5,2.4,"none",null,null,"none"]
["PB646","Northern Marianas",145,{"$f":"IF(B1674='Veg Guide Data Base'!$AD$1376,C1674,FALSE)","v":false},"471994","Songsong, ashy loam, 15 to 45 percent slopes","Songsong",null,70,null,80,22,37,2.2999999999999998,"none",null,null,"none"]
["PB646","Northern Marianas",146,{"$f":"IF(B1675='Veg Guide Data Base'!$AD$1376,C1675,FALSE)","v":false},"471995","Songsong, ashy loam, 45 to 100 percent slopes","Songsong",null,70,null,80,22,83,2.2999999999999998,"none",null,null,"none"]
["PB646","Northern Marianas",147,{"$f":"IF(B1676='Veg Guide Data Base'!$AD$1376,C1676,FALSE)","v":false},"471993","Songsong, ashy loam, 8 to 15 percent slopes","Songsong",null,70,null,80,22,10,2.4,"none",null,null,"none"]
["PB646","Northern Marianas",148,{"$f":"IF(B1677='Veg Guide Data Base'!$AD$1376,C1677,FALSE)","v":false},"471996","Vitrandic Ustorthents, cinder cones, 50 to 80 percent slopes","Vitrandic Ustorthents","cinder cones",75,null,80,55,61,1.4,"none",null,null,"none"]
["PB646","Northern Marianas",149,{"$f":"IF(B1678='Veg Guide Data Base'!$AD$1376,C1678,FALSE)","v":false},"471997","Rock outcrop, volcanic craters, 0 to 150 percent slopes","Rock outcrop","Volcanic craters",95,null,80,0,75,null,"none",null,null,"none"]
["PB646","Northern Marianas",149,{"$f":"IF(B1679='Veg Guide Data Base'!$AD$1376,C1679,FALSE)","v":false},"471997","Rock outcrop, volcanic craters, 0 to 150 percent slopes","Rubble land",null,5,null,80,0,75,null,"none",null,null,"none"]
["PB646","Northern Marianas",150,{"$f":"IF(B1680='Veg Guide Data Base'!$AD$1376,C1680,FALSE)","v":false},"471998","Water","Water",null,100,null,80,0,0,null,"none",null,null,"none"]
["PB931","Kosrae",100,{"$f":"IF(B1681='Veg Guide Data Base'!$AD$1376,C1681,FALSE)","v":false},"465430","Dolen silty clay loam, 30 to 60 percent slopes","Dolen",null,75,null,80,9,45,3.5,"none",null,null,"none"]
["PB931","Kosrae",101,{"$f":"IF(B1682='Veg Guide Data Base'!$AD$1376,C1682,FALSE)","v":false},"465431","Finol very gravelly silty clay loam, 30 to 60 percent slopes","Finol",null,80,"bedrock, lithic",22,45,45,2.6,"none",null,null,"none"]
["PB931","Kosrae",102,{"$f":"IF(B1683='Veg Guide Data Base'!$AD$1376,C1683,FALSE)","v":false},"465432","Fomseng gravelly silty clay loam, 30 to 60 percent slopes","Fomseng",null,75,"bedrock, paralithic",18,21,45,3.1,"none",null,null,"none"]
["PB931","Kosrae",103,{"$f":"IF(B1684='Veg Guide Data Base'!$AD$1376,C1684,FALSE)","v":false},"465433","Fomseng gravelly silty clay loam, 60 to 100 percent slopes","Fomseng",null,80,"bedrock, paralithic",18,21,80,3.1,"none",null,null,"none"]
["PB931","Kosrae",104,{"$f":"IF(B1685='Veg Guide Data Base'!$AD$1376,C1685,FALSE)","v":false},"465434","Inkosr silty clay loam, 0 to 2 percent slopes","Inkosr",null,80,null,80,11,1,3.3,"occasional","brief","January, February, March, April, May, June, July, August, September, October, November, December","none"]
["PB931","Kosrae",105,{"$f":"IF(B1686='Veg Guide Data Base'!$AD$1376,C1686,FALSE)","v":false},"465435","Insak peaty loamy sand, 0 to 2 percent slopes","Insak",null,80,"bedrock, lithic",30,20,1,1.8,"frequent","very long","January, February, March, April, May, June, July, August, September, October, November, December","rare","very long"]
["PB931","Kosrae",106,{"$f":"IF(B1687='Veg Guide Data Base'!$AD$1376,C1687,FALSE)","v":false},"465436","Naniak mucky silt loam, 0 to 2 percent slopes","Naniak",null,80,null,80,10,1,4.3,"frequent","very long","January, February, March, April, May, June, July, August, September, October, November, December","rare","very long"]
["PB931","Kosrae",107,{"$f":"IF(B1688='Veg Guide Data Base'!$AD$1376,C1688,FALSE)","v":false},"465437","Nansepsep silty clay loam, 0 to 2 percent slopes","Nansepsep",null,80,null,80,13,1,3.2,"occasional","very brief","January, February, March, April, May, June, July, August, September, October, November, December","none"]
["PB931","Kosrae",108,{"$f":"IF(B1689='Veg Guide Data Base'!$AD$1376,C1689,FALSE)","v":false},"465438","Ngedebus loamy sand, 0 to 2 percent slopes","Ngedebus",null,85,null,80,21,1,1.3,"occasional","very brief","January, February, March, April, May, June, July, August, September, October, November, December","none"]
["PB931","Kosrae",109,{"$f":"IF(B1690='Veg Guide Data Base'!$AD$1376,C1690,FALSE)","v":false},"465439","Ngedebus-Urban land complex, 0 to 2 percent slopes","Ngedebus",null,50,null,80,21,1,1.3,"occasional","very brief","January, February, March, April, May, June, July, August, September, October, November, December","none"]
["PB931","Kosrae",109,{"$f":"IF(B1691='Veg Guide Data Base'!$AD$1376,C1691,FALSE)","v":false},"465439","Ngedebus-Urban land complex, 0 to 2 percent slopes","Urban land",null,40,null,80,0,1,0,"none",null,null,"none"]
["PB931","Kosrae",110,{"$f":"IF(B1692='Veg Guide Data Base'!$AD$1376,C1692,FALSE)","v":false},"465440","Ngedebus variant very cobbly loamy sand, 0 to 2 percent slopes","Ngedebus variant",null,85,null,80,51,1,0.6,"occasional","very brief","January, February, March, April, May, June, July, August, September, October, November, December","none"]
["PB931","Kosrae",111,{"$f":"IF(B1693='Veg Guide Data Base'!$AD$1376,C1693,FALSE)","v":false},"465441","Ngerungor mucky peat, 0 to 1 percent slopes","Ngerungor",null,85,null,80,0,1,4.9000000000000004,"frequent","very long","January, February, March, April, May, June, July, August, September, October, November, December","rare","very long"]
["PB931","Kosrae",112,{"$f":"IF(B1694='Veg Guide Data Base'!$AD$1376,C1694,FALSE)","v":false},"465442","Oatuu-Fomseng complex, 60 to 100 percent slopes","Oatuu",null,50,"bedrock, paralithic",8,40,80,1,"none",null,null,"none"]
["PB931","Kosrae",112,{"$f":"IF(B1695='Veg Guide Data Base'!$AD$1376,C1695,FALSE)","v":false},"465442","Oatuu-Fomseng complex, 60 to 100 percent slopes","Fomseng",null,30,"bedrock, paralithic",18,21,80,3.1,"none",null,null,"none"]
["PB931","Kosrae",113,{"$f":"IF(B1696='Veg Guide Data Base'!$AD$1376,C1696,FALSE)","v":false},"465443","Sonahnpil very stony silty clay loam, 0 to 5 percent slopes","Sonahnpil",null,80,null,80,47,3,2.2000000000000002,"occasional","very brief","January, February, March, April, May, June, July, August, September, October, November, December","none"]
["PB931","Kosrae",114,{"$f":"IF(B1697='Veg Guide Data Base'!$AD$1376,C1697,FALSE)","v":false},"465444","Tolonier very stony silty clay loam, 6 to 30 percent slopes","Tolonier",null,80,null,80,40,18,2.4,"none",null,null,"none"]
["PB931","Kosrae",115,{"$f":"IF(B1698='Veg Guide Data Base'!$AD$1376,C1698,FALSE)","v":false},"465445","Umpump very gravelly clay loam, 2 to 8 percent slopes","Umpump",null,80,"bedrock, paralithic",28,34,5,2.7,"none",null,null,"none"]
["PB931","Kosrae",116,{"$f":"IF(B1699='Veg Guide Data Base'!$AD$1376,C1699,FALSE)","v":false},"465446","Water","Water",null,100,null,80,0,null,null,"none",null,null,"none"]
["PB932","Pohnpei",300,{"$f":"IF(B1700='Veg Guide Data Base'!$AD$1376,C1700,FALSE)","v":false},"465447","Dolekei-Fomseng association, 15 to 30 percent slopes","Dolekei",null,50,"bedrock, paralithic",29,20,23,3.6,"none",null,null,"none"]
["PB932","Pohnpei",300,{"$f":"IF(B1701='Veg Guide Data Base'!$AD$1376,C1701,FALSE)","v":false},"465447","Dolekei-Fomseng association, 15 to 30 percent slopes","Fomseng",null,30,"bedrock, paralithic",14,20,23,2.5,"none",null,null,"none"]
["PB932","Pohnpei",301,{"$f":"IF(B1702='Veg Guide Data Base'!$AD$1376,C1702,FALSE)","v":false},"465448","Dolekei-Fomseng association, 30 to 60 percent slopes","Dolekei",null,50,"bedrock, paralithic",29,20,45,3.6,"none",null,null,"none"]
["PB932","Pohnpei",301,{"$f":"IF(B1703='Veg Guide Data Base'!$AD$1376,C1703,FALSE)","v":false},"465448","Dolekei-Fomseng association, 30 to 60 percent slopes","Fomseng",null,30,"bedrock, paralithic",14,20,45,2.5,"none",null,null,"none"]
["PB932","Pohnpei",302,{"$f":"IF(B1704='Veg Guide Data Base'!$AD$1376,C1704,FALSE)","v":false},"465449","Dolekei-Fomseng association, 15 to 30 percent slopes, cobbly","Dolekei",null,50,"bedrock, paralithic",29,26,23,3.5,"none",null,null,"none"]
["PB932","Pohnpei",302,{"$f":"IF(B1705='Veg Guide Data Base'!$AD$1376,C1705,FALSE)","v":false},"465449","Dolekei-Fomseng association, 15 to 30 percent slopes, cobbly","Fomseng",null,30,"bedrock, paralithic",14,21,23,2.6,"none",null,null,"none"]
["PB932","Pohnpei",303,{"$f":"IF(B1706='Veg Guide Data Base'!$AD$1376,C1706,FALSE)","v":false},"465450","Dolekei-Fomseng association, 30 to 60 percent slopes, cobbly","Dolekei",null,50,"bedrock, paralithic",29,26,45,3.5,"none",null,null,"none"]
["PB932","Pohnpei",303,{"$f":"IF(B1707='Veg Guide Data Base'!$AD$1376,C1707,FALSE)","v":false},"465450","Dolekei-Fomseng association, 30 to 60 percent slopes, cobbly","Fomseng",null,30,"bedrock, paralithic",14,21,45,2.6,"none",null,null,"none"]
["PB932","Pohnpei",304,{"$f":"IF(B1708='Veg Guide Data Base'!$AD$1376,C1708,FALSE)","v":false},"465451","Dolen cobbly silty clay loam, 6 to 15 percent slopes","Dolen",null,80,null,80,16,11,3.3,"none",null,null,"none"]
["PB932","Pohnpei",305,{"$f":"IF(B1709='Veg Guide Data Base'!$AD$1376,C1709,FALSE)","v":false},"465452","Dolen cobbly silty clay loam, 15 to 30 percent slopes","Dolen",null,80,null,80,16,23,3.3,"none",null,null,"none"]
["PB932","Pohnpei",306,{"$f":"IF(B1710='Veg Guide Data Base'!$AD$1376,C1710,FALSE)","v":false},"465453","Fomseng-Dolekei association, 60 to 100 percent slopes","Fomseng",null,50,"bedrock, paralithic",14,17,80,2.7,"none",null,null,"none"]
["PB932","Pohnpei",306,{"$f":"IF(B1711='Veg Guide Data Base'!$AD$1376,C1711,FALSE)","v":false},"465453","Fomseng-Dolekei association, 60 to 100 percent slopes","Dolekei",null,30,"bedrock, paralithic",29,20,80,3.6,"none",null,null,"none"]
["PB932","Pohnpei",307,{"$f":"IF(B1712='Veg Guide Data Base'!$AD$1376,C1712,FALSE)","v":false},"465454","Fomseng variant silt loam, 15 to 30 percent slopes","Fomseng variant",null,80,"bedrock, paralithic",7,12,23,1.2,"none",null,null,"none"]
["PB932","Pohnpei",308,{"$f":"IF(B1713='Veg Guide Data Base'!$AD$1376,C1713,FALSE)","v":false},"465455","Fomseng variant silt loam, 30 to 60 percent slopes","Fomseng variant",null,80,"bedrock, paralithic",7,12,45,1.2,"none",null,null,"none"]
["PB932","Pohnpei",309,{"$f":"IF(B1714='Veg Guide Data Base'!$AD$1376,C1714,FALSE)","v":false},"465456","Inkosr gravelly sandy clay loam, 0 to 2 percent slopes","Inkosr",null,85,null,72,25,1,3.1,"occasional","brief","January, February, March, April, May, June, July, August, September, October, November, December","none"]
["PB932","Pohnpei",310,{"$f":"IF(B1715='Veg Guide Data Base'!$AD$1376,C1715,FALSE)","v":false},"465457","Mesei variant mucky peat, 0 to 2 percent slopes","Mesei variant",null,75,"bedrock, lithic",24,0,1,4.9000000000000004,"frequent","very long","January, February, March, April, May, June, July, August, September, October, November, December","none","very long"]
["PB932","Pohnpei",311,{"$f":"IF(B1716='Veg Guide Data Base'!$AD$1376,C1716,FALSE)","v":false},"465458","Naniak mucky silt loam, 0 to 2 percent slopes","Naniak",null,80,null,80,10,1,4.3,"frequent","very long","January, February, March, April, May, June, July, August, September, October, November, December","rare","very long"]
["PB932","Pohnpei",312,{"$f":"IF(B1717='Veg Guide Data Base'!$AD$1376,C1717,FALSE)","v":false},"465459","Nansepsep silt loam, 0 to 2 percent slopes","Nansepsep",null,85,null,80,13,1,3.3,"occasional","very brief","January, February, March, April, May, June, July, August, September, October, November, December","none"]
["PB932","Pohnpei",313,{"$f":"IF(B1718='Veg Guide Data Base'!$AD$1376,C1718,FALSE)","v":false},"465460","Ngedebus-Rubble land association, 0 to 2 percent slopes","Ngedebus",null,50,null,80,19,1,1.3,"occasional","very brief","January, February, March, April, May, June, July, August, September, October, November, December","none"]
["PB932","Pohnpei",313,{"$f":"IF(B1719='Veg Guide Data Base'!$AD$1376,C1719,FALSE)","v":false},"465460","Ngedebus-Rubble land association, 0 to 2 percent slopes","Rubble land",null,30,null,80,0,1,null,"none",null,null,"none"]
["PB932","Pohnpei",314,{"$f":"IF(B1720='Veg Guide Data Base'!$AD$1376,C1720,FALSE)","v":false},"465461","Rakied extremely gravelly sandy loam, 0 to 5 percent slopes","Rakied",null,80,null,80,54,3,1.3,"none",null,null,"none"]
["PB932","Pohnpei",315,{"$f":"IF(B1721='Veg Guide Data Base'!$AD$1376,C1721,FALSE)","v":false},"465462","Rakied extremely gravelly sandy loam, 0 to 2 percent slopes, high water table","Rakied",null,85,null,80,54,1,1.3,"none",null,null,"none"]
["PB932","Pohnpei",316,{"$f":"IF(B1722='Veg Guide Data Base'!$AD$1376,C1722,FALSE)","v":false},"465463","Rakied-Urban land complex, 0 to 5 percent slopes","Rakied",null,45,null,80,54,3,1.3,"none",null,null,"none"]
["PB932","Pohnpei",316,{"$f":"IF(B1723='Veg Guide Data Base'!$AD$1376,C1723,FALSE)","v":false},"465463","Rakied-Urban land complex, 0 to 5 percent slopes","Urban land",null,35,null,80,0,3,0,"none",null,null,"none"]
["PB932","Pohnpei",317,{"$f":"IF(B1724='Veg Guide Data Base'!$AD$1376,C1724,FALSE)","v":false},"465464","Sonahnpil very stony silty clay loam, 0 to 5 percent slopes","Sonahnpil",null,80,null,80,47,3,2.2000000000000002,"occasional","very brief","January, February, March, April, May, June, July, August, September, October, November, December","none"]
["PB932","Pohnpei",318,{"$f":"IF(B1725='Veg Guide Data Base'!$AD$1376,C1725,FALSE)","v":false},"465465","Tolonier-Dolen association, 30 to 60 percent slopes","Tolonier",null,50,null,80,36,45,2.5,"none",null,null,"none"]
["PB932","Pohnpei",318,{"$f":"IF(B1726='Veg Guide Data Base'!$AD$1376,C1726,FALSE)","v":false},"465465","Tolonier-Dolen association, 30 to 60 percent slopes","Dolen",null,30,null,80,16,45,3.3,"none",null,null,"none"]
["PB932","Pohnpei",319,{"$f":"IF(B1727='Veg Guide Data Base'!$AD$1376,C1727,FALSE)","v":false},"465466","Tolonier-Dolen association, 60 to 100 percent slopes","Tolonier",null,45,null,80,36,80,2.5,"none",null,null,"none"]
["PB932","Pohnpei",319,{"$f":"IF(B1728='Veg Guide Data Base'!$AD$1376,C1728,FALSE)","v":false},"465466","Tolonier-Dolen association, 60 to 100 percent slopes","Dolen",null,30,null,80,16,80,3.3,"none",null,null,"none"]
["PB932","Pohnpei",320,{"$f":"IF(B1729='Veg Guide Data Base'!$AD$1376,C1729,FALSE)","v":false},"465467","Typic Troporthents-Urban land complex, 0 to 1 percent slopes","Typic Troporthents",null,50,null,80,0,1,null,"none",null,null,"none"]
["PB932","Pohnpei",320,{"$f":"IF(B1730='Veg Guide Data Base'!$AD$1376,C1730,FALSE)","v":false},"465467","Typic Troporthents-Urban land complex, 0 to 1 percent slopes","Urban land",null,30,null,80,0,1,null,"none",null,null,"none"]
["PB932","Pohnpei",321,{"$f":"IF(B1731='Veg Guide Data Base'!$AD$1376,C1731,FALSE)","v":false},"465468","Umpump silty clay loam, 2 to 8 percent slopes","Umpump",null,80,"bedrock, paralithic",28,20,5,2.9,"none",null,null,"none"]
["PB932","Pohnpei",322,{"$f":"IF(B1732='Veg Guide Data Base'!$AD$1376,C1732,FALSE)","v":false},"465469","Umpump gravelly sandy clay loam, 2 to 15 percent slopes","Umpump",null,70,"bedrock, paralithic",28,29,9,2.8,"none",null,null,"none"]
["PB932","Pohnpei",323,{"$f":"IF(B1733='Veg Guide Data Base'!$AD$1376,C1733,FALSE)","v":false},"465470","Umpump gravelly silty clay loam, 2 to 8 percent slopes","Umpump",null,80,"bedrock, paralithic",28,29,5,2.8,"none",null,null,"none"]
["PB932","Pohnpei",324,{"$f":"IF(B1734='Veg Guide Data Base'!$AD$1376,C1734,FALSE)","v":false},"465471","Umpump very gravelly clay loam, 2 to 8 percent slopes","Umpump",null,70,"bedrock, paralithic",28,34,5,2.7,"none",null,null,"none"]
["PB932","Pohnpei",325,{"$f":"IF(B1735='Veg Guide Data Base'!$AD$1376,C1735,FALSE)","v":false},"465472","Umpump-Urban land complex, 2 to 8 percent slopes","Umpump",null,45,"bedrock, paralithic",28,29,5,2.8,"none",null,null,"none"]
["PB932","Pohnpei",325,{"$f":"IF(B1736='Veg Guide Data Base'!$AD$1376,C1736,FALSE)","v":false},"465472","Umpump-Urban land complex, 2 to 8 percent slopes","Urban land",null,35,null,80,0,5,0,"none",null,null,"none"]
["PB932","Pohnpei",326,{"$f":"IF(B1737='Veg Guide Data Base'!$AD$1376,C1737,FALSE)","v":false},"465473","Wahrekdam very gravelly sandy loam, 2 to 8 percent slopes","Wahrekdam",null,75,"bedrock, lithic",32,42,5,2.4,"none",null,null,"none"]
["PB932","Pohnpei","W",{"$f":"IF(B1738='Veg Guide Data Base'!$AD$1376,C1738,FALSE)","v":false},"465474","Water","Water",null,100,null,80,0,null,null,"none",null,null,"none"]
["PB933","Chuuk",200,{"$f":"IF(B1739='Veg Guide Data Base'!$AD$1376,C1739,FALSE)","v":false},"465475","Chia mucky peat, 0 to 2 percent slopes","Chia",null,85,null,80,0,1,4.9000000000000004,"frequent","very long","January, February, March, April, May, June, July, August, September, October, November, December","rare","very long"]
["PB933","Chuuk",201,{"$f":"IF(B1740='Veg Guide Data Base'!$AD$1376,C1740,FALSE)","v":false},"465476","Dolen silty clay loam, 6 to 12 percent slopes","Dolen",null,80,null,80,9,9,3.5,"none",null,null,"none"]
["PB933","Chuuk",202,{"$f":"IF(B1741='Veg Guide Data Base'!$AD$1376,C1741,FALSE)","v":false},"465477","Dolen silty clay loam, 12 to 30 percent slopes","Dolen",null,80,null,80,9,21,3.5,"none",null,null,"none"]
["PB933","Chuuk",203,{"$f":"IF(B1742='Veg Guide Data Base'!$AD$1376,C1742,FALSE)","v":false},"465478","Dolen silty clay loam, 30 to 50 percent slopes","Dolen",null,80,null,80,9,40,3.5,"none",null,null,"none"]
["PB933","Chuuk",204,{"$f":"IF(B1743='Veg Guide Data Base'!$AD$1376,C1743,FALSE)","v":false},"465479","Dolen silty clay loam, 50 to 75 percent slopes","Dolen",null,80,null,80,9,63,3.5,"none",null,null,"none"]
["PB933","Chuuk",205,{"$f":"IF(B1744='Veg Guide Data Base'!$AD$1376,C1744,FALSE)","v":false},"465480","Dublon loamy fine sand, 0 to 2 percent slopes","Dublon",null,85,null,80,13,1,2,"occasional","very brief","January, February, March, April, May, June, July, August, September, October, November, December","none"]
["PB933","Chuuk",206,{"$f":"IF(B1745='Veg Guide Data Base'!$AD$1376,C1745,FALSE)","v":false},"465481","Insak variant sandy peat, 0 to 2 percent slopes","Insak variant",null,85,"bedrock, lithic",18,11,1,3.3,"frequent","very long","January, February, March, April, May, June, July, August, September, October, November, December","rare","very long"]
["PB933","Chuuk",207,{"$f":"IF(B1746='Veg Guide Data Base'!$AD$1376,C1746,FALSE)","v":false},"465482","Mesei variant mucky peat, 0 to 2 percent slopes","Mesei variant",null,85,"bedrock, lithic",24,0,1,4.9000000000000004,"frequent","very long","January, February, March, April, May, June, July, August, September, October, November, December","none","very long"]
["PB933","Chuuk",208,{"$f":"IF(B1747='Veg Guide Data Base'!$AD$1376,C1747,FALSE)","v":false},"465483","Ngerungor mucky peat, 0 to 1 percent slopes","Ngerungor",null,85,null,80,0,1,4.9000000000000004,"frequent","very long","January, February, March, April, May, June, July, August, September, October, November, December","rare","very long"]
["PB933","Chuuk",209,{"$f":"IF(B1748='Veg Guide Data Base'!$AD$1376,C1748,FALSE)","v":false},"465484","Rock outcrop-Rubble land complex","Rock outcrop",null,50,"bedrock, lithic",0,0,50,0,"none",null,null,"none"]
["PB933","Chuuk",209,{"$f":"IF(B1749='Veg Guide Data Base'!$AD$1376,C1749,FALSE)","v":false},"465484","Rock outcrop-Rubble land complex","Rubble land",null,30,"bedrock, lithic",40,59,33,1,"none",null,null,"none"]
["PB933","Chuuk",210,{"$f":"IF(B1750='Veg Guide Data Base'!$AD$1376,C1750,FALSE)","v":false},"465485","Tolonier very stony silty clay loam, 6 to 12 percent slopes","Tolonier",null,75,null,80,39,9,2.4,"none",null,null,"none"]
["PB933","Chuuk",211,{"$f":"IF(B1751='Veg Guide Data Base'!$AD$1376,C1751,FALSE)","v":false},"465486","Tolonier very stony silty clay loam, 12 to 30 percent slopes","Tolonier",null,75,null,80,39,21,2.4,"none",null,null,"none"]
["PB933","Chuuk",212,{"$f":"IF(B1752='Veg Guide Data Base'!$AD$1376,C1752,FALSE)","v":false},"465487","Tolonier very stony silty clay loam, 30 to 50 percent slopes","Tolonier",null,75,null,80,39,40,2.4,"none",null,null,"none"]
["PB933","Chuuk",213,{"$f":"IF(B1753='Veg Guide Data Base'!$AD$1376,C1753,FALSE)","v":false},"465488","Tolonier very stony silty clay loam, 50 to 75 percent slopes","Tolonier",null,75,null,80,39,63,2.4,"none",null,null,"none"]
["PB933","Chuuk",214,{"$f":"IF(B1754='Veg Guide Data Base'!$AD$1376,C1754,FALSE)","v":false},"465489","Typic Troporthents-Urban land complex, 0 to 1 percent slopes","Typic Troporthents",null,50,null,80,0,1,null,"none",null,null,"none"]
["PB933","Chuuk",214,{"$f":"IF(B1755='Veg Guide Data Base'!$AD$1376,C1755,FALSE)","v":false},"465489","Typic Troporthents-Urban land complex, 0 to 1 percent slopes","Urban land",null,30,null,80,0,1,null,"none",null,null,"none"]
["PB933","Chuuk",215,{"$f":"IF(B1756='Veg Guide Data Base'!$AD$1376,C1756,FALSE)","v":false},"465490","Wahrekdam variant-Wahrekdam complex, 2 to 8 percent slopes","Wahrekdam Variant",null,50,"bedrock, lithic",12,48,5,1.4,"none",null,null,"none"]
["PB933","Chuuk",215,{"$f":"IF(B1757='Veg Guide Data Base'!$AD$1376,C1757,FALSE)","v":false},"465490","Wahrekdam variant-Wahrekdam complex, 2 to 8 percent slopes","Wahrekdam",null,35,"bedrock, lithic",32,42,5,2.4,"none",null,null,"none"]
["PB933","Chuuk",216,{"$f":"IF(B1758='Veg Guide Data Base'!$AD$1376,C1758,FALSE)","v":false},"465491","Water","Water",null,100,null,80,0,null,null,"none",null,null,"none"]
["PB934","Yap",500,{"$f":"IF(B1759='Veg Guide Data Base'!$AD$1376,C1759,FALSE)","v":false},"465492","Dechel mucky silt loam, 0 to 2 percent slopes","Dechel",null,90,null,80,0,1,3.5,"frequent","very long","January, February, March, April, May, June, July, August, September, October, November, December","rare","very long"]
["PB934","Yap",501,{"$f":"IF(B1760='Veg Guide Data Base'!$AD$1376,C1760,FALSE)","v":false},"465493","Dublon loamy fine sand, 0 to 4 percent slopes","Dublon",null,90,null,80,13,2,2,"occasional","very brief","January, February, March, April, May, June, July, August, September, October, November, December","none"]
["PB934","Yap",502,{"$f":"IF(B1761='Veg Guide Data Base'!$AD$1376,C1761,FALSE)","v":false},"465494","Dublon variant sandy clay loam, 0 to 4 percent slopes","Dublon variant",null,75,null,80,16,2,1.6,"occasional","very brief","January, February, March, April, May, June, July, August, September, October, November, December","none"]
["PB934","Yap",503,{"$f":"IF(B1762='Veg Guide Data Base'!$AD$1376,C1762,FALSE)","v":false},"465495","Gagil extremely gravelly loam, 2 to 12 percent slopes","Gagil",null,90,null,80,47,7,2.2999999999999998,"none",null,null,"none"]
["PB934","Yap",504,{"$f":"IF(B1763='Veg Guide Data Base'!$AD$1376,C1763,FALSE)","v":false},"465496","Gagil silty clay loam, 2 to 6 percent slopes","Gagil",null,95,null,80,6,4,2.8,"none",null,null,"none"]
["PB934","Yap",505,{"$f":"IF(B1764='Veg Guide Data Base'!$AD$1376,C1764,FALSE)","v":false},"465497","Gagil silty clay loam, 6 to 12 percent slopes","Gagil",null,95,null,80,6,9,2.8,"none",null,null,"none"]
["PB934","Yap",506,{"$f":"IF(B1765='Veg Guide Data Base'!$AD$1376,C1765,FALSE)","v":false},"465498","Gagil silty clay loam, 12 to 30 percent slopes","Gagil",null,90,null,80,6,21,2.8,"none",null,null,"none"]
["PB934","Yap",507,{"$f":"IF(B1766='Veg Guide Data Base'!$AD$1376,C1766,FALSE)","v":false},"465499","Gagil silty clay loam, 30 to 50 percent slopes","Gagil",null,85,null,80,6,40,2.8,"none",null,null,"none"]
["PB934","Yap",508,{"$f":"IF(B1767='Veg Guide Data Base'!$AD$1376,C1767,FALSE)","v":false},"465500","Gitam very gravelly silty clay loam, 0 to 2 percent slopes","Gitam",null,85,"bedrock, paralithic",35,28,1,2.8,"none",null,null,"none"]
["PB934","Yap",509,{"$f":"IF(B1768='Veg Guide Data Base'!$AD$1376,C1768,FALSE)","v":false},"465501","Gitam very gravelly silty clay loam, 2 to 6 percent slopes","Gitam",null,85,"bedrock, paralithic",35,28,4,2.8,"none",null,null,"none"]
["PB934","Yap",510,{"$f":"IF(B1769='Veg Guide Data Base'!$AD$1376,C1769,FALSE)","v":false},"465502","Gitam very gravelly silty clay loam, 6 to 12 percent slopes","Gitam",null,85,"bedrock, paralithic",35,28,9,2.8,"none",null,null,"none"]
["PB934","Yap",511,{"$f":"IF(B1770='Veg Guide Data Base'!$AD$1376,C1770,FALSE)","v":false},"465503","Ilachetomel peat, 0 to 1 percent slopes","Ilachetomel",null,75,null,80,0,1,4.9000000000000004,"frequent","very long","January, February, March, April, May, June, July, August, September, October, November, December","none","very long"]
["PB934","Yap",512,{"$f":"IF(B1771='Veg Guide Data Base'!$AD$1376,C1771,FALSE)","v":false},"465504","Mesei mucky peat, 0 to 1 percent slopes","Mesei",null,90,null,80,0,1,4.9000000000000004,"frequent","very long","January, February, March, April, May, June, July, August, September, October, November, December","rare","very long"]
["PB934","Yap",513,{"$f":"IF(B1772='Veg Guide Data Base'!$AD$1376,C1772,FALSE)","v":false},"465505","Ngedebus sand, 0 to 4 percent slopes","Ngedebus",null,85,null,80,22,2,1.2,"occasional","very brief","January, February, March, April, May, June, July, August, September, October, November, December","none"]
["PB934","Yap",514,{"$f":"IF(B1773='Veg Guide Data Base'!$AD$1376,C1773,FALSE)","v":false},"465506","Ngedebus variant very gravelly loamy sand, 0 to 6 percent slopes","Ngedebus variant",null,85,null,80,43,3,0.9,"occasional","very brief","January, February, March, April, May, June, July, August, September, October, November, December","none"]
["PB934","Yap",515,{"$f":"IF(B1774='Veg Guide Data Base'!$AD$1376,C1774,FALSE)","v":false},"465507","Ngersuul variant silty clay loam, 2 to 8 percent slopes","Ngersuul variant",null,75,null,80,19,5,2.6,"rare",null,null,"none"]
["PB934","Yap",516,{"$f":"IF(B1775='Veg Guide Data Base'!$AD$1376,C1775,FALSE)","v":false},"465508","Peleliu extremely cobbly silt loam, 0 to 8 percent slopes","Peleliu",null,90,"bedrock, lithic",12,51,4,1.1000000000000001,"none",null,null,"none"]
["PB934","Yap",517,{"$f":"IF(B1776='Veg Guide Data Base'!$AD$1376,C1776,FALSE)","v":false},"465509","Peleliu-Rock outcrop complex, 15 to 75 percent slopes","Peleliu",null,75,"bedrock, lithic",12,51,45,1.1000000000000001,"none",null,null,"none"]
["PB934","Yap",517,{"$f":"IF(B1777='Veg Guide Data Base'!$AD$1376,C1777,FALSE)","v":false},"465509","Peleliu-Rock outcrop complex, 15 to 75 percent slopes","Rock outcrop",null,25,"bedrock, lithic",0,0,45,0,"none",null,null,"none"]
["PB934","Yap",518,{"$f":"IF(B1778='Veg Guide Data Base'!$AD$1376,C1778,FALSE)","v":false},"465510","Rock outcrop, phosphate strip mine","Rock outcrop",null,99,null,80,0,null,null,"none",null,null,"none"]
["PB934","Yap",519,{"$f":"IF(B1779='Veg Guide Data Base'!$AD$1376,C1779,FALSE)","v":false},"465511","Rumung-Weloy complex, 12 to 30 percent slopes","Rumung",null,45,"bedrock, lithic",19,42,21,2.2999999999999998,"none",null,null,"none"]
["PB934","Yap",519,{"$f":"IF(B1780='Veg Guide Data Base'!$AD$1376,C1780,FALSE)","v":false},"465511","Rumung-Weloy complex, 12 to 30 percent slopes","Weloy",null,35,"bedrock, lithic",22,30,21,2.6,"none",null,null,"none"]
["PB934","Yap",520,{"$f":"IF(B1781='Veg Guide Data Base'!$AD$1376,C1781,FALSE)","v":false},"465512","Rumung-Weloy complex, 30 to 50 percent slopes","Rumung",null,45,"bedrock, lithic",19,42,40,2.2999999999999998,"none",null,null,"none"]
["PB934","Yap",520,{"$f":"IF(B1782='Veg Guide Data Base'!$AD$1376,C1782,FALSE)","v":false},"465512","Rumung-Weloy complex, 30 to 50 percent slopes","Weloy",null,35,"bedrock, lithic",22,30,40,2.6,"none",null,null,"none"]
["PB934","Yap",521,{"$f":"IF(B1783='Veg Guide Data Base'!$AD$1376,C1783,FALSE)","v":false},"465513","Rumung-Weloy complex, 50 to 75 percent slopes","Rumung",null,50,"bedrock, lithic",19,42,63,2.2999999999999998,"none",null,null,"none"]
["PB934","Yap",521,{"$f":"IF(B1784='Veg Guide Data Base'!$AD$1376,C1784,FALSE)","v":false},"465513","Rumung-Weloy complex, 50 to 75 percent slopes","Weloy",null,30,"bedrock, lithic",22,30,63,2.6,"none",null,null,"none"]
["PB934","Yap",522,{"$f":"IF(B1785='Veg Guide Data Base'!$AD$1376,C1785,FALSE)","v":false},"465514","Sonahnpil variant extremely gravelly silt loam, 0 to 4 percent slopes","Sonahnpil variant",null,85,null,80,55,2,1.7,"occasional","very brief","January, February, March, April, May, June, July, August, September, October, November, December","none"]
["PB934","Yap",523,{"$f":"IF(B1786='Veg Guide Data Base'!$AD$1376,C1786,FALSE)","v":false},"465515","Tabecheding variant silty clay loam, 0 to 4 percent slopes","Tabecheding variant",null,85,null,80,0,2,3.3,"frequent","very brief","January, February, March, April, May, June, July, August, September, October, November, December","none"]
["PB934","Yap",524,{"$f":"IF(B1787='Veg Guide Data Base'!$AD$1376,C1787,FALSE)","v":false},"465516","Typic Troporthents, severely eroded","Typic Troporthents",null,85,null,80,0,57,null,"none",null,null,"none"]
["PB934","Yap",525,{"$f":"IF(B1788='Veg Guide Data Base'!$AD$1376,C1788,FALSE)","v":false},"465517","Typic Troporthents-Urban land complex, 0 to 1 percent slopes","Urban land",null,60,null,80,0,1,null,"none",null,null,"none"]
["PB934","Yap",525,{"$f":"IF(B1789='Veg Guide Data Base'!$AD$1376,C1789,FALSE)","v":false},"465517","Typic Troporthents-Urban land complex, 0 to 1 percent slopes","Typic Troporthents",null,35,null,80,0,1,null,"none",null,null,"none"]
["PB934","Yap",526,{"$f":"IF(B1790='Veg Guide Data Base'!$AD$1376,C1790,FALSE)","v":false},"465518","Weloy-Rumung complex, 2 to 12 percent slopes","Weloy",null,55,"bedrock, lithic",22,30,7,2.6,"none",null,null,"none"]
["PB934","Yap",526,{"$f":"IF(B1791='Veg Guide Data Base'!$AD$1376,C1791,FALSE)","v":false},"465518","Weloy-Rumung complex, 2 to 12 percent slopes","Rumung",null,25,"bedrock, lithic",19,42,7,2.2999999999999998,"none",null,null,"none"]
["PB934","Yap",527,{"$f":"IF(B1792='Veg Guide Data Base'!$AD$1376,C1792,FALSE)","v":false},"465519","Yap silty clay loam, 0 to 2 percent slopes","Yap",null,90,null,80,5,1,3.3,"none",null,null,"none"]
["PB934","Yap",528,{"$f":"IF(B1793='Veg Guide Data Base'!$AD$1376,C1793,FALSE)","v":false},"465520","Yap silty clay loam, 2 to 6 percent slopes","Yap",null,90,null,80,5,4,3.3,"none",null,null,"none"]
["PB934","Yap",529,{"$f":"IF(B1794='Veg Guide Data Base'!$AD$1376,C1794,FALSE)","v":false},"465521","Yap silty clay loam, 6 to 12 percent slopes","Yap",null,90,null,80,5,9,3.3,"none",null,null,"none"]
["PB934","Yap",530,{"$f":"IF(B1795='Veg Guide Data Base'!$AD$1376,C1795,FALSE)","v":false},"465522","Yap silty clay loam, 12 to 30 percent slopes","Yap",null,85,null,80,5,21,3.3,"none",null,null,"none"]
["PB934","Yap",531,{"$f":"IF(B1796='Veg Guide Data Base'!$AD$1376,C1796,FALSE)","v":false},"465523","Water","Water",null,100,null,80,0,null,null,"none",null,null,"none"]
["PB935","Palau",600,{"$f":"IF(B1797='Veg Guide Data Base'!$AD$1376,C1797,FALSE)","v":false},"1859244","Aimeliik silt loam, 2 to 6 percent slopes","Aimeliik",null,85,"abrupt textural change",7,3,4,2.5,"none",null,null,"none"]
["PB935","Palau",601,{"$f":"IF(B1798='Veg Guide Data Base'!$AD$1376,C1798,FALSE)","v":false},"1859243","Aimeliik silt loam, 6 to 12 percent slopes","Aimeliik",null,85,"abrupt textural change",5,3,9,2.2999999999999998,"none",null,null,"none"]
["PB935","Palau",602,{"$f":"IF(B1799='Veg Guide Data Base'!$AD$1376,C1799,FALSE)","v":false},"1859242","Aimeliik silt loam, 12 to 30 percent slopes","Aimeliik",null,85,"abrupt textural change",10,3,21,2.6,"none",null,null,"none"]
["PB935","Palau",603,{"$f":"IF(B1800='Veg Guide Data Base'!$AD$1376,C1800,FALSE)","v":false},"1859241","Aimeliik silt loam, 30 to 50 percent slopes","Aimeliik",null,85,"abrupt textural change",5,3,40,2.2999999999999998,"none",null,null,"none"]
["PB935","Palau",604,{"$f":"IF(B1801='Veg Guide Data Base'!$AD$1376,C1801,FALSE)","v":false},"1859240","Aimeliik silt loam, 50 to 75 percent slopes","Aimeliik",null,85,"abrupt textural change",3,3,63,2.2000000000000002,"none",null,null,"none"]
["PB935","Palau",605,{"$f":"IF(B1802='Veg Guide Data Base'!$AD$1376,C1802,FALSE)","v":false},"1859256","Aimeliik silt loam, bedded tuff substratum, 2 to 6 percent slopes","Aimeliik","bedded tuff substratum",85,"abrupt textural change",7,3,4,2.4,"none",null,null,"none"]
["PB935","Palau",606,{"$f":"IF(B1803='Veg Guide Data Base'!$AD$1376,C1803,FALSE)","v":false},"1859257","Aimeliik silt loam, bedded tuff substratum, 6 to 12 percent slopes","Aimeliik","bedded tuff substratum",90,"abrupt textural change",3,3,9,2.2000000000000002,"none",null,null,"none"]
["PB935","Palau",607,{"$f":"IF(B1804='Veg Guide Data Base'!$AD$1376,C1804,FALSE)","v":false},"1859258","Aimeliik silt loam, bedded tuff substratum, 12 to 30 percent slopes","Aimeliik","bedded tuff substratum",90,"abrupt textural change",7,3,21,2.5,"none",null,null,"none"]
["PB935","Palau",608,{"$f":"IF(B1805='Veg Guide Data Base'!$AD$1376,C1805,FALSE)","v":false},"1859260","Aimeliik silt loam, volcanic bedded substratum, 30 to 50 percent slopes","Aimeliik","bedded tuff substratum",90,"abrupt textural change",4,3,40,2.2999999999999998,"none",null,null,"none"]
["PB935","Palau",609,{"$f":"IF(B1806='Veg Guide Data Base'!$AD$1376,C1806,FALSE)","v":false},"1859259","Aimeliik silty clay loam, bedded tuff substratum, 50 to 75 percent slopes","Aimeliik","bedded tuff substratum",90,"abrupt textural change",8,3,63,2.5,"none",null,null,"none"]
["PB935","Palau",610,{"$f":"IF(B1807='Veg Guide Data Base'!$AD$1376,C1807,FALSE)","v":false},"1859266","Aimeliik-Ollei complex, 30 to 50 percent slopes","Aimeliik",null,45,"abrupt textural change",11,9,35,2.6,"none",null,null,"none"]
["PB935","Palau",610,{"$f":"IF(B1808='Veg Guide Data Base'!$AD$1376,C1808,FALSE)","v":false},"1859266","Aimeliik-Ollei complex, 30 to 50 percent slopes","Ollei",null,30,"bedrock, lithic",13,44,50,1.3,"none",null,null,"none"]
["PB935","Palau",611,{"$f":"IF(B1809='Veg Guide Data Base'!$AD$1376,C1809,FALSE)","v":false},"1859267","Aimeliik-Ollei complex, 50 to 75 percent slopes","Aimeliik",null,40,"abrupt textural change",5,8,63,2.2999999999999998,"none",null,null,"none"]
["PB935","Palau",611,{"$f":"IF(B1810='Veg Guide Data Base'!$AD$1376,C1810,FALSE)","v":false},"1859267","Aimeliik-Ollei complex, 50 to 75 percent slopes","Ollei",null,35,"bedrock, lithic",15,46,70,1.5,"none",null,null,"none"]
["PB935","Palau",612,{"$f":"IF(B1811='Veg Guide Data Base'!$AD$1376,C1811,FALSE)","v":false},"1859271","Babelthuap-Ngardmau-Typic Udorthents, undifferentiated group, 2 to 6 percent slopes","Babelthuap",null,55,"abrupt textural change",3,14,4,1.6,"none",null,null,"none"]
["PB935","Palau",612,{"$f":"IF(B1812='Veg Guide Data Base'!$AD$1376,C1812,FALSE)","v":false},"1859271","Babelthuap-Ngardmau-Typic Udorthents, undifferentiated group, 2 to 6 percent slopes","Ngardmau",null,25,null,80,25,3,2.2000000000000002,"none",null,null,"none"]
["PB935","Palau",612,{"$f":"IF(B1813='Veg Guide Data Base'!$AD$1376,C1813,FALSE)","v":false},"1859271","Babelthuap-Ngardmau-Typic Udorthents, undifferentiated group, 2 to 6 percent slopes","Typic Udorthents",null,15,null,80,6,4,2.5,"none",null,null,"none"]
["PB935","Palau",613,{"$f":"IF(B1814='Veg Guide Data Base'!$AD$1376,C1814,FALSE)","v":false},"1859272","Babelthuap-Ngardmau-Typic Udorthents, undifferentiated group, 6 to 12 percent slopes","Babelthuap",null,55,"abrupt textural change",5,14,9,1.7,"none",null,null,"none"]
["PB935","Palau",613,{"$f":"IF(B1815='Veg Guide Data Base'!$AD$1376,C1815,FALSE)","v":false},"1859272","Babelthuap-Ngardmau-Typic Udorthents, undifferentiated group, 6 to 12 percent slopes","Ngardmau",null,25,null,80,14,9,2,"none",null,null,"none"]
["PB935","Palau",613,{"$f":"IF(B1816='Veg Guide Data Base'!$AD$1376,C1816,FALSE)","v":false},"1859272","Babelthuap-Ngardmau-Typic Udorthents, undifferentiated group, 6 to 12 percent slopes","Typic Udorthents",null,15,null,80,6,9,2.5,"none",null,null,"none"]
["PB935","Palau",614,{"$f":"IF(B1817='Veg Guide Data Base'!$AD$1376,C1817,FALSE)","v":false},"1859273","Babelthuap-Ngardmau-Typic Udorthents, undifferentiated group, 12 to 30 percent slopes","Babelthuap",null,45,"abrupt textural change",1,11,21,1.6,"none",null,null,"none"]
["PB935","Palau",614,{"$f":"IF(B1818='Veg Guide Data Base'!$AD$1376,C1818,FALSE)","v":false},"1859273","Babelthuap-Ngardmau-Typic Udorthents, undifferentiated group, 12 to 30 percent slopes","Ngardmau",null,30,null,80,12,21,2.2000000000000002,"none",null,null,"none"]
["PB935","Palau",614,{"$f":"IF(B1819='Veg Guide Data Base'!$AD$1376,C1819,FALSE)","v":false},"1859273","Babelthuap-Ngardmau-Typic Udorthents, undifferentiated group, 12 to 30 percent slopes","Typic Udorthents",null,20,null,80,6,21,2.5,"none",null,null,"none"]
["PB935","Palau",615,{"$f":"IF(B1820='Veg Guide Data Base'!$AD$1376,C1820,FALSE)","v":false},"1859274","Chia-Insak complex, 0 to 1 percent slopes","Chia",null,65,null,80,0,0.5,5.9,"very frequent","extremely brief","January, February, March, April, May, June, July, August, September, October, November, December","none"]
["PB935","Palau",615,{"$f":"IF(B1821='Veg Guide Data Base'!$AD$1376,C1821,FALSE)","v":false},"1859274","Chia-Insak complex, 0 to 1 percent slopes","Insak",null,30,"bedrock, lithic",29,9,0.5,1.8,"very frequent","extremely brief","January, February, March, April, May, June, July, August, September, October, November, December","none"]
["PB935","Palau",616,{"$f":"IF(B1822='Veg Guide Data Base'!$AD$1376,C1822,FALSE)","v":false},"1859275","Dechel silty clay, 0 to 2 percent slopes","Dechel",null,85,null,80,0,0,6.6,"frequent","extremely brief","January, February, March, April, May, June, July, August, September, October, November, December","frequent","long","January, February, March, April, May, June, July, August, September, October, November, December"]
["PB935","Palau",617,{"$f":"IF(B1823='Veg Guide Data Base'!$AD$1376,C1823,FALSE)","v":false},"1859277","Ilachetomel-Naniak complex, 0 to 1 slopes","Ilachetomel",null,75,null,80,0,0.5,5.9,"very frequent","extremely brief","January, February, March, April, May, June, July, August, September, October, November, December","none"]
["PB935","Palau",617,{"$f":"IF(B1824='Veg Guide Data Base'!$AD$1376,C1824,FALSE)","v":false},"1859277","Ilachetomel-Naniak complex, 0 to 1 slopes","Naniak",null,20,null,80,10,0.5,4.3,"very frequent","extremely brief","January, February, March, April, May, June, July, August, September, October, November, December","frequent","very long","January, February, March, April, May, June, July, August, September, October, November, December"]
["PB935","Palau",618,{"$f":"IF(B1825='Veg Guide Data Base'!$AD$1376,C1825,FALSE)","v":false},"1859276","Mesei-Dechel complex, 0 to 2 percent slopes","Mesei",null,55,null,80,0,0.5,5.9,"frequent","extremely brief","January, February, March, April, May, June, July, August, September, October, November, December","frequent","very long","January, February, March, April, May, June, July, August, September, October, November, December"]
["PB935","Palau",618,{"$f":"IF(B1826='Veg Guide Data Base'!$AD$1376,C1826,FALSE)","v":false},"1859276","Mesei-Dechel complex, 0 to 2 percent slopes","Dechel",null,30,null,80,0,1,6.5,"frequent","extremely brief","January, February, March, April, May, June, July, August, September, October, November, December","frequent","long","January, February, March, April, May, June, July, August, September, October, November, December"]
["PB935","Palau",619,{"$f":"IF(B1827='Veg Guide Data Base'!$AD$1376,C1827,FALSE)","v":false},"1859278","Nekken-Ollei complex, 12 to 30 percent slopes","Nekken",null,60,"bedrock, lithic",22,7,21,3.6,"none",null,null,"none"]
["PB935","Palau",619,{"$f":"IF(B1828='Veg Guide Data Base'!$AD$1376,C1828,FALSE)","v":false},"1859278","Nekken-Ollei complex, 12 to 30 percent slopes","Ollei",null,30,"bedrock, lithic",8,38,21,0.7,"none",null,null,"none"]
["PB935","Palau",620,{"$f":"IF(B1829='Veg Guide Data Base'!$AD$1376,C1829,FALSE)","v":false},"1859279","Ngardmau-Babelthuap-Typic Udorthents, undifferentiated group, 30 to 50 percent slopes","Ngardmau",null,50,null,80,3,35,2.4,"none",null,null,"none"]
["PB935","Palau",620,{"$f":"IF(B1830='Veg Guide Data Base'!$AD$1376,C1830,FALSE)","v":false},"1859279","Ngardmau-Babelthuap-Typic Udorthents, undifferentiated group, 30 to 50 percent slopes","Babelthuap",null,30,"abrupt textural change",2,7,35,2.2000000000000002,"none",null,null,"none"]
["PB935","Palau",620,{"$f":"IF(B1831='Veg Guide Data Base'!$AD$1376,C1831,FALSE)","v":false},"1859279","Ngardmau-Babelthuap-Typic Udorthents, undifferentiated group, 30 to 50 percent slopes","Typic Udorthents",null,15,null,80,6,35,2.5,"none",null,null,"none"]
["PB935","Palau",621,{"$f":"IF(B1832='Veg Guide Data Base'!$AD$1376,C1832,FALSE)","v":false},"1859280","Ngardmau-Babelthuap-Typic Udorthents, undifferentiated group, 50 to 75 percent slopes","Ngardmau",null,50,null,80,7,63,2.4,"none",null,null,"none"]
["PB935","Palau",621,{"$f":"IF(B1833='Veg Guide Data Base'!$AD$1376,C1833,FALSE)","v":false},"1859280","Ngardmau-Babelthuap-Typic Udorthents, undifferentiated group, 50 to 75 percent slopes","Babelthuap",null,30,"abrupt textural change",2,8,63,1.6,"none",null,null,"none"]
["PB935","Palau",621,{"$f":"IF(B1834='Veg Guide Data Base'!$AD$1376,C1834,FALSE)","v":false},"1859280","Ngardmau-Babelthuap-Typic Udorthents, undifferentiated group, 50 to 75 percent slopes","Typic Udorthents",null,15,null,80,6,63,2.5,"none",null,null,"none"]
["PB935","Palau",622,{"$f":"IF(B1835='Veg Guide Data Base'!$AD$1376,C1835,FALSE)","v":false},"1859281","Oxic Dystrudepts, 2 to 12 percent slopes","Oxic Dystrudepts",null,90,null,80,18,4,4.7,"none",null,null,"none"]
["PB935","Palau",623,{"$f":"IF(B1836='Veg Guide Data Base'!$AD$1376,C1836,FALSE)","v":false},"1859282","Oxic Dystrudepts, 12 to 30 percent slopes","Oxic Dystrudepts",null,90,null,80,3,31,4.9000000000000004,"none",null,null,"none"]
["PB935","Palau",624,{"$f":"IF(B1837='Veg Guide Data Base'!$AD$1376,C1837,FALSE)","v":false},"1859284","Ngatpang silty clay loam, 2 to 6 percent slopes","Ngatpang",null,80,null,80,2,4,4.3,"none",null,null,"none"]
["PB935","Palau",625,{"$f":"IF(B1838='Veg Guide Data Base'!$AD$1376,C1838,FALSE)","v":false},"1859283","Ngatpang silty clay loam, 6 to 12 percent slopes","Ngatpang",null,80,null,80,8,9,4.5,"none",null,null,"none"]
["PB935","Palau",626,{"$f":"IF(B1839='Veg Guide Data Base'!$AD$1376,C1839,FALSE)","v":false},"1859285","Ngatpang silty clay loam, 12 to 30 percent slopes","Ngatpang",null,75,null,80,3,21,4.4000000000000004,"none",null,null,"none"]
["PB935","Palau",627,{"$f":"IF(B1840='Veg Guide Data Base'!$AD$1376,C1840,FALSE)","v":false},"1859286","Ngatpang silty clay loam, well drained, 30 to 50 percent slopes","Ngatpang",null,80,null,80,4,40,4.5999999999999996,"none",null,null,"none"]
["PB935","Palau",628,{"$f":"IF(B1841='Veg Guide Data Base'!$AD$1376,C1841,FALSE)","v":false},"1859287","Ngedebus highly organic fine sandy loam, 0 to 3 percent slopes","Ngedebus",null,75,null,80,1,2,1.2,"occasional","very brief","January, February, March, April, May, June, July, August, September, October, November, December","none"]
["PB935","Palau",629,{"$f":"IF(B1842='Veg Guide Data Base'!$AD$1376,C1842,FALSE)","v":false},"1859288","Majuro extremely cobbly fine sandy loam, 2 to 6 percent slopes","Majuro",null,85,null,80,60,4,1.4,"occasional","very brief","January, February, March, April, May, June, July, August, September, October, November, December","none"]
["PB935","Palau",630,{"$f":"IF(B1843='Veg Guide Data Base'!$AD$1376,C1843,FALSE)","v":false},"1859289","Ngersuul silty clay loam, 0 to 2 percent slopes","Ngersuul",null,80,null,80,0,2,4.9000000000000004,"frequent","very brief","January, February, March, April, May, June, July, August, September, October, November, December","none"]
["PB935","Palau",631,{"$f":"IF(B1844='Veg Guide Data Base'!$AD$1376,C1844,FALSE)","v":false},"1859290","Odesangel peat, 0 to 1 percent slopes","Odesangel",null,80,null,80,0,1,5.4,"frequent","extremely brief","January, February, March, April, May, June, July, August, September, October, November, December","frequent","very long","January, February, March, April, May, June, July, August, September, October, November, December"]
["PB935","Palau",632,{"$f":"IF(B1845='Veg Guide Data Base'!$AD$1376,C1845,FALSE)","v":false},"1859268","Ollei-Nekken complex, 30 to 50 percent slopes","Ollei",null,50,"bedrock, lithic",16,44,40,1.6,"none",null,null,"none"]
["PB935","Palau",632,{"$f":"IF(B1846='Veg Guide Data Base'!$AD$1376,C1846,FALSE)","v":false},"1859268","Ollei-Nekken complex, 30 to 50 percent slopes","Nekken",null,30,"bedrock, lithic",24,30,40,3.7,"none",null,null,"none"]
["PB935","Palau",633,{"$f":"IF(B1847='Veg Guide Data Base'!$AD$1376,C1847,FALSE)","v":false},"1859269","Ollei-Nekken complex, 50 to 75 percent slopes","Ollei",null,55,"bedrock, lithic",13,45,63,1.4,"none",null,null,"none"]
["PB935","Palau",633,{"$f":"IF(B1848='Veg Guide Data Base'!$AD$1376,C1848,FALSE)","v":false},"1859269","Ollei-Nekken complex, 50 to 75 percent slopes","Nekken",null,25,"bedrock, lithic",24,15,63,3.2,"none",null,null,"none"]
["PB935","Palau",634,{"$f":"IF(B1849='Veg Guide Data Base'!$AD$1376,C1849,FALSE)","v":false},"1859270","Ollei-Rock Outcrop complex, 12 to 75 percent slopes","Ollei",null,50,"bedrock, lithic",8,38,44,0.6,"none",null,null,"none"]
["PB935","Palau",634,{"$f":"IF(B1850='Veg Guide Data Base'!$AD$1376,C1850,FALSE)","v":false},"1859270","Ollei-Rock Outcrop complex, 12 to 75 percent slopes","Rock outcrop",null,30,"bedrock, lithic",0,0,44,0,"none",null,null,"none"]
["PB935","Palau",635,{"$f":"IF(B1851='Veg Guide Data Base'!$AD$1376,C1851,FALSE)","v":false},"1859246","Palau silt loam, 2 to 6 percent slopes","Palau",null,85,null,80,3,4,1.4,"none",null,null,"none"]
["PB935","Palau",636,{"$f":"IF(B1852='Veg Guide Data Base'!$AD$1376,C1852,FALSE)","v":false},"1859245","Palau silty clay loam, 6 to 12 percent slopes","Palau",null,85,null,80,3,9,1.5,"none",null,null,"none"]
["PB935","Palau",637,{"$f":"IF(B1853='Veg Guide Data Base'!$AD$1376,C1853,FALSE)","v":false},"1859248","Palau silt loam, 12 to 30 percent slopes","Palau",null,85,null,80,3,21,1.2,"none",null,null,"none"]
["PB935","Palau",638,{"$f":"IF(B1854='Veg Guide Data Base'!$AD$1376,C1854,FALSE)","v":false},"1859247","Palau silt loam, 30 to 50 percent slopes","Palau",null,85,null,80,3,40,1.1000000000000001,"none",null,null,"none"]
["PB935","Palau",639,{"$f":"IF(B1855='Veg Guide Data Base'!$AD$1376,C1855,FALSE)","v":false},"1859249","Palau silt loam, 50 to 75 percent slopes","Palau",null,85,null,80,3,63,1.4,"none",null,null,"none"]
["PB935","Palau",640,{"$f":"IF(B1856='Veg Guide Data Base'!$AD$1376,C1856,FALSE)","v":false},"1859261","Palau silty clay loam, bedded tuff substratum, 2 to 6 percent slopes","Palau","bedded tuff substratum",75,null,80,3,4,1.7,"none",null,null,"none"]
["PB935","Palau",641,{"$f":"IF(B1857='Veg Guide Data Base'!$AD$1376,C1857,FALSE)","v":false},"1859262","Palau silt loam, bedded tuff substratum, 6 to 12 percent slopes","Palau","bedded tuff substratum",75,null,80,3,9,1.8,"none",null,null,"none"]
["PB935","Palau",642,{"$f":"IF(B1858='Veg Guide Data Base'!$AD$1376,C1858,FALSE)","v":false},"1859264","Palau silt loam, bedded tuff substratum, 12 to 30 percent slopes","Palau","bedded tuff substratum",75,null,80,3,21,1.3,"none",null,null,"none"]
["PB935","Palau",643,{"$f":"IF(B1859='Veg Guide Data Base'!$AD$1376,C1859,FALSE)","v":false},"1859265","Palau silty clay loam, bedded tuff substratum, 30 to 50 percent slopes","Palau","bedded tuff substratum",75,null,80,3,40,2,"none",null,null,"none"]
["PB935","Palau",644,{"$f":"IF(B1860='Veg Guide Data Base'!$AD$1376,C1860,FALSE)","v":false},"1859263","Palau silty clay loam, bedded tuff substratum, 50 to 75 percent slopes","Palau","bedded tuff substratum",75,null,80,3,63,1.3,"none",null,null,"none"]
["PB935","Palau",645,{"$f":"IF(B1861='Veg Guide Data Base'!$AD$1376,C1861,FALSE)","v":false},"1859291","Peleliu extremely cobbly clay loam, 0 to 4 percent slopes","Peleliu",null,70,"bedrock, lithic",12,62,2,1,"none",null,null,"none"]
["PB935","Palau",646,{"$f":"IF(B1862='Veg Guide Data Base'!$AD$1376,C1862,FALSE)","v":false},"1859293","Peleliu-Chelbacheb complex, 6 to 20 percent slopes","Peleliu",null,60,"bedrock, lithic",16,77,13,1.2,"none",null,null,"none"]
["PB935","Palau",646,{"$f":"IF(B1863='Veg Guide Data Base'!$AD$1376,C1863,FALSE)","v":false},"1859293","Peleliu-Chelbacheb complex, 6 to 20 percent slopes","Chelbacheb",null,25,"bedrock, lithic",8,60,13,2.4,"none",null,null,"none"]
["PB935","Palau",647,{"$f":"IF(B1864='Veg Guide Data Base'!$AD$1376,C1864,FALSE)","v":false},"1859292","Peleliu-Chelbacheb-Rock outcrop complex, 50 to 150 percent slopes","Peleliu",null,40,"bedrock, lithic",11,71,90,0.8,"none",null,null,"none"]
["PB935","Palau",647,{"$f":"IF(B1865='Veg Guide Data Base'!$AD$1376,C1865,FALSE)","v":false},"1859292","Peleliu-Chelbacheb-Rock outcrop complex, 50 to 150 percent slopes","Chelbacheb",null,30,"bedrock, lithic",8,60,90,2.4,"none",null,null,"none"]
["PB935","Palau",647,{"$f":"IF(B1866='Veg Guide Data Base'!$AD$1376,C1866,FALSE)","v":false},"1859292","Peleliu-Chelbacheb-Rock outcrop complex, 50 to 150 percent slopes","Rock outcrop",null,25,"bedrock, lithic",0,0,120,null,"none",null,null,"none"]
["PB935","Palau",648,{"$f":"IF(B1867='Veg Guide Data Base'!$AD$1376,C1867,FALSE)","v":false},"1859294","Tabecheding silty clay loam, 2 to 6 percent slopes","Tabecheding",null,85,"abrupt textural change",4,12,4,4.5999999999999996,"none",null,null,"occasional","very brief,brief","January, February, March, April, May, June, July, August, September, October, November, December"]
["PB935","Palau",649,{"$f":"IF(B1868='Veg Guide Data Base'!$AD$1376,C1868,FALSE)","v":false},"1859295","Tabecheding silty clay loam, 6 to 12 percent slopes","Tabecheding",null,80,"abrupt textural change",4,11,9,4.5999999999999996,"none",null,null,"occasional","very brief,brief","January, February, March, April, May, June, July, August, September, October, November, December"]
["PB935","Palau",650,{"$f":"IF(B1869='Veg Guide Data Base'!$AD$1376,C1869,FALSE)","v":false},"1859296","Aquic Dystrudepts, 2 to 12 percent slopes","Aquic Dystrudepts",null,90,null,80,13,9,3.1,"none",null,null,"occasional","very brief,brief","January, February, March, April, May, June, July, August, September, October, November, December"]
["PB935","Palau",651,{"$f":"IF(B1870='Veg Guide Data Base'!$AD$1376,C1870,FALSE)","v":false},"1859297","Tabecheding silty clay loam, 12 to 30 percent slopes","Tabecheding",null,80,"abrupt textural change",7,4,21,4.0999999999999996,"none",null,null,"occasional","very brief,brief","January, February, March, April, May, June, July, August, September, October, November, December"]
["PB935","Palau",652,{"$f":"IF(B1871='Veg Guide Data Base'!$AD$1376,C1871,FALSE)","v":false},"1859298","Aquic Dystrudepts, 12 to 30 percent slopes","Aquic Dystrudepts",null,75,null,80,15,21,4.5999999999999996,"none",null,null,"occasional","very brief,brief","January, February, March, April, May, June, July, August, September, October, November, December"]
["PB935","Palau",653,{"$f":"IF(B1872='Veg Guide Data Base'!$AD$1376,C1872,FALSE)","v":false},"1859299","Orthents, mined, 30 to 75 percent slopes","Typic Udorthents",null,45,null,80,16,40,2.4,"none",null,null,"none"]
["PB935","Palau",653,{"$f":"IF(B1873='Veg Guide Data Base'!$AD$1376,C1873,FALSE)","v":false},"1859299","Orthents, mined, 30 to 75 percent slopes","Typic Udorthents",null,40,null,80,15,4,2.5,"none",null,null,"none"]
["PB935","Palau",654,{"$f":"IF(B1874='Veg Guide Data Base'!$AD$1376,C1874,FALSE)","v":false},"1859300","Orthents-Urban Land complex, 0 to 50 percent slopes","Typic Udorthents",null,45,null,80,27,10,2.5,"none",null,null,"none"]
["PB935","Palau",654,{"$f":"IF(B1875='Veg Guide Data Base'!$AD$1376,C1875,FALSE)","v":false},"1859300","Orthents-Urban Land complex, 0 to 50 percent slopes","Urban land",null,40,"cemented horizon",0,0,5,0,"none",null,null,"none"]
["PB935","Palau",655,{"$f":"IF(B1876='Veg Guide Data Base'!$AD$1376,C1876,FALSE)","v":false},"1859301","Quarry","Quarry",null,100,null,80,0,45,null,"none",null,null,"none"]
["PB935","Palau",656,{"$f":"IF(B1877='Veg Guide Data Base'!$AD$1376,C1877,FALSE)","v":false},"1859302","Water, brackish","Water","brackish",100,null,80,0,0,null,"none",null,null,"none"]
["PB935","Palau",657,{"$f":"IF(B1878='Veg Guide Data Base'!$AD$1376,C1878,FALSE)","v":false},"1859303","Water, fresh","Water","fresh",100,null,80,0,0,null,"none",null,null,"none"]
["PB935","Palau",659,{"$f":"IF(B1879='Veg Guide Data Base'!$AD$1376,C1879,FALSE)","v":false},"1904870","Nekken-Ollei complex, lower fertility, 12 to 30 percent slopes","Nekken","lower fertility",60,"bedrock, lithic",24,40,21,3.6,"none",null,null,"none"]
["PB935","Palau",659,{"$f":"IF(B1880='Veg Guide Data Base'!$AD$1376,C1880,FALSE)","v":false},"1904870","Nekken-Ollei complex, lower fertility, 12 to 30 percent slopes","Ollei","lower fertility",30,"bedrock, lithic",8,38,21,1,"none",null,null,"none"]
["PB935","Palau",660,{"$f":"IF(B1881='Veg Guide Data Base'!$AD$1376,C1881,FALSE)","v":false},"1904871","Ollei-Rock Outcrop complex, lower fertility, 30 to 50 percent slopes","Ollei","lower fertility",50,"bedrock, lithic",17,18,40,1.8,"none",null,null,"none"]
["PB935","Palau",660,{"$f":"IF(B1882='Veg Guide Data Base'!$AD$1376,C1882,FALSE)","v":false},"1904871","Ollei-Rock Outcrop complex, lower fertility, 30 to 50 percent slopes","Rock outcrop",null,30,"bedrock, lithic",0,0,40,0,"none",null,null,"none"]
["PB935","Palau",661,{"$f":"IF(B1883='Veg Guide Data Base'!$AD$1376,C1883,FALSE)","v":false},"1904872","Ollei-Nekken complex, lower fertility, 50 to 75 percent slopes","Ollei","lower fertility",60,"bedrock, lithic",13,45,63,1.5,"none",null,null,"none"]
["PB935","Palau",661,{"$f":"IF(B1884='Veg Guide Data Base'!$AD$1376,C1884,FALSE)","v":false},"1904872","Ollei-Nekken complex, lower fertility, 50 to 75 percent slopes","Nekken","lower fertility",25,"bedrock, lithic",24,16,63,3.4,"none",null,null,"none"]
["PB936","Marshall Islands",1,{"$f":"IF(B1885='Veg Guide Data Base'!$AD$1376,C1885,FALSE)","v":false},"465580","Majuro very cobbly loamy sand","Majuro","very cobbly loamy sand",75,null,80,43,1,0.9,"occasional","very brief","January, February, March, April, May, June, July, August, September, October, November, December","none"]
["PB936","Marshall Islands",2,{"$f":"IF(B1886='Veg Guide Data Base'!$AD$1376,C1886,FALSE)","v":false},"465581","Majuro-Rubble land complex","Rubble land",null,30,null,80,95,1,1,"none",null,null,"none"]
["PB936","Marshall Islands",2,{"$f":"IF(B1887='Veg Guide Data Base'!$AD$1376,C1887,FALSE)","v":false},"465581","Majuro-Rubble land complex","Ngedebus","very gravelly loamy sand",9,null,80,50,1,1.2,"occasional","very brief","January, February, March, April, May, June, July, August, September, October, November, December","none"]
["PB936","Marshall Islands",3,{"$f":"IF(B1888='Veg Guide Data Base'!$AD$1376,C1888,FALSE)","v":false},"465582","Ngedebus loamy sand","Ngedebus","loamy sand",80,null,80,13,1,1.7,"rare",null,null,"none"]
["PB936","Marshall Islands",4,{"$f":"IF(B1889='Veg Guide Data Base'!$AD$1376,C1889,FALSE)","v":false},"465583","Ngedebus loamy sand, dark surface","Ngedebus","loamy sand",4,null,80,13,1,1.7,"rare",null,null,"none"]
["PB936","Marshall Islands",5,{"$f":"IF(B1890='Veg Guide Data Base'!$AD$1376,C1890,FALSE)","v":false},"465584","Ngedebus very gravelly loamy sand","Ngedebus","very gravelly loamy sand",80,null,80,50,1,1.2,"occasional","very brief","January, February, March, April, May, June, July, August, September, October, November, December","none"]
["PB936","Marshall Islands",6,{"$f":"IF(B1891='Veg Guide Data Base'!$AD$1376,C1891,FALSE)","v":false},"465585","Ngedebus very gravelly loamy sand, dark surface","Ngedebus","very gravelly loamy sand, dark surface",85,null,80,37,1,1.1000000000000001,"rare",null,null,"none"]
["PB936","Marshall Islands",7,{"$f":"IF(B1892='Veg Guide Data Base'!$AD$1376,C1892,FALSE)","v":false},"465586","Urban land-Ngedebus complex","Urban land",null,60,null,80,0,1,null,"none",null,null,"none"]
["PB936","Marshall Islands",7,{"$f":"IF(B1893='Veg Guide Data Base'!$AD$1376,C1893,FALSE)","v":false},"465586","Urban land-Ngedebus complex","Ngedebus","loamy sand",15,null,80,13,1,1.7,"occasional","very brief","January, February, March, April, May, June, July, August, September, October, November, December","none"]
["PB936","Marshall Islands",7,{"$f":"IF(B1894='Veg Guide Data Base'!$AD$1376,C1894,FALSE)","v":false},"465586","Urban land-Ngedebus complex","Ngedebus","very gravelly loamy sand",15,null,80,0,1,null,"none",null,null,"none"]
["PB936","Marshall Islands",8,{"$f":"IF(B1895='Veg Guide Data Base'!$AD$1376,C1895,FALSE)","v":false},"465588","Dumps","Dumps","landfill",100,null,80,0,0,null,"none",null,null,"none"]
["PB936","Marshall Islands","W",{"$f":"IF(B1896='Veg Guide Data Base'!$AD$1376,C1896,FALSE)","v":false},"465587","Water","Water",null,100,null,80,0,null,null,"none",null,null,"none"]

{"sheet":"Forestry Area","index":3,"n_rows":888,"n_cols":43,"rows_kept":888,"cut":false,"hidden":false,"merged":[[71,3,71,4],[91,3,91,4],[77,3,77,4],[81,3,81,4],[82,3,82,4],[83,3,83,4],[84,3,84,4],[85,3,85,4],[86,3,86,4],[73,3,73,4],[87,3,87,4],[2,19,2,21],[260,2,260,6],[259,2,259,6],[259,7,259,14],[260,7,260,14],[4,2,5,2],[13,2,14,2],[51,2,60,2],[94,2,103,2],[161,3,161,8],[161,9,161,10],[161,11,161,12],[162,3,162,8],[162,9,162,10],[162,11,162,12],[108,3,108,12],[109,3,109,12],[104,9,104,11],[105,9,105,11],[61,9,61,11],[104,5,104,7],[105,5,105,7],[61,5,61,7],[61,3,61,4],[60,5,60,6],[80,5,80,6],[62,5,62,7],[157,27,158,35],[158,3,158,5],[158,6,158,8],[158,9,158,11],[155,3,155,5],[155,6,155,8],[155,9,155,11],[156,3,156,5],[156,6,156,8],[156,9,156,11],[154,9,154,11],[154,12,155,12],[94,19,94,20],[95,19,95,20],[96,19,96,20],[96,15,96,17],[104,3,104,4],[105,3,105,4],[93,3,93,4],[88,3,88,4],[89,3,89,4],[159,27,159,35],[112,23,114,34],[100,13,100,14],[100,15,100,17],[101,13,101,14],[101,15,101,17],[101,19,101,20],[102,19,102,20],[103,19,103,20],[154,27,154,35],[155,27,155,35],[156,27,156,35],[106,13,106,21],[112,13,117,21],[107,13,107,21],[103,13,103,14],[103,15,103,17],[108,13,108,21],[104,13,104,17],[142,34,142,35],[144,29,144,31],[199,3,199,10],[200,3,200,11],[201,3,201,11],[114,3,117,12],[115,23,117,34],[109,13,109,15],[111,3,111,12],[110,13,110,15],[111,13,111,15],[113,3,113,12],[148,29,148,31],[149,29,149,31],[150,29,150,31],[152,27,152,35],[153,27,153,35],[145,29,145,31],[145,34,145,35],[146,29,146,31],[146,34,146,35],[147,29,147,31],[147,34,147,35],[137,27,140,35],[141,34,141,35],[142,28,143,28],[98,15,98,17],[105,13,105,21],[94,15,94,17],[95,13,95,14],[95,15,95,17],[98,13,98,14],[97,19,97,20],[98,19,98,20],[96,13,96,14],[60,13,60,14],[60,15,60,17],[60,19,60,20],[102,13,102,14],[102,15,102,17],[97,13,97,14],[67,15,67,17],[63,19,63,20],[99,13,99,14],[99,15,99,17],[93,15,93,17],[94,13,94,14],[65,13,65,14],[97,15,97,17],[68,13,68,14],[68,15,68,17],[69,13,69,14],[69,15,69,17],[71,15,71,17],[72,13,72,14],[72,15,72,17],[91,13,91,14],[99,19,99,20],[100,19,100,20],[51,19,51,20],[52,13,52,14],[52,15,52,17],[52,19,52,20],[53,13,53,14],[53,15,53,17],[53,19,53,20],[51,13,51,14],[51,15,51,17],[48,19,48,20],[49,13,49,14],[49,15,49,17],[49,19,49,20],[50,13,50,14],[50,15,50,17],[50,19,50,20],[48,13,48,14],[48,15,48,17],[45,19,45,20],[46,13,46,14],[46,15,46,17],[46,19,46,20],[47,13,47,14],[47,15,47,17],[47,19,47,20],[45,13,45,14],[45,15,45,17],[42,19,42,20],[43,13,43,14],[43,15,43,17],[43,19,43,20],[44,13,44,14],[44,15,44,17],[44,19,44,20],[42,13,42,14],[42,15,42,17],[39,19,39,20],[40,13,40,14],[40,15,40,17],[40,19,40,20],[41,13,41,14],[41,15,41,17],[41,19,41,20],[39,13,39,14],[39,15,39,17],[36,19,36,20],[37,13,37,14],[37,15,37,17],[37,19,37,20],[38,13,38,14],[38,15,38,17],[38,19,38,20],[36,13,36,14],[36,15,36,17],[33,19,33,20],[34,13,34,14],[34,15,34,17],[34,19,34,20],[35,13,35,14],[35,15,35,17],[35,19,35,20],[33,13,33,14],[33,15,33,17],[30,19,30,20],[31,13,31,14],[31,15,31,17],[31,19,31,20],[29,19,29,20],[27,13,27,14],[27,15,27,17],[32,15,32,17],[32,19,32,20],[30,13,30,14],[30,15,30,17],[28,13,28,14],[28,15,28,17],[28,19,28,20],[18,17,18,18],[18,10,18,12],[25,13,25,14],[25,15,25,17],[25,19,25,20],[26,13,26,14],[26,15,26,17],[26,19,26,20],[27,19,27,20],[20,13,20,14],[20,15,20,17],[21,13,21,14],[21,15,21,17],[24,13,24,14],[24,15,24,17],[21,19,21,20],[22,13,22,14],[22,15,22,17],[22,19,22,20],[23,13,23,14],[23,15,23,17],[23,19,23,20],[24,19,24,20],[24,5,24,6],[25,5,25,6],[26,5,26,6],[27,5,27,6],[28,5,28,6],[29,5,29,6],[54,3,54,4],[28,3,28,4],[36,5,36,6],[37,5,37,6],[55,3,55,4],[56,3,56,4],[57,3,57,4],[36,3,36,4],[37,3,37,4],[38,3,38,4],[39,3,39,4],[29,13,29,14],[29,15,29,17],[32,13,32,14],[40,3,40,4],[41,3,41,4],[54,13,54,14],[34,5,34,6],[29,3,29,4],[42,3,42,4],[43,3,43,4],[44,3,44,4],[45,3,45,4],[46,3,46,4],[47,3,47,4],[54,15,54,17],[35,5,35,6],[58,3,58,4],[48,5,48,6],[7,2,8,2],[86,5,86,6],[49,5,49,6],[50,5,50,6],[51,5,51,6],[52,5,52,6],[53,5,53,6],[58,5,58,6],[38,5,38,6],[39,5,39,6],[42,5,42,6],[43,5,43,6],[44,5,44,6],[45,5,45,6],[46,5,46,6],[47,5,47,6],[40,5,40,6],[41,5,41,6],[30,5,30,6],[31,5,31,6],[32,5,32,6],[33,5,33,6],[54,19,54,20],[59,5,59,6],[55,19,55,20],[56,13,56,14],[56,15,56,17],[56,19,56,20],[59,13,59,14],[59,15,59,17],[55,13,55,14],[55,15,55,17],[58,15,58,17],[54,5,54,6],[55,5,55,6],[56,5,56,6],[57,13,57,14],[57,15,57,17],[57,19,57,20],[58,13,58,14],[58,19,58,20],[59,19,59,20],[57,5,57,6],[60,3,60,4],[59,3,59,4],[48,3,48,4],[49,3,49,4],[50,3,50,4],[51,3,51,4],[52,3,52,4],[53,3,53,4],[142,29,143,31],[67,19,67,20],[69,19,69,20],[70,19,70,20],[92,3,92,4],[75,5,75,6],[76,5,76,6],[77,5,77,6],[78,5,78,6],[79,5,79,6],[76,3,76,4],[78,3,78,4],[79,3,79,4],[80,3,80,4],[70,13,70,14],[70,15,70,17],[13,3,13,12],[14,3,17,12],[5,13,5,14],[7,13,7,21],[6,13,6,14],[0,3,0,10],[0,11,0,12],[0,13,0,21],[1,3,1,10],[1,11,1,12],[1,13,1,21],[3,3,3,12],[4,11,4,12],[4,3,4,9],[2,3,2,12],[3,13,3,14],[4,13,4,14],[2,13,2,14],[3,19,3,20],[4,19,4,20],[5,19,5,20],[6,19,6,20],[2,17,4,17],[2,18,4,18],[9,3,9,4],[9,5,9,12],[10,3,10,4],[12,11,12,12],[10,5,10,12],[5,4,5,6],[5,7,5,9],[5,10,5,12],[6,7,6,8],[7,4,7,6],[7,7,7,12],[20,3,20,4],[20,5,20,6],[20,19,20,20],[13,17,13,18],[21,3,21,4],[21,5,21,6],[8,13,8,20],[12,5,12,6],[12,8,12,10],[10,13,10,20],[9,13,9,20],[12,17,12,18],[19,3,19,12],[19,13,19,21],[17,17,17,18],[11,3,12,4],[11,5,11,6],[11,8,11,10],[11,11,11,12],[11,17,11,18],[14,17,14,18],[15,17,15,18],[16,17,16,18],[8,3,8,12],[22,3,22,4],[23,3,23,4],[22,5,22,6],[23,5,23,6],[81,5,81,6],[82,5,82,6],[67,3,67,4],[67,5,67,6],[68,3,68,4],[68,5,68,6],[69,3,69,4],[69,5,69,6],[70,3,70,4],[70,5,70,6],[30,3,30,4],[31,3,31,4],[32,3,32,4],[33,3,33,4],[34,3,34,4],[35,3,35,4],[24,3,24,4],[25,3,25,4],[26,3,26,4],[27,3,27,4],[71,5,71,6],[72,3,72,4],[72,5,72,6],[71,13,71,14],[67,13,67,14],[89,19,89,20],[62,40,62,41],[63,3,63,4],[63,5,63,6],[64,3,64,4],[64,5,64,6],[66,15,66,17],[65,3,65,4],[65,5,65,6],[66,3,66,4],[66,5,66,6],[66,19,66,20],[62,28,62,29],[62,31,62,32],[62,34,62,35],[62,37,62,38],[62,9,62,11],[64,19,64,20],[65,19,65,20],[63,13,63,14],[63,15,63,17],[64,15,64,17],[64,13,64,14],[65,15,65,17],[66,13,66,14],[73,13,73,14],[73,15,73,17],[68,19,68,20],[71,19,71,20],[72,19,72,20],[73,19,73,20],[74,13,74,14],[75,3,75,4],[80,13,80,14],[118,4,118,5],[118,11,118,12],[93,13,93,14],[91,15,91,17],[89,5,89,6],[90,5,90,6],[89,13,89,14],[92,13,92,14],[92,15,92,17],[87,13,87,14],[87,15,87,17],[96,5,96,6],[92,5,92,6],[93,5,93,6],[94,5,94,6],[87,5,87,6],[88,5,88,6],[99,3,99,4],[94,3,94,4],[97,3,97,4],[98,3,98,4],[127,3,127,12],[123,3,123,12],[126,3,126,12],[73,5,73,6],[74,3,74,4],[74,5,74,6],[110,3,110,12],[97,5,97,6],[98,5,98,6],[95,5,95,6],[91,5,91,6],[101,5,101,6],[102,5,102,6],[99,5,99,6],[100,5,100,6],[83,5,83,6],[84,5,84,6],[85,5,85,6],[112,3,112,5],[100,3,100,4],[101,3,101,4],[102,3,102,4],[103,3,103,4],[90,3,90,4],[91,19,91,20],[92,19,92,20],[93,19,93,20],[133,3,133,12],[133,13,133,17],[130,3,130,12],[119,17,120,21],[124,3,124,10],[131,3,131,12],[132,8,132,9],[132,10,132,12],[132,13,132,17],[125,3,125,12],[128,4,128,12],[121,17,122,21],[119,3,119,11],[121,3,121,12],[122,3,122,11],[119,13,120,16],[120,3,120,12],[121,13,122,16],[129,3,129,12],[95,3,95,4],[96,3,96,4],[181,3,181,5],[181,6,181,12],[145,15,145,17],[145,3,145,12],[146,15,146,17],[145,20,145,21],[146,3,146,12],[138,3,138,12],[139,3,139,10],[140,3,140,12],[141,3,141,12],[142,3,142,12],[142,20,142,21],[147,15,147,17],[146,20,146,21],[147,3,147,12],[153,13,153,21],[148,15,148,17],[147,20,147,21],[148,3,148,12],[149,15,149,17],[149,3,149,12],[150,15,150,17],[165,3,165,12],[82,13,82,14],[82,15,82,17],[83,13,83,14],[190,3,190,4],[190,7,190,8],[191,3,191,4],[173,3,173,12],[174,3,174,12],[175,3,175,12],[176,3,176,5],[176,11,176,12],[177,4,177,6],[177,7,177,9],[177,10,177,12],[188,7,188,8],[184,3,184,4],[184,7,184,8],[186,7,186,8],[187,3,187,4],[187,7,187,8],[188,3,188,4],[182,3,182,5],[182,6,182,12],[180,9,180,11],[86,13,86,14],[88,13,88,14],[84,19,84,20],[85,19,85,20],[80,15,80,17],[81,19,81,20],[82,19,82,20],[74,19,74,20],[76,19,76,20],[77,19,77,20],[88,19,88,20],[88,15,88,17],[75,13,75,14],[78,19,78,20],[79,19,79,20],[80,19,80,20],[79,15,79,17],[85,13,85,14],[85,15,85,17],[83,19,83,20],[84,13,84,14],[84,15,84,17],[81,13,81,14],[81,15,81,17],[90,15,90,17],[90,19,90,20],[75,19,75,20],[74,15,74,17],[207,3,207,12],[203,3,203,12],[204,3,205,5],[204,6,204,9],[204,11,204,12],[205,6,205,9],[205,11,205,12],[75,15,75,17],[76,13,76,14],[76,15,76,17],[77,13,77,14],[77,15,77,17],[78,13,78,14],[78,15,78,17],[79,13,79,14],[83,15,83,17],[186,3,186,4],[87,19,87,20],[86,15,86,17],[86,19,86,20],[134,3,134,12],[134,13,134,17],[135,3,135,12],[135,13,135,17],[136,3,136,12],[137,7,137,11],[143,3,143,5],[138,13,141,21],[144,3,144,12],[165,13,165,21],[166,3,166,12],[166,13,166,21],[154,3,154,4],[154,5,154,8],[163,3,163,8],[163,9,163,10],[163,11,163,12],[157,6,157,8],[157,9,157,11],[160,3,160,8],[160,9,160,10],[160,11,160,12],[157,3,157,5],[196,3,196,11],[191,7,191,8],[192,3,192,4],[192,7,192,8],[193,3,193,4],[193,7,193,8],[89,15,89,17],[90,13,90,14],[189,7,189,8],[167,3,167,12],[172,3,172,8],[172,10,172,12],[167,13,167,21],[168,3,168,12],[168,13,169,21],[169,3,169,12],[170,3,170,12],[170,13,170,21],[171,3,171,8],[171,10,171,12],[151,15,151,17],[152,3,152,12],[152,13,152,21],[153,3,153,12],[261,7,262,7],[261,8,262,8],[261,6,262,6],[20,24,20,27],[49,24,50,26],[92,24,93,26],[244,2,245,2],[103,5,103,6],[202,3,202,12],[206,3,206,12],[198,3,198,11],[194,3,194,12],[183,10,183,12],[189,3,189,4],[197,3,197,11],[184,12,185,12],[185,3,185,4],[185,7,185,8],[178,7,178,8],[179,3,179,12],[180,4,180,5],[180,6,180,7],[195,3,195,11],[195,12,196,12]]}
["Yes",null,null,"Natural Resources Conservation Service - Pacific Islands",null,null,null,null,null,null,null,"Field Office:",null,"Information & Resources for Conservation Planners",null,null,null,null,null,null,null,null,null,null,"American Samoa"]
["Yes","yes",null,"Conservation Practice Implementation Requirements",null,null,null,null,null,null,null,null,null,"PIA e-FOTG",null,null,null,null,null,null,null,null,{"$f":"L2","v":0},null,"Guam"]
["Yes",null,"Clear Sheet",{"$f":"'Veg Guide Data Base'!A4","v":"Use the Forestry Linear Template for the Selected Practice"},null,null,null,null,null,null,null,null,null,"Total Plants or Acres Calculators",null,"Total plants","Total acres","Desired total plant count------>",{"$f":"IF(P4=0,\"-\",P4)","v":"-"},"Spacing from Trees/Acre",null,null,null,null,"Hilo",null,null,null,null,null,null,null,null,null,null,null,null,null,null,null,null,null,"2021-09-01"]
["Yes",null,null,"Version 7.0, October 2021",null,null,null,null,null,null,null,null,null,"Enter desired value",null,null,null,null,null,"Desired plants/ac:",null,null,null,null,"Hoolehua"]
["Yes",null,"Enter below the desired tree species count from VegSpec","Jobsheet Prepared for and by:",null,null,null,null,null,null,"Date:",{"$f":"'Veg Guide Data Base'!AQ3","v":"00:00:00"},null,"Within-row spacing (ft):",null,null,{"$f":"IF(P5=0,\"-\",P5)","v":"-"},null,null,"Planting acreage:",null,null,null,null,"Kahului"]
["Yes",null,null,"Client Name",{"$f":"'Veg Guide Data Base'!B1402","v":0},null,null,"     Business Name",null,null,{"$f":"'Veg Guide Data Base'!B1403","v":0},null,null,"Between-row spacing (ft):",null,null,{"$f":"IF(P6=0,\"-\",P6)","v":"-"},"Proj. ac---->",{"$f":"IF(L7=0,\"-\",L7)","v":"-"},"total plants req.:",null,{"$f":"IF(OR(V4=0,V5=0),\"-\",V4*V5)","v":"-"},null,null,"Kealakekua"]
["Yes",null,0,"Tract Number",{"$f":"'Veg Guide Data Base'!B1405","v":0},"Field Number(s)",{"$f":"'Veg Guide Data Base'!B1406","v":0},"Field Acres",null,{"$f":"'Veg Guide Data Base'!B1407","v":0},"Planned Amount",{"$f":"'Veg Guide Data Base'!B1408","v":0},"acres","Required acres in cell P7, required plants in cell Q7",null,{"$f":"IF(OR(P4=0,P5=0,P6=0),\"-\",P4*P5*P6/43560)","v":"-"},{"$f":"IFERROR(IF(OR(Q4=0,Q5=0,Q6=0),\"-\",Q4*43560/Q5/Q6),\"-\")","v":"-"},"Plants per acre---------->",{"$f":"IFERROR(IF(OR(S3=0,S6=0),\"-\",S3/S6),\"-\")","v":"-"},"Square spacing (ft):",null,{"$f":"IF(OR(V4=0,V5=0),\"-\",SQRT(43560/V4))","v":"-"},null,null,"Lihue"]
["Yes",null,"Enter below the desired shrub/vine species count from VegSpec","Planners Name",{"$f":"'Veg Guide Data Base'!B1398","v":0},null,null,{"$f":"IF(L7>J7,\"Planned Amount exceeds Field Acres\",\"\")","v":""},null,null,null,null,null,"Planting Layout & Quantities",null,null,null,null,null,null,null,null,null,null,"Oahu",null,"Container","A"]
["Yes",null,null,"Purpose & Site Conditions for Planned Practice:",null,null,null,null,null,null,null,null,null,"Of all planned species, specify within-row spacing for the species that will be planted closest together (ft):",null,null,null,null,null,null,null,null,null,null,"Palau",null,"Cutting","B"]
["Yes",null,0,"Resource Concern ",null,null,null,null,null,null,null,null,null,"Of all planned species, specify between-row spacing for the species that will be planted closest together (ft):",null,null,null,null,null,null,null,null,null,null,"Pohnpei",null,"Bare root","C"]
["Yes",null,"Enter below the desired tree species count from Var. Request","Primary Purpose ",null,null,null,null,null,null,null,null,null,"Total potential planting points in planned field area (excludes \"other\" plants in row 18 below):",null,null,null,null,null,null,null,{"$f":"IF(V9*V10<=0,\"\",ROUND(L7*43560/V9/V10,0))","v":""},null,null,"Saipan",null,null,"D"]
["Yes",null,0,"Planting Site Conditions:",null,"Site Rainfall (inches/year)",null,{"$f":"'Veg Guide Data Base'!C6","v":0},null,null,null,null,null,"Spacing group","Within-row spacing (ft)","Between-row spacing (ft)","Maximum plant quantity","Pre-existing plant quantity in field",null,"Quantity to plant","Difference available","Row subtotals",null,null,"Waimea",null,"Native","E"]
["Yes",null,"Enter below the desired shrub/vine species count from Var. Request",null,null,"Site Elevation (feet)",null,{"$f":"'Veg Guide Data Base'!C7","v":0},"Will Plantings be Irrigated by Automated System?",null,null,null,null,"A",null,null,{"$f":"IF(O13*P13<=0,\"\",ROUNDDOWN($L$7*43560/O13/P13,0))","v":""},null,null,null,{"$f":"IF(COUNT(O13:R13)<4,\"\",Q13-R13-T13)","v":""},{"$f":"R13+T13","v":0},"Yes",null,"Marshall Islands",null,"Introduced","Other"]
["Yes",null,0,"Summary of Conservation Practice:",null,null,null,null,null,null,null,null,null,"B",null,null,{"$f":"IF(O14*P14<=0,\"\",ROUNDDOWN($L$7*43560/O14/P14-SUM(R13:T13),0))","v":""},null,null,null,{"$f":"IF(COUNT(O14:R14)<4,\"\",Q14-R14-T14)","v":""},{"$f":"R14+T14","v":0},"No"]
["Yes",null,null,null,null,null,null,null,null,null,null,null,null,"C",null,null,{"$f":"IF(O15*P15<=0,\"\",ROUNDDOWN($L$7*43560/O15/P15-SUM(R13:T14),0))","v":""},null,null,null,{"$f":"IF(COUNT(O15:R15)<4,\"\",Q15-R15-T15)","v":""},{"$f":"R15+T15","v":0},null,null,null,null,"No"]
["Yes",null,null,null,null,null,null,null,null,null,null,null,null,"D",null,null,{"$f":"IF(O16*P16<=0,\"\",ROUNDDOWN($L$7*43560/O16/P16-SUM(R13:T15),0))","v":""},null,null,null,{"$f":"IF(COUNT(O16:R16)<4,\"\",Q16-R16-T16)","v":""},{"$f":"R16+T16","v":0},null,null,null,null,"Yes"]
["Yes",null,null,null,null,null,null,null,null,null,null,null,null,"E",null,null,{"$f":"IF(O17*P17<=0,\"\",ROUNDDOWN($L$7*43560/O17/P17-SUM(R13:T16),0))","v":""},null,null,null,{"$f":"IF(COUNT(O17:R17)<4,\"\",Q17-R17-T17)","v":""},{"$f":"R17+T17","v":0}]
["Yes",null,null,null,null,null,null,null,null,null,null,null,null,"Other","see notes","below",null,null,null,null,null,{"$f":"T18","v":0}]
["Yes",null,null,"Plant Species and Spacing (also see Job Sketch):",null,null,null,null,null,null,null,null,null,"Column Totals",null,null,null,{"$f":"SUM(R13:S17)","v":0},null,{"$f":"SUM(T13:T18)","v":0},null,{"$f":"SUM(V13:V18)","v":0}]
[{"$f":"_xlfn.SEQUENCE(C7+2,1,1,0)","v":1},null,null,"Tree Species",null,null,null,null,null,null,null,null,null,"Tree Species"]
[1,null,null,"Common Name",null,"Scientific Name",null,"Spacing group","Planting material","Origin","Within row spacing","Between row spacing","Quantity to plant","Common Name",null,"Scientific Name",null,null,"HPWRA score","Is tree species Threatened or Endangered?",null,"Typical spacing (ft)"]
[null,null,null,null,null,{"$f":"IFERROR(INDEX($D$264:$D$888,MATCH($D22,$C$264:$C$888,0)),\"\")","v":""},null,null,null,{"$f":"IF(F22=\"\",\"\",IF(INDEX('Veg Guide Data Base'!$BZ$29:$DC$600,MATCH(F22,'Veg Guide Data Base'!$AZ$29:$AZ$600,0),MATCH('Veg Guide Data Base'!$AC$2,'Veg Guide Data Base'!$BZ$18:$DC$18,0))=\"Yes\",\"Native\",\"Introduced\"))","v":""},{"$f":"IF(H22=\"\",\"\",VLOOKUP(H22,$N$13:$P$18,2,FALSE))","v":""},{"$f":"IF(H22=\"\",\"\",VLOOKUP(H22,$N$13:$P$18,3,FALSE))","v":""},null,{"$f":"IF(D22=\"\",\"\",D22)","v":""},null,{"$f":"IF(F22=\"\",\"\",F22)","v":""},null,null,{"$f":"IF(F22=\"\",\"\",VLOOKUP(F22,'Veg Guide Data Base'!$AZ$29:$BV$600,23,FALSE))","v":""},null,null,{"$f":"IF(F22=\"\",\"\",VLOOKUP(F22,'Veg Guide Data Base'!$AZ$29:$FJ$600,97,FALSE))","v":""}]
[null,null,null,null,null,{"$f":"IFERROR(INDEX($D$264:$D$888,MATCH($D23,$C$264:$C$888,0)),\"\")","v":""},null,null,null,{"$f":"IF(F23=\"\",\"\",IF(INDEX('Veg Guide Data Base'!$BZ$29:$DC$600,MATCH(F23,'Veg Guide Data Base'!$AZ$29:$AZ$600,0),MATCH('Veg Guide Data Base'!$AC$2,'Veg Guide Data Base'!$BZ$18:$DC$18,0))=\"Yes\",\"Native\",\"Introduced\"))","v":""},{"$f":"IF(H23=\"\",\"\",VLOOKUP(H23,$N$13:$P$18,2,FALSE))","v":""},{"$f":"IF(H23=\"\",\"\",VLOOKUP(H23,$N$13:$P$18,3,FALSE))","v":""},null,{"$f":"IF(D23=\"\",\"\",D23)","v":""},null,{"$f":"IF(F23=\"\",\"\",F23)","v":""},null,null,{"$f":"IF(F23=\"\",\"\",VLOOKUP(F23,'Veg Guide Data Base'!$AZ$29:$BV$600,23,FALSE))","v":""},null,null,{"$f":"IF(F23=\"\",\"\",VLOOKUP(F23,'Veg Guide Data Base'!$AZ$29:$FJ$600,97,FALSE))","v":""}]
[null,null,null,null,null,{"$f":"IFERROR(INDEX($D$264:$D$888,MATCH($D24,$C$264:$C$888,0)),\"\")","v":""},null,null,null,{"$f":"IF(F24=\"\",\"\",IF(INDEX('Veg Guide Data Base'!$BZ$29:$DC$600,MATCH(F24,'Veg Guide Data Base'!$AZ$29:$AZ$600,0),MATCH('Veg Guide Data Base'!$AC$2,'Veg Guide Data Base'!$BZ$18:$DC$18,0))=\"Yes\",\"Native\",\"Introduced\"))","v":""},"","",null,"",null,"",null,null,{"$f":"IF(F24=\"\",\"\",VLOOKUP(F24,'Veg Guide Data Base'!$AZ$29:$BV$600,23,FALSE))","v":""},null,null,{"$f":"IF(F24=\"\",\"\",VLOOKUP(F24,'Veg Guide Data Base'!$AZ$29:$FJ$600,97,FALSE))","v":""}]
[null,null,null,null,null,"",null,null,null,{"$f":"IF(F25=\"\",\"\",IF(INDEX('Veg Guide Data Base'!$BZ$29:$DC$600,MATCH(F25,'Veg Guide Data Base'!$AZ$29:$AZ$600,0),MATCH('Veg Guide Data Base'!$AC$2,'Veg Guide Data Base'!$BZ$18:$DC$18,0))=\"Yes\",\"Native\",\"Introduced\"))","v":""},"","",null,"",null,"",null,null,{"$f":"IF(F25=\"\",\"\",VLOOKUP(F25,'Veg Guide Data Base'!$AZ$29:$BV$600,23,FALSE))","v":""},null,null,{"$f":"IF(F25=\"\",\"\",VLOOKUP(F25,'Veg Guide Data Base'!$AZ$29:$FJ$600,97,FALSE))","v":""}]
[null,null,null,null,null,"",null,null,null,{"$f":"IF(F26=\"\",\"\",IF(INDEX('Veg Guide Data Base'!$BZ$29:$DC$600,MATCH(F26,'Veg Guide Data Base'!$AZ$29:$AZ$600,0),MATCH('Veg Guide Data Base'!$AC$2,'Veg Guide Data Base'!$BZ$18:$DC$18,0))=\"Yes\",\"Native\",\"Introduced\"))","v":""},"","",null,"",null,"",null,null,{"$f":"IF(F26=\"\",\"\",VLOOKUP(F26,'Veg Guide Data Base'!$AZ$29:$BV$600,23,FALSE))","v":""},null,null,{"$f":"IF(F26=\"\",\"\",VLOOKUP(F26,'Veg Guide Data Base'!$AZ$29:$FJ$600,97,FALSE))","v":""}]
[null,null,null,null,null,"",null,null,null,{"$f":"IF(F27=\"\",\"\",IF(INDEX('Veg Guide Data Base'!$BZ$29:$DC$600,MATCH(F27,'Veg Guide Data Base'!$AZ$29:$AZ$600,0),MATCH('Veg Guide Data Base'!$AC$2,'Veg Guide Data Base'!$BZ$18:$DC$18,0))=\"Yes\",\"Native\",\"Introduced\"))","v":""},"","",null,"",null,"",null,null,{"$f":"IF(F27=\"\",\"\",VLOOKUP(F27,'Veg Guide Data Base'!$AZ$29:$BV$600,23,FALSE))","v":""},null,null,{"$f":"IF(F27=\"\",\"\",VLOOKUP(F27,'Veg Guide Data Base'!$AZ$29:$FJ$600,97,FALSE))","v":""}]
[null,null,null,null,null,"",null,null,null,{"$f":"IF(F28=\"\",\"\",IF(INDEX('Veg Guide Data Base'!$BZ$29:$DC$600,MATCH(F28,'Veg Guide Data Base'!$AZ$29:$AZ$600,0),MATCH('Veg Guide Data Base'!$AC$2,'Veg Guide Data Base'!$BZ$18:$DC$18,0))=\"Yes\",\"Native\",\"Introduced\"))","v":""},"","",null,"",null,"",null,null,{"$f":"IF(F28=\"\",\"\",VLOOKUP(F28,'Veg Guide Data Base'!$AZ$29:$BV$600,23,FALSE))","v":""},null,null,{"$f":"IF(F28=\"\",\"\",VLOOKUP(F28,'Veg Guide Data Base'!$AZ$29:$FJ$600,97,FALSE))","v":""}]
[null,null,null,null,null,"",null,null,null,{"$f":"IF(F29=\"\",\"\",IF(INDEX('Veg Guide Data Base'!$BZ$29:$DC$600,MATCH(F29,'Veg Guide Data Base'!$AZ$29:$AZ$600,0),MATCH('Veg Guide Data Base'!$AC$2,'Veg Guide Data Base'!$BZ$18:$DC$18,0))=\"Yes\",\"Native\",\"Introduced\"))","v":""},"","",null,"",null,"",null,null,{"$f":"IF(F29=\"\",\"\",VLOOKUP(F29,'Veg Guide Data Base'!$AZ$29:$BV$600,23,FALSE))","v":""},null,null,{"$f":"IF(F29=\"\",\"\",VLOOKUP(F29,'Veg Guide Data Base'!$AZ$29:$FJ$600,97,FALSE))","v":""}]
[null,null,null,null,null,"",null,null,null,{"$f":"IF(F30=\"\",\"\",IF(INDEX('Veg Guide Data Base'!$BZ$29:$DC$600,MATCH(F30,'Veg Guide Data Base'!$AZ$29:$AZ$600,0),MATCH('Veg Guide Data Base'!$AC$2,'Veg Guide Data Base'!$BZ$18:$DC$18,0))=\"Yes\",\"Native\",\"Introduced\"))","v":""},"","",null,"",null,"",null,null,{"$f":"IF(F30=\"\",\"\",VLOOKUP(F30,'Veg Guide Data Base'!$AZ$29:$BV$600,23,FALSE))","v":""},null,null,{"$f":"IF(F30=\"\",\"\",VLOOKUP(F30,'Veg Guide Data Base'!$AZ$29:$FJ$600,97,FALSE))","v":""}]
[null,null,null,null,null,"",null,null,null,{"$f":"IF(F31=\"\",\"\",IF(INDEX('Veg Guide Data Base'!$BZ$29:$DC$600,MATCH(F31,'Veg Guide Data Base'!$AZ$29:$AZ$600,0),MATCH('Veg Guide Data Base'!$AC$2,'Veg Guide Data Base'!$BZ$18:$DC$18,0))=\"Yes\",\"Native\",\"Introduced\"))","v":""},"","",null,"",null,"",null,null,{"$f":"IF(F31=\"\",\"\",VLOOKUP(F31,'Veg Guide Data Base'!$AZ$29:$BV$600,23,FALSE))","v":""},null,null,{"$f":"IF(F31=\"\",\"\",VLOOKUP(F31,'Veg Guide Data Base'!$AZ$29:$FJ$600,97,FALSE))","v":""}]
[null,null,null,null,null,"",null,null,null,{"$f":"IF(F32=\"\",\"\",IF(INDEX('Veg Guide Data Base'!$BZ$29:$DC$600,MATCH(F32,'Veg Guide Data Base'!$AZ$29:$AZ$600,0),MATCH('Veg Guide Data Base'!$AC$2,'Veg Guide Data Base'!$BZ$18:$DC$18,0))=\"Yes\",\"Native\",\"Introduced\"))","v":""},"","",null,"",null,"",null,null,{"$f":"IF(F32=\"\",\"\",VLOOKUP(F32,'Veg Guide Data Base'!$AZ$29:$BV$600,23,FALSE))","v":""},null,null,{"$f":"IF(F32=\"\",\"\",VLOOKUP(F32,'Veg Guide Data Base'!$AZ$29:$FJ$600,97,FALSE))","v":""}]
[null,null,null,null,null,"",null,null,null,{"$f":"IF(F33=\"\",\"\",IF(INDEX('Veg Guide Data Base'!$BZ$29:$DC$600,MATCH(F33,'Veg Guide Data Base'!$AZ$29:$AZ$600,0),MATCH('Veg Guide Data Base'!$AC$2,'Veg Guide Data Base'!$BZ$18:$DC$18,0))=\"Yes\",\"Native\",\"Introduced\"))","v":""},"","",null,"",null,"",null,null,{"$f":"IF(F33=\"\",\"\",VLOOKUP(F33,'Veg Guide Data Base'!$AZ$29:$BV$600,23,FALSE))","v":""},null,null,{"$f":"IF(F33=\"\",\"\",VLOOKUP(F33,'Veg Guide Data Base'!$AZ$29:$FJ$600,97,FALSE))","v":""}]
[null,null,null,null,null,"",null,null,null,{"$f":"IF(F34=\"\",\"\",IF(INDEX('Veg Guide Data Base'!$BZ$29:$DC$600,MATCH(F34,'Veg Guide Data Base'!$AZ$29:$AZ$600,0),MATCH('Veg Guide Data Base'!$AC$2,'Veg Guide Data Base'!$BZ$18:$DC$18,0))=\"Yes\",\"Native\",\"Introduced\"))","v":""},"","",null,"",null,"",null,null,{"$f":"IF(F34=\"\",\"\",VLOOKUP(F34,'Veg Guide Data Base'!$AZ$29:$BV$600,23,FALSE))","v":""},null,null,{"$f":"IF(F34=\"\",\"\",VLOOKUP(F34,'Veg Guide Data Base'!$AZ$29:$FJ$600,97,FALSE))","v":""}]
[null,null,null,null,null,"",null,null,null,{"$f":"IF(F35=\"\",\"\",IF(INDEX('Veg Guide Data Base'!$BZ$29:$DC$600,MATCH(F35,'Veg Guide Data Base'!$AZ$29:$AZ$600,0),MATCH('Veg Guide Data Base'!$AC$2,'Veg Guide Data Base'!$BZ$18:$DC$18,0))=\"Yes\",\"Native\",\"Introduced\"))","v":""},"","",null,"",null,"",null,null,{"$f":"IF(F35=\"\",\"\",VLOOKUP(F35,'Veg Guide Data Base'!$AZ$29:$BV$600,23,FALSE))","v":""},null,null,{"$f":"IF(F35=\"\",\"\",VLOOKUP(F35,'Veg Guide Data Base'!$AZ$29:$FJ$600,97,FALSE))","v":""}]
[null,null,null,null,null,"",null,null,null,{"$f":"IF(F36=\"\",\"\",IF(INDEX('Veg Guide Data Base'!$BZ$29:$DC$600,MATCH(F36,'Veg Guide Data Base'!$AZ$29:$AZ$600,0),MATCH('Veg Guide Data Base'!$AC$2,'Veg Guide Data Base'!$BZ$18:$DC$18,0))=\"Yes\",\"Native\",\"Introduced\"))","v":""},"","",null,"",null,"",null,null,{"$f":"IF(F36=\"\",\"\",VLOOKUP(F36,'Veg Guide Data Base'!$AZ$29:$BV$600,23,FALSE))","v":""},null,null,{"$f":"IF(F36=\"\",\"\",VLOOKUP(F36,'Veg Guide Data Base'!$AZ$29:$FJ$600,97,FALSE))","v":""}]
[null,null,null,null,null,"",null,null,null,{"$f":"IF(F37=\"\",\"\",IF(INDEX('Veg Guide Data Base'!$BZ$29:$DC$600,MATCH(F37,'Veg Guide Data Base'!$AZ$29:$AZ$600,0),MATCH('Veg Guide Data Base'!$AC$2,'Veg Guide Data Base'!$BZ$18:$DC$18,0))=\"Yes\",\"Native\",\"Introduced\"))","v":""},"","",null,"",null,"",null,null,{"$f":"IF(F37=\"\",\"\",VLOOKUP(F37,'Veg Guide Data Base'!$AZ$29:$BV$600,23,FALSE))","v":""},null,null,{"$f":"IF(F37=\"\",\"\",VLOOKUP(F37,'Veg Guide Data Base'!$AZ$29:$FJ$600,97,FALSE))","v":""}]
[null,null,null,null,null,"",null,null,null,{"$f":"IF(F38=\"\",\"\",IF(INDEX('Veg Guide Data Base'!$BZ$29:$DC$600,MATCH(F38,'Veg Guide Data Base'!$AZ$29:$AZ$600,0),MATCH('Veg Guide Data Base'!$AC$2,'Veg Guide Data Base'!$BZ$18:$DC$18,0))=\"Yes\",\"Native\",\"Introduced\"))","v":""},"","",null,"",null,"",null,null,{"$f":"IF(F38=\"\",\"\",VLOOKUP(F38,'Veg Guide Data Base'!$AZ$29:$BV$600,23,FALSE))","v":""},null,null,{"$f":"IF(F38=\"\",\"\",VLOOKUP(F38,'Veg Guide Data Base'!$AZ$29:$FJ$600,97,FALSE))","v":""}]
[null,null,null,null,null,"",null,null,null,{"$f":"IF(F39=\"\",\"\",IF(INDEX('Veg Guide Data Base'!$BZ$29:$DC$600,MATCH(F39,'Veg Guide Data Base'!$AZ$29:$AZ$600,0),MATCH('Veg Guide Data Base'!$AC$2,'Veg Guide Data Base'!$BZ$18:$DC$18,0))=\"Yes\",\"Native\",\"Introduced\"))","v":""},"","",null,"",null,"",null,null,{"$f":"IF(F39=\"\",\"\",VLOOKUP(F39,'Veg Guide Data Base'!$AZ$29:$BV$600,23,FALSE))","v":""},null,null,{"$f":"IF(F39=\"\",\"\",VLOOKUP(F39,'Veg Guide Data Base'!$AZ$29:$FJ$600,97,FALSE))","v":""}]
[null,null,null,null,null,"",null,null,null,{"$f":"IF(F40=\"\",\"\",IF(INDEX('Veg Guide Data Base'!$BZ$29:$DC$600,MATCH(F40,'Veg Guide Data Base'!$AZ$29:$AZ$600,0),MATCH('Veg Guide Data Base'!$AC$2,'Veg Guide Data Base'!$BZ$18:$DC$18,0))=\"Yes\",\"Native\",\"Introduced\"))","v":""},"","",null,"",null,"",null,null,{"$f":"IF(F40=\"\",\"\",VLOOKUP(F40,'Veg Guide Data Base'!$AZ$29:$BV$600,23,FALSE))","v":""},null,null,{"$f":"IF(F40=\"\",\"\",VLOOKUP(F40,'Veg Guide Data Base'!$AZ$29:$FJ$600,97,FALSE))","v":""}]
[null,null,null,null,null,"",null,null,null,{"$f":"IF(F41=\"\",\"\",IF(INDEX('Veg Guide Data Base'!$BZ$29:$DC$600,MATCH(F41,'Veg Guide Data Base'!$AZ$29:$AZ$600,0),MATCH('Veg Guide Data Base'!$AC$2,'Veg Guide Data Base'!$BZ$18:$DC$18,0))=\"Yes\",\"Native\",\"Introduced\"))","v":""},"","",null,"",null,"",null,null,{"$f":"IF(F41=\"\",\"\",VLOOKUP(F41,'Veg Guide Data Base'!$AZ$29:$BV$600,23,FALSE))","v":""},null,null,{"$f":"IF(F41=\"\",\"\",VLOOKUP(F41,'Veg Guide Data Base'!$AZ$29:$FJ$600,97,FALSE))","v":""}]
[null,null,null,null,null,"",null,null,null,{"$f":"IF(F42=\"\",\"\",IF(INDEX('Veg Guide Data Base'!$BZ$29:$DC$600,MATCH(F42,'Veg Guide Data Base'!$AZ$29:$AZ$600,0),MATCH('Veg Guide Data Base'!$AC$2,'Veg Guide Data Base'!$BZ$18:$DC$18,0))=\"Yes\",\"Native\",\"Introduced\"))","v":""},"","",null,"",null,"",null,null,{"$f":"IF(F42=\"\",\"\",VLOOKUP(F42,'Veg Guide Data Base'!$AZ$29:$BV$600,23,FALSE))","v":""},null,null,{"$f":"IF(F42=\"\",\"\",VLOOKUP(F42,'Veg Guide Data Base'!$AZ$29:$FJ$600,97,FALSE))","v":""}]
[null,null,null,null,null,"",null,null,null,{"$f":"IF(F43=\"\",\"\",IF(INDEX('Veg Guide Data Base'!$BZ$29:$DC$600,MATCH(F43,'Veg Guide Data Base'!$AZ$29:$AZ$600,0),MATCH('Veg Guide Data Base'!$AC$2,'Veg Guide Data Base'!$BZ$18:$DC$18,0))=\"Yes\",\"Native\",\"Introduced\"))","v":""},"","",null,"",null,"",null,null,{"$f":"IF(F43=\"\",\"\",VLOOKUP(F43,'Veg Guide Data Base'!$AZ$29:$BV$600,23,FALSE))","v":""},null,null,{"$f":"IF(F43=\"\",\"\",VLOOKUP(F43,'Veg Guide Data Base'!$AZ$29:$FJ$600,97,FALSE))","v":""}]
[null,null,null,null,null,"",null,null,null,{"$f":"IF(F44=\"\",\"\",IF(INDEX('Veg Guide Data Base'!$BZ$29:$DC$600,MATCH(F44,'Veg Guide Data Base'!$AZ$29:$AZ$600,0),MATCH('Veg Guide Data Base'!$AC$2,'Veg Guide Data Base'!$BZ$18:$DC$18,0))=\"Yes\",\"Native\",\"Introduced\"))","v":""},"","",null,"",null,"",null,null,{"$f":"IF(F44=\"\",\"\",VLOOKUP(F44,'Veg Guide Data Base'!$AZ$29:$BV$600,23,FALSE))","v":""},null,null,{"$f":"IF(F44=\"\",\"\",VLOOKUP(F44,'Veg Guide Data Base'!$AZ$29:$FJ$600,97,FALSE))","v":""}]
[null,null,null,null,null,"",null,null,null,{"$f":"IF(F45=\"\",\"\",IF(INDEX('Veg Guide Data Base'!$BZ$29:$DC$600,MATCH(F45,'Veg Guide Data Base'!$AZ$29:$AZ$600,0),MATCH('Veg Guide Data Base'!$AC$2,'Veg Guide Data Base'!$BZ$18:$DC$18,0))=\"Yes\",\"Native\",\"Introduced\"))","v":""},"","",null,"",null,"",null,null,{"$f":"IF(F45=\"\",\"\",VLOOKUP(F45,'Veg Guide Data Base'!$AZ$29:$BV$600,23,FALSE))","v":""},null,null,{"$f":"IF(F45=\"\",\"\",VLOOKUP(F45,'Veg Guide Data Base'!$AZ$29:$FJ$600,97,FALSE))","v":""}]
[null,null,null,null,null,"",null,null,null,{"$f":"IF(F46=\"\",\"\",IF(INDEX('Veg Guide Data Base'!$BZ$29:$DC$600,MATCH(F46,'Veg Guide Data Base'!$AZ$29:$AZ$600,0),MATCH('Veg Guide Data Base'!$AC$2,'Veg Guide Data Base'!$BZ$18:$DC$18,0))=\"Yes\",\"Native\",\"Introduced\"))","v":""},"","",null,"",null,"",null,null,{"$f":"IF(F46=\"\",\"\",VLOOKUP(F46,'Veg Guide Data Base'!$AZ$29:$BV$600,23,FALSE))","v":""},null,null,{"$f":"IF(F46=\"\",\"\",VLOOKUP(F46,'Veg Guide Data Base'!$AZ$29:$FJ$600,97,FALSE))","v":""}]
[null,null,null,null,null,"",null,null,null,{"$f":"IF(F47=\"\",\"\",IF(INDEX('Veg Guide Data Base'!$BZ$29:$DC$600,MATCH(F47,'Veg Guide Data Base'!$AZ$29:$AZ$600,0),MATCH('Veg Guide Data Base'!$AC$2,'Veg Guide Data Base'!$BZ$18:$DC$18,0))=\"Yes\",\"Native\",\"Introduced\"))","v":""},"","",null,"",null,"",null,null,{"$f":"IF(F47=\"\",\"\",VLOOKUP(F47,'Veg Guide Data Base'!$AZ$29:$BV$600,23,FALSE))","v":""},null,null,{"$f":"IF(F47=\"\",\"\",VLOOKUP(F47,'Veg Guide Data Base'!$AZ$29:$FJ$600,97,FALSE))","v":""}]
[null,null,null,null,null,"",null,null,null,{"$f":"IF(F48=\"\",\"\",IF(INDEX('Veg Guide Data Base'!$BZ$29:$DC$600,MATCH(F48,'Veg Guide Data Base'!$AZ$29:$AZ$600,0),MATCH('Veg Guide Data Base'!$AC$2,'Veg Guide Data Base'!$BZ$18:$DC$18,0))=\"Yes\",\"Native\",\"Introduced\"))","v":""},"","",null,"",null,"",null,null,{"$f":"IF(F48=\"\",\"\",VLOOKUP(F48,'Veg Guide Data Base'!$AZ$29:$BV$600,23,FALSE))","v":""},null,null,{"$f":"IF(F48=\"\",\"\",VLOOKUP(F48,'Veg Guide Data Base'!$AZ$29:$FJ$600,97,FALSE))","v":""}]
[null,null,null,null,null,"",null,null,null,{"$f":"IF(F49=\"\",\"\",IF(INDEX('Veg Guide Data Base'!$BZ$29:$DC$600,MATCH(F49,'Veg Guide Data Base'!$AZ$29:$AZ$600,0),MATCH('Veg Guide Data Base'!$AC$2,'Veg Guide Data Base'!$BZ$18:$DC$18,0))=\"Yes\",\"Native\",\"Introduced\"))","v":""},"","",null,"",null,"",null,null,{"$f":"IF(F49=\"\",\"\",VLOOKUP(F49,'Veg Guide Data Base'!$AZ$29:$BV$600,23,FALSE))","v":""},null,null,{"$f":"IF(F49=\"\",\"\",VLOOKUP(F49,'Veg Guide Data Base'!$AZ$29:$FJ$600,97,FALSE))","v":""}]
[null,null,null,null,null,"",null,null,null,{"$f":"IF(F50=\"\",\"\",IF(INDEX('Veg Guide Data Base'!$BZ$29:$DC$600,MATCH(F50,'Veg Guide Data Base'!$AZ$29:$AZ$600,0),MATCH('Veg Guide Data Base'!$AC$2,'Veg Guide Data Base'!$BZ$18:$DC$18,0))=\"Yes\",\"Native\",\"Introduced\"))","v":""},"","",null,"",null,"",null,null,{"$f":"IF(F50=\"\",\"\",VLOOKUP(F50,'Veg Guide Data Base'!$AZ$29:$BV$600,23,FALSE))","v":""},null,null,{"$f":"IF(F50=\"\",\"\",VLOOKUP(F50,'Veg Guide Data Base'!$AZ$29:$FJ$600,97,FALSE))","v":""}]
[null,null,null,null,null,"",null,null,null,null,"","",null,"",null,"",null,null,{"$f":"IF(F51=\"\",\"\",VLOOKUP(F51,'Veg Guide Data Base'!$AZ$29:$BV$600,23,FALSE))","v":""},null,null,{"$f":"IF(F51=\"\",\"\",VLOOKUP(F51,'Veg Guide Data Base'!$AZ$29:$FJ$600,97,FALSE))","v":""}]
[{"$f":"IFERROR(_xlfn.SEQUENCE(C12,1,1,0),0)","v":0},null,"Var. Request additions will appear at the end of the drop down list.",null,null,{"$f":"IFERROR(INDEX($D$264:$D$888,MATCH($D52,$C$264:$C$888,0)),\"\")","v":""},null,null,null,null,{"$f":"IF(H52=\"\",\"\",VLOOKUP(H52,$N$13:$P$18,2,FALSE))","v":""},"",null,"",null,"",null,null,{"$f":"IF(D52=\"\",\"\",VLOOKUP(D52,'Variance Request'!$C$15:$D$39,2,FALSE))","v":""}]
[null,null,null,null,null,{"$f":"IFERROR(INDEX($D$264:$D$888,MATCH($D53,$C$264:$C$888,0)),\"\")","v":""},null,null,null,null,"","",null,"",null,"",null,null,{"$f":"IF(D53=\"\",\"\",VLOOKUP(D53,'Variance Request'!$C$15:$D$39,2,FALSE))","v":""}]
[null,null,null,null,null,"",null,null,null,null,"","",null,"",null,"",null,null,{"$f":"IF(D54=\"\",\"\",VLOOKUP(D54,'Variance Request'!$C$15:$D$39,2,FALSE))","v":""}]
[null,null,null,null,null,"",null,null,null,null,"","",null,"",null,"",null,null,{"$f":"IF(D55=\"\",\"\",VLOOKUP(D55,'Variance Request'!$C$15:$D$39,2,FALSE))","v":""}]
[null,null,null,null,null,"",null,null,null,null,"","",null,"",null,"",null,null,{"$f":"IF(D56=\"\",\"\",VLOOKUP(D56,'Variance Request'!$C$15:$D$39,2,FALSE))","v":""}]
[null,null,null,null,null,"",null,null,null,null,"","",null,{"$f":"IF(D57=\"\",\"\",D57)","v":""},null,"",null,null,{"$f":"IF(D57=\"\",\"\",VLOOKUP(D57,'Variance Request'!$C$15:$D$39,2,FALSE))","v":""}]
[null,null,null,null,null,"",null,null,null,null,"","",null,"",null,"",null,null,{"$f":"IF(D58=\"\",\"\",VLOOKUP(D58,'Variance Request'!$C$15:$D$39,2,FALSE))","v":""}]
[null,null,null,null,null,"",null,null,null,null,"","",null,"",null,"",null,null,{"$f":"IF(D59=\"\",\"\",VLOOKUP(D59,'Variance Request'!$C$15:$D$39,2,FALSE))","v":""}]
[null,null,null,null,null,"",null,null,null,null,"","",null,"",null,"",null,null,{"$f":"IF(D60=\"\",\"\",VLOOKUP(D60,'Variance Request'!$C$15:$D$39,2,FALSE))","v":""}]
[null,null,null,null,null,"",null,null,null,null,"","",null,"",null,"",null,null,{"$f":"IF(D61=\"\",\"\",VLOOKUP(D61,'Variance Request'!$C$15:$D$39,2,FALSE))","v":""}]
[1,null,null,"Planned total for trees:",null,"Trees per acre:",null,null,{"$f":"IFERROR(M62/L7,0)","v":0},"Total tree count:",null,null,{"$f":"SUM(M22:M61)","v":0}]
[{"$f":"_xlfn.SEQUENCE(C10+2,1,1,0)","v":1},null,null,"Shrub & Vine Species",null,"Minimum Spacing (feet):",null,null,{"$f":"IF(AR65=0,\"-\",5)","v":"-"},"Maximum Spacing (feet):",null,null,{"$f":"IF(AR65=0,\"-\",MAX(AR65:AS65))","v":"-"},"Shrubs typically do not exceed 12 feet in height & are usually planted 5-10 feet from adjacent trees/shrubs."]
[1,null,null,"Common Name",null,"Scientific Name",null,"Spacing group","Planting material","Origin","Within row spacing","Between row spacing","Quantity to plant","Common Name",null,"Scientific Name",null,null,"HPWRA score","Is the species Threatened or Endangered?",null,"Type"]
[null,null,null,null,null,{"$f":"IFERROR(INDEX($D$264:$D$888,MATCH($D65,$C$264:$C$888,0)),\"\")","v":""},null,null,null,{"$f":"IF(F65=\"\",\"\",IF(INDEX('Veg Guide Data Base'!$BZ$29:$DC$600,MATCH(F65,'Veg Guide Data Base'!$AZ$29:$AZ$600,0),MATCH('Veg Guide Data Base'!$AC$2,'Veg Guide Data Base'!$BZ$18:$DC$18,0))=\"Yes\",\"Native\",\"Introduced\"))","v":""},{"$f":"IF(H65=\"\",\"\",VLOOKUP(H65,$N$13:$P$18,2,FALSE))","v":""},{"$f":"IF(H65=\"\",\"\",VLOOKUP(H65,$N$13:$P$18,3,FALSE))","v":""},null,{"$f":"IF(D65=\"\",\"\",D65)","v":""},null,{"$f":"IF(F65=\"\",\"\",F65)","v":""},null,null,{"$f":"IF(F65=\"\",\"\",VLOOKUP(F65,'Veg Guide Data Base'!$AZ$29:$BV$600,23,FALSE))","v":""},null,null,{"$f":"IF(D65=\"\",\"\",IF(VLOOKUP(F65,'Veg Guide Data Base'!$AZ$29:$BS$600,20,FALSE)=\"Shrub\",\"Shrub\",\"Vine\"))","v":""}]
[null,null,null,null,null,"",null,null,null,{"$f":"IF(F66=\"\",\"\",IF(INDEX('Veg Guide Data Base'!$BZ$29:$DC$600,MATCH(F66,'Veg Guide Data Base'!$AZ$29:$AZ$600,0),MATCH('Veg Guide Data Base'!$AC$2,'Veg Guide Data Base'!$BZ$18:$DC$18,0))=\"Yes\",\"Native\",\"Introduced\"))","v":""},{"$f":"IF(H66=\"\",\"\",VLOOKUP(H66,$N$13:$P$18,2,FALSE))","v":""},{"$f":"IF(H66=\"\",\"\",VLOOKUP(H66,$N$13:$P$18,3,FALSE))","v":""},null,{"$f":"IF(D66=\"\",\"\",D66)","v":""},null,{"$f":"IF(F66=\"\",\"\",F66)","v":""},null,null,{"$f":"IF(F66=\"\",\"\",VLOOKUP(F66,'Veg Guide Data Base'!$AZ$29:$BV$600,23,FALSE))","v":""},null,null,{"$f":"IF(D66=\"\",\"\",IF(VLOOKUP(F66,'Veg Guide Data Base'!$AZ$29:$BS$600,20,FALSE)=\"Shrub\",\"Shrub\",\"Vine\"))","v":""}]
[null,null,null,null,null,"",null,null,null,{"$f":"IF(F67=\"\",\"\",IF(INDEX('Veg Guide Data Base'!$BZ$29:$DC$600,MATCH(F67,'Veg Guide Data Base'!$AZ$29:$AZ$600,0),MATCH('Veg Guide Data Base'!$AC$2,'Veg Guide Data Base'!$BZ$18:$DC$18,0))=\"Yes\",\"Native\",\"Introduced\"))","v":""},"","",null,"",null,"",null,null,{"$f":"IF(F67=\"\",\"\",VLOOKUP(F67,'Veg Guide Data Base'!$AZ$29:$BV$600,23,FALSE))","v":""},null,null,{"$f":"IF(D67=\"\",\"\",IF(VLOOKUP(F67,'Veg Guide Data Base'!$AZ$29:$BS$600,20,FALSE)=\"Shrub\",\"Shrub\",\"Vine\"))","v":""}]
[null,null,null,null,null,"",null,null,null,{"$f":"IF(F68=\"\",\"\",IF(INDEX('Veg Guide Data Base'!$BZ$29:$DC$600,MATCH(F68,'Veg Guide Data Base'!$AZ$29:$AZ$600,0),MATCH('Veg Guide Data Base'!$AC$2,'Veg Guide Data Base'!$BZ$18:$DC$18,0))=\"Yes\",\"Native\",\"Introduced\"))","v":""},"","",null,"",null,"",null,null,{"$f":"IF(F68=\"\",\"\",VLOOKUP(F68,'Veg Guide Data Base'!$AZ$29:$BV$600,23,FALSE))","v":""},null,null,{"$f":"IF(D68=\"\",\"\",IF(VLOOKUP(F68,'Veg Guide Data Base'!$AZ$29:$BS$600,20,FALSE)=\"Shrub\",\"Shrub\",\"Vine\"))","v":""}]
[null,null,null,null,null,"",null,null,null,{"$f":"IF(F69=\"\",\"\",IF(INDEX('Veg Guide Data Base'!$BZ$29:$DC$600,MATCH(F69,'Veg Guide Data Base'!$AZ$29:$AZ$600,0),MATCH('Veg Guide Data Base'!$AC$2,'Veg Guide Data Base'!$BZ$18:$DC$18,0))=\"Yes\",\"Native\",\"Introduced\"))","v":""},"","",null,"",null,"",null,null,{"$f":"IF(F69=\"\",\"\",VLOOKUP(F69,'Veg Guide Data Base'!$AZ$29:$BV$600,23,FALSE))","v":""},null,null,{"$f":"IF(D69=\"\",\"\",IF(VLOOKUP(F69,'Veg Guide Data Base'!$AZ$29:$BS$600,20,FALSE)=\"Shrub\",\"Shrub\",\"Vine\"))","v":""}]
[null,null,null,null,null,"",null,null,null,{"$f":"IF(F70=\"\",\"\",IF(INDEX('Veg Guide Data Base'!$BZ$29:$DC$600,MATCH(F70,'Veg Guide Data Base'!$AZ$29:$AZ$600,0),MATCH('Veg Guide Data Base'!$AC$2,'Veg Guide Data Base'!$BZ$18:$DC$18,0))=\"Yes\",\"Native\",\"Introduced\"))","v":""},"","",null,"",null,"",null,null,{"$f":"IF(F70=\"\",\"\",VLOOKUP(F70,'Veg Guide Data Base'!$AZ$29:$BV$600,23,FALSE))","v":""},null,null,{"$f":"IF(D70=\"\",\"\",IF(VLOOKUP(F70,'Veg Guide Data Base'!$AZ$29:$BS$600,20,FALSE)=\"Shrub\",\"Shrub\",\"Vine\"))","v":""}]
[null,null,null,null,null,"",null,null,null,{"$f":"IF(F71=\"\",\"\",IF(INDEX('Veg Guide Data Base'!$BZ$29:$DC$600,MATCH(F71,'Veg Guide Data Base'!$AZ$29:$AZ$600,0),MATCH('Veg Guide Data Base'!$AC$2,'Veg Guide Data Base'!$BZ$18:$DC$18,0))=\"Yes\",\"Native\",\"Introduced\"))","v":""},"","",null,"",null,"",null,null,{"$f":"IF(F71=\"\",\"\",VLOOKUP(F71,'Veg Guide Data Base'!$AZ$29:$BV$600,23,FALSE))","v":""},null,null,{"$f":"IF(D71=\"\",\"\",IF(VLOOKUP(F71,'Veg Guide Data Base'!$AZ$29:$BS$600,20,FALSE)=\"Shrub\",\"Shrub\",\"Vine\"))","v":""}]
[null,null,null,null,null,"",null,null,null,{"$f":"IF(F72=\"\",\"\",IF(INDEX('Veg Guide Data Base'!$BZ$29:$DC$600,MATCH(F72,'Veg Guide Data Base'!$AZ$29:$AZ$600,0),MATCH('Veg Guide Data Base'!$AC$2,'Veg Guide Data Base'!$BZ$18:$DC$18,0))=\"Yes\",\"Native\",\"Introduced\"))","v":""},"","",null,"",null,"",null,null,{"$f":"IF(F72=\"\",\"\",VLOOKUP(F72,'Veg Guide Data Base'!$AZ$29:$BV$600,23,FALSE))","v":""},null,null,{"$f":"IF(D72=\"\",\"\",IF(VLOOKUP(F72,'Veg Guide Data Base'!$AZ$29:$BS$600,20,FALSE)=\"Shrub\",\"Shrub\",\"Vine\"))","v":""}]
[null,null,null,null,null,"",null,null,null,{"$f":"IF(F73=\"\",\"\",IF(INDEX('Veg Guide Data Base'!$BZ$29:$DC$600,MATCH(F73,'Veg Guide Data Base'!$AZ$29:$AZ$600,0),MATCH('Veg Guide Data Base'!$AC$2,'Veg Guide Data Base'!$BZ$18:$DC$18,0))=\"Yes\",\"Native\",\"Introduced\"))","v":""},"","",null,"",null,"",null,null,{"$f":"IF(F73=\"\",\"\",VLOOKUP(F73,'Veg Guide Data Base'!$AZ$29:$BV$600,23,FALSE))","v":""},null,null,{"$f":"IF(D73=\"\",\"\",IF(VLOOKUP(F73,'Veg Guide Data Base'!$AZ$29:$BS$600,20,FALSE)=\"Shrub\",\"Shrub\",\"Vine\"))","v":""}]
[null,null,null,null,null,"",null,null,null,{"$f":"IF(F74=\"\",\"\",IF(INDEX('Veg Guide Data Base'!$BZ$29:$DC$600,MATCH(F74,'Veg Guide Data Base'!$AZ$29:$AZ$600,0),MATCH('Veg Guide Data Base'!$AC$2,'Veg Guide Data Base'!$BZ$18:$DC$18,0))=\"Yes\",\"Native\",\"Introduced\"))","v":""},"","",null,"",null,"",null,null,{"$f":"IF(F74=\"\",\"\",VLOOKUP(F74,'Veg Guide Data Base'!$AZ$29:$BV$600,23,FALSE))","v":""},null,null,{"$f":"IF(D74=\"\",\"\",IF(VLOOKUP(F74,'Veg Guide Data Base'!$AZ$29:$BS$600,20,FALSE)=\"Shrub\",\"Shrub\",\"Vine\"))","v":""}]
[null,null,null,null,null,"",null,null,null,{"$f":"IF(F75=\"\",\"\",IF(INDEX('Veg Guide Data Base'!$BZ$29:$DC$600,MATCH(F75,'Veg Guide Data Base'!$AZ$29:$AZ$600,0),MATCH('Veg Guide Data Base'!$AC$2,'Veg Guide Data Base'!$BZ$18:$DC$18,0))=\"Yes\",\"Native\",\"Introduced\"))","v":""},"","",null,"",null,"",null,null,{"$f":"IF(F75=\"\",\"\",VLOOKUP(F75,'Veg Guide Data Base'!$AZ$29:$BV$600,23,FALSE))","v":""},null,null,{"$f":"IF(D75=\"\",\"\",IF(VLOOKUP(F75,'Veg Guide Data Base'!$AZ$29:$BS$600,20,FALSE)=\"Shrub\",\"Shrub\",\"Vine\"))","v":""}]
[null,null,null,null,null,"",null,null,null,{"$f":"IF(F76=\"\",\"\",IF(INDEX('Veg Guide Data Base'!$BZ$29:$DC$600,MATCH(F76,'Veg Guide Data Base'!$AZ$29:$AZ$600,0),MATCH('Veg Guide Data Base'!$AC$2,'Veg Guide Data Base'!$BZ$18:$DC$18,0))=\"Yes\",\"Native\",\"Introduced\"))","v":""},"","",null,"",null,"",null,null,{"$f":"IF(F76=\"\",\"\",VLOOKUP(F76,'Veg Guide Data Base'!$AZ$29:$BV$600,23,FALSE))","v":""},null,null,{"$f":"IF(D76=\"\",\"\",IF(VLOOKUP(F76,'Veg Guide Data Base'!$AZ$29:$BS$600,20,FALSE)=\"Shrub\",\"Shrub\",\"Vine\"))","v":""}]
[null,null,null,null,null,"",null,null,null,{"$f":"IF(F77=\"\",\"\",IF(INDEX('Veg Guide Data Base'!$BZ$29:$DC$600,MATCH(F77,'Veg Guide Data Base'!$AZ$29:$AZ$600,0),MATCH('Veg Guide Data Base'!$AC$2,'Veg Guide Data Base'!$BZ$18:$DC$18,0))=\"Yes\",\"Native\",\"Introduced\"))","v":""},"","",null,"",null,"",null,null,{"$f":"IF(F77=\"\",\"\",VLOOKUP(F77,'Veg Guide Data Base'!$AZ$29:$BV$600,23,FALSE))","v":""},null,null,{"$f":"IF(D77=\"\",\"\",IF(VLOOKUP(F77,'Veg Guide Data Base'!$AZ$29:$BS$600,20,FALSE)=\"Shrub\",\"Shrub\",\"Vine\"))","v":""}]
[null,null,null,null,null,"",null,null,null,{"$f":"IF(F78=\"\",\"\",IF(INDEX('Veg Guide Data Base'!$BZ$29:$DC$600,MATCH(F78,'Veg Guide Data Base'!$AZ$29:$AZ$600,0),MATCH('Veg Guide Data Base'!$AC$2,'Veg Guide Data Base'!$BZ$18:$DC$18,0))=\"Yes\",\"Native\",\"Introduced\"))","v":""},"","",null,"",null,"",null,null,{"$f":"IF(F78=\"\",\"\",VLOOKUP(F78,'Veg Guide Data Base'!$AZ$29:$BV$600,23,FALSE))","v":""},null,null,{"$f":"IF(D78=\"\",\"\",IF(VLOOKUP(F78,'Veg Guide Data Base'!$AZ$29:$BS$600,20,FALSE)=\"Shrub\",\"Shrub\",\"Vine\"))","v":""}]
[null,null,null,null,null,"",null,null,null,{"$f":"IF(F79=\"\",\"\",IF(INDEX('Veg Guide Data Base'!$BZ$29:$DC$600,MATCH(F79,'Veg Guide Data Base'!$AZ$29:$AZ$600,0),MATCH('Veg Guide Data Base'!$AC$2,'Veg Guide Data Base'!$BZ$18:$DC$18,0))=\"Yes\",\"Native\",\"Introduced\"))","v":""},"","",null,"",null,"",null,null,{"$f":"IF(F79=\"\",\"\",VLOOKUP(F79,'Veg Guide Data Base'!$AZ$29:$BV$600,23,FALSE))","v":""},null,null,{"$f":"IF(D79=\"\",\"\",IF(VLOOKUP(F79,'Veg Guide Data Base'!$AZ$29:$BS$600,20,FALSE)=\"Shrub\",\"Shrub\",\"Vine\"))","v":""}]
[null,null,null,null,null,"",null,null,null,{"$f":"IF(F80=\"\",\"\",IF(INDEX('Veg Guide Data Base'!$BZ$29:$DC$600,MATCH(F80,'Veg Guide Data Base'!$AZ$29:$AZ$600,0),MATCH('Veg Guide Data Base'!$AC$2,'Veg Guide Data Base'!$BZ$18:$DC$18,0))=\"Yes\",\"Native\",\"Introduced\"))","v":""},"","",null,"",null,"",null,null,{"$f":"IF(F80=\"\",\"\",VLOOKUP(F80,'Veg Guide Data Base'!$AZ$29:$BV$600,23,FALSE))","v":""},null,null,{"$f":"IF(D80=\"\",\"\",IF(VLOOKUP(F80,'Veg Guide Data Base'!$AZ$29:$BS$600,20,FALSE)=\"Shrub\",\"Shrub\",\"Vine\"))","v":""}]
[null,null,null,null,null,"",null,null,null,{"$f":"IF(F81=\"\",\"\",IF(INDEX('Veg Guide Data Base'!$BZ$29:$DC$600,MATCH(F81,'Veg Guide Data Base'!$AZ$29:$AZ$600,0),MATCH('Veg Guide Data Base'!$AC$2,'Veg Guide Data Base'!$BZ$18:$DC$18,0))=\"Yes\",\"Native\",\"Introduced\"))","v":""},"","",null,"",null,"",null,null,{"$f":"IF(F81=\"\",\"\",VLOOKUP(F81,'Veg Guide Data Base'!$AZ$29:$BV$600,23,FALSE))","v":""},null,null,{"$f":"IF(D81=\"\",\"\",IF(VLOOKUP(F81,'Veg Guide Data Base'!$AZ$29:$BS$600,20,FALSE)=\"Shrub\",\"Shrub\",\"Vine\"))","v":""}]
[null,null,null,null,null,"",null,null,null,{"$f":"IF(F82=\"\",\"\",IF(INDEX('Veg Guide Data Base'!$BZ$29:$DC$600,MATCH(F82,'Veg Guide Data Base'!$AZ$29:$AZ$600,0),MATCH('Veg Guide Data Base'!$AC$2,'Veg Guide Data Base'!$BZ$18:$DC$18,0))=\"Yes\",\"Native\",\"Introduced\"))","v":""},"","",null,"",null,"",null,null,{"$f":"IF(F82=\"\",\"\",VLOOKUP(F82,'Veg Guide Data Base'!$AZ$29:$BV$600,23,FALSE))","v":""},null,null,{"$f":"IF(D82=\"\",\"\",IF(VLOOKUP(F82,'Veg Guide Data Base'!$AZ$29:$BS$600,20,FALSE)=\"Shrub\",\"Shrub\",\"Vine\"))","v":""}]
[null,null,null,null,null,"",null,null,null,{"$f":"IF(F83=\"\",\"\",IF(INDEX('Veg Guide Data Base'!$BZ$29:$DC$600,MATCH(F83,'Veg Guide Data Base'!$AZ$29:$AZ$600,0),MATCH('Veg Guide Data Base'!$AC$2,'Veg Guide Data Base'!$BZ$18:$DC$18,0))=\"Yes\",\"Native\",\"Introduced\"))","v":""},"","",null,"",null,"",null,null,{"$f":"IF(F83=\"\",\"\",VLOOKUP(F83,'Veg Guide Data Base'!$AZ$29:$BV$600,23,FALSE))","v":""},null,null,{"$f":"IF(D83=\"\",\"\",IF(VLOOKUP(F83,'Veg Guide Data Base'!$AZ$29:$BS$600,20,FALSE)=\"Shrub\",\"Shrub\",\"Vine\"))","v":""}]
[null,null,null,null,null,"",null,null,null,{"$f":"IF(F84=\"\",\"\",IF(INDEX('Veg Guide Data Base'!$BZ$29:$DC$600,MATCH(F84,'Veg Guide Data Base'!$AZ$29:$AZ$600,0),MATCH('Veg Guide Data Base'!$AC$2,'Veg Guide Data Base'!$BZ$18:$DC$18,0))=\"Yes\",\"Native\",\"Introduced\"))","v":""},"","",null,"",null,"",null,null,{"$f":"IF(F84=\"\",\"\",VLOOKUP(F84,'Veg Guide Data Base'!$AZ$29:$BV$600,23,FALSE))","v":""},null,null,{"$f":"IF(D84=\"\",\"\",IF(VLOOKUP(F84,'Veg Guide Data Base'!$AZ$29:$BS$600,20,FALSE)=\"Shrub\",\"Shrub\",\"Vine\"))","v":""}]
[null,null,null,null,null,"",null,null,null,{"$f":"IF(F85=\"\",\"\",IF(INDEX('Veg Guide Data Base'!$BZ$29:$DC$600,MATCH(F85,'Veg Guide Data Base'!$AZ$29:$AZ$600,0),MATCH('Veg Guide Data Base'!$AC$2,'Veg Guide Data Base'!$BZ$18:$DC$18,0))=\"Yes\",\"Native\",\"Introduced\"))","v":""},"","",null,"",null,"",null,null,{"$f":"IF(F85=\"\",\"\",VLOOKUP(F85,'Veg Guide Data Base'!$AZ$29:$BV$600,23,FALSE))","v":""},null,null,{"$f":"IF(D85=\"\",\"\",IF(VLOOKUP(F85,'Veg Guide Data Base'!$AZ$29:$BS$600,20,FALSE)=\"Shrub\",\"Shrub\",\"Vine\"))","v":""}]
[null,null,null,null,null,"",null,null,null,{"$f":"IF(F86=\"\",\"\",IF(INDEX('Veg Guide Data Base'!$BZ$29:$DC$600,MATCH(F86,'Veg Guide Data Base'!$AZ$29:$AZ$600,0),MATCH('Veg Guide Data Base'!$AC$2,'Veg Guide Data Base'!$BZ$18:$DC$18,0))=\"Yes\",\"Native\",\"Introduced\"))","v":""},"","",null,"",null,"",null,null,{"$f":"IF(F86=\"\",\"\",VLOOKUP(F86,'Veg Guide Data Base'!$AZ$29:$BV$600,23,FALSE))","v":""},null,null,{"$f":"IF(D86=\"\",\"\",IF(VLOOKUP(F86,'Veg Guide Data Base'!$AZ$29:$BS$600,20,FALSE)=\"Shrub\",\"Shrub\",\"Vine\"))","v":""}]
[null,null,null,null,null,"",null,null,null,{"$f":"IF(F87=\"\",\"\",IF(INDEX('Veg Guide Data Base'!$BZ$29:$DC$600,MATCH(F87,'Veg Guide Data Base'!$AZ$29:$AZ$600,0),MATCH('Veg Guide Data Base'!$AC$2,'Veg Guide Data Base'!$BZ$18:$DC$18,0))=\"Yes\",\"Native\",\"Introduced\"))","v":""},"","",null,"",null,"",null,null,{"$f":"IF(F87=\"\",\"\",VLOOKUP(F87,'Veg Guide Data Base'!$AZ$29:$BV$600,23,FALSE))","v":""},null,null,{"$f":"IF(D87=\"\",\"\",IF(VLOOKUP(F87,'Veg Guide Data Base'!$AZ$29:$BS$600,20,FALSE)=\"Shrub\",\"Shrub\",\"Vine\"))","v":""}]
[null,null,null,null,null,"",null,null,null,{"$f":"IF(F88=\"\",\"\",IF(INDEX('Veg Guide Data Base'!$BZ$29:$DC$600,MATCH(F88,'Veg Guide Data Base'!$AZ$29:$AZ$600,0),MATCH('Veg Guide Data Base'!$AC$2,'Veg Guide Data Base'!$BZ$18:$DC$18,0))=\"Yes\",\"Native\",\"Introduced\"))","v":""},"","",null,"",null,"",null,null,{"$f":"IF(F88=\"\",\"\",VLOOKUP(F88,'Veg Guide Data Base'!$AZ$29:$BV$600,23,FALSE))","v":""},null,null,{"$f":"IF(D88=\"\",\"\",IF(VLOOKUP(F88,'Veg Guide Data Base'!$AZ$29:$BS$600,20,FALSE)=\"Shrub\",\"Shrub\",\"Vine\"))","v":""}]
[null,null,null,null,null,"",null,null,null,{"$f":"IF(F89=\"\",\"\",IF(INDEX('Veg Guide Data Base'!$BZ$29:$DC$600,MATCH(F89,'Veg Guide Data Base'!$AZ$29:$AZ$600,0),MATCH('Veg Guide Data Base'!$AC$2,'Veg Guide Data Base'!$BZ$18:$DC$18,0))=\"Yes\",\"Native\",\"Introduced\"))","v":""},"","",null,"",null,"",null,null,{"$f":"IF(F89=\"\",\"\",VLOOKUP(F89,'Veg Guide Data Base'!$AZ$29:$BV$600,23,FALSE))","v":""},null,null,{"$f":"IF(D89=\"\",\"\",IF(VLOOKUP(F89,'Veg Guide Data Base'!$AZ$29:$BS$600,20,FALSE)=\"Shrub\",\"Shrub\",\"Vine\"))","v":""}]
[null,null,null,null,null,"",null,null,null,{"$f":"IF(F90=\"\",\"\",IF(INDEX('Veg Guide Data Base'!$BZ$29:$DC$600,MATCH(F90,'Veg Guide Data Base'!$AZ$29:$AZ$600,0),MATCH('Veg Guide Data Base'!$AC$2,'Veg Guide Data Base'!$BZ$18:$DC$18,0))=\"Yes\",\"Native\",\"Introduced\"))","v":""},"","",null,"",null,"",null,null,{"$f":"IF(F90=\"\",\"\",VLOOKUP(F90,'Veg Guide Data Base'!$AZ$29:$BV$600,23,FALSE))","v":""},null,null,{"$f":"IF(D90=\"\",\"\",IF(VLOOKUP(F90,'Veg Guide Data Base'!$AZ$29:$BS$600,20,FALSE)=\"Shrub\",\"Shrub\",\"Vine\"))","v":""}]
[null,null,null,null,null,"",null,null,null,{"$f":"IF(F91=\"\",\"\",IF(INDEX('Veg Guide Data Base'!$BZ$29:$DC$600,MATCH(F91,'Veg Guide Data Base'!$AZ$29:$AZ$600,0),MATCH('Veg Guide Data Base'!$AC$2,'Veg Guide Data Base'!$BZ$18:$DC$18,0))=\"Yes\",\"Native\",\"Introduced\"))","v":""},"","",null,"",null,"",null,null,{"$f":"IF(F91=\"\",\"\",VLOOKUP(F91,'Veg Guide Data Base'!$AZ$29:$BV$600,23,FALSE))","v":""},null,null,{"$f":"IF(D91=\"\",\"\",IF(VLOOKUP(F91,'Veg Guide Data Base'!$AZ$29:$BS$600,20,FALSE)=\"Shrub\",\"Shrub\",\"Vine\"))","v":""}]
[null,null,null,null,null,"",null,null,null,{"$f":"IF(F92=\"\",\"\",IF(INDEX('Veg Guide Data Base'!$BZ$29:$DC$600,MATCH(F92,'Veg Guide Data Base'!$AZ$29:$AZ$600,0),MATCH('Veg Guide Data Base'!$AC$2,'Veg Guide Data Base'!$BZ$18:$DC$18,0))=\"Yes\",\"Native\",\"Introduced\"))","v":""},"","",null,"",null,"",null,null,{"$f":"IF(F92=\"\",\"\",VLOOKUP(F92,'Veg Guide Data Base'!$AZ$29:$BV$600,23,FALSE))","v":""},null,null,{"$f":"IF(D92=\"\",\"\",IF(VLOOKUP(F92,'Veg Guide Data Base'!$AZ$29:$BS$600,20,FALSE)=\"Shrub\",\"Shrub\",\"Vine\"))","v":""}]
[null,null,null,null,null,"",null,null,null,{"$f":"IF(F93=\"\",\"\",IF(INDEX('Veg Guide Data Base'!$BZ$29:$DC$600,MATCH(F93,'Veg Guide Data Base'!$AZ$29:$AZ$600,0),MATCH('Veg Guide Data Base'!$AC$2,'Veg Guide Data Base'!$BZ$18:$DC$18,0))=\"Yes\",\"Native\",\"Introduced\"))","v":""},"","",null,"",null,"",null,null,{"$f":"IF(F93=\"\",\"\",VLOOKUP(F93,'Veg Guide Data Base'!$AZ$29:$BV$600,23,FALSE))","v":""},null,null,{"$f":"IF(D93=\"\",\"\",IF(VLOOKUP(F93,'Veg Guide Data Base'!$AZ$29:$BS$600,20,FALSE)=\"Shrub\",\"Shrub\",\"Vine\"))","v":""}]
[null,null,null,null,null,"",null,null,null,{"$f":"IF(F94=\"\",\"\",IF(INDEX('Veg Guide Data Base'!$BZ$29:$DC$600,MATCH(F94,'Veg Guide Data Base'!$AZ$29:$AZ$600,0),MATCH('Veg Guide Data Base'!$AC$2,'Veg Guide Data Base'!$BZ$18:$DC$18,0))=\"Yes\",\"Native\",\"Introduced\"))","v":""},"","",null,"",null,"",null,null,{"$f":"IF(F94=\"\",\"\",VLOOKUP(F94,'Veg Guide Data Base'!$AZ$29:$BV$600,23,FALSE))","v":""},null,null,{"$f":"IF(D94=\"\",\"\",IF(VLOOKUP(F94,'Veg Guide Data Base'!$AZ$29:$BS$600,20,FALSE)=\"Shrub\",\"Shrub\",\"Vine\"))","v":""}]
[{"$f":"IFERROR(_xlfn.SEQUENCE(C14,1,1,0),0)","v":0},null,"Var. Request additions will appear at the end of the drop down list.",null,null,"",null,null,null,null,"","",null,"",null,{"$f":"IF(F95=\"\",\"\",F95)","v":""},null,null,{"$f":"IF(D95=\"\",\"\",VLOOKUP(D95,'Variance Request'!$C$15:$D$39,2,FALSE))","v":""},null,null,{"$f":"IF(D95=\"\",\"\",IF(VLOOKUP(F95,'Variance Request'!$B$15:$F$39,5,FALSE)=\"Shrub\",\"Shrub\",\"Vine\"))","v":""}]
[null,null,null,null,null,"",null,null,null,null,"","",null,"",null,{"$f":"IF(F96=\"\",\"\",F96)","v":""},null,null,{"$f":"IF(D96=\"\",\"\",VLOOKUP(D96,'Variance Request'!$C$15:$D$39,2,FALSE))","v":""},null,null,{"$f":"IF(D96=\"\",\"\",IF(VLOOKUP(F96,'Variance Request'!$B$15:$F$39,5,FALSE)=\"Shrub\",\"Shrub\",\"Vine\"))","v":""}]
[null,null,null,null,null,"",null,null,null,null,"","",null,"",null,"",null,null,{"$f":"IF(D97=\"\",\"\",VLOOKUP(D97,'Variance Request'!$C$15:$D$39,2,FALSE))","v":""},null,null,{"$f":"IF(D97=\"\",\"\",IF(VLOOKUP(F97,'Variance Request'!$B$15:$F$39,5,FALSE)=\"Shrub\",\"Shrub\",\"Vine\"))","v":""}]
[null,null,null,null,null,"",null,null,null,null,"","",null,"",null,"",null,null,{"$f":"IF(D98=\"\",\"\",VLOOKUP(D98,'Variance Request'!$C$15:$D$39,2,FALSE))","v":""},null,null,{"$f":"IF(D98=\"\",\"\",IF(VLOOKUP(F98,'Variance Request'!$B$15:$F$39,5,FALSE)=\"Shrub\",\"Shrub\",\"Vine\"))","v":""}]
[null,null,null,null,null,"",null,null,null,null,"","",null,"",null,"",null,null,{"$f":"IF(D99=\"\",\"\",VLOOKUP(D99,'Variance Request'!$C$15:$D$39,2,FALSE))","v":""},null,null,{"$f":"IF(D99=\"\",\"\",IF(VLOOKUP(F99,'Variance Request'!$B$15:$F$39,5,FALSE)=\"Shrub\",\"Shrub\",\"Vine\"))","v":""}]
[null,null,null,null,null,"",null,null,null,null,"","",null,"",null,"",null,null,{"$f":"IF(D100=\"\",\"\",VLOOKUP(D100,'Variance Request'!$C$15:$D$39,2,FALSE))","v":""},null,null,{"$f":"IF(D100=\"\",\"\",IF(VLOOKUP(F100,'Variance Request'!$B$15:$F$39,5,FALSE)=\"Shrub\",\"Shrub\",\"Vine\"))","v":""}]
[null,null,null,null,null,"",null,null,null,null,"","",null,"",null,"",null,null,{"$f":"IF(D101=\"\",\"\",VLOOKUP(D101,'Variance Request'!$C$15:$D$39,2,FALSE))","v":""},null,null,{"$f":"IF(D101=\"\",\"\",IF(VLOOKUP(F101,'Variance Request'!$B$15:$F$39,5,FALSE)=\"Shrub\",\"Shrub\",\"Vine\"))","v":""}]
[null,null,null,null,null,"",null,null,null,null,"","",null,"",null,"",null,null,{"$f":"IF(D102=\"\",\"\",VLOOKUP(D102,'Variance Request'!$C$15:$D$39,2,FALSE))","v":""},null,null,{"$f":"IF(D102=\"\",\"\",IF(VLOOKUP(F102,'Variance Request'!$B$15:$F$39,5,FALSE)=\"Shrub\",\"Shrub\",\"Vine\"))","v":""}]
[null,null,null,null,null,"",null,null,null,null,"","",null,"",null,"",null,null,{"$f":"IF(D103=\"\",\"\",VLOOKUP(D103,'Variance Request'!$C$15:$D$39,2,FALSE))","v":""},null,null,{"$f":"IF(D103=\"\",\"\",IF(VLOOKUP(F103,'Variance Request'!$B$15:$F$39,5,FALSE)=\"Shrub\",\"Shrub\",\"Vine\"))","v":""}]
[null,null,null,null,null,"",null,null,null,null,"","",null,"",null,"",null,null,{"$f":"IF(D104=\"\",\"\",VLOOKUP(D104,'Variance Request'!$C$15:$D$39,2,FALSE))","v":""},null,null,{"$f":"IF(D104=\"\",\"\",IF(VLOOKUP(F104,'Variance Request'!$B$15:$F$39,5,FALSE)=\"Shrub\",\"Shrub\",\"Vine\"))","v":""}]
[1,null,null,"Planned total for shrubs/vines:",null,"Shrubs/vines per acre:",null,null,{"$f":"IFERROR(M105/L7,0)","v":0},"Total shrub/vine count:",null,null,{"$f":"SUM(M65:M104)","v":0}]
["Yes",null,null,"Planned total, all species:",null,"All plants per acre:",null,null,{"$f":"IFERROR(M106/L7,0)","v":0},"Total plant count:",null,null,{"$f":"M62+M105","v":0},{"$f":"IF(OR(M106*25>L7*43560,V19*25>L7*43560),\"  You must obtain PIA State Forester approval for planned plant density\", \"\")","v":""}]
["Yes",0,null,"Selection and Care of Planting Material:",null,null,null,null,null,null,null,null,null,{"$f":"IF(COUNTIF(K22:L61,\"<8\"), \"  You must obtain PIA State Forester approval for tree spacing less than 8 feet\",\"\")","v":""}]
["Yes",1,null,"  ● Only viable, high-quality and adapted planting stock or seed will be used.",null,null,null,null,null,null,null,null,null,{"$f":"IF(COUNTIF(K65:L104,\"<5\"), \"  You must obtain PIA State Forester approval for shrub/vine spacing less than 5 feet\",\"\")","v":""}]
["Yes",2,null,"  ● Provide a 2-3 week acclimation period in-nursery or after transferring containerized planting material",null,null,null,null,null,null,null,null,null,{"$f":"IF(OR(COUNTIF(T22:T61,\"Yes\"),COUNTIF(T65:T104,\"Yes\")),\"  You must obtain PIA State Forester approval for listed species and prepare appropriate ESA compliance paperwork\",\"\")","v":""}]
["Yes",3,null,"     from nursery to planting site (if different location) by gradually transitioning seedlings from sunlight ",null,null,null,null,null,null,null,null,null,"Hawaii Pacific Weed Risk Assessment",null,null,"<--Search here to evaluate selected species for weed threats"]
["Yes",4,null,"     exposure and watering regime employed at the nursery to those at the planting site.",null,null,null,null,null,null,null,null,null,"Listing (T&E) status for Hawaii plants ",null,null,"<--Search here by genus to subspecies or variety level"]
["Yes",5,null,"  ● Ensure occasional root pruning if seedlings will be stored for 2 months or longer at the planting site.",null,null,null,null,null,null,null,null,null,"Listing (T&E) status for Guam & CNMI plants",null,null,"<--Search here by species name"]
["Yes",6,null,"  ● Minimum number of species to select",null,null,"Trees",null,"Shrubs",null,"Vines",null,null,{"$f":"IF(OR(L7<=0,V19<=0),\"\",IF(V19<L7*43560/400,CONCATENATE(X113,X116),\"\"))","v":""},null,null,null,null,null,null,null,null,null,"There are no official PIA specifications or requirements for post-treatment target plant density for the forestry \"area\" planting practices.  However, the tree/shrub density proposed in this Jobsheet (pre-existing + planned) appears to be low & may need to be increased.  Target plant density depends on the CPS, the associated purpose selected & other"]
["Yes",7,null,"Additional Information/Requirements: "]
["Yes",8]
["Yes",9,null,null,null,null,null,null,null,null,null,null,null,null,null,null,null,null,null,null,null,null,null," factors, with 110 trees/acre (400 sq. ft./tree) and 435 shrubs/acre (100 sq. ft./shrub) as broad minimum densities for adequately stocked forests.  Silvopasture or Forest Farming for partial shade are example exceptions.  Consult with the PIA State Forester if you are unsure."]
["Yes",10]
["Yes",11]
["Yes",12,null,"Planting:",null,null,"Planting hole preparation and planting method",null,null,null,null,null,null," Specified approval signature(s) must be obtained for each item shown below (if any) to proceed with the project:",null,null,null,null,null,null,null,null,"Hand tools"]
["Yes",13,null,"  ● Plant trees no closer to any adjacent tree than by the indicated spacing for each species above.",null,null,null,null,null,null,null,null,null,{"$f":"IF(OR(COUNTIF(K22:L61,\"<8\"),COUNTIF(K65:L104,\"<5\"),M106*25>L7*43560,V19*25>L7*43560),\"PIA State Forester approval for planned plant density and/or spacing:\",\"\")","v":""},null,null,null,null,null,null,null,null,"Planting bar",null,null,"all"]
["Yes",14,null,"  ● Plant shrubs & vines between trees or adjacent to other shrubs and vines at spacings that no less than",null,null,null,null,null,null,null,null,null,null,null,null,null,null,null,null,null,null,"Mechanized",null,null,"N/A"]
["Yes",15,null,"     those provided in tables or narratives above.  Where shrubs & vines are planted between new or",null,null,null,null,null,null,null,null,null,{"$f":"IF(OR(COUNTIF(T22:U61,\"Yes\"),COUNTIF(T65:U104,\"Yes\")),\"PIA State Forester approval for planned tree/shrub/vine species:\",\"\")","v":""},null,null,null,null,null,null,null,null,"Auger",null,null,0]
["Yes",16,null,"     exisitng trees, they are typically planted at intervals that are equidistant between the trees.",null,null,null,null,null,null,null,null,null,null,null,null,null,null,null,null,null,null,"Broadcast seeding",null,null,1]
["Yes",17,null,"  ● Planting points for trees/shrubs/vines will be laid out with flags or other markings - planting holes should",null,null,null,null,null,null,null,null,null,null,null,null,null,null,null,null,null,null,"Other",null,null,2]
["Yes",18,null,"      be 1.5-2.0 times as wide and 1.0-1.5 times as deep as the the dibble tube or pot size.",null,null,null,null,null,null,null,null,null,null,null,null,null,null,null,null,null,null,null,null,null,3]
["Yes",19,null,"  ● Plant seedlings so root collars are at or slightly above (0.5\") planting site grade.  ",null,null,null,null,null,null,null,null,null,null,null,null,null,null,null,null,null,null,"January",null,null,4]
["Yes",20,null,"  ● Don't bend or crowd seedling roots when planting, refill hole with soil & pack well to avoid air pockets.",null,null,null,null,null,null,null,null,null,null,null,null,null,null,null,null,null,null,"February",null,null,5]
["Yes",21,null,"  ● Plant cuttings 6-10 inches deep with 6-12 inches remaining above ground.",null,null,null,null,null,null,null,null,null,null,null,null,null,null,null,null,null,null,"March",null,null,6]
["Yes",22,null,null,"of coated slow-release fertilizer (NPK + micronutrients) shall be placed into each planting",null,null,null,null,null,null,null,null,null,null,null,null,null,null,null,null,null,"April","  • Half an ounce",null,7]
["Yes",23,null,"     hole & covered w/ a small volume of soil to prevent direct fertilizer contact w/ seedling roots or cuttings.",null,null,null,null,null,null,null,null,null,null,null,null,null,null,null,null,null,null,"May","  • One ounce",null,8]
["Yes",24,null,"  ● Tree and shrub planting work should be completed 2 weeks to 6 months after Tree/Shrub Site Preparation",null,null,null,null,null,null,null,null,null,null,null,null,null,null,null,null,null,null,"June","  • Two ounces",null,9]
["Yes",25,null,"     (490) work is completed, with a preference for the shortest time period possible.",null,null,null,null,null,null,null,null,null,null,null,null,null,null,null,null,null,null,"July","  • Three ounces",null,10]
["Yes",26,null,"  • The rainy season for this site is typically",null,null,null,"-- to --",null,null,null,null,null,"<---  ○ Hawaii - UH Geography Department interactive rainfall map",null,null,null,null,null,null,null,null,"August","  • Four ounces",null,11]
["Yes",27,null,"  ● When site preparation (if any) is complete, non-irrigated sites shall be planted as early after the onset",null,null,null,null,null,null,null,null,null,"          ○ Guam - U.S. Geological Survey rainfall modelling map",null,null,null,null,null,null,null,null,"September",null,null,12]
["Yes",28,null,"     (1” of rainfall during a 2 week period) of the rainy season as possible.  Avoid planting on hot, windy days.",null,null,null,null,null,null,null,null,null,"          ○ Saipan - U.S. Geological Survey rainfall modelling map",null,null,null,null,null,null,null,null,"October"]
["Yes",29,null,"Additional Information/Requirements: ",null,null,null,null,null,null,null,null,null,"          ○ Tutuila - U.S. Geological Survey rainfall modelling map",null,null,null,null,null,null,null,null,"November"]
["Yes",30,null,null,null,null,null,null,null,null,null,null,null,null,null,null,null,null,null,null,null,null,"December",null,null,null,null,"Riparian Forest Buffer Width Determiniation & Specifications:"]
["Yes",null,null,"Plant Protection and Cultural Treatments:",null,null,null,"Individual plant protection to be installed?",null,null,null,null,null,{"$f":"IF(D3=\"Riparian Forest Buffer (391)\",AB137,\"\")","v":""},null,null,null,null,null,null,null,null,"No",null,null,null,null,"Buffer vegetation will extend a minimum width to achieve the purpose(s).  Measurement shall begin at and perpendicular to the normal water line, bank-full elevation, or the top of the bank as determined locally.  Use the following table to determine the minimum width of the buffer to be planted.  Obtain Pacific Islands Area State Forester approval for buffer widths that do not follow these specifications."]
["Yes",null,null,"  ● Protect plantings from weeds, human activity, animal pests or adverse weather as warranted by site ",null,null,null,null,null,null,null,null,null,{"$f":"IF(D3=\"Riparian Forest Buffer (391)\",AB138,\"\")","v":""},null,null,null,null,null,null,null,null,"Yes"]
["Yes",null,null,"     conditions, e.g. herbicide, weed mats, individual plant protection & other means.  "]
["Yes",null,null,"  ● After planting, broadcast fertilizing and liming to facilitate plant establishment should only be applied "]
["Yes",null,null,"     based on soil and/or leaf tissue tests."]
["Yes",null,null,"  ● Provide supplemental water as needed during dry periods until plants become established (1-2 years).",null,null,null,null,null,null,null,null,null,null,null,null,null,null,null,null,null,null,null,null,null,null,null,null,"Bank Slope","Minimum Riparian Area Buffer Width on Each Side (feet) 1/ 2/"]
["Yes",null,null,"Additional Information/Requirements: "]
["Yes",null,null,null,null,null,null,null,null,null,null,null,null,null,{"$f":"IF($D$3=\"Riparian Forest Buffer (391)\",AC143,\"\")","v":""},null,{"$f":"IF(D3=\"Riparian Forest Buffer (391)\",AD143,\"\")","v":""},null,null,null,null,null,null,null,null,null,null,null,"0 - 5%",15]
["Yes",null,null,"Operation and Maintenance Requirements:",null,null,null,null,null,null,null,null,null,null,{"$f":"IF($D$3=\"Riparian Forest Buffer (391)\",AC145,\"\")","v":""},"",null,null,null,null,null,null,null,null,null,null,null,null,"6 - 10%","20 3/"]
["Yes",null,null,"  ● Periodically inspect planted trees, shrubs & vines to ensure they are protected from adverse impacts or ",null,null,null,null,null,null,null,null,null,null,"","",null,null,null,null,null,null,"100%",null,null,null,null,null,"11 - 20%","25 3/ 4/"]
["Yes",null,null,"     damage from insects, diseases, competing vegetation, livestock or wildlife.",null,null,null,null,null,null,null,null,null,null,"","",null,null,null,null,null,null,"95%",null,null,null,null,null,"21 - 30%","35 3/ 4/"]
["Yes",null,null,"  ● Control competing vegetation including noxious & invasive species until planted trees, shrubs & vines",null,null,null,null,null,null,null,null,null,null,"","",null,null,null,null,null,null,"90%",null,null,null,null,null,"31 - 40%","50 3/ 4/"]
["Yes",null,null,"     are established.",null,null,null,null,null,null,null,null,null,null,"","",null,null,null,null,null,null,"85%",null,null,null,null,null,"41 - 50%","100 3/ 4/"]
["Yes",null,null,"  ● The Cooperator is responsible for replacing planted trees, shrubs & vines that die such that the overall ",null,null,null,null,null,null,null,null,null,null,"","",null,null,null,null,null,null,"80%",null,null,null,null,null,"> 50%","200 3/ 4/"]
["Yes",null,null,"     survival rate does not drop below",null,null,null,{"$f":"IF(D3=\"Forest Farming (379)\", \"   during the 10-year lifespan of this practice.\",\"   during the 15-year lifespan of this practice.\")","v":"   during the 15-year lifespan of this practice."},null,null,null,null,null,null,"","",null,null,null,null,null,null,"75%"]
["Yes",null,null,"Additional Information/Requirements: ",null,null,null,null,null,null,null,null,null,{"$f":"IF(D3=\"Riparian Forest Buffer (391)\",AB153,\"\")","v":""},null,null,null,null,null,null,null,null,null,null,null,null,null,"1/ Adjust minimum riparian area width by Primary Purpose (cell D12 above) – if two or more purposes are "]
["Yes",null,null,null,null,null,null,null,null,null,null,null,null,{"$f":"IF(D3=\"Riparian Forest Buffer (391)\",AB154,\"\")","v":""},null,null,null,null,null,null,null,null,null,null,null,null,null,"selected, use the largest increase in width:\n● Habitat: Creating shade to manage water temperatures for aquatic organisms --or-- Improve riparian habitat\n& provide a source of detritus/large woody debris: Add 75% to width of trees & 30% to width of shrubs/vines.\n● Reduce sediment, organic material, nutrients & pesticides in runoff and/or shallow ground water --or--"]
["Yes",null,null," I&E and Design Approval:",null,{"$f":"D3","v":"Use the Forestry Linear Template for the Selected Practice"},null,null,null,{"$f":"INDEX(Z155:Z173,MATCH(F155,Y155:Y173,0))","v":"No CPS Selected"},null,null,"Req. Job Class",null,null,null,null,null,null,null,null,null,null,"I","All Species","No CPS Selected",null,"Reduce pesticide drift: Add 20% to width."]
["Yes",null,null,"Controlling Factor",null,null,"Units",null,null,"Planned Amount/Type/Method",null,null,null,null,null,null,null,null,null,null,null,null,null,"II","Alley Cropping (311)","Discipline: Forestry",null,"● Restore riparian plant communities --or-- Increase carbon storage in plant biomass and soils: Follow table."]
["Yes",null,null,null,null,null,null,null,null,null,null,null,null,null,null,null,null,null,null,null,null,null,null,"III","Conservation Cover (327)","Discipline: Agronomy",null,"2/ Consider applying Fence (382) if riparian area degradation is due to grazing or feral ungulate damage."]
["Yes",null,null,null,null,null,null,null,null,null,null,null,null,null,null,null,null,null,null,null,null,null,null,"IV","Cover Crop (340)","Discipline: Agronomy",null,"3/ This practice must be combined with an herbaceous planting practice, such as Filter Strip (393), Conservation Cover (327), or Critical Area Planting (342), if the existing herbaceous cover is less than 75%."]
["Yes",null,null,null,null,null,null,null,null,null,null,null,null,null,null,null,null,null,null,null,null,null,null,"V","Critical Area Planting (342)","Discipline: Agron & CED-LA"]
["Yes",null,null,null,null,null,null,null,null,null,null,null,null,null,null,null,null,null,null,null,null,null,null,null,"Critical Area Planting (Grassed Waterway) (342)","Discipline: Agron & CED-LA",null,"4/ Buffer must extend at least 15 feet beyond the top of the bank (where bank slope levels off)."]
["Yes",null,null,null,null,null,null,null,null,null,null,null,null,null,null,null,null,null,null,null,null,null,null,null,"Field Border (386)","Discipline: Agronomy"]
["Yes",null,null,"Signature for Approval of I&E (must submit inventory work to approver)",null,null,null,null,null,"Approver's JAA",null,"Date",null,null,null,null,null,null,null,null,null,null,"design complexity (311, 379, 381, 380)","treatmnt type/purpose","Pasture and Hay Planting (512)","Discipline: Rangeland Mgt Sp"]
["Yes",null,null,null,null,null,null,null,null,null,null,null,null,null,null,null,null,null,null,null,null,null,"complexity of establishing plant material; site sensitivity (612)","type of plant stock","Hedgerow Planting (422)","Discipline: Biology"]
["Yes",null,null,"Signature for Approval of Design",null,null,null,null,null,"Approver's JAA",null,"Date",null,null,null,null,null,null,null,null,null,null,"planting complexity & site sensitivity (391)","potential seedling mort. rating","Herbaceous Wind Barriers (603)","Discipline: Agronomy"]
["Yes",null,null,null,null,null,null,null,null,null,null,null,null,null,null,null,null,null,null,null,null,null,"stream order (391)","number of canopy layers","Forest Farming (379)","Discipline: Forestry"]
["Yes",null,null," Cooperator’s Acknowledgement: (To be completed after practice I&E and Design have been approved.)",null,null,null,null,null,null,null,null,null,{"$f":"IF(D3=\"Riparian Forest Buffer (391)\",#REF!,\"\")","v":""},null,null,null,null,null,null,null,null,"slope (601)","number  of species per row","Range Planting (550)","Discipline: Rangeland Mgt Sp"]
["Yes",null,null,"By signing below, I acknowledge that I: ",null,null,null,null,null,null,null,null,null,{"$f":"IF(D3=\"Riparian Forest Buffer (391)\",#REF!,\"\")","v":""},null,null,null,null,null,null,null,null,"practice purpose (386)","number","Riparian Forest Buffer (391)","Discipline: For & Agron & CED-LA & WBio"]
["Yes",null,null,"  ● Have reviewed these Implementation Requirements and understand the contents and requirements; ",null,null,null,null,null,null,null,null,null,{"$f":"IF(D3=\"Riparian Forest Buffer (391)\",#REF!,\"\")","v":""},null,null,null,null,null,null,null,null,null,"%","Riparian Herbaceous Cover (390)","Discipline: Biology"]
["Yes",null,null,"  ● Will make no changes to these Implementation Requirements without prior concurrence of NRCS;",null,null,null,null,null,null,null,null,null,{"$f":"IF(D3=\"Riparian Forest Buffer (391)\",#REF!,\"\")","v":""},null,null,null,null,null,null,null,null,null,null,"Silvopasture (381)","Discipline: Forestry"]
["Yes",null,null,null,null,null,null,null,null,null,null,null,null,null,null,null,null,null,null,null,null,null,null,null,"Tree/Shrub Establishment (612)","Discipline: Forestry"]
["Yes",null,null,"  ● Will obtain all necessary permits and/or rights, comply with all ordinances and laws, and notify all utilities                     >>pertaining to the installation, operation, and maintenance of this practice.",null,null,null,null,null,null,null,null,null,{"$f":"IF(D3=\"Riparian Forest Buffer (391)\",#REF!,\"\")","v":""},null,null,null,null,null,null,null,null,null,null,"Vegetative Barrier (601)","Discipline: Agronomy"]
["Yes",null,null,null,null,null,null,null,null,null,null,null,null,null,null,null,null,null,null,null,null,null,null,null,"Windbreak/Shelterbelt Establishment (380)","Discipline: Forestry"]
["Yes",null,null,"Signature",null,null,null,null,null,null,"Date",null,null,null,null,null,null,null,null,null,null,null,null,null,"Use the Forestry Linear Template for the Selected Practice","No CPS Selected"]
["Yes",null,null,"Natural Resources Conservation Service"]
["Yes",null,null,"Pacific Islands Conservation Practice Certification Sheet"]
["Yes",null,null,{"$f":"IF(D3=0,\"\",D3)","v":"Use the Forestry Linear Template for the Selected Practice"}]
["Yes",null,null,"Certification Prepared for:",null,null,null,null,null,null,"Date"]
["Yes",null,null,"Cooperator Name",{"$f":"IF(E6=0,\"\",E6)","v":""},null,null,"     Business Name",null,null,{"$f":"IF(K6=0,\"\",K6)","v":""}]
["Yes",null,null,"Tract Number",{"$f":"IF(E7=0,\"\",E7)","v":""},"Field Number(s)",{"$f":"IF(G7=0,\"\",G7)","v":""},"Field Acres",null,{"$f":"IF(J7=0,\"\",J7)","v":""},"Planned Amount",{"$f":"IF(L7=0,\"\",L7)","v":""},"acres"]
["Yes",null,null,"Certification Prepared by:"]
["Yes",null,null,"Planners Name"]
["Yes",null,null,"Resource Problem Identified",null,null,{"$f":"IF(F10=0,\"\",F10)","v":""}]
["Yes",null,null,"Selected Primary Purpose ",null,null,{"$f":"IF(F11=0,\"\",F11)","v":""}]
["Yes",null,null,"Record of Trees-Shrubs-Vines Planted and Field Checkout Notes:"]
["Yes",null,null,"CIN #"]
["Yes",null,null,"Field"]
["Yes",null,null,"Planting completion date",null,null,null,null,null,null,null,null,"Totals"]
["Yes",null,null,"Acres",null,null,null,null,null,null,null,null,{"$f":"SUM(F188:L188)","v":0}]
["Yes",null,null,"Cuttings",null,null,null,null,null,null,null,null,0]
["Yes",null,null,"Native trees",null,null,null,null,null,null,null,null,0]
["Yes",null,null,"Introduced trees",null,null,null,null,null,null,null,null,0]
["Yes",null,null,"Native shrubs/vines",null,null,null,null,null,null,null,null,0]
["Yes",null,null,"Introduced shrubs/vines",null,null,null,null,null,null,null,null,0]
["Yes",null,null,"Individual plant protection",null,null,null,null,null,null,null,null,0]
["Yes",null,null," Any variances to the following terms must be documented and approved by NRCS prior to initiating planting."]
["Yes",null,null,"1.  All species planted are documented on the Jobsheet --AND-- The planned quantities of ",null,null,null,null,null,null,null,null,null,null,null,null,null,null,null,null,null,null,true]
["Yes",null,null,"     tree/shrub/vine species (all species or specified minimum number of species) were planted.",null,null,null,null,null,null,null,null,null,null,null,null,null,null,null,null,null,null,false]
["Yes",null,null,"2. The planted quantity of each species falls within +/- 30% of the planned amount for that species."]
["Yes",null,null,"3. The average spacing for each species falls within +/- 20% of the planned spacing for that species."]
["Yes",null,null,"4.  At time of checkout planted tree/shrub/vine survival is meeting the required minimum of:",null,null,null,null,null,null,null,{"$f":"IF(G152=0,\"\",G152)","v":""}]
["Yes",null,null,"5.  All other Jobsheet specifications have been followed."]
["Yes",null,null,"6.  The practice as installed addresses the identified resource problem for the planned area."]
["Yes",null,null,"Checkout notes & methods used to determine applied units (GPS, tape, count, initial inventory, etc.): "]
["Yes"]
["Yes",null,null,"If the above six questions are answered True then the practice should be certified complete.  Must have adequate JAA."]
["Yes",null,null,null,null,null,"Certification Signature",null,null,null,null,"Date"]
["Yes"]
["Yes"]
[]
[]
[]
[]
[]
[]
[]
[]
[]
[]
[]
[]
[]
[]
[]
[]
[]
[]
[]
[]
[]
[]
[]
[]
[]
[]
[]
[]
[]
[]
[]
[]
[]
[]
[null,null,"Trigger for Practice Purposes options"]
[null,null,{"$f":"INDEX('Veg Guide Data Base'!$Q$1499:$Q$1514,MATCH('Forestry Area'!$D$3,'Veg Guide Data Base'!$R$1499:$R$1514,0))","v":{"$error":"#N/A"}}]
[]
[]
[]
[]
[]
[]
[]
[]
[]
[null,null,null,null,null,null,null,null,null,null,null,null,null,null,null,null,null,null,null,null,null,null,"DEGRADED PLANT CONDITION – Inadequate structure and composition","DEGRADED PLANT CONDITION – Excessive plant pest pressure","DEGRADED PLANT CONDITION– Wildfire hazard, excessive biomass accumulation","INADEQUATE HABITAT FOR FISH AND WILDLIFE – Habitat degradation","LIVESTOCK PRODUCTION LIMITATION – Inadequate feed and forage","LIVESTOCK PRODUCTION LIMITATION – Inadequate livestock shelter","LIVESTOCK PRODUCTION LIMITATION – Inadequate livestock water","INEFFICIENT ENERGY USE – Equipment and facilities","INEFFICIENT ENERGY USE – Farming/ranching practices and field operations","AIR QUALITY IMPACTS - Emissions of Particulate Matter - PM - and PM Precursors","AIR QUALITY IMPACTS - Emissions of Greenhouse Gases - GHGs -","AIR QUALITY IMPACTS - Emissions of Ozone Precursors","AIR QUALITY IMPACTS - Objectionable odors"]
[null,null,null,null,null,null,null,null,null,null,null,null,null,null,null,null,null,null,null,null,null,null,4,4,0,0,2,-2,2,2,0,0,2,0,1]
[null,null,null,null,null,null,null,null,null,null,null,null,null,null,null,null,null,null,null,null,null,null,3,3,0,0,0,-1,2,2,0,0,0,4,5]
[null,null,null,null,null,null,null,null,null,null,null,null,null,null,null,null,null,null,null,null,null,null,1,1,0,0,2,2,1,1,1,-1,2,0,2]
[null,null,null,null,null,null,null,null,null,null,null,null,null,null,null,null,null,null,null,null,null,null,2,2,0,-2,2,-1,2,2,2,0,2,2,4]
[]
[null,null,"Formula for named range in Data Validation for drop down list of tree  Common Names:",null,null,null,null,"\"='Forestry Area'!$H$264:INDEX('Forestry Area'!$H$264:$H$1525,COUNTIF('Forestry Area'!$H$264:$H$1525,\"?*\"))\""]
[null,null,"Formula for named range in Data Validation for drop down list of shrub  Common Names:",null,null,null,null,"\"='Forestry Area'!$I$264:INDEX('Forestry Area'!$I$264:$I$1525,COUNTIF('Forestry Area'!$I$264:$I$1525,\"?*\"))\""]
[null,null,null,null,null,null,"Shrub/Vine List","Trees Aggregate","Shrub/Vine Aggregate"]
[null,{"$f":"VLOOKUP(C264:C714,'Veg Guide Data Base'!A1499:B1949,2,FALSE)","v":{"$error":"#VALUE!"}},"Common Name","Scientific Name","Habit","Tree List"]
[null,{"$f":"IF('Veg Guide Data Base'!P1499>0,'Veg Guide Data Base'!P1499,\"\")","v":""},{"$f":"IF('Veg Guide Data Base'!A1499>0,'Veg Guide Data Base'!A1499,\"\")","v":"aalii, hopbush"},{"$f":"VLOOKUP(C264:C714,'Veg Guide Data Base'!A1499:B1949,2,FALSE)","v":{"$error":"#N/A"}},{"$f":"VLOOKUP(D264:D714,'Veg Guide Data Base'!B1499:P1949,15,FALSE)","v":{"$error":"#N/A"}},{"$f":"IF(E264=\"Tree\",C264,\"\")","v":{"$error":"#N/A"}},{"$f":"IF(OR(E264=\"Shrub\",E264=\"Vine-woody\"),C264,\"\")","v":{"$error":"#N/A"}},{"$f":"IFERROR(INDEX($F$264:$F$888,_xlfn.AGGREGATE(15,6,(ROW($F$264:$F$888)-ROW($F$264)+1)/($F$264:$F$888<>\"\"),ROWS(H$2:H2))),\"\")","v":""},{"$f":"IFERROR(INDEX($G$264:$G$888,_xlfn.AGGREGATE(15,6,(ROW($G$264:$G$888)-ROW($G$264)+1)/($G$264:$G$888<>\"\"),ROWS(H$2:H2))),\"\")","v":""}]
[null,{"$f":"IF('Veg Guide Data Base'!B1500>0,'Veg Guide Data Base'!B1500,\"\")","v":{"$error":"#N/A"}},{"$f":"IF('Veg Guide Data Base'!A1500>0,'Veg Guide Data Base'!A1500,\"\")","v":"ae - 1"},{"$error":"#N/A"},{"$error":"#N/A"},{"$f":"IF(E265=\"Tree\",C265,\"\")","v":{"$error":"#N/A"}},{"$f":"IF(OR(E265=\"Shrub\",E265=\"Vine-woody\"),C265,\"\")","v":{"$error":"#N/A"}},{"$f":"IFERROR(INDEX($F$264:$F$888,_xlfn.AGGREGATE(15,6,(ROW($F$264:$F$888)-ROW($F$264)+1)/($F$264:$F$888<>\"\"),ROWS(H$2:H3))),\"\")","v":""},{"$f":"IFERROR(INDEX($G$264:$G$888,_xlfn.AGGREGATE(15,6,(ROW($G$264:$G$888)-ROW($G$264)+1)/($G$264:$G$888<>\"\"),ROWS(H$2:H3))),\"\")","v":""}]
[null,":C863",{"$f":"IF('Veg Guide Data Base'!A1501>0,'Veg Guide Data Base'!A1501,\"\")","v":"ae - 2"},{"$error":"#N/A"},{"$error":"#N/A"},{"$error":"#N/A"},{"$error":"#N/A"},{"$f":"IFERROR(INDEX($F$264:$F$888,_xlfn.AGGREGATE(15,6,(ROW($F$264:$F$888)-ROW($F$264)+1)/($F$264:$F$888<>\"\"),ROWS(H$2:H4))),\"\")","v":""},{"$f":"IFERROR(INDEX($G$264:$G$888,_xlfn.AGGREGATE(15,6,(ROW($G$264:$G$888)-ROW($G$264)+1)/($G$264:$G$888<>\"\"),ROWS(H$2:H4))),\"\")","v":""}]
[null,{"$f":"IF('Veg Guide Data Base'!A1502>0,'Veg Guide Data Base'!A1502,\"\")","v":"ae, manele, soapberry"},{"$f":"IF('Veg Guide Data Base'!A1502>0,'Veg Guide Data Base'!A1502,\"\")","v":"ae, manele, soapberry"},{"$error":"#N/A"},{"$error":"#N/A"},{"$error":"#N/A"},{"$error":"#N/A"},{"$f":"IFERROR(INDEX($F$264:$F$888,_xlfn.AGGREGATE(15,6,(ROW($F$264:$F$888)-ROW($F$264)+1)/($F$264:$F$888<>\"\"),ROWS(H$2:H5))),\"\")","v":""},{"$f":"IFERROR(INDEX($G$264:$G$888,_xlfn.AGGREGATE(15,6,(ROW($G$264:$G$888)-ROW($G$264)+1)/($G$264:$G$888<>\"\"),ROWS(H$2:H5))),\"\")","v":""}]
[null,null,{"$f":"IF('Veg Guide Data Base'!A1503>0,'Veg Guide Data Base'!A1503,\"\")","v":"African mahogany"},{"$error":"#N/A"},{"$error":"#N/A"},{"$error":"#N/A"},{"$error":"#N/A"},{"$f":"IFERROR(INDEX($F$264:$F$888,_xlfn.AGGREGATE(15,6,(ROW($F$264:$F$888)-ROW($F$264)+1)/($F$264:$F$888<>\"\"),ROWS(H$2:H6))),\"\")","v":""},{"$f":"IFERROR(INDEX($G$264:$G$888,_xlfn.AGGREGATE(15,6,(ROW($G$264:$G$888)-ROW($G$264)+1)/($G$264:$G$888<>\"\"),ROWS(H$2:H6))),\"\")","v":""}]
[null,null,{"$f":"IF('Veg Guide Data Base'!A1504>0,'Veg Guide Data Base'!A1504,\"\")","v":"ahakea"},{"$error":"#N/A"},{"$error":"#N/A"},{"$error":"#N/A"},{"$error":"#N/A"},{"$f":"IFERROR(INDEX($F$264:$F$888,_xlfn.AGGREGATE(15,6,(ROW($F$264:$F$888)-ROW($F$264)+1)/($F$264:$F$888<>\"\"),ROWS(H$2:H7))),\"\")","v":""},{"$f":"IFERROR(INDEX($G$264:$G$888,_xlfn.AGGREGATE(15,6,(ROW($G$264:$G$888)-ROW($G$264)+1)/($G$264:$G$888<>\"\"),ROWS(H$2:H7))),\"\")","v":""}]
[null,null,{"$f":"IF('Veg Guide Data Base'!A1505>0,'Veg Guide Data Base'!A1505,\"\")","v":"akia - 1"},{"$error":"#N/A"},{"$error":"#N/A"},{"$error":"#N/A"},{"$error":"#N/A"},{"$f":"IFERROR(INDEX($F$264:$F$888,_xlfn.AGGREGATE(15,6,(ROW($F$264:$F$888)-ROW($F$264)+1)/($F$264:$F$888<>\"\"),ROWS(H$2:H8))),\"\")","v":""},{"$f":"IFERROR(INDEX($G$264:$G$888,_xlfn.AGGREGATE(15,6,(ROW($G$264:$G$888)-ROW($G$264)+1)/($G$264:$G$888<>\"\"),ROWS(H$2:H8))),\"\")","v":""}]
[null,null,{"$f":"IF('Veg Guide Data Base'!A1506>0,'Veg Guide Data Base'!A1506,\"\")","v":"akia - 2"},{"$error":"#N/A"},{"$error":"#N/A"},{"$error":"#N/A"},{"$error":"#N/A"},{"$f":"IFERROR(INDEX($F$264:$F$888,_xlfn.AGGREGATE(15,6,(ROW($F$264:$F$888)-ROW($F$264)+1)/($F$264:$F$888<>\"\"),ROWS(H$2:H9))),\"\")","v":""},{"$f":"IFERROR(INDEX($G$264:$G$888,_xlfn.AGGREGATE(15,6,(ROW($G$264:$G$888)-ROW($G$264)+1)/($G$264:$G$888<>\"\"),ROWS(H$2:H9))),\"\")","v":""}]
[null,null,{"$f":"IF('Veg Guide Data Base'!A1507>0,'Veg Guide Data Base'!A1507,\"\")","v":"akia - 3"},{"$error":"#N/A"},{"$error":"#N/A"},{"$error":"#N/A"},{"$error":"#N/A"},{"$f":"IFERROR(INDEX($F$264:$F$888,_xlfn.AGGREGATE(15,6,(ROW($F$264:$F$888)-ROW($F$264)+1)/($F$264:$F$888<>\"\"),ROWS(H$2:H10))),\"\")","v":""},{"$f":"IFERROR(INDEX($G$264:$G$888,_xlfn.AGGREGATE(15,6,(ROW($G$264:$G$888)-ROW($G$264)+1)/($G$264:$G$888<>\"\"),ROWS(H$2:H10))),\"\")","v":""}]
[null,null,{"$f":"IF('Veg Guide Data Base'!A1508>0,'Veg Guide Data Base'!A1508,\"\")","v":"akia - 4"},{"$error":"#N/A"},{"$error":"#N/A"},{"$error":"#N/A"},{"$error":"#N/A"},{"$f":"IFERROR(INDEX($F$264:$F$888,_xlfn.AGGREGATE(15,6,(ROW($F$264:$F$888)-ROW($F$264)+1)/($F$264:$F$888<>\"\"),ROWS(H$2:H11))),\"\")","v":""},{"$f":"IFERROR(INDEX($G$264:$G$888,_xlfn.AGGREGATE(15,6,(ROW($G$264:$G$888)-ROW($G$264)+1)/($G$264:$G$888<>\"\"),ROWS(H$2:H11))),\"\")","v":""}]
[null,null,{"$f":"IF('Veg Guide Data Base'!A1509>0,'Veg Guide Data Base'!A1509,\"\")","v":"akia - 5"},{"$error":"#N/A"},{"$error":"#N/A"},{"$error":"#N/A"},{"$error":"#N/A"},{"$f":"IFERROR(INDEX($F$264:$F$888,_xlfn.AGGREGATE(15,6,(ROW($F$264:$F$888)-ROW($F$264)+1)/($F$264:$F$888<>\"\"),ROWS(H$2:H12))),\"\")","v":""},{"$f":"IFERROR(INDEX($G$264:$G$888,_xlfn.AGGREGATE(15,6,(ROW($G$264:$G$888)-ROW($G$264)+1)/($G$264:$G$888<>\"\"),ROWS(H$2:H12))),\"\")","v":""}]
[null,null,{"$f":"IF('Veg Guide Data Base'!A1510>0,'Veg Guide Data Base'!A1510,\"\")","v":"akia - 6"},{"$error":"#N/A"},{"$error":"#N/A"},{"$error":"#N/A"},{"$error":"#N/A"},{"$f":"IFERROR(INDEX($F$264:$F$888,_xlfn.AGGREGATE(15,6,(ROW($F$264:$F$888)-ROW($F$264)+1)/($F$264:$F$888<>\"\"),ROWS(H$2:H13))),\"\")","v":""},{"$f":"IFERROR(INDEX($G$264:$G$888,_xlfn.AGGREGATE(15,6,(ROW($G$264:$G$888)-ROW($G$264)+1)/($G$264:$G$888<>\"\"),ROWS(H$2:H13))),\"\")","v":""}]
[null,null,{"$f":"IF('Veg Guide Data Base'!A1511>0,'Veg Guide Data Base'!A1511,\"\")","v":"akoko - 1"},{"$error":"#N/A"},{"$error":"#N/A"},{"$error":"#N/A"},{"$error":"#N/A"},{"$f":"IFERROR(INDEX($F$264:$F$888,_xlfn.AGGREGATE(15,6,(ROW($F$264:$F$888)-ROW($F$264)+1)/($F$264:$F$888<>\"\"),ROWS(H$2:H14))),\"\")","v":""},{"$f":"IFERROR(INDEX($G$264:$G$888,_xlfn.AGGREGATE(15,6,(ROW($G$264:$G$888)-ROW($G$264)+1)/($G$264:$G$888<>\"\"),ROWS(H$2:H14))),\"\")","v":""}]
[null,null,{"$f":"IF('Veg Guide Data Base'!A1512>0,'Veg Guide Data Base'!A1512,\"\")","v":"akoko - 4"},{"$error":"#N/A"},{"$error":"#N/A"},{"$error":"#N/A"},{"$error":"#N/A"},{"$f":"IFERROR(INDEX($F$264:$F$888,_xlfn.AGGREGATE(15,6,(ROW($F$264:$F$888)-ROW($F$264)+1)/($F$264:$F$888<>\"\"),ROWS(H$2:H15))),\"\")","v":""},{"$f":"IFERROR(INDEX($G$264:$G$888,_xlfn.AGGREGATE(15,6,(ROW($G$264:$G$888)-ROW($G$264)+1)/($G$264:$G$888<>\"\"),ROWS(H$2:H15))),\"\")","v":""}]
[null,null,{"$f":"IF('Veg Guide Data Base'!A1513>0,'Veg Guide Data Base'!A1513,\"\")","v":"akoko - 5"},{"$error":"#N/A"},{"$error":"#N/A"},{"$error":"#N/A"},{"$error":"#N/A"},{"$f":"IFERROR(INDEX($F$264:$F$888,_xlfn.AGGREGATE(15,6,(ROW($F$264:$F$888)-ROW($F$264)+1)/($F$264:$F$888<>\"\"),ROWS(H$2:H16))),\"\")","v":""},{"$f":"IFERROR(INDEX($G$264:$G$888,_xlfn.AGGREGATE(15,6,(ROW($G$264:$G$888)-ROW($G$264)+1)/($G$264:$G$888<>\"\"),ROWS(H$2:H16))),\"\")","v":""}]
[null,null,{"$f":"IF('Veg Guide Data Base'!A1514>0,'Veg Guide Data Base'!A1514,\"\")","v":"akolea"},{"$error":"#N/A"},{"$error":"#N/A"},{"$error":"#N/A"},{"$error":"#N/A"},{"$f":"IFERROR(INDEX($F$264:$F$888,_xlfn.AGGREGATE(15,6,(ROW($F$264:$F$888)-ROW($F$264)+1)/($F$264:$F$888<>\"\"),ROWS(H$2:H17))),\"\")","v":""},{"$f":"IFERROR(INDEX($G$264:$G$888,_xlfn.AGGREGATE(15,6,(ROW($G$264:$G$888)-ROW($G$264)+1)/($G$264:$G$888<>\"\"),ROWS(H$2:H17))),\"\")","v":""}]
[null,null,{"$f":"IF('Veg Guide Data Base'!A1515>0,'Veg Guide Data Base'!A1515,\"\")","v":"alahee"},{"$error":"#N/A"},{"$error":"#N/A"},{"$error":"#N/A"},{"$error":"#N/A"},{"$f":"IFERROR(INDEX($F$264:$F$888,_xlfn.AGGREGATE(15,6,(ROW($F$264:$F$888)-ROW($F$264)+1)/($F$264:$F$888<>\"\"),ROWS(H$2:H18))),\"\")","v":""},{"$f":"IFERROR(INDEX($G$264:$G$888,_xlfn.AGGREGATE(15,6,(ROW($G$264:$G$888)-ROW($G$264)+1)/($G$264:$G$888<>\"\"),ROWS(H$2:H18))),\"\")","v":""}]
[null,null,{"$f":"IF('Veg Guide Data Base'!A1516>0,'Veg Guide Data Base'!A1516,\"\")","v":"alani"},{"$error":"#N/A"},{"$error":"#N/A"},{"$error":"#N/A"},{"$error":"#N/A"},{"$f":"IFERROR(INDEX($F$264:$F$888,_xlfn.AGGREGATE(15,6,(ROW($F$264:$F$888)-ROW($F$264)+1)/($F$264:$F$888<>\"\"),ROWS(H$2:H19))),\"\")","v":""},{"$f":"IFERROR(INDEX($G$264:$G$888,_xlfn.AGGREGATE(15,6,(ROW($G$264:$G$888)-ROW($G$264)+1)/($G$264:$G$888<>\"\"),ROWS(H$2:H19))),\"\")","v":""}]
[null,null,{"$f":"IF('Veg Guide Data Base'!A1517>0,'Veg Guide Data Base'!A1517,\"\")","v":"alani"},{"$error":"#N/A"},{"$error":"#N/A"},{"$error":"#N/A"},{"$error":"#N/A"},{"$f":"IFERROR(INDEX($F$264:$F$888,_xlfn.AGGREGATE(15,6,(ROW($F$264:$F$888)-ROW($F$264)+1)/($F$264:$F$888<>\"\"),ROWS(H$2:H20))),\"\")","v":""},{"$f":"IFERROR(INDEX($G$264:$G$888,_xlfn.AGGREGATE(15,6,(ROW($G$264:$G$888)-ROW($G$264)+1)/($G$264:$G$888<>\"\"),ROWS(H$2:H20))),\"\")","v":""}]
[null,null,{"$f":"IF('Veg Guide Data Base'!A1518>0,'Veg Guide Data Base'!A1518,\"\")","v":"aloalo, hau hele wai, ʻakiohala, Hawaiian pink hibiscus, lindenleaf rosemallow"},{"$error":"#N/A"},{"$error":"#N/A"},{"$error":"#N/A"},{"$error":"#N/A"},{"$f":"IFERROR(INDEX($F$264:$F$888,_xlfn.AGGREGATE(15,6,(ROW($F$264:$F$888)-ROW($F$264)+1)/($F$264:$F$888<>\"\"),ROWS(H$2:H21))),\"\")","v":""},{"$f":"IFERROR(INDEX($G$264:$G$888,_xlfn.AGGREGATE(15,6,(ROW($G$264:$G$888)-ROW($G$264)+1)/($G$264:$G$888<>\"\"),ROWS(H$2:H21))),\"\")","v":""}]
[null,null,{"$f":"IF('Veg Guide Data Base'!A1519>0,'Veg Guide Data Base'!A1519,\"\")","v":"amau"},{"$error":"#N/A"},{"$error":"#N/A"},{"$error":"#N/A"},{"$error":"#N/A"},{"$f":"IFERROR(INDEX($F$264:$F$888,_xlfn.AGGREGATE(15,6,(ROW($F$264:$F$888)-ROW($F$264)+1)/($F$264:$F$888<>\"\"),ROWS(H$2:H22))),\"\")","v":""},{"$f":"IFERROR(INDEX($G$264:$G$888,_xlfn.AGGREGATE(15,6,(ROW($G$264:$G$888)-ROW($G$264)+1)/($G$264:$G$888<>\"\"),ROWS(H$2:H22))),\"\")","v":""}]
[null,null,{"$f":"IF('Veg Guide Data Base'!A1520>0,'Veg Guide Data Base'!A1520,\"\")","v":"areca palm"},{"$error":"#N/A"},{"$error":"#N/A"},{"$error":"#N/A"},{"$error":"#N/A"},{"$f":"IFERROR(INDEX($F$264:$F$888,_xlfn.AGGREGATE(15,6,(ROW($F$264:$F$888)-ROW($F$264)+1)/($F$264:$F$888<>\"\"),ROWS(H$2:H23))),\"\")","v":""},{"$f":"IFERROR(INDEX($G$264:$G$888,_xlfn.AGGREGATE(15,6,(ROW($G$264:$G$888)-ROW($G$264)+1)/($G$264:$G$888<>\"\"),ROWS(H$2:H23))),\"\")","v":""}]
[null,null,{"$f":"IF('Veg Guide Data Base'!A1521>0,'Veg Guide Data Base'!A1521,\"\")","v":"atemoya"},{"$error":"#N/A"},{"$error":"#N/A"},{"$error":"#N/A"},{"$error":"#N/A"},{"$f":"IFERROR(INDEX($F$264:$F$888,_xlfn.AGGREGATE(15,6,(ROW($F$264:$F$888)-ROW($F$264)+1)/($F$264:$F$888<>\"\"),ROWS(H$2:H24))),\"\")","v":""},{"$f":"IFERROR(INDEX($G$264:$G$888,_xlfn.AGGREGATE(15,6,(ROW($G$264:$G$888)-ROW($G$264)+1)/($G$264:$G$888<>\"\"),ROWS(H$2:H24))),\"\")","v":""}]
[null,null,{"$f":"IF('Veg Guide Data Base'!A1522>0,'Veg Guide Data Base'!A1522,\"\")","v":"aulu"},{"$error":"#N/A"},{"$error":"#N/A"},{"$error":"#N/A"},{"$error":"#N/A"},{"$f":"IFERROR(INDEX($F$264:$F$888,_xlfn.AGGREGATE(15,6,(ROW($F$264:$F$888)-ROW($F$264)+1)/($F$264:$F$888<>\"\"),ROWS(H$2:H25))),\"\")","v":""},{"$f":"IFERROR(INDEX($G$264:$G$888,_xlfn.AGGREGATE(15,6,(ROW($G$264:$G$888)-ROW($G$264)+1)/($G$264:$G$888<>\"\"),ROWS(H$2:H25))),\"\")","v":""}]
[null,null,{"$f":"IF('Veg Guide Data Base'!A1523>0,'Veg Guide Data Base'!A1523,\"\")","v":"avocado"},{"$error":"#N/A"},{"$error":"#N/A"},{"$error":"#N/A"},{"$error":"#N/A"},{"$f":"IFERROR(INDEX($F$264:$F$888,_xlfn.AGGREGATE(15,6,(ROW($F$264:$F$888)-ROW($F$264)+1)/($F$264:$F$888<>\"\"),ROWS(H$2:H26))),\"\")","v":""},{"$f":"IFERROR(INDEX($G$264:$G$888,_xlfn.AGGREGATE(15,6,(ROW($G$264:$G$888)-ROW($G$264)+1)/($G$264:$G$888<>\"\"),ROWS(H$2:H26))),\"\")","v":""}]
[null,null,{"$f":"IF('Veg Guide Data Base'!A1524>0,'Veg Guide Data Base'!A1524,\"\")","v":"aweoweo, aheahea"},{"$error":"#N/A"},{"$error":"#N/A"},{"$error":"#N/A"},{"$error":"#N/A"},{"$f":"IFERROR(INDEX($F$264:$F$888,_xlfn.AGGREGATE(15,6,(ROW($F$264:$F$888)-ROW($F$264)+1)/($F$264:$F$888<>\"\"),ROWS(H$2:H27))),\"\")","v":""},{"$f":"IFERROR(INDEX($G$264:$G$888,_xlfn.AGGREGATE(15,6,(ROW($G$264:$G$888)-ROW($G$264)+1)/($G$264:$G$888<>\"\"),ROWS(H$2:H27))),\"\")","v":""}]
[null,null,{"$f":"IF('Veg Guide Data Base'!A1525>0,'Veg Guide Data Base'!A1525,\"\")","v":"bamboo (clumping only), ohe"},{"$error":"#N/A"},{"$error":"#N/A"},{"$error":"#N/A"},{"$error":"#N/A"},{"$f":"IFERROR(INDEX($F$264:$F$888,_xlfn.AGGREGATE(15,6,(ROW($F$264:$F$888)-ROW($F$264)+1)/($F$264:$F$888<>\"\"),ROWS(H$2:H28))),\"\")","v":""},{"$f":"IFERROR(INDEX($G$264:$G$888,_xlfn.AGGREGATE(15,6,(ROW($G$264:$G$888)-ROW($G$264)+1)/($G$264:$G$888<>\"\"),ROWS(H$2:H28))),\"\")","v":""}]
[null,null,{"$f":"IF('Veg Guide Data Base'!A1526>0,'Veg Guide Data Base'!A1526,\"\")","v":"banana, apple banana, maia"},{"$error":"#N/A"},{"$error":"#N/A"},{"$error":"#N/A"},{"$error":"#N/A"},{"$f":"IFERROR(INDEX($F$264:$F$888,_xlfn.AGGREGATE(15,6,(ROW($F$264:$F$888)-ROW($F$264)+1)/($F$264:$F$888<>\"\"),ROWS(H$2:H29))),\"\")","v":""},{"$f":"IFERROR(INDEX($G$264:$G$888,_xlfn.AGGREGATE(15,6,(ROW($G$264:$G$888)-ROW($G$264)+1)/($G$264:$G$888<>\"\"),ROWS(H$2:H29))),\"\")","v":""}]
[null,null,{"$f":"IF('Veg Guide Data Base'!A1527>0,'Veg Guide Data Base'!A1527,\"\")","v":"banana, plantain"},{"$error":"#N/A"},{"$error":"#N/A"},{"$error":"#N/A"},{"$error":"#N/A"},{"$f":"IFERROR(INDEX($F$264:$F$888,_xlfn.AGGREGATE(15,6,(ROW($F$264:$F$888)-ROW($F$264)+1)/($F$264:$F$888<>\"\"),ROWS(H$2:H30))),\"\")","v":""},{"$f":"IFERROR(INDEX($G$264:$G$888,_xlfn.AGGREGATE(15,6,(ROW($G$264:$G$888)-ROW($G$264)+1)/($G$264:$G$888<>\"\"),ROWS(H$2:H30))),\"\")","v":""}]
[null,null,{"$f":"IF('Veg Guide Data Base'!A1528>0,'Veg Guide Data Base'!A1528,\"\")","v":"Bermuda juniper"},{"$error":"#N/A"},{"$error":"#N/A"},{"$error":"#N/A"},{"$error":"#N/A"},{"$f":"IFERROR(INDEX($F$264:$F$888,_xlfn.AGGREGATE(15,6,(ROW($F$264:$F$888)-ROW($F$264)+1)/($F$264:$F$888<>\"\"),ROWS(H$2:H31))),\"\")","v":""},{"$f":"IFERROR(INDEX($G$264:$G$888,_xlfn.AGGREGATE(15,6,(ROW($G$264:$G$888)-ROW($G$264)+1)/($G$264:$G$888<>\"\"),ROWS(H$2:H31))),\"\")","v":""}]
[null,null,{"$f":"IF('Veg Guide Data Base'!A1529>0,'Veg Guide Data Base'!A1529,\"\")","v":"big/broad leaf mahogany"},{"$error":"#N/A"},{"$error":"#N/A"},{"$error":"#N/A"},{"$error":"#N/A"},{"$f":"IFERROR(INDEX($F$264:$F$888,_xlfn.AGGREGATE(15,6,(ROW($F$264:$F$888)-ROW($F$264)+1)/($F$264:$F$888<>\"\"),ROWS(H$2:H32))),\"\")","v":""},{"$f":"IFERROR(INDEX($G$264:$G$888,_xlfn.AGGREGATE(15,6,(ROW($G$264:$G$888)-ROW($G$264)+1)/($G$264:$G$888<>\"\"),ROWS(H$2:H32))),\"\")","v":""}]
[null,null,{"$f":"IF('Veg Guide Data Base'!A1530>0,'Veg Guide Data Base'!A1530,\"\")","v":"blue marble"},{"$error":"#N/A"},{"$error":"#N/A"},{"$error":"#N/A"},{"$error":"#N/A"},{"$f":"IFERROR(INDEX($F$264:$F$888,_xlfn.AGGREGATE(15,6,(ROW($F$264:$F$888)-ROW($F$264)+1)/($F$264:$F$888<>\"\"),ROWS(H$2:H33))),\"\")","v":""},{"$f":"IFERROR(INDEX($G$264:$G$888,_xlfn.AGGREGATE(15,6,(ROW($G$264:$G$888)-ROW($G$264)+1)/($G$264:$G$888<>\"\"),ROWS(H$2:H33))),\"\")","v":""}]
[null,null,{"$f":"IF('Veg Guide Data Base'!A1531>0,'Veg Guide Data Base'!A1531,\"\")","v":"breadfruit, ulu"},{"$error":"#N/A"},{"$error":"#N/A"},{"$error":"#N/A"},{"$error":"#N/A"},{"$f":"IFERROR(INDEX($F$264:$F$888,_xlfn.AGGREGATE(15,6,(ROW($F$264:$F$888)-ROW($F$264)+1)/($F$264:$F$888<>\"\"),ROWS(H$2:H34))),\"\")","v":""},{"$f":"IFERROR(INDEX($G$264:$G$888,_xlfn.AGGREGATE(15,6,(ROW($G$264:$G$888)-ROW($G$264)+1)/($G$264:$G$888<>\"\"),ROWS(H$2:H34))),\"\")","v":""}]
[null,null,{"$f":"IF('Veg Guide Data Base'!A1532>0,'Veg Guide Data Base'!A1532,\"\")","v":"brushbox"},{"$error":"#N/A"},{"$error":"#N/A"},{"$error":"#N/A"},{"$error":"#N/A"},{"$f":"IFERROR(INDEX($F$264:$F$888,_xlfn.AGGREGATE(15,6,(ROW($F$264:$F$888)-ROW($F$264)+1)/($F$264:$F$888<>\"\"),ROWS(H$2:H35))),\"\")","v":""},{"$f":"IFERROR(INDEX($G$264:$G$888,_xlfn.AGGREGATE(15,6,(ROW($G$264:$G$888)-ROW($G$264)+1)/($G$264:$G$888<>\"\"),ROWS(H$2:H35))),\"\")","v":""}]
[null,null,{"$f":"IF('Veg Guide Data Base'!A1533>0,'Veg Guide Data Base'!A1533,\"\")","v":"cacao, cocoa"},{"$error":"#N/A"},{"$error":"#N/A"},{"$error":"#N/A"},{"$error":"#N/A"},{"$f":"IFERROR(INDEX($F$264:$F$888,_xlfn.AGGREGATE(15,6,(ROW($F$264:$F$888)-ROW($F$264)+1)/($F$264:$F$888<>\"\"),ROWS(H$2:H36))),\"\")","v":""},{"$f":"IFERROR(INDEX($G$264:$G$888,_xlfn.AGGREGATE(15,6,(ROW($G$264:$G$888)-ROW($G$264)+1)/($G$264:$G$888<>\"\"),ROWS(H$2:H36))),\"\")","v":""}]
[null,null,{"$f":"IF('Veg Guide Data Base'!A1534>0,'Veg Guide Data Base'!A1534,\"\")","v":"calamansi, calamondin"},{"$error":"#N/A"},{"$error":"#N/A"},{"$error":"#N/A"},{"$error":"#N/A"},{"$f":"IFERROR(INDEX($F$264:$F$888,_xlfn.AGGREGATE(15,6,(ROW($F$264:$F$888)-ROW($F$264)+1)/($F$264:$F$888<>\"\"),ROWS(H$2:H37))),\"\")","v":""},{"$f":"IFERROR(INDEX($G$264:$G$888,_xlfn.AGGREGATE(15,6,(ROW($G$264:$G$888)-ROW($G$264)+1)/($G$264:$G$888<>\"\"),ROWS(H$2:H37))),\"\")","v":""}]
[null,null,{"$f":"IF('Veg Guide Data Base'!A1535>0,'Veg Guide Data Base'!A1535,\"\")","v":"cashew"},{"$error":"#N/A"},{"$error":"#N/A"},{"$error":"#N/A"},{"$error":"#N/A"},{"$f":"IFERROR(INDEX($F$264:$F$888,_xlfn.AGGREGATE(15,6,(ROW($F$264:$F$888)-ROW($F$264)+1)/($F$264:$F$888<>\"\"),ROWS(H$2:H38))),\"\")","v":""},{"$f":"IFERROR(INDEX($G$264:$G$888,_xlfn.AGGREGATE(15,6,(ROW($G$264:$G$888)-ROW($G$264)+1)/($G$264:$G$888<>\"\"),ROWS(H$2:H38))),\"\")","v":""}]
[null,null,{"$f":"IF('Veg Guide Data Base'!A1536>0,'Veg Guide Data Base'!A1536,\"\")","v":"citrus"},{"$error":"#N/A"},{"$error":"#N/A"},{"$error":"#N/A"},{"$error":"#N/A"},{"$f":"IFERROR(INDEX($F$264:$F$888,_xlfn.AGGREGATE(15,6,(ROW($F$264:$F$888)-ROW($F$264)+1)/($F$264:$F$888<>\"\"),ROWS(H$2:H39))),\"\")","v":""},{"$f":"IFERROR(INDEX($G$264:$G$888,_xlfn.AGGREGATE(15,6,(ROW($G$264:$G$888)-ROW($G$264)+1)/($G$264:$G$888<>\"\"),ROWS(H$2:H39))),\"\")","v":""}]
[null,null,{"$f":"IF('Veg Guide Data Base'!A1537>0,'Veg Guide Data Base'!A1537,\"\")","v":"coconut (dwarf), niu leka"},{"$error":"#N/A"},{"$error":"#N/A"},{"$error":"#N/A"},{"$error":"#N/A"},{"$f":"IFERROR(INDEX($F$264:$F$888,_xlfn.AGGREGATE(15,6,(ROW($F$264:$F$888)-ROW($F$264)+1)/($F$264:$F$888<>\"\"),ROWS(H$2:H40))),\"\")","v":""},{"$f":"IFERROR(INDEX($G$264:$G$888,_xlfn.AGGREGATE(15,6,(ROW($G$264:$G$888)-ROW($G$264)+1)/($G$264:$G$888<>\"\"),ROWS(H$2:H40))),\"\")","v":""}]
[null,null,{"$f":"IF('Veg Guide Data Base'!A1538>0,'Veg Guide Data Base'!A1538,\"\")","v":"coconut (tall), niu"},{"$error":"#N/A"},{"$error":"#N/A"},{"$error":"#N/A"},{"$error":"#N/A"},{"$f":"IFERROR(INDEX($F$264:$F$888,_xlfn.AGGREGATE(15,6,(ROW($F$264:$F$888)-ROW($F$264)+1)/($F$264:$F$888<>\"\"),ROWS(H$2:H41))),\"\")","v":""},{"$f":"IFERROR(INDEX($G$264:$G$888,_xlfn.AGGREGATE(15,6,(ROW($G$264:$G$888)-ROW($G$264)+1)/($G$264:$G$888<>\"\"),ROWS(H$2:H41))),\"\")","v":""}]
[null,null,{"$f":"IF('Veg Guide Data Base'!A1539>0,'Veg Guide Data Base'!A1539,\"\")","v":"Cook pine"},{"$error":"#N/A"},{"$error":"#N/A"},{"$error":"#N/A"},{"$error":"#N/A"},{"$f":"IFERROR(INDEX($F$264:$F$888,_xlfn.AGGREGATE(15,6,(ROW($F$264:$F$888)-ROW($F$264)+1)/($F$264:$F$888<>\"\"),ROWS(H$2:H42))),\"\")","v":""},{"$f":"IFERROR(INDEX($G$264:$G$888,_xlfn.AGGREGATE(15,6,(ROW($G$264:$G$888)-ROW($G$264)+1)/($G$264:$G$888<>\"\"),ROWS(H$2:H42))),\"\")","v":""}]
[null,null,{"$f":"IF('Veg Guide Data Base'!A1540>0,'Veg Guide Data Base'!A1540,\"\")","v":"cornstalk dracaena"},{"$error":"#N/A"},{"$error":"#N/A"},{"$error":"#N/A"},{"$error":"#N/A"},{"$f":"IFERROR(INDEX($F$264:$F$888,_xlfn.AGGREGATE(15,6,(ROW($F$264:$F$888)-ROW($F$264)+1)/($F$264:$F$888<>\"\"),ROWS(H$2:H43))),\"\")","v":""},{"$f":"IFERROR(INDEX($G$264:$G$888,_xlfn.AGGREGATE(15,6,(ROW($G$264:$G$888)-ROW($G$264)+1)/($G$264:$G$888<>\"\"),ROWS(H$2:H43))),\"\")","v":""}]
[null,null,{"$f":"IF('Veg Guide Data Base'!A1541>0,'Veg Guide Data Base'!A1541,\"\")","v":"croton"},{"$error":"#N/A"},{"$error":"#N/A"},{"$error":"#N/A"},{"$error":"#N/A"},{"$f":"IFERROR(INDEX($F$264:$F$888,_xlfn.AGGREGATE(15,6,(ROW($F$264:$F$888)-ROW($F$264)+1)/($F$264:$F$888<>\"\"),ROWS(H$2:H44))),\"\")","v":""},{"$f":"IFERROR(INDEX($G$264:$G$888,_xlfn.AGGREGATE(15,6,(ROW($G$264:$G$888)-ROW($G$264)+1)/($G$264:$G$888<>\"\"),ROWS(H$2:H44))),\"\")","v":""}]
[null,null,{"$f":"IF('Veg Guide Data Base'!A1542>0,'Veg Guide Data Base'!A1542,\"\")","v":"durian"},{"$error":"#N/A"},{"$error":"#N/A"},{"$error":"#N/A"},{"$error":"#N/A"},{"$f":"IFERROR(INDEX($F$264:$F$888,_xlfn.AGGREGATE(15,6,(ROW($F$264:$F$888)-ROW($F$264)+1)/($F$264:$F$888<>\"\"),ROWS(H$2:H45))),\"\")","v":""},{"$f":"IFERROR(INDEX($G$264:$G$888,_xlfn.AGGREGATE(15,6,(ROW($G$264:$G$888)-ROW($G$264)+1)/($G$264:$G$888<>\"\"),ROWS(H$2:H45))),\"\")","v":""}]
[null,null,{"$f":"IF('Veg Guide Data Base'!A1543>0,'Veg Guide Data Base'!A1543,\"\")","v":"ear pod"},{"$error":"#N/A"},{"$error":"#N/A"},{"$error":"#N/A"},{"$error":"#N/A"},{"$f":"IFERROR(INDEX($F$264:$F$888,_xlfn.AGGREGATE(15,6,(ROW($F$264:$F$888)-ROW($F$264)+1)/($F$264:$F$888<>\"\"),ROWS(H$2:H46))),\"\")","v":""},{"$f":"IFERROR(INDEX($G$264:$G$888,_xlfn.AGGREGATE(15,6,(ROW($G$264:$G$888)-ROW($G$264)+1)/($G$264:$G$888<>\"\"),ROWS(H$2:H46))),\"\")","v":""}]
[null,null,{"$f":"IF('Veg Guide Data Base'!A1544>0,'Veg Guide Data Base'!A1544,\"\")","v":"false kamani, tropical almond, kamani haole"},{"$error":"#N/A"},{"$error":"#N/A"},{"$error":"#N/A"},{"$error":"#N/A"},{"$f":"IFERROR(INDEX($F$264:$F$888,_xlfn.AGGREGATE(15,6,(ROW($F$264:$F$888)-ROW($F$264)+1)/($F$264:$F$888<>\"\"),ROWS(H$2:H47))),\"\")","v":""},{"$f":"IFERROR(INDEX($G$264:$G$888,_xlfn.AGGREGATE(15,6,(ROW($G$264:$G$888)-ROW($G$264)+1)/($G$264:$G$888<>\"\"),ROWS(H$2:H47))),\"\")","v":""}]
[null,null,{"$f":"IF('Veg Guide Data Base'!A1545>0,'Veg Guide Data Base'!A1545,\"\")","v":"fern pine"},{"$error":"#N/A"},{"$error":"#N/A"},{"$error":"#N/A"},{"$error":"#N/A"},{"$f":"IFERROR(INDEX($F$264:$F$888,_xlfn.AGGREGATE(15,6,(ROW($F$264:$F$888)-ROW($F$264)+1)/($F$264:$F$888<>\"\"),ROWS(H$2:H48))),\"\")","v":""},{"$f":"IFERROR(INDEX($G$264:$G$888,_xlfn.AGGREGATE(15,6,(ROW($G$264:$G$888)-ROW($G$264)+1)/($G$264:$G$888<>\"\"),ROWS(H$2:H48))),\"\")","v":""}]
[null,null,{"$f":"IF('Veg Guide Data Base'!A1546>0,'Veg Guide Data Base'!A1546,\"\")","v":"fern tree "},{"$error":"#N/A"},{"$error":"#N/A"},{"$error":"#N/A"},{"$error":"#N/A"},{"$f":"IFERROR(INDEX($F$264:$F$888,_xlfn.AGGREGATE(15,6,(ROW($F$264:$F$888)-ROW($F$264)+1)/($F$264:$F$888<>\"\"),ROWS(H$2:H49))),\"\")","v":""},{"$f":"IFERROR(INDEX($G$264:$G$888,_xlfn.AGGREGATE(15,6,(ROW($G$264:$G$888)-ROW($G$264)+1)/($G$264:$G$888<>\"\"),ROWS(H$2:H49))),\"\")","v":""}]
[null,null,{"$f":"IF('Veg Guide Data Base'!A1547>0,'Veg Guide Data Base'!A1547,\"\")","v":"fig (common)"},{"$error":"#N/A"},{"$error":"#N/A"},{"$error":"#N/A"},{"$error":"#N/A"},{"$f":"IFERROR(INDEX($F$264:$F$888,_xlfn.AGGREGATE(15,6,(ROW($F$264:$F$888)-ROW($F$264)+1)/($F$264:$F$888<>\"\"),ROWS(H$2:H50))),\"\")","v":""},{"$f":"IFERROR(INDEX($G$264:$G$888,_xlfn.AGGREGATE(15,6,(ROW($G$264:$G$888)-ROW($G$264)+1)/($G$264:$G$888<>\"\"),ROWS(H$2:H50))),\"\")","v":""}]
[null,null,{"$f":"IF('Veg Guide Data Base'!A1548>0,'Veg Guide Data Base'!A1548,\"\")","v":"fish poison tree  "},{"$error":"#N/A"},{"$error":"#N/A"},{"$error":"#N/A"},{"$error":"#N/A"},{"$f":"IFERROR(INDEX($F$264:$F$888,_xlfn.AGGREGATE(15,6,(ROW($F$264:$F$888)-ROW($F$264)+1)/($F$264:$F$888<>\"\"),ROWS(H$2:H51))),\"\")","v":""},{"$f":"IFERROR(INDEX($G$264:$G$888,_xlfn.AGGREGATE(15,6,(ROW($G$264:$G$888)-ROW($G$264)+1)/($G$264:$G$888<>\"\"),ROWS(H$2:H51))),\"\")","v":""}]
[null,null,{"$f":"IF('Veg Guide Data Base'!A1549>0,'Veg Guide Data Base'!A1549,\"\")","v":"Guatemalan rosewood"},{"$error":"#N/A"},{"$error":"#N/A"},{"$error":"#N/A"},{"$error":"#N/A"},{"$f":"IFERROR(INDEX($F$264:$F$888,_xlfn.AGGREGATE(15,6,(ROW($F$264:$F$888)-ROW($F$264)+1)/($F$264:$F$888<>\"\"),ROWS(H$2:H52))),\"\")","v":""},{"$f":"IFERROR(INDEX($G$264:$G$888,_xlfn.AGGREGATE(15,6,(ROW($G$264:$G$888)-ROW($G$264)+1)/($G$264:$G$888<>\"\"),ROWS(H$2:H52))),\"\")","v":""}]
[null,null,{"$f":"IF('Veg Guide Data Base'!A1550>0,'Veg Guide Data Base'!A1550,\"\")","v":"hala pepe - 1"},{"$error":"#N/A"},{"$error":"#N/A"},{"$error":"#N/A"},{"$error":"#N/A"},{"$f":"IFERROR(INDEX($F$264:$F$888,_xlfn.AGGREGATE(15,6,(ROW($F$264:$F$888)-ROW($F$264)+1)/($F$264:$F$888<>\"\"),ROWS(H$2:H53))),\"\")","v":""},{"$f":"IFERROR(INDEX($G$264:$G$888,_xlfn.AGGREGATE(15,6,(ROW($G$264:$G$888)-ROW($G$264)+1)/($G$264:$G$888<>\"\"),ROWS(H$2:H53))),\"\")","v":""}]
[null,null,{"$f":"IF('Veg Guide Data Base'!A1551>0,'Veg Guide Data Base'!A1551,\"\")","v":"hala pepe - 2"},{"$error":"#N/A"},{"$error":"#N/A"},{"$error":"#N/A"},{"$error":"#N/A"},{"$f":"IFERROR(INDEX($F$264:$F$888,_xlfn.AGGREGATE(15,6,(ROW($F$264:$F$888)-ROW($F$264)+1)/($F$264:$F$888<>\"\"),ROWS(H$2:H54))),\"\")","v":""},{"$f":"IFERROR(INDEX($G$264:$G$888,_xlfn.AGGREGATE(15,6,(ROW($G$264:$G$888)-ROW($G$264)+1)/($G$264:$G$888<>\"\"),ROWS(H$2:H54))),\"\")","v":""}]
[null,null,{"$f":"IF('Veg Guide Data Base'!A1552>0,'Veg Guide Data Base'!A1552,\"\")","v":"hala pepe - 3"},{"$error":"#N/A"},{"$error":"#N/A"},{"$error":"#N/A"},{"$error":"#N/A"},{"$f":"IFERROR(INDEX($F$264:$F$888,_xlfn.AGGREGATE(15,6,(ROW($F$264:$F$888)-ROW($F$264)+1)/($F$264:$F$888<>\"\"),ROWS(H$2:H55))),\"\")","v":""},{"$f":"IFERROR(INDEX($G$264:$G$888,_xlfn.AGGREGATE(15,6,(ROW($G$264:$G$888)-ROW($G$264)+1)/($G$264:$G$888<>\"\"),ROWS(H$2:H55))),\"\")","v":""}]
[null,null,{"$f":"IF('Veg Guide Data Base'!A1553>0,'Veg Guide Data Base'!A1553,\"\")","v":"hala, screwpine"},{"$error":"#N/A"},{"$error":"#N/A"},{"$error":"#N/A"},{"$error":"#N/A"},{"$f":"IFERROR(INDEX($F$264:$F$888,_xlfn.AGGREGATE(15,6,(ROW($F$264:$F$888)-ROW($F$264)+1)/($F$264:$F$888<>\"\"),ROWS(H$2:H56))),\"\")","v":""},{"$f":"IFERROR(INDEX($G$264:$G$888,_xlfn.AGGREGATE(15,6,(ROW($G$264:$G$888)-ROW($G$264)+1)/($G$264:$G$888<>\"\"),ROWS(H$2:H56))),\"\")","v":""}]
[null,null,{"$f":"IF('Veg Guide Data Base'!A1554>0,'Veg Guide Data Base'!A1554,\"\")","v":"hame - 1"},{"$error":"#N/A"},{"$error":"#N/A"},{"$error":"#N/A"},{"$error":"#N/A"},{"$f":"IFERROR(INDEX($F$264:$F$888,_xlfn.AGGREGATE(15,6,(ROW($F$264:$F$888)-ROW($F$264)+1)/($F$264:$F$888<>\"\"),ROWS(H$2:H57))),\"\")","v":""},{"$f":"IFERROR(INDEX($G$264:$G$888,_xlfn.AGGREGATE(15,6,(ROW($G$264:$G$888)-ROW($G$264)+1)/($G$264:$G$888<>\"\"),ROWS(H$2:H57))),\"\")","v":""}]
[null,null,{"$f":"IF('Veg Guide Data Base'!A1555>0,'Veg Guide Data Base'!A1555,\"\")","v":"hame - 2"},{"$error":"#N/A"},{"$error":"#N/A"},{"$error":"#N/A"},{"$error":"#N/A"},{"$f":"IFERROR(INDEX($F$264:$F$888,_xlfn.AGGREGATE(15,6,(ROW($F$264:$F$888)-ROW($F$264)+1)/($F$264:$F$888<>\"\"),ROWS(H$2:H58))),\"\")","v":""},{"$f":"IFERROR(INDEX($G$264:$G$888,_xlfn.AGGREGATE(15,6,(ROW($G$264:$G$888)-ROW($G$264)+1)/($G$264:$G$888<>\"\"),ROWS(H$2:H58))),\"\")","v":""}]
[null,null,{"$f":"IF('Veg Guide Data Base'!A1556>0,'Veg Guide Data Base'!A1556,\"\")","v":"hao"},{"$error":"#N/A"},{"$error":"#N/A"},{"$error":"#N/A"},{"$error":"#N/A"},{"$f":"IFERROR(INDEX($F$264:$F$888,_xlfn.AGGREGATE(15,6,(ROW($F$264:$F$888)-ROW($F$264)+1)/($F$264:$F$888<>\"\"),ROWS(H$2:H59))),\"\")","v":""},{"$f":"IFERROR(INDEX($G$264:$G$888,_xlfn.AGGREGATE(15,6,(ROW($G$264:$G$888)-ROW($G$264)+1)/($G$264:$G$888<>\"\"),ROWS(H$2:H59))),\"\")","v":""}]
[null,null,{"$f":"IF('Veg Guide Data Base'!A1557>0,'Veg Guide Data Base'!A1557,\"\")","v":"hapuu"},{"$error":"#N/A"},{"$error":"#N/A"},{"$error":"#N/A"},{"$error":"#N/A"},{"$f":"IFERROR(INDEX($F$264:$F$888,_xlfn.AGGREGATE(15,6,(ROW($F$264:$F$888)-ROW($F$264)+1)/($F$264:$F$888<>\"\"),ROWS(H$2:H60))),\"\")","v":""},{"$f":"IFERROR(INDEX($G$264:$G$888,_xlfn.AGGREGATE(15,6,(ROW($G$264:$G$888)-ROW($G$264)+1)/($G$264:$G$888<>\"\"),ROWS(H$2:H60))),\"\")","v":""}]
[null,null,{"$f":"IF('Veg Guide Data Base'!A1558>0,'Veg Guide Data Base'!A1558,\"\")","v":"hapuu pulu"},{"$error":"#N/A"},{"$error":"#N/A"},{"$error":"#N/A"},{"$error":"#N/A"},{"$f":"IFERROR(INDEX($F$264:$F$888,_xlfn.AGGREGATE(15,6,(ROW($F$264:$F$888)-ROW($F$264)+1)/($F$264:$F$888<>\"\"),ROWS(H$2:H61))),\"\")","v":""},{"$f":"IFERROR(INDEX($G$264:$G$888,_xlfn.AGGREGATE(15,6,(ROW($G$264:$G$888)-ROW($G$264)+1)/($G$264:$G$888<>\"\"),ROWS(H$2:H61))),\"\")","v":""}]
[null,null,{"$f":"IF('Veg Guide Data Base'!A1559>0,'Veg Guide Data Base'!A1559,\"\")","v":"hibiscus (Chinese), aloalo"},{"$error":"#N/A"},{"$error":"#N/A"},{"$error":"#N/A"},{"$error":"#N/A"},{"$f":"IFERROR(INDEX($F$264:$F$888,_xlfn.AGGREGATE(15,6,(ROW($F$264:$F$888)-ROW($F$264)+1)/($F$264:$F$888<>\"\"),ROWS(H$2:H62))),\"\")","v":""},{"$f":"IFERROR(INDEX($G$264:$G$888,_xlfn.AGGREGATE(15,6,(ROW($G$264:$G$888)-ROW($G$264)+1)/($G$264:$G$888<>\"\"),ROWS(H$2:H62))),\"\")","v":""}]
[null,null,{"$f":"IF('Veg Guide Data Base'!A1560>0,'Veg Guide Data Base'!A1560,\"\")","v":"hoawa - 1"},{"$error":"#N/A"},{"$error":"#N/A"},{"$error":"#N/A"},{"$error":"#N/A"},{"$f":"IFERROR(INDEX($F$264:$F$888,_xlfn.AGGREGATE(15,6,(ROW($F$264:$F$888)-ROW($F$264)+1)/($F$264:$F$888<>\"\"),ROWS(H$2:H63))),\"\")","v":""},{"$f":"IFERROR(INDEX($G$264:$G$888,_xlfn.AGGREGATE(15,6,(ROW($G$264:$G$888)-ROW($G$264)+1)/($G$264:$G$888<>\"\"),ROWS(H$2:H63))),\"\")","v":""}]
[null,null,{"$f":"IF('Veg Guide Data Base'!A1561>0,'Veg Guide Data Base'!A1561,\"\")","v":"hoawa - 4"},{"$error":"#N/A"},{"$error":"#N/A"},{"$error":"#N/A"},{"$error":"#N/A"},{"$f":"IFERROR(INDEX($F$264:$F$888,_xlfn.AGGREGATE(15,6,(ROW($F$264:$F$888)-ROW($F$264)+1)/($F$264:$F$888<>\"\"),ROWS(H$2:H64))),\"\")","v":""},{"$f":"IFERROR(INDEX($G$264:$G$888,_xlfn.AGGREGATE(15,6,(ROW($G$264:$G$888)-ROW($G$264)+1)/($G$264:$G$888<>\"\"),ROWS(H$2:H64))),\"\")","v":""}]
[null,null,{"$f":"IF('Veg Guide Data Base'!A1562>0,'Veg Guide Data Base'!A1562,\"\")","v":"holei - 1"},{"$error":"#N/A"},{"$error":"#N/A"},{"$error":"#N/A"},{"$error":"#N/A"},{"$f":"IFERROR(INDEX($F$264:$F$888,_xlfn.AGGREGATE(15,6,(ROW($F$264:$F$888)-ROW($F$264)+1)/($F$264:$F$888<>\"\"),ROWS(H$2:H65))),\"\")","v":""},{"$f":"IFERROR(INDEX($G$264:$G$888,_xlfn.AGGREGATE(15,6,(ROW($G$264:$G$888)-ROW($G$264)+1)/($G$264:$G$888<>\"\"),ROWS(H$2:H65))),\"\")","v":""}]
[null,null,{"$f":"IF('Veg Guide Data Base'!A1563>0,'Veg Guide Data Base'!A1563,\"\")","v":"huahuako"},{"$error":"#N/A"},{"$error":"#N/A"},{"$error":"#N/A"},{"$error":"#N/A"},{"$f":"IFERROR(INDEX($F$264:$F$888,_xlfn.AGGREGATE(15,6,(ROW($F$264:$F$888)-ROW($F$264)+1)/($F$264:$F$888<>\"\"),ROWS(H$2:H66))),\"\")","v":""},{"$f":"IFERROR(INDEX($G$264:$G$888,_xlfn.AGGREGATE(15,6,(ROW($G$264:$G$888)-ROW($G$264)+1)/($G$264:$G$888<>\"\"),ROWS(H$2:H66))),\"\")","v":""}]
[null,null,{"$f":"IF('Veg Guide Data Base'!A1564>0,'Veg Guide Data Base'!A1564,\"\")","v":"ice cream bean"},{"$error":"#N/A"},{"$error":"#N/A"},{"$f":"IF(E329=\"Tree\",C329,\"\")","v":{"$error":"#N/A"}},{"$f":"IF(OR(E329=\"Shrub\",E329=\"Vine-woody\"),C329,\"\")","v":{"$error":"#N/A"}},{"$f":"IFERROR(INDEX($F$264:$F$888,_xlfn.AGGREGATE(15,6,(ROW($F$264:$F$888)-ROW($F$264)+1)/($F$264:$F$888<>\"\"),ROWS(H$2:H67))),\"\")","v":""},{"$f":"IFERROR(INDEX($G$264:$G$888,_xlfn.AGGREGATE(15,6,(ROW($G$264:$G$888)-ROW($G$264)+1)/($G$264:$G$888<>\"\"),ROWS(H$2:H67))),\"\")","v":""}]
[null,null,{"$f":"IF('Veg Guide Data Base'!A1565>0,'Veg Guide Data Base'!A1565,\"\")","v":"ieie"},{"$error":"#N/A"},{"$error":"#N/A"},{"$error":"#N/A"},{"$error":"#N/A"},{"$f":"IFERROR(INDEX($F$264:$F$888,_xlfn.AGGREGATE(15,6,(ROW($F$264:$F$888)-ROW($F$264)+1)/($F$264:$F$888<>\"\"),ROWS(H$2:H68))),\"\")","v":""},{"$f":"IFERROR(INDEX($G$264:$G$888,_xlfn.AGGREGATE(15,6,(ROW($G$264:$G$888)-ROW($G$264)+1)/($G$264:$G$888<>\"\"),ROWS(H$2:H68))),\"\")","v":""}]
[null,null,{"$f":"IF('Veg Guide Data Base'!A1566>0,'Veg Guide Data Base'!A1566,\"\")","v":"iliahi, sandalwood - 1"},{"$error":"#N/A"},{"$error":"#N/A"},{"$error":"#N/A"},{"$error":"#N/A"},{"$f":"IFERROR(INDEX($F$264:$F$888,_xlfn.AGGREGATE(15,6,(ROW($F$264:$F$888)-ROW($F$264)+1)/($F$264:$F$888<>\"\"),ROWS(H$2:H69))),\"\")","v":""},{"$f":"IFERROR(INDEX($G$264:$G$888,_xlfn.AGGREGATE(15,6,(ROW($G$264:$G$888)-ROW($G$264)+1)/($G$264:$G$888<>\"\"),ROWS(H$2:H69))),\"\")","v":""}]
[null,null,{"$f":"IF('Veg Guide Data Base'!A1567>0,'Veg Guide Data Base'!A1567,\"\")","v":"iliahi, sandalwood - 2"},{"$error":"#N/A"},{"$error":"#N/A"},{"$error":"#N/A"},{"$error":"#N/A"},{"$f":"IFERROR(INDEX($F$264:$F$888,_xlfn.AGGREGATE(15,6,(ROW($F$264:$F$888)-ROW($F$264)+1)/($F$264:$F$888<>\"\"),ROWS(H$2:H70))),\"\")","v":""},{"$f":"IFERROR(INDEX($G$264:$G$888,_xlfn.AGGREGATE(15,6,(ROW($G$264:$G$888)-ROW($G$264)+1)/($G$264:$G$888<>\"\"),ROWS(H$2:H70))),\"\")","v":""}]
[null,null,{"$f":"IF('Veg Guide Data Base'!A1568>0,'Veg Guide Data Base'!A1568,\"\")","v":"iliahi, sandalwood - 3"},{"$error":"#N/A"},{"$error":"#N/A"},{"$error":"#N/A"},{"$error":"#N/A"},{"$f":"IFERROR(INDEX($F$264:$F$888,_xlfn.AGGREGATE(15,6,(ROW($F$264:$F$888)-ROW($F$264)+1)/($F$264:$F$888<>\"\"),ROWS(H$2:H71))),\"\")","v":""},{"$f":"IFERROR(INDEX($G$264:$G$888,_xlfn.AGGREGATE(15,6,(ROW($G$264:$G$888)-ROW($G$264)+1)/($G$264:$G$888<>\"\"),ROWS(H$2:H71))),\"\")","v":""}]
[null,null,{"$f":"IF('Veg Guide Data Base'!A1569>0,'Veg Guide Data Base'!A1569,\"\")","v":"iliahi, sandalwood - 7"},{"$error":"#N/A"},{"$error":"#N/A"},{"$error":"#N/A"},{"$error":"#N/A"},{"$f":"IFERROR(INDEX($F$264:$F$888,_xlfn.AGGREGATE(15,6,(ROW($F$264:$F$888)-ROW($F$264)+1)/($F$264:$F$888<>\"\"),ROWS(H$2:H72))),\"\")","v":""},{"$f":"IFERROR(INDEX($G$264:$G$888,_xlfn.AGGREGATE(15,6,(ROW($G$264:$G$888)-ROW($G$264)+1)/($G$264:$G$888<>\"\"),ROWS(H$2:H72))),\"\")","v":""}]
[null,null,{"$f":"IF('Veg Guide Data Base'!A1570>0,'Veg Guide Data Base'!A1570,\"\")","v":"iliee, wild leadwort"},{"$error":"#N/A"},{"$error":"#N/A"},{"$error":"#N/A"},{"$error":"#N/A"},{"$f":"IFERROR(INDEX($F$264:$F$888,_xlfn.AGGREGATE(15,6,(ROW($F$264:$F$888)-ROW($F$264)+1)/($F$264:$F$888<>\"\"),ROWS(H$2:H73))),\"\")","v":""},{"$f":"IFERROR(INDEX($G$264:$G$888,_xlfn.AGGREGATE(15,6,(ROW($G$264:$G$888)-ROW($G$264)+1)/($G$264:$G$888<>\"\"),ROWS(H$2:H73))),\"\")","v":""}]
[null,null,{"$f":"IF('Veg Guide Data Base'!A1571>0,'Veg Guide Data Base'!A1571,\"\")","v":"ilima"},{"$error":"#N/A"},{"$error":"#N/A"},{"$error":"#N/A"},{"$error":"#N/A"},{"$f":"IFERROR(INDEX($F$264:$F$888,_xlfn.AGGREGATE(15,6,(ROW($F$264:$F$888)-ROW($F$264)+1)/($F$264:$F$888<>\"\"),ROWS(H$2:H74))),\"\")","v":""},{"$f":"IFERROR(INDEX($G$264:$G$888,_xlfn.AGGREGATE(15,6,(ROW($G$264:$G$888)-ROW($G$264)+1)/($G$264:$G$888<>\"\"),ROWS(H$2:H74))),\"\")","v":""}]
[null,null,{"$f":"IF('Veg Guide Data Base'!A1572>0,'Veg Guide Data Base'!A1572,\"\")","v":"jaboticaba"},{"$error":"#N/A"},{"$error":"#N/A"},{"$error":"#N/A"},{"$error":"#N/A"},{"$f":"IFERROR(INDEX($F$264:$F$888,_xlfn.AGGREGATE(15,6,(ROW($F$264:$F$888)-ROW($F$264)+1)/($F$264:$F$888<>\"\"),ROWS(H$2:H75))),\"\")","v":""},{"$f":"IFERROR(INDEX($G$264:$G$888,_xlfn.AGGREGATE(15,6,(ROW($G$264:$G$888)-ROW($G$264)+1)/($G$264:$G$888<>\"\"),ROWS(H$2:H75))),\"\")","v":""}]
[null,null,{"$f":"IF('Veg Guide Data Base'!A1573>0,'Veg Guide Data Base'!A1573,\"\")","v":"jackfruit"},{"$error":"#N/A"},{"$error":"#N/A"},{"$error":"#N/A"},{"$error":"#N/A"},{"$f":"IFERROR(INDEX($F$264:$F$888,_xlfn.AGGREGATE(15,6,(ROW($F$264:$F$888)-ROW($F$264)+1)/($F$264:$F$888<>\"\"),ROWS(H$2:H76))),\"\")","v":""},{"$f":"IFERROR(INDEX($G$264:$G$888,_xlfn.AGGREGATE(15,6,(ROW($G$264:$G$888)-ROW($G$264)+1)/($G$264:$G$888<>\"\"),ROWS(H$2:H76))),\"\")","v":""}]
[null,null,{"$f":"IF('Veg Guide Data Base'!A1574>0,'Veg Guide Data Base'!A1574,\"\")","v":"kaee, sea bean - 2"},{"$error":"#N/A"},{"$error":"#N/A"},{"$error":"#N/A"},{"$error":"#N/A"},{"$f":"IFERROR(INDEX($F$264:$F$888,_xlfn.AGGREGATE(15,6,(ROW($F$264:$F$888)-ROW($F$264)+1)/($F$264:$F$888<>\"\"),ROWS(H$2:H77))),\"\")","v":""},{"$f":"IFERROR(INDEX($G$264:$G$888,_xlfn.AGGREGATE(15,6,(ROW($G$264:$G$888)-ROW($G$264)+1)/($G$264:$G$888<>\"\"),ROWS(H$2:H77))),\"\")","v":""}]
[null,null,{"$f":"IF('Veg Guide Data Base'!A1575>0,'Veg Guide Data Base'!A1575,\"\")","v":"kalamunggay, malunggay"},{"$error":"#N/A"},{"$error":"#N/A"},{"$error":"#N/A"},{"$error":"#N/A"},{"$f":"IFERROR(INDEX($F$264:$F$888,_xlfn.AGGREGATE(15,6,(ROW($F$264:$F$888)-ROW($F$264)+1)/($F$264:$F$888<>\"\"),ROWS(H$2:H78))),\"\")","v":""},{"$f":"IFERROR(INDEX($G$264:$G$888,_xlfn.AGGREGATE(15,6,(ROW($G$264:$G$888)-ROW($G$264)+1)/($G$264:$G$888<>\"\"),ROWS(H$2:H78))),\"\")","v":""}]
[null,null,{"$f":"IF('Veg Guide Data Base'!A1576>0,'Veg Guide Data Base'!A1576,\"\")","v":"kamani, Alexandrian laurel"},{"$error":"#N/A"},{"$error":"#N/A"},{"$error":"#N/A"},{"$error":"#N/A"},{"$f":"IFERROR(INDEX($F$264:$F$888,_xlfn.AGGREGATE(15,6,(ROW($F$264:$F$888)-ROW($F$264)+1)/($F$264:$F$888<>\"\"),ROWS(H$2:H79))),\"\")","v":""},{"$f":"IFERROR(INDEX($G$264:$G$888,_xlfn.AGGREGATE(15,6,(ROW($G$264:$G$888)-ROW($G$264)+1)/($G$264:$G$888<>\"\"),ROWS(H$2:H79))),\"\")","v":""}]
[null,null,{"$f":"IF('Veg Guide Data Base'!A1577>0,'Veg Guide Data Base'!A1577,\"\")","v":"kapok"},{"$error":"#N/A"},{"$error":"#N/A"},{"$error":"#N/A"},{"$error":"#N/A"},{"$f":"IFERROR(INDEX($F$264:$F$888,_xlfn.AGGREGATE(15,6,(ROW($F$264:$F$888)-ROW($F$264)+1)/($F$264:$F$888<>\"\"),ROWS(H$2:H80))),\"\")","v":""},{"$f":"IFERROR(INDEX($G$264:$G$888,_xlfn.AGGREGATE(15,6,(ROW($G$264:$G$888)-ROW($G$264)+1)/($G$264:$G$888<>\"\"),ROWS(H$2:H80))),\"\")","v":""}]
[null,null,{"$f":"IF('Veg Guide Data Base'!A1578>0,'Veg Guide Data Base'!A1578,\"\")","v":"katuk, star gooseberry, sweet leaf, leaf asparagus"},{"$error":"#N/A"},{"$error":"#N/A"},{"$error":"#N/A"},{"$error":"#N/A"},{"$f":"IFERROR(INDEX($F$264:$F$888,_xlfn.AGGREGATE(15,6,(ROW($F$264:$F$888)-ROW($F$264)+1)/($F$264:$F$888<>\"\"),ROWS(H$2:H81))),\"\")","v":""},{"$f":"IFERROR(INDEX($G$264:$G$888,_xlfn.AGGREGATE(15,6,(ROW($G$264:$G$888)-ROW($G$264)+1)/($G$264:$G$888<>\"\"),ROWS(H$2:H81))),\"\")","v":""}]
[null,null,{"$f":"IF('Veg Guide Data Base'!A1579>0,'Veg Guide Data Base'!A1579,\"\")","v":"kauila "},{"$error":"#N/A"},{"$error":"#N/A"},{"$error":"#N/A"},{"$error":"#N/A"},{"$f":"IFERROR(INDEX($F$264:$F$888,_xlfn.AGGREGATE(15,6,(ROW($F$264:$F$888)-ROW($F$264)+1)/($F$264:$F$888<>\"\"),ROWS(H$2:H82))),\"\")","v":""},{"$f":"IFERROR(INDEX($G$264:$G$888,_xlfn.AGGREGATE(15,6,(ROW($G$264:$G$888)-ROW($G$264)+1)/($G$264:$G$888<>\"\"),ROWS(H$2:H82))),\"\")","v":""}]
[null,null,{"$f":"IF('Veg Guide Data Base'!A1580>0,'Veg Guide Data Base'!A1580,\"\")","v":"keahi"},{"$error":"#N/A"},{"$error":"#N/A"},{"$error":"#N/A"},{"$error":"#N/A"},{"$f":"IFERROR(INDEX($F$264:$F$888,_xlfn.AGGREGATE(15,6,(ROW($F$264:$F$888)-ROW($F$264)+1)/($F$264:$F$888<>\"\"),ROWS(H$2:H83))),\"\")","v":""},{"$f":"IFERROR(INDEX($G$264:$G$888,_xlfn.AGGREGATE(15,6,(ROW($G$264:$G$888)-ROW($G$264)+1)/($G$264:$G$888<>\"\"),ROWS(H$2:H83))),\"\")","v":""}]
[null,null,{"$f":"IF('Veg Guide Data Base'!A1581>0,'Veg Guide Data Base'!A1581,\"\")","v":"koa"},{"$error":"#N/A"},{"$error":"#N/A"},{"$error":"#N/A"},{"$error":"#N/A"},{"$f":"IFERROR(INDEX($F$264:$F$888,_xlfn.AGGREGATE(15,6,(ROW($F$264:$F$888)-ROW($F$264)+1)/($F$264:$F$888<>\"\"),ROWS(H$2:H84))),\"\")","v":""},{"$f":"IFERROR(INDEX($G$264:$G$888,_xlfn.AGGREGATE(15,6,(ROW($G$264:$G$888)-ROW($G$264)+1)/($G$264:$G$888<>\"\"),ROWS(H$2:H84))),\"\")","v":""}]
[null,null,{"$f":"IF('Veg Guide Data Base'!A1582>0,'Veg Guide Data Base'!A1582,\"\")","v":"koaia, koaie"},{"$error":"#N/A"},{"$error":"#N/A"},{"$error":"#N/A"},{"$error":"#N/A"},{"$f":"IFERROR(INDEX($F$264:$F$888,_xlfn.AGGREGATE(15,6,(ROW($F$264:$F$888)-ROW($F$264)+1)/($F$264:$F$888<>\"\"),ROWS(H$2:H85))),\"\")","v":""},{"$f":"IFERROR(INDEX($G$264:$G$888,_xlfn.AGGREGATE(15,6,(ROW($G$264:$G$888)-ROW($G$264)+1)/($G$264:$G$888<>\"\"),ROWS(H$2:H85))),\"\")","v":""}]
[null,null,{"$f":"IF('Veg Guide Data Base'!A1583>0,'Veg Guide Data Base'!A1583,\"\")","v":"kokio"},{"$error":"#N/A"},{"$error":"#N/A"},{"$error":"#N/A"},{"$error":"#N/A"},{"$f":"IFERROR(INDEX($F$264:$F$888,_xlfn.AGGREGATE(15,6,(ROW($F$264:$F$888)-ROW($F$264)+1)/($F$264:$F$888<>\"\"),ROWS(H$2:H86))),\"\")","v":""},{"$f":"IFERROR(INDEX($G$264:$G$888,_xlfn.AGGREGATE(15,6,(ROW($G$264:$G$888)-ROW($G$264)+1)/($G$264:$G$888<>\"\"),ROWS(H$2:H86))),\"\")","v":""}]
[null,null,{"$f":"IF('Veg Guide Data Base'!A1584>0,'Veg Guide Data Base'!A1584,\"\")","v":"kokio keokeo, Hawaiian white hibiscus - 1"},{"$error":"#N/A"},{"$error":"#N/A"},{"$error":"#N/A"},{"$error":"#N/A"},{"$f":"IFERROR(INDEX($F$264:$F$888,_xlfn.AGGREGATE(15,6,(ROW($F$264:$F$888)-ROW($F$264)+1)/($F$264:$F$888<>\"\"),ROWS(H$2:H87))),\"\")","v":""},{"$f":"IFERROR(INDEX($G$264:$G$888,_xlfn.AGGREGATE(15,6,(ROW($G$264:$G$888)-ROW($G$264)+1)/($G$264:$G$888<>\"\"),ROWS(H$2:H87))),\"\")","v":""}]
[null,null,{"$f":"IF('Veg Guide Data Base'!A1585>0,'Veg Guide Data Base'!A1585,\"\")","v":"kokio keokeo, Hawaiian white hibiscus - 2"},{"$error":"#N/A"},{"$error":"#N/A"},{"$error":"#N/A"},{"$error":"#N/A"},{"$f":"IFERROR(INDEX($F$264:$F$888,_xlfn.AGGREGATE(15,6,(ROW($F$264:$F$888)-ROW($F$264)+1)/($F$264:$F$888<>\"\"),ROWS(H$2:H88))),\"\")","v":""},{"$f":"IFERROR(INDEX($G$264:$G$888,_xlfn.AGGREGATE(15,6,(ROW($G$264:$G$888)-ROW($G$264)+1)/($G$264:$G$888<>\"\"),ROWS(H$2:H88))),\"\")","v":""}]
[null,null,{"$f":"IF('Veg Guide Data Base'!A1586>0,'Veg Guide Data Base'!A1586,\"\")","v":"kolea"},{"$error":"#N/A"},{"$error":"#N/A"},{"$error":"#N/A"},{"$error":"#N/A"},{"$f":"IFERROR(INDEX($F$264:$F$888,_xlfn.AGGREGATE(15,6,(ROW($F$264:$F$888)-ROW($F$264)+1)/($F$264:$F$888<>\"\"),ROWS(H$2:H89))),\"\")","v":""},{"$f":"IFERROR(INDEX($G$264:$G$888,_xlfn.AGGREGATE(15,6,(ROW($G$264:$G$888)-ROW($G$264)+1)/($G$264:$G$888<>\"\"),ROWS(H$2:H89))),\"\")","v":""}]
[null,null,{"$f":"IF('Veg Guide Data Base'!A1587>0,'Veg Guide Data Base'!A1587,\"\")","v":"kolea lau lii"},{"$error":"#N/A"},{"$error":"#N/A"},{"$error":"#N/A"},{"$error":"#N/A"},{"$f":"IFERROR(INDEX($F$264:$F$888,_xlfn.AGGREGATE(15,6,(ROW($F$264:$F$888)-ROW($F$264)+1)/($F$264:$F$888<>\"\"),ROWS(H$2:H90))),\"\")","v":""},{"$f":"IFERROR(INDEX($G$264:$G$888,_xlfn.AGGREGATE(15,6,(ROW($G$264:$G$888)-ROW($G$264)+1)/($G$264:$G$888<>\"\"),ROWS(H$2:H90))),\"\")","v":""}]
[null,null,{"$f":"IF('Veg Guide Data Base'!A1588>0,'Veg Guide Data Base'!A1588,\"\")","v":"kolea lau nui"},{"$error":"#N/A"},{"$error":"#N/A"},{"$error":"#N/A"},{"$error":"#N/A"},{"$f":"IFERROR(INDEX($F$264:$F$888,_xlfn.AGGREGATE(15,6,(ROW($F$264:$F$888)-ROW($F$264)+1)/($F$264:$F$888<>\"\"),ROWS(H$2:H91))),\"\")","v":""},{"$f":"IFERROR(INDEX($G$264:$G$888,_xlfn.AGGREGATE(15,6,(ROW($G$264:$G$888)-ROW($G$264)+1)/($G$264:$G$888<>\"\"),ROWS(H$2:H91))),\"\")","v":""}]
[null,null,{"$f":"IF('Veg Guide Data Base'!A1589>0,'Veg Guide Data Base'!A1589,\"\")","v":"kolomona"},{"$error":"#N/A"},{"$error":"#N/A"},{"$error":"#N/A"},{"$error":"#N/A"},{"$f":"IFERROR(INDEX($F$264:$F$888,_xlfn.AGGREGATE(15,6,(ROW($F$264:$F$888)-ROW($F$264)+1)/($F$264:$F$888<>\"\"),ROWS(H$2:H92))),\"\")","v":""},{"$f":"IFERROR(INDEX($G$264:$G$888,_xlfn.AGGREGATE(15,6,(ROW($G$264:$G$888)-ROW($G$264)+1)/($G$264:$G$888<>\"\"),ROWS(H$2:H92))),\"\")","v":""}]
[null,null,{"$f":"IF('Veg Guide Data Base'!A1590>0,'Veg Guide Data Base'!A1590,\"\")","v":"kookoolau - 11"},{"$error":"#N/A"},{"$error":"#N/A"},{"$error":"#N/A"},{"$error":"#N/A"},{"$f":"IFERROR(INDEX($F$264:$F$888,_xlfn.AGGREGATE(15,6,(ROW($F$264:$F$888)-ROW($F$264)+1)/($F$264:$F$888<>\"\"),ROWS(H$2:H93))),\"\")","v":""},{"$f":"IFERROR(INDEX($G$264:$G$888,_xlfn.AGGREGATE(15,6,(ROW($G$264:$G$888)-ROW($G$264)+1)/($G$264:$G$888<>\"\"),ROWS(H$2:H93))),\"\")","v":""}]
[null,null,{"$f":"IF('Veg Guide Data Base'!A1591>0,'Veg Guide Data Base'!A1591,\"\")","v":"kopiko - 2"},{"$error":"#N/A"},{"$error":"#N/A"},{"$error":"#N/A"},{"$error":"#N/A"},{"$f":"IFERROR(INDEX($F$264:$F$888,_xlfn.AGGREGATE(15,6,(ROW($F$264:$F$888)-ROW($F$264)+1)/($F$264:$F$888<>\"\"),ROWS(H$2:H94))),\"\")","v":""},{"$f":"IFERROR(INDEX($G$264:$G$888,_xlfn.AGGREGATE(15,6,(ROW($G$264:$G$888)-ROW($G$264)+1)/($G$264:$G$888<>\"\"),ROWS(H$2:H94))),\"\")","v":""}]
[null,null,{"$f":"IF('Veg Guide Data Base'!A1592>0,'Veg Guide Data Base'!A1592,\"\")","v":"kopiko - 3"},{"$error":"#N/A"},{"$error":"#N/A"},{"$error":"#N/A"},{"$error":"#N/A"},{"$f":"IFERROR(INDEX($F$264:$F$888,_xlfn.AGGREGATE(15,6,(ROW($F$264:$F$888)-ROW($F$264)+1)/($F$264:$F$888<>\"\"),ROWS(H$2:H95))),\"\")","v":""},{"$f":"IFERROR(INDEX($G$264:$G$888,_xlfn.AGGREGATE(15,6,(ROW($G$264:$G$888)-ROW($G$264)+1)/($G$264:$G$888<>\"\"),ROWS(H$2:H95))),\"\")","v":""}]
[null,null,{"$f":"IF('Veg Guide Data Base'!A1593>0,'Veg Guide Data Base'!A1593,\"\")","v":"kopiko - 6"},{"$error":"#N/A"},{"$error":"#N/A"},{"$error":"#N/A"},{"$error":"#N/A"},{"$f":"IFERROR(INDEX($F$264:$F$888,_xlfn.AGGREGATE(15,6,(ROW($F$264:$F$888)-ROW($F$264)+1)/($F$264:$F$888<>\"\"),ROWS(H$2:H96))),\"\")","v":""},{"$f":"IFERROR(INDEX($G$264:$G$888,_xlfn.AGGREGATE(15,6,(ROW($G$264:$G$888)-ROW($G$264)+1)/($G$264:$G$888<>\"\"),ROWS(H$2:H96))),\"\")","v":""}]
[null,null,{"$f":"IF('Veg Guide Data Base'!A1594>0,'Veg Guide Data Base'!A1594,\"\")","v":"kukaemoa"},{"$error":"#N/A"},{"$error":"#N/A"},{"$error":"#N/A"},{"$error":"#N/A"},{"$f":"IFERROR(INDEX($F$264:$F$888,_xlfn.AGGREGATE(15,6,(ROW($F$264:$F$888)-ROW($F$264)+1)/($F$264:$F$888<>\"\"),ROWS(H$2:H97))),\"\")","v":""},{"$f":"IFERROR(INDEX($G$264:$G$888,_xlfn.AGGREGATE(15,6,(ROW($G$264:$G$888)-ROW($G$264)+1)/($G$264:$G$888<>\"\"),ROWS(H$2:H97))),\"\")","v":""}]
[null,null,{"$f":"IF('Veg Guide Data Base'!A1595>0,'Veg Guide Data Base'!A1595,\"\")","v":"kukui, candlenut"},{"$error":"#N/A"},{"$error":"#N/A"},{"$error":"#N/A"},{"$error":"#N/A"},{"$f":"IFERROR(INDEX($F$264:$F$888,_xlfn.AGGREGATE(15,6,(ROW($F$264:$F$888)-ROW($F$264)+1)/($F$264:$F$888<>\"\"),ROWS(H$2:H98))),\"\")","v":""},{"$f":"IFERROR(INDEX($G$264:$G$888,_xlfn.AGGREGATE(15,6,(ROW($G$264:$G$888)-ROW($G$264)+1)/($G$264:$G$888<>\"\"),ROWS(H$2:H98))),\"\")","v":""}]
[null,null,{"$f":"IF('Veg Guide Data Base'!A1596>0,'Veg Guide Data Base'!A1596,\"\")","v":"kului "},{"$error":"#N/A"},{"$error":"#N/A"},{"$error":"#N/A"},{"$error":"#N/A"},{"$f":"IFERROR(INDEX($F$264:$F$888,_xlfn.AGGREGATE(15,6,(ROW($F$264:$F$888)-ROW($F$264)+1)/($F$264:$F$888<>\"\"),ROWS(H$2:H99))),\"\")","v":""},{"$f":"IFERROR(INDEX($G$264:$G$888,_xlfn.AGGREGATE(15,6,(ROW($G$264:$G$888)-ROW($G$264)+1)/($G$264:$G$888<>\"\"),ROWS(H$2:H99))),\"\")","v":""}]
[null,null,{"$f":"IF('Veg Guide Data Base'!A1597>0,'Veg Guide Data Base'!A1597,\"\")","v":"lama"},{"$error":"#N/A"},{"$error":"#N/A"},{"$error":"#N/A"},{"$error":"#N/A"},{"$f":"IFERROR(INDEX($F$264:$F$888,_xlfn.AGGREGATE(15,6,(ROW($F$264:$F$888)-ROW($F$264)+1)/($F$264:$F$888<>\"\"),ROWS(H$2:H100))),\"\")","v":""},{"$f":"IFERROR(INDEX($G$264:$G$888,_xlfn.AGGREGATE(15,6,(ROW($G$264:$G$888)-ROW($G$264)+1)/($G$264:$G$888<>\"\"),ROWS(H$2:H100))),\"\")","v":""}]
[null,null,{"$f":"IF('Veg Guide Data Base'!A1598>0,'Veg Guide Data Base'!A1598,\"\")","v":"leiohiiaka"},{"$error":"#N/A"},{"$error":"#N/A"},{"$error":"#N/A"},{"$error":"#N/A"},{"$f":"IFERROR(INDEX($F$264:$F$888,_xlfn.AGGREGATE(15,6,(ROW($F$264:$F$888)-ROW($F$264)+1)/($F$264:$F$888<>\"\"),ROWS(H$2:H101))),\"\")","v":""},{"$f":"IFERROR(INDEX($G$264:$G$888,_xlfn.AGGREGATE(15,6,(ROW($G$264:$G$888)-ROW($G$264)+1)/($G$264:$G$888<>\"\"),ROWS(H$2:H101))),\"\")","v":""}]
[null,null,{"$f":"IF('Veg Guide Data Base'!A1599>0,'Veg Guide Data Base'!A1599,\"\")","v":"lemon-scented gum"},{"$error":"#N/A"},{"$error":"#N/A"},{"$error":"#N/A"},{"$error":"#N/A"},{"$f":"IFERROR(INDEX($F$264:$F$888,_xlfn.AGGREGATE(15,6,(ROW($F$264:$F$888)-ROW($F$264)+1)/($F$264:$F$888<>\"\"),ROWS(H$2:H102))),\"\")","v":""},{"$f":"IFERROR(INDEX($G$264:$G$888,_xlfn.AGGREGATE(15,6,(ROW($G$264:$G$888)-ROW($G$264)+1)/($G$264:$G$888<>\"\"),ROWS(H$2:H102))),\"\")","v":""}]
[null,null,{"$f":"IF('Veg Guide Data Base'!A1600>0,'Veg Guide Data Base'!A1600,\"\")","v":"Leuceana hybrids, KX2, KX3, KX4"},{"$error":"#N/A"},{"$error":"#N/A"},{"$error":"#N/A"},{"$error":"#N/A"},{"$f":"IFERROR(INDEX($F$264:$F$888,_xlfn.AGGREGATE(15,6,(ROW($F$264:$F$888)-ROW($F$264)+1)/($F$264:$F$888<>\"\"),ROWS(H$2:H103))),\"\")","v":""},{"$f":"IFERROR(INDEX($G$264:$G$888,_xlfn.AGGREGATE(15,6,(ROW($G$264:$G$888)-ROW($G$264)+1)/($G$264:$G$888<>\"\"),ROWS(H$2:H103))),\"\")","v":""}]
[null,null,{"$f":"IF('Veg Guide Data Base'!A1601>0,'Veg Guide Data Base'!A1601,\"\")","v":"longan"},{"$error":"#N/A"},{"$error":"#N/A"},{"$error":"#N/A"},{"$error":"#N/A"},{"$f":"IFERROR(INDEX($F$264:$F$888,_xlfn.AGGREGATE(15,6,(ROW($F$264:$F$888)-ROW($F$264)+1)/($F$264:$F$888<>\"\"),ROWS(H$2:H104))),\"\")","v":""},{"$f":"IFERROR(INDEX($G$264:$G$888,_xlfn.AGGREGATE(15,6,(ROW($G$264:$G$888)-ROW($G$264)+1)/($G$264:$G$888<>\"\"),ROWS(H$2:H104))),\"\")","v":""}]
[null,null,{"$f":"IF('Veg Guide Data Base'!A1602>0,'Veg Guide Data Base'!A1602,\"\")","v":"lonomea, soapberry"},{"$error":"#N/A"},{"$error":"#N/A"},{"$error":"#N/A"},{"$error":"#N/A"},{"$f":"IFERROR(INDEX($F$264:$F$888,_xlfn.AGGREGATE(15,6,(ROW($F$264:$F$888)-ROW($F$264)+1)/($F$264:$F$888<>\"\"),ROWS(H$2:H105))),\"\")","v":""},{"$f":"IFERROR(INDEX($G$264:$G$888,_xlfn.AGGREGATE(15,6,(ROW($G$264:$G$888)-ROW($G$264)+1)/($G$264:$G$888<>\"\"),ROWS(H$2:H105))),\"\")","v":""}]
[null,null,{"$f":"IF('Veg Guide Data Base'!A1603>0,'Veg Guide Data Base'!A1603,\"\")","v":"loulu - 10"},{"$error":"#N/A"},{"$error":"#N/A"},{"$error":"#N/A"},{"$error":"#N/A"},{"$f":"IFERROR(INDEX($F$264:$F$888,_xlfn.AGGREGATE(15,6,(ROW($F$264:$F$888)-ROW($F$264)+1)/($F$264:$F$888<>\"\"),ROWS(H$2:H106))),\"\")","v":""},{"$f":"IFERROR(INDEX($G$264:$G$888,_xlfn.AGGREGATE(15,6,(ROW($G$264:$G$888)-ROW($G$264)+1)/($G$264:$G$888<>\"\"),ROWS(H$2:H106))),\"\")","v":""}]
[null,null,{"$f":"IF('Veg Guide Data Base'!A1604>0,'Veg Guide Data Base'!A1604,\"\")","v":"loulu - 5"},{"$error":"#N/A"},{"$error":"#N/A"},{"$error":"#N/A"},{"$error":"#N/A"},{"$f":"IFERROR(INDEX($F$264:$F$888,_xlfn.AGGREGATE(15,6,(ROW($F$264:$F$888)-ROW($F$264)+1)/($F$264:$F$888<>\"\"),ROWS(H$2:H107))),\"\")","v":""},{"$f":"IFERROR(INDEX($G$264:$G$888,_xlfn.AGGREGATE(15,6,(ROW($G$264:$G$888)-ROW($G$264)+1)/($G$264:$G$888<>\"\"),ROWS(H$2:H107))),\"\")","v":""}]
[null,null,{"$f":"IF('Veg Guide Data Base'!A1605>0,'Veg Guide Data Base'!A1605,\"\")","v":"loulu - 6"},{"$error":"#N/A"},{"$error":"#N/A"},{"$error":"#N/A"},{"$error":"#N/A"},{"$f":"IFERROR(INDEX($F$264:$F$888,_xlfn.AGGREGATE(15,6,(ROW($F$264:$F$888)-ROW($F$264)+1)/($F$264:$F$888<>\"\"),ROWS(H$2:H108))),\"\")","v":""},{"$f":"IFERROR(INDEX($G$264:$G$888,_xlfn.AGGREGATE(15,6,(ROW($G$264:$G$888)-ROW($G$264)+1)/($G$264:$G$888<>\"\"),ROWS(H$2:H108))),\"\")","v":""}]
[null,null,{"$f":"IF('Veg Guide Data Base'!A1606>0,'Veg Guide Data Base'!A1606,\"\")","v":"loulu - 9"},{"$error":"#N/A"},{"$error":"#N/A"},{"$error":"#N/A"},{"$error":"#N/A"},{"$f":"IFERROR(INDEX($F$264:$F$888,_xlfn.AGGREGATE(15,6,(ROW($F$264:$F$888)-ROW($F$264)+1)/($F$264:$F$888<>\"\"),ROWS(H$2:H109))),\"\")","v":""},{"$f":"IFERROR(INDEX($G$264:$G$888,_xlfn.AGGREGATE(15,6,(ROW($G$264:$G$888)-ROW($G$264)+1)/($G$264:$G$888<>\"\"),ROWS(H$2:H109))),\"\")","v":""}]
[null,null,{"$f":"IF('Veg Guide Data Base'!A1607>0,'Veg Guide Data Base'!A1607,\"\")","v":"lychee"},{"$error":"#N/A"},{"$error":"#N/A"},{"$error":"#N/A"},{"$error":"#N/A"},{"$f":"IFERROR(INDEX($F$264:$F$888,_xlfn.AGGREGATE(15,6,(ROW($F$264:$F$888)-ROW($F$264)+1)/($F$264:$F$888<>\"\"),ROWS(H$2:H110))),\"\")","v":""},{"$f":"IFERROR(INDEX($G$264:$G$888,_xlfn.AGGREGATE(15,6,(ROW($G$264:$G$888)-ROW($G$264)+1)/($G$264:$G$888<>\"\"),ROWS(H$2:H110))),\"\")","v":""}]
[null,null,{"$f":"IF('Veg Guide Data Base'!A1608>0,'Veg Guide Data Base'!A1608,\"\")","v":"macadamia nut"},{"$error":"#N/A"},{"$error":"#N/A"},{"$error":"#N/A"},{"$error":"#N/A"},{"$f":"IFERROR(INDEX($F$264:$F$888,_xlfn.AGGREGATE(15,6,(ROW($F$264:$F$888)-ROW($F$264)+1)/($F$264:$F$888<>\"\"),ROWS(H$2:H111))),\"\")","v":""},{"$f":"IFERROR(INDEX($G$264:$G$888,_xlfn.AGGREGATE(15,6,(ROW($G$264:$G$888)-ROW($G$264)+1)/($G$264:$G$888<>\"\"),ROWS(H$2:H111))),\"\")","v":""}]
[null,null,{"$f":"IF('Veg Guide Data Base'!A1609>0,'Veg Guide Data Base'!A1609,\"\")","v":"Macarthur palm"},{"$error":"#N/A"},{"$error":"#N/A"},{"$error":"#N/A"},{"$error":"#N/A"},{"$f":"IFERROR(INDEX($F$264:$F$888,_xlfn.AGGREGATE(15,6,(ROW($F$264:$F$888)-ROW($F$264)+1)/($F$264:$F$888<>\"\"),ROWS(H$2:H112))),\"\")","v":""},{"$f":"IFERROR(INDEX($G$264:$G$888,_xlfn.AGGREGATE(15,6,(ROW($G$264:$G$888)-ROW($G$264)+1)/($G$264:$G$888<>\"\"),ROWS(H$2:H112))),\"\")","v":""}]
[null,null,{"$f":"IF('Veg Guide Data Base'!A1610>0,'Veg Guide Data Base'!A1610,\"\")","v":"maiapilo, pua pilo"},{"$error":"#N/A"},{"$error":"#N/A"},{"$error":"#N/A"},{"$error":"#N/A"},{"$f":"IFERROR(INDEX($F$264:$F$888,_xlfn.AGGREGATE(15,6,(ROW($F$264:$F$888)-ROW($F$264)+1)/($F$264:$F$888<>\"\"),ROWS(H$2:H113))),\"\")","v":""},{"$f":"IFERROR(INDEX($G$264:$G$888,_xlfn.AGGREGATE(15,6,(ROW($G$264:$G$888)-ROW($G$264)+1)/($G$264:$G$888<>\"\"),ROWS(H$2:H113))),\"\")","v":""}]
[null,null,{"$f":"IF('Veg Guide Data Base'!A1611>0,'Veg Guide Data Base'!A1611,\"\")","v":"maile"},{"$error":"#N/A"},{"$error":"#N/A"},{"$error":"#N/A"},{"$error":"#N/A"},{"$f":"IFERROR(INDEX($F$264:$F$888,_xlfn.AGGREGATE(15,6,(ROW($F$264:$F$888)-ROW($F$264)+1)/($F$264:$F$888<>\"\"),ROWS(H$2:H114))),\"\")","v":""},{"$f":"IFERROR(INDEX($G$264:$G$888,_xlfn.AGGREGATE(15,6,(ROW($G$264:$G$888)-ROW($G$264)+1)/($G$264:$G$888<>\"\"),ROWS(H$2:H114))),\"\")","v":""}]
[null,null,{"$f":"IF('Veg Guide Data Base'!A1612>0,'Veg Guide Data Base'!A1612,\"\")","v":"Malabar chestnut"},{"$error":"#N/A"},{"$error":"#N/A"},{"$error":"#N/A"},{"$error":"#N/A"},{"$f":"IFERROR(INDEX($F$264:$F$888,_xlfn.AGGREGATE(15,6,(ROW($F$264:$F$888)-ROW($F$264)+1)/($F$264:$F$888<>\"\"),ROWS(H$2:H115))),\"\")","v":""},{"$f":"IFERROR(INDEX($G$264:$G$888,_xlfn.AGGREGATE(15,6,(ROW($G$264:$G$888)-ROW($G$264)+1)/($G$264:$G$888<>\"\"),ROWS(H$2:H115))),\"\")","v":""}]
[null,null,{"$f":"IF('Veg Guide Data Base'!A1613>0,'Veg Guide Data Base'!A1613,\"\")","v":"mamaki"},{"$error":"#N/A"},{"$error":"#N/A"},{"$error":"#N/A"},{"$error":"#N/A"},{"$f":"IFERROR(INDEX($F$264:$F$888,_xlfn.AGGREGATE(15,6,(ROW($F$264:$F$888)-ROW($F$264)+1)/($F$264:$F$888<>\"\"),ROWS(H$2:H116))),\"\")","v":""},{"$f":"IFERROR(INDEX($G$264:$G$888,_xlfn.AGGREGATE(15,6,(ROW($G$264:$G$888)-ROW($G$264)+1)/($G$264:$G$888<>\"\"),ROWS(H$2:H116))),\"\")","v":""}]
[null,null,{"$f":"IF('Veg Guide Data Base'!A1614>0,'Veg Guide Data Base'!A1614,\"\")","v":"mango, manako"},{"$error":"#N/A"},{"$error":"#N/A"},{"$error":"#N/A"},{"$error":"#N/A"},{"$f":"IFERROR(INDEX($F$264:$F$888,_xlfn.AGGREGATE(15,6,(ROW($F$264:$F$888)-ROW($F$264)+1)/($F$264:$F$888<>\"\"),ROWS(H$2:H117))),\"\")","v":""},{"$f":"IFERROR(INDEX($G$264:$G$888,_xlfn.AGGREGATE(15,6,(ROW($G$264:$G$888)-ROW($G$264)+1)/($G$264:$G$888<>\"\"),ROWS(H$2:H117))),\"\")","v":""}]
[null,null,{"$f":"IF('Veg Guide Data Base'!A1615>0,'Veg Guide Data Base'!A1615,\"\")","v":"mangosteen"},{"$error":"#N/A"},{"$error":"#N/A"},{"$error":"#N/A"},{"$error":"#N/A"},{"$f":"IFERROR(INDEX($F$264:$F$888,_xlfn.AGGREGATE(15,6,(ROW($F$264:$F$888)-ROW($F$264)+1)/($F$264:$F$888<>\"\"),ROWS(H$2:H118))),\"\")","v":""},{"$f":"IFERROR(INDEX($G$264:$G$888,_xlfn.AGGREGATE(15,6,(ROW($G$264:$G$888)-ROW($G$264)+1)/($G$264:$G$888<>\"\"),ROWS(H$2:H118))),\"\")","v":""}]
[null,null,{"$f":"IF('Veg Guide Data Base'!A1616>0,'Veg Guide Data Base'!A1616,\"\")","v":"manono - 1"},{"$error":"#N/A"},{"$error":"#N/A"},{"$error":"#N/A"},{"$error":"#N/A"},{"$f":"IFERROR(INDEX($F$264:$F$888,_xlfn.AGGREGATE(15,6,(ROW($F$264:$F$888)-ROW($F$264)+1)/($F$264:$F$888<>\"\"),ROWS(H$2:H119))),\"\")","v":""},{"$f":"IFERROR(INDEX($G$264:$G$888,_xlfn.AGGREGATE(15,6,(ROW($G$264:$G$888)-ROW($G$264)+1)/($G$264:$G$888<>\"\"),ROWS(H$2:H119))),\"\")","v":""}]
[null,null,{"$f":"IF('Veg Guide Data Base'!A1617>0,'Veg Guide Data Base'!A1617,\"\")","v":"manono - 2"},{"$error":"#N/A"},{"$error":"#N/A"},{"$error":"#N/A"},{"$error":"#N/A"},{"$f":"IFERROR(INDEX($F$264:$F$888,_xlfn.AGGREGATE(15,6,(ROW($F$264:$F$888)-ROW($F$264)+1)/($F$264:$F$888<>\"\"),ROWS(H$2:H120))),\"\")","v":""},{"$f":"IFERROR(INDEX($G$264:$G$888,_xlfn.AGGREGATE(15,6,(ROW($G$264:$G$888)-ROW($G$264)+1)/($G$264:$G$888<>\"\"),ROWS(H$2:H120))),\"\")","v":""}]
[null,null,{"$f":"IF('Veg Guide Data Base'!A1618>0,'Veg Guide Data Base'!A1618,\"\")","v":"mao, huluhulu, Hawaiian cotton"},{"$error":"#N/A"},{"$error":"#N/A"},{"$error":"#N/A"},{"$error":"#N/A"},{"$f":"IFERROR(INDEX($F$264:$F$888,_xlfn.AGGREGATE(15,6,(ROW($F$264:$F$888)-ROW($F$264)+1)/($F$264:$F$888<>\"\"),ROWS(H$2:H121))),\"\")","v":""},{"$f":"IFERROR(INDEX($G$264:$G$888,_xlfn.AGGREGATE(15,6,(ROW($G$264:$G$888)-ROW($G$264)+1)/($G$264:$G$888<>\"\"),ROWS(H$2:H121))),\"\")","v":""}]
[null,null,{"$f":"IF('Veg Guide Data Base'!A1619>0,'Veg Guide Data Base'!A1619,\"\")","v":"maua"},{"$error":"#N/A"},{"$error":"#N/A"},{"$error":"#N/A"},{"$error":"#N/A"},{"$f":"IFERROR(INDEX($F$264:$F$888,_xlfn.AGGREGATE(15,6,(ROW($F$264:$F$888)-ROW($F$264)+1)/($F$264:$F$888<>\"\"),ROWS(H$2:H122))),\"\")","v":""},{"$f":"IFERROR(INDEX($G$264:$G$888,_xlfn.AGGREGATE(15,6,(ROW($G$264:$G$888)-ROW($G$264)+1)/($G$264:$G$888<>\"\"),ROWS(H$2:H122))),\"\")","v":""}]
[null,null,{"$f":"IF('Veg Guide Data Base'!A1620>0,'Veg Guide Data Base'!A1620,\"\")","v":"Maui hinahina ewa, Maui chaff flower"},{"$error":"#N/A"},{"$error":"#N/A"},{"$error":"#N/A"},{"$error":"#N/A"},{"$f":"IFERROR(INDEX($F$264:$F$888,_xlfn.AGGREGATE(15,6,(ROW($F$264:$F$888)-ROW($F$264)+1)/($F$264:$F$888<>\"\"),ROWS(H$2:H123))),\"\")","v":""},{"$f":"IFERROR(INDEX($G$264:$G$888,_xlfn.AGGREGATE(15,6,(ROW($G$264:$G$888)-ROW($G$264)+1)/($G$264:$G$888<>\"\"),ROWS(H$2:H123))),\"\")","v":""}]
[null,null,{"$f":"IF('Veg Guide Data Base'!A1621>0,'Veg Guide Data Base'!A1621,\"\")","v":"Mexican (Portugese) cypress"},{"$error":"#N/A"},{"$error":"#N/A"},{"$error":"#N/A"},{"$error":"#N/A"},{"$f":"IFERROR(INDEX($F$264:$F$888,_xlfn.AGGREGATE(15,6,(ROW($F$264:$F$888)-ROW($F$264)+1)/($F$264:$F$888<>\"\"),ROWS(H$2:H124))),\"\")","v":""},{"$f":"IFERROR(INDEX($G$264:$G$888,_xlfn.AGGREGATE(15,6,(ROW($G$264:$G$888)-ROW($G$264)+1)/($G$264:$G$888<>\"\"),ROWS(H$2:H124))),\"\")","v":""}]
[null,null,{"$f":"IF('Veg Guide Data Base'!A1622>0,'Veg Guide Data Base'!A1622,\"\")","v":"milo, Pacific rosewood"},{"$error":"#N/A"},{"$error":"#N/A"},{"$error":"#N/A"},{"$error":"#N/A"},{"$f":"IFERROR(INDEX($F$264:$F$888,_xlfn.AGGREGATE(15,6,(ROW($F$264:$F$888)-ROW($F$264)+1)/($F$264:$F$888<>\"\"),ROWS(H$2:H125))),\"\")","v":""},{"$f":"IFERROR(INDEX($G$264:$G$888,_xlfn.AGGREGATE(15,6,(ROW($G$264:$G$888)-ROW($G$264)+1)/($G$264:$G$888<>\"\"),ROWS(H$2:H125))),\"\")","v":""}]
[null,null,{"$f":"IF('Veg Guide Data Base'!A1623>0,'Veg Guide Data Base'!A1623,\"\")","v":"Mindanao gum, rainbow gum"},{"$error":"#N/A"},{"$error":"#N/A"},{"$error":"#N/A"},{"$error":"#N/A"},{"$f":"IFERROR(INDEX($F$264:$F$888,_xlfn.AGGREGATE(15,6,(ROW($F$264:$F$888)-ROW($F$264)+1)/($F$264:$F$888<>\"\"),ROWS(H$2:H126))),\"\")","v":""},{"$f":"IFERROR(INDEX($G$264:$G$888,_xlfn.AGGREGATE(15,6,(ROW($G$264:$G$888)-ROW($G$264)+1)/($G$264:$G$888<>\"\"),ROWS(H$2:H126))),\"\")","v":""}]
[null,null,{"$f":"IF('Veg Guide Data Base'!A1624>0,'Veg Guide Data Base'!A1624,\"\")","v":"mock orange"},{"$error":"#N/A"},{"$error":"#N/A"},{"$error":"#N/A"},{"$error":"#N/A"},{"$f":"IFERROR(INDEX($F$264:$F$888,_xlfn.AGGREGATE(15,6,(ROW($F$264:$F$888)-ROW($F$264)+1)/($F$264:$F$888<>\"\"),ROWS(H$2:H127))),\"\")","v":""},{"$f":"IFERROR(INDEX($G$264:$G$888,_xlfn.AGGREGATE(15,6,(ROW($G$264:$G$888)-ROW($G$264)+1)/($G$264:$G$888<>\"\"),ROWS(H$2:H127))),\"\")","v":""}]
[null,null,{"$f":"IF('Veg Guide Data Base'!A1625>0,'Veg Guide Data Base'!A1625,\"\")","v":"monkeypod, ohai, rain tree"},{"$error":"#N/A"},{"$error":"#N/A"},{"$error":"#N/A"},{"$error":"#N/A"},{"$f":"IFERROR(INDEX($F$264:$F$888,_xlfn.AGGREGATE(15,6,(ROW($F$264:$F$888)-ROW($F$264)+1)/($F$264:$F$888<>\"\"),ROWS(H$2:H128))),\"\")","v":""},{"$f":"IFERROR(INDEX($G$264:$G$888,_xlfn.AGGREGATE(15,6,(ROW($G$264:$G$888)-ROW($G$264)+1)/($G$264:$G$888<>\"\"),ROWS(H$2:H128))),\"\")","v":""}]
[null,null,{"$f":"IF('Veg Guide Data Base'!A1626>0,'Veg Guide Data Base'!A1626,\"\")","v":"mountain apple"},{"$error":"#N/A"},{"$error":"#N/A"},{"$error":"#N/A"},{"$error":"#N/A"},{"$f":"IFERROR(INDEX($F$264:$F$888,_xlfn.AGGREGATE(15,6,(ROW($F$264:$F$888)-ROW($F$264)+1)/($F$264:$F$888<>\"\"),ROWS(H$2:H129))),\"\")","v":""},{"$f":"IFERROR(INDEX($G$264:$G$888,_xlfn.AGGREGATE(15,6,(ROW($G$264:$G$888)-ROW($G$264)+1)/($G$264:$G$888<>\"\"),ROWS(H$2:H129))),\"\")","v":""}]
[null,null,{"$f":"IF('Veg Guide Data Base'!A1627>0,'Veg Guide Data Base'!A1627,\"\")","v":"narra, Burmese rosewood"},{"$error":"#N/A"},{"$error":"#N/A"},{"$error":"#N/A"},{"$error":"#N/A"},{"$f":"IFERROR(INDEX($F$264:$F$888,_xlfn.AGGREGATE(15,6,(ROW($F$264:$F$888)-ROW($F$264)+1)/($F$264:$F$888<>\"\"),ROWS(H$2:H130))),\"\")","v":""},{"$f":"IFERROR(INDEX($G$264:$G$888,_xlfn.AGGREGATE(15,6,(ROW($G$264:$G$888)-ROW($G$264)+1)/($G$264:$G$888<>\"\"),ROWS(H$2:H130))),\"\")","v":""}]
[null,null,{"$f":"IF('Veg Guide Data Base'!A1628>0,'Veg Guide Data Base'!A1628,\"\")","v":"narrow-leaved ironbark"},{"$error":"#N/A"},{"$error":"#N/A"},{"$f":"IF(E393=\"Tree\",C393,\"\")","v":{"$error":"#N/A"}},{"$f":"IF(OR(E393=\"Shrub\",E393=\"Vine-woody\"),C393,\"\")","v":{"$error":"#N/A"}},{"$f":"IFERROR(INDEX($F$264:$F$888,_xlfn.AGGREGATE(15,6,(ROW($F$264:$F$888)-ROW($F$264)+1)/($F$264:$F$888<>\"\"),ROWS(H$2:H131))),\"\")","v":""},{"$f":"IFERROR(INDEX($G$264:$G$888,_xlfn.AGGREGATE(15,6,(ROW($G$264:$G$888)-ROW($G$264)+1)/($G$264:$G$888<>\"\"),ROWS(H$2:H131))),\"\")","v":""}]
[null,null,{"$f":"IF('Veg Guide Data Base'!A1629>0,'Veg Guide Data Base'!A1629,\"\")","v":"naupaka kahakai, beach cabbage"},{"$error":"#N/A"},{"$error":"#N/A"},{"$error":"#N/A"},{"$error":"#N/A"},{"$f":"IFERROR(INDEX($F$264:$F$888,_xlfn.AGGREGATE(15,6,(ROW($F$264:$F$888)-ROW($F$264)+1)/($F$264:$F$888<>\"\"),ROWS(H$2:H132))),\"\")","v":""},{"$f":"IFERROR(INDEX($G$264:$G$888,_xlfn.AGGREGATE(15,6,(ROW($G$264:$G$888)-ROW($G$264)+1)/($G$264:$G$888<>\"\"),ROWS(H$2:H132))),\"\")","v":""}]
[null,null,{"$f":"IF('Veg Guide Data Base'!A1630>0,'Veg Guide Data Base'!A1630,\"\")","v":"naupaka kuahiwi - 3"},{"$error":"#N/A"},{"$error":"#N/A"},{"$error":"#N/A"},{"$error":"#N/A"},{"$f":"IFERROR(INDEX($F$264:$F$888,_xlfn.AGGREGATE(15,6,(ROW($F$264:$F$888)-ROW($F$264)+1)/($F$264:$F$888<>\"\"),ROWS(H$2:H133))),\"\")","v":""},{"$f":"IFERROR(INDEX($G$264:$G$888,_xlfn.AGGREGATE(15,6,(ROW($G$264:$G$888)-ROW($G$264)+1)/($G$264:$G$888<>\"\"),ROWS(H$2:H133))),\"\")","v":""}]
[null,null,{"$f":"IF('Veg Guide Data Base'!A1631>0,'Veg Guide Data Base'!A1631,\"\")","v":"neem, Indian lilac"},{"$error":"#N/A"},{"$error":"#N/A"},{"$error":"#N/A"},{"$error":"#N/A"},{"$f":"IFERROR(INDEX($F$264:$F$888,_xlfn.AGGREGATE(15,6,(ROW($F$264:$F$888)-ROW($F$264)+1)/($F$264:$F$888<>\"\"),ROWS(H$2:H134))),\"\")","v":""},{"$f":"IFERROR(INDEX($G$264:$G$888,_xlfn.AGGREGATE(15,6,(ROW($G$264:$G$888)-ROW($G$264)+1)/($G$264:$G$888<>\"\"),ROWS(H$2:H134))),\"\")","v":""}]
[null,null,{"$f":"IF('Veg Guide Data Base'!A1632>0,'Veg Guide Data Base'!A1632,\"\")","v":"nehe"},{"$error":"#N/A"},{"$error":"#N/A"},{"$error":"#N/A"},{"$error":"#N/A"},{"$f":"IFERROR(INDEX($F$264:$F$888,_xlfn.AGGREGATE(15,6,(ROW($F$264:$F$888)-ROW($F$264)+1)/($F$264:$F$888<>\"\"),ROWS(H$2:H135))),\"\")","v":""},{"$f":"IFERROR(INDEX($G$264:$G$888,_xlfn.AGGREGATE(15,6,(ROW($G$264:$G$888)-ROW($G$264)+1)/($G$264:$G$888<>\"\"),ROWS(H$2:H135))),\"\")","v":""}]
[null,null,{"$f":"IF('Veg Guide Data Base'!A1633>0,'Veg Guide Data Base'!A1633,\"\")","v":"neneleau"},{"$error":"#N/A"},{"$error":"#N/A"},{"$error":"#N/A"},{"$error":"#N/A"},{"$f":"IFERROR(INDEX($F$264:$F$888,_xlfn.AGGREGATE(15,6,(ROW($F$264:$F$888)-ROW($F$264)+1)/($F$264:$F$888<>\"\"),ROWS(H$2:H136))),\"\")","v":""},{"$f":"IFERROR(INDEX($G$264:$G$888,_xlfn.AGGREGATE(15,6,(ROW($G$264:$G$888)-ROW($G$264)+1)/($G$264:$G$888<>\"\"),ROWS(H$2:H136))),\"\")","v":""}]
[null,null,{"$f":"IF('Veg Guide Data Base'!A1634>0,'Veg Guide Data Base'!A1634,\"\")","v":"Nicaraguan rosewood, cocobolo"},{"$error":"#N/A"},{"$error":"#N/A"},{"$error":"#N/A"},{"$error":"#N/A"},{"$f":"IFERROR(INDEX($F$264:$F$888,_xlfn.AGGREGATE(15,6,(ROW($F$264:$F$888)-ROW($F$264)+1)/($F$264:$F$888<>\"\"),ROWS(H$2:H137))),\"\")","v":""},{"$f":"IFERROR(INDEX($G$264:$G$888,_xlfn.AGGREGATE(15,6,(ROW($G$264:$G$888)-ROW($G$264)+1)/($G$264:$G$888<>\"\"),ROWS(H$2:H137))),\"\")","v":""}]
[null,null,{"$f":"IF('Veg Guide Data Base'!A1635>0,'Veg Guide Data Base'!A1635,\"\")","v":"noni, Indian mulberry"},{"$error":"#N/A"},{"$error":"#N/A"},{"$error":"#N/A"},{"$error":"#N/A"},{"$f":"IFERROR(INDEX($F$264:$F$888,_xlfn.AGGREGATE(15,6,(ROW($F$264:$F$888)-ROW($F$264)+1)/($F$264:$F$888<>\"\"),ROWS(H$2:H138))),\"\")","v":""},{"$f":"IFERROR(INDEX($G$264:$G$888,_xlfn.AGGREGATE(15,6,(ROW($G$264:$G$888)-ROW($G$264)+1)/($G$264:$G$888<>\"\"),ROWS(H$2:H138))),\"\")","v":""}]
[null,null,{"$f":"IF('Veg Guide Data Base'!A1636>0,'Veg Guide Data Base'!A1636,\"\")","v":"Norfolk Island pine"},{"$error":"#N/A"},{"$error":"#N/A"},{"$error":"#N/A"},{"$error":"#N/A"},{"$f":"IFERROR(INDEX($F$264:$F$888,_xlfn.AGGREGATE(15,6,(ROW($F$264:$F$888)-ROW($F$264)+1)/($F$264:$F$888<>\"\"),ROWS(H$2:H139))),\"\")","v":""},{"$f":"IFERROR(INDEX($G$264:$G$888,_xlfn.AGGREGATE(15,6,(ROW($G$264:$G$888)-ROW($G$264)+1)/($G$264:$G$888<>\"\"),ROWS(H$2:H139))),\"\")","v":""}]
[null,null,{"$f":"IF('Veg Guide Data Base'!A1637>0,'Veg Guide Data Base'!A1637,\"\")","v":"oha wai - 6"},{"$error":"#N/A"},{"$error":"#N/A"},{"$error":"#N/A"},{"$error":"#N/A"},{"$f":"IFERROR(INDEX($F$264:$F$888,_xlfn.AGGREGATE(15,6,(ROW($F$264:$F$888)-ROW($F$264)+1)/($F$264:$F$888<>\"\"),ROWS(H$2:H140))),\"\")","v":""},{"$f":"IFERROR(INDEX($G$264:$G$888,_xlfn.AGGREGATE(15,6,(ROW($G$264:$G$888)-ROW($G$264)+1)/($G$264:$G$888<>\"\"),ROWS(H$2:H140))),\"\")","v":""}]
[null,null,{"$f":"IF('Veg Guide Data Base'!A1638>0,'Veg Guide Data Base'!A1638,\"\")","v":"ohai keokeo, corkwood"},{"$error":"#N/A"},{"$error":"#N/A"},{"$error":"#N/A"},{"$error":"#N/A"},{"$f":"IFERROR(INDEX($F$264:$F$888,_xlfn.AGGREGATE(15,6,(ROW($F$264:$F$888)-ROW($F$264)+1)/($F$264:$F$888<>\"\"),ROWS(H$2:H141))),\"\")","v":""},{"$f":"IFERROR(INDEX($G$264:$G$888,_xlfn.AGGREGATE(15,6,(ROW($G$264:$G$888)-ROW($G$264)+1)/($G$264:$G$888<>\"\"),ROWS(H$2:H141))),\"\")","v":""}]
[null,null,{"$f":"IF('Veg Guide Data Base'!A1639>0,'Veg Guide Data Base'!A1639,\"\")","v":"ohe makai"},{"$error":"#N/A"},{"$error":"#N/A"},{"$error":"#N/A"},{"$error":"#N/A"},{"$f":"IFERROR(INDEX($F$264:$F$888,_xlfn.AGGREGATE(15,6,(ROW($F$264:$F$888)-ROW($F$264)+1)/($F$264:$F$888<>\"\"),ROWS(H$2:H142))),\"\")","v":""},{"$f":"IFERROR(INDEX($G$264:$G$888,_xlfn.AGGREGATE(15,6,(ROW($G$264:$G$888)-ROW($G$264)+1)/($G$264:$G$888<>\"\"),ROWS(H$2:H142))),\"\")","v":""}]
[null,null,{"$f":"IF('Veg Guide Data Base'!A1640>0,'Veg Guide Data Base'!A1640,\"\")","v":"ohia, ohia lehua"},{"$error":"#N/A"},{"$error":"#N/A"},{"$error":"#N/A"},{"$error":"#N/A"},{"$f":"IFERROR(INDEX($F$264:$F$888,_xlfn.AGGREGATE(15,6,(ROW($F$264:$F$888)-ROW($F$264)+1)/($F$264:$F$888<>\"\"),ROWS(H$2:H143))),\"\")","v":""},{"$f":"IFERROR(INDEX($G$264:$G$888,_xlfn.AGGREGATE(15,6,(ROW($G$264:$G$888)-ROW($G$264)+1)/($G$264:$G$888<>\"\"),ROWS(H$2:H143))),\"\")","v":""}]
[null,null,{"$f":"IF('Veg Guide Data Base'!A1641>0,'Veg Guide Data Base'!A1641,\"\")","v":"olapa, lapalapa - 2"},{"$error":"#N/A"},{"$error":"#N/A"},{"$error":"#N/A"},{"$error":"#N/A"},{"$f":"IFERROR(INDEX($F$264:$F$888,_xlfn.AGGREGATE(15,6,(ROW($F$264:$F$888)-ROW($F$264)+1)/($F$264:$F$888<>\"\"),ROWS(H$2:H144))),\"\")","v":""},{"$f":"IFERROR(INDEX($G$264:$G$888,_xlfn.AGGREGATE(15,6,(ROW($G$264:$G$888)-ROW($G$264)+1)/($G$264:$G$888<>\"\"),ROWS(H$2:H144))),\"\")","v":""}]
[null,null,{"$f":"IF('Veg Guide Data Base'!A1642>0,'Veg Guide Data Base'!A1642,\"\")","v":"olopua"},{"$error":"#N/A"},{"$error":"#N/A"},{"$error":"#N/A"},{"$error":"#N/A"},{"$f":"IFERROR(INDEX($F$264:$F$888,_xlfn.AGGREGATE(15,6,(ROW($F$264:$F$888)-ROW($F$264)+1)/($F$264:$F$888<>\"\"),ROWS(H$2:H145))),\"\")","v":""},{"$f":"IFERROR(INDEX($G$264:$G$888,_xlfn.AGGREGATE(15,6,(ROW($G$264:$G$888)-ROW($G$264)+1)/($G$264:$G$888<>\"\"),ROWS(H$2:H145))),\"\")","v":""}]
[null,null,{"$f":"IF('Veg Guide Data Base'!A1643>0,'Veg Guide Data Base'!A1643,\"\")","v":"papala"},{"$error":"#N/A"},{"$error":"#N/A"},{"$error":"#N/A"},{"$error":"#N/A"},{"$f":"IFERROR(INDEX($F$264:$F$888,_xlfn.AGGREGATE(15,6,(ROW($F$264:$F$888)-ROW($F$264)+1)/($F$264:$F$888<>\"\"),ROWS(H$2:H146))),\"\")","v":""},{"$f":"IFERROR(INDEX($G$264:$G$888,_xlfn.AGGREGATE(15,6,(ROW($G$264:$G$888)-ROW($G$264)+1)/($G$264:$G$888<>\"\"),ROWS(H$2:H146))),\"\")","v":""}]
[null,null,{"$f":"IF('Veg Guide Data Base'!A1644>0,'Veg Guide Data Base'!A1644,\"\")","v":"papala kepau - 1"},{"$error":"#N/A"},{"$error":"#N/A"},{"$error":"#N/A"},{"$error":"#N/A"},{"$f":"IFERROR(INDEX($F$264:$F$888,_xlfn.AGGREGATE(15,6,(ROW($F$264:$F$888)-ROW($F$264)+1)/($F$264:$F$888<>\"\"),ROWS(H$2:H147))),\"\")","v":""},{"$f":"IFERROR(INDEX($G$264:$G$888,_xlfn.AGGREGATE(15,6,(ROW($G$264:$G$888)-ROW($G$264)+1)/($G$264:$G$888<>\"\"),ROWS(H$2:H147))),\"\")","v":""}]
[null,null,{"$f":"IF('Veg Guide Data Base'!A1645>0,'Veg Guide Data Base'!A1645,\"\")","v":"pawale, uhauhako"},{"$error":"#N/A"},{"$error":"#N/A"},{"$error":"#N/A"},{"$error":"#N/A"},{"$f":"IFERROR(INDEX($F$264:$F$888,_xlfn.AGGREGATE(15,6,(ROW($F$264:$F$888)-ROW($F$264)+1)/($F$264:$F$888<>\"\"),ROWS(H$2:H148))),\"\")","v":""},{"$f":"IFERROR(INDEX($G$264:$G$888,_xlfn.AGGREGATE(15,6,(ROW($G$264:$G$888)-ROW($G$264)+1)/($G$264:$G$888<>\"\"),ROWS(H$2:H148))),\"\")","v":""}]
[null,null,{"$f":"IF('Veg Guide Data Base'!A1646>0,'Veg Guide Data Base'!A1646,\"\")","v":"Pheasant wood, Siamese cassia"},{"$error":"#N/A"},{"$error":"#N/A"},{"$error":"#N/A"},{"$error":"#N/A"},{"$f":"IFERROR(INDEX($F$264:$F$888,_xlfn.AGGREGATE(15,6,(ROW($F$264:$F$888)-ROW($F$264)+1)/($F$264:$F$888<>\"\"),ROWS(H$2:H149))),\"\")","v":""},{"$f":"IFERROR(INDEX($G$264:$G$888,_xlfn.AGGREGATE(15,6,(ROW($G$264:$G$888)-ROW($G$264)+1)/($G$264:$G$888<>\"\"),ROWS(H$2:H149))),\"\")","v":""}]
[null,null,{"$f":"IF('Veg Guide Data Base'!A1647>0,'Veg Guide Data Base'!A1647,\"\")","v":"plumeria"},{"$error":"#N/A"},{"$error":"#N/A"},{"$error":"#N/A"},{"$error":"#N/A"},{"$f":"IFERROR(INDEX($F$264:$F$888,_xlfn.AGGREGATE(15,6,(ROW($F$264:$F$888)-ROW($F$264)+1)/($F$264:$F$888<>\"\"),ROWS(H$2:H150))),\"\")","v":""},{"$f":"IFERROR(INDEX($G$264:$G$888,_xlfn.AGGREGATE(15,6,(ROW($G$264:$G$888)-ROW($G$264)+1)/($G$264:$G$888<>\"\"),ROWS(H$2:H150))),\"\")","v":""}]
[null,null,{"$f":"IF('Veg Guide Data Base'!A1648>0,'Veg Guide Data Base'!A1648,\"\")","v":"pomegranate"},{"$error":"#N/A"},{"$error":"#N/A"},{"$error":"#N/A"},{"$error":"#N/A"},{"$f":"IFERROR(INDEX($F$264:$F$888,_xlfn.AGGREGATE(15,6,(ROW($F$264:$F$888)-ROW($F$264)+1)/($F$264:$F$888<>\"\"),ROWS(H$2:H151))),\"\")","v":""},{"$f":"IFERROR(INDEX($G$264:$G$888,_xlfn.AGGREGATE(15,6,(ROW($G$264:$G$888)-ROW($G$264)+1)/($G$264:$G$888<>\"\"),ROWS(H$2:H151))),\"\")","v":""}]
[null,null,{"$f":"IF('Veg Guide Data Base'!A1649>0,'Veg Guide Data Base'!A1649,\"\")","v":"primavera, gold tree"},{"$error":"#N/A"},{"$error":"#N/A"},{"$error":"#N/A"},{"$error":"#N/A"},{"$f":"IFERROR(INDEX($F$264:$F$888,_xlfn.AGGREGATE(15,6,(ROW($F$264:$F$888)-ROW($F$264)+1)/($F$264:$F$888<>\"\"),ROWS(H$2:H152))),\"\")","v":""},{"$f":"IFERROR(INDEX($G$264:$G$888,_xlfn.AGGREGATE(15,6,(ROW($G$264:$G$888)-ROW($G$264)+1)/($G$264:$G$888<>\"\"),ROWS(H$2:H152))),\"\")","v":""}]
[null,null,{"$f":"IF('Veg Guide Data Base'!A1650>0,'Veg Guide Data Base'!A1650,\"\")","v":"pua kine kine"},{"$error":"#N/A"},{"$error":"#N/A"},{"$error":"#N/A"},{"$error":"#N/A"},{"$f":"IFERROR(INDEX($F$264:$F$888,_xlfn.AGGREGATE(15,6,(ROW($F$264:$F$888)-ROW($F$264)+1)/($F$264:$F$888<>\"\"),ROWS(H$2:H153))),\"\")","v":""},{"$f":"IFERROR(INDEX($G$264:$G$888,_xlfn.AGGREGATE(15,6,(ROW($G$264:$G$888)-ROW($G$264)+1)/($G$264:$G$888<>\"\"),ROWS(H$2:H153))),\"\")","v":""}]
[null,null,{"$f":"IF('Veg Guide Data Base'!A1651>0,'Veg Guide Data Base'!A1651,\"\")","v":"pukiawe"},{"$error":"#N/A"},{"$error":"#N/A"},{"$error":"#N/A"},{"$error":"#N/A"},{"$f":"IFERROR(INDEX($F$264:$F$888,_xlfn.AGGREGATE(15,6,(ROW($F$264:$F$888)-ROW($F$264)+1)/($F$264:$F$888<>\"\"),ROWS(H$2:H154))),\"\")","v":""},{"$f":"IFERROR(INDEX($G$264:$G$888,_xlfn.AGGREGATE(15,6,(ROW($G$264:$G$888)-ROW($G$264)+1)/($G$264:$G$888<>\"\"),ROWS(H$2:H154))),\"\")","v":""}]
[null,null,{"$f":"IF('Veg Guide Data Base'!A1652>0,'Veg Guide Data Base'!A1652,\"\")","v":"pummelo"},{"$error":"#N/A"},{"$error":"#N/A"},{"$error":"#N/A"},{"$error":"#N/A"},{"$f":"IFERROR(INDEX($F$264:$F$888,_xlfn.AGGREGATE(15,6,(ROW($F$264:$F$888)-ROW($F$264)+1)/($F$264:$F$888<>\"\"),ROWS(H$2:H155))),\"\")","v":""},{"$f":"IFERROR(INDEX($G$264:$G$888,_xlfn.AGGREGATE(15,6,(ROW($G$264:$G$888)-ROW($G$264)+1)/($G$264:$G$888<>\"\"),ROWS(H$2:H155))),\"\")","v":""}]
[null,null,{"$f":"IF('Veg Guide Data Base'!A1653>0,'Veg Guide Data Base'!A1653,\"\")","v":"Queensland kauri"},{"$error":"#N/A"},{"$error":"#N/A"},{"$error":"#N/A"},{"$error":"#N/A"},{"$f":"IFERROR(INDEX($F$264:$F$888,_xlfn.AGGREGATE(15,6,(ROW($F$264:$F$888)-ROW($F$264)+1)/($F$264:$F$888<>\"\"),ROWS(H$2:H156))),\"\")","v":""},{"$f":"IFERROR(INDEX($G$264:$G$888,_xlfn.AGGREGATE(15,6,(ROW($G$264:$G$888)-ROW($G$264)+1)/($G$264:$G$888<>\"\"),ROWS(H$2:H156))),\"\")","v":""}]
[null,null,{"$f":"IF('Veg Guide Data Base'!A1654>0,'Veg Guide Data Base'!A1654,\"\")","v":"quick stick, mother of cocoa"},{"$error":"#N/A"},{"$error":"#N/A"},{"$error":"#N/A"},{"$error":"#N/A"},{"$f":"IFERROR(INDEX($F$264:$F$888,_xlfn.AGGREGATE(15,6,(ROW($F$264:$F$888)-ROW($F$264)+1)/($F$264:$F$888<>\"\"),ROWS(H$2:H157))),\"\")","v":""},{"$f":"IFERROR(INDEX($G$264:$G$888,_xlfn.AGGREGATE(15,6,(ROW($G$264:$G$888)-ROW($G$264)+1)/($G$264:$G$888<>\"\"),ROWS(H$2:H157))),\"\")","v":""}]
[null,null,{"$f":"IF('Veg Guide Data Base'!A1655>0,'Veg Guide Data Base'!A1655,\"\")","v":"rollinia"},{"$error":"#N/A"},{"$error":"#N/A"},{"$error":"#N/A"},{"$error":"#N/A"},{"$f":"IFERROR(INDEX($F$264:$F$888,_xlfn.AGGREGATE(15,6,(ROW($F$264:$F$888)-ROW($F$264)+1)/($F$264:$F$888<>\"\"),ROWS(H$2:H158))),\"\")","v":""},{"$f":"IFERROR(INDEX($G$264:$G$888,_xlfn.AGGREGATE(15,6,(ROW($G$264:$G$888)-ROW($G$264)+1)/($G$264:$G$888<>\"\"),ROWS(H$2:H158))),\"\")","v":""}]
[null,null,{"$f":"IF('Veg Guide Data Base'!A1656>0,'Veg Guide Data Base'!A1656,\"\")","v":"sadak"},{"$error":"#N/A"},{"$error":"#N/A"},{"$error":"#N/A"},{"$error":"#N/A"},{"$f":"IFERROR(INDEX($F$264:$F$888,_xlfn.AGGREGATE(15,6,(ROW($F$264:$F$888)-ROW($F$264)+1)/($F$264:$F$888<>\"\"),ROWS(H$2:H159))),\"\")","v":""},{"$f":"IFERROR(INDEX($G$264:$G$888,_xlfn.AGGREGATE(15,6,(ROW($G$264:$G$888)-ROW($G$264)+1)/($G$264:$G$888<>\"\"),ROWS(H$2:H159))),\"\")","v":""}]
[null,null,{"$f":"IF('Veg Guide Data Base'!A1657>0,'Veg Guide Data Base'!A1657,\"\")","v":"simpleleaf chastetree - 1"},{"$error":"#N/A"},{"$error":"#N/A"},{"$error":"#N/A"},{"$error":"#N/A"},{"$f":"IFERROR(INDEX($F$264:$F$888,_xlfn.AGGREGATE(15,6,(ROW($F$264:$F$888)-ROW($F$264)+1)/($F$264:$F$888<>\"\"),ROWS(H$2:H160))),\"\")","v":""},{"$f":"IFERROR(INDEX($G$264:$G$888,_xlfn.AGGREGATE(15,6,(ROW($G$264:$G$888)-ROW($G$264)+1)/($G$264:$G$888<>\"\"),ROWS(H$2:H160))),\"\")","v":""}]
[null,null,{"$f":"IF('Veg Guide Data Base'!A1658>0,'Veg Guide Data Base'!A1658,\"\")","v":"simpleleaf chastetree - 2"},{"$error":"#N/A"},{"$error":"#N/A"},{"$error":"#N/A"},{"$error":"#N/A"},{"$f":"IFERROR(INDEX($F$264:$F$888,_xlfn.AGGREGATE(15,6,(ROW($F$264:$F$888)-ROW($F$264)+1)/($F$264:$F$888<>\"\"),ROWS(H$2:H161))),\"\")","v":""},{"$f":"IFERROR(INDEX($G$264:$G$888,_xlfn.AGGREGATE(15,6,(ROW($G$264:$G$888)-ROW($G$264)+1)/($G$264:$G$888<>\"\"),ROWS(H$2:H161))),\"\")","v":""}]
[null,null,{"$f":"IF('Veg Guide Data Base'!A1659>0,'Veg Guide Data Base'!A1659,\"\")","v":"small cone ironwood"},{"$error":"#N/A"},{"$error":"#N/A"},{"$error":"#N/A"},{"$error":"#N/A"},{"$f":"IFERROR(INDEX($F$264:$F$888,_xlfn.AGGREGATE(15,6,(ROW($F$264:$F$888)-ROW($F$264)+1)/($F$264:$F$888<>\"\"),ROWS(H$2:H162))),\"\")","v":""},{"$f":"IFERROR(INDEX($G$264:$G$888,_xlfn.AGGREGATE(15,6,(ROW($G$264:$G$888)-ROW($G$264)+1)/($G$264:$G$888<>\"\"),ROWS(H$2:H162))),\"\")","v":""}]
[null,null,{"$f":"IF('Veg Guide Data Base'!A1660>0,'Veg Guide Data Base'!A1660,\"\")","v":"song of India"},{"$error":"#N/A"},{"$error":"#N/A"},{"$error":"#N/A"},{"$error":"#N/A"},{"$f":"IFERROR(INDEX($F$264:$F$888,_xlfn.AGGREGATE(15,6,(ROW($F$264:$F$888)-ROW($F$264)+1)/($F$264:$F$888<>\"\"),ROWS(H$2:H163))),\"\")","v":""},{"$f":"IFERROR(INDEX($G$264:$G$888,_xlfn.AGGREGATE(15,6,(ROW($G$264:$G$888)-ROW($G$264)+1)/($G$264:$G$888<>\"\"),ROWS(H$2:H163))),\"\")","v":""}]
[null,null,{"$f":"IF('Veg Guide Data Base'!A1661>0,'Veg Guide Data Base'!A1661,\"\")","v":"sour sop"},{"$error":"#N/A"},{"$error":"#N/A"},{"$error":"#N/A"},{"$error":"#N/A"},{"$f":"IFERROR(INDEX($F$264:$F$888,_xlfn.AGGREGATE(15,6,(ROW($F$264:$F$888)-ROW($F$264)+1)/($F$264:$F$888<>\"\"),ROWS(H$2:H164))),\"\")","v":""},{"$f":"IFERROR(INDEX($G$264:$G$888,_xlfn.AGGREGATE(15,6,(ROW($G$264:$G$888)-ROW($G$264)+1)/($G$264:$G$888<>\"\"),ROWS(H$2:H164))),\"\")","v":""}]
[null,null,{"$f":"IF('Veg Guide Data Base'!A1662>0,'Veg Guide Data Base'!A1662,\"\")","v":"Southern magnolia"},{"$error":"#N/A"},{"$error":"#N/A"},{"$error":"#N/A"},{"$error":"#N/A"},{"$f":"IFERROR(INDEX($F$264:$F$888,_xlfn.AGGREGATE(15,6,(ROW($F$264:$F$888)-ROW($F$264)+1)/($F$264:$F$888<>\"\"),ROWS(H$2:H165))),\"\")","v":""},{"$f":"IFERROR(INDEX($G$264:$G$888,_xlfn.AGGREGATE(15,6,(ROW($G$264:$G$888)-ROW($G$264)+1)/($G$264:$G$888<>\"\"),ROWS(H$2:H165))),\"\")","v":""}]
[null,null,{"$f":"IF('Veg Guide Data Base'!A1663>0,'Veg Guide Data Base'!A1663,\"\")","v":"striped dracaena"},{"$error":"#N/A"},{"$error":"#N/A"},{"$error":"#N/A"},{"$error":"#N/A"},{"$f":"IFERROR(INDEX($F$264:$F$888,_xlfn.AGGREGATE(15,6,(ROW($F$264:$F$888)-ROW($F$264)+1)/($F$264:$F$888<>\"\"),ROWS(H$2:H166))),\"\")","v":""},{"$f":"IFERROR(INDEX($G$264:$G$888,_xlfn.AGGREGATE(15,6,(ROW($G$264:$G$888)-ROW($G$264)+1)/($G$264:$G$888<>\"\"),ROWS(H$2:H166))),\"\")","v":""}]
[null,null,{"$f":"IF('Veg Guide Data Base'!A1664>0,'Veg Guide Data Base'!A1664,\"\")","v":"sugar apple"},{"$error":"#N/A"},{"$error":"#N/A"},{"$error":"#N/A"},{"$error":"#N/A"},{"$f":"IFERROR(INDEX($F$264:$F$888,_xlfn.AGGREGATE(15,6,(ROW($F$264:$F$888)-ROW($F$264)+1)/($F$264:$F$888<>\"\"),ROWS(H$2:H167))),\"\")","v":""},{"$f":"IFERROR(INDEX($G$264:$G$888,_xlfn.AGGREGATE(15,6,(ROW($G$264:$G$888)-ROW($G$264)+1)/($G$264:$G$888<>\"\"),ROWS(H$2:H167))),\"\")","v":""}]
[null,null,{"$f":"IF('Veg Guide Data Base'!A1665>0,'Veg Guide Data Base'!A1665,\"\")","v":"swamp mahogany"},{"$error":"#N/A"},{"$error":"#N/A"},{"$error":"#N/A"},{"$error":"#N/A"},{"$f":"IFERROR(INDEX($F$264:$F$888,_xlfn.AGGREGATE(15,6,(ROW($F$264:$F$888)-ROW($F$264)+1)/($F$264:$F$888<>\"\"),ROWS(H$2:H168))),\"\")","v":""},{"$f":"IFERROR(INDEX($G$264:$G$888,_xlfn.AGGREGATE(15,6,(ROW($G$264:$G$888)-ROW($G$264)+1)/($G$264:$G$888<>\"\"),ROWS(H$2:H168))),\"\")","v":""}]
[null,null,{"$f":"IF('Veg Guide Data Base'!A1666>0,'Veg Guide Data Base'!A1666,\"\")","v":"Tahitian chestnut"},{"$error":"#N/A"},{"$error":"#N/A"},{"$error":"#N/A"},{"$error":"#N/A"},{"$f":"IFERROR(INDEX($F$264:$F$888,_xlfn.AGGREGATE(15,6,(ROW($F$264:$F$888)-ROW($F$264)+1)/($F$264:$F$888<>\"\"),ROWS(H$2:H169))),\"\")","v":""},{"$f":"IFERROR(INDEX($G$264:$G$888,_xlfn.AGGREGATE(15,6,(ROW($G$264:$G$888)-ROW($G$264)+1)/($G$264:$G$888<>\"\"),ROWS(H$2:H169))),\"\")","v":""}]
[null,null,{"$f":"IF('Veg Guide Data Base'!A1667>0,'Veg Guide Data Base'!A1667,\"\")","v":"tallowwood"},{"$error":"#N/A"},{"$error":"#N/A"},{"$error":"#N/A"},{"$error":"#N/A"},{"$f":"IFERROR(INDEX($F$264:$F$888,_xlfn.AGGREGATE(15,6,(ROW($F$264:$F$888)-ROW($F$264)+1)/($F$264:$F$888<>\"\"),ROWS(H$2:H170))),\"\")","v":""},{"$f":"IFERROR(INDEX($G$264:$G$888,_xlfn.AGGREGATE(15,6,(ROW($G$264:$G$888)-ROW($G$264)+1)/($G$264:$G$888<>\"\"),ROWS(H$2:H170))),\"\")","v":""}]
[null,null,{"$f":"IF('Veg Guide Data Base'!A1668>0,'Veg Guide Data Base'!A1668,\"\")","v":"tamarind, wi awaawa"},{"$error":"#N/A"},{"$error":"#N/A"},{"$error":"#N/A"},{"$error":"#N/A"},{"$f":"IFERROR(INDEX($F$264:$F$888,_xlfn.AGGREGATE(15,6,(ROW($F$264:$F$888)-ROW($F$264)+1)/($F$264:$F$888<>\"\"),ROWS(H$2:H171))),\"\")","v":""},{"$f":"IFERROR(INDEX($G$264:$G$888,_xlfn.AGGREGATE(15,6,(ROW($G$264:$G$888)-ROW($G$264)+1)/($G$264:$G$888<>\"\"),ROWS(H$2:H171))),\"\")","v":""}]
[null,null,{"$f":"IF('Veg Guide Data Base'!A1669>0,'Veg Guide Data Base'!A1669,\"\")","v":"teak"},{"$error":"#N/A"},{"$error":"#N/A"},{"$error":"#N/A"},{"$error":"#N/A"},{"$f":"IFERROR(INDEX($F$264:$F$888,_xlfn.AGGREGATE(15,6,(ROW($F$264:$F$888)-ROW($F$264)+1)/($F$264:$F$888<>\"\"),ROWS(H$2:H172))),\"\")","v":""},{"$f":"IFERROR(INDEX($G$264:$G$888,_xlfn.AGGREGATE(15,6,(ROW($G$264:$G$888)-ROW($G$264)+1)/($G$264:$G$888<>\"\"),ROWS(H$2:H172))),\"\")","v":""}]
[null,null,{"$f":"IF('Veg Guide Data Base'!A1670>0,'Veg Guide Data Base'!A1670,\"\")","v":"ti, ki, lai"},{"$error":"#N/A"},{"$error":"#N/A"},{"$error":"#N/A"},{"$error":"#N/A"},{"$f":"IFERROR(INDEX($F$264:$F$888,_xlfn.AGGREGATE(15,6,(ROW($F$264:$F$888)-ROW($F$264)+1)/($F$264:$F$888<>\"\"),ROWS(H$2:H173))),\"\")","v":""},{"$f":"IFERROR(INDEX($G$264:$G$888,_xlfn.AGGREGATE(15,6,(ROW($G$264:$G$888)-ROW($G$264)+1)/($G$264:$G$888<>\"\"),ROWS(H$2:H173))),\"\")","v":""}]
[null,null,{"$f":"IF('Veg Guide Data Base'!A1671>0,'Veg Guide Data Base'!A1671,\"\")","v":"turpentine tree "},{"$error":"#N/A"},{"$error":"#N/A"},{"$error":"#N/A"},{"$error":"#N/A"},{"$f":"IFERROR(INDEX($F$264:$F$888,_xlfn.AGGREGATE(15,6,(ROW($F$264:$F$888)-ROW($F$264)+1)/($F$264:$F$888<>\"\"),ROWS(H$2:H174))),\"\")","v":""},{"$f":"IFERROR(INDEX($G$264:$G$888,_xlfn.AGGREGATE(15,6,(ROW($G$264:$G$888)-ROW($G$264)+1)/($G$264:$G$888<>\"\"),ROWS(H$2:H174))),\"\")","v":""}]
[null,null,{"$f":"IF('Veg Guide Data Base'!A1672>0,'Veg Guide Data Base'!A1672,\"\")","v":"uhaloa"},{"$error":"#N/A"},{"$error":"#N/A"},{"$error":"#N/A"},{"$error":"#N/A"},{"$f":"IFERROR(INDEX($F$264:$F$888,_xlfn.AGGREGATE(15,6,(ROW($F$264:$F$888)-ROW($F$264)+1)/($F$264:$F$888<>\"\"),ROWS(H$2:H175))),\"\")","v":""},{"$f":"IFERROR(INDEX($G$264:$G$888,_xlfn.AGGREGATE(15,6,(ROW($G$264:$G$888)-ROW($G$264)+1)/($G$264:$G$888<>\"\"),ROWS(H$2:H175))),\"\")","v":""}]
[null,null,{"$f":"IF('Veg Guide Data Base'!A1673>0,'Veg Guide Data Base'!A1673,\"\")","v":"ulei "},{"$error":"#N/A"},{"$error":"#N/A"},{"$error":"#N/A"},{"$error":"#N/A"},{"$f":"IFERROR(INDEX($F$264:$F$888,_xlfn.AGGREGATE(15,6,(ROW($F$264:$F$888)-ROW($F$264)+1)/($F$264:$F$888<>\"\"),ROWS(H$2:H176))),\"\")","v":""},{"$f":"IFERROR(INDEX($G$264:$G$888,_xlfn.AGGREGATE(15,6,(ROW($G$264:$G$888)-ROW($G$264)+1)/($G$264:$G$888<>\"\"),ROWS(H$2:H176))),\"\")","v":""}]
[null,null,{"$f":"IF('Veg Guide Data Base'!A1674>0,'Veg Guide Data Base'!A1674,\"\")","v":"Waipahu fig"},{"$error":"#N/A"},{"$error":"#N/A"},{"$error":"#N/A"},{"$error":"#N/A"},{"$f":"IFERROR(INDEX($F$264:$F$888,_xlfn.AGGREGATE(15,6,(ROW($F$264:$F$888)-ROW($F$264)+1)/($F$264:$F$888<>\"\"),ROWS(H$2:H177))),\"\")","v":""},{"$f":"IFERROR(INDEX($G$264:$G$888,_xlfn.AGGREGATE(15,6,(ROW($G$264:$G$888)-ROW($G$264)+1)/($G$264:$G$888<>\"\"),ROWS(H$2:H177))),\"\")","v":""}]
[null,null,{"$f":"IF('Veg Guide Data Base'!A1675>0,'Veg Guide Data Base'!A1675,\"\")","v":"wauke, poaaha, paper mulberry"},{"$error":"#N/A"},{"$error":"#N/A"},{"$error":"#N/A"},{"$error":"#N/A"},{"$f":"IFERROR(INDEX($F$264:$F$888,_xlfn.AGGREGATE(15,6,(ROW($F$264:$F$888)-ROW($F$264)+1)/($F$264:$F$888<>\"\"),ROWS(H$2:H178))),\"\")","v":""},{"$f":"IFERROR(INDEX($G$264:$G$888,_xlfn.AGGREGATE(15,6,(ROW($G$264:$G$888)-ROW($G$264)+1)/($G$264:$G$888<>\"\"),ROWS(H$2:H178))),\"\")","v":""}]
[null,null,{"$f":"IF('Veg Guide Data Base'!A1676>0,'Veg Guide Data Base'!A1676,\"\")","v":"weeping bottlebrush"},{"$error":"#N/A"},{"$error":"#N/A"},{"$error":"#N/A"},{"$error":"#N/A"},{"$f":"IFERROR(INDEX($F$264:$F$888,_xlfn.AGGREGATE(15,6,(ROW($F$264:$F$888)-ROW($F$264)+1)/($F$264:$F$888<>\"\"),ROWS(H$2:H179))),\"\")","v":""},{"$f":"IFERROR(INDEX($G$264:$G$888,_xlfn.AGGREGATE(15,6,(ROW($G$264:$G$888)-ROW($G$264)+1)/($G$264:$G$888<>\"\"),ROWS(H$2:H179))),\"\")","v":""}]
[null,null,{"$f":"IF('Veg Guide Data Base'!A1677>0,'Veg Guide Data Base'!A1677,\"\")","v":"West Indian locust, Brazilian cherry"},{"$error":"#N/A"},{"$error":"#N/A"},{"$error":"#N/A"},{"$error":"#N/A"},{"$f":"IFERROR(INDEX($F$264:$F$888,_xlfn.AGGREGATE(15,6,(ROW($F$264:$F$888)-ROW($F$264)+1)/($F$264:$F$888<>\"\"),ROWS(H$2:H180))),\"\")","v":""},{"$f":"IFERROR(INDEX($G$264:$G$888,_xlfn.AGGREGATE(15,6,(ROW($G$264:$G$888)-ROW($G$264)+1)/($G$264:$G$888<>\"\"),ROWS(H$2:H180))),\"\")","v":""}]
[null,null,{"$f":"IF('Veg Guide Data Base'!A1678>0,'Veg Guide Data Base'!A1678,\"\")","v":"West Indies/Cuban mahogany"},{"$error":"#N/A"},{"$error":"#N/A"},{"$error":"#N/A"},{"$error":"#N/A"},{"$f":"IFERROR(INDEX($F$264:$F$888,_xlfn.AGGREGATE(15,6,(ROW($F$264:$F$888)-ROW($F$264)+1)/($F$264:$F$888<>\"\"),ROWS(H$2:H181))),\"\")","v":""},{"$f":"IFERROR(INDEX($G$264:$G$888,_xlfn.AGGREGATE(15,6,(ROW($G$264:$G$888)-ROW($G$264)+1)/($G$264:$G$888<>\"\"),ROWS(H$2:H181))),\"\")","v":""}]
[null,null,{"$f":"IF('Veg Guide Data Base'!A1679>0,'Veg Guide Data Base'!A1679,\"\")","v":"wiliwili"},{"$error":"#N/A"},{"$error":"#N/A"},{"$error":"#N/A"},{"$error":"#N/A"},{"$f":"IFERROR(INDEX($F$264:$F$888,_xlfn.AGGREGATE(15,6,(ROW($F$264:$F$888)-ROW($F$264)+1)/($F$264:$F$888<>\"\"),ROWS(H$2:H182))),\"\")","v":""},{"$f":"IFERROR(INDEX($G$264:$G$888,_xlfn.AGGREGATE(15,6,(ROW($G$264:$G$888)-ROW($G$264)+1)/($G$264:$G$888<>\"\"),ROWS(H$2:H182))),\"\")","v":""}]
[null,null,{"$f":"IF('Veg Guide Data Base'!A1680>0,'Veg Guide Data Base'!A1680,\"\")","v":"ylang ylang, lanalana"},{"$error":"#N/A"},{"$error":"#N/A"},{"$error":"#N/A"},{"$error":"#N/A"},{"$f":"IFERROR(INDEX($F$264:$F$888,_xlfn.AGGREGATE(15,6,(ROW($F$264:$F$888)-ROW($F$264)+1)/($F$264:$F$888<>\"\"),ROWS(H$2:H183))),\"\")","v":""},{"$f":"IFERROR(INDEX($G$264:$G$888,_xlfn.AGGREGATE(15,6,(ROW($G$264:$G$888)-ROW($G$264)+1)/($G$264:$G$888<>\"\"),ROWS(H$2:H183))),\"\")","v":""}]
[null,null,{"$f":"IF('Veg Guide Data Base'!A1681>0,'Veg Guide Data Base'!A1681,\"\")","v":""},"","","","",{"$f":"IFERROR(INDEX($F$264:$F$888,_xlfn.AGGREGATE(15,6,(ROW($F$264:$F$888)-ROW($F$264)+1)/($F$264:$F$888<>\"\"),ROWS(H$2:H184))),\"\")","v":""},{"$f":"IFERROR(INDEX($G$264:$G$888,_xlfn.AGGREGATE(15,6,(ROW($G$264:$G$888)-ROW($G$264)+1)/($G$264:$G$888<>\"\"),ROWS(H$2:H184))),\"\")","v":""}]
[null,null,{"$f":"IF('Veg Guide Data Base'!A1682>0,'Veg Guide Data Base'!A1682,\"\")","v":""},"","","","",{"$f":"IFERROR(INDEX($F$264:$F$888,_xlfn.AGGREGATE(15,6,(ROW($F$264:$F$888)-ROW($F$264)+1)/($F$264:$F$888<>\"\"),ROWS(H$2:H185))),\"\")","v":""},{"$f":"IFERROR(INDEX($G$264:$G$888,_xlfn.AGGREGATE(15,6,(ROW($G$264:$G$888)-ROW($G$264)+1)/($G$264:$G$888<>\"\"),ROWS(H$2:H185))),\"\")","v":""}]
[null,null,{"$f":"IF('Veg Guide Data Base'!A1683>0,'Veg Guide Data Base'!A1683,\"\")","v":""},"","","","",{"$f":"IFERROR(INDEX($F$264:$F$888,_xlfn.AGGREGATE(15,6,(ROW($F$264:$F$888)-ROW($F$264)+1)/($F$264:$F$888<>\"\"),ROWS(H$2:H186))),\"\")","v":""},{"$f":"IFERROR(INDEX($G$264:$G$888,_xlfn.AGGREGATE(15,6,(ROW($G$264:$G$888)-ROW($G$264)+1)/($G$264:$G$888<>\"\"),ROWS(H$2:H186))),\"\")","v":""}]
[null,null,{"$f":"IF('Veg Guide Data Base'!A1684>0,'Veg Guide Data Base'!A1684,\"\")","v":""},"","","","",{"$f":"IFERROR(INDEX($F$264:$F$888,_xlfn.AGGREGATE(15,6,(ROW($F$264:$F$888)-ROW($F$264)+1)/($F$264:$F$888<>\"\"),ROWS(H$2:H187))),\"\")","v":""},{"$f":"IFERROR(INDEX($G$264:$G$888,_xlfn.AGGREGATE(15,6,(ROW($G$264:$G$888)-ROW($G$264)+1)/($G$264:$G$888<>\"\"),ROWS(H$2:H187))),\"\")","v":""}]
[null,null,{"$f":"IF('Veg Guide Data Base'!A1685>0,'Veg Guide Data Base'!A1685,\"\")","v":""},"","","","",{"$f":"IFERROR(INDEX($F$264:$F$888,_xlfn.AGGREGATE(15,6,(ROW($F$264:$F$888)-ROW($F$264)+1)/($F$264:$F$888<>\"\"),ROWS(H$2:H188))),\"\")","v":""},{"$f":"IFERROR(INDEX($G$264:$G$888,_xlfn.AGGREGATE(15,6,(ROW($G$264:$G$888)-ROW($G$264)+1)/($G$264:$G$888<>\"\"),ROWS(H$2:H188))),\"\")","v":""}]
[null,null,{"$f":"IF('Veg Guide Data Base'!A1686>0,'Veg Guide Data Base'!A1686,\"\")","v":""},"","","","",{"$f":"IFERROR(INDEX($F$264:$F$888,_xlfn.AGGREGATE(15,6,(ROW($F$264:$F$888)-ROW($F$264)+1)/($F$264:$F$888<>\"\"),ROWS(H$2:H189))),\"\")","v":""},{"$f":"IFERROR(INDEX($G$264:$G$888,_xlfn.AGGREGATE(15,6,(ROW($G$264:$G$888)-ROW($G$264)+1)/($G$264:$G$888<>\"\"),ROWS(H$2:H189))),\"\")","v":""}]
[null,null,{"$f":"IF('Veg Guide Data Base'!A1687>0,'Veg Guide Data Base'!A1687,\"\")","v":""},"","","","",{"$f":"IFERROR(INDEX($F$264:$F$888,_xlfn.AGGREGATE(15,6,(ROW($F$264:$F$888)-ROW($F$264)+1)/($F$264:$F$888<>\"\"),ROWS(H$2:H190))),\"\")","v":""},{"$f":"IFERROR(INDEX($G$264:$G$888,_xlfn.AGGREGATE(15,6,(ROW($G$264:$G$888)-ROW($G$264)+1)/($G$264:$G$888<>\"\"),ROWS(H$2:H190))),\"\")","v":""}]
[null,null,{"$f":"IF('Veg Guide Data Base'!A1688>0,'Veg Guide Data Base'!A1688,\"\")","v":""},"","","","",{"$f":"IFERROR(INDEX($F$264:$F$888,_xlfn.AGGREGATE(15,6,(ROW($F$264:$F$888)-ROW($F$264)+1)/($F$264:$F$888<>\"\"),ROWS(H$2:H191))),\"\")","v":""},{"$f":"IFERROR(INDEX($G$264:$G$888,_xlfn.AGGREGATE(15,6,(ROW($G$264:$G$888)-ROW($G$264)+1)/($G$264:$G$888<>\"\"),ROWS(H$2:H191))),\"\")","v":""}]
[null,null,{"$f":"IF('Veg Guide Data Base'!A1689>0,'Veg Guide Data Base'!A1689,\"\")","v":""},"","","","",{"$f":"IFERROR(INDEX($F$264:$F$888,_xlfn.AGGREGATE(15,6,(ROW($F$264:$F$888)-ROW($F$264)+1)/($F$264:$F$888<>\"\"),ROWS(H$2:H192))),\"\")","v":""},{"$f":"IFERROR(INDEX($G$264:$G$888,_xlfn.AGGREGATE(15,6,(ROW($G$264:$G$888)-ROW($G$264)+1)/($G$264:$G$888<>\"\"),ROWS(H$2:H192))),\"\")","v":""}]
[null,null,{"$f":"IF('Veg Guide Data Base'!A1690>0,'Veg Guide Data Base'!A1690,\"\")","v":""},"","","","",{"$f":"IFERROR(INDEX($F$264:$F$888,_xlfn.AGGREGATE(15,6,(ROW($F$264:$F$888)-ROW($F$264)+1)/($F$264:$F$888<>\"\"),ROWS(H$2:H193))),\"\")","v":""},{"$f":"IFERROR(INDEX($G$264:$G$888,_xlfn.AGGREGATE(15,6,(ROW($G$264:$G$888)-ROW($G$264)+1)/($G$264:$G$888<>\"\"),ROWS(H$2:H193))),\"\")","v":""}]
[null,null,{"$f":"IF('Veg Guide Data Base'!A1691>0,'Veg Guide Data Base'!A1691,\"\")","v":""},"","","","",{"$f":"IFERROR(INDEX($F$264:$F$888,_xlfn.AGGREGATE(15,6,(ROW($F$264:$F$888)-ROW($F$264)+1)/($F$264:$F$888<>\"\"),ROWS(H$2:H194))),\"\")","v":""},{"$f":"IFERROR(INDEX($G$264:$G$888,_xlfn.AGGREGATE(15,6,(ROW($G$264:$G$888)-ROW($G$264)+1)/($G$264:$G$888<>\"\"),ROWS(H$2:H194))),\"\")","v":""}]
[null,null,{"$f":"IF('Veg Guide Data Base'!A1692>0,'Veg Guide Data Base'!A1692,\"\")","v":""},"","",{"$f":"IF(E457=\"Tree\",C457,\"\")","v":""},{"$f":"IF(OR(E457=\"Shrub\",E457=\"Vine-woody\"),C457,\"\")","v":""},{"$f":"IFERROR(INDEX($F$264:$F$888,_xlfn.AGGREGATE(15,6,(ROW($F$264:$F$888)-ROW($F$264)+1)/($F$264:$F$888<>\"\"),ROWS(H$2:H195))),\"\")","v":""},{"$f":"IFERROR(INDEX($G$264:$G$888,_xlfn.AGGREGATE(15,6,(ROW($G$264:$G$888)-ROW($G$264)+1)/($G$264:$G$888<>\"\"),ROWS(H$2:H195))),\"\")","v":""}]
[null,null,{"$f":"IF('Veg Guide Data Base'!A1693>0,'Veg Guide Data Base'!A1693,\"\")","v":""},"","","","",{"$f":"IFERROR(INDEX($F$264:$F$888,_xlfn.AGGREGATE(15,6,(ROW($F$264:$F$888)-ROW($F$264)+1)/($F$264:$F$888<>\"\"),ROWS(H$2:H196))),\"\")","v":""},{"$f":"IFERROR(INDEX($G$264:$G$888,_xlfn.AGGREGATE(15,6,(ROW($G$264:$G$888)-ROW($G$264)+1)/($G$264:$G$888<>\"\"),ROWS(H$2:H196))),\"\")","v":""}]
[null,null,{"$f":"IF('Veg Guide Data Base'!A1694>0,'Veg Guide Data Base'!A1694,\"\")","v":""},"","","","",{"$f":"IFERROR(INDEX($F$264:$F$888,_xlfn.AGGREGATE(15,6,(ROW($F$264:$F$888)-ROW($F$264)+1)/($F$264:$F$888<>\"\"),ROWS(H$2:H197))),\"\")","v":""},{"$f":"IFERROR(INDEX($G$264:$G$888,_xlfn.AGGREGATE(15,6,(ROW($G$264:$G$888)-ROW($G$264)+1)/($G$264:$G$888<>\"\"),ROWS(H$2:H197))),\"\")","v":""}]
[null,null,{"$f":"IF('Veg Guide Data Base'!A1695>0,'Veg Guide Data Base'!A1695,\"\")","v":""},"","","","",{"$f":"IFERROR(INDEX($F$264:$F$888,_xlfn.AGGREGATE(15,6,(ROW($F$264:$F$888)-ROW($F$264)+1)/($F$264:$F$888<>\"\"),ROWS(H$2:H198))),\"\")","v":""},{"$f":"IFERROR(INDEX($G$264:$G$888,_xlfn.AGGREGATE(15,6,(ROW($G$264:$G$888)-ROW($G$264)+1)/($G$264:$G$888<>\"\"),ROWS(H$2:H198))),\"\")","v":""}]
[null,null,{"$f":"IF('Veg Guide Data Base'!A1696>0,'Veg Guide Data Base'!A1696,\"\")","v":""},"","","","",{"$f":"IFERROR(INDEX($F$264:$F$888,_xlfn.AGGREGATE(15,6,(ROW($F$264:$F$888)-ROW($F$264)+1)/($F$264:$F$888<>\"\"),ROWS(H$2:H199))),\"\")","v":""},{"$f":"IFERROR(INDEX($G$264:$G$888,_xlfn.AGGREGATE(15,6,(ROW($G$264:$G$888)-ROW($G$264)+1)/($G$264:$G$888<>\"\"),ROWS(H$2:H199))),\"\")","v":""}]
[null,null,{"$f":"IF('Veg Guide Data Base'!A1697>0,'Veg Guide Data Base'!A1697,\"\")","v":""},"","","","",{"$f":"IFERROR(INDEX($F$264:$F$888,_xlfn.AGGREGATE(15,6,(ROW($F$264:$F$888)-ROW($F$264)+1)/($F$264:$F$888<>\"\"),ROWS(H$2:H200))),\"\")","v":""},{"$f":"IFERROR(INDEX($G$264:$G$888,_xlfn.AGGREGATE(15,6,(ROW($G$264:$G$888)-ROW($G$264)+1)/($G$264:$G$888<>\"\"),ROWS(H$2:H200))),\"\")","v":""}]
[null,null,{"$f":"IF('Veg Guide Data Base'!A1698>0,'Veg Guide Data Base'!A1698,\"\")","v":""},"","","","",{"$f":"IFERROR(INDEX($F$264:$F$888,_xlfn.AGGREGATE(15,6,(ROW($F$264:$F$888)-ROW($F$264)+1)/($F$264:$F$888<>\"\"),ROWS(H$2:H201))),\"\")","v":""},{"$f":"IFERROR(INDEX($G$264:$G$888,_xlfn.AGGREGATE(15,6,(ROW($G$264:$G$888)-ROW($G$264)+1)/($G$264:$G$888<>\"\"),ROWS(H$2:H201))),\"\")","v":""}]
[null,null,{"$f":"IF('Veg Guide Data Base'!A1699>0,'Veg Guide Data Base'!A1699,\"\")","v":""},"","","","",{"$f":"IFERROR(INDEX($F$264:$F$888,_xlfn.AGGREGATE(15,6,(ROW($F$264:$F$888)-ROW($F$264)+1)/($F$264:$F$888<>\"\"),ROWS(H$2:H202))),\"\")","v":""},{"$f":"IFERROR(INDEX($G$264:$G$888,_xlfn.AGGREGATE(15,6,(ROW($G$264:$G$888)-ROW($G$264)+1)/($G$264:$G$888<>\"\"),ROWS(H$2:H202))),\"\")","v":""}]
[null,null,{"$f":"IF('Veg Guide Data Base'!A1700>0,'Veg Guide Data Base'!A1700,\"\")","v":""},"","","","",{"$f":"IFERROR(INDEX($F$264:$F$888,_xlfn.AGGREGATE(15,6,(ROW($F$264:$F$888)-ROW($F$264)+1)/($F$264:$F$888<>\"\"),ROWS(H$2:H203))),\"\")","v":""},{"$f":"IFERROR(INDEX($G$264:$G$888,_xlfn.AGGREGATE(15,6,(ROW($G$264:$G$888)-ROW($G$264)+1)/($G$264:$G$888<>\"\"),ROWS(H$2:H203))),\"\")","v":""}]
[null,null,{"$f":"IF('Veg Guide Data Base'!A1701>0,'Veg Guide Data Base'!A1701,\"\")","v":""},"","","","",{"$f":"IFERROR(INDEX($F$264:$F$888,_xlfn.AGGREGATE(15,6,(ROW($F$264:$F$888)-ROW($F$264)+1)/($F$264:$F$888<>\"\"),ROWS(H$2:H204))),\"\")","v":""},{"$f":"IFERROR(INDEX($G$264:$G$888,_xlfn.AGGREGATE(15,6,(ROW($G$264:$G$888)-ROW($G$264)+1)/($G$264:$G$888<>\"\"),ROWS(H$2:H204))),\"\")","v":""}]
[null,null,{"$f":"IF('Veg Guide Data Base'!A1702>0,'Veg Guide Data Base'!A1702,\"\")","v":""},"","","","",{"$f":"IFERROR(INDEX($F$264:$F$888,_xlfn.AGGREGATE(15,6,(ROW($F$264:$F$888)-ROW($F$264)+1)/($F$264:$F$888<>\"\"),ROWS(H$2:H205))),\"\")","v":""},{"$f":"IFERROR(INDEX($G$264:$G$888,_xlfn.AGGREGATE(15,6,(ROW($G$264:$G$888)-ROW($G$264)+1)/($G$264:$G$888<>\"\"),ROWS(H$2:H205))),\"\")","v":""}]
[null,null,{"$f":"IF('Veg Guide Data Base'!A1703>0,'Veg Guide Data Base'!A1703,\"\")","v":""},"","","","",{"$f":"IFERROR(INDEX($F$264:$F$888,_xlfn.AGGREGATE(15,6,(ROW($F$264:$F$888)-ROW($F$264)+1)/($F$264:$F$888<>\"\"),ROWS(H$2:H206))),\"\")","v":""},{"$f":"IFERROR(INDEX($G$264:$G$888,_xlfn.AGGREGATE(15,6,(ROW($G$264:$G$888)-ROW($G$264)+1)/($G$264:$G$888<>\"\"),ROWS(H$2:H206))),\"\")","v":""}]
[null,null,{"$f":"IF('Veg Guide Data Base'!A1704>0,'Veg Guide Data Base'!A1704,\"\")","v":""},"","","","",{"$f":"IFERROR(INDEX($F$264:$F$888,_xlfn.AGGREGATE(15,6,(ROW($F$264:$F$888)-ROW($F$264)+1)/($F$264:$F$888<>\"\"),ROWS(H$2:H207))),\"\")","v":""},{"$f":"IFERROR(INDEX($G$264:$G$888,_xlfn.AGGREGATE(15,6,(ROW($G$264:$G$888)-ROW($G$264)+1)/($G$264:$G$888<>\"\"),ROWS(H$2:H207))),\"\")","v":""}]
[null,null,{"$f":"IF('Veg Guide Data Base'!A1705>0,'Veg Guide Data Base'!A1705,\"\")","v":""},"","","","",{"$f":"IFERROR(INDEX($F$264:$F$888,_xlfn.AGGREGATE(15,6,(ROW($F$264:$F$888)-ROW($F$264)+1)/($F$264:$F$888<>\"\"),ROWS(H$2:H208))),\"\")","v":""},{"$f":"IFERROR(INDEX($G$264:$G$888,_xlfn.AGGREGATE(15,6,(ROW($G$264:$G$888)-ROW($G$264)+1)/($G$264:$G$888<>\"\"),ROWS(H$2:H208))),\"\")","v":""}]
[null,null,{"$f":"IF('Veg Guide Data Base'!A1706>0,'Veg Guide Data Base'!A1706,\"\")","v":""},"","","","",{"$f":"IFERROR(INDEX($F$264:$F$888,_xlfn.AGGREGATE(15,6,(ROW($F$264:$F$888)-ROW($F$264)+1)/($F$264:$F$888<>\"\"),ROWS(H$2:H209))),\"\")","v":""},{"$f":"IFERROR(INDEX($G$264:$G$888,_xlfn.AGGREGATE(15,6,(ROW($G$264:$G$888)-ROW($G$264)+1)/($G$264:$G$888<>\"\"),ROWS(H$2:H209))),\"\")","v":""}]
[null,null,{"$f":"IF('Veg Guide Data Base'!A1707>0,'Veg Guide Data Base'!A1707,\"\")","v":""},"","","","",{"$f":"IFERROR(INDEX($F$264:$F$888,_xlfn.AGGREGATE(15,6,(ROW($F$264:$F$888)-ROW($F$264)+1)/($F$264:$F$888<>\"\"),ROWS(H$2:H210))),\"\")","v":""},{"$f":"IFERROR(INDEX($G$264:$G$888,_xlfn.AGGREGATE(15,6,(ROW($G$264:$G$888)-ROW($G$264)+1)/($G$264:$G$888<>\"\"),ROWS(H$2:H210))),\"\")","v":""}]
[null,null,{"$f":"IF('Veg Guide Data Base'!A1708>0,'Veg Guide Data Base'!A1708,\"\")","v":""},"","","","",{"$f":"IFERROR(INDEX($F$264:$F$888,_xlfn.AGGREGATE(15,6,(ROW($F$264:$F$888)-ROW($F$264)+1)/($F$264:$F$888<>\"\"),ROWS(H$2:H211))),\"\")","v":""},{"$f":"IFERROR(INDEX($G$264:$G$888,_xlfn.AGGREGATE(15,6,(ROW($G$264:$G$888)-ROW($G$264)+1)/($G$264:$G$888<>\"\"),ROWS(H$2:H211))),\"\")","v":""}]
[null,null,{"$f":"IF('Veg Guide Data Base'!A1709>0,'Veg Guide Data Base'!A1709,\"\")","v":""},"","","","",{"$f":"IFERROR(INDEX($F$264:$F$888,_xlfn.AGGREGATE(15,6,(ROW($F$264:$F$888)-ROW($F$264)+1)/($F$264:$F$888<>\"\"),ROWS(H$2:H212))),\"\")","v":""},{"$f":"IFERROR(INDEX($G$264:$G$888,_xlfn.AGGREGATE(15,6,(ROW($G$264:$G$888)-ROW($G$264)+1)/($G$264:$G$888<>\"\"),ROWS(H$2:H212))),\"\")","v":""}]
[null,null,{"$f":"IF('Veg Guide Data Base'!A1710>0,'Veg Guide Data Base'!A1710,\"\")","v":""},"","","","",{"$f":"IFERROR(INDEX($F$264:$F$888,_xlfn.AGGREGATE(15,6,(ROW($F$264:$F$888)-ROW($F$264)+1)/($F$264:$F$888<>\"\"),ROWS(H$2:H213))),\"\")","v":""},{"$f":"IFERROR(INDEX($G$264:$G$888,_xlfn.AGGREGATE(15,6,(ROW($G$264:$G$888)-ROW($G$264)+1)/($G$264:$G$888<>\"\"),ROWS(H$2:H213))),\"\")","v":""}]
[null,null,{"$f":"IF('Veg Guide Data Base'!A1711>0,'Veg Guide Data Base'!A1711,\"\")","v":""},"","","","",{"$f":"IFERROR(INDEX($F$264:$F$888,_xlfn.AGGREGATE(15,6,(ROW($F$264:$F$888)-ROW($F$264)+1)/($F$264:$F$888<>\"\"),ROWS(H$2:H214))),\"\")","v":""},{"$f":"IFERROR(INDEX($G$264:$G$888,_xlfn.AGGREGATE(15,6,(ROW($G$264:$G$888)-ROW($G$264)+1)/($G$264:$G$888<>\"\"),ROWS(H$2:H214))),\"\")","v":""}]
[null,null,{"$f":"IF('Veg Guide Data Base'!A1712>0,'Veg Guide Data Base'!A1712,\"\")","v":""},"","","","",{"$f":"IFERROR(INDEX($F$264:$F$888,_xlfn.AGGREGATE(15,6,(ROW($F$264:$F$888)-ROW($F$264)+1)/($F$264:$F$888<>\"\"),ROWS(H$2:H215))),\"\")","v":""},{"$f":"IFERROR(INDEX($G$264:$G$888,_xlfn.AGGREGATE(15,6,(ROW($G$264:$G$888)-ROW($G$264)+1)/($G$264:$G$888<>\"\"),ROWS(H$2:H215))),\"\")","v":""}]
[null,null,{"$f":"IF('Veg Guide Data Base'!A1713>0,'Veg Guide Data Base'!A1713,\"\")","v":""},"","","","",{"$f":"IFERROR(INDEX($F$264:$F$888,_xlfn.AGGREGATE(15,6,(ROW($F$264:$F$888)-ROW($F$264)+1)/($F$264:$F$888<>\"\"),ROWS(H$2:H216))),\"\")","v":""},{"$f":"IFERROR(INDEX($G$264:$G$888,_xlfn.AGGREGATE(15,6,(ROW($G$264:$G$888)-ROW($G$264)+1)/($G$264:$G$888<>\"\"),ROWS(H$2:H216))),\"\")","v":""}]
[null,null,{"$f":"IF('Veg Guide Data Base'!A1714>0,'Veg Guide Data Base'!A1714,\"\")","v":""},"","","","",{"$f":"IFERROR(INDEX($F$264:$F$888,_xlfn.AGGREGATE(15,6,(ROW($F$264:$F$888)-ROW($F$264)+1)/($F$264:$F$888<>\"\"),ROWS(H$2:H217))),\"\")","v":""},{"$f":"IFERROR(INDEX($G$264:$G$888,_xlfn.AGGREGATE(15,6,(ROW($G$264:$G$888)-ROW($G$264)+1)/($G$264:$G$888<>\"\"),ROWS(H$2:H217))),\"\")","v":""}]
[null,null,{"$f":"IF('Veg Guide Data Base'!A1715>0,'Veg Guide Data Base'!A1715,\"\")","v":""},"","","","",{"$f":"IFERROR(INDEX($F$264:$F$888,_xlfn.AGGREGATE(15,6,(ROW($F$264:$F$888)-ROW($F$264)+1)/($F$264:$F$888<>\"\"),ROWS(H$2:H218))),\"\")","v":""},{"$f":"IFERROR(INDEX($G$264:$G$888,_xlfn.AGGREGATE(15,6,(ROW($G$264:$G$888)-ROW($G$264)+1)/($G$264:$G$888<>\"\"),ROWS(H$2:H218))),\"\")","v":""}]
[null,null,{"$f":"IF('Veg Guide Data Base'!A1716>0,'Veg Guide Data Base'!A1716,\"\")","v":""},"","","","",{"$f":"IFERROR(INDEX($F$264:$F$888,_xlfn.AGGREGATE(15,6,(ROW($F$264:$F$888)-ROW($F$264)+1)/($F$264:$F$888<>\"\"),ROWS(H$2:H219))),\"\")","v":""},{"$f":"IFERROR(INDEX($G$264:$G$888,_xlfn.AGGREGATE(15,6,(ROW($G$264:$G$888)-ROW($G$264)+1)/($G$264:$G$888<>\"\"),ROWS(H$2:H219))),\"\")","v":""}]
[null,null,{"$f":"IF('Veg Guide Data Base'!A1717>0,'Veg Guide Data Base'!A1717,\"\")","v":""},"","","","",{"$f":"IFERROR(INDEX($F$264:$F$888,_xlfn.AGGREGATE(15,6,(ROW($F$264:$F$888)-ROW($F$264)+1)/($F$264:$F$888<>\"\"),ROWS(H$2:H220))),\"\")","v":""},{"$f":"IFERROR(INDEX($G$264:$G$888,_xlfn.AGGREGATE(15,6,(ROW($G$264:$G$888)-ROW($G$264)+1)/($G$264:$G$888<>\"\"),ROWS(H$2:H220))),\"\")","v":""}]
[null,null,{"$f":"IF('Veg Guide Data Base'!A1718>0,'Veg Guide Data Base'!A1718,\"\")","v":""},"","","","",{"$f":"IFERROR(INDEX($F$264:$F$888,_xlfn.AGGREGATE(15,6,(ROW($F$264:$F$888)-ROW($F$264)+1)/($F$264:$F$888<>\"\"),ROWS(H$2:H221))),\"\")","v":""},{"$f":"IFERROR(INDEX($G$264:$G$888,_xlfn.AGGREGATE(15,6,(ROW($G$264:$G$888)-ROW($G$264)+1)/($G$264:$G$888<>\"\"),ROWS(H$2:H221))),\"\")","v":""}]
[null,null,{"$f":"IF('Veg Guide Data Base'!A1719>0,'Veg Guide Data Base'!A1719,\"\")","v":""},"","","","",{"$f":"IFERROR(INDEX($F$264:$F$888,_xlfn.AGGREGATE(15,6,(ROW($F$264:$F$888)-ROW($F$264)+1)/($F$264:$F$888<>\"\"),ROWS(H$2:H222))),\"\")","v":""},{"$f":"IFERROR(INDEX($G$264:$G$888,_xlfn.AGGREGATE(15,6,(ROW($G$264:$G$888)-ROW($G$264)+1)/($G$264:$G$888<>\"\"),ROWS(H$2:H222))),\"\")","v":""}]
[null,null,{"$f":"IF('Veg Guide Data Base'!A1720>0,'Veg Guide Data Base'!A1720,\"\")","v":""},"","","","",{"$f":"IFERROR(INDEX($F$264:$F$888,_xlfn.AGGREGATE(15,6,(ROW($F$264:$F$888)-ROW($F$264)+1)/($F$264:$F$888<>\"\"),ROWS(H$2:H223))),\"\")","v":""},{"$f":"IFERROR(INDEX($G$264:$G$888,_xlfn.AGGREGATE(15,6,(ROW($G$264:$G$888)-ROW($G$264)+1)/($G$264:$G$888<>\"\"),ROWS(H$2:H223))),\"\")","v":""}]
[null,null,{"$f":"IF('Veg Guide Data Base'!A1721>0,'Veg Guide Data Base'!A1721,\"\")","v":""},"","","","",{"$f":"IFERROR(INDEX($F$264:$F$888,_xlfn.AGGREGATE(15,6,(ROW($F$264:$F$888)-ROW($F$264)+1)/($F$264:$F$888<>\"\"),ROWS(H$2:H224))),\"\")","v":""},{"$f":"IFERROR(INDEX($G$264:$G$888,_xlfn.AGGREGATE(15,6,(ROW($G$264:$G$888)-ROW($G$264)+1)/($G$264:$G$888<>\"\"),ROWS(H$2:H224))),\"\")","v":""}]
[null,null,{"$f":"IF('Veg Guide Data Base'!A1722>0,'Veg Guide Data Base'!A1722,\"\")","v":""},"","","","",{"$f":"IFERROR(INDEX($F$264:$F$888,_xlfn.AGGREGATE(15,6,(ROW($F$264:$F$888)-ROW($F$264)+1)/($F$264:$F$888<>\"\"),ROWS(H$2:H225))),\"\")","v":""},{"$f":"IFERROR(INDEX($G$264:$G$888,_xlfn.AGGREGATE(15,6,(ROW($G$264:$G$888)-ROW($G$264)+1)/($G$264:$G$888<>\"\"),ROWS(H$2:H225))),\"\")","v":""}]
[null,null,{"$f":"IF('Veg Guide Data Base'!A1723>0,'Veg Guide Data Base'!A1723,\"\")","v":""},"","","","",{"$f":"IFERROR(INDEX($F$264:$F$888,_xlfn.AGGREGATE(15,6,(ROW($F$264:$F$888)-ROW($F$264)+1)/($F$264:$F$888<>\"\"),ROWS(H$2:H226))),\"\")","v":""},{"$f":"IFERROR(INDEX($G$264:$G$888,_xlfn.AGGREGATE(15,6,(ROW($G$264:$G$888)-ROW($G$264)+1)/($G$264:$G$888<>\"\"),ROWS(H$2:H226))),\"\")","v":""}]
[null,null,{"$f":"IF('Veg Guide Data Base'!A1724>0,'Veg Guide Data Base'!A1724,\"\")","v":""},"","","","",{"$f":"IFERROR(INDEX($F$264:$F$888,_xlfn.AGGREGATE(15,6,(ROW($F$264:$F$888)-ROW($F$264)+1)/($F$264:$F$888<>\"\"),ROWS(H$2:H227))),\"\")","v":""},{"$f":"IFERROR(INDEX($G$264:$G$888,_xlfn.AGGREGATE(15,6,(ROW($G$264:$G$888)-ROW($G$264)+1)/($G$264:$G$888<>\"\"),ROWS(H$2:H227))),\"\")","v":""}]
[null,null,{"$f":"IF('Veg Guide Data Base'!A1725>0,'Veg Guide Data Base'!A1725,\"\")","v":""},"","","","",{"$f":"IFERROR(INDEX($F$264:$F$888,_xlfn.AGGREGATE(15,6,(ROW($F$264:$F$888)-ROW($F$264)+1)/($F$264:$F$888<>\"\"),ROWS(H$2:H228))),\"\")","v":""},{"$f":"IFERROR(INDEX($G$264:$G$888,_xlfn.AGGREGATE(15,6,(ROW($G$264:$G$888)-ROW($G$264)+1)/($G$264:$G$888<>\"\"),ROWS(H$2:H228))),\"\")","v":""}]
[null,null,{"$f":"IF('Veg Guide Data Base'!A1726>0,'Veg Guide Data Base'!A1726,\"\")","v":""},"","","","",{"$f":"IFERROR(INDEX($F$264:$F$888,_xlfn.AGGREGATE(15,6,(ROW($F$264:$F$888)-ROW($F$264)+1)/($F$264:$F$888<>\"\"),ROWS(H$2:H229))),\"\")","v":""},{"$f":"IFERROR(INDEX($G$264:$G$888,_xlfn.AGGREGATE(15,6,(ROW($G$264:$G$888)-ROW($G$264)+1)/($G$264:$G$888<>\"\"),ROWS(H$2:H229))),\"\")","v":""}]
[null,null,{"$f":"IF('Veg Guide Data Base'!A1727>0,'Veg Guide Data Base'!A1727,\"\")","v":""},"","","","",{"$f":"IFERROR(INDEX($F$264:$F$888,_xlfn.AGGREGATE(15,6,(ROW($F$264:$F$888)-ROW($F$264)+1)/($F$264:$F$888<>\"\"),ROWS(H$2:H230))),\"\")","v":""},{"$f":"IFERROR(INDEX($G$264:$G$888,_xlfn.AGGREGATE(15,6,(ROW($G$264:$G$888)-ROW($G$264)+1)/($G$264:$G$888<>\"\"),ROWS(H$2:H230))),\"\")","v":""}]
[null,null,{"$f":"IF('Veg Guide Data Base'!A1728>0,'Veg Guide Data Base'!A1728,\"\")","v":""},"","","","",{"$f":"IFERROR(INDEX($F$264:$F$888,_xlfn.AGGREGATE(15,6,(ROW($F$264:$F$888)-ROW($F$264)+1)/($F$264:$F$888<>\"\"),ROWS(H$2:H231))),\"\")","v":""},{"$f":"IFERROR(INDEX($G$264:$G$888,_xlfn.AGGREGATE(15,6,(ROW($G$264:$G$888)-ROW($G$264)+1)/($G$264:$G$888<>\"\"),ROWS(H$2:H231))),\"\")","v":""}]
[null,null,{"$f":"IF('Veg Guide Data Base'!A1729>0,'Veg Guide Data Base'!A1729,\"\")","v":""},"","","","",{"$f":"IFERROR(INDEX($F$264:$F$888,_xlfn.AGGREGATE(15,6,(ROW($F$264:$F$888)-ROW($F$264)+1)/($F$264:$F$888<>\"\"),ROWS(H$2:H232))),\"\")","v":""},{"$f":"IFERROR(INDEX($G$264:$G$888,_xlfn.AGGREGATE(15,6,(ROW($G$264:$G$888)-ROW($G$264)+1)/($G$264:$G$888<>\"\"),ROWS(H$2:H232))),\"\")","v":""}]
[null,null,{"$f":"IF('Veg Guide Data Base'!A1730>0,'Veg Guide Data Base'!A1730,\"\")","v":""},"","","","",{"$f":"IFERROR(INDEX($F$264:$F$888,_xlfn.AGGREGATE(15,6,(ROW($F$264:$F$888)-ROW($F$264)+1)/($F$264:$F$888<>\"\"),ROWS(H$2:H233))),\"\")","v":""},{"$f":"IFERROR(INDEX($G$264:$G$888,_xlfn.AGGREGATE(15,6,(ROW($G$264:$G$888)-ROW($G$264)+1)/($G$264:$G$888<>\"\"),ROWS(H$2:H233))),\"\")","v":""}]
[null,null,{"$f":"IF('Veg Guide Data Base'!A1731>0,'Veg Guide Data Base'!A1731,\"\")","v":""},"","","","",{"$f":"IFERROR(INDEX($F$264:$F$888,_xlfn.AGGREGATE(15,6,(ROW($F$264:$F$888)-ROW($F$264)+1)/($F$264:$F$888<>\"\"),ROWS(H$2:H234))),\"\")","v":""},{"$f":"IFERROR(INDEX($G$264:$G$888,_xlfn.AGGREGATE(15,6,(ROW($G$264:$G$888)-ROW($G$264)+1)/($G$264:$G$888<>\"\"),ROWS(H$2:H234))),\"\")","v":""}]
[null,null,{"$f":"IF('Veg Guide Data Base'!A1732>0,'Veg Guide Data Base'!A1732,\"\")","v":""},"","","","",{"$f":"IFERROR(INDEX($F$264:$F$888,_xlfn.AGGREGATE(15,6,(ROW($F$264:$F$888)-ROW($F$264)+1)/($F$264:$F$888<>\"\"),ROWS(H$2:H235))),\"\")","v":""},{"$f":"IFERROR(INDEX($G$264:$G$888,_xlfn.AGGREGATE(15,6,(ROW($G$264:$G$888)-ROW($G$264)+1)/($G$264:$G$888<>\"\"),ROWS(H$2:H235))),\"\")","v":""}]
[null,null,{"$f":"IF('Veg Guide Data Base'!A1733>0,'Veg Guide Data Base'!A1733,\"\")","v":""},"","","","",{"$f":"IFERROR(INDEX($F$264:$F$888,_xlfn.AGGREGATE(15,6,(ROW($F$264:$F$888)-ROW($F$264)+1)/($F$264:$F$888<>\"\"),ROWS(H$2:H236))),\"\")","v":""},{"$f":"IFERROR(INDEX($G$264:$G$888,_xlfn.AGGREGATE(15,6,(ROW($G$264:$G$888)-ROW($G$264)+1)/($G$264:$G$888<>\"\"),ROWS(H$2:H236))),\"\")","v":""}]
[null,null,{"$f":"IF('Veg Guide Data Base'!A1734>0,'Veg Guide Data Base'!A1734,\"\")","v":""},"","","","",{"$f":"IFERROR(INDEX($F$264:$F$888,_xlfn.AGGREGATE(15,6,(ROW($F$264:$F$888)-ROW($F$264)+1)/($F$264:$F$888<>\"\"),ROWS(H$2:H237))),\"\")","v":""},{"$f":"IFERROR(INDEX($G$264:$G$888,_xlfn.AGGREGATE(15,6,(ROW($G$264:$G$888)-ROW($G$264)+1)/($G$264:$G$888<>\"\"),ROWS(H$2:H237))),\"\")","v":""}]
[null,null,{"$f":"IF('Veg Guide Data Base'!A1735>0,'Veg Guide Data Base'!A1735,\"\")","v":""},"","","","",{"$f":"IFERROR(INDEX($F$264:$F$888,_xlfn.AGGREGATE(15,6,(ROW($F$264:$F$888)-ROW($F$264)+1)/($F$264:$F$888<>\"\"),ROWS(H$2:H238))),\"\")","v":""},{"$f":"IFERROR(INDEX($G$264:$G$888,_xlfn.AGGREGATE(15,6,(ROW($G$264:$G$888)-ROW($G$264)+1)/($G$264:$G$888<>\"\"),ROWS(H$2:H238))),\"\")","v":""}]
[null,null,{"$f":"IF('Veg Guide Data Base'!A1736>0,'Veg Guide Data Base'!A1736,\"\")","v":""},"","","","",{"$f":"IFERROR(INDEX($F$264:$F$888,_xlfn.AGGREGATE(15,6,(ROW($F$264:$F$888)-ROW($F$264)+1)/($F$264:$F$888<>\"\"),ROWS(H$2:H239))),\"\")","v":""},{"$f":"IFERROR(INDEX($G$264:$G$888,_xlfn.AGGREGATE(15,6,(ROW($G$264:$G$888)-ROW($G$264)+1)/($G$264:$G$888<>\"\"),ROWS(H$2:H239))),\"\")","v":""}]
[null,null,{"$f":"IF('Veg Guide Data Base'!A1737>0,'Veg Guide Data Base'!A1737,\"\")","v":""},"","","","",{"$f":"IFERROR(INDEX($F$264:$F$888,_xlfn.AGGREGATE(15,6,(ROW($F$264:$F$888)-ROW($F$264)+1)/($F$264:$F$888<>\"\"),ROWS(H$2:H240))),\"\")","v":""},{"$f":"IFERROR(INDEX($G$264:$G$888,_xlfn.AGGREGATE(15,6,(ROW($G$264:$G$888)-ROW($G$264)+1)/($G$264:$G$888<>\"\"),ROWS(H$2:H240))),\"\")","v":""}]
[null,null,{"$f":"IF('Veg Guide Data Base'!A1738>0,'Veg Guide Data Base'!A1738,\"\")","v":""},"","","","",{"$f":"IFERROR(INDEX($F$264:$F$888,_xlfn.AGGREGATE(15,6,(ROW($F$264:$F$888)-ROW($F$264)+1)/($F$264:$F$888<>\"\"),ROWS(H$2:H241))),\"\")","v":""},{"$f":"IFERROR(INDEX($G$264:$G$888,_xlfn.AGGREGATE(15,6,(ROW($G$264:$G$888)-ROW($G$264)+1)/($G$264:$G$888<>\"\"),ROWS(H$2:H241))),\"\")","v":""}]
[null,null,{"$f":"IF('Veg Guide Data Base'!A1739>0,'Veg Guide Data Base'!A1739,\"\")","v":""},"","","","",{"$f":"IFERROR(INDEX($F$264:$F$888,_xlfn.AGGREGATE(15,6,(ROW($F$264:$F$888)-ROW($F$264)+1)/($F$264:$F$888<>\"\"),ROWS(H$2:H242))),\"\")","v":""},{"$f":"IFERROR(INDEX($G$264:$G$888,_xlfn.AGGREGATE(15,6,(ROW($G$264:$G$888)-ROW($G$264)+1)/($G$264:$G$888<>\"\"),ROWS(H$2:H242))),\"\")","v":""}]
[null,null,{"$f":"IF('Veg Guide Data Base'!A1740>0,'Veg Guide Data Base'!A1740,\"\")","v":""},"","","","",{"$f":"IFERROR(INDEX($F$264:$F$888,_xlfn.AGGREGATE(15,6,(ROW($F$264:$F$888)-ROW($F$264)+1)/($F$264:$F$888<>\"\"),ROWS(H$2:H243))),\"\")","v":""},{"$f":"IFERROR(INDEX($G$264:$G$888,_xlfn.AGGREGATE(15,6,(ROW($G$264:$G$888)-ROW($G$264)+1)/($G$264:$G$888<>\"\"),ROWS(H$2:H243))),\"\")","v":""}]
[null,null,{"$f":"IF('Veg Guide Data Base'!A1741>0,'Veg Guide Data Base'!A1741,\"\")","v":""},"","","","",{"$f":"IFERROR(INDEX($F$264:$F$888,_xlfn.AGGREGATE(15,6,(ROW($F$264:$F$888)-ROW($F$264)+1)/($F$264:$F$888<>\"\"),ROWS(H$2:H244))),\"\")","v":""},{"$f":"IFERROR(INDEX($G$264:$G$888,_xlfn.AGGREGATE(15,6,(ROW($G$264:$G$888)-ROW($G$264)+1)/($G$264:$G$888<>\"\"),ROWS(H$2:H244))),\"\")","v":""}]
[null,null,{"$f":"IF('Veg Guide Data Base'!A1742>0,'Veg Guide Data Base'!A1742,\"\")","v":""},"","","","",{"$f":"IFERROR(INDEX($F$264:$F$888,_xlfn.AGGREGATE(15,6,(ROW($F$264:$F$888)-ROW($F$264)+1)/($F$264:$F$888<>\"\"),ROWS(H$2:H245))),\"\")","v":""},{"$f":"IFERROR(INDEX($G$264:$G$888,_xlfn.AGGREGATE(15,6,(ROW($G$264:$G$888)-ROW($G$264)+1)/($G$264:$G$888<>\"\"),ROWS(H$2:H245))),\"\")","v":""}]
[null,null,{"$f":"IF('Veg Guide Data Base'!A1743>0,'Veg Guide Data Base'!A1743,\"\")","v":""},"","","","",{"$f":"IFERROR(INDEX($F$264:$F$888,_xlfn.AGGREGATE(15,6,(ROW($F$264:$F$888)-ROW($F$264)+1)/($F$264:$F$888<>\"\"),ROWS(H$2:H246))),\"\")","v":""},{"$f":"IFERROR(INDEX($G$264:$G$888,_xlfn.AGGREGATE(15,6,(ROW($G$264:$G$888)-ROW($G$264)+1)/($G$264:$G$888<>\"\"),ROWS(H$2:H246))),\"\")","v":""}]
[null,null,{"$f":"IF('Veg Guide Data Base'!A1744>0,'Veg Guide Data Base'!A1744,\"\")","v":""},"","","","",{"$f":"IFERROR(INDEX($F$264:$F$888,_xlfn.AGGREGATE(15,6,(ROW($F$264:$F$888)-ROW($F$264)+1)/($F$264:$F$888<>\"\"),ROWS(H$2:H247))),\"\")","v":""},{"$f":"IFERROR(INDEX($G$264:$G$888,_xlfn.AGGREGATE(15,6,(ROW($G$264:$G$888)-ROW($G$264)+1)/($G$264:$G$888<>\"\"),ROWS(H$2:H247))),\"\")","v":""},null,null,null,null,null,null,null,null,null,null,null,null,null,null,null,null,null,"Reduce soil erosion.",null,"Reduce soil erosion."]
[null,null,{"$f":"IF('Veg Guide Data Base'!A1745>0,'Veg Guide Data Base'!A1745,\"\")","v":""},"","","","",{"$f":"IFERROR(INDEX($F$264:$F$888,_xlfn.AGGREGATE(15,6,(ROW($F$264:$F$888)-ROW($F$264)+1)/($F$264:$F$888<>\"\"),ROWS(H$2:H248))),\"\")","v":""},{"$f":"IFERROR(INDEX($G$264:$G$888,_xlfn.AGGREGATE(15,6,(ROW($G$264:$G$888)-ROW($G$264)+1)/($G$264:$G$888<>\"\"),ROWS(H$2:H248))),\"\")","v":""}]
[null,null,{"$f":"IF('Veg Guide Data Base'!A1746>0,'Veg Guide Data Base'!A1746,\"\")","v":""},"","","","",{"$f":"IFERROR(INDEX($F$264:$F$888,_xlfn.AGGREGATE(15,6,(ROW($F$264:$F$888)-ROW($F$264)+1)/($F$264:$F$888<>\"\"),ROWS(H$2:H249))),\"\")","v":""},{"$f":"IFERROR(INDEX($G$264:$G$888,_xlfn.AGGREGATE(15,6,(ROW($G$264:$G$888)-ROW($G$264)+1)/($G$264:$G$888<>\"\"),ROWS(H$2:H249))),\"\")","v":""}]
[null,null,{"$f":"IF('Veg Guide Data Base'!A1747>0,'Veg Guide Data Base'!A1747,\"\")","v":""},"","","","",{"$f":"IFERROR(INDEX($F$264:$F$888,_xlfn.AGGREGATE(15,6,(ROW($F$264:$F$888)-ROW($F$264)+1)/($F$264:$F$888<>\"\"),ROWS(H$2:H250))),\"\")","v":""},{"$f":"IFERROR(INDEX($G$264:$G$888,_xlfn.AGGREGATE(15,6,(ROW($G$264:$G$888)-ROW($G$264)+1)/($G$264:$G$888<>\"\"),ROWS(H$2:H250))),\"\")","v":""}]
[null,null,{"$f":"IF('Veg Guide Data Base'!A1748>0,'Veg Guide Data Base'!A1748,\"\")","v":""},"","","","",{"$f":"IFERROR(INDEX($F$264:$F$888,_xlfn.AGGREGATE(15,6,(ROW($F$264:$F$888)-ROW($F$264)+1)/($F$264:$F$888<>\"\"),ROWS(H$2:H251))),\"\")","v":""},{"$f":"IFERROR(INDEX($G$264:$G$888,_xlfn.AGGREGATE(15,6,(ROW($G$264:$G$888)-ROW($G$264)+1)/($G$264:$G$888<>\"\"),ROWS(H$2:H251))),\"\")","v":""}]
[null,null,{"$f":"IF('Veg Guide Data Base'!A1749>0,'Veg Guide Data Base'!A1749,\"\")","v":""},"","","","",{"$f":"IFERROR(INDEX($F$264:$F$888,_xlfn.AGGREGATE(15,6,(ROW($F$264:$F$888)-ROW($F$264)+1)/($F$264:$F$888<>\"\"),ROWS(H$2:H252))),\"\")","v":""},{"$f":"IFERROR(INDEX($G$264:$G$888,_xlfn.AGGREGATE(15,6,(ROW($G$264:$G$888)-ROW($G$264)+1)/($G$264:$G$888<>\"\"),ROWS(H$2:H252))),\"\")","v":""}]
[null,null,{"$f":"IF('Veg Guide Data Base'!A1750>0,'Veg Guide Data Base'!A1750,\"\")","v":""},"","","","",{"$f":"IFERROR(INDEX($F$264:$F$888,_xlfn.AGGREGATE(15,6,(ROW($F$264:$F$888)-ROW($F$264)+1)/($F$264:$F$888<>\"\"),ROWS(H$2:H253))),\"\")","v":""},{"$f":"IFERROR(INDEX($G$264:$G$888,_xlfn.AGGREGATE(15,6,(ROW($G$264:$G$888)-ROW($G$264)+1)/($G$264:$G$888<>\"\"),ROWS(H$2:H253))),\"\")","v":""}]
[null,null,{"$f":"IF('Veg Guide Data Base'!A1751>0,'Veg Guide Data Base'!A1751,\"\")","v":""},"","","","",{"$f":"IFERROR(INDEX($F$264:$F$888,_xlfn.AGGREGATE(15,6,(ROW($F$264:$F$888)-ROW($F$264)+1)/($F$264:$F$888<>\"\"),ROWS(H$2:H254))),\"\")","v":""},{"$f":"IFERROR(INDEX($G$264:$G$888,_xlfn.AGGREGATE(15,6,(ROW($G$264:$G$888)-ROW($G$264)+1)/($G$264:$G$888<>\"\"),ROWS(H$2:H254))),\"\")","v":""}]
[null,null,{"$f":"IF('Veg Guide Data Base'!A1752>0,'Veg Guide Data Base'!A1752,\"\")","v":""},"","","","",{"$f":"IFERROR(INDEX($F$264:$F$888,_xlfn.AGGREGATE(15,6,(ROW($F$264:$F$888)-ROW($F$264)+1)/($F$264:$F$888<>\"\"),ROWS(H$2:H255))),\"\")","v":""},{"$f":"IFERROR(INDEX($G$264:$G$888,_xlfn.AGGREGATE(15,6,(ROW($G$264:$G$888)-ROW($G$264)+1)/($G$264:$G$888<>\"\"),ROWS(H$2:H255))),\"\")","v":""}]
[null,null,{"$f":"IF('Veg Guide Data Base'!A1753>0,'Veg Guide Data Base'!A1753,\"\")","v":""},"","","","",{"$f":"IFERROR(INDEX($F$264:$F$888,_xlfn.AGGREGATE(15,6,(ROW($F$264:$F$888)-ROW($F$264)+1)/($F$264:$F$888<>\"\"),ROWS(H$2:H256))),\"\")","v":""},{"$f":"IFERROR(INDEX($G$264:$G$888,_xlfn.AGGREGATE(15,6,(ROW($G$264:$G$888)-ROW($G$264)+1)/($G$264:$G$888<>\"\"),ROWS(H$2:H256))),\"\")","v":""}]
[null,null,{"$f":"IF('Veg Guide Data Base'!A1754>0,'Veg Guide Data Base'!A1754,\"\")","v":""},"","","","",{"$f":"IFERROR(INDEX($F$264:$F$888,_xlfn.AGGREGATE(15,6,(ROW($F$264:$F$888)-ROW($F$264)+1)/($F$264:$F$888<>\"\"),ROWS(H$2:H257))),\"\")","v":""},{"$f":"IFERROR(INDEX($G$264:$G$888,_xlfn.AGGREGATE(15,6,(ROW($G$264:$G$888)-ROW($G$264)+1)/($G$264:$G$888<>\"\"),ROWS(H$2:H257))),\"\")","v":""}]
[null,null,{"$f":"IF('Veg Guide Data Base'!A1755>0,'Veg Guide Data Base'!A1755,\"\")","v":""},"","","","",{"$f":"IFERROR(INDEX($F$264:$F$888,_xlfn.AGGREGATE(15,6,(ROW($F$264:$F$888)-ROW($F$264)+1)/($F$264:$F$888<>\"\"),ROWS(H$2:H258))),\"\")","v":""},{"$f":"IFERROR(INDEX($G$264:$G$888,_xlfn.AGGREGATE(15,6,(ROW($G$264:$G$888)-ROW($G$264)+1)/($G$264:$G$888<>\"\"),ROWS(H$2:H258))),\"\")","v":""}]
[null,null,{"$f":"IF('Veg Guide Data Base'!A1756>0,'Veg Guide Data Base'!A1756,\"\")","v":""},"","",{"$f":"IF(E521=\"Tree\",C521,\"\")","v":""},{"$f":"IF(OR(E521=\"Shrub\",E521=\"Vine-woody\"),C521,\"\")","v":""},{"$f":"IFERROR(INDEX($F$264:$F$888,_xlfn.AGGREGATE(15,6,(ROW($F$264:$F$888)-ROW($F$264)+1)/($F$264:$F$888<>\"\"),ROWS(H$2:H259))),\"\")","v":""},{"$f":"IFERROR(INDEX($G$264:$G$888,_xlfn.AGGREGATE(15,6,(ROW($G$264:$G$888)-ROW($G$264)+1)/($G$264:$G$888<>\"\"),ROWS(H$2:H259))),\"\")","v":""}]
[null,null,{"$f":"IF('Veg Guide Data Base'!A1757>0,'Veg Guide Data Base'!A1757,\"\")","v":""},"","","","",{"$f":"IFERROR(INDEX($F$264:$F$888,_xlfn.AGGREGATE(15,6,(ROW($F$264:$F$888)-ROW($F$264)+1)/($F$264:$F$888<>\"\"),ROWS(H$2:H260))),\"\")","v":""},{"$f":"IFERROR(INDEX($G$264:$G$888,_xlfn.AGGREGATE(15,6,(ROW($G$264:$G$888)-ROW($G$264)+1)/($G$264:$G$888<>\"\"),ROWS(H$2:H260))),\"\")","v":""}]
[null,null,{"$f":"IF('Veg Guide Data Base'!A1758>0,'Veg Guide Data Base'!A1758,\"\")","v":""},"","","","",{"$f":"IFERROR(INDEX($F$264:$F$888,_xlfn.AGGREGATE(15,6,(ROW($F$264:$F$888)-ROW($F$264)+1)/($F$264:$F$888<>\"\"),ROWS(H$2:H261))),\"\")","v":""},{"$f":"IFERROR(INDEX($G$264:$G$888,_xlfn.AGGREGATE(15,6,(ROW($G$264:$G$888)-ROW($G$264)+1)/($G$264:$G$888<>\"\"),ROWS(H$2:H261))),\"\")","v":""}]
[null,null,{"$f":"IF('Veg Guide Data Base'!A1759>0,'Veg Guide Data Base'!A1759,\"\")","v":""},"","","","",{"$f":"IFERROR(INDEX($F$264:$F$888,_xlfn.AGGREGATE(15,6,(ROW($F$264:$F$888)-ROW($F$264)+1)/($F$264:$F$888<>\"\"),ROWS(H$2:H262))),\"\")","v":""},{"$f":"IFERROR(INDEX($G$264:$G$888,_xlfn.AGGREGATE(15,6,(ROW($G$264:$G$888)-ROW($G$264)+1)/($G$264:$G$888<>\"\"),ROWS(H$2:H262))),\"\")","v":""}]
[null,null,{"$f":"IF('Veg Guide Data Base'!A1760>0,'Veg Guide Data Base'!A1760,\"\")","v":""},"","","","",{"$f":"IFERROR(INDEX($F$264:$F$888,_xlfn.AGGREGATE(15,6,(ROW($F$264:$F$888)-ROW($F$264)+1)/($F$264:$F$888<>\"\"),ROWS(H$2:H263))),\"\")","v":""},{"$f":"IFERROR(INDEX($G$264:$G$888,_xlfn.AGGREGATE(15,6,(ROW($G$264:$G$888)-ROW($G$264)+1)/($G$264:$G$888<>\"\"),ROWS(H$2:H263))),\"\")","v":""}]
[null,null,{"$f":"IF('Veg Guide Data Base'!A1761>0,'Veg Guide Data Base'!A1761,\"\")","v":""},"","","","",{"$f":"IFERROR(INDEX($F$264:$F$888,_xlfn.AGGREGATE(15,6,(ROW($F$264:$F$888)-ROW($F$264)+1)/($F$264:$F$888<>\"\"),ROWS(H$2:H264))),\"\")","v":""},{"$f":"IFERROR(INDEX($G$264:$G$888,_xlfn.AGGREGATE(15,6,(ROW($G$264:$G$888)-ROW($G$264)+1)/($G$264:$G$888<>\"\"),ROWS(H$2:H264))),\"\")","v":""}]
[null,null,{"$f":"IF('Veg Guide Data Base'!A1762>0,'Veg Guide Data Base'!A1762,\"\")","v":""},"","","","",{"$f":"IFERROR(INDEX($F$264:$F$888,_xlfn.AGGREGATE(15,6,(ROW($F$264:$F$888)-ROW($F$264)+1)/($F$264:$F$888<>\"\"),ROWS(H$2:H265))),\"\")","v":""},{"$f":"IFERROR(INDEX($G$264:$G$888,_xlfn.AGGREGATE(15,6,(ROW($G$264:$G$888)-ROW($G$264)+1)/($G$264:$G$888<>\"\"),ROWS(H$2:H265))),\"\")","v":""}]
[null,null,{"$f":"IF('Veg Guide Data Base'!A1763>0,'Veg Guide Data Base'!A1763,\"\")","v":""},"","","","",{"$f":"IFERROR(INDEX($F$264:$F$888,_xlfn.AGGREGATE(15,6,(ROW($F$264:$F$888)-ROW($F$264)+1)/($F$264:$F$888<>\"\"),ROWS(H$2:H266))),\"\")","v":""},{"$f":"IFERROR(INDEX($G$264:$G$888,_xlfn.AGGREGATE(15,6,(ROW($G$264:$G$888)-ROW($G$264)+1)/($G$264:$G$888<>\"\"),ROWS(H$2:H266))),\"\")","v":""}]
[null,null,{"$f":"IF('Veg Guide Data Base'!A1764>0,'Veg Guide Data Base'!A1764,\"\")","v":""},"","","","",{"$f":"IFERROR(INDEX($F$264:$F$888,_xlfn.AGGREGATE(15,6,(ROW($F$264:$F$888)-ROW($F$264)+1)/($F$264:$F$888<>\"\"),ROWS(H$2:H267))),\"\")","v":""},{"$f":"IFERROR(INDEX($G$264:$G$888,_xlfn.AGGREGATE(15,6,(ROW($G$264:$G$888)-ROW($G$264)+1)/($G$264:$G$888<>\"\"),ROWS(H$2:H267))),\"\")","v":""}]
[null,null,{"$f":"IF('Veg Guide Data Base'!A1765>0,'Veg Guide Data Base'!A1765,\"\")","v":""},"","","","",{"$f":"IFERROR(INDEX($F$264:$F$888,_xlfn.AGGREGATE(15,6,(ROW($F$264:$F$888)-ROW($F$264)+1)/($F$264:$F$888<>\"\"),ROWS(H$2:H268))),\"\")","v":""},{"$f":"IFERROR(INDEX($G$264:$G$888,_xlfn.AGGREGATE(15,6,(ROW($G$264:$G$888)-ROW($G$264)+1)/($G$264:$G$888<>\"\"),ROWS(H$2:H268))),\"\")","v":""}]
[null,null,{"$f":"IF('Veg Guide Data Base'!A1766>0,'Veg Guide Data Base'!A1766,\"\")","v":""},"","","","",{"$f":"IFERROR(INDEX($F$264:$F$888,_xlfn.AGGREGATE(15,6,(ROW($F$264:$F$888)-ROW($F$264)+1)/($F$264:$F$888<>\"\"),ROWS(H$2:H269))),\"\")","v":""},{"$f":"IFERROR(INDEX($G$264:$G$888,_xlfn.AGGREGATE(15,6,(ROW($G$264:$G$888)-ROW($G$264)+1)/($G$264:$G$888<>\"\"),ROWS(H$2:H269))),\"\")","v":""}]
[null,null,{"$f":"IF('Veg Guide Data Base'!A1767>0,'Veg Guide Data Base'!A1767,\"\")","v":""},"","","","",{"$f":"IFERROR(INDEX($F$264:$F$888,_xlfn.AGGREGATE(15,6,(ROW($F$264:$F$888)-ROW($F$264)+1)/($F$264:$F$888<>\"\"),ROWS(H$2:H270))),\"\")","v":""},{"$f":"IFERROR(INDEX($G$264:$G$888,_xlfn.AGGREGATE(15,6,(ROW($G$264:$G$888)-ROW($G$264)+1)/($G$264:$G$888<>\"\"),ROWS(H$2:H270))),\"\")","v":""}]
[null,null,{"$f":"IF('Veg Guide Data Base'!A1768>0,'Veg Guide Data Base'!A1768,\"\")","v":""},"","","","",{"$f":"IFERROR(INDEX($F$264:$F$888,_xlfn.AGGREGATE(15,6,(ROW($F$264:$F$888)-ROW($F$264)+1)/($F$264:$F$888<>\"\"),ROWS(H$2:H271))),\"\")","v":""},{"$f":"IFERROR(INDEX($G$264:$G$888,_xlfn.AGGREGATE(15,6,(ROW($G$264:$G$888)-ROW($G$264)+1)/($G$264:$G$888<>\"\"),ROWS(H$2:H271))),\"\")","v":""}]
[null,null,{"$f":"IF('Veg Guide Data Base'!A1769>0,'Veg Guide Data Base'!A1769,\"\")","v":""},"","","","",{"$f":"IFERROR(INDEX($F$264:$F$888,_xlfn.AGGREGATE(15,6,(ROW($F$264:$F$888)-ROW($F$264)+1)/($F$264:$F$888<>\"\"),ROWS(H$2:H272))),\"\")","v":""},{"$f":"IFERROR(INDEX($G$264:$G$888,_xlfn.AGGREGATE(15,6,(ROW($G$264:$G$888)-ROW($G$264)+1)/($G$264:$G$888<>\"\"),ROWS(H$2:H272))),\"\")","v":""}]
[null,null,{"$f":"IF('Veg Guide Data Base'!A1770>0,'Veg Guide Data Base'!A1770,\"\")","v":""},"","","","",{"$f":"IFERROR(INDEX($F$264:$F$888,_xlfn.AGGREGATE(15,6,(ROW($F$264:$F$888)-ROW($F$264)+1)/($F$264:$F$888<>\"\"),ROWS(H$2:H273))),\"\")","v":""},{"$f":"IFERROR(INDEX($G$264:$G$888,_xlfn.AGGREGATE(15,6,(ROW($G$264:$G$888)-ROW($G$264)+1)/($G$264:$G$888<>\"\"),ROWS(H$2:H273))),\"\")","v":""}]
[null,null,{"$f":"IF('Veg Guide Data Base'!A1771>0,'Veg Guide Data Base'!A1771,\"\")","v":""},"","","","",{"$f":"IFERROR(INDEX($F$264:$F$888,_xlfn.AGGREGATE(15,6,(ROW($F$264:$F$888)-ROW($F$264)+1)/($F$264:$F$888<>\"\"),ROWS(H$2:H274))),\"\")","v":""},{"$f":"IFERROR(INDEX($G$264:$G$888,_xlfn.AGGREGATE(15,6,(ROW($G$264:$G$888)-ROW($G$264)+1)/($G$264:$G$888<>\"\"),ROWS(H$2:H274))),\"\")","v":""}]
[null,null,{"$f":"IF('Veg Guide Data Base'!A1772>0,'Veg Guide Data Base'!A1772,\"\")","v":""},"","","","",{"$f":"IFERROR(INDEX($F$264:$F$888,_xlfn.AGGREGATE(15,6,(ROW($F$264:$F$888)-ROW($F$264)+1)/($F$264:$F$888<>\"\"),ROWS(H$2:H275))),\"\")","v":""},{"$f":"IFERROR(INDEX($G$264:$G$888,_xlfn.AGGREGATE(15,6,(ROW($G$264:$G$888)-ROW($G$264)+1)/($G$264:$G$888<>\"\"),ROWS(H$2:H275))),\"\")","v":""}]
[null,null,{"$f":"IF('Veg Guide Data Base'!A1773>0,'Veg Guide Data Base'!A1773,\"\")","v":""},"","","","",{"$f":"IFERROR(INDEX($F$264:$F$888,_xlfn.AGGREGATE(15,6,(ROW($F$264:$F$888)-ROW($F$264)+1)/($F$264:$F$888<>\"\"),ROWS(H$2:H276))),\"\")","v":""},{"$f":"IFERROR(INDEX($G$264:$G$888,_xlfn.AGGREGATE(15,6,(ROW($G$264:$G$888)-ROW($G$264)+1)/($G$264:$G$888<>\"\"),ROWS(H$2:H276))),\"\")","v":""}]
[null,null,{"$f":"IF('Veg Guide Data Base'!A1774>0,'Veg Guide Data Base'!A1774,\"\")","v":""},"","","","",{"$f":"IFERROR(INDEX($F$264:$F$888,_xlfn.AGGREGATE(15,6,(ROW($F$264:$F$888)-ROW($F$264)+1)/($F$264:$F$888<>\"\"),ROWS(H$2:H277))),\"\")","v":""},{"$f":"IFERROR(INDEX($G$264:$G$888,_xlfn.AGGREGATE(15,6,(ROW($G$264:$G$888)-ROW($G$264)+1)/($G$264:$G$888<>\"\"),ROWS(H$2:H277))),\"\")","v":""}]
[null,null,{"$f":"IF('Veg Guide Data Base'!A1775>0,'Veg Guide Data Base'!A1775,\"\")","v":""},"","","","",{"$f":"IFERROR(INDEX($F$264:$F$888,_xlfn.AGGREGATE(15,6,(ROW($F$264:$F$888)-ROW($F$264)+1)/($F$264:$F$888<>\"\"),ROWS(H$2:H278))),\"\")","v":""},{"$f":"IFERROR(INDEX($G$264:$G$888,_xlfn.AGGREGATE(15,6,(ROW($G$264:$G$888)-ROW($G$264)+1)/($G$264:$G$888<>\"\"),ROWS(H$2:H278))),\"\")","v":""}]
[null,null,{"$f":"IF('Veg Guide Data Base'!A1776>0,'Veg Guide Data Base'!A1776,\"\")","v":""},"","","","",{"$f":"IFERROR(INDEX($F$264:$F$888,_xlfn.AGGREGATE(15,6,(ROW($F$264:$F$888)-ROW($F$264)+1)/($F$264:$F$888<>\"\"),ROWS(H$2:H279))),\"\")","v":""},{"$f":"IFERROR(INDEX($G$264:$G$888,_xlfn.AGGREGATE(15,6,(ROW($G$264:$G$888)-ROW($G$264)+1)/($G$264:$G$888<>\"\"),ROWS(H$2:H279))),\"\")","v":""}]
[null,null,{"$f":"IF('Veg Guide Data Base'!A1777>0,'Veg Guide Data Base'!A1777,\"\")","v":""},"","","","",{"$f":"IFERROR(INDEX($F$264:$F$888,_xlfn.AGGREGATE(15,6,(ROW($F$264:$F$888)-ROW($F$264)+1)/($F$264:$F$888<>\"\"),ROWS(H$2:H280))),\"\")","v":""},{"$f":"IFERROR(INDEX($G$264:$G$888,_xlfn.AGGREGATE(15,6,(ROW($G$264:$G$888)-ROW($G$264)+1)/($G$264:$G$888<>\"\"),ROWS(H$2:H280))),\"\")","v":""}]
[null,null,{"$f":"IF('Veg Guide Data Base'!A1778>0,'Veg Guide Data Base'!A1778,\"\")","v":""},"","","","",{"$f":"IFERROR(INDEX($F$264:$F$888,_xlfn.AGGREGATE(15,6,(ROW($F$264:$F$888)-ROW($F$264)+1)/($F$264:$F$888<>\"\"),ROWS(H$2:H281))),\"\")","v":""},{"$f":"IFERROR(INDEX($G$264:$G$888,_xlfn.AGGREGATE(15,6,(ROW($G$264:$G$888)-ROW($G$264)+1)/($G$264:$G$888<>\"\"),ROWS(H$2:H281))),\"\")","v":""}]
[null,null,{"$f":"IF('Veg Guide Data Base'!A1779>0,'Veg Guide Data Base'!A1779,\"\")","v":""},"","","","",{"$f":"IFERROR(INDEX($F$264:$F$888,_xlfn.AGGREGATE(15,6,(ROW($F$264:$F$888)-ROW($F$264)+1)/($F$264:$F$888<>\"\"),ROWS(H$2:H282))),\"\")","v":""},{"$f":"IFERROR(INDEX($G$264:$G$888,_xlfn.AGGREGATE(15,6,(ROW($G$264:$G$888)-ROW($G$264)+1)/($G$264:$G$888<>\"\"),ROWS(H$2:H282))),\"\")","v":""}]
[null,null,{"$f":"IF('Veg Guide Data Base'!A1780>0,'Veg Guide Data Base'!A1780,\"\")","v":""},"","","","",{"$f":"IFERROR(INDEX($F$264:$F$888,_xlfn.AGGREGATE(15,6,(ROW($F$264:$F$888)-ROW($F$264)+1)/($F$264:$F$888<>\"\"),ROWS(H$2:H283))),\"\")","v":""},{"$f":"IFERROR(INDEX($G$264:$G$888,_xlfn.AGGREGATE(15,6,(ROW($G$264:$G$888)-ROW($G$264)+1)/($G$264:$G$888<>\"\"),ROWS(H$2:H283))),\"\")","v":""}]
[null,null,{"$f":"IF('Veg Guide Data Base'!A1781>0,'Veg Guide Data Base'!A1781,\"\")","v":""},"","","","",{"$f":"IFERROR(INDEX($F$264:$F$888,_xlfn.AGGREGATE(15,6,(ROW($F$264:$F$888)-ROW($F$264)+1)/($F$264:$F$888<>\"\"),ROWS(H$2:H284))),\"\")","v":""},{"$f":"IFERROR(INDEX($G$264:$G$888,_xlfn.AGGREGATE(15,6,(ROW($G$264:$G$888)-ROW($G$264)+1)/($G$264:$G$888<>\"\"),ROWS(H$2:H284))),\"\")","v":""}]
[null,null,{"$f":"IF('Veg Guide Data Base'!A1782>0,'Veg Guide Data Base'!A1782,\"\")","v":""},"","","","",{"$f":"IFERROR(INDEX($F$264:$F$888,_xlfn.AGGREGATE(15,6,(ROW($F$264:$F$888)-ROW($F$264)+1)/($F$264:$F$888<>\"\"),ROWS(H$2:H285))),\"\")","v":""},{"$f":"IFERROR(INDEX($G$264:$G$888,_xlfn.AGGREGATE(15,6,(ROW($G$264:$G$888)-ROW($G$264)+1)/($G$264:$G$888<>\"\"),ROWS(H$2:H285))),\"\")","v":""}]
[null,null,{"$f":"IF('Veg Guide Data Base'!A1783>0,'Veg Guide Data Base'!A1783,\"\")","v":""},"","","","",{"$f":"IFERROR(INDEX($F$264:$F$888,_xlfn.AGGREGATE(15,6,(ROW($F$264:$F$888)-ROW($F$264)+1)/($F$264:$F$888<>\"\"),ROWS(H$2:H286))),\"\")","v":""},{"$f":"IFERROR(INDEX($G$264:$G$888,_xlfn.AGGREGATE(15,6,(ROW($G$264:$G$888)-ROW($G$264)+1)/($G$264:$G$888<>\"\"),ROWS(H$2:H286))),\"\")","v":""}]
[null,null,{"$f":"IF('Veg Guide Data Base'!A1784>0,'Veg Guide Data Base'!A1784,\"\")","v":""},"","","","",{"$f":"IFERROR(INDEX($F$264:$F$888,_xlfn.AGGREGATE(15,6,(ROW($F$264:$F$888)-ROW($F$264)+1)/($F$264:$F$888<>\"\"),ROWS(H$2:H287))),\"\")","v":""},{"$f":"IFERROR(INDEX($G$264:$G$888,_xlfn.AGGREGATE(15,6,(ROW($G$264:$G$888)-ROW($G$264)+1)/($G$264:$G$888<>\"\"),ROWS(H$2:H287))),\"\")","v":""}]
[null,null,{"$f":"IF('Veg Guide Data Base'!A1785>0,'Veg Guide Data Base'!A1785,\"\")","v":""},"","","","",{"$f":"IFERROR(INDEX($F$264:$F$888,_xlfn.AGGREGATE(15,6,(ROW($F$264:$F$888)-ROW($F$264)+1)/($F$264:$F$888<>\"\"),ROWS(H$2:H288))),\"\")","v":""},{"$f":"IFERROR(INDEX($G$264:$G$888,_xlfn.AGGREGATE(15,6,(ROW($G$264:$G$888)-ROW($G$264)+1)/($G$264:$G$888<>\"\"),ROWS(H$2:H288))),\"\")","v":""}]
[null,null,{"$f":"IF('Veg Guide Data Base'!A1786>0,'Veg Guide Data Base'!A1786,\"\")","v":""},"","","","",{"$f":"IFERROR(INDEX($F$264:$F$888,_xlfn.AGGREGATE(15,6,(ROW($F$264:$F$888)-ROW($F$264)+1)/($F$264:$F$888<>\"\"),ROWS(H$2:H289))),\"\")","v":""},{"$f":"IFERROR(INDEX($G$264:$G$888,_xlfn.AGGREGATE(15,6,(ROW($G$264:$G$888)-ROW($G$264)+1)/($G$264:$G$888<>\"\"),ROWS(H$2:H289))),\"\")","v":""}]
[null,null,{"$f":"IF('Veg Guide Data Base'!A1787>0,'Veg Guide Data Base'!A1787,\"\")","v":""},"","","","",{"$f":"IFERROR(INDEX($F$264:$F$888,_xlfn.AGGREGATE(15,6,(ROW($F$264:$F$888)-ROW($F$264)+1)/($F$264:$F$888<>\"\"),ROWS(H$2:H290))),\"\")","v":""},{"$f":"IFERROR(INDEX($G$264:$G$888,_xlfn.AGGREGATE(15,6,(ROW($G$264:$G$888)-ROW($G$264)+1)/($G$264:$G$888<>\"\"),ROWS(H$2:H290))),\"\")","v":""}]
[null,null,{"$f":"IF('Veg Guide Data Base'!A1788>0,'Veg Guide Data Base'!A1788,\"\")","v":""},"","","","",{"$f":"IFERROR(INDEX($F$264:$F$888,_xlfn.AGGREGATE(15,6,(ROW($F$264:$F$888)-ROW($F$264)+1)/($F$264:$F$888<>\"\"),ROWS(H$2:H291))),\"\")","v":""},{"$f":"IFERROR(INDEX($G$264:$G$888,_xlfn.AGGREGATE(15,6,(ROW($G$264:$G$888)-ROW($G$264)+1)/($G$264:$G$888<>\"\"),ROWS(H$2:H291))),\"\")","v":""}]
[null,null,{"$f":"IF('Veg Guide Data Base'!A1789>0,'Veg Guide Data Base'!A1789,\"\")","v":""},"","","","",{"$f":"IFERROR(INDEX($F$264:$F$888,_xlfn.AGGREGATE(15,6,(ROW($F$264:$F$888)-ROW($F$264)+1)/($F$264:$F$888<>\"\"),ROWS(H$2:H292))),\"\")","v":""},{"$f":"IFERROR(INDEX($G$264:$G$888,_xlfn.AGGREGATE(15,6,(ROW($G$264:$G$888)-ROW($G$264)+1)/($G$264:$G$888<>\"\"),ROWS(H$2:H292))),\"\")","v":""}]
[null,null,{"$f":"IF('Veg Guide Data Base'!A1790>0,'Veg Guide Data Base'!A1790,\"\")","v":""},"","","","",{"$f":"IFERROR(INDEX($F$264:$F$888,_xlfn.AGGREGATE(15,6,(ROW($F$264:$F$888)-ROW($F$264)+1)/($F$264:$F$888<>\"\"),ROWS(H$2:H293))),\"\")","v":""},{"$f":"IFERROR(INDEX($G$264:$G$888,_xlfn.AGGREGATE(15,6,(ROW($G$264:$G$888)-ROW($G$264)+1)/($G$264:$G$888<>\"\"),ROWS(H$2:H293))),\"\")","v":""}]
[null,null,{"$f":"IF('Veg Guide Data Base'!A1791>0,'Veg Guide Data Base'!A1791,\"\")","v":""},"","","","",{"$f":"IFERROR(INDEX($F$264:$F$888,_xlfn.AGGREGATE(15,6,(ROW($F$264:$F$888)-ROW($F$264)+1)/($F$264:$F$888<>\"\"),ROWS(H$2:H294))),\"\")","v":""},{"$f":"IFERROR(INDEX($G$264:$G$888,_xlfn.AGGREGATE(15,6,(ROW($G$264:$G$888)-ROW($G$264)+1)/($G$264:$G$888<>\"\"),ROWS(H$2:H294))),\"\")","v":""}]
[null,null,{"$f":"IF('Veg Guide Data Base'!A1792>0,'Veg Guide Data Base'!A1792,\"\")","v":""},"","","","",{"$f":"IFERROR(INDEX($F$264:$F$888,_xlfn.AGGREGATE(15,6,(ROW($F$264:$F$888)-ROW($F$264)+1)/($F$264:$F$888<>\"\"),ROWS(H$2:H295))),\"\")","v":""},{"$f":"IFERROR(INDEX($G$264:$G$888,_xlfn.AGGREGATE(15,6,(ROW($G$264:$G$888)-ROW($G$264)+1)/($G$264:$G$888<>\"\"),ROWS(H$2:H295))),\"\")","v":""}]
[null,null,{"$f":"IF('Veg Guide Data Base'!A1793>0,'Veg Guide Data Base'!A1793,\"\")","v":""},"","","","",{"$f":"IFERROR(INDEX($F$264:$F$888,_xlfn.AGGREGATE(15,6,(ROW($F$264:$F$888)-ROW($F$264)+1)/($F$264:$F$888<>\"\"),ROWS(H$2:H296))),\"\")","v":""},{"$f":"IFERROR(INDEX($G$264:$G$888,_xlfn.AGGREGATE(15,6,(ROW($G$264:$G$888)-ROW($G$264)+1)/($G$264:$G$888<>\"\"),ROWS(H$2:H296))),\"\")","v":""}]
[null,null,{"$f":"IF('Veg Guide Data Base'!A1794>0,'Veg Guide Data Base'!A1794,\"\")","v":""},"","","","",{"$f":"IFERROR(INDEX($F$264:$F$888,_xlfn.AGGREGATE(15,6,(ROW($F$264:$F$888)-ROW($F$264)+1)/($F$264:$F$888<>\"\"),ROWS(H$2:H297))),\"\")","v":""},{"$f":"IFERROR(INDEX($G$264:$G$888,_xlfn.AGGREGATE(15,6,(ROW($G$264:$G$888)-ROW($G$264)+1)/($G$264:$G$888<>\"\"),ROWS(H$2:H297))),\"\")","v":""}]
[null,null,{"$f":"IF('Veg Guide Data Base'!A1795>0,'Veg Guide Data Base'!A1795,\"\")","v":""},"","","","",{"$f":"IFERROR(INDEX($F$264:$F$888,_xlfn.AGGREGATE(15,6,(ROW($F$264:$F$888)-ROW($F$264)+1)/($F$264:$F$888<>\"\"),ROWS(H$2:H298))),\"\")","v":""},{"$f":"IFERROR(INDEX($G$264:$G$888,_xlfn.AGGREGATE(15,6,(ROW($G$264:$G$888)-ROW($G$264)+1)/($G$264:$G$888<>\"\"),ROWS(H$2:H298))),\"\")","v":""}]
[null,null,{"$f":"IF('Veg Guide Data Base'!A1796>0,'Veg Guide Data Base'!A1796,\"\")","v":""},"","","","",{"$f":"IFERROR(INDEX($F$264:$F$888,_xlfn.AGGREGATE(15,6,(ROW($F$264:$F$888)-ROW($F$264)+1)/($F$264:$F$888<>\"\"),ROWS(H$2:H299))),\"\")","v":""},{"$f":"IFERROR(INDEX($G$264:$G$888,_xlfn.AGGREGATE(15,6,(ROW($G$264:$G$888)-ROW($G$264)+1)/($G$264:$G$888<>\"\"),ROWS(H$2:H299))),\"\")","v":""}]
[null,null,{"$f":"IF('Veg Guide Data Base'!A1797>0,'Veg Guide Data Base'!A1797,\"\")","v":""},"","","","",{"$f":"IFERROR(INDEX($F$264:$F$888,_xlfn.AGGREGATE(15,6,(ROW($F$264:$F$888)-ROW($F$264)+1)/($F$264:$F$888<>\"\"),ROWS(H$2:H300))),\"\")","v":""},{"$f":"IFERROR(INDEX($G$264:$G$888,_xlfn.AGGREGATE(15,6,(ROW($G$264:$G$888)-ROW($G$264)+1)/($G$264:$G$888<>\"\"),ROWS(H$2:H300))),\"\")","v":""}]
[null,null,{"$f":"IF('Veg Guide Data Base'!A1798>0,'Veg Guide Data Base'!A1798,\"\")","v":""},"","","","",{"$f":"IFERROR(INDEX($F$264:$F$888,_xlfn.AGGREGATE(15,6,(ROW($F$264:$F$888)-ROW($F$264)+1)/($F$264:$F$888<>\"\"),ROWS(H$2:H301))),\"\")","v":""},{"$f":"IFERROR(INDEX($G$264:$G$888,_xlfn.AGGREGATE(15,6,(ROW($G$264:$G$888)-ROW($G$264)+1)/($G$264:$G$888<>\"\"),ROWS(H$2:H301))),\"\")","v":""}]
[null,null,{"$f":"IF('Veg Guide Data Base'!A1799>0,'Veg Guide Data Base'!A1799,\"\")","v":""},"","","","",{"$f":"IFERROR(INDEX($F$264:$F$888,_xlfn.AGGREGATE(15,6,(ROW($F$264:$F$888)-ROW($F$264)+1)/($F$264:$F$888<>\"\"),ROWS(H$2:H302))),\"\")","v":""},{"$f":"IFERROR(INDEX($G$264:$G$888,_xlfn.AGGREGATE(15,6,(ROW($G$264:$G$888)-ROW($G$264)+1)/($G$264:$G$888<>\"\"),ROWS(H$2:H302))),\"\")","v":""}]
[null,null,{"$f":"IF('Veg Guide Data Base'!A1800>0,'Veg Guide Data Base'!A1800,\"\")","v":""},"","","","",{"$f":"IFERROR(INDEX($F$264:$F$888,_xlfn.AGGREGATE(15,6,(ROW($F$264:$F$888)-ROW($F$264)+1)/($F$264:$F$888<>\"\"),ROWS(H$2:H303))),\"\")","v":""},{"$f":"IFERROR(INDEX($G$264:$G$888,_xlfn.AGGREGATE(15,6,(ROW($G$264:$G$888)-ROW($G$264)+1)/($G$264:$G$888<>\"\"),ROWS(H$2:H303))),\"\")","v":""}]
[null,null,{"$f":"IF('Veg Guide Data Base'!A1801>0,'Veg Guide Data Base'!A1801,\"\")","v":""},"","","","",{"$f":"IFERROR(INDEX($F$264:$F$888,_xlfn.AGGREGATE(15,6,(ROW($F$264:$F$888)-ROW($F$264)+1)/($F$264:$F$888<>\"\"),ROWS(H$2:H304))),\"\")","v":""},{"$f":"IFERROR(INDEX($G$264:$G$888,_xlfn.AGGREGATE(15,6,(ROW($G$264:$G$888)-ROW($G$264)+1)/($G$264:$G$888<>\"\"),ROWS(H$2:H304))),\"\")","v":""}]
[null,null,{"$f":"IF('Veg Guide Data Base'!A1802>0,'Veg Guide Data Base'!A1802,\"\")","v":""},"","","","",{"$f":"IFERROR(INDEX($F$264:$F$888,_xlfn.AGGREGATE(15,6,(ROW($F$264:$F$888)-ROW($F$264)+1)/($F$264:$F$888<>\"\"),ROWS(H$2:H305))),\"\")","v":""},{"$f":"IFERROR(INDEX($G$264:$G$888,_xlfn.AGGREGATE(15,6,(ROW($G$264:$G$888)-ROW($G$264)+1)/($G$264:$G$888<>\"\"),ROWS(H$2:H305))),\"\")","v":""}]
[null,null,{"$f":"IF('Veg Guide Data Base'!A1803>0,'Veg Guide Data Base'!A1803,\"\")","v":""},"","","","",{"$f":"IFERROR(INDEX($F$264:$F$888,_xlfn.AGGREGATE(15,6,(ROW($F$264:$F$888)-ROW($F$264)+1)/($F$264:$F$888<>\"\"),ROWS(H$2:H306))),\"\")","v":""},{"$f":"IFERROR(INDEX($G$264:$G$888,_xlfn.AGGREGATE(15,6,(ROW($G$264:$G$888)-ROW($G$264)+1)/($G$264:$G$888<>\"\"),ROWS(H$2:H306))),\"\")","v":""}]
[null,null,{"$f":"IF('Veg Guide Data Base'!A1804>0,'Veg Guide Data Base'!A1804,\"\")","v":""},"","","","",{"$f":"IFERROR(INDEX($F$264:$F$888,_xlfn.AGGREGATE(15,6,(ROW($F$264:$F$888)-ROW($F$264)+1)/($F$264:$F$888<>\"\"),ROWS(H$2:H307))),\"\")","v":""},{"$f":"IFERROR(INDEX($G$264:$G$888,_xlfn.AGGREGATE(15,6,(ROW($G$264:$G$888)-ROW($G$264)+1)/($G$264:$G$888<>\"\"),ROWS(H$2:H307))),\"\")","v":""}]
[null,null,{"$f":"IF('Veg Guide Data Base'!A1805>0,'Veg Guide Data Base'!A1805,\"\")","v":""},"","","","",{"$f":"IFERROR(INDEX($F$264:$F$888,_xlfn.AGGREGATE(15,6,(ROW($F$264:$F$888)-ROW($F$264)+1)/($F$264:$F$888<>\"\"),ROWS(H$2:H308))),\"\")","v":""},{"$f":"IFERROR(INDEX($G$264:$G$888,_xlfn.AGGREGATE(15,6,(ROW($G$264:$G$888)-ROW($G$264)+1)/($G$264:$G$888<>\"\"),ROWS(H$2:H308))),\"\")","v":""}]
[null,null,{"$f":"IF('Veg Guide Data Base'!A1806>0,'Veg Guide Data Base'!A1806,\"\")","v":""},"","","","",{"$f":"IFERROR(INDEX($F$264:$F$888,_xlfn.AGGREGATE(15,6,(ROW($F$264:$F$888)-ROW($F$264)+1)/($F$264:$F$888<>\"\"),ROWS(H$2:H309))),\"\")","v":""},{"$f":"IFERROR(INDEX($G$264:$G$888,_xlfn.AGGREGATE(15,6,(ROW($G$264:$G$888)-ROW($G$264)+1)/($G$264:$G$888<>\"\"),ROWS(H$2:H309))),\"\")","v":""}]
[null,null,{"$f":"IF('Veg Guide Data Base'!A1807>0,'Veg Guide Data Base'!A1807,\"\")","v":""},"","","","",{"$f":"IFERROR(INDEX($F$264:$F$888,_xlfn.AGGREGATE(15,6,(ROW($F$264:$F$888)-ROW($F$264)+1)/($F$264:$F$888<>\"\"),ROWS(H$2:H310))),\"\")","v":""},{"$f":"IFERROR(INDEX($G$264:$G$888,_xlfn.AGGREGATE(15,6,(ROW($G$264:$G$888)-ROW($G$264)+1)/($G$264:$G$888<>\"\"),ROWS(H$2:H310))),\"\")","v":""}]
[null,null,{"$f":"IF('Veg Guide Data Base'!A1808>0,'Veg Guide Data Base'!A1808,\"\")","v":""},"","","","",{"$f":"IFERROR(INDEX($F$264:$F$888,_xlfn.AGGREGATE(15,6,(ROW($F$264:$F$888)-ROW($F$264)+1)/($F$264:$F$888<>\"\"),ROWS(H$2:H311))),\"\")","v":""},{"$f":"IFERROR(INDEX($G$264:$G$888,_xlfn.AGGREGATE(15,6,(ROW($G$264:$G$888)-ROW($G$264)+1)/($G$264:$G$888<>\"\"),ROWS(H$2:H311))),\"\")","v":""}]
[null,null,{"$f":"IF('Veg Guide Data Base'!A1809>0,'Veg Guide Data Base'!A1809,\"\")","v":""},"","","","",{"$f":"IFERROR(INDEX($F$264:$F$888,_xlfn.AGGREGATE(15,6,(ROW($F$264:$F$888)-ROW($F$264)+1)/($F$264:$F$888<>\"\"),ROWS(H$2:H312))),\"\")","v":""},{"$f":"IFERROR(INDEX($G$264:$G$888,_xlfn.AGGREGATE(15,6,(ROW($G$264:$G$888)-ROW($G$264)+1)/($G$264:$G$888<>\"\"),ROWS(H$2:H312))),\"\")","v":""}]
[null,null,{"$f":"IF('Veg Guide Data Base'!A1810>0,'Veg Guide Data Base'!A1810,\"\")","v":""},"","","","",{"$f":"IFERROR(INDEX($F$264:$F$888,_xlfn.AGGREGATE(15,6,(ROW($F$264:$F$888)-ROW($F$264)+1)/($F$264:$F$888<>\"\"),ROWS(H$2:H313))),\"\")","v":""},{"$f":"IFERROR(INDEX($G$264:$G$888,_xlfn.AGGREGATE(15,6,(ROW($G$264:$G$888)-ROW($G$264)+1)/($G$264:$G$888<>\"\"),ROWS(H$2:H313))),\"\")","v":""}]
[null,null,{"$f":"IF('Veg Guide Data Base'!A1811>0,'Veg Guide Data Base'!A1811,\"\")","v":""},"","","","",{"$f":"IFERROR(INDEX($F$264:$F$888,_xlfn.AGGREGATE(15,6,(ROW($F$264:$F$888)-ROW($F$264)+1)/($F$264:$F$888<>\"\"),ROWS(H$2:H314))),\"\")","v":""},{"$f":"IFERROR(INDEX($G$264:$G$888,_xlfn.AGGREGATE(15,6,(ROW($G$264:$G$888)-ROW($G$264)+1)/($G$264:$G$888<>\"\"),ROWS(H$2:H314))),\"\")","v":""}]
[null,null,{"$f":"IF('Veg Guide Data Base'!A1812>0,'Veg Guide Data Base'!A1812,\"\")","v":""},"","","","",{"$f":"IFERROR(INDEX($F$264:$F$888,_xlfn.AGGREGATE(15,6,(ROW($F$264:$F$888)-ROW($F$264)+1)/($F$264:$F$888<>\"\"),ROWS(H$2:H315))),\"\")","v":""},{"$f":"IFERROR(INDEX($G$264:$G$888,_xlfn.AGGREGATE(15,6,(ROW($G$264:$G$888)-ROW($G$264)+1)/($G$264:$G$888<>\"\"),ROWS(H$2:H315))),\"\")","v":""}]
[null,null,{"$f":"IF('Veg Guide Data Base'!A1813>0,'Veg Guide Data Base'!A1813,\"\")","v":""},"","","","",{"$f":"IFERROR(INDEX($F$264:$F$888,_xlfn.AGGREGATE(15,6,(ROW($F$264:$F$888)-ROW($F$264)+1)/($F$264:$F$888<>\"\"),ROWS(H$2:H316))),\"\")","v":""},{"$f":"IFERROR(INDEX($G$264:$G$888,_xlfn.AGGREGATE(15,6,(ROW($G$264:$G$888)-ROW($G$264)+1)/($G$264:$G$888<>\"\"),ROWS(H$2:H316))),\"\")","v":""}]
[null,null,{"$f":"IF('Veg Guide Data Base'!A1814>0,'Veg Guide Data Base'!A1814,\"\")","v":""},"","","","",{"$f":"IFERROR(INDEX($F$264:$F$888,_xlfn.AGGREGATE(15,6,(ROW($F$264:$F$888)-ROW($F$264)+1)/($F$264:$F$888<>\"\"),ROWS(H$2:H317))),\"\")","v":""},{"$f":"IFERROR(INDEX($G$264:$G$888,_xlfn.AGGREGATE(15,6,(ROW($G$264:$G$888)-ROW($G$264)+1)/($G$264:$G$888<>\"\"),ROWS(H$2:H317))),\"\")","v":""}]
[null,null,{"$f":"IF('Veg Guide Data Base'!A1815>0,'Veg Guide Data Base'!A1815,\"\")","v":""},"","","","",{"$f":"IFERROR(INDEX($F$264:$F$888,_xlfn.AGGREGATE(15,6,(ROW($F$264:$F$888)-ROW($F$264)+1)/($F$264:$F$888<>\"\"),ROWS(H$2:H318))),\"\")","v":""},{"$f":"IFERROR(INDEX($G$264:$G$888,_xlfn.AGGREGATE(15,6,(ROW($G$264:$G$888)-ROW($G$264)+1)/($G$264:$G$888<>\"\"),ROWS(H$2:H318))),\"\")","v":""}]
[null,null,{"$f":"IF('Veg Guide Data Base'!A1816>0,'Veg Guide Data Base'!A1816,\"\")","v":""},"","","","",{"$f":"IFERROR(INDEX($F$264:$F$888,_xlfn.AGGREGATE(15,6,(ROW($F$264:$F$888)-ROW($F$264)+1)/($F$264:$F$888<>\"\"),ROWS(H$2:H319))),\"\")","v":""},{"$f":"IFERROR(INDEX($G$264:$G$888,_xlfn.AGGREGATE(15,6,(ROW($G$264:$G$888)-ROW($G$264)+1)/($G$264:$G$888<>\"\"),ROWS(H$2:H319))),\"\")","v":""}]
[null,null,{"$f":"IF('Veg Guide Data Base'!A1817>0,'Veg Guide Data Base'!A1817,\"\")","v":""},"","","","",{"$f":"IFERROR(INDEX($F$264:$F$888,_xlfn.AGGREGATE(15,6,(ROW($F$264:$F$888)-ROW($F$264)+1)/($F$264:$F$888<>\"\"),ROWS(H$2:H320))),\"\")","v":""},{"$f":"IFERROR(INDEX($G$264:$G$888,_xlfn.AGGREGATE(15,6,(ROW($G$264:$G$888)-ROW($G$264)+1)/($G$264:$G$888<>\"\"),ROWS(H$2:H320))),\"\")","v":""}]
[null,null,{"$f":"IF('Veg Guide Data Base'!A1818>0,'Veg Guide Data Base'!A1818,\"\")","v":""},"","","","",{"$f":"IFERROR(INDEX($F$264:$F$888,_xlfn.AGGREGATE(15,6,(ROW($F$264:$F$888)-ROW($F$264)+1)/($F$264:$F$888<>\"\"),ROWS(H$2:H321))),\"\")","v":""},{"$f":"IFERROR(INDEX($G$264:$G$888,_xlfn.AGGREGATE(15,6,(ROW($G$264:$G$888)-ROW($G$264)+1)/($G$264:$G$888<>\"\"),ROWS(H$2:H321))),\"\")","v":""}]
[null,null,{"$f":"IF('Veg Guide Data Base'!A1819>0,'Veg Guide Data Base'!A1819,\"\")","v":""},"","","","",{"$f":"IFERROR(INDEX($F$264:$F$888,_xlfn.AGGREGATE(15,6,(ROW($F$264:$F$888)-ROW($F$264)+1)/($F$264:$F$888<>\"\"),ROWS(H$2:H322))),\"\")","v":""},{"$f":"IFERROR(INDEX($G$264:$G$888,_xlfn.AGGREGATE(15,6,(ROW($G$264:$G$888)-ROW($G$264)+1)/($G$264:$G$888<>\"\"),ROWS(H$2:H322))),\"\")","v":""}]
[null,null,{"$f":"IF('Veg Guide Data Base'!A1820>0,'Veg Guide Data Base'!A1820,\"\")","v":""},"","",{"$f":"IF(E585=\"Tree\",C585,\"\")","v":""},{"$f":"IF(OR(E585=\"Shrub\",E585=\"Vine-woody\"),C585,\"\")","v":""},{"$f":"IFERROR(INDEX($F$264:$F$888,_xlfn.AGGREGATE(15,6,(ROW($F$264:$F$888)-ROW($F$264)+1)/($F$264:$F$888<>\"\"),ROWS(H$2:H323))),\"\")","v":""},{"$f":"IFERROR(INDEX($G$264:$G$888,_xlfn.AGGREGATE(15,6,(ROW($G$264:$G$888)-ROW($G$264)+1)/($G$264:$G$888<>\"\"),ROWS(H$2:H323))),\"\")","v":""}]
[null,null,{"$f":"IF('Veg Guide Data Base'!A1821>0,'Veg Guide Data Base'!A1821,\"\")","v":""},"","","","",{"$f":"IFERROR(INDEX($F$264:$F$888,_xlfn.AGGREGATE(15,6,(ROW($F$264:$F$888)-ROW($F$264)+1)/($F$264:$F$888<>\"\"),ROWS(H$2:H324))),\"\")","v":""},{"$f":"IFERROR(INDEX($G$264:$G$888,_xlfn.AGGREGATE(15,6,(ROW($G$264:$G$888)-ROW($G$264)+1)/($G$264:$G$888<>\"\"),ROWS(H$2:H324))),\"\")","v":""}]
[null,null,{"$f":"IF('Veg Guide Data Base'!A1822>0,'Veg Guide Data Base'!A1822,\"\")","v":""},"","","","",{"$f":"IFERROR(INDEX($F$264:$F$888,_xlfn.AGGREGATE(15,6,(ROW($F$264:$F$888)-ROW($F$264)+1)/($F$264:$F$888<>\"\"),ROWS(H$2:H325))),\"\")","v":""},{"$f":"IFERROR(INDEX($G$264:$G$888,_xlfn.AGGREGATE(15,6,(ROW($G$264:$G$888)-ROW($G$264)+1)/($G$264:$G$888<>\"\"),ROWS(H$2:H325))),\"\")","v":""}]
[null,null,{"$f":"IF('Veg Guide Data Base'!A1823>0,'Veg Guide Data Base'!A1823,\"\")","v":""},"","","","",{"$f":"IFERROR(INDEX($F$264:$F$888,_xlfn.AGGREGATE(15,6,(ROW($F$264:$F$888)-ROW($F$264)+1)/($F$264:$F$888<>\"\"),ROWS(H$2:H326))),\"\")","v":""},{"$f":"IFERROR(INDEX($G$264:$G$888,_xlfn.AGGREGATE(15,6,(ROW($G$264:$G$888)-ROW($G$264)+1)/($G$264:$G$888<>\"\"),ROWS(H$2:H326))),\"\")","v":""}]
[null,null,{"$f":"IF('Veg Guide Data Base'!A1824>0,'Veg Guide Data Base'!A1824,\"\")","v":""},"","","","",{"$f":"IFERROR(INDEX($F$264:$F$888,_xlfn.AGGREGATE(15,6,(ROW($F$264:$F$888)-ROW($F$264)+1)/($F$264:$F$888<>\"\"),ROWS(H$2:H327))),\"\")","v":""},{"$f":"IFERROR(INDEX($G$264:$G$888,_xlfn.AGGREGATE(15,6,(ROW($G$264:$G$888)-ROW($G$264)+1)/($G$264:$G$888<>\"\"),ROWS(H$2:H327))),\"\")","v":""}]
[null,null,{"$f":"IF('Veg Guide Data Base'!A1825>0,'Veg Guide Data Base'!A1825,\"\")","v":""},"","","","",{"$f":"IFERROR(INDEX($F$264:$F$888,_xlfn.AGGREGATE(15,6,(ROW($F$264:$F$888)-ROW($F$264)+1)/($F$264:$F$888<>\"\"),ROWS(H$2:H328))),\"\")","v":""},{"$f":"IFERROR(INDEX($G$264:$G$888,_xlfn.AGGREGATE(15,6,(ROW($G$264:$G$888)-ROW($G$264)+1)/($G$264:$G$888<>\"\"),ROWS(H$2:H328))),\"\")","v":""}]
[null,null,{"$f":"IF('Veg Guide Data Base'!A1826>0,'Veg Guide Data Base'!A1826,\"\")","v":""},"","","","",{"$f":"IFERROR(INDEX($F$264:$F$888,_xlfn.AGGREGATE(15,6,(ROW($F$264:$F$888)-ROW($F$264)+1)/($F$264:$F$888<>\"\"),ROWS(H$2:H329))),\"\")","v":""},{"$f":"IFERROR(INDEX($G$264:$G$888,_xlfn.AGGREGATE(15,6,(ROW($G$264:$G$888)-ROW($G$264)+1)/($G$264:$G$888<>\"\"),ROWS(H$2:H329))),\"\")","v":""}]
[null,null,{"$f":"IF('Veg Guide Data Base'!A1827>0,'Veg Guide Data Base'!A1827,\"\")","v":""},"","","","",{"$f":"IFERROR(INDEX($F$264:$F$888,_xlfn.AGGREGATE(15,6,(ROW($F$264:$F$888)-ROW($F$264)+1)/($F$264:$F$888<>\"\"),ROWS(H$2:H330))),\"\")","v":""},{"$f":"IFERROR(INDEX($G$264:$G$888,_xlfn.AGGREGATE(15,6,(ROW($G$264:$G$888)-ROW($G$264)+1)/($G$264:$G$888<>\"\"),ROWS(H$2:H330))),\"\")","v":""}]
[null,null,{"$f":"IF('Veg Guide Data Base'!A1828>0,'Veg Guide Data Base'!A1828,\"\")","v":""},"","","","",{"$f":"IFERROR(INDEX($F$264:$F$888,_xlfn.AGGREGATE(15,6,(ROW($F$264:$F$888)-ROW($F$264)+1)/($F$264:$F$888<>\"\"),ROWS(H$2:H331))),\"\")","v":""},{"$f":"IFERROR(INDEX($G$264:$G$888,_xlfn.AGGREGATE(15,6,(ROW($G$264:$G$888)-ROW($G$264)+1)/($G$264:$G$888<>\"\"),ROWS(H$2:H331))),\"\")","v":""}]
[null,null,{"$f":"IF('Veg Guide Data Base'!A1829>0,'Veg Guide Data Base'!A1829,\"\")","v":""},"","","","",{"$f":"IFERROR(INDEX($F$264:$F$888,_xlfn.AGGREGATE(15,6,(ROW($F$264:$F$888)-ROW($F$264)+1)/($F$264:$F$888<>\"\"),ROWS(H$2:H332))),\"\")","v":""},{"$f":"IFERROR(INDEX($G$264:$G$888,_xlfn.AGGREGATE(15,6,(ROW($G$264:$G$888)-ROW($G$264)+1)/($G$264:$G$888<>\"\"),ROWS(H$2:H332))),\"\")","v":""}]
[null,null,{"$f":"IF('Veg Guide Data Base'!A1830>0,'Veg Guide Data Base'!A1830,\"\")","v":""},"","","","",{"$f":"IFERROR(INDEX($F$264:$F$888,_xlfn.AGGREGATE(15,6,(ROW($F$264:$F$888)-ROW($F$264)+1)/($F$264:$F$888<>\"\"),ROWS(H$2:H333))),\"\")","v":""},{"$f":"IFERROR(INDEX($G$264:$G$888,_xlfn.AGGREGATE(15,6,(ROW($G$264:$G$888)-ROW($G$264)+1)/($G$264:$G$888<>\"\"),ROWS(H$2:H333))),\"\")","v":""}]
[null,null,{"$f":"IF('Veg Guide Data Base'!A1831>0,'Veg Guide Data Base'!A1831,\"\")","v":""},"","","","",{"$f":"IFERROR(INDEX($F$264:$F$888,_xlfn.AGGREGATE(15,6,(ROW($F$264:$F$888)-ROW($F$264)+1)/($F$264:$F$888<>\"\"),ROWS(H$2:H334))),\"\")","v":""},{"$f":"IFERROR(INDEX($G$264:$G$888,_xlfn.AGGREGATE(15,6,(ROW($G$264:$G$888)-ROW($G$264)+1)/($G$264:$G$888<>\"\"),ROWS(H$2:H334))),\"\")","v":""}]
[null,null,{"$f":"IF('Veg Guide Data Base'!A1832>0,'Veg Guide Data Base'!A1832,\"\")","v":""},"","","","",{"$f":"IFERROR(INDEX($F$264:$F$888,_xlfn.AGGREGATE(15,6,(ROW($F$264:$F$888)-ROW($F$264)+1)/($F$264:$F$888<>\"\"),ROWS(H$2:H335))),\"\")","v":""},{"$f":"IFERROR(INDEX($G$264:$G$888,_xlfn.AGGREGATE(15,6,(ROW($G$264:$G$888)-ROW($G$264)+1)/($G$264:$G$888<>\"\"),ROWS(H$2:H335))),\"\")","v":""}]
[null,null,{"$f":"IF('Veg Guide Data Base'!A1833>0,'Veg Guide Data Base'!A1833,\"\")","v":""},"","","","",{"$f":"IFERROR(INDEX($F$264:$F$888,_xlfn.AGGREGATE(15,6,(ROW($F$264:$F$888)-ROW($F$264)+1)/($F$264:$F$888<>\"\"),ROWS(H$2:H336))),\"\")","v":""},{"$f":"IFERROR(INDEX($G$264:$G$888,_xlfn.AGGREGATE(15,6,(ROW($G$264:$G$888)-ROW($G$264)+1)/($G$264:$G$888<>\"\"),ROWS(H$2:H336))),\"\")","v":""}]
[null,null,{"$f":"IF('Veg Guide Data Base'!A1834>0,'Veg Guide Data Base'!A1834,\"\")","v":""},"","","","",{"$f":"IFERROR(INDEX($F$264:$F$888,_xlfn.AGGREGATE(15,6,(ROW($F$264:$F$888)-ROW($F$264)+1)/($F$264:$F$888<>\"\"),ROWS(H$2:H337))),\"\")","v":""},{"$f":"IFERROR(INDEX($G$264:$G$888,_xlfn.AGGREGATE(15,6,(ROW($G$264:$G$888)-ROW($G$264)+1)/($G$264:$G$888<>\"\"),ROWS(H$2:H337))),\"\")","v":""}]
[null,null,{"$f":"IF('Veg Guide Data Base'!A1835>0,'Veg Guide Data Base'!A1835,\"\")","v":""},"","","","",{"$f":"IFERROR(INDEX($F$264:$F$888,_xlfn.AGGREGATE(15,6,(ROW($F$264:$F$888)-ROW($F$264)+1)/($F$264:$F$888<>\"\"),ROWS(H$2:H338))),\"\")","v":""},{"$f":"IFERROR(INDEX($G$264:$G$888,_xlfn.AGGREGATE(15,6,(ROW($G$264:$G$888)-ROW($G$264)+1)/($G$264:$G$888<>\"\"),ROWS(H$2:H338))),\"\")","v":""}]
[null,null,{"$f":"IF('Veg Guide Data Base'!A1836>0,'Veg Guide Data Base'!A1836,\"\")","v":""},"","","","",{"$f":"IFERROR(INDEX($F$264:$F$888,_xlfn.AGGREGATE(15,6,(ROW($F$264:$F$888)-ROW($F$264)+1)/($F$264:$F$888<>\"\"),ROWS(H$2:H339))),\"\")","v":""},{"$f":"IFERROR(INDEX($G$264:$G$888,_xlfn.AGGREGATE(15,6,(ROW($G$264:$G$888)-ROW($G$264)+1)/($G$264:$G$888<>\"\"),ROWS(H$2:H339))),\"\")","v":""}]
[null,null,{"$f":"IF('Veg Guide Data Base'!A1837>0,'Veg Guide Data Base'!A1837,\"\")","v":""},"","","","",{"$f":"IFERROR(INDEX($F$264:$F$888,_xlfn.AGGREGATE(15,6,(ROW($F$264:$F$888)-ROW($F$264)+1)/($F$264:$F$888<>\"\"),ROWS(H$2:H340))),\"\")","v":""},{"$f":"IFERROR(INDEX($G$264:$G$888,_xlfn.AGGREGATE(15,6,(ROW($G$264:$G$888)-ROW($G$264)+1)/($G$264:$G$888<>\"\"),ROWS(H$2:H340))),\"\")","v":""}]
[null,null,{"$f":"IF('Veg Guide Data Base'!A1838>0,'Veg Guide Data Base'!A1838,\"\")","v":""},"","","","",{"$f":"IFERROR(INDEX($F$264:$F$888,_xlfn.AGGREGATE(15,6,(ROW($F$264:$F$888)-ROW($F$264)+1)/($F$264:$F$888<>\"\"),ROWS(H$2:H341))),\"\")","v":""},{"$f":"IFERROR(INDEX($G$264:$G$888,_xlfn.AGGREGATE(15,6,(ROW($G$264:$G$888)-ROW($G$264)+1)/($G$264:$G$888<>\"\"),ROWS(H$2:H341))),\"\")","v":""}]
[null,null,{"$f":"IF('Veg Guide Data Base'!A1839>0,'Veg Guide Data Base'!A1839,\"\")","v":""},"","","","",{"$f":"IFERROR(INDEX($F$264:$F$888,_xlfn.AGGREGATE(15,6,(ROW($F$264:$F$888)-ROW($F$264)+1)/($F$264:$F$888<>\"\"),ROWS(H$2:H342))),\"\")","v":""},{"$f":"IFERROR(INDEX($G$264:$G$888,_xlfn.AGGREGATE(15,6,(ROW($G$264:$G$888)-ROW($G$264)+1)/($G$264:$G$888<>\"\"),ROWS(H$2:H342))),\"\")","v":""}]
[null,null,{"$f":"IF('Veg Guide Data Base'!A1840>0,'Veg Guide Data Base'!A1840,\"\")","v":""},"","","","",{"$f":"IFERROR(INDEX($F$264:$F$888,_xlfn.AGGREGATE(15,6,(ROW($F$264:$F$888)-ROW($F$264)+1)/($F$264:$F$888<>\"\"),ROWS(H$2:H343))),\"\")","v":""},{"$f":"IFERROR(INDEX($G$264:$G$888,_xlfn.AGGREGATE(15,6,(ROW($G$264:$G$888)-ROW($G$264)+1)/($G$264:$G$888<>\"\"),ROWS(H$2:H343))),\"\")","v":""}]
[null,null,{"$f":"IF('Veg Guide Data Base'!A1841>0,'Veg Guide Data Base'!A1841,\"\")","v":""},"","","","",{"$f":"IFERROR(INDEX($F$264:$F$888,_xlfn.AGGREGATE(15,6,(ROW($F$264:$F$888)-ROW($F$264)+1)/($F$264:$F$888<>\"\"),ROWS(H$2:H344))),\"\")","v":""},{"$f":"IFERROR(INDEX($G$264:$G$888,_xlfn.AGGREGATE(15,6,(ROW($G$264:$G$888)-ROW($G$264)+1)/($G$264:$G$888<>\"\"),ROWS(H$2:H344))),\"\")","v":""}]
[null,null,{"$f":"IF('Veg Guide Data Base'!A1842>0,'Veg Guide Data Base'!A1842,\"\")","v":""},"","","","",{"$f":"IFERROR(INDEX($F$264:$F$888,_xlfn.AGGREGATE(15,6,(ROW($F$264:$F$888)-ROW($F$264)+1)/($F$264:$F$888<>\"\"),ROWS(H$2:H345))),\"\")","v":""},{"$f":"IFERROR(INDEX($G$264:$G$888,_xlfn.AGGREGATE(15,6,(ROW($G$264:$G$888)-ROW($G$264)+1)/($G$264:$G$888<>\"\"),ROWS(H$2:H345))),\"\")","v":""}]
[null,null,{"$f":"IF('Veg Guide Data Base'!A1843>0,'Veg Guide Data Base'!A1843,\"\")","v":""},"","","","",{"$f":"IFERROR(INDEX($F$264:$F$888,_xlfn.AGGREGATE(15,6,(ROW($F$264:$F$888)-ROW($F$264)+1)/($F$264:$F$888<>\"\"),ROWS(H$2:H346))),\"\")","v":""},{"$f":"IFERROR(INDEX($G$264:$G$888,_xlfn.AGGREGATE(15,6,(ROW($G$264:$G$888)-ROW($G$264)+1)/($G$264:$G$888<>\"\"),ROWS(H$2:H346))),\"\")","v":""}]
[null,null,{"$f":"IF('Veg Guide Data Base'!A1844>0,'Veg Guide Data Base'!A1844,\"\")","v":""},"","","","",{"$f":"IFERROR(INDEX($F$264:$F$888,_xlfn.AGGREGATE(15,6,(ROW($F$264:$F$888)-ROW($F$264)+1)/($F$264:$F$888<>\"\"),ROWS(H$2:H347))),\"\")","v":""},{"$f":"IFERROR(INDEX($G$264:$G$888,_xlfn.AGGREGATE(15,6,(ROW($G$264:$G$888)-ROW($G$264)+1)/($G$264:$G$888<>\"\"),ROWS(H$2:H347))),\"\")","v":""}]
[null,null,{"$f":"IF('Veg Guide Data Base'!A1845>0,'Veg Guide Data Base'!A1845,\"\")","v":""},"","","","",{"$f":"IFERROR(INDEX($F$264:$F$888,_xlfn.AGGREGATE(15,6,(ROW($F$264:$F$888)-ROW($F$264)+1)/($F$264:$F$888<>\"\"),ROWS(H$2:H348))),\"\")","v":""},{"$f":"IFERROR(INDEX($G$264:$G$888,_xlfn.AGGREGATE(15,6,(ROW($G$264:$G$888)-ROW($G$264)+1)/($G$264:$G$888<>\"\"),ROWS(H$2:H348))),\"\")","v":""}]
[null,null,{"$f":"IF('Veg Guide Data Base'!A1846>0,'Veg Guide Data Base'!A1846,\"\")","v":""},"","","","",{"$f":"IFERROR(INDEX($F$264:$F$888,_xlfn.AGGREGATE(15,6,(ROW($F$264:$F$888)-ROW($F$264)+1)/($F$264:$F$888<>\"\"),ROWS(H$2:H349))),\"\")","v":""},{"$f":"IFERROR(INDEX($G$264:$G$888,_xlfn.AGGREGATE(15,6,(ROW($G$264:$G$888)-ROW($G$264)+1)/($G$264:$G$888<>\"\"),ROWS(H$2:H349))),\"\")","v":""}]
[null,null,{"$f":"IF('Veg Guide Data Base'!A1847>0,'Veg Guide Data Base'!A1847,\"\")","v":""},"","","","",{"$f":"IFERROR(INDEX($F$264:$F$888,_xlfn.AGGREGATE(15,6,(ROW($F$264:$F$888)-ROW($F$264)+1)/($F$264:$F$888<>\"\"),ROWS(H$2:H350))),\"\")","v":""},{"$f":"IFERROR(INDEX($G$264:$G$888,_xlfn.AGGREGATE(15,6,(ROW($G$264:$G$888)-ROW($G$264)+1)/($G$264:$G$888<>\"\"),ROWS(H$2:H350))),\"\")","v":""}]
[null,null,{"$f":"IF('Veg Guide Data Base'!A1848>0,'Veg Guide Data Base'!A1848,\"\")","v":""},"","","","",{"$f":"IFERROR(INDEX($F$264:$F$888,_xlfn.AGGREGATE(15,6,(ROW($F$264:$F$888)-ROW($F$264)+1)/($F$264:$F$888<>\"\"),ROWS(H$2:H351))),\"\")","v":""},{"$f":"IFERROR(INDEX($G$264:$G$888,_xlfn.AGGREGATE(15,6,(ROW($G$264:$G$888)-ROW($G$264)+1)/($G$264:$G$888<>\"\"),ROWS(H$2:H351))),\"\")","v":""}]
[null,null,{"$f":"IF('Veg Guide Data Base'!A1849>0,'Veg Guide Data Base'!A1849,\"\")","v":""},"","","","",{"$f":"IFERROR(INDEX($F$264:$F$888,_xlfn.AGGREGATE(15,6,(ROW($F$264:$F$888)-ROW($F$264)+1)/($F$264:$F$888<>\"\"),ROWS(H$2:H352))),\"\")","v":""},{"$f":"IFERROR(INDEX($G$264:$G$888,_xlfn.AGGREGATE(15,6,(ROW($G$264:$G$888)-ROW($G$264)+1)/($G$264:$G$888<>\"\"),ROWS(H$2:H352))),\"\")","v":""}]
[null,null,{"$f":"IF('Veg Guide Data Base'!A1850>0,'Veg Guide Data Base'!A1850,\"\")","v":""},"","","","",{"$f":"IFERROR(INDEX($F$264:$F$888,_xlfn.AGGREGATE(15,6,(ROW($F$264:$F$888)-ROW($F$264)+1)/($F$264:$F$888<>\"\"),ROWS(H$2:H353))),\"\")","v":""},{"$f":"IFERROR(INDEX($G$264:$G$888,_xlfn.AGGREGATE(15,6,(ROW($G$264:$G$888)-ROW($G$264)+1)/($G$264:$G$888<>\"\"),ROWS(H$2:H353))),\"\")","v":""}]
[null,null,{"$f":"IF('Veg Guide Data Base'!A1851>0,'Veg Guide Data Base'!A1851,\"\")","v":""},"","","","",{"$f":"IFERROR(INDEX($F$264:$F$888,_xlfn.AGGREGATE(15,6,(ROW($F$264:$F$888)-ROW($F$264)+1)/($F$264:$F$888<>\"\"),ROWS(H$2:H354))),\"\")","v":""},{"$f":"IFERROR(INDEX($G$264:$G$888,_xlfn.AGGREGATE(15,6,(ROW($G$264:$G$888)-ROW($G$264)+1)/($G$264:$G$888<>\"\"),ROWS(H$2:H354))),\"\")","v":""}]
[null,null,{"$f":"IF('Veg Guide Data Base'!A1852>0,'Veg Guide Data Base'!A1852,\"\")","v":""},"","","","",{"$f":"IFERROR(INDEX($F$264:$F$888,_xlfn.AGGREGATE(15,6,(ROW($F$264:$F$888)-ROW($F$264)+1)/($F$264:$F$888<>\"\"),ROWS(H$2:H355))),\"\")","v":""},{"$f":"IFERROR(INDEX($G$264:$G$888,_xlfn.AGGREGATE(15,6,(ROW($G$264:$G$888)-ROW($G$264)+1)/($G$264:$G$888<>\"\"),ROWS(H$2:H355))),\"\")","v":""}]
[null,null,{"$f":"IF('Veg Guide Data Base'!A1853>0,'Veg Guide Data Base'!A1853,\"\")","v":""},"","","","",{"$f":"IFERROR(INDEX($F$264:$F$888,_xlfn.AGGREGATE(15,6,(ROW($F$264:$F$888)-ROW($F$264)+1)/($F$264:$F$888<>\"\"),ROWS(H$2:H356))),\"\")","v":""},{"$f":"IFERROR(INDEX($G$264:$G$888,_xlfn.AGGREGATE(15,6,(ROW($G$264:$G$888)-ROW($G$264)+1)/($G$264:$G$888<>\"\"),ROWS(H$2:H356))),\"\")","v":""}]
[null,null,{"$f":"IF('Veg Guide Data Base'!A1854>0,'Veg Guide Data Base'!A1854,\"\")","v":""},"","","","",{"$f":"IFERROR(INDEX($F$264:$F$888,_xlfn.AGGREGATE(15,6,(ROW($F$264:$F$888)-ROW($F$264)+1)/($F$264:$F$888<>\"\"),ROWS(H$2:H357))),\"\")","v":""},{"$f":"IFERROR(INDEX($G$264:$G$888,_xlfn.AGGREGATE(15,6,(ROW($G$264:$G$888)-ROW($G$264)+1)/($G$264:$G$888<>\"\"),ROWS(H$2:H357))),\"\")","v":""}]
[null,null,{"$f":"IF('Veg Guide Data Base'!A1855>0,'Veg Guide Data Base'!A1855,\"\")","v":""},"","","","",{"$f":"IFERROR(INDEX($F$264:$F$888,_xlfn.AGGREGATE(15,6,(ROW($F$264:$F$888)-ROW($F$264)+1)/($F$264:$F$888<>\"\"),ROWS(H$2:H358))),\"\")","v":""},{"$f":"IFERROR(INDEX($G$264:$G$888,_xlfn.AGGREGATE(15,6,(ROW($G$264:$G$888)-ROW($G$264)+1)/($G$264:$G$888<>\"\"),ROWS(H$2:H358))),\"\")","v":""}]
[null,null,{"$f":"IF('Veg Guide Data Base'!A1856>0,'Veg Guide Data Base'!A1856,\"\")","v":""},"","","","",{"$f":"IFERROR(INDEX($F$264:$F$888,_xlfn.AGGREGATE(15,6,(ROW($F$264:$F$888)-ROW($F$264)+1)/($F$264:$F$888<>\"\"),ROWS(H$2:H359))),\"\")","v":""},{"$f":"IFERROR(INDEX($G$264:$G$888,_xlfn.AGGREGATE(15,6,(ROW($G$264:$G$888)-ROW($G$264)+1)/($G$264:$G$888<>\"\"),ROWS(H$2:H359))),\"\")","v":""}]
[null,null,{"$f":"IF('Veg Guide Data Base'!A1857>0,'Veg Guide Data Base'!A1857,\"\")","v":""},"","","","",{"$f":"IFERROR(INDEX($F$264:$F$888,_xlfn.AGGREGATE(15,6,(ROW($F$264:$F$888)-ROW($F$264)+1)/($F$264:$F$888<>\"\"),ROWS(H$2:H360))),\"\")","v":""},{"$f":"IFERROR(INDEX($G$264:$G$888,_xlfn.AGGREGATE(15,6,(ROW($G$264:$G$888)-ROW($G$264)+1)/($G$264:$G$888<>\"\"),ROWS(H$2:H360))),\"\")","v":""}]
[null,null,{"$f":"IF('Veg Guide Data Base'!A1858>0,'Veg Guide Data Base'!A1858,\"\")","v":""},"","","","",{"$f":"IFERROR(INDEX($F$264:$F$888,_xlfn.AGGREGATE(15,6,(ROW($F$264:$F$888)-ROW($F$264)+1)/($F$264:$F$888<>\"\"),ROWS(H$2:H361))),\"\")","v":""},{"$f":"IFERROR(INDEX($G$264:$G$888,_xlfn.AGGREGATE(15,6,(ROW($G$264:$G$888)-ROW($G$264)+1)/($G$264:$G$888<>\"\"),ROWS(H$2:H361))),\"\")","v":""}]
[null,null,{"$f":"IF('Veg Guide Data Base'!A1859>0,'Veg Guide Data Base'!A1859,\"\")","v":""},"","","","",{"$f":"IFERROR(INDEX($F$264:$F$888,_xlfn.AGGREGATE(15,6,(ROW($F$264:$F$888)-ROW($F$264)+1)/($F$264:$F$888<>\"\"),ROWS(H$2:H362))),\"\")","v":""},{"$f":"IFERROR(INDEX($G$264:$G$888,_xlfn.AGGREGATE(15,6,(ROW($G$264:$G$888)-ROW($G$264)+1)/($G$264:$G$888<>\"\"),ROWS(H$2:H362))),\"\")","v":""}]
[null,null,{"$f":"IF('Veg Guide Data Base'!A1860>0,'Veg Guide Data Base'!A1860,\"\")","v":""},"","","","",{"$f":"IFERROR(INDEX($F$264:$F$888,_xlfn.AGGREGATE(15,6,(ROW($F$264:$F$888)-ROW($F$264)+1)/($F$264:$F$888<>\"\"),ROWS(H$2:H363))),\"\")","v":""},{"$f":"IFERROR(INDEX($G$264:$G$888,_xlfn.AGGREGATE(15,6,(ROW($G$264:$G$888)-ROW($G$264)+1)/($G$264:$G$888<>\"\"),ROWS(H$2:H363))),\"\")","v":""}]
[null,null,{"$f":"IF('Veg Guide Data Base'!A1861>0,'Veg Guide Data Base'!A1861,\"\")","v":""},"","","","",{"$f":"IFERROR(INDEX($F$264:$F$888,_xlfn.AGGREGATE(15,6,(ROW($F$264:$F$888)-ROW($F$264)+1)/($F$264:$F$888<>\"\"),ROWS(H$2:H364))),\"\")","v":""},{"$f":"IFERROR(INDEX($G$264:$G$888,_xlfn.AGGREGATE(15,6,(ROW($G$264:$G$888)-ROW($G$264)+1)/($G$264:$G$888<>\"\"),ROWS(H$2:H364))),\"\")","v":""}]
[null,null,{"$f":"IF('Veg Guide Data Base'!A1862>0,'Veg Guide Data Base'!A1862,\"\")","v":""},"","","","",{"$f":"IFERROR(INDEX($F$264:$F$888,_xlfn.AGGREGATE(15,6,(ROW($F$264:$F$888)-ROW($F$264)+1)/($F$264:$F$888<>\"\"),ROWS(H$2:H365))),\"\")","v":""},{"$f":"IFERROR(INDEX($G$264:$G$888,_xlfn.AGGREGATE(15,6,(ROW($G$264:$G$888)-ROW($G$264)+1)/($G$264:$G$888<>\"\"),ROWS(H$2:H365))),\"\")","v":""}]
[null,null,{"$f":"IF('Veg Guide Data Base'!A1863>0,'Veg Guide Data Base'!A1863,\"\")","v":""},"","","","",{"$f":"IFERROR(INDEX($F$264:$F$888,_xlfn.AGGREGATE(15,6,(ROW($F$264:$F$888)-ROW($F$264)+1)/($F$264:$F$888<>\"\"),ROWS(H$2:H366))),\"\")","v":""},{"$f":"IFERROR(INDEX($G$264:$G$888,_xlfn.AGGREGATE(15,6,(ROW($G$264:$G$888)-ROW($G$264)+1)/($G$264:$G$888<>\"\"),ROWS(H$2:H366))),\"\")","v":""}]
[null,null,{"$f":"IF('Veg Guide Data Base'!A1864>0,'Veg Guide Data Base'!A1864,\"\")","v":""},"","","","",{"$f":"IFERROR(INDEX($F$264:$F$888,_xlfn.AGGREGATE(15,6,(ROW($F$264:$F$888)-ROW($F$264)+1)/($F$264:$F$888<>\"\"),ROWS(H$2:H367))),\"\")","v":""},{"$f":"IFERROR(INDEX($G$264:$G$888,_xlfn.AGGREGATE(15,6,(ROW($G$264:$G$888)-ROW($G$264)+1)/($G$264:$G$888<>\"\"),ROWS(H$2:H367))),\"\")","v":""}]
[null,null,{"$f":"IF('Veg Guide Data Base'!A1865>0,'Veg Guide Data Base'!A1865,\"\")","v":""},"","","","",{"$f":"IFERROR(INDEX($F$264:$F$888,_xlfn.AGGREGATE(15,6,(ROW($F$264:$F$888)-ROW($F$264)+1)/($F$264:$F$888<>\"\"),ROWS(H$2:H368))),\"\")","v":""},{"$f":"IFERROR(INDEX($G$264:$G$888,_xlfn.AGGREGATE(15,6,(ROW($G$264:$G$888)-ROW($G$264)+1)/($G$264:$G$888<>\"\"),ROWS(H$2:H368))),\"\")","v":""}]
[null,null,{"$f":"IF('Veg Guide Data Base'!A1866>0,'Veg Guide Data Base'!A1866,\"\")","v":""},"","","","",{"$f":"IFERROR(INDEX($F$264:$F$888,_xlfn.AGGREGATE(15,6,(ROW($F$264:$F$888)-ROW($F$264)+1)/($F$264:$F$888<>\"\"),ROWS(H$2:H369))),\"\")","v":""},{"$f":"IFERROR(INDEX($G$264:$G$888,_xlfn.AGGREGATE(15,6,(ROW($G$264:$G$888)-ROW($G$264)+1)/($G$264:$G$888<>\"\"),ROWS(H$2:H369))),\"\")","v":""}]
[null,null,{"$f":"IF('Veg Guide Data Base'!A1867>0,'Veg Guide Data Base'!A1867,\"\")","v":""},"","","","",{"$f":"IFERROR(INDEX($F$264:$F$888,_xlfn.AGGREGATE(15,6,(ROW($F$264:$F$888)-ROW($F$264)+1)/($F$264:$F$888<>\"\"),ROWS(H$2:H370))),\"\")","v":""},{"$f":"IFERROR(INDEX($G$264:$G$888,_xlfn.AGGREGATE(15,6,(ROW($G$264:$G$888)-ROW($G$264)+1)/($G$264:$G$888<>\"\"),ROWS(H$2:H370))),\"\")","v":""}]
[null,null,{"$f":"IF('Veg Guide Data Base'!A1868>0,'Veg Guide Data Base'!A1868,\"\")","v":""},"","","","",{"$f":"IFERROR(INDEX($F$264:$F$888,_xlfn.AGGREGATE(15,6,(ROW($F$264:$F$888)-ROW($F$264)+1)/($F$264:$F$888<>\"\"),ROWS(H$2:H371))),\"\")","v":""},{"$f":"IFERROR(INDEX($G$264:$G$888,_xlfn.AGGREGATE(15,6,(ROW($G$264:$G$888)-ROW($G$264)+1)/($G$264:$G$888<>\"\"),ROWS(H$2:H371))),\"\")","v":""}]
[null,null,{"$f":"IF('Veg Guide Data Base'!A1869>0,'Veg Guide Data Base'!A1869,\"\")","v":""},"","","","",{"$f":"IFERROR(INDEX($F$264:$F$888,_xlfn.AGGREGATE(15,6,(ROW($F$264:$F$888)-ROW($F$264)+1)/($F$264:$F$888<>\"\"),ROWS(H$2:H372))),\"\")","v":""},{"$f":"IFERROR(INDEX($G$264:$G$888,_xlfn.AGGREGATE(15,6,(ROW($G$264:$G$888)-ROW($G$264)+1)/($G$264:$G$888<>\"\"),ROWS(H$2:H372))),\"\")","v":""}]
[null,null,{"$f":"IF('Veg Guide Data Base'!A1870>0,'Veg Guide Data Base'!A1870,\"\")","v":""},"","","","",{"$f":"IFERROR(INDEX($F$264:$F$888,_xlfn.AGGREGATE(15,6,(ROW($F$264:$F$888)-ROW($F$264)+1)/($F$264:$F$888<>\"\"),ROWS(H$2:H373))),\"\")","v":""},{"$f":"IFERROR(INDEX($G$264:$G$888,_xlfn.AGGREGATE(15,6,(ROW($G$264:$G$888)-ROW($G$264)+1)/($G$264:$G$888<>\"\"),ROWS(H$2:H373))),\"\")","v":""}]
[null,null,{"$f":"IF('Veg Guide Data Base'!A1871>0,'Veg Guide Data Base'!A1871,\"\")","v":""},"","","","",{"$f":"IFERROR(INDEX($F$264:$F$888,_xlfn.AGGREGATE(15,6,(ROW($F$264:$F$888)-ROW($F$264)+1)/($F$264:$F$888<>\"\"),ROWS(H$2:H374))),\"\")","v":""},{"$f":"IFERROR(INDEX($G$264:$G$888,_xlfn.AGGREGATE(15,6,(ROW($G$264:$G$888)-ROW($G$264)+1)/($G$264:$G$888<>\"\"),ROWS(H$2:H374))),\"\")","v":""}]
[null,null,{"$f":"IF('Veg Guide Data Base'!A1872>0,'Veg Guide Data Base'!A1872,\"\")","v":""},"","","","",{"$f":"IFERROR(INDEX($F$264:$F$888,_xlfn.AGGREGATE(15,6,(ROW($F$264:$F$888)-ROW($F$264)+1)/($F$264:$F$888<>\"\"),ROWS(H$2:H375))),\"\")","v":""},{"$f":"IFERROR(INDEX($G$264:$G$888,_xlfn.AGGREGATE(15,6,(ROW($G$264:$G$888)-ROW($G$264)+1)/($G$264:$G$888<>\"\"),ROWS(H$2:H375))),\"\")","v":""}]
[null,null,{"$f":"IF('Veg Guide Data Base'!A1873>0,'Veg Guide Data Base'!A1873,\"\")","v":""},"","","","",{"$f":"IFERROR(INDEX($F$264:$F$888,_xlfn.AGGREGATE(15,6,(ROW($F$264:$F$888)-ROW($F$264)+1)/($F$264:$F$888<>\"\"),ROWS(H$2:H376))),\"\")","v":""},{"$f":"IFERROR(INDEX($G$264:$G$888,_xlfn.AGGREGATE(15,6,(ROW($G$264:$G$888)-ROW($G$264)+1)/($G$264:$G$888<>\"\"),ROWS(H$2:H376))),\"\")","v":""}]
[null,null,{"$f":"IF('Veg Guide Data Base'!A1874>0,'Veg Guide Data Base'!A1874,\"\")","v":""},"","","","",{"$f":"IFERROR(INDEX($F$264:$F$888,_xlfn.AGGREGATE(15,6,(ROW($F$264:$F$888)-ROW($F$264)+1)/($F$264:$F$888<>\"\"),ROWS(H$2:H377))),\"\")","v":""},{"$f":"IFERROR(INDEX($G$264:$G$888,_xlfn.AGGREGATE(15,6,(ROW($G$264:$G$888)-ROW($G$264)+1)/($G$264:$G$888<>\"\"),ROWS(H$2:H377))),\"\")","v":""}]
[null,null,{"$f":"IF('Veg Guide Data Base'!A1875>0,'Veg Guide Data Base'!A1875,\"\")","v":""},"","","","",{"$f":"IFERROR(INDEX($F$264:$F$888,_xlfn.AGGREGATE(15,6,(ROW($F$264:$F$888)-ROW($F$264)+1)/($F$264:$F$888<>\"\"),ROWS(H$2:H378))),\"\")","v":""},{"$f":"IFERROR(INDEX($G$264:$G$888,_xlfn.AGGREGATE(15,6,(ROW($G$264:$G$888)-ROW($G$264)+1)/($G$264:$G$888<>\"\"),ROWS(H$2:H378))),\"\")","v":""}]
[null,null,{"$f":"IF('Veg Guide Data Base'!A1876>0,'Veg Guide Data Base'!A1876,\"\")","v":""},"","","","",{"$f":"IFERROR(INDEX($F$264:$F$888,_xlfn.AGGREGATE(15,6,(ROW($F$264:$F$888)-ROW($F$264)+1)/($F$264:$F$888<>\"\"),ROWS(H$2:H379))),\"\")","v":""},{"$f":"IFERROR(INDEX($G$264:$G$888,_xlfn.AGGREGATE(15,6,(ROW($G$264:$G$888)-ROW($G$264)+1)/($G$264:$G$888<>\"\"),ROWS(H$2:H379))),\"\")","v":""}]
[null,null,{"$f":"IF('Veg Guide Data Base'!A1877>0,'Veg Guide Data Base'!A1877,\"\")","v":""},"","","","",{"$f":"IFERROR(INDEX($F$264:$F$888,_xlfn.AGGREGATE(15,6,(ROW($F$264:$F$888)-ROW($F$264)+1)/($F$264:$F$888<>\"\"),ROWS(H$2:H380))),\"\")","v":""},{"$f":"IFERROR(INDEX($G$264:$G$888,_xlfn.AGGREGATE(15,6,(ROW($G$264:$G$888)-ROW($G$264)+1)/($G$264:$G$888<>\"\"),ROWS(H$2:H380))),\"\")","v":""}]
[null,null,{"$f":"IF('Veg Guide Data Base'!A1878>0,'Veg Guide Data Base'!A1878,\"\")","v":""},"","","","",{"$f":"IFERROR(INDEX($F$264:$F$888,_xlfn.AGGREGATE(15,6,(ROW($F$264:$F$888)-ROW($F$264)+1)/($F$264:$F$888<>\"\"),ROWS(H$2:H381))),\"\")","v":""},{"$f":"IFERROR(INDEX($G$264:$G$888,_xlfn.AGGREGATE(15,6,(ROW($G$264:$G$888)-ROW($G$264)+1)/($G$264:$G$888<>\"\"),ROWS(H$2:H381))),\"\")","v":""}]
[null,null,{"$f":"IF('Veg Guide Data Base'!A1879>0,'Veg Guide Data Base'!A1879,\"\")","v":""},"","","","",{"$f":"IFERROR(INDEX($F$264:$F$888,_xlfn.AGGREGATE(15,6,(ROW($F$264:$F$888)-ROW($F$264)+1)/($F$264:$F$888<>\"\"),ROWS(H$2:H382))),\"\")","v":""},{"$f":"IFERROR(INDEX($G$264:$G$888,_xlfn.AGGREGATE(15,6,(ROW($G$264:$G$888)-ROW($G$264)+1)/($G$264:$G$888<>\"\"),ROWS(H$2:H382))),\"\")","v":""}]
[null,null,{"$f":"IF('Veg Guide Data Base'!A1880>0,'Veg Guide Data Base'!A1880,\"\")","v":""},"","","","",{"$f":"IFERROR(INDEX($F$264:$F$888,_xlfn.AGGREGATE(15,6,(ROW($F$264:$F$888)-ROW($F$264)+1)/($F$264:$F$888<>\"\"),ROWS(H$2:H383))),\"\")","v":""},{"$f":"IFERROR(INDEX($G$264:$G$888,_xlfn.AGGREGATE(15,6,(ROW($G$264:$G$888)-ROW($G$264)+1)/($G$264:$G$888<>\"\"),ROWS(H$2:H383))),\"\")","v":""}]
[null,null,{"$f":"IF('Veg Guide Data Base'!A1881>0,'Veg Guide Data Base'!A1881,\"\")","v":""},"","","","",{"$f":"IFERROR(INDEX($F$264:$F$888,_xlfn.AGGREGATE(15,6,(ROW($F$264:$F$888)-ROW($F$264)+1)/($F$264:$F$888<>\"\"),ROWS(H$2:H384))),\"\")","v":""},{"$f":"IFERROR(INDEX($G$264:$G$888,_xlfn.AGGREGATE(15,6,(ROW($G$264:$G$888)-ROW($G$264)+1)/($G$264:$G$888<>\"\"),ROWS(H$2:H384))),\"\")","v":""}]
[null,null,{"$f":"IF('Veg Guide Data Base'!A1882>0,'Veg Guide Data Base'!A1882,\"\")","v":""},"","","","",{"$f":"IFERROR(INDEX($F$264:$F$888,_xlfn.AGGREGATE(15,6,(ROW($F$264:$F$888)-ROW($F$264)+1)/($F$264:$F$888<>\"\"),ROWS(H$2:H385))),\"\")","v":""},{"$f":"IFERROR(INDEX($G$264:$G$888,_xlfn.AGGREGATE(15,6,(ROW($G$264:$G$888)-ROW($G$264)+1)/($G$264:$G$888<>\"\"),ROWS(H$2:H385))),\"\")","v":""}]
[null,null,{"$f":"IF('Veg Guide Data Base'!A1883>0,'Veg Guide Data Base'!A1883,\"\")","v":""},"","","","",{"$f":"IFERROR(INDEX($F$264:$F$888,_xlfn.AGGREGATE(15,6,(ROW($F$264:$F$888)-ROW($F$264)+1)/($F$264:$F$888<>\"\"),ROWS(H$2:H386))),\"\")","v":""},{"$f":"IFERROR(INDEX($G$264:$G$888,_xlfn.AGGREGATE(15,6,(ROW($G$264:$G$888)-ROW($G$264)+1)/($G$264:$G$888<>\"\"),ROWS(H$2:H386))),\"\")","v":""}]
[null,null,{"$f":"IF('Veg Guide Data Base'!A1884>0,'Veg Guide Data Base'!A1884,\"\")","v":""},"","",{"$f":"IF(E649=\"Tree\",C649,\"\")","v":""},{"$f":"IF(OR(E649=\"Shrub\",E649=\"Vine-woody\"),C649,\"\")","v":""},{"$f":"IFERROR(INDEX($F$264:$F$888,_xlfn.AGGREGATE(15,6,(ROW($F$264:$F$888)-ROW($F$264)+1)/($F$264:$F$888<>\"\"),ROWS(H$2:H387))),\"\")","v":""},{"$f":"IFERROR(INDEX($G$264:$G$888,_xlfn.AGGREGATE(15,6,(ROW($G$264:$G$888)-ROW($G$264)+1)/($G$264:$G$888<>\"\"),ROWS(H$2:H387))),\"\")","v":""}]
[null,null,{"$f":"IF('Veg Guide Data Base'!A1885>0,'Veg Guide Data Base'!A1885,\"\")","v":""},"","","","",{"$f":"IFERROR(INDEX($F$264:$F$888,_xlfn.AGGREGATE(15,6,(ROW($F$264:$F$888)-ROW($F$264)+1)/($F$264:$F$888<>\"\"),ROWS(H$2:H388))),\"\")","v":""},{"$f":"IFERROR(INDEX($G$264:$G$888,_xlfn.AGGREGATE(15,6,(ROW($G$264:$G$888)-ROW($G$264)+1)/($G$264:$G$888<>\"\"),ROWS(H$2:H388))),\"\")","v":""}]
[null,null,{"$f":"IF('Veg Guide Data Base'!A1886>0,'Veg Guide Data Base'!A1886,\"\")","v":""},"","","","",{"$f":"IFERROR(INDEX($F$264:$F$888,_xlfn.AGGREGATE(15,6,(ROW($F$264:$F$888)-ROW($F$264)+1)/($F$264:$F$888<>\"\"),ROWS(H$2:H389))),\"\")","v":""},{"$f":"IFERROR(INDEX($G$264:$G$888,_xlfn.AGGREGATE(15,6,(ROW($G$264:$G$888)-ROW($G$264)+1)/($G$264:$G$888<>\"\"),ROWS(H$2:H389))),\"\")","v":""}]
[null,null,{"$f":"IF('Veg Guide Data Base'!A1887>0,'Veg Guide Data Base'!A1887,\"\")","v":""},"","","","",{"$f":"IFERROR(INDEX($F$264:$F$888,_xlfn.AGGREGATE(15,6,(ROW($F$264:$F$888)-ROW($F$264)+1)/($F$264:$F$888<>\"\"),ROWS(H$2:H390))),\"\")","v":""},{"$f":"IFERROR(INDEX($G$264:$G$888,_xlfn.AGGREGATE(15,6,(ROW($G$264:$G$888)-ROW($G$264)+1)/($G$264:$G$888<>\"\"),ROWS(H$2:H390))),\"\")","v":""}]
[null,null,{"$f":"IF('Veg Guide Data Base'!A1888>0,'Veg Guide Data Base'!A1888,\"\")","v":""},"","","","",{"$f":"IFERROR(INDEX($F$264:$F$888,_xlfn.AGGREGATE(15,6,(ROW($F$264:$F$888)-ROW($F$264)+1)/($F$264:$F$888<>\"\"),ROWS(H$2:H391))),\"\")","v":""},{"$f":"IFERROR(INDEX($G$264:$G$888,_xlfn.AGGREGATE(15,6,(ROW($G$264:$G$888)-ROW($G$264)+1)/($G$264:$G$888<>\"\"),ROWS(H$2:H391))),\"\")","v":""}]
[null,null,{"$f":"IF('Veg Guide Data Base'!A1889>0,'Veg Guide Data Base'!A1889,\"\")","v":""},"","","","",{"$f":"IFERROR(INDEX($F$264:$F$888,_xlfn.AGGREGATE(15,6,(ROW($F$264:$F$888)-ROW($F$264)+1)/($F$264:$F$888<>\"\"),ROWS(H$2:H392))),\"\")","v":""},{"$f":"IFERROR(INDEX($G$264:$G$888,_xlfn.AGGREGATE(15,6,(ROW($G$264:$G$888)-ROW($G$264)+1)/($G$264:$G$888<>\"\"),ROWS(H$2:H392))),\"\")","v":""}]
[null,null,{"$f":"IF('Veg Guide Data Base'!A1890>0,'Veg Guide Data Base'!A1890,\"\")","v":""},"","","","",{"$f":"IFERROR(INDEX($F$264:$F$888,_xlfn.AGGREGATE(15,6,(ROW($F$264:$F$888)-ROW($F$264)+1)/($F$264:$F$888<>\"\"),ROWS(H$2:H393))),\"\")","v":""},{"$f":"IFERROR(INDEX($G$264:$G$888,_xlfn.AGGREGATE(15,6,(ROW($G$264:$G$888)-ROW($G$264)+1)/($G$264:$G$888<>\"\"),ROWS(H$2:H393))),\"\")","v":""}]
[null,null,{"$f":"IF('Veg Guide Data Base'!A1891>0,'Veg Guide Data Base'!A1891,\"\")","v":""},"","","","",{"$f":"IFERROR(INDEX($F$264:$F$888,_xlfn.AGGREGATE(15,6,(ROW($F$264:$F$888)-ROW($F$264)+1)/($F$264:$F$888<>\"\"),ROWS(H$2:H394))),\"\")","v":""},{"$f":"IFERROR(INDEX($G$264:$G$888,_xlfn.AGGREGATE(15,6,(ROW($G$264:$G$888)-ROW($G$264)+1)/($G$264:$G$888<>\"\"),ROWS(H$2:H394))),\"\")","v":""}]
[null,null,{"$f":"IF('Veg Guide Data Base'!A1892>0,'Veg Guide Data Base'!A1892,\"\")","v":""},"","","","",{"$f":"IFERROR(INDEX($F$264:$F$888,_xlfn.AGGREGATE(15,6,(ROW($F$264:$F$888)-ROW($F$264)+1)/($F$264:$F$888<>\"\"),ROWS(H$2:H395))),\"\")","v":""},{"$f":"IFERROR(INDEX($G$264:$G$888,_xlfn.AGGREGATE(15,6,(ROW($G$264:$G$888)-ROW($G$264)+1)/($G$264:$G$888<>\"\"),ROWS(H$2:H395))),\"\")","v":""}]
[null,null,{"$f":"IF('Veg Guide Data Base'!A1893>0,'Veg Guide Data Base'!A1893,\"\")","v":""},"","","","",{"$f":"IFERROR(INDEX($F$264:$F$888,_xlfn.AGGREGATE(15,6,(ROW($F$264:$F$888)-ROW($F$264)+1)/($F$264:$F$888<>\"\"),ROWS(H$2:H396))),\"\")","v":""},{"$f":"IFERROR(INDEX($G$264:$G$888,_xlfn.AGGREGATE(15,6,(ROW($G$264:$G$888)-ROW($G$264)+1)/($G$264:$G$888<>\"\"),ROWS(H$2:H396))),\"\")","v":""}]
[null,null,{"$f":"IF('Veg Guide Data Base'!A1894>0,'Veg Guide Data Base'!A1894,\"\")","v":""},"","","","",{"$f":"IFERROR(INDEX($F$264:$F$888,_xlfn.AGGREGATE(15,6,(ROW($F$264:$F$888)-ROW($F$264)+1)/($F$264:$F$888<>\"\"),ROWS(H$2:H397))),\"\")","v":""},{"$f":"IFERROR(INDEX($G$264:$G$888,_xlfn.AGGREGATE(15,6,(ROW($G$264:$G$888)-ROW($G$264)+1)/($G$264:$G$888<>\"\"),ROWS(H$2:H397))),\"\")","v":""}]
[null,null,{"$f":"IF('Veg Guide Data Base'!A1895>0,'Veg Guide Data Base'!A1895,\"\")","v":""},"","","","",{"$f":"IFERROR(INDEX($F$264:$F$888,_xlfn.AGGREGATE(15,6,(ROW($F$264:$F$888)-ROW($F$264)+1)/($F$264:$F$888<>\"\"),ROWS(H$2:H398))),\"\")","v":""},{"$f":"IFERROR(INDEX($G$264:$G$888,_xlfn.AGGREGATE(15,6,(ROW($G$264:$G$888)-ROW($G$264)+1)/($G$264:$G$888<>\"\"),ROWS(H$2:H398))),\"\")","v":""}]
[null,null,{"$f":"IF('Veg Guide Data Base'!A1896>0,'Veg Guide Data Base'!A1896,\"\")","v":""},"","","","",{"$f":"IFERROR(INDEX($F$264:$F$888,_xlfn.AGGREGATE(15,6,(ROW($F$264:$F$888)-ROW($F$264)+1)/($F$264:$F$888<>\"\"),ROWS(H$2:H399))),\"\")","v":""},{"$f":"IFERROR(INDEX($G$264:$G$888,_xlfn.AGGREGATE(15,6,(ROW($G$264:$G$888)-ROW($G$264)+1)/($G$264:$G$888<>\"\"),ROWS(H$2:H399))),\"\")","v":""}]
[null,null,{"$f":"IF('Veg Guide Data Base'!A1897>0,'Veg Guide Data Base'!A1897,\"\")","v":""},"","","","",{"$f":"IFERROR(INDEX($F$264:$F$888,_xlfn.AGGREGATE(15,6,(ROW($F$264:$F$888)-ROW($F$264)+1)/($F$264:$F$888<>\"\"),ROWS(H$2:H400))),\"\")","v":""},{"$f":"IFERROR(INDEX($G$264:$G$888,_xlfn.AGGREGATE(15,6,(ROW($G$264:$G$888)-ROW($G$264)+1)/($G$264:$G$888<>\"\"),ROWS(H$2:H400))),\"\")","v":""}]
[null,null,{"$f":"IF('Veg Guide Data Base'!A1898>0,'Veg Guide Data Base'!A1898,\"\")","v":""},"","","","",{"$f":"IFERROR(INDEX($F$264:$F$888,_xlfn.AGGREGATE(15,6,(ROW($F$264:$F$888)-ROW($F$264)+1)/($F$264:$F$888<>\"\"),ROWS(H$2:H401))),\"\")","v":""},{"$f":"IFERROR(INDEX($G$264:$G$888,_xlfn.AGGREGATE(15,6,(ROW($G$264:$G$888)-ROW($G$264)+1)/($G$264:$G$888<>\"\"),ROWS(H$2:H401))),\"\")","v":""}]
[null,null,{"$f":"IF('Veg Guide Data Base'!A1899>0,'Veg Guide Data Base'!A1899,\"\")","v":""},"","","","",{"$f":"IFERROR(INDEX($F$264:$F$888,_xlfn.AGGREGATE(15,6,(ROW($F$264:$F$888)-ROW($F$264)+1)/($F$264:$F$888<>\"\"),ROWS(H$2:H402))),\"\")","v":""},{"$f":"IFERROR(INDEX($G$264:$G$888,_xlfn.AGGREGATE(15,6,(ROW($G$264:$G$888)-ROW($G$264)+1)/($G$264:$G$888<>\"\"),ROWS(H$2:H402))),\"\")","v":""}]
[null,null,{"$f":"IF('Veg Guide Data Base'!A1900>0,'Veg Guide Data Base'!A1900,\"\")","v":""},"","","","",{"$f":"IFERROR(INDEX($F$264:$F$888,_xlfn.AGGREGATE(15,6,(ROW($F$264:$F$888)-ROW($F$264)+1)/($F$264:$F$888<>\"\"),ROWS(H$2:H403))),\"\")","v":""},{"$f":"IFERROR(INDEX($G$264:$G$888,_xlfn.AGGREGATE(15,6,(ROW($G$264:$G$888)-ROW($G$264)+1)/($G$264:$G$888<>\"\"),ROWS(H$2:H403))),\"\")","v":""}]
[null,null,{"$f":"IF('Veg Guide Data Base'!A1901>0,'Veg Guide Data Base'!A1901,\"\")","v":""},"","","","",{"$f":"IFERROR(INDEX($F$264:$F$888,_xlfn.AGGREGATE(15,6,(ROW($F$264:$F$888)-ROW($F$264)+1)/($F$264:$F$888<>\"\"),ROWS(H$2:H404))),\"\")","v":""},{"$f":"IFERROR(INDEX($G$264:$G$888,_xlfn.AGGREGATE(15,6,(ROW($G$264:$G$888)-ROW($G$264)+1)/($G$264:$G$888<>\"\"),ROWS(H$2:H404))),\"\")","v":""}]
[null,null,{"$f":"IF('Veg Guide Data Base'!A1902>0,'Veg Guide Data Base'!A1902,\"\")","v":""},"","","","",{"$f":"IFERROR(INDEX($F$264:$F$888,_xlfn.AGGREGATE(15,6,(ROW($F$264:$F$888)-ROW($F$264)+1)/($F$264:$F$888<>\"\"),ROWS(H$2:H405))),\"\")","v":""},{"$f":"IFERROR(INDEX($G$264:$G$888,_xlfn.AGGREGATE(15,6,(ROW($G$264:$G$888)-ROW($G$264)+1)/($G$264:$G$888<>\"\"),ROWS(H$2:H405))),\"\")","v":""}]
[null,null,{"$f":"IF('Veg Guide Data Base'!A1903>0,'Veg Guide Data Base'!A1903,\"\")","v":""},"","","","",{"$f":"IFERROR(INDEX($F$264:$F$888,_xlfn.AGGREGATE(15,6,(ROW($F$264:$F$888)-ROW($F$264)+1)/($F$264:$F$888<>\"\"),ROWS(H$2:H406))),\"\")","v":""},{"$f":"IFERROR(INDEX($G$264:$G$888,_xlfn.AGGREGATE(15,6,(ROW($G$264:$G$888)-ROW($G$264)+1)/($G$264:$G$888<>\"\"),ROWS(H$2:H406))),\"\")","v":""}]
[null,null,{"$f":"IF('Veg Guide Data Base'!A1904>0,'Veg Guide Data Base'!A1904,\"\")","v":""},"","","","",{"$f":"IFERROR(INDEX($F$264:$F$888,_xlfn.AGGREGATE(15,6,(ROW($F$264:$F$888)-ROW($F$264)+1)/($F$264:$F$888<>\"\"),ROWS(H$2:H407))),\"\")","v":""},{"$f":"IFERROR(INDEX($G$264:$G$888,_xlfn.AGGREGATE(15,6,(ROW($G$264:$G$888)-ROW($G$264)+1)/($G$264:$G$888<>\"\"),ROWS(H$2:H407))),\"\")","v":""}]
[null,null,{"$f":"IF('Veg Guide Data Base'!A1905>0,'Veg Guide Data Base'!A1905,\"\")","v":""},"","","","",{"$f":"IFERROR(INDEX($F$264:$F$888,_xlfn.AGGREGATE(15,6,(ROW($F$264:$F$888)-ROW($F$264)+1)/($F$264:$F$888<>\"\"),ROWS(H$2:H408))),\"\")","v":""},{"$f":"IFERROR(INDEX($G$264:$G$888,_xlfn.AGGREGATE(15,6,(ROW($G$264:$G$888)-ROW($G$264)+1)/($G$264:$G$888<>\"\"),ROWS(H$2:H408))),\"\")","v":""}]
[null,null,{"$f":"IF('Veg Guide Data Base'!A1906>0,'Veg Guide Data Base'!A1906,\"\")","v":""},"","","","",{"$f":"IFERROR(INDEX($F$264:$F$888,_xlfn.AGGREGATE(15,6,(ROW($F$264:$F$888)-ROW($F$264)+1)/($F$264:$F$888<>\"\"),ROWS(H$2:H409))),\"\")","v":""},{"$f":"IFERROR(INDEX($G$264:$G$888,_xlfn.AGGREGATE(15,6,(ROW($G$264:$G$888)-ROW($G$264)+1)/($G$264:$G$888<>\"\"),ROWS(H$2:H409))),\"\")","v":""}]
[null,null,{"$f":"IF('Veg Guide Data Base'!A1907>0,'Veg Guide Data Base'!A1907,\"\")","v":""},"","","","",{"$f":"IFERROR(INDEX($F$264:$F$888,_xlfn.AGGREGATE(15,6,(ROW($F$264:$F$888)-ROW($F$264)+1)/($F$264:$F$888<>\"\"),ROWS(H$2:H410))),\"\")","v":""},{"$f":"IFERROR(INDEX($G$264:$G$888,_xlfn.AGGREGATE(15,6,(ROW($G$264:$G$888)-ROW($G$264)+1)/($G$264:$G$888<>\"\"),ROWS(H$2:H410))),\"\")","v":""}]
[null,null,{"$f":"IF('Veg Guide Data Base'!A1908>0,'Veg Guide Data Base'!A1908,\"\")","v":""},"","","","",{"$f":"IFERROR(INDEX($F$264:$F$888,_xlfn.AGGREGATE(15,6,(ROW($F$264:$F$888)-ROW($F$264)+1)/($F$264:$F$888<>\"\"),ROWS(H$2:H411))),\"\")","v":""},{"$f":"IFERROR(INDEX($G$264:$G$888,_xlfn.AGGREGATE(15,6,(ROW($G$264:$G$888)-ROW($G$264)+1)/($G$264:$G$888<>\"\"),ROWS(H$2:H411))),\"\")","v":""}]
[null,null,{"$f":"IF('Veg Guide Data Base'!A1909>0,'Veg Guide Data Base'!A1909,\"\")","v":""},"","","","",{"$f":"IFERROR(INDEX($F$264:$F$888,_xlfn.AGGREGATE(15,6,(ROW($F$264:$F$888)-ROW($F$264)+1)/($F$264:$F$888<>\"\"),ROWS(H$2:H412))),\"\")","v":""},{"$f":"IFERROR(INDEX($G$264:$G$888,_xlfn.AGGREGATE(15,6,(ROW($G$264:$G$888)-ROW($G$264)+1)/($G$264:$G$888<>\"\"),ROWS(H$2:H412))),\"\")","v":""}]
[null,null,{"$f":"IF('Veg Guide Data Base'!A1910>0,'Veg Guide Data Base'!A1910,\"\")","v":""},"","","","",{"$f":"IFERROR(INDEX($F$264:$F$888,_xlfn.AGGREGATE(15,6,(ROW($F$264:$F$888)-ROW($F$264)+1)/($F$264:$F$888<>\"\"),ROWS(H$2:H413))),\"\")","v":""},{"$f":"IFERROR(INDEX($G$264:$G$888,_xlfn.AGGREGATE(15,6,(ROW($G$264:$G$888)-ROW($G$264)+1)/($G$264:$G$888<>\"\"),ROWS(H$2:H413))),\"\")","v":""}]
[null,null,{"$f":"IF('Veg Guide Data Base'!A1911>0,'Veg Guide Data Base'!A1911,\"\")","v":""},"","","","",{"$f":"IFERROR(INDEX($F$264:$F$888,_xlfn.AGGREGATE(15,6,(ROW($F$264:$F$888)-ROW($F$264)+1)/($F$264:$F$888<>\"\"),ROWS(H$2:H414))),\"\")","v":""},{"$f":"IFERROR(INDEX($G$264:$G$888,_xlfn.AGGREGATE(15,6,(ROW($G$264:$G$888)-ROW($G$264)+1)/($G$264:$G$888<>\"\"),ROWS(H$2:H414))),\"\")","v":""}]
[null,null,{"$f":"IF('Veg Guide Data Base'!A1912>0,'Veg Guide Data Base'!A1912,\"\")","v":""},"","","","",{"$f":"IFERROR(INDEX($F$264:$F$888,_xlfn.AGGREGATE(15,6,(ROW($F$264:$F$888)-ROW($F$264)+1)/($F$264:$F$888<>\"\"),ROWS(H$2:H415))),\"\")","v":""},{"$f":"IFERROR(INDEX($G$264:$G$888,_xlfn.AGGREGATE(15,6,(ROW($G$264:$G$888)-ROW($G$264)+1)/($G$264:$G$888<>\"\"),ROWS(H$2:H415))),\"\")","v":""}]
[null,null,{"$f":"IF('Veg Guide Data Base'!A1913>0,'Veg Guide Data Base'!A1913,\"\")","v":""},"","","","",{"$f":"IFERROR(INDEX($F$264:$F$888,_xlfn.AGGREGATE(15,6,(ROW($F$264:$F$888)-ROW($F$264)+1)/($F$264:$F$888<>\"\"),ROWS(H$2:H416))),\"\")","v":""},{"$f":"IFERROR(INDEX($G$264:$G$888,_xlfn.AGGREGATE(15,6,(ROW($G$264:$G$888)-ROW($G$264)+1)/($G$264:$G$888<>\"\"),ROWS(H$2:H416))),\"\")","v":""}]
[null,null,{"$f":"IF('Veg Guide Data Base'!A1914>0,'Veg Guide Data Base'!A1914,\"\")","v":""},"","","","",{"$f":"IFERROR(INDEX($F$264:$F$888,_xlfn.AGGREGATE(15,6,(ROW($F$264:$F$888)-ROW($F$264)+1)/($F$264:$F$888<>\"\"),ROWS(H$2:H417))),\"\")","v":""},{"$f":"IFERROR(INDEX($G$264:$G$888,_xlfn.AGGREGATE(15,6,(ROW($G$264:$G$888)-ROW($G$264)+1)/($G$264:$G$888<>\"\"),ROWS(H$2:H417))),\"\")","v":""}]
[null,null,{"$f":"IF('Veg Guide Data Base'!A1915>0,'Veg Guide Data Base'!A1915,\"\")","v":""},"","","","",{"$f":"IFERROR(INDEX($F$264:$F$888,_xlfn.AGGREGATE(15,6,(ROW($F$264:$F$888)-ROW($F$264)+1)/($F$264:$F$888<>\"\"),ROWS(H$2:H418))),\"\")","v":""},{"$f":"IFERROR(INDEX($G$264:$G$888,_xlfn.AGGREGATE(15,6,(ROW($G$264:$G$888)-ROW($G$264)+1)/($G$264:$G$888<>\"\"),ROWS(H$2:H418))),\"\")","v":""}]
[null,null,{"$f":"IF('Veg Guide Data Base'!A1916>0,'Veg Guide Data Base'!A1916,\"\")","v":""},"","","","",{"$f":"IFERROR(INDEX($F$264:$F$888,_xlfn.AGGREGATE(15,6,(ROW($F$264:$F$888)-ROW($F$264)+1)/($F$264:$F$888<>\"\"),ROWS(H$2:H419))),\"\")","v":""},{"$f":"IFERROR(INDEX($G$264:$G$888,_xlfn.AGGREGATE(15,6,(ROW($G$264:$G$888)-ROW($G$264)+1)/($G$264:$G$888<>\"\"),ROWS(H$2:H419))),\"\")","v":""}]
[null,null,{"$f":"IF('Veg Guide Data Base'!A1917>0,'Veg Guide Data Base'!A1917,\"\")","v":""},"","","","",{"$f":"IFERROR(INDEX($F$264:$F$888,_xlfn.AGGREGATE(15,6,(ROW($F$264:$F$888)-ROW($F$264)+1)/($F$264:$F$888<>\"\"),ROWS(H$2:H420))),\"\")","v":""},{"$f":"IFERROR(INDEX($G$264:$G$888,_xlfn.AGGREGATE(15,6,(ROW($G$264:$G$888)-ROW($G$264)+1)/($G$264:$G$888<>\"\"),ROWS(H$2:H420))),\"\")","v":""}]
[null,null,{"$f":"IF('Veg Guide Data Base'!A1918>0,'Veg Guide Data Base'!A1918,\"\")","v":""},"","","","",{"$f":"IFERROR(INDEX($F$264:$F$888,_xlfn.AGGREGATE(15,6,(ROW($F$264:$F$888)-ROW($F$264)+1)/($F$264:$F$888<>\"\"),ROWS(H$2:H421))),\"\")","v":""},{"$f":"IFERROR(INDEX($G$264:$G$888,_xlfn.AGGREGATE(15,6,(ROW($G$264:$G$888)-ROW($G$264)+1)/($G$264:$G$888<>\"\"),ROWS(H$2:H421))),\"\")","v":""}]
[null,null,{"$f":"IF('Veg Guide Data Base'!A1919>0,'Veg Guide Data Base'!A1919,\"\")","v":""},"","","","",{"$f":"IFERROR(INDEX($F$264:$F$888,_xlfn.AGGREGATE(15,6,(ROW($F$264:$F$888)-ROW($F$264)+1)/($F$264:$F$888<>\"\"),ROWS(H$2:H422))),\"\")","v":""},{"$f":"IFERROR(INDEX($G$264:$G$888,_xlfn.AGGREGATE(15,6,(ROW($G$264:$G$888)-ROW($G$264)+1)/($G$264:$G$888<>\"\"),ROWS(H$2:H422))),\"\")","v":""}]
[null,null,{"$f":"IF('Veg Guide Data Base'!A1920>0,'Veg Guide Data Base'!A1920,\"\")","v":""},"","","","",{"$f":"IFERROR(INDEX($F$264:$F$888,_xlfn.AGGREGATE(15,6,(ROW($F$264:$F$888)-ROW($F$264)+1)/($F$264:$F$888<>\"\"),ROWS(H$2:H423))),\"\")","v":""},{"$f":"IFERROR(INDEX($G$264:$G$888,_xlfn.AGGREGATE(15,6,(ROW($G$264:$G$888)-ROW($G$264)+1)/($G$264:$G$888<>\"\"),ROWS(H$2:H423))),\"\")","v":""}]
[null,null,{"$f":"IF('Veg Guide Data Base'!A1921>0,'Veg Guide Data Base'!A1921,\"\")","v":""},"","","","",{"$f":"IFERROR(INDEX($F$264:$F$888,_xlfn.AGGREGATE(15,6,(ROW($F$264:$F$888)-ROW($F$264)+1)/($F$264:$F$888<>\"\"),ROWS(H$2:H424))),\"\")","v":""},{"$f":"IFERROR(INDEX($G$264:$G$888,_xlfn.AGGREGATE(15,6,(ROW($G$264:$G$888)-ROW($G$264)+1)/($G$264:$G$888<>\"\"),ROWS(H$2:H424))),\"\")","v":""}]
[null,null,{"$f":"IF('Veg Guide Data Base'!A1922>0,'Veg Guide Data Base'!A1922,\"\")","v":""},"","","","",{"$f":"IFERROR(INDEX($F$264:$F$888,_xlfn.AGGREGATE(15,6,(ROW($F$264:$F$888)-ROW($F$264)+1)/($F$264:$F$888<>\"\"),ROWS(H$2:H425))),\"\")","v":""},{"$f":"IFERROR(INDEX($G$264:$G$888,_xlfn.AGGREGATE(15,6,(ROW($G$264:$G$888)-ROW($G$264)+1)/($G$264:$G$888<>\"\"),ROWS(H$2:H425))),\"\")","v":""}]
[null,null,{"$f":"IF('Veg Guide Data Base'!A1923>0,'Veg Guide Data Base'!A1923,\"\")","v":""},"","","","",{"$f":"IFERROR(INDEX($F$264:$F$888,_xlfn.AGGREGATE(15,6,(ROW($F$264:$F$888)-ROW($F$264)+1)/($F$264:$F$888<>\"\"),ROWS(H$2:H426))),\"\")","v":""},{"$f":"IFERROR(INDEX($G$264:$G$888,_xlfn.AGGREGATE(15,6,(ROW($G$264:$G$888)-ROW($G$264)+1)/($G$264:$G$888<>\"\"),ROWS(H$2:H426))),\"\")","v":""}]
[null,null,{"$f":"IF('Veg Guide Data Base'!A1924>0,'Veg Guide Data Base'!A1924,\"\")","v":""},"","","","",{"$f":"IFERROR(INDEX($F$264:$F$888,_xlfn.AGGREGATE(15,6,(ROW($F$264:$F$888)-ROW($F$264)+1)/($F$264:$F$888<>\"\"),ROWS(H$2:H427))),\"\")","v":""},{"$f":"IFERROR(INDEX($G$264:$G$888,_xlfn.AGGREGATE(15,6,(ROW($G$264:$G$888)-ROW($G$264)+1)/($G$264:$G$888<>\"\"),ROWS(H$2:H427))),\"\")","v":""}]
[null,null,{"$f":"IF('Veg Guide Data Base'!A1925>0,'Veg Guide Data Base'!A1925,\"\")","v":""},"","","","",{"$f":"IFERROR(INDEX($F$264:$F$888,_xlfn.AGGREGATE(15,6,(ROW($F$264:$F$888)-ROW($F$264)+1)/($F$264:$F$888<>\"\"),ROWS(H$2:H428))),\"\")","v":""},{"$f":"IFERROR(INDEX($G$264:$G$888,_xlfn.AGGREGATE(15,6,(ROW($G$264:$G$888)-ROW($G$264)+1)/($G$264:$G$888<>\"\"),ROWS(H$2:H428))),\"\")","v":""}]
[null,null,{"$f":"IF('Veg Guide Data Base'!A1926>0,'Veg Guide Data Base'!A1926,\"\")","v":""},"","","","",{"$f":"IFERROR(INDEX($F$264:$F$888,_xlfn.AGGREGATE(15,6,(ROW($F$264:$F$888)-ROW($F$264)+1)/($F$264:$F$888<>\"\"),ROWS(H$2:H429))),\"\")","v":""},{"$f":"IFERROR(INDEX($G$264:$G$888,_xlfn.AGGREGATE(15,6,(ROW($G$264:$G$888)-ROW($G$264)+1)/($G$264:$G$888<>\"\"),ROWS(H$2:H429))),\"\")","v":""}]
[null,null,{"$f":"IF('Veg Guide Data Base'!A1927>0,'Veg Guide Data Base'!A1927,\"\")","v":""},"","","","",{"$f":"IFERROR(INDEX($F$264:$F$888,_xlfn.AGGREGATE(15,6,(ROW($F$264:$F$888)-ROW($F$264)+1)/($F$264:$F$888<>\"\"),ROWS(H$2:H430))),\"\")","v":""},{"$f":"IFERROR(INDEX($G$264:$G$888,_xlfn.AGGREGATE(15,6,(ROW($G$264:$G$888)-ROW($G$264)+1)/($G$264:$G$888<>\"\"),ROWS(H$2:H430))),\"\")","v":""}]
[null,null,{"$f":"IF('Veg Guide Data Base'!A1928>0,'Veg Guide Data Base'!A1928,\"\")","v":""},"","","","",{"$f":"IFERROR(INDEX($F$264:$F$888,_xlfn.AGGREGATE(15,6,(ROW($F$264:$F$888)-ROW($F$264)+1)/($F$264:$F$888<>\"\"),ROWS(H$2:H431))),\"\")","v":""},{"$f":"IFERROR(INDEX($G$264:$G$888,_xlfn.AGGREGATE(15,6,(ROW($G$264:$G$888)-ROW($G$264)+1)/($G$264:$G$888<>\"\"),ROWS(H$2:H431))),\"\")","v":""}]
[null,null,{"$f":"IF('Veg Guide Data Base'!A1929>0,'Veg Guide Data Base'!A1929,\"\")","v":""},"","","","",{"$f":"IFERROR(INDEX($F$264:$F$888,_xlfn.AGGREGATE(15,6,(ROW($F$264:$F$888)-ROW($F$264)+1)/($F$264:$F$888<>\"\"),ROWS(H$2:H432))),\"\")","v":""},{"$f":"IFERROR(INDEX($G$264:$G$888,_xlfn.AGGREGATE(15,6,(ROW($G$264:$G$888)-ROW($G$264)+1)/($G$264:$G$888<>\"\"),ROWS(H$2:H432))),\"\")","v":""}]
[null,null,{"$f":"IF('Veg Guide Data Base'!A1930>0,'Veg Guide Data Base'!A1930,\"\")","v":""},"","","","",{"$f":"IFERROR(INDEX($F$264:$F$888,_xlfn.AGGREGATE(15,6,(ROW($F$264:$F$888)-ROW($F$264)+1)/($F$264:$F$888<>\"\"),ROWS(H$2:H433))),\"\")","v":""},{"$f":"IFERROR(INDEX($G$264:$G$888,_xlfn.AGGREGATE(15,6,(ROW($G$264:$G$888)-ROW($G$264)+1)/($G$264:$G$888<>\"\"),ROWS(H$2:H433))),\"\")","v":""}]
[null,null,{"$f":"IF('Veg Guide Data Base'!A1931>0,'Veg Guide Data Base'!A1931,\"\")","v":""},"","","","",{"$f":"IFERROR(INDEX($F$264:$F$888,_xlfn.AGGREGATE(15,6,(ROW($F$264:$F$888)-ROW($F$264)+1)/($F$264:$F$888<>\"\"),ROWS(H$2:H434))),\"\")","v":""},{"$f":"IFERROR(INDEX($G$264:$G$888,_xlfn.AGGREGATE(15,6,(ROW($G$264:$G$888)-ROW($G$264)+1)/($G$264:$G$888<>\"\"),ROWS(H$2:H434))),\"\")","v":""}]
[null,null,{"$f":"IF('Veg Guide Data Base'!A1932>0,'Veg Guide Data Base'!A1932,\"\")","v":""},"","","","",{"$f":"IFERROR(INDEX($F$264:$F$888,_xlfn.AGGREGATE(15,6,(ROW($F$264:$F$888)-ROW($F$264)+1)/($F$264:$F$888<>\"\"),ROWS(H$2:H435))),\"\")","v":""},{"$f":"IFERROR(INDEX($G$264:$G$888,_xlfn.AGGREGATE(15,6,(ROW($G$264:$G$888)-ROW($G$264)+1)/($G$264:$G$888<>\"\"),ROWS(H$2:H435))),\"\")","v":""}]
[null,null,{"$f":"IF('Veg Guide Data Base'!A1933>0,'Veg Guide Data Base'!A1933,\"\")","v":""},"","","","",{"$f":"IFERROR(INDEX($F$264:$F$888,_xlfn.AGGREGATE(15,6,(ROW($F$264:$F$888)-ROW($F$264)+1)/($F$264:$F$888<>\"\"),ROWS(H$2:H436))),\"\")","v":""},{"$f":"IFERROR(INDEX($G$264:$G$888,_xlfn.AGGREGATE(15,6,(ROW($G$264:$G$888)-ROW($G$264)+1)/($G$264:$G$888<>\"\"),ROWS(H$2:H436))),\"\")","v":""}]
[null,null,{"$f":"IF('Veg Guide Data Base'!A1934>0,'Veg Guide Data Base'!A1934,\"\")","v":""},"","","","",{"$f":"IFERROR(INDEX($F$264:$F$888,_xlfn.AGGREGATE(15,6,(ROW($F$264:$F$888)-ROW($F$264)+1)/($F$264:$F$888<>\"\"),ROWS(H$2:H437))),\"\")","v":""},{"$f":"IFERROR(INDEX($G$264:$G$888,_xlfn.AGGREGATE(15,6,(ROW($G$264:$G$888)-ROW($G$264)+1)/($G$264:$G$888<>\"\"),ROWS(H$2:H437))),\"\")","v":""}]
[null,null,{"$f":"IF('Veg Guide Data Base'!A1935>0,'Veg Guide Data Base'!A1935,\"\")","v":""},"","","","",{"$f":"IFERROR(INDEX($F$264:$F$888,_xlfn.AGGREGATE(15,6,(ROW($F$264:$F$888)-ROW($F$264)+1)/($F$264:$F$888<>\"\"),ROWS(H$2:H438))),\"\")","v":""},{"$f":"IFERROR(INDEX($G$264:$G$888,_xlfn.AGGREGATE(15,6,(ROW($G$264:$G$888)-ROW($G$264)+1)/($G$264:$G$888<>\"\"),ROWS(H$2:H438))),\"\")","v":""}]
[null,null,{"$f":"IF('Veg Guide Data Base'!A1936>0,'Veg Guide Data Base'!A1936,\"\")","v":""},"","","","",{"$f":"IFERROR(INDEX($F$264:$F$888,_xlfn.AGGREGATE(15,6,(ROW($F$264:$F$888)-ROW($F$264)+1)/($F$264:$F$888<>\"\"),ROWS(H$2:H439))),\"\")","v":""},{"$f":"IFERROR(INDEX($G$264:$G$888,_xlfn.AGGREGATE(15,6,(ROW($G$264:$G$888)-ROW($G$264)+1)/($G$264:$G$888<>\"\"),ROWS(H$2:H439))),\"\")","v":""}]
[null,null,{"$f":"IF('Veg Guide Data Base'!A1937>0,'Veg Guide Data Base'!A1937,\"\")","v":""},"","","","",{"$f":"IFERROR(INDEX($F$264:$F$888,_xlfn.AGGREGATE(15,6,(ROW($F$264:$F$888)-ROW($F$264)+1)/($F$264:$F$888<>\"\"),ROWS(H$2:H440))),\"\")","v":""},{"$f":"IFERROR(INDEX($G$264:$G$888,_xlfn.AGGREGATE(15,6,(ROW($G$264:$G$888)-ROW($G$264)+1)/($G$264:$G$888<>\"\"),ROWS(H$2:H440))),\"\")","v":""}]
[null,null,{"$f":"IF('Veg Guide Data Base'!A1938>0,'Veg Guide Data Base'!A1938,\"\")","v":""},"","","","",{"$f":"IFERROR(INDEX($F$264:$F$888,_xlfn.AGGREGATE(15,6,(ROW($F$264:$F$888)-ROW($F$264)+1)/($F$264:$F$888<>\"\"),ROWS(H$2:H441))),\"\")","v":""},{"$f":"IFERROR(INDEX($G$264:$G$888,_xlfn.AGGREGATE(15,6,(ROW($G$264:$G$888)-ROW($G$264)+1)/($G$264:$G$888<>\"\"),ROWS(H$2:H441))),\"\")","v":""}]
[null,null,{"$f":"IF('Veg Guide Data Base'!A1939>0,'Veg Guide Data Base'!A1939,\"\")","v":""},"","","","",{"$f":"IFERROR(INDEX($F$264:$F$888,_xlfn.AGGREGATE(15,6,(ROW($F$264:$F$888)-ROW($F$264)+1)/($F$264:$F$888<>\"\"),ROWS(H$2:H442))),\"\")","v":""},{"$f":"IFERROR(INDEX($G$264:$G$888,_xlfn.AGGREGATE(15,6,(ROW($G$264:$G$888)-ROW($G$264)+1)/($G$264:$G$888<>\"\"),ROWS(H$2:H442))),\"\")","v":""}]
[null,null,{"$f":"IF('Veg Guide Data Base'!A1940>0,'Veg Guide Data Base'!A1940,\"\")","v":""},"","","","",{"$f":"IFERROR(INDEX($F$264:$F$888,_xlfn.AGGREGATE(15,6,(ROW($F$264:$F$888)-ROW($F$264)+1)/($F$264:$F$888<>\"\"),ROWS(H$2:H443))),\"\")","v":""},{"$f":"IFERROR(INDEX($G$264:$G$888,_xlfn.AGGREGATE(15,6,(ROW($G$264:$G$888)-ROW($G$264)+1)/($G$264:$G$888<>\"\"),ROWS(H$2:H443))),\"\")","v":""}]
[null,null,{"$f":"IF('Veg Guide Data Base'!A1941>0,'Veg Guide Data Base'!A1941,\"\")","v":""},"","","","",{"$f":"IFERROR(INDEX($F$264:$F$888,_xlfn.AGGREGATE(15,6,(ROW($F$264:$F$888)-ROW($F$264)+1)/($F$264:$F$888<>\"\"),ROWS(H$2:H444))),\"\")","v":""},{"$f":"IFERROR(INDEX($G$264:$G$888,_xlfn.AGGREGATE(15,6,(ROW($G$264:$G$888)-ROW($G$264)+1)/($G$264:$G$888<>\"\"),ROWS(H$2:H444))),\"\")","v":""}]
[null,null,{"$f":"IF('Veg Guide Data Base'!A1942>0,'Veg Guide Data Base'!A1942,\"\")","v":""},"","","","",{"$f":"IFERROR(INDEX($F$264:$F$888,_xlfn.AGGREGATE(15,6,(ROW($F$264:$F$888)-ROW($F$264)+1)/($F$264:$F$888<>\"\"),ROWS(H$2:H445))),\"\")","v":""},{"$f":"IFERROR(INDEX($G$264:$G$888,_xlfn.AGGREGATE(15,6,(ROW($G$264:$G$888)-ROW($G$264)+1)/($G$264:$G$888<>\"\"),ROWS(H$2:H445))),\"\")","v":""}]
[null,null,{"$f":"IF('Veg Guide Data Base'!A1943>0,'Veg Guide Data Base'!A1943,\"\")","v":""},"","","","",{"$f":"IFERROR(INDEX($F$264:$F$888,_xlfn.AGGREGATE(15,6,(ROW($F$264:$F$888)-ROW($F$264)+1)/($F$264:$F$888<>\"\"),ROWS(H$2:H446))),\"\")","v":""},{"$f":"IFERROR(INDEX($G$264:$G$888,_xlfn.AGGREGATE(15,6,(ROW($G$264:$G$888)-ROW($G$264)+1)/($G$264:$G$888<>\"\"),ROWS(H$2:H446))),\"\")","v":""}]
[null,null,{"$f":"IF('Veg Guide Data Base'!A1944>0,'Veg Guide Data Base'!A1944,\"\")","v":""},"","","","",{"$f":"IFERROR(INDEX($F$264:$F$888,_xlfn.AGGREGATE(15,6,(ROW($F$264:$F$888)-ROW($F$264)+1)/($F$264:$F$888<>\"\"),ROWS(H$2:H447))),\"\")","v":""},{"$f":"IFERROR(INDEX($G$264:$G$888,_xlfn.AGGREGATE(15,6,(ROW($G$264:$G$888)-ROW($G$264)+1)/($G$264:$G$888<>\"\"),ROWS(H$2:H447))),\"\")","v":""}]
[null,null,{"$f":"IF('Veg Guide Data Base'!A1945>0,'Veg Guide Data Base'!A1945,\"\")","v":""},"","","","",{"$f":"IFERROR(INDEX($F$264:$F$888,_xlfn.AGGREGATE(15,6,(ROW($F$264:$F$888)-ROW($F$264)+1)/($F$264:$F$888<>\"\"),ROWS(H$2:H448))),\"\")","v":""},{"$f":"IFERROR(INDEX($G$264:$G$888,_xlfn.AGGREGATE(15,6,(ROW($G$264:$G$888)-ROW($G$264)+1)/($G$264:$G$888<>\"\"),ROWS(H$2:H448))),\"\")","v":""}]
[null,null,{"$f":"IF('Veg Guide Data Base'!A1946>0,'Veg Guide Data Base'!A1946,\"\")","v":""},"","","","",{"$f":"IFERROR(INDEX($F$264:$F$888,_xlfn.AGGREGATE(15,6,(ROW($F$264:$F$888)-ROW($F$264)+1)/($F$264:$F$888<>\"\"),ROWS(H$2:H449))),\"\")","v":""},{"$f":"IFERROR(INDEX($G$264:$G$888,_xlfn.AGGREGATE(15,6,(ROW($G$264:$G$888)-ROW($G$264)+1)/($G$264:$G$888<>\"\"),ROWS(H$2:H449))),\"\")","v":""}]
[null,null,{"$f":"IF('Veg Guide Data Base'!A1947>0,'Veg Guide Data Base'!A1947,\"\")","v":""},"","","","",{"$f":"IFERROR(INDEX($F$264:$F$888,_xlfn.AGGREGATE(15,6,(ROW($F$264:$F$888)-ROW($F$264)+1)/($F$264:$F$888<>\"\"),ROWS(H$2:H450))),\"\")","v":""},{"$f":"IFERROR(INDEX($G$264:$G$888,_xlfn.AGGREGATE(15,6,(ROW($G$264:$G$888)-ROW($G$264)+1)/($G$264:$G$888<>\"\"),ROWS(H$2:H450))),\"\")","v":""}]
[null,null,{"$f":"IF('Veg Guide Data Base'!A1948>0,'Veg Guide Data Base'!A1948,\"\")","v":""},"","",{"$f":"IF(E713=\"Tree\",C713,\"\")","v":""},{"$f":"IF(OR(E713=\"Shrub\",E713=\"Vine-woody\"),C713,\"\")","v":""},{"$f":"IFERROR(INDEX($F$264:$F$888,_xlfn.AGGREGATE(15,6,(ROW($F$264:$F$888)-ROW($F$264)+1)/($F$264:$F$888<>\"\"),ROWS(H$2:H451))),\"\")","v":""},{"$f":"IFERROR(INDEX($G$264:$G$888,_xlfn.AGGREGATE(15,6,(ROW($G$264:$G$888)-ROW($G$264)+1)/($G$264:$G$888<>\"\"),ROWS(H$2:H451))),\"\")","v":""}]
[null,null,{"$f":"IF('Veg Guide Data Base'!A1949>0,'Veg Guide Data Base'!A1949,\"\")","v":""},"","","","",{"$f":"IFERROR(INDEX($F$264:$F$888,_xlfn.AGGREGATE(15,6,(ROW($F$264:$F$888)-ROW($F$264)+1)/($F$264:$F$888<>\"\"),ROWS(H$2:H452))),\"\")","v":""},{"$f":"IFERROR(INDEX($G$264:$G$888,_xlfn.AGGREGATE(15,6,(ROW($G$264:$G$888)-ROW($G$264)+1)/($G$264:$G$888<>\"\"),ROWS(H$2:H452))),\"\")","v":""}]
[]
[null,null,null,null,null,null,null,null,{"$f":"IFERROR(INDEX($G$264:$G$888,_xlfn.AGGREGATE(15,6,(ROW($G$264:$G$888)-ROW($G$264)+1)/($G$264:$G$888<>\"\"),ROWS(H$2:H454))),\"\")","v":""}]
[null,null,null,null,null,null,null,null,{"$f":"IFERROR(INDEX($G$264:$G$888,_xlfn.AGGREGATE(15,6,(ROW($G$264:$G$888)-ROW($G$264)+1)/($G$264:$G$888<>\"\"),ROWS(H$2:H455))),\"\")","v":""}]
[null,null,null,null,null,null,null,null,{"$f":"IFERROR(INDEX($G$264:$G$888,_xlfn.AGGREGATE(15,6,(ROW($G$264:$G$888)-ROW($G$264)+1)/($G$264:$G$888<>\"\"),ROWS(H$2:H456))),\"\")","v":""}]
[null,null,null,null,null,null,null,null,{"$f":"IFERROR(INDEX($G$264:$G$888,_xlfn.AGGREGATE(15,6,(ROW($G$264:$G$888)-ROW($G$264)+1)/($G$264:$G$888<>\"\"),ROWS(H$2:H457))),\"\")","v":""}]
[null,null,null,null,null,null,null,null,{"$f":"IFERROR(INDEX($G$264:$G$888,_xlfn.AGGREGATE(15,6,(ROW($G$264:$G$888)-ROW($G$264)+1)/($G$264:$G$888<>\"\"),ROWS(H$2:H458))),\"\")","v":""}]
[null,null,null,null,null,null,null,null,{"$f":"IFERROR(INDEX($G$264:$G$888,_xlfn.AGGREGATE(15,6,(ROW($G$264:$G$888)-ROW($G$264)+1)/($G$264:$G$888<>\"\"),ROWS(H$2:H459))),\"\")","v":""}]
[null,null,null,null,null,null,null,null,{"$f":"IFERROR(INDEX($G$264:$G$888,_xlfn.AGGREGATE(15,6,(ROW($G$264:$G$888)-ROW($G$264)+1)/($G$264:$G$888<>\"\"),ROWS(H$2:H460))),\"\")","v":""}]
[null,null,null,null,null,null,null,null,{"$f":"IFERROR(INDEX($G$264:$G$888,_xlfn.AGGREGATE(15,6,(ROW($G$264:$G$888)-ROW($G$264)+1)/($G$264:$G$888<>\"\"),ROWS(H$2:H461))),\"\")","v":""}]
[null,null,null,null,null,null,null,null,{"$f":"IFERROR(INDEX($G$264:$G$888,_xlfn.AGGREGATE(15,6,(ROW($G$264:$G$888)-ROW($G$264)+1)/($G$264:$G$888<>\"\"),ROWS(H$2:H462))),\"\")","v":""}]
[null,null,null,null,null,null,null,null,{"$f":"IFERROR(INDEX($G$264:$G$888,_xlfn.AGGREGATE(15,6,(ROW($G$264:$G$888)-ROW($G$264)+1)/($G$264:$G$888<>\"\"),ROWS(H$2:H463))),\"\")","v":""}]
[null,null,null,null,null,null,null,null,{"$f":"IFERROR(INDEX($G$264:$G$888,_xlfn.AGGREGATE(15,6,(ROW($G$264:$G$888)-ROW($G$264)+1)/($G$264:$G$888<>\"\"),ROWS(H$2:H464))),\"\")","v":""}]
[null,null,null,null,null,null,null,null,{"$f":"IFERROR(INDEX($G$264:$G$888,_xlfn.AGGREGATE(15,6,(ROW($G$264:$G$888)-ROW($G$264)+1)/($G$264:$G$888<>\"\"),ROWS(H$2:H465))),\"\")","v":""}]
[null,null,null,null,null,null,null,null,{"$f":"IFERROR(INDEX($G$264:$G$888,_xlfn.AGGREGATE(15,6,(ROW($G$264:$G$888)-ROW($G$264)+1)/($G$264:$G$888<>\"\"),ROWS(H$2:H466))),\"\")","v":""}]
[null,null,null,null,null,null,null,null,{"$f":"IFERROR(INDEX($G$264:$G$888,_xlfn.AGGREGATE(15,6,(ROW($G$264:$G$888)-ROW($G$264)+1)/($G$264:$G$888<>\"\"),ROWS(H$2:H467))),\"\")","v":""}]
[null,null,null,null,null,null,null,null,{"$f":"IFERROR(INDEX($G$264:$G$888,_xlfn.AGGREGATE(15,6,(ROW($G$264:$G$888)-ROW($G$264)+1)/($G$264:$G$888<>\"\"),ROWS(H$2:H468))),\"\")","v":""}]
[null,null,null,null,null,null,null,null,{"$f":"IFERROR(INDEX($G$264:$G$888,_xlfn.AGGREGATE(15,6,(ROW($G$264:$G$888)-ROW($G$264)+1)/($G$264:$G$888<>\"\"),ROWS(H$2:H469))),\"\")","v":""}]
[null,null,null,null,null,null,null,null,{"$f":"IFERROR(INDEX($G$264:$G$888,_xlfn.AGGREGATE(15,6,(ROW($G$264:$G$888)-ROW($G$264)+1)/($G$264:$G$888<>\"\"),ROWS(H$2:H470))),\"\")","v":""}]
[null,null,null,null,null,null,null,null,{"$f":"IFERROR(INDEX($G$264:$G$888,_xlfn.AGGREGATE(15,6,(ROW($G$264:$G$888)-ROW($G$264)+1)/($G$264:$G$888<>\"\"),ROWS(H$2:H471))),\"\")","v":""}]
[null,null,null,null,null,null,null,null,{"$f":"IFERROR(INDEX($G$264:$G$888,_xlfn.AGGREGATE(15,6,(ROW($G$264:$G$888)-ROW($G$264)+1)/($G$264:$G$888<>\"\"),ROWS(H$2:H472))),\"\")","v":""}]
[null,null,null,null,null,null,null,null,{"$f":"IFERROR(INDEX($G$264:$G$888,_xlfn.AGGREGATE(15,6,(ROW($G$264:$G$888)-ROW($G$264)+1)/($G$264:$G$888<>\"\"),ROWS(H$2:H473))),\"\")","v":""}]
[null,null,null,null,null,null,null,null,{"$f":"IFERROR(INDEX($G$264:$G$888,_xlfn.AGGREGATE(15,6,(ROW($G$264:$G$888)-ROW($G$264)+1)/($G$264:$G$888<>\"\"),ROWS(H$2:H474))),\"\")","v":""}]
[null,null,null,null,null,null,null,null,{"$f":"IFERROR(INDEX($G$264:$G$888,_xlfn.AGGREGATE(15,6,(ROW($G$264:$G$888)-ROW($G$264)+1)/($G$264:$G$888<>\"\"),ROWS(H$2:H475))),\"\")","v":""}]
[null,null,null,null,null,null,null,null,{"$f":"IFERROR(INDEX($G$264:$G$888,_xlfn.AGGREGATE(15,6,(ROW($G$264:$G$888)-ROW($G$264)+1)/($G$264:$G$888<>\"\"),ROWS(H$2:H476))),\"\")","v":""}]
[null,null,null,null,null,null,null,null,{"$f":"IFERROR(INDEX($G$264:$G$888,_xlfn.AGGREGATE(15,6,(ROW($G$264:$G$888)-ROW($G$264)+1)/($G$264:$G$888<>\"\"),ROWS(H$2:H477))),\"\")","v":""}]
[null,null,null,null,null,null,null,null,{"$f":"IFERROR(INDEX($G$264:$G$888,_xlfn.AGGREGATE(15,6,(ROW($G$264:$G$888)-ROW($G$264)+1)/($G$264:$G$888<>\"\"),ROWS(H$2:H478))),\"\")","v":""}]
[null,null,null,null,null,null,null,null,{"$f":"IFERROR(INDEX($G$264:$G$888,_xlfn.AGGREGATE(15,6,(ROW($G$264:$G$888)-ROW($G$264)+1)/($G$264:$G$888<>\"\"),ROWS(H$2:H479))),\"\")","v":""}]
[null,null,null,null,null,null,null,null,{"$f":"IFERROR(INDEX($G$264:$G$888,_xlfn.AGGREGATE(15,6,(ROW($G$264:$G$888)-ROW($G$264)+1)/($G$264:$G$888<>\"\"),ROWS(H$2:H480))),\"\")","v":""}]
[null,null,null,null,null,null,null,null,{"$f":"IFERROR(INDEX($G$264:$G$888,_xlfn.AGGREGATE(15,6,(ROW($G$264:$G$888)-ROW($G$264)+1)/($G$264:$G$888<>\"\"),ROWS(H$2:H481))),\"\")","v":""}]
[null,null,null,null,null,null,null,null,{"$f":"IFERROR(INDEX($G$264:$G$888,_xlfn.AGGREGATE(15,6,(ROW($G$264:$G$888)-ROW($G$264)+1)/($G$264:$G$888<>\"\"),ROWS(H$2:H482))),\"\")","v":""}]
[null,null,null,null,null,null,null,null,{"$f":"IFERROR(INDEX($G$264:$G$888,_xlfn.AGGREGATE(15,6,(ROW($G$264:$G$888)-ROW($G$264)+1)/($G$264:$G$888<>\"\"),ROWS(H$2:H483))),\"\")","v":""}]
[null,null,null,null,null,null,null,null,{"$f":"IFERROR(INDEX($G$264:$G$888,_xlfn.AGGREGATE(15,6,(ROW($G$264:$G$888)-ROW($G$264)+1)/($G$264:$G$888<>\"\"),ROWS(H$2:H484))),\"\")","v":""}]
[null,null,null,null,null,null,null,null,{"$f":"IFERROR(INDEX($G$264:$G$888,_xlfn.AGGREGATE(15,6,(ROW($G$264:$G$888)-ROW($G$264)+1)/($G$264:$G$888<>\"\"),ROWS(H$2:H485))),\"\")","v":""}]
[null,null,null,null,null,null,null,null,{"$f":"IFERROR(INDEX($G$264:$G$888,_xlfn.AGGREGATE(15,6,(ROW($G$264:$G$888)-ROW($G$264)+1)/($G$264:$G$888<>\"\"),ROWS(H$2:H486))),\"\")","v":""}]
[null,null,null,null,null,null,null,null,{"$f":"IFERROR(INDEX($G$264:$G$888,_xlfn.AGGREGATE(15,6,(ROW($G$264:$G$888)-ROW($G$264)+1)/($G$264:$G$888<>\"\"),ROWS(H$2:H487))),\"\")","v":""}]
[null,null,null,null,null,null,null,null,{"$f":"IFERROR(INDEX($G$264:$G$888,_xlfn.AGGREGATE(15,6,(ROW($G$264:$G$888)-ROW($G$264)+1)/($G$264:$G$888<>\"\"),ROWS(H$2:H488))),\"\")","v":""}]
[null,null,null,null,null,null,null,null,{"$f":"IFERROR(INDEX($G$264:$G$888,_xlfn.AGGREGATE(15,6,(ROW($G$264:$G$888)-ROW($G$264)+1)/($G$264:$G$888<>\"\"),ROWS(H$2:H489))),\"\")","v":""}]
[null,null,null,null,null,null,null,null,{"$f":"IFERROR(INDEX($G$264:$G$888,_xlfn.AGGREGATE(15,6,(ROW($G$264:$G$888)-ROW($G$264)+1)/($G$264:$G$888<>\"\"),ROWS(H$2:H490))),\"\")","v":""}]
[null,null,null,null,null,null,null,null,{"$f":"IFERROR(INDEX($G$264:$G$888,_xlfn.AGGREGATE(15,6,(ROW($G$264:$G$888)-ROW($G$264)+1)/($G$264:$G$888<>\"\"),ROWS(H$2:H491))),\"\")","v":""}]
[null,null,null,null,null,null,null,null,{"$f":"IFERROR(INDEX($G$264:$G$888,_xlfn.AGGREGATE(15,6,(ROW($G$264:$G$888)-ROW($G$264)+1)/($G$264:$G$888<>\"\"),ROWS(H$2:H492))),\"\")","v":""}]
[null,null,null,null,null,null,null,null,{"$f":"IFERROR(INDEX($G$264:$G$888,_xlfn.AGGREGATE(15,6,(ROW($G$264:$G$888)-ROW($G$264)+1)/($G$264:$G$888<>\"\"),ROWS(H$2:H493))),\"\")","v":""}]
[null,null,null,null,null,null,null,null,{"$f":"IFERROR(INDEX($G$264:$G$888,_xlfn.AGGREGATE(15,6,(ROW($G$264:$G$888)-ROW($G$264)+1)/($G$264:$G$888<>\"\"),ROWS(H$2:H494))),\"\")","v":""}]
[null,null,null,null,null,null,null,null,{"$f":"IFERROR(INDEX($G$264:$G$888,_xlfn.AGGREGATE(15,6,(ROW($G$264:$G$888)-ROW($G$264)+1)/($G$264:$G$888<>\"\"),ROWS(H$2:H495))),\"\")","v":""}]
[null,null,null,null,null,null,null,null,{"$f":"IFERROR(INDEX($G$264:$G$888,_xlfn.AGGREGATE(15,6,(ROW($G$264:$G$888)-ROW($G$264)+1)/($G$264:$G$888<>\"\"),ROWS(H$2:H496))),\"\")","v":""}]
[null,null,null,null,null,null,null,null,{"$f":"IFERROR(INDEX($G$264:$G$888,_xlfn.AGGREGATE(15,6,(ROW($G$264:$G$888)-ROW($G$264)+1)/($G$264:$G$888<>\"\"),ROWS(H$2:H497))),\"\")","v":""}]
[null,null,null,null,null,null,null,null,{"$f":"IFERROR(INDEX($G$264:$G$888,_xlfn.AGGREGATE(15,6,(ROW($G$264:$G$888)-ROW($G$264)+1)/($G$264:$G$888<>\"\"),ROWS(H$2:H498))),\"\")","v":""}]
[null,null,null,null,null,null,null,null,{"$f":"IFERROR(INDEX($G$264:$G$888,_xlfn.AGGREGATE(15,6,(ROW($G$264:$G$888)-ROW($G$264)+1)/($G$264:$G$888<>\"\"),ROWS(H$2:H499))),\"\")","v":""}]
[null,null,null,null,null,null,null,null,{"$f":"IFERROR(INDEX($G$264:$G$888,_xlfn.AGGREGATE(15,6,(ROW($G$264:$G$888)-ROW($G$264)+1)/($G$264:$G$888<>\"\"),ROWS(H$2:H500))),\"\")","v":""}]
[null,null,null,null,null,null,null,null,{"$f":"IFERROR(INDEX($G$264:$G$888,_xlfn.AGGREGATE(15,6,(ROW($G$264:$G$888)-ROW($G$264)+1)/($G$264:$G$888<>\"\"),ROWS(H$2:H501))),\"\")","v":""}]
[null,null,null,null,null,null,null,null,{"$f":"IFERROR(INDEX($G$264:$G$888,_xlfn.AGGREGATE(15,6,(ROW($G$264:$G$888)-ROW($G$264)+1)/($G$264:$G$888<>\"\"),ROWS(H$2:H502))),\"\")","v":""}]
[null,null,null,null,null,null,null,null,{"$f":"IFERROR(INDEX($G$264:$G$888,_xlfn.AGGREGATE(15,6,(ROW($G$264:$G$888)-ROW($G$264)+1)/($G$264:$G$888<>\"\"),ROWS(H$2:H503))),\"\")","v":""}]
[null,null,null,null,null,null,null,null,{"$f":"IFERROR(INDEX($G$264:$G$888,_xlfn.AGGREGATE(15,6,(ROW($G$264:$G$888)-ROW($G$264)+1)/($G$264:$G$888<>\"\"),ROWS(H$2:H504))),\"\")","v":""}]
[null,null,null,null,null,null,null,null,{"$f":"IFERROR(INDEX($G$264:$G$888,_xlfn.AGGREGATE(15,6,(ROW($G$264:$G$888)-ROW($G$264)+1)/($G$264:$G$888<>\"\"),ROWS(H$2:H505))),\"\")","v":""}]
[null,null,null,null,null,null,null,null,{"$f":"IFERROR(INDEX($G$264:$G$888,_xlfn.AGGREGATE(15,6,(ROW($G$264:$G$888)-ROW($G$264)+1)/($G$264:$G$888<>\"\"),ROWS(H$2:H506))),\"\")","v":""}]
[null,null,null,null,null,null,null,null,{"$f":"IFERROR(INDEX($G$264:$G$888,_xlfn.AGGREGATE(15,6,(ROW($G$264:$G$888)-ROW($G$264)+1)/($G$264:$G$888<>\"\"),ROWS(H$2:H507))),\"\")","v":""}]
[null,null,null,null,null,null,null,null,{"$f":"IFERROR(INDEX($G$264:$G$888,_xlfn.AGGREGATE(15,6,(ROW($G$264:$G$888)-ROW($G$264)+1)/($G$264:$G$888<>\"\"),ROWS(H$2:H508))),\"\")","v":""}]
[null,null,null,null,null,null,null,null,{"$f":"IFERROR(INDEX($G$264:$G$888,_xlfn.AGGREGATE(15,6,(ROW($G$264:$G$888)-ROW($G$264)+1)/($G$264:$G$888<>\"\"),ROWS(H$2:H509))),\"\")","v":""}]
[null,null,null,null,null,null,null,null,{"$f":"IFERROR(INDEX($G$264:$G$888,_xlfn.AGGREGATE(15,6,(ROW($G$264:$G$888)-ROW($G$264)+1)/($G$264:$G$888<>\"\"),ROWS(H$2:H510))),\"\")","v":""}]
[null,null,null,null,null,null,null,null,{"$f":"IFERROR(INDEX($G$264:$G$888,_xlfn.AGGREGATE(15,6,(ROW($G$264:$G$888)-ROW($G$264)+1)/($G$264:$G$888<>\"\"),ROWS(H$2:H511))),\"\")","v":""}]
[null,null,null,null,null,null,null,null,{"$f":"IFERROR(INDEX($G$264:$G$888,_xlfn.AGGREGATE(15,6,(ROW($G$264:$G$888)-ROW($G$264)+1)/($G$264:$G$888<>\"\"),ROWS(H$2:H512))),\"\")","v":""}]
[null,null,null,null,null,null,null,null,{"$f":"IFERROR(INDEX($G$264:$G$888,_xlfn.AGGREGATE(15,6,(ROW($G$264:$G$888)-ROW($G$264)+1)/($G$264:$G$888<>\"\"),ROWS(H$2:H513))),\"\")","v":""}]
[null,null,null,null,null,null,null,null,{"$f":"IFERROR(INDEX($G$264:$G$888,_xlfn.AGGREGATE(15,6,(ROW($G$264:$G$888)-ROW($G$264)+1)/($G$264:$G$888<>\"\"),ROWS(H$2:H514))),\"\")","v":""}]
[null,null,null,null,null,null,null,null,{"$f":"IFERROR(INDEX($G$264:$G$888,_xlfn.AGGREGATE(15,6,(ROW($G$264:$G$888)-ROW($G$264)+1)/($G$264:$G$888<>\"\"),ROWS(H$2:H515))),\"\")","v":""}]
[null,null,null,null,null,null,null,null,{"$f":"IFERROR(INDEX($G$264:$G$888,_xlfn.AGGREGATE(15,6,(ROW($G$264:$G$888)-ROW($G$264)+1)/($G$264:$G$888<>\"\"),ROWS(H$2:H516))),\"\")","v":""}]
[null,null,null,null,null,null,null,null,{"$f":"IFERROR(INDEX($G$264:$G$888,_xlfn.AGGREGATE(15,6,(ROW($G$264:$G$888)-ROW($G$264)+1)/($G$264:$G$888<>\"\"),ROWS(H$2:H517))),\"\")","v":""}]
[null,null,null,null,null,null,null,null,{"$f":"IFERROR(INDEX($G$264:$G$888,_xlfn.AGGREGATE(15,6,(ROW($G$264:$G$888)-ROW($G$264)+1)/($G$264:$G$888<>\"\"),ROWS(H$2:H518))),\"\")","v":""}]
[null,null,null,null,null,null,null,null,{"$f":"IFERROR(INDEX($G$264:$G$888,_xlfn.AGGREGATE(15,6,(ROW($G$264:$G$888)-ROW($G$264)+1)/($G$264:$G$888<>\"\"),ROWS(H$2:H519))),\"\")","v":""}]
[null,null,null,null,null,null,null,null,{"$f":"IFERROR(INDEX($G$264:$G$888,_xlfn.AGGREGATE(15,6,(ROW($G$264:$G$888)-ROW($G$264)+1)/($G$264:$G$888<>\"\"),ROWS(H$2:H520))),\"\")","v":""}]
[null,null,null,null,null,null,null,null,{"$f":"IFERROR(INDEX($G$264:$G$888,_xlfn.AGGREGATE(15,6,(ROW($G$264:$G$888)-ROW($G$264)+1)/($G$264:$G$888<>\"\"),ROWS(H$2:H521))),\"\")","v":""}]
[null,null,null,null,null,null,null,null,{"$f":"IFERROR(INDEX($G$264:$G$888,_xlfn.AGGREGATE(15,6,(ROW($G$264:$G$888)-ROW($G$264)+1)/($G$264:$G$888<>\"\"),ROWS(H$2:H522))),\"\")","v":""}]
[null,null,null,null,null,null,null,null,{"$f":"IFERROR(INDEX($G$264:$G$888,_xlfn.AGGREGATE(15,6,(ROW($G$264:$G$888)-ROW($G$264)+1)/($G$264:$G$888<>\"\"),ROWS(H$2:H523))),\"\")","v":""}]
[null,null,null,null,null,null,null,null,{"$f":"IFERROR(INDEX($G$264:$G$888,_xlfn.AGGREGATE(15,6,(ROW($G$264:$G$888)-ROW($G$264)+1)/($G$264:$G$888<>\"\"),ROWS(H$2:H524))),\"\")","v":""}]
[null,null,null,null,null,null,null,null,{"$f":"IFERROR(INDEX($G$264:$G$888,_xlfn.AGGREGATE(15,6,(ROW($G$264:$G$888)-ROW($G$264)+1)/($G$264:$G$888<>\"\"),ROWS(H$2:H525))),\"\")","v":""}]
[null,null,null,null,null,null,null,null,{"$f":"IFERROR(INDEX($G$264:$G$888,_xlfn.AGGREGATE(15,6,(ROW($G$264:$G$888)-ROW($G$264)+1)/($G$264:$G$888<>\"\"),ROWS(H$2:H526))),\"\")","v":""}]
[null,null,null,null,null,null,null,null,{"$f":"IFERROR(INDEX($G$264:$G$888,_xlfn.AGGREGATE(15,6,(ROW($G$264:$G$888)-ROW($G$264)+1)/($G$264:$G$888<>\"\"),ROWS(H$2:H527))),\"\")","v":""}]
[null,null,null,null,null,null,null,null,{"$f":"IFERROR(INDEX($G$264:$G$888,_xlfn.AGGREGATE(15,6,(ROW($G$264:$G$888)-ROW($G$264)+1)/($G$264:$G$888<>\"\"),ROWS(H$2:H528))),\"\")","v":""}]
[null,null,null,null,null,null,null,null,{"$f":"IFERROR(INDEX($G$264:$G$888,_xlfn.AGGREGATE(15,6,(ROW($G$264:$G$888)-ROW($G$264)+1)/($G$264:$G$888<>\"\"),ROWS(H$2:H529))),\"\")","v":""}]
[null,null,null,null,null,null,null,null,{"$f":"IFERROR(INDEX($G$264:$G$888,_xlfn.AGGREGATE(15,6,(ROW($G$264:$G$888)-ROW($G$264)+1)/($G$264:$G$888<>\"\"),ROWS(H$2:H530))),\"\")","v":""}]
[null,null,null,null,null,null,null,null,{"$f":"IFERROR(INDEX($G$264:$G$888,_xlfn.AGGREGATE(15,6,(ROW($G$264:$G$888)-ROW($G$264)+1)/($G$264:$G$888<>\"\"),ROWS(H$2:H531))),\"\")","v":""}]
[null,null,null,null,null,null,null,null,{"$f":"IFERROR(INDEX($G$264:$G$888,_xlfn.AGGREGATE(15,6,(ROW($G$264:$G$888)-ROW($G$264)+1)/($G$264:$G$888<>\"\"),ROWS(H$2:H532))),\"\")","v":""}]
[null,null,null,null,null,null,null,null,{"$f":"IFERROR(INDEX($G$264:$G$888,_xlfn.AGGREGATE(15,6,(ROW($G$264:$G$888)-ROW($G$264)+1)/($G$264:$G$888<>\"\"),ROWS(H$2:H533))),\"\")","v":""}]
[null,null,null,null,null,null,null,null,{"$f":"IFERROR(INDEX($G$264:$G$888,_xlfn.AGGREGATE(15,6,(ROW($G$264:$G$888)-ROW($G$264)+1)/($G$264:$G$888<>\"\"),ROWS(H$2:H534))),\"\")","v":""}]
[null,null,null,null,null,null,null,null,{"$f":"IFERROR(INDEX($G$264:$G$888,_xlfn.AGGREGATE(15,6,(ROW($G$264:$G$888)-ROW($G$264)+1)/($G$264:$G$888<>\"\"),ROWS(H$2:H535))),\"\")","v":""}]
[null,null,null,null,null,null,null,null,{"$f":"IFERROR(INDEX($G$264:$G$888,_xlfn.AGGREGATE(15,6,(ROW($G$264:$G$888)-ROW($G$264)+1)/($G$264:$G$888<>\"\"),ROWS(H$2:H536))),\"\")","v":""}]
[null,null,null,null,null,null,null,null,{"$f":"IFERROR(INDEX($G$264:$G$888,_xlfn.AGGREGATE(15,6,(ROW($G$264:$G$888)-ROW($G$264)+1)/($G$264:$G$888<>\"\"),ROWS(H$2:H537))),\"\")","v":""}]
[null,null,null,null,null,null,null,null,{"$f":"IFERROR(INDEX($G$264:$G$888,_xlfn.AGGREGATE(15,6,(ROW($G$264:$G$888)-ROW($G$264)+1)/($G$264:$G$888<>\"\"),ROWS(H$2:H538))),\"\")","v":""}]
[null,null,null,null,null,null,null,null,{"$f":"IFERROR(INDEX($G$264:$G$888,_xlfn.AGGREGATE(15,6,(ROW($G$264:$G$888)-ROW($G$264)+1)/($G$264:$G$888<>\"\"),ROWS(H$2:H539))),\"\")","v":""}]
[null,null,null,null,null,null,null,null,{"$f":"IFERROR(INDEX($G$264:$G$888,_xlfn.AGGREGATE(15,6,(ROW($G$264:$G$888)-ROW($G$264)+1)/($G$264:$G$888<>\"\"),ROWS(H$2:H540))),\"\")","v":""}]
[null,null,null,null,null,null,null,null,{"$f":"IFERROR(INDEX($G$264:$G$888,_xlfn.AGGREGATE(15,6,(ROW($G$264:$G$888)-ROW($G$264)+1)/($G$264:$G$888<>\"\"),ROWS(H$2:H541))),\"\")","v":""}]
[null,null,null,null,null,null,null,null,{"$f":"IFERROR(INDEX($G$264:$G$888,_xlfn.AGGREGATE(15,6,(ROW($G$264:$G$888)-ROW($G$264)+1)/($G$264:$G$888<>\"\"),ROWS(H$2:H542))),\"\")","v":""}]
[null,null,null,null,null,null,null,null,{"$f":"IFERROR(INDEX($G$264:$G$888,_xlfn.AGGREGATE(15,6,(ROW($G$264:$G$888)-ROW($G$264)+1)/($G$264:$G$888<>\"\"),ROWS(H$2:H543))),\"\")","v":""}]
[null,null,null,null,null,null,null,null,{"$f":"IFERROR(INDEX($G$264:$G$888,_xlfn.AGGREGATE(15,6,(ROW($G$264:$G$888)-ROW($G$264)+1)/($G$264:$G$888<>\"\"),ROWS(H$2:H544))),\"\")","v":""}]
[null,null,null,null,null,null,null,null,{"$f":"IFERROR(INDEX($G$264:$G$888,_xlfn.AGGREGATE(15,6,(ROW($G$264:$G$888)-ROW($G$264)+1)/($G$264:$G$888<>\"\"),ROWS(H$2:H545))),\"\")","v":""}]
[null,null,null,null,null,null,null,null,{"$f":"IFERROR(INDEX($G$264:$G$888,_xlfn.AGGREGATE(15,6,(ROW($G$264:$G$888)-ROW($G$264)+1)/($G$264:$G$888<>\"\"),ROWS(H$2:H546))),\"\")","v":""}]
[null,null,null,null,null,null,null,null,{"$f":"IFERROR(INDEX($G$264:$G$888,_xlfn.AGGREGATE(15,6,(ROW($G$264:$G$888)-ROW($G$264)+1)/($G$264:$G$888<>\"\"),ROWS(H$2:H547))),\"\")","v":""}]
[null,null,null,null,null,null,null,null,{"$f":"IFERROR(INDEX($G$264:$G$888,_xlfn.AGGREGATE(15,6,(ROW($G$264:$G$888)-ROW($G$264)+1)/($G$264:$G$888<>\"\"),ROWS(H$2:H548))),\"\")","v":""}]
[null,null,null,null,null,null,null,null,{"$f":"IFERROR(INDEX($G$264:$G$888,_xlfn.AGGREGATE(15,6,(ROW($G$264:$G$888)-ROW($G$264)+1)/($G$264:$G$888<>\"\"),ROWS(H$2:H549))),\"\")","v":""}]
[null,null,null,null,null,null,null,null,{"$f":"IFERROR(INDEX($G$264:$G$888,_xlfn.AGGREGATE(15,6,(ROW($G$264:$G$888)-ROW($G$264)+1)/($G$264:$G$888<>\"\"),ROWS(H$2:H550))),\"\")","v":""}]
[null,null,null,null,null,null,null,null,{"$f":"IFERROR(INDEX($G$264:$G$888,_xlfn.AGGREGATE(15,6,(ROW($G$264:$G$888)-ROW($G$264)+1)/($G$264:$G$888<>\"\"),ROWS(H$2:H551))),\"\")","v":""}]
[null,null,null,null,null,null,null,null,{"$f":"IFERROR(INDEX($G$264:$G$888,_xlfn.AGGREGATE(15,6,(ROW($G$264:$G$888)-ROW($G$264)+1)/($G$264:$G$888<>\"\"),ROWS(H$2:H552))),\"\")","v":""}]
[null,null,null,null,null,null,null,null,{"$f":"IFERROR(INDEX($G$264:$G$888,_xlfn.AGGREGATE(15,6,(ROW($G$264:$G$888)-ROW($G$264)+1)/($G$264:$G$888<>\"\"),ROWS(H$2:H553))),\"\")","v":""}]
[null,null,null,null,null,null,null,null,{"$f":"IFERROR(INDEX($G$264:$G$888,_xlfn.AGGREGATE(15,6,(ROW($G$264:$G$888)-ROW($G$264)+1)/($G$264:$G$888<>\"\"),ROWS(H$2:H554))),\"\")","v":""}]
[null,null,null,null,null,null,null,null,{"$f":"IFERROR(INDEX($G$264:$G$888,_xlfn.AGGREGATE(15,6,(ROW($G$264:$G$888)-ROW($G$264)+1)/($G$264:$G$888<>\"\"),ROWS(H$2:H555))),\"\")","v":""}]
[null,null,null,null,null,null,null,null,{"$f":"IFERROR(INDEX($G$264:$G$888,_xlfn.AGGREGATE(15,6,(ROW($G$264:$G$888)-ROW($G$264)+1)/($G$264:$G$888<>\"\"),ROWS(H$2:H556))),\"\")","v":""}]
[null,null,null,null,null,null,null,null,{"$f":"IFERROR(INDEX($G$264:$G$888,_xlfn.AGGREGATE(15,6,(ROW($G$264:$G$888)-ROW($G$264)+1)/($G$264:$G$888<>\"\"),ROWS(H$2:H557))),\"\")","v":""}]
[null,null,null,null,null,null,null,null,{"$f":"IFERROR(INDEX($G$264:$G$888,_xlfn.AGGREGATE(15,6,(ROW($G$264:$G$888)-ROW($G$264)+1)/($G$264:$G$888<>\"\"),ROWS(H$2:H558))),\"\")","v":""}]
[null,null,null,null,null,null,null,null,{"$f":"IFERROR(INDEX($G$264:$G$888,_xlfn.AGGREGATE(15,6,(ROW($G$264:$G$888)-ROW($G$264)+1)/($G$264:$G$888<>\"\"),ROWS(H$2:H559))),\"\")","v":""}]
[null,null,null,null,null,null,null,null,{"$f":"IFERROR(INDEX($G$264:$G$888,_xlfn.AGGREGATE(15,6,(ROW($G$264:$G$888)-ROW($G$264)+1)/($G$264:$G$888<>\"\"),ROWS(H$2:H560))),\"\")","v":""}]
[null,null,null,null,null,null,null,null,{"$f":"IFERROR(INDEX($G$264:$G$888,_xlfn.AGGREGATE(15,6,(ROW($G$264:$G$888)-ROW($G$264)+1)/($G$264:$G$888<>\"\"),ROWS(H$2:H561))),\"\")","v":""}]
[null,null,null,null,null,null,null,null,{"$f":"IFERROR(INDEX($G$264:$G$888,_xlfn.AGGREGATE(15,6,(ROW($G$264:$G$888)-ROW($G$264)+1)/($G$264:$G$888<>\"\"),ROWS(H$2:H562))),\"\")","v":""}]
[null,null,null,null,null,null,null,null,{"$f":"IFERROR(INDEX($G$264:$G$888,_xlfn.AGGREGATE(15,6,(ROW($G$264:$G$888)-ROW($G$264)+1)/($G$264:$G$888<>\"\"),ROWS(H$2:H563))),\"\")","v":""}]
[null,null,null,null,null,null,null,null,{"$f":"IFERROR(INDEX($G$264:$G$888,_xlfn.AGGREGATE(15,6,(ROW($G$264:$G$888)-ROW($G$264)+1)/($G$264:$G$888<>\"\"),ROWS(H$2:H564))),\"\")","v":""}]
[null,null,null,null,null,null,null,null,{"$f":"IFERROR(INDEX($G$264:$G$888,_xlfn.AGGREGATE(15,6,(ROW($G$264:$G$888)-ROW($G$264)+1)/($G$264:$G$888<>\"\"),ROWS(H$2:H565))),\"\")","v":""}]
[null,null,null,null,null,null,null,null,{"$f":"IFERROR(INDEX($G$264:$G$888,_xlfn.AGGREGATE(15,6,(ROW($G$264:$G$888)-ROW($G$264)+1)/($G$264:$G$888<>\"\"),ROWS(H$2:H566))),\"\")","v":""}]
[null,null,null,null,null,null,null,null,{"$f":"IFERROR(INDEX($G$264:$G$888,_xlfn.AGGREGATE(15,6,(ROW($G$264:$G$888)-ROW($G$264)+1)/($G$264:$G$888<>\"\"),ROWS(H$2:H567))),\"\")","v":""}]
[null,null,null,null,null,null,null,null,{"$f":"IFERROR(INDEX($G$264:$G$888,_xlfn.AGGREGATE(15,6,(ROW($G$264:$G$888)-ROW($G$264)+1)/($G$264:$G$888<>\"\"),ROWS(H$2:H568))),\"\")","v":""}]
[null,null,null,null,null,null,null,null,{"$f":"IFERROR(INDEX($G$264:$G$888,_xlfn.AGGREGATE(15,6,(ROW($G$264:$G$888)-ROW($G$264)+1)/($G$264:$G$888<>\"\"),ROWS(H$2:H569))),\"\")","v":""}]
[null,null,null,null,null,null,null,null,{"$f":"IFERROR(INDEX($G$264:$G$888,_xlfn.AGGREGATE(15,6,(ROW($G$264:$G$888)-ROW($G$264)+1)/($G$264:$G$888<>\"\"),ROWS(H$2:H570))),\"\")","v":""}]
[null,null,null,null,null,null,null,null,{"$f":"IFERROR(INDEX($G$264:$G$888,_xlfn.AGGREGATE(15,6,(ROW($G$264:$G$888)-ROW($G$264)+1)/($G$264:$G$888<>\"\"),ROWS(H$2:H571))),\"\")","v":""}]
[null,null,null,null,null,null,null,null,{"$f":"IFERROR(INDEX($G$264:$G$888,_xlfn.AGGREGATE(15,6,(ROW($G$264:$G$888)-ROW($G$264)+1)/($G$264:$G$888<>\"\"),ROWS(H$2:H572))),\"\")","v":""}]
[null,null,null,null,null,null,null,null,{"$f":"IFERROR(INDEX($G$264:$G$888,_xlfn.AGGREGATE(15,6,(ROW($G$264:$G$888)-ROW($G$264)+1)/($G$264:$G$888<>\"\"),ROWS(H$2:H573))),\"\")","v":""}]
[null,null,null,null,null,null,null,null,{"$f":"IFERROR(INDEX($G$264:$G$888,_xlfn.AGGREGATE(15,6,(ROW($G$264:$G$888)-ROW($G$264)+1)/($G$264:$G$888<>\"\"),ROWS(H$2:H574))),\"\")","v":""}]
[null,null,null,null,null,null,null,null,{"$f":"IFERROR(INDEX($G$264:$G$888,_xlfn.AGGREGATE(15,6,(ROW($G$264:$G$888)-ROW($G$264)+1)/($G$264:$G$888<>\"\"),ROWS(H$2:H575))),\"\")","v":""}]
[null,null,null,null,null,null,null,null,{"$f":"IFERROR(INDEX($G$264:$G$888,_xlfn.AGGREGATE(15,6,(ROW($G$264:$G$888)-ROW($G$264)+1)/($G$264:$G$888<>\"\"),ROWS(H$2:H576))),\"\")","v":""}]
[null,null,null,null,null,null,null,null,{"$f":"IFERROR(INDEX($G$264:$G$888,_xlfn.AGGREGATE(15,6,(ROW($G$264:$G$888)-ROW($G$264)+1)/($G$264:$G$888<>\"\"),ROWS(H$2:H577))),\"\")","v":""}]
[null,null,null,null,null,null,null,null,{"$f":"IFERROR(INDEX($G$264:$G$888,_xlfn.AGGREGATE(15,6,(ROW($G$264:$G$888)-ROW($G$264)+1)/($G$264:$G$888<>\"\"),ROWS(H$2:H578))),\"\")","v":""}]
[null,null,null,null,null,null,null,null,{"$f":"IFERROR(INDEX($G$264:$G$888,_xlfn.AGGREGATE(15,6,(ROW($G$264:$G$888)-ROW($G$264)+1)/($G$264:$G$888<>\"\"),ROWS(H$2:H579))),\"\")","v":""}]
[null,null,null,null,null,null,null,null,{"$f":"IFERROR(INDEX($G$264:$G$888,_xlfn.AGGREGATE(15,6,(ROW($G$264:$G$888)-ROW($G$264)+1)/($G$264:$G$888<>\"\"),ROWS(H$2:H580))),\"\")","v":""}]
[null,null,null,null,null,null,null,null,{"$f":"IFERROR(INDEX($G$264:$G$888,_xlfn.AGGREGATE(15,6,(ROW($G$264:$G$888)-ROW($G$264)+1)/($G$264:$G$888<>\"\"),ROWS(H$2:H581))),\"\")","v":""}]
[null,null,null,null,null,null,null,null,{"$f":"IFERROR(INDEX($G$264:$G$888,_xlfn.AGGREGATE(15,6,(ROW($G$264:$G$888)-ROW($G$264)+1)/($G$264:$G$888<>\"\"),ROWS(H$2:H582))),\"\")","v":""}]
[null,null,null,null,null,null,null,null,{"$f":"IFERROR(INDEX($G$264:$G$888,_xlfn.AGGREGATE(15,6,(ROW($G$264:$G$888)-ROW($G$264)+1)/($G$264:$G$888<>\"\"),ROWS(H$2:H583))),\"\")","v":""}]
[null,null,null,null,null,null,null,null,{"$f":"IFERROR(INDEX($G$264:$G$888,_xlfn.AGGREGATE(15,6,(ROW($G$264:$G$888)-ROW($G$264)+1)/($G$264:$G$888<>\"\"),ROWS(H$2:H584))),\"\")","v":""}]
[null,null,null,null,null,null,null,null,{"$f":"IFERROR(INDEX($G$264:$G$888,_xlfn.AGGREGATE(15,6,(ROW($G$264:$G$888)-ROW($G$264)+1)/($G$264:$G$888<>\"\"),ROWS(H$2:H585))),\"\")","v":""}]
[null,null,null,null,null,null,null,null,{"$f":"IFERROR(INDEX($G$264:$G$888,_xlfn.AGGREGATE(15,6,(ROW($G$264:$G$888)-ROW($G$264)+1)/($G$264:$G$888<>\"\"),ROWS(H$2:H586))),\"\")","v":""}]
[null,null,null,null,null,null,null,null,{"$f":"IFERROR(INDEX($G$264:$G$888,_xlfn.AGGREGATE(15,6,(ROW($G$264:$G$888)-ROW($G$264)+1)/($G$264:$G$888<>\"\"),ROWS(H$2:H587))),\"\")","v":""}]
[null,null,null,null,null,null,null,null,{"$f":"IFERROR(INDEX($G$264:$G$888,_xlfn.AGGREGATE(15,6,(ROW($G$264:$G$888)-ROW($G$264)+1)/($G$264:$G$888<>\"\"),ROWS(H$2:H588))),\"\")","v":""}]
[null,null,null,null,null,null,null,null,{"$f":"IFERROR(INDEX($G$264:$G$888,_xlfn.AGGREGATE(15,6,(ROW($G$264:$G$888)-ROW($G$264)+1)/($G$264:$G$888<>\"\"),ROWS(H$2:H589))),\"\")","v":""}]
[null,null,null,null,null,null,null,null,{"$f":"IFERROR(INDEX($G$264:$G$888,_xlfn.AGGREGATE(15,6,(ROW($G$264:$G$888)-ROW($G$264)+1)/($G$264:$G$888<>\"\"),ROWS(H$2:H590))),\"\")","v":""}]
[null,null,null,null,null,null,null,null,{"$f":"IFERROR(INDEX($G$264:$G$888,_xlfn.AGGREGATE(15,6,(ROW($G$264:$G$888)-ROW($G$264)+1)/($G$264:$G$888<>\"\"),ROWS(H$2:H591))),\"\")","v":""}]
[null,null,null,null,null,null,null,null,{"$f":"IFERROR(INDEX($G$264:$G$888,_xlfn.AGGREGATE(15,6,(ROW($G$264:$G$888)-ROW($G$264)+1)/($G$264:$G$888<>\"\"),ROWS(H$2:H592))),\"\")","v":""}]
[null,null,null,null,null,null,null,null,{"$f":"IFERROR(INDEX($G$264:$G$888,_xlfn.AGGREGATE(15,6,(ROW($G$264:$G$888)-ROW($G$264)+1)/($G$264:$G$888<>\"\"),ROWS(H$2:H593))),\"\")","v":""}]
[null,null,null,null,null,null,null,null,{"$f":"IFERROR(INDEX($G$264:$G$888,_xlfn.AGGREGATE(15,6,(ROW($G$264:$G$888)-ROW($G$264)+1)/($G$264:$G$888<>\"\"),ROWS(H$2:H594))),\"\")","v":""}]
[null,null,null,null,null,null,null,null,{"$f":"IFERROR(INDEX($G$264:$G$888,_xlfn.AGGREGATE(15,6,(ROW($G$264:$G$888)-ROW($G$264)+1)/($G$264:$G$888<>\"\"),ROWS(H$2:H595))),\"\")","v":""}]
[null,null,null,null,null,null,null,null,{"$f":"IFERROR(INDEX($G$264:$G$888,_xlfn.AGGREGATE(15,6,(ROW($G$264:$G$888)-ROW($G$264)+1)/($G$264:$G$888<>\"\"),ROWS(H$2:H596))),\"\")","v":""}]
[null,null,null,null,null,null,null,null,{"$f":"IFERROR(INDEX($G$264:$G$888,_xlfn.AGGREGATE(15,6,(ROW($G$264:$G$888)-ROW($G$264)+1)/($G$264:$G$888<>\"\"),ROWS(H$2:H597))),\"\")","v":""}]
[null,null,null,null,null,null,null,null,{"$f":"IFERROR(INDEX($G$264:$G$888,_xlfn.AGGREGATE(15,6,(ROW($G$264:$G$888)-ROW($G$264)+1)/($G$264:$G$888<>\"\"),ROWS(H$2:H598))),\"\")","v":""}]
[null,null,null,null,null,null,null,null,{"$f":"IFERROR(INDEX($G$264:$G$888,_xlfn.AGGREGATE(15,6,(ROW($G$264:$G$888)-ROW($G$264)+1)/($G$264:$G$888<>\"\"),ROWS(H$2:H599))),\"\")","v":""}]
[null,null,null,null,null,null,null,null,{"$f":"IFERROR(INDEX($G$264:$G$888,_xlfn.AGGREGATE(15,6,(ROW($G$264:$G$888)-ROW($G$264)+1)/($G$264:$G$888<>\"\"),ROWS(H$2:H600))),\"\")","v":""}]
[null,null,null,null,null,null,null,null,{"$f":"IFERROR(INDEX($G$264:$G$888,_xlfn.AGGREGATE(15,6,(ROW($G$264:$G$888)-ROW($G$264)+1)/($G$264:$G$888<>\"\"),ROWS(H$2:H601))),\"\")","v":""}]
[null,"Start VR Additions-->",{"$f":"IF('Variance Request'!$C15=0,\"\",'Variance Request'!$C15)","v":""},{"$f":"IF('Variance Request'!$C15=0,\"\",'Variance Request'!$B15)","v":""},{"$f":"IF('Variance Request'!$C15=0,\"\",'Variance Request'!$F15)","v":""},{"$f":"IF(E864=\"Tree\",C864,\"\")","v":""},{"$f":"IF(OR(E864=\"Shrub\",E864=\"Vine-woody\"),C864,\"\")","v":""},{"$f":"IFERROR(INDEX($F$264:$F$888,_xlfn.AGGREGATE(15,6,(ROW($F$264:$F$888)-ROW($F$264)+1)/($F$264:$F$888<>\"\"),ROWS(H$2:H863))),\"\")","v":""},{"$f":"IFERROR(INDEX($G$264:$G$888,_xlfn.AGGREGATE(15,6,(ROW($G$264:$G$888)-ROW($G$264)+1)/($G$264:$G$888<>\"\"),ROWS(H$2:H863))),\"\")","v":""}]
[null,null,{"$f":"IF('Variance Request'!$C16=0,\"\",'Variance Request'!$C16)","v":""},{"$f":"IF('Variance Request'!$C16=0,\"\",'Variance Request'!$B16)","v":""},{"$f":"IF('Variance Request'!$C16=0,\"\",'Variance Request'!$F16)","v":""},"","",{"$f":"IFERROR(INDEX($F$264:$F$888,_xlfn.AGGREGATE(15,6,(ROW($F$264:$F$888)-ROW($F$264)+1)/($F$264:$F$888<>\"\"),ROWS(H$2:H863))),\"\")","v":""},{"$f":"IFERROR(INDEX($G$264:$G$888,_xlfn.AGGREGATE(15,6,(ROW($G$264:$G$888)-ROW($G$264)+1)/($G$264:$G$888<>\"\"),ROWS(H$2:H863))),\"\")","v":""}]
[null,null,{"$f":"IF('Variance Request'!$C17=0,\"\",'Variance Request'!$C17)","v":""},{"$f":"IF('Variance Request'!$C17=0,\"\",'Variance Request'!$B17)","v":""},{"$f":"IF('Variance Request'!$C17=0,\"\",'Variance Request'!$F17)","v":""},"","",{"$f":"IFERROR(INDEX($F$264:$F$888,_xlfn.AGGREGATE(15,6,(ROW($F$264:$F$888)-ROW($F$264)+1)/($F$264:$F$888<>\"\"),ROWS(H$2:H863))),\"\")","v":""},{"$f":"IFERROR(INDEX($G$264:$G$888,_xlfn.AGGREGATE(15,6,(ROW($G$264:$G$888)-ROW($G$264)+1)/($G$264:$G$888<>\"\"),ROWS(H$2:H863))),\"\")","v":""}]
[null,null,{"$f":"IF('Variance Request'!$C18=0,\"\",'Variance Request'!$C18)","v":""},{"$f":"IF('Variance Request'!$C18=0,\"\",'Variance Request'!$B18)","v":""},{"$f":"IF('Variance Request'!$C18=0,\"\",'Variance Request'!$F18)","v":""},"","",{"$f":"IFERROR(INDEX($F$264:$F$888,_xlfn.AGGREGATE(15,6,(ROW($F$264:$F$888)-ROW($F$264)+1)/($F$264:$F$888<>\"\"),ROWS(H$2:H863))),\"\")","v":""},{"$f":"IFERROR(INDEX($G$264:$G$888,_xlfn.AGGREGATE(15,6,(ROW($G$264:$G$888)-ROW($G$264)+1)/($G$264:$G$888<>\"\"),ROWS(H$2:H863))),\"\")","v":""}]
[null,null,{"$f":"IF('Variance Request'!$C19=0,\"\",'Variance Request'!$C19)","v":""},{"$f":"IF('Variance Request'!$C19=0,\"\",'Variance Request'!$B19)","v":""},{"$f":"IF('Variance Request'!$C19=0,\"\",'Variance Request'!$F19)","v":""},"","",{"$f":"IFERROR(INDEX($F$264:$F$888,_xlfn.AGGREGATE(15,6,(ROW($F$264:$F$888)-ROW($F$264)+1)/($F$264:$F$888<>\"\"),ROWS(H$2:H863))),\"\")","v":""},{"$f":"IFERROR(INDEX($G$264:$G$888,_xlfn.AGGREGATE(15,6,(ROW($G$264:$G$888)-ROW($G$264)+1)/($G$264:$G$888<>\"\"),ROWS(H$2:H863))),\"\")","v":""}]
[null,null,{"$f":"IF('Variance Request'!$C20=0,\"\",'Variance Request'!$C20)","v":""},{"$f":"IF('Variance Request'!$C20=0,\"\",'Variance Request'!$B20)","v":""},{"$f":"IF('Variance Request'!$C20=0,\"\",'Variance Request'!$F20)","v":""},"","",{"$f":"IFERROR(INDEX($F$264:$F$888,_xlfn.AGGREGATE(15,6,(ROW($F$264:$F$888)-ROW($F$264)+1)/($F$264:$F$888<>\"\"),ROWS(H$2:H863))),\"\")","v":""},{"$f":"IFERROR(INDEX($G$264:$G$888,_xlfn.AGGREGATE(15,6,(ROW($G$264:$G$888)-ROW($G$264)+1)/($G$264:$G$888<>\"\"),ROWS(H$2:H863))),\"\")","v":""}]
[null,null,{"$f":"IF('Variance Request'!$C21=0,\"\",'Variance Request'!$C21)","v":""},{"$f":"IF('Variance Request'!$C21=0,\"\",'Variance Request'!$B21)","v":""},{"$f":"IF('Variance Request'!$C21=0,\"\",'Variance Request'!$F21)","v":""},"","",{"$f":"IFERROR(INDEX($F$264:$F$888,_xlfn.AGGREGATE(15,6,(ROW($F$264:$F$888)-ROW($F$264)+1)/($F$264:$F$888<>\"\"),ROWS(H$2:H863))),\"\")","v":""},{"$f":"IFERROR(INDEX($G$264:$G$888,_xlfn.AGGREGATE(15,6,(ROW($G$264:$G$888)-ROW($G$264)+1)/($G$264:$G$888<>\"\"),ROWS(H$2:H863))),\"\")","v":""}]
[null,null,{"$f":"IF('Variance Request'!$C22=0,\"\",'Variance Request'!$C22)","v":""},{"$f":"IF('Variance Request'!$C22=0,\"\",'Variance Request'!$B22)","v":""},{"$f":"IF('Variance Request'!$C22=0,\"\",'Variance Request'!$F22)","v":""},"","",{"$f":"IFERROR(INDEX($F$264:$F$888,_xlfn.AGGREGATE(15,6,(ROW($F$264:$F$888)-ROW($F$264)+1)/($F$264:$F$888<>\"\"),ROWS(H$2:H863))),\"\")","v":""},{"$f":"IFERROR(INDEX($G$264:$G$888,_xlfn.AGGREGATE(15,6,(ROW($G$264:$G$888)-ROW($G$264)+1)/($G$264:$G$888<>\"\"),ROWS(H$2:H863))),\"\")","v":""}]
[null,null,{"$f":"IF('Variance Request'!$C23=0,\"\",'Variance Request'!$C23)","v":""},{"$f":"IF('Variance Request'!$C23=0,\"\",'Variance Request'!$B23)","v":""},{"$f":"IF('Variance Request'!$C23=0,\"\",'Variance Request'!$F23)","v":""},"","",{"$f":"IFERROR(INDEX($F$264:$F$888,_xlfn.AGGREGATE(15,6,(ROW($F$264:$F$888)-ROW($F$264)+1)/($F$264:$F$888<>\"\"),ROWS(H$2:H863))),\"\")","v":""},{"$f":"IFERROR(INDEX($G$264:$G$888,_xlfn.AGGREGATE(15,6,(ROW($G$264:$G$888)-ROW($G$264)+1)/($G$264:$G$888<>\"\"),ROWS(H$2:H863))),\"\")","v":""}]
[null,null,{"$f":"IF('Variance Request'!$C24=0,\"\",'Variance Request'!$C24)","v":""},{"$f":"IF('Variance Request'!$C24=0,\"\",'Variance Request'!$B24)","v":""},{"$f":"IF('Variance Request'!$C24=0,\"\",'Variance Request'!$F24)","v":""},"","",{"$f":"IFERROR(INDEX($F$264:$F$888,_xlfn.AGGREGATE(15,6,(ROW($F$264:$F$888)-ROW($F$264)+1)/($F$264:$F$888<>\"\"),ROWS(H$2:H863))),\"\")","v":""},{"$f":"IFERROR(INDEX($G$264:$G$888,_xlfn.AGGREGATE(15,6,(ROW($G$264:$G$888)-ROW($G$264)+1)/($G$264:$G$888<>\"\"),ROWS(H$2:H863))),\"\")","v":""}]
[null,null,{"$f":"IF('Variance Request'!$C25=0,\"\",'Variance Request'!$C25)","v":""},{"$f":"IF('Variance Request'!$C25=0,\"\",'Variance Request'!$B25)","v":""},{"$f":"IF('Variance Request'!$C25=0,\"\",'Variance Request'!$F25)","v":""},"","",{"$f":"IFERROR(INDEX($F$264:$F$888,_xlfn.AGGREGATE(15,6,(ROW($F$264:$F$888)-ROW($F$264)+1)/($F$264:$F$888<>\"\"),ROWS(H$2:H863))),\"\")","v":""},{"$f":"IFERROR(INDEX($G$264:$G$888,_xlfn.AGGREGATE(15,6,(ROW($G$264:$G$888)-ROW($G$264)+1)/($G$264:$G$888<>\"\"),ROWS(H$2:H863))),\"\")","v":""}]
[null,null,{"$f":"IF('Variance Request'!$C26=0,\"\",'Variance Request'!$C26)","v":""},{"$f":"IF('Variance Request'!$C26=0,\"\",'Variance Request'!$B26)","v":""},{"$f":"IF('Variance Request'!$C26=0,\"\",'Variance Request'!$F26)","v":""},"","",{"$f":"IFERROR(INDEX($F$264:$F$888,_xlfn.AGGREGATE(15,6,(ROW($F$264:$F$888)-ROW($F$264)+1)/($F$264:$F$888<>\"\"),ROWS(H$2:H863))),\"\")","v":""},{"$f":"IFERROR(INDEX($G$264:$G$888,_xlfn.AGGREGATE(15,6,(ROW($G$264:$G$888)-ROW($G$264)+1)/($G$264:$G$888<>\"\"),ROWS(H$2:H863))),\"\")","v":""}]
[null,null,{"$f":"IF('Variance Request'!$C27=0,\"\",'Variance Request'!$C27)","v":""},{"$f":"IF('Variance Request'!$C27=0,\"\",'Variance Request'!$B27)","v":""},{"$f":"IF('Variance Request'!$C27=0,\"\",'Variance Request'!$F27)","v":""},"","",{"$f":"IFERROR(INDEX($F$264:$F$888,_xlfn.AGGREGATE(15,6,(ROW($F$264:$F$888)-ROW($F$264)+1)/($F$264:$F$888<>\"\"),ROWS(H$2:H863))),\"\")","v":""},{"$f":"IFERROR(INDEX($G$264:$G$888,_xlfn.AGGREGATE(15,6,(ROW($G$264:$G$888)-ROW($G$264)+1)/($G$264:$G$888<>\"\"),ROWS(H$2:H863))),\"\")","v":""}]
[null,null,{"$f":"IF('Variance Request'!$C28=0,\"\",'Variance Request'!$C28)","v":""},{"$f":"IF('Variance Request'!$C28=0,\"\",'Variance Request'!$B28)","v":""},{"$f":"IF('Variance Request'!$C28=0,\"\",'Variance Request'!$F28)","v":""},"","",{"$f":"IFERROR(INDEX($F$264:$F$888,_xlfn.AGGREGATE(15,6,(ROW($F$264:$F$888)-ROW($F$264)+1)/($F$264:$F$888<>\"\"),ROWS(H$2:H863))),\"\")","v":""},{"$f":"IFERROR(INDEX($G$264:$G$888,_xlfn.AGGREGATE(15,6,(ROW($G$264:$G$888)-ROW($G$264)+1)/($G$264:$G$888<>\"\"),ROWS(H$2:H863))),\"\")","v":""}]
[null,null,{"$f":"IF('Variance Request'!$C29=0,\"\",'Variance Request'!$C29)","v":""},{"$f":"IF('Variance Request'!$C29=0,\"\",'Variance Request'!$B29)","v":""},{"$f":"IF('Variance Request'!$C29=0,\"\",'Variance Request'!$F29)","v":""},"","",{"$f":"IFERROR(INDEX($F$264:$F$888,_xlfn.AGGREGATE(15,6,(ROW($F$264:$F$888)-ROW($F$264)+1)/($F$264:$F$888<>\"\"),ROWS(H$2:H863))),\"\")","v":""},{"$f":"IFERROR(INDEX($G$264:$G$888,_xlfn.AGGREGATE(15,6,(ROW($G$264:$G$888)-ROW($G$264)+1)/($G$264:$G$888<>\"\"),ROWS(H$2:H863))),\"\")","v":""}]
[null,null,{"$f":"IF('Variance Request'!$C30=0,\"\",'Variance Request'!$C30)","v":""},{"$f":"IF('Variance Request'!$C30=0,\"\",'Variance Request'!$B30)","v":""},{"$f":"IF('Variance Request'!$C30=0,\"\",'Variance Request'!$F30)","v":""},"","",{"$f":"IFERROR(INDEX($F$264:$F$888,_xlfn.AGGREGATE(15,6,(ROW($F$264:$F$888)-ROW($F$264)+1)/($F$264:$F$888<>\"\"),ROWS(H$2:H863))),\"\")","v":""},{"$f":"IFERROR(INDEX($G$264:$G$888,_xlfn.AGGREGATE(15,6,(ROW($G$264:$G$888)-ROW($G$264)+1)/($G$264:$G$888<>\"\"),ROWS(H$2:H863))),\"\")","v":""}]
[null,null,{"$f":"IF('Variance Request'!$C31=0,\"\",'Variance Request'!$C31)","v":""},{"$f":"IF('Variance Request'!$C31=0,\"\",'Variance Request'!$B31)","v":""},{"$f":"IF('Variance Request'!$C31=0,\"\",'Variance Request'!$F31)","v":""},"","",{"$f":"IFERROR(INDEX($F$264:$F$888,_xlfn.AGGREGATE(15,6,(ROW($F$264:$F$888)-ROW($F$264)+1)/($F$264:$F$888<>\"\"),ROWS(H$2:H863))),\"\")","v":""},{"$f":"IFERROR(INDEX($G$264:$G$888,_xlfn.AGGREGATE(15,6,(ROW($G$264:$G$888)-ROW($G$264)+1)/($G$264:$G$888<>\"\"),ROWS(H$2:H863))),\"\")","v":""}]
[null,null,{"$f":"IF('Variance Request'!$C32=0,\"\",'Variance Request'!$C32)","v":""},{"$f":"IF('Variance Request'!$C32=0,\"\",'Variance Request'!$B32)","v":""},{"$f":"IF('Variance Request'!$C32=0,\"\",'Variance Request'!$F32)","v":""},"","",{"$f":"IFERROR(INDEX($F$264:$F$888,_xlfn.AGGREGATE(15,6,(ROW($F$264:$F$888)-ROW($F$264)+1)/($F$264:$F$888<>\"\"),ROWS(H$2:H863))),\"\")","v":""},{"$f":"IFERROR(INDEX($G$264:$G$888,_xlfn.AGGREGATE(15,6,(ROW($G$264:$G$888)-ROW($G$264)+1)/($G$264:$G$888<>\"\"),ROWS(H$2:H863))),\"\")","v":""}]
[null,null,{"$f":"IF('Variance Request'!$C33=0,\"\",'Variance Request'!$C33)","v":""},{"$f":"IF('Variance Request'!$C33=0,\"\",'Variance Request'!$B33)","v":""},{"$f":"IF('Variance Request'!$C33=0,\"\",'Variance Request'!$F33)","v":""},"","",{"$f":"IFERROR(INDEX($F$264:$F$888,_xlfn.AGGREGATE(15,6,(ROW($F$264:$F$888)-ROW($F$264)+1)/($F$264:$F$888<>\"\"),ROWS(H$2:H863))),\"\")","v":""},{"$f":"IFERROR(INDEX($G$264:$G$888,_xlfn.AGGREGATE(15,6,(ROW($G$264:$G$888)-ROW($G$264)+1)/($G$264:$G$888<>\"\"),ROWS(H$2:H863))),\"\")","v":""}]
[null,null,{"$f":"IF('Variance Request'!$C34=0,\"\",'Variance Request'!$C34)","v":""},{"$f":"IF('Variance Request'!$C34=0,\"\",'Variance Request'!$B34)","v":""},{"$f":"IF('Variance Request'!$C34=0,\"\",'Variance Request'!$F34)","v":""},"","",{"$f":"IFERROR(INDEX($F$264:$F$888,_xlfn.AGGREGATE(15,6,(ROW($F$264:$F$888)-ROW($F$264)+1)/($F$264:$F$888<>\"\"),ROWS(H$2:H863))),\"\")","v":""},{"$f":"IFERROR(INDEX($G$264:$G$888,_xlfn.AGGREGATE(15,6,(ROW($G$264:$G$888)-ROW($G$264)+1)/($G$264:$G$888<>\"\"),ROWS(H$2:H863))),\"\")","v":""}]
[null,null,{"$f":"IF('Variance Request'!$C35=0,\"\",'Variance Request'!$C35)","v":""},{"$f":"IF('Variance Request'!$C35=0,\"\",'Variance Request'!$B35)","v":""},{"$f":"IF('Variance Request'!$C35=0,\"\",'Variance Request'!$F35)","v":""},"","",{"$f":"IFERROR(INDEX($F$264:$F$888,_xlfn.AGGREGATE(15,6,(ROW($F$264:$F$888)-ROW($F$264)+1)/($F$264:$F$888<>\"\"),ROWS(H$2:H863))),\"\")","v":""},{"$f":"IFERROR(INDEX($G$264:$G$888,_xlfn.AGGREGATE(15,6,(ROW($G$264:$G$888)-ROW($G$264)+1)/($G$264:$G$888<>\"\"),ROWS(H$2:H863))),\"\")","v":""}]
[null,null,{"$f":"IF('Variance Request'!$C36=0,\"\",'Variance Request'!$C36)","v":""},{"$f":"IF('Variance Request'!$C36=0,\"\",'Variance Request'!$B36)","v":""},{"$f":"IF('Variance Request'!$C36=0,\"\",'Variance Request'!$F36)","v":""},"","",{"$f":"IFERROR(INDEX($F$264:$F$888,_xlfn.AGGREGATE(15,6,(ROW($F$264:$F$888)-ROW($F$264)+1)/($F$264:$F$888<>\"\"),ROWS(H$2:H863))),\"\")","v":""},{"$f":"IFERROR(INDEX($G$264:$G$888,_xlfn.AGGREGATE(15,6,(ROW($G$264:$G$888)-ROW($G$264)+1)/($G$264:$G$888<>\"\"),ROWS(H$2:H863))),\"\")","v":""}]
[null,null,{"$f":"IF('Variance Request'!$C37=0,\"\",'Variance Request'!$C37)","v":""},{"$f":"IF('Variance Request'!$C37=0,\"\",'Variance Request'!$B37)","v":""},{"$f":"IF('Variance Request'!$C37=0,\"\",'Variance Request'!$F37)","v":""},"","",{"$f":"IFERROR(INDEX($F$264:$F$888,_xlfn.AGGREGATE(15,6,(ROW($F$264:$F$888)-ROW($F$264)+1)/($F$264:$F$888<>\"\"),ROWS(H$2:H863))),\"\")","v":""},{"$f":"IFERROR(INDEX($G$264:$G$888,_xlfn.AGGREGATE(15,6,(ROW($G$264:$G$888)-ROW($G$264)+1)/($G$264:$G$888<>\"\"),ROWS(H$2:H863))),\"\")","v":""}]
[null,null,{"$f":"IF('Variance Request'!$C38=0,\"\",'Variance Request'!$C38)","v":""},{"$f":"IF('Variance Request'!$C38=0,\"\",'Variance Request'!$B38)","v":""},{"$f":"IF('Variance Request'!$C38=0,\"\",'Variance Request'!$F38)","v":""},"","",{"$f":"IFERROR(INDEX($F$264:$F$888,_xlfn.AGGREGATE(15,6,(ROW($F$264:$F$888)-ROW($F$264)+1)/($F$264:$F$888<>\"\"),ROWS(H$2:H863))),\"\")","v":""},{"$f":"IFERROR(INDEX($G$264:$G$888,_xlfn.AGGREGATE(15,6,(ROW($G$264:$G$888)-ROW($G$264)+1)/($G$264:$G$888<>\"\"),ROWS(H$2:H863))),\"\")","v":""}]
[null,null,{"$f":"IF('Variance Request'!$C39=0,\"\",'Variance Request'!$C39)","v":""},{"$f":"IF('Variance Request'!$C39=0,\"\",'Variance Request'!$B39)","v":""},{"$f":"IF('Variance Request'!$C39=0,\"\",'Variance Request'!$F39)","v":""},"","",{"$f":"IFERROR(INDEX($F$264:$F$888,_xlfn.AGGREGATE(15,6,(ROW($F$264:$F$888)-ROW($F$264)+1)/($F$264:$F$888<>\"\"),ROWS(H$2:H863))),\"\")","v":""},{"$f":"IFERROR(INDEX($G$264:$G$888,_xlfn.AGGREGATE(15,6,(ROW($G$264:$G$888)-ROW($G$264)+1)/($G$264:$G$888<>\"\"),ROWS(H$2:H863))),\"\")","v":""}]

{"sheet":"Job Sketch","index":4,"n_rows":40,"n_cols":30,"rows_kept":40,"cut":false,"hidden":false,"merged":[[40,1,44,28],[5,25,5,28],[5,19,5,24],[5,8,5,13],[5,14,5,18],[7,22,8,24],[7,15,8,19],[5,29,5,30],[7,27,8,28],[7,25,8,26],[7,1,8,8],[3,0,3,6],[3,7,3,20],[5,0,5,4],[5,5,5,7],[7,20,8,21],[0,25,0,30],[0,0,0,24],[2,0,2,30],[4,0,4,4],[4,15,4,20],[4,5,4,14],[4,21,4,30],[1,0,1,24],[3,25,3,30],[1,25,1,30],[3,21,3,24]]}
["Natural Resources Conservation Service",null,null,null,null,null,null,null,null,null,null,null,null,null,null,null,null,null,null,null,null,null,null,null,null,"Field Office:"]
["Pacific Islands Conservation Practice Job Sketch",null,null,null,null,null,null,null,null,null,null,null,null,null,null,null,null,null,null,null,null,null,null,null,null,{"$f":"IF('Forestry Area'!W2=\"\",\"\",'Forestry Area'!W2)","v":0}]
[{"$f":"IF('Forestry Area'!D3=\"\",\"\",'Forestry Area'!D3)","v":"Use the Forestry Linear Template for the Selected Practice"}]
["Sketch prepared by",null,null,null,null,null,null,null,null,null,null,null,null,null,null,null,null,null,null,null,null,"Date"]
["Client Name",null,null,null,null,{"$f":"IF('Forestry Area'!E6=0,\"\",'Forestry Area'!E6)","v":""},null,null,null,null,null,null,null,null,null,"Business Name",null,null,null,null,null,{"$f":"IF('Forestry Area'!K6=0,\"\",'Forestry Area'!K6)","v":""}]
["Tract Number",null,null,null,null,{"$f":"IF('Forestry Area'!E7=0,\"\",'Forestry Area'!E7)","v":""},null,null,"Field Number(s)",null,null,null,null,null,{"$f":"IF('Forestry Area'!G7=0,\"\",'Forestry Area'!G7)","v":""},null,null,null,null,"Planned Amount",null,null,null,null,null,{"$f":"IF('Forestry Area'!L7=0,\"\",'Forestry Area'!L7)","v":""},null,null,null,"acres"]
[]
[null,"Planting arrangment for portion of planned field",null,null,null,null,null,null,null,null,null,null,null,null,null,"Each grid cell  = ",null,null,null,null,null,null,"feet by",null,null,null,null,"feet"]
[]
[]
[]
[]
[]
[]
[]
[]
[]
[]
[]
[]
[]
[]
[]
[]
[]
[]
[]
[]
[]
[]
[]
[]
[]
[]
[]
[]
[]
[]
[]
[null,"Additional Information/Requirements:"]

{"sheet":"Example 1a","index":5,"n_rows":19,"n_cols":46,"rows_kept":19,"cut":false,"hidden":false,"merged":[[1,5,2,38],[4,45,5,74],[7,45,8,74],[14,45,16,74],[10,45,12,74]]}
[]
[null,null,null,null,null,"Tree-only plantings"]
[]
[]
[null,null,null,null,null,null,null,null,null,null,null,null,null,null,null,null,null,null,null,null,null,null,null,null,null,null,null,null,null,null,null,null,null,null,null,null,null,null,null,null,null,null,null,null,null,"Entire diagram represents a portion of a one acre field."]
[]
[]
[null,null,null,null,null,null,null,null,null,null,null,null,null,null,null,null,null,null,null,null,null,null,null,null,null,null,null,null,null,null,null,null,null,null,null,null,null,null,null,null,null,null,null,null,null,"Each grid cell  =  2.5 feet x 2.5 feet. "]
[]
[]
[null,null,null,null,null,null,null,null,null,null,null,null,null,null,null,null,null,null,null,null,null,null,null,null,null,null,null,null,null,null,null,null,null,null,null,null,null,null,null,null,null,null,null,null,null,"100% of bare field planted in one or more tree species (four in this example) -  between tree spacing is 15' x 15'."]
[]
[]
[]
[null,null,null,null,null,null,null,null,null,null,null,null,null,null,null,null,null,null,null,null,null,null,null,null,null,null,null,null,null,null,null,null,null,null,null,null,null,null,null,null,null,null,null,null,null,"Note option of staggering alternating tree rows as shown on right side of diagram to optimize growth space."]
[]
[]
[]
[null,null,null,null,null,null,null,null,null,null,null,null,null,null,null,"15' x 15'"]

{"sheet":"Example 1b","index":6,"n_rows":19,"n_cols":46,"rows_kept":19,"cut":false,"hidden":false,"merged":[[18,45,21,74],[1,5,2,38],[4,45,5,74],[7,45,8,74],[10,45,12,74],[14,45,16,74]]}
[]
[null,null,null,null,null,"Tree planting with shrubs in between"]
[]
[]
[null,null,null,null,null,null,null,null,null,null,null,null,null,null,null,null,null,null,null,null,null,null,null,null,null,null,null,null,null,null,null,null,null,null,null,null,null,null,null,null,null,null,null,null,null,"Entire diagram represents a portion of a one acre field."]
[]
[]
[null,null,null,null,null,null,null,null,null,null,null,null,null,null,null,null,null,null,null,null,null,null,null,null,null,null,null,null,null,null,null,null,null,null,null,null,null,null,null,null,null,null,null,null,null,"Each grid cell  =  2.5 feet x 2.5 feet. "]
[]
[]
[null,null,null,null,null,null,null,null,null,null,null,null,null,null,null,null,null,null,null,null,null,null,null,null,null,null,null,null,null,null,null,null,null,null,null,null,null,null,null,null,null,null,null,null,null,"100% of bare field planted in one or more tree species (four in this example) -  between tree spacing is 15' x 15'."]
[]
[]
[]
[null,null,null,null,null,null,null,null,null,null,null,null,null,null,null,null,null,null,null,null,null,null,null,null,null,null,null,null,null,null,null,null,null,null,null,null,null,null,null,null,null,null,null,null,null,"Note option of staggering alternating tree rows as shown on right side of diagram to optimize growth space."]
[]
[]
[null,null,null,null,null,null,null,null,null,null,null,null,null,null,null,null,null,null,null,null,null,null,null,"7.5' x 7.5'"]
[null,null,null,null,null,null,null,null,null,null,null,null,null,null,null,"15' x 15'",null,null,null,null,null,null,null,null,null,null,null,null,null,null,null,null,null,null,null,null,null,null,null,null,null,null,null,null,null,"100% of bare field planted in one or more shrub/vine species (two in this example) between tree planting points -  shrubs/vines planted at 7.5' spacing, i.e. three shrubs/vines for every tree."]

{"sheet":"Example 2","index":7,"n_rows":30,"n_cols":46,"rows_kept":30,"cut":false,"hidden":false,"merged":[[13,45,15,74],[1,5,2,38],[4,45,5,74],[7,45,8,74],[26,45,32,74],[10,45,11,74],[17,45,24,74]]}
[]
[null,null,null,null,null,"Single tree species plantings"]
[]
[]
[null,null,null,null,null,null,null,null,null,null,null,null,null,null,null,null,null,null,null,null,null,null,null,null,null,null,null,null,null,null,null,null,null,null,null,null,null,null,null,null,null,null,null,null,null,"Entire diagram represents a portion of a one acre field."]
[]
[]
[null,null,null,null,null,null,null,null,null,null,null,null,null,null,null,null,null,null,null,null,null,null,null,null,null,null,null,null,null,null,null,null,null,null,null,null,null,null,null,null,null,null,null,null,null,"Each grid cell  =  2.5 feet x 2.5 feet. "]
[]
[null,null,null,null,null,null,null,null,null,"10' x 15'",null,null,null,null,null,null,null,"5' x 7.5'"]
[null,null,null,null,null,null,null,null,null,null,null,null,null,null,null,null,null,null,null,null,null,null,null,null,null,null,null,null,null,null,null,null,null,null,null,null,null,null,null,null,null,null,null,null,null,"100% of bare field planted with Acacia koa at 10' x 15' spacing.  "]
[]
[]
[null,null,null,null,null,null,null,null,null,null,null,null,null,null,null,null,null,null,null,null,null,null,null,null,null,null,null,null,null,null,null,null,null,null,null,null,null,null,null,null,null,null,null,null,null,"Note option of staggering alternating tree rows as shown on right side of diagram to optimize growth space."]
[]
[]
[]
[null,null,null,null,null,null,null,null,null,null,null,null,null,null,null,null,null,null,null,null,null,null,null,null,null,null,null,null,null,null,null,null,null,null,null,null,null,null,null,null,null,null,null,null,null,"Inventory results showed 50 stems of a tree species pre-existing in the one acre field that are desirable & will be retained.  These trees occur randomly at an average of approximately 30' x 30' spacing or 1 out of every 6 of the tree planting points in the planned 10' x 15' grid (50 of 290 potential tree points)."]
[]
[]
[]
[]
[]
[]
[]
[]
[null,null,null,null,null,null,null,null,null,null,null,null,null,null,null,null,null,null,null,null,null,null,null,null,null,null,null,null,null,null,null,null,null,null,null,null,null,null,null,null,null,null,null,null,null,"Dodonaea viscosa shrubs planted between tree rows  at 5' x 15' spacing, or two shrubs per tree planting point (both \"blue\" and \"yellow\").  Note: no shrubs proposed between adjacent trees within tree rows, though that could be an option per Example 1b, i.e. three shrubs per tree planting point."]
[]
[]
[null,null,null,null,null,null,null,null,null,null,null,null,"30' x 30'"]

{"sheet":"Example 3","index":8,"n_rows":32,"n_cols":46,"rows_kept":32,"cut":false,"hidden":false,"merged":[[10,45,11,74],[31,14,32,28],[1,5,2,38],[4,45,5,74],[7,45,8,74],[23,45,25,74],[13,45,21,74]]}
[]
[null,null,null,null,null,"Mixed tree species plantings - asymmetrical pattern"]
[null,null,null,null,null,null,null,null,null,null,null,null,null,null,null,null,null,null,null,null,null,null,null,null,null,null,null,null,null,null,null,null,null,null,null,null,null,null,null,null,null,null,"2016-04-19"]
[]
[null,null,null,null,null,null,null,null,null,null,null,null,null,null,null,null,null,null,null,null,null,null,null,null,null,null,null,null,null,null,null,null,null,null,null,null,null,null,null,null,null,null,null,null,null,"Entire diagram represents a portion of a one acre field."]
[]
[]
[null,null,null,null,null,null,null,null,null,null,null,null,null,null,null,null,null,null,null,null,null,null,null,null,null,null,null,null,null,null,null,null,null,null,null,null,null,null,null,null,null,null,null,null,null,"Each grid cell  =  2.5 feet x 2.5 feet. "]
[]
[]
[null,null,null,null,null,null,null,null,null,null,null,null,null,null,null,null,null,null,null,null,null,null,null,null,null,null,null,null,null,null,null,null,null,null,null,null,null,null,null,null,null,null,null,null,null,"100% of bare field planted as two shade tree species over cacao."]
[]
[]
[null,null,null,null,null,null,null,null,null,null,null,null,null,null,null,null,null,null,null,null,null,null,null,null,null,null,null,null,null,null,null,null,null,null,null,null,null,null,null,null,null,null,null,null,null,"Gliricidia sepium & Cocos nucifera shade trees over Theobroma cacao crop trees.  Shade tree spacing is 20' x 27.5' with planting pattern repeated in 60' x 27.5' blocks (outlined area, 19 cacao for every three shade trees, or 6.33/1 ratio).  Cacao layout planned as double rows in \"alleys\" between shade tree rows at 7.5' x 7.5' spacing, plus occassional cacao plants within shade tree rows."]
[]
[]
[]
[null,null,null,null,null,null,null,null,null,null,null,null,null,null,null,null,null,null,null,null,"60' x 27.5'"]
[]
[]
[]
[]
[]
[null,null,null,null,null,null,null,null,null,null,null,null,null,null,null,null,null,null,null,null,null,null,null,null,null,null,null,null,null,null,null,null,null,null,null,null,null,null,null,null,null,null,null,null,null,"Note option of staggering double rows of cacao as shown on bottom of diagram to optimize growth space."]
[]
[]
[]
[]
[]
[]
[]
[null,null,null,null,null,null,null,null,null,null,null,null,null,null,"double rows of cacao staggered"]

{"sheet":"Forestry Linear","index":9,"n_rows":575,"n_cols":50,"rows_kept":575,"cut":false,"hidden":false,"merged":[[206,6,207,6],[205,6,205,9],[205,10,205,17],[96,2,96,9],[96,10,96,11],[96,12,96,13],[91,8,91,9],[91,10,91,12],[93,2,93,9],[93,10,93,11],[93,12,93,13],[94,2,94,9],[94,10,94,11],[94,12,94,13],[95,2,95,9],[95,10,95,11],[95,12,95,13],[121,8,121,9],[120,8,120,9],[119,8,119,9],[122,2,122,6],[121,2,121,6],[118,2,118,6],[119,2,119,6],[18,1,19,1],[27,15,27,19],[28,15,28,19],[116,13,117,13],[107,2,107,13],[104,2,104,9],[79,2,79,13],[68,2,68,13],[49,14,49,16],[54,14,55,17],[56,2,56,13],[111,2,111,3],[111,5,111,6],[116,2,116,6],[117,2,117,6],[116,8,116,9],[110,9,110,13],[115,2,115,13],[113,2,113,6],[114,2,114,6],[100,2,100,13],[106,2,106,13],[105,11,105,13],[56,14,58,22],[54,18,55,22],[52,14,53,17],[62,2,62,13],[47,14,47,16],[78,2,78,13],[49,17,49,21],[48,17,48,21],[47,17,47,21],[61,5,61,13],[66,14,66,18],[52,18,53,22],[50,2,50,13],[48,14,48,16],[57,2,57,9],[55,12,55,13],[63,2,63,13],[59,2,59,13],[77,2,77,13],[70,8,70,12],[74,2,74,13],[70,2,70,7],[55,2,55,7],[67,14,67,18],[67,2,67,12],[120,2,120,6],[116,11,116,12],[118,8,118,9],[117,8,117,9],[119,11,119,12],[118,11,118,12],[117,11,117,12],[76,2,76,7],[69,2,69,13],[72,2,72,8],[99,2,99,13],[112,9,112,13],[85,2,85,13],[105,2,105,9],[110,2,110,5],[87,2,87,6],[87,7,87,9],[87,10,87,12],[87,13,88,13],[88,2,88,7],[88,8,88,9],[88,10,88,12],[89,2,89,7],[89,8,89,9],[5,5,5,7],[6,5,6,6],[6,10,6,12],[5,9,5,13],[0,2,1,11],[47,2,47,13],[65,10,65,12],[61,2,61,4],[86,2,86,13],[11,6,11,7],[6,2,6,3],[7,2,7,4],[7,5,7,7],[13,2,13,13],[60,2,60,13],[48,2,48,13],[43,2,43,11],[49,2,49,13],[44,2,44,13],[51,2,54,13],[46,2,46,13],[58,2,58,13],[10,2,10,5],[89,10,89,12],[90,2,90,7],[90,8,90,9],[90,10,90,12],[91,2,91,7],[24,15,24,19],[16,14,16,19],[41,15,41,19],[42,15,42,19],[26,15,26,19],[25,15,25,19],[19,9,20,9],[21,15,21,19],[22,15,22,19],[23,15,23,19],[29,15,29,19],[35,15,35,19],[36,15,36,19],[34,15,34,19],[38,15,38,19],[30,15,30,19],[31,15,31,19],[32,15,32,19],[33,15,33,19],[37,15,37,19],[40,15,40,19],[18,2,18,13],[19,10,20,10],[0,14,0,22],[1,14,1,22],[12,20,12,22],[12,18,12,19],[3,2,3,13],[8,2,8,13],[14,14,15,14],[14,16,15,19],[14,20,15,20],[14,15,15,15],[0,12,0,13],[1,12,1,13],[7,10,7,12],[2,2,2,13],[4,12,4,13],[4,2,4,10],[9,2,9,5],[19,20,20,20],[9,6,9,13],[10,6,10,13],[19,14,20,14],[11,15,11,22],[13,20,13,22],[13,15,13,16],[11,2,12,5],[13,18,13,19],[12,15,12,16],[19,15,20,19],[17,14,17,19],[19,22,20,22],[19,21,20,21],[19,12,20,12],[19,13,20,13],[11,12,12,13],[11,9,12,11],[14,2,17,13],[12,6,12,7],[19,11,20,11],[19,2,20,2],[19,3,20,3],[19,7,20,7],[19,8,20,8],[19,4,19,6],[39,15,39,19],[44,14,44,22],[45,14,45,22],[46,14,46,22],[125,2,125,12],[124,2,124,13],[123,2,123,6],[81,2,81,13],[68,14,68,18],[65,14,65,18],[123,11,123,12],[122,11,122,12],[121,11,121,12],[120,11,120,12],[123,8,123,9],[122,8,122,9],[114,7,114,13],[112,2,112,7],[64,2,64,13],[75,2,75,13],[73,2,73,13],[109,2,109,10],[101,2,101,13],[110,6,110,7],[22,1,23,1],[126,2,126,10],[136,2,136,13],[133,12,133,13],[134,7,134,10],[134,12,134,13],[135,2,135,13],[133,7,133,10],[127,2,127,12],[131,2,131,13],[133,2,134,6],[132,2,132,13],[71,2,71,13],[103,2,103,13],[66,2,66,13],[102,2,102,13],[80,2,80,13],[113,7,113,13],[82,2,82,13],[104,11,104,13],[111,11,111,12],[98,2,98,13],[109,12,109,13],[108,2,108,13]]}
["Yes",null,"Natural Resources Conservation Service - Pacific Islands\nConservation Practice Implementation Requirements",null,null,null,null,null,null,null,null,null,"Field Office:",null,"Information & Resources for Conservation Planners",null,null,null,null,null,null,null,null,null,null,null,"American Samoa"]
["Yes",null,null,null,null,null,null,null,null,null,null,null,null,null,"PIA e-FOTG",null,null,null,null,null,null,null,null,null,null,null,"Guam"]
["Yes",null,{"$f":"'Veg Guide Data Base'!B4","v":"Use the Forestry Area Template for the Selected Practice"},null,null,null,null,null,null,null,null,null,null,null,null,null,null,null,null,null,null,null,null,null,null,null,"Hilo","N",null,null,"Select Number"]
["Yes",null,"Version 7.0, October 2021",null,null,null,null,null,null,null,null,null,null,null,null,null,null,null,null,null,null,null,null,null,null,null,"Hoolehua","NE",null,null,1]
["Yes","Clear Form"," Jobsheet Prepared for and by:",null,null,null,null,null,null,null,null,"Date:",{"$f":"'Veg Guide Data Base'!AQ3","v":"00:00:00"},null,null,null,null,null,null,null,null,null,null,null,null,null,"Kahului","E",null,null,2]
["Yes",null,"Cooperator Name",null,null,{"$f":"'Veg Guide Data Base'!B1402","v":0},null,null,"Business Name",{"$f":"'Veg Guide Data Base'!B1403","v":0},null,null,null,null,null,null,null,null,null,null,null,null,null,null,null,null,"Kealakekua","SE",null,null,3]
["Yes","Return to User Forms","Tract Number",null,{"$f":"'Veg Guide Data Base'!B1405","v":0},"Field Number(s)",null,{"$f":"'Veg Guide Data Base'!B1406","v":0},"Field Acres",{"$f":"'Veg Guide Data Base'!B1407","v":0},"Total Linear Feet\nto be Planted",null,null,{"$f":"'Veg Guide Data Base'!B1408","v":0},null,null,null,null,null,null,null,null,null,null,null,null,"Lihue","S",null,null,4]
["Yes",null,"Planner Name",null,null,{"$f":"'Veg Guide Data Base'!B1398","v":0},null,null,null,null,null,null,null,null,null,null,null,null,null,null,null,null,null,null,null,null,"Oahu","SW",null,null,5]
["Yes",null," Purpose & Site Conditions for Planned Practice:",null,null,null,null,null,null,null,null,null,null,null,null,null,null,null,null,null,null,null,null,null,null,null,"Palau","W",null,null,6]
["Yes",null,"Resource Concern ",null,null,null,null,null,null,null,null,null,null,null,null,null,null,null,null,null,null,null,null,null,null,null,"Pohnpei","NW",null,null,7]
["Yes",null,"Primary Purpose ",null,null,null,null,null,null,null,null,null,null,null,null,null,null,null,null,null,null,null,null,null,null,null,"Saipan",null,null,null,8]
["Yes","Exit Program","Planting Site Conditions",null,null,null,"Site Rainfall (inches/year)",null,{"$f":"'Veg Guide Data Base'!C6","v":0},"Will Plantings be Irrigated by Automated System?",null,null,null,null,null,null,null,null,null,null,null,null,null,null,null,null,"Waimea",null,null,null,9]
["Yes",null,null,null,null,null,"Site Elevation (feet)",null,{"$f":"'Veg Guide Data Base'!C7","v":0},null,null,null,null,null,null,null,null,null,null,null,null,null,null,"Yes",null,null,"Marshall Islands",null,null,null,10]
["Yes",null," Summary of Conservation Practice: Trees or shrubs are planted in single-row or multiple-row sets.",null,null,null,null,null,null,null,null,null,null,null,null,null,null,null,null,null,null,null,null,"No",null,null,null,null,null,null,11]
["Yes",null,null,null,null,null,null,null,null,null,null,null,null,null,"Prevailing winds originate from:","SE","Angle at which prevailing winds cross a windbreak set selected for analysis:",null,null,null,70,null,null,null,null,null,null,null,null,null,12]
["Yes",null,null,null,null,null,null,null,null,null,null,null,null,null,null,null,null,null,null,null,null,null,null,null,null,null,null,null,null,null,13]
["Yes",null,null,null,null,null,null,null,null,null,null,null,null,null,"Approximate 20 year height (ft.) of tallest species in the selected windbreak set:",null,null,null,null,null,20,null,null,null,null,null,null,null,null,null,14,90]
["Yes",null,null,null,null,null,null,null,null,null,null,null,null,null,"Approximate distance into field that will be protected by selected windbreak set:",null,null,null,null,null,{"$f":"IF(U15*U17=0,\"\",SIN(U15*PI()/180)*U17*10)","v":187.93852415718166},null,null,null,null,null,null,null,null,null,15,85]
["Yes","Number of Segments"," Plant Species and Spacing (also see Job Sketch):",null,null,null,null,null,null,null,null,null,null,null," Additional information on Selected Plant Species:",null,null,null,null,null,null,null,null,null,null,null,null,null,null,null,16,80]
["Yes",null,"Set","Row","Segment",null,null,"Scientific name","Common name","Planting material","Origin","Within row spacing (feet)","Qty. to plant","Spacing to next row (feet)","HPWRA Score","Species notes",null,null,null,null,"Typical growth rate (ft./yr.)","Typical height (ft.) at age 20","Segment length ≥ 200 feet?",null,null,null,null,null,null,null,17,75]
["Yes","Select Number",null,null,"Height class","Code","Length (feet)",null,null,null,null,null,null,null,null,null,null,null,null,null,null,null,null,null,"<select>",null,null,null,"<select>",null,18,70,"Ht Class Function","HPWRA VR","HPWRA Veg Spec","Notes VR","Notes VegSpec",null,null,null,null,null,null,null,null,null,null,null,null,{"$f":"IFERROR(IF(I22<>\"\",INDEX('Veg Guide Data Base'!$BV$29:$BV$800,MATCH('Forestry Linear'!$H22,'Veg Guide Data Base'!$AZ$29:$AZ$800,0)),INDEX('Variance Request'!$D$15:$D$39,MATCH('Forestry Linear'!$H22,'Variance Request'!$B$15:$B$39,0))),\"\")","v":""}]
["Yes",null,null,null,{"$f":"IFERROR(IF(I22=\"\",\"\",IF(AG22=\"1-25\",\"short\",IF(AG22=\"25-40\",\"medium\",IF(AG22=\"40+\",\"tall\")))),\"<select>\")","v":""},{"$f":"AA22","v":""},null,{"$f":"IF(I22<>\"\",VLOOKUP(I22,H$209:K$575,2,FALSE),\"\")","v":""},null,null,{"$f":"IFERROR(IF(I22=\"\",\"\",IF(INDEX('Veg Guide Data Base'!$BZ$29:$DC$600,MATCH($H22,'Veg Guide Data Base'!$AZ$29:$AZ$600,0),MATCH('Veg Guide Data Base'!$AC$2,'Veg Guide Data Base'!$BZ$18:$DC$18,0))=\"Yes\",\"Native\",\"Introduced\")),\"<select>\")","v":""},null,{"$f":"IF(OR(G22=\"\",L22=\"\"),\"\",ROUNDDOWN(1+(G22/L22),0))","v":""},null,{"$f":"IF(AH22=\"\",AI22,AH22)","v":""},{"$f":"IF(AJ22=\"\",AK22,AJ22)","v":""},null,null,null,null,{"$f":"IFERROR(IF(I22=\"\",\"\",VLOOKUP(I22,H$209:K$511,3,FALSE)),\"\")","v":""},{"$f":"IFERROR(IF(I22=\"\",\"\",VLOOKUP(I22,H$209:L$550,5,FALSE)),\"\")","v":""},{"$f":"IF(OR(G22=\"\",$C$3<>\"Windbreak/Shelterbelt Establishment (380)\"),\"n/a\",IF(AND($C$3=\"Windbreak/Shelterbelt Establishment (380)\",G22>=200),\"Yes\",\"No\"))","v":"n/a"},"n/a","short",{"$f":"IF(C22*D22>0,D22,\"\")","v":""},{"$f":"IF(Z22=\"\",\"\",C22*10+D22+0.1)","v":""},"Container","Native",1,19,65,{"$f":"IF(I22=\"\",\"\",VLOOKUP(I22,H$209:L$550,4,FALSE))","v":""},{"$f":"IFERROR(INDEX('Variance Request'!$D$15:$D$39,MATCH('Forestry Linear'!$H22,'Variance Request'!$B$15:$B$39,0)),\"\")","v":""},{"$f":"IFERROR(INDEX('Veg Guide Data Base'!$BV$29:$BV$800,MATCH('Forestry Linear'!$H22,'Veg Guide Data Base'!$AZ$29:$AZ$800,0)),\"\")","v":""},{"$f":"IFERROR(IF(INDEX('Variance Request'!$G$15:$G$39,MATCH('Forestry Linear'!$H22,'Variance Request'!$B$15:$B$39,0))=\"\",\"\",(INDEX('Variance Request'!$G$15:$G$39,MATCH('Forestry Linear'!$H22,'Variance Request'!$B$15:$B$39,0)))),\"\")","v":""},{"$f":"IFERROR(IF(I22<>\"\",VLOOKUP(H22,'Veg Guide Data Base'!$AZ$29:$DD$800,57,FALSE),\"\"),\"\")","v":""}]
[{"$f":"IF($B$21=\"Select Number\",\"No\",IF($B$21<2,\"No\",\"Yes\"))","v":"No"},null,null,null,"",{"$f":"AA23","v":""},null,{"$f":"IF(I23<>\"\",VLOOKUP(I23,H$209:K$575,2,FALSE),\"\")","v":""},null,null,{"$f":"IFERROR(IF(I23=\"\",\"\",IF(INDEX('Veg Guide Data Base'!$BZ$29:$DC$600,MATCH($H23,'Veg Guide Data Base'!$AZ$29:$AZ$600,0),MATCH('Veg Guide Data Base'!$AC$2,'Veg Guide Data Base'!$BZ$18:$DC$18,0))=\"Yes\",\"Native\",\"Introduced\")),\"<select>\")","v":""},null,{"$f":"IF(OR(G23=\"\",L23=\"\"),\"\",ROUNDDOWN(1+(G23/L23),0))","v":""},null,{"$f":"IF(AH23=\"\",AI23,AH23)","v":""},{"$f":"IF(AJ23=\"\",AK23,AJ23)","v":""},null,null,null,null,{"$f":"IFERROR(IF(I23=\"\",\"\",VLOOKUP(I23,H$209:K$511,3,FALSE)),\"\")","v":""},{"$f":"IFERROR(IF(I23=\"\",\"\",VLOOKUP(I23,H$209:L$550,5,FALSE)),\"\")","v":""},{"$f":"IF(OR(G23=\"\",$C$3<>\"Windbreak/Shelterbelt Establishment (380)\"),\"n/a\",IF(AND($C$3=\"Windbreak/Shelterbelt Establishment (380)\",G23>=200),\"Yes\",\"No\"))","v":"n/a"},1.5,"medium",{"$f":"IF(C23*D23>0,D23,\"\")","v":""},{"$f":"IF(Z23=\"\",\"\",IF(AND(C23=C22,Z23=Z22),AA22+0.1,C23*10+D23+0.1))","v":""},"Cutting","Introduced",2,20,60,{"$f":"IF(I23=\"\",\"\",VLOOKUP(I23,H$209:L$550,4,FALSE))","v":""},{"$f":"IFERROR(INDEX('Variance Request'!$D$15:$D$39,MATCH('Forestry Linear'!$H23,'Variance Request'!$B$15:$B$39,0)),\"\")","v":""},{"$f":"IFERROR(INDEX('Veg Guide Data Base'!$BV$29:$BV$800,MATCH('Forestry Linear'!$H23,'Veg Guide Data Base'!$AZ$29:$AZ$800,0)),\"\")","v":""},{"$f":"IFERROR(IF(INDEX('Variance Request'!$G$15:$G$39,MATCH('Forestry Linear'!$H23,'Variance Request'!$B$15:$B$39,0))=\"\",\"\",(INDEX('Variance Request'!$G$15:$G$39,MATCH('Forestry Linear'!$H23,'Variance Request'!$B$15:$B$39,0)))),\"\")","v":""},{"$f":"IFERROR(IF(I23<>\"\",VLOOKUP(H23,'Veg Guide Data Base'!$AZ$29:$DD$800,57,FALSE),\"\"),\"\")","v":""}]
[{"$f":"IF($B$21=\"Select Number\",\"No\",IF($B$21<3,\"No\",\"Yes\"))","v":"No"},null,null,null,"","",null,"",null,null,{"$f":"IFERROR(IF(I24=\"\",\"\",IF(INDEX('Veg Guide Data Base'!$BZ$29:$DC$600,MATCH($H24,'Veg Guide Data Base'!$AZ$29:$AZ$600,0),MATCH('Veg Guide Data Base'!$AC$2,'Veg Guide Data Base'!$BZ$18:$DC$18,0))=\"Yes\",\"Native\",\"Introduced\")),\"<select>\")","v":""},null,"",null,"","",null,null,null,null,"","","n/a",2,"tall","",{"$f":"IF(Z24=\"\",\"\",IF(AND(C24=C23,Z24=Z23),AA23+0.1,C24*10+D24+0.1))","v":""},"Bare root",null,3,21,55,"",{"$f":"IFERROR(INDEX('Variance Request'!$D$15:$D$39,MATCH('Forestry Linear'!$H24,'Variance Request'!$B$15:$B$39,0)),\"\")","v":""},{"$f":"IFERROR(INDEX('Veg Guide Data Base'!$BV$29:$BV$800,MATCH('Forestry Linear'!$H24,'Veg Guide Data Base'!$AZ$29:$AZ$800,0)),\"\")","v":""},{"$f":"IFERROR(IF(INDEX('Variance Request'!$G$15:$G$39,MATCH('Forestry Linear'!$H24,'Variance Request'!$B$15:$B$39,0))=\"\",\"\",(INDEX('Variance Request'!$G$15:$G$39,MATCH('Forestry Linear'!$H24,'Variance Request'!$B$15:$B$39,0)))),\"\")","v":""},{"$f":"IFERROR(IF(I24<>\"\",VLOOKUP(H24,'Veg Guide Data Base'!$AZ$29:$DD$800,57,FALSE),\"\"),\"\")","v":""}]
[{"$f":"IF($B$21=\"Select Number\",\"No\",IF($B$21<4,\"No\",\"Yes\"))","v":"No"},null,null,null,"","",null,"",null,null,{"$f":"IFERROR(IF(I25=\"\",\"\",IF(INDEX('Veg Guide Data Base'!$BZ$29:$DC$600,MATCH($H25,'Veg Guide Data Base'!$AZ$29:$AZ$600,0),MATCH('Veg Guide Data Base'!$AC$2,'Veg Guide Data Base'!$BZ$18:$DC$18,0))=\"Yes\",\"Native\",\"Introduced\")),\"<select>\")","v":""},null,"",null,"","",null,null,null,null,"","","n/a",2.5,null,"","",null,null,4,22,50,"",{"$f":"IFERROR(INDEX('Variance Request'!$D$15:$D$39,MATCH('Forestry Linear'!$H25,'Variance Request'!$B$15:$B$39,0)),\"\")","v":""},{"$f":"IFERROR(INDEX('Veg Guide Data Base'!$BV$29:$BV$800,MATCH('Forestry Linear'!$H25,'Veg Guide Data Base'!$AZ$29:$AZ$800,0)),\"\")","v":""},{"$f":"IFERROR(IF(INDEX('Variance Request'!$G$15:$G$39,MATCH('Forestry Linear'!$H25,'Variance Request'!$B$15:$B$39,0))=\"\",\"\",(INDEX('Variance Request'!$G$15:$G$39,MATCH('Forestry Linear'!$H25,'Variance Request'!$B$15:$B$39,0)))),\"\")","v":""},{"$f":"IFERROR(IF(I25<>\"\",VLOOKUP(H25,'Veg Guide Data Base'!$AZ$29:$DD$800,57,FALSE),\"\"),\"\")","v":""}]
[{"$f":"IF($B$21=\"Select Number\",\"No\",IF($B$21<5,\"No\",\"Yes\"))","v":"No"},null,null,null,"","",null,"",null,null,{"$f":"IFERROR(IF(I26=\"\",\"\",IF(INDEX('Veg Guide Data Base'!$BZ$29:$DC$600,MATCH($H26,'Veg Guide Data Base'!$AZ$29:$AZ$600,0),MATCH('Veg Guide Data Base'!$AC$2,'Veg Guide Data Base'!$BZ$18:$DC$18,0))=\"Yes\",\"Native\",\"Introduced\")),\"<select>\")","v":""},null,"",null,"","",null,null,null,null,"","","n/a",3,null,"","",null,null,5,null,45,"",{"$f":"IFERROR(INDEX('Variance Request'!$D$15:$D$39,MATCH('Forestry Linear'!$H26,'Variance Request'!$B$15:$B$39,0)),\"\")","v":""},{"$f":"IFERROR(INDEX('Veg Guide Data Base'!$BV$29:$BV$800,MATCH('Forestry Linear'!$H26,'Veg Guide Data Base'!$AZ$29:$AZ$800,0)),\"\")","v":""},{"$f":"IFERROR(IF(INDEX('Variance Request'!$G$15:$G$39,MATCH('Forestry Linear'!$H26,'Variance Request'!$B$15:$B$39,0))=\"\",\"\",(INDEX('Variance Request'!$G$15:$G$39,MATCH('Forestry Linear'!$H26,'Variance Request'!$B$15:$B$39,0)))),\"\")","v":""},{"$f":"IFERROR(IF(I26<>\"\",VLOOKUP(H26,'Veg Guide Data Base'!$AZ$29:$DD$800,57,FALSE),\"\"),\"\")","v":""}]
[{"$f":"IF($B$21=\"Select Number\",\"No\",IF($B$21<6,\"No\",\"Yes\"))","v":"No"},null,null,null,"","",null,"",null,null,{"$f":"IFERROR(IF(I27=\"\",\"\",IF(INDEX('Veg Guide Data Base'!$BZ$29:$DC$600,MATCH($H27,'Veg Guide Data Base'!$AZ$29:$AZ$600,0),MATCH('Veg Guide Data Base'!$AC$2,'Veg Guide Data Base'!$BZ$18:$DC$18,0))=\"Yes\",\"Native\",\"Introduced\")),\"<select>\")","v":""},null,"",null,"","",null,null,null,null,"","","n/a",4,null,"","",null,null,null,null,null,"",{"$f":"IFERROR(INDEX('Variance Request'!$D$15:$D$39,MATCH('Forestry Linear'!$H27,'Variance Request'!$B$15:$B$39,0)),\"\")","v":""},{"$f":"IFERROR(INDEX('Veg Guide Data Base'!$BV$29:$BV$800,MATCH('Forestry Linear'!$H27,'Veg Guide Data Base'!$AZ$29:$AZ$800,0)),\"\")","v":""},{"$f":"IFERROR(IF(INDEX('Variance Request'!$G$15:$G$39,MATCH('Forestry Linear'!$H27,'Variance Request'!$B$15:$B$39,0))=\"\",\"\",(INDEX('Variance Request'!$G$15:$G$39,MATCH('Forestry Linear'!$H27,'Variance Request'!$B$15:$B$39,0)))),\"\")","v":""},{"$f":"IFERROR(IF(I27<>\"\",VLOOKUP(H27,'Veg Guide Data Base'!$AZ$29:$DD$800,57,FALSE),\"\"),\"\")","v":""}]
[{"$f":"IF($B$21=\"Select Number\",\"No\",IF($B$21<7,\"No\",\"Yes\"))","v":"No"},null,null,null,"","",null,"",null,null,{"$f":"IFERROR(IF(I28=\"\",\"\",IF(INDEX('Veg Guide Data Base'!$BZ$29:$DC$600,MATCH($H28,'Veg Guide Data Base'!$AZ$29:$AZ$600,0),MATCH('Veg Guide Data Base'!$AC$2,'Veg Guide Data Base'!$BZ$18:$DC$18,0))=\"Yes\",\"Native\",\"Introduced\")),\"<select>\")","v":""},null,"",null,"","",null,null,null,null,"","","n/a",5,null,"","",null,null,null,null,null,"",{"$f":"IFERROR(INDEX('Variance Request'!$D$15:$D$39,MATCH('Forestry Linear'!$H28,'Variance Request'!$B$15:$B$39,0)),\"\")","v":""},{"$f":"IFERROR(INDEX('Veg Guide Data Base'!$BV$29:$BV$800,MATCH('Forestry Linear'!$H28,'Veg Guide Data Base'!$AZ$29:$AZ$800,0)),\"\")","v":""},{"$f":"IFERROR(IF(INDEX('Variance Request'!$G$15:$G$39,MATCH('Forestry Linear'!$H28,'Variance Request'!$B$15:$B$39,0))=\"\",\"\",(INDEX('Variance Request'!$G$15:$G$39,MATCH('Forestry Linear'!$H28,'Variance Request'!$B$15:$B$39,0)))),\"\")","v":""},{"$f":"IFERROR(IF(I28<>\"\",VLOOKUP(H28,'Veg Guide Data Base'!$AZ$29:$DD$800,57,FALSE),\"\"),\"\")","v":""}]
[{"$f":"IF($B$21=\"Select Number\",\"No\",IF($B$21<8,\"No\",\"Yes\"))","v":"No"},null,null,null,"","",null,"",null,null,{"$f":"IFERROR(IF(I29=\"\",\"\",IF(INDEX('Veg Guide Data Base'!$BZ$29:$DC$600,MATCH($H29,'Veg Guide Data Base'!$AZ$29:$AZ$600,0),MATCH('Veg Guide Data Base'!$AC$2,'Veg Guide Data Base'!$BZ$18:$DC$18,0))=\"Yes\",\"Native\",\"Introduced\")),\"<select>\")","v":""},null,"",null,"","",null,null,null,null,"","","n/a",6,null,"","",null,null,null,null,null,"",{"$f":"IFERROR(INDEX('Variance Request'!$D$15:$D$39,MATCH('Forestry Linear'!$H29,'Variance Request'!$B$15:$B$39,0)),\"\")","v":""},{"$f":"IFERROR(INDEX('Veg Guide Data Base'!$BV$29:$BV$800,MATCH('Forestry Linear'!$H29,'Veg Guide Data Base'!$AZ$29:$AZ$800,0)),\"\")","v":""},{"$f":"IFERROR(IF(INDEX('Variance Request'!$G$15:$G$39,MATCH('Forestry Linear'!$H29,'Variance Request'!$B$15:$B$39,0))=\"\",\"\",(INDEX('Variance Request'!$G$15:$G$39,MATCH('Forestry Linear'!$H29,'Variance Request'!$B$15:$B$39,0)))),\"\")","v":""},{"$f":"IFERROR(IF(I29<>\"\",VLOOKUP(H29,'Veg Guide Data Base'!$AZ$29:$DD$800,57,FALSE),\"\"),\"\")","v":""}]
[{"$f":"IF($B$21=\"Select Number\",\"No\",IF($B$21<9,\"No\",\"Yes\"))","v":"No"},null,null,null,"","",null,"",null,null,{"$f":"IFERROR(IF(I30=\"\",\"\",IF(INDEX('Veg Guide Data Base'!$BZ$29:$DC$600,MATCH($H30,'Veg Guide Data Base'!$AZ$29:$AZ$600,0),MATCH('Veg Guide Data Base'!$AC$2,'Veg Guide Data Base'!$BZ$18:$DC$18,0))=\"Yes\",\"Native\",\"Introduced\")),\"<select>\")","v":""},null,"",null,"","",null,null,null,null,"","","n/a",7,null,"","",null,null,null,null,null,"",{"$f":"IFERROR(INDEX('Variance Request'!$D$15:$D$39,MATCH('Forestry Linear'!$H30,'Variance Request'!$B$15:$B$39,0)),\"\")","v":""},{"$f":"IFERROR(INDEX('Veg Guide Data Base'!$BV$29:$BV$800,MATCH('Forestry Linear'!$H30,'Veg Guide Data Base'!$AZ$29:$AZ$800,0)),\"\")","v":""},{"$f":"IFERROR(IF(INDEX('Variance Request'!$G$15:$G$39,MATCH('Forestry Linear'!$H30,'Variance Request'!$B$15:$B$39,0))=\"\",\"\",(INDEX('Variance Request'!$G$15:$G$39,MATCH('Forestry Linear'!$H30,'Variance Request'!$B$15:$B$39,0)))),\"\")","v":""},{"$f":"IFERROR(IF(I30<>\"\",VLOOKUP(H30,'Veg Guide Data Base'!$AZ$29:$DD$800,57,FALSE),\"\"),\"\")","v":""}]
[{"$f":"IF($B$21=\"Select Number\",\"No\",IF($B$21<10,\"No\",\"Yes\"))","v":"No"},null,null,null,"","",null,"",null,null,{"$f":"IFERROR(IF(I31=\"\",\"\",IF(INDEX('Veg Guide Data Base'!$BZ$29:$DC$600,MATCH($H31,'Veg Guide Data Base'!$AZ$29:$AZ$600,0),MATCH('Veg Guide Data Base'!$AC$2,'Veg Guide Data Base'!$BZ$18:$DC$18,0))=\"Yes\",\"Native\",\"Introduced\")),\"<select>\")","v":""},null,"",null,"","",null,null,null,null,"","","n/a",7.5,null,"","",null,null,null,null,null,"",{"$f":"IFERROR(INDEX('Variance Request'!$D$15:$D$39,MATCH('Forestry Linear'!$H31,'Variance Request'!$B$15:$B$39,0)),\"\")","v":""},{"$f":"IFERROR(INDEX('Veg Guide Data Base'!$BV$29:$BV$800,MATCH('Forestry Linear'!$H31,'Veg Guide Data Base'!$AZ$29:$AZ$800,0)),\"\")","v":""},{"$f":"IFERROR(IF(INDEX('Variance Request'!$G$15:$G$39,MATCH('Forestry Linear'!$H31,'Variance Request'!$B$15:$B$39,0))=\"\",\"\",(INDEX('Variance Request'!$G$15:$G$39,MATCH('Forestry Linear'!$H31,'Variance Request'!$B$15:$B$39,0)))),\"\")","v":""},{"$f":"IFERROR(IF(I31<>\"\",VLOOKUP(H31,'Veg Guide Data Base'!$AZ$29:$DD$800,57,FALSE),\"\"),\"\")","v":""}]
[{"$f":"IF($B$21=\"Select Number\",\"No\",IF($B$21<11,\"No\",\"Yes\"))","v":"No"},null,null,null,"","",null,"",null,null,{"$f":"IFERROR(IF(I32=\"\",\"\",IF(INDEX('Veg Guide Data Base'!$BZ$29:$DC$600,MATCH($H32,'Veg Guide Data Base'!$AZ$29:$AZ$600,0),MATCH('Veg Guide Data Base'!$AC$2,'Veg Guide Data Base'!$BZ$18:$DC$18,0))=\"Yes\",\"Native\",\"Introduced\")),\"<select>\")","v":""},null,"",null,"","",null,null,null,null,"","","n/a",8,null,"","",null,null,null,null,null,"",{"$f":"IFERROR(INDEX('Variance Request'!$D$15:$D$39,MATCH('Forestry Linear'!$H32,'Variance Request'!$B$15:$B$39,0)),\"\")","v":""},{"$f":"IFERROR(INDEX('Veg Guide Data Base'!$BV$29:$BV$800,MATCH('Forestry Linear'!$H32,'Veg Guide Data Base'!$AZ$29:$AZ$800,0)),\"\")","v":""},{"$f":"IFERROR(IF(INDEX('Variance Request'!$G$15:$G$39,MATCH('Forestry Linear'!$H32,'Variance Request'!$B$15:$B$39,0))=\"\",\"\",(INDEX('Variance Request'!$G$15:$G$39,MATCH('Forestry Linear'!$H32,'Variance Request'!$B$15:$B$39,0)))),\"\")","v":""},{"$f":"IFERROR(IF(I32<>\"\",VLOOKUP(H32,'Veg Guide Data Base'!$AZ$29:$DD$800,57,FALSE),\"\"),\"\")","v":""}]
[{"$f":"IF($B$21=\"Select Number\",\"No\",IF($B$21<12,\"No\",\"Yes\"))","v":"No"},null,null,null,"","",null,"",null,null,{"$f":"IFERROR(IF(I33=\"\",\"\",IF(INDEX('Veg Guide Data Base'!$BZ$29:$DC$600,MATCH($H33,'Veg Guide Data Base'!$AZ$29:$AZ$600,0),MATCH('Veg Guide Data Base'!$AC$2,'Veg Guide Data Base'!$BZ$18:$DC$18,0))=\"Yes\",\"Native\",\"Introduced\")),\"<select>\")","v":""},null,"",null,"","",null,null,null,null,"","","n/a",9,null,"","",null,null,null,null,null,"",{"$f":"IFERROR(INDEX('Variance Request'!$D$15:$D$39,MATCH('Forestry Linear'!$H33,'Variance Request'!$B$15:$B$39,0)),\"\")","v":""},{"$f":"IFERROR(INDEX('Veg Guide Data Base'!$BV$29:$BV$800,MATCH('Forestry Linear'!$H33,'Veg Guide Data Base'!$AZ$29:$AZ$800,0)),\"\")","v":""},{"$f":"IFERROR(IF(INDEX('Variance Request'!$G$15:$G$39,MATCH('Forestry Linear'!$H33,'Variance Request'!$B$15:$B$39,0))=\"\",\"\",(INDEX('Variance Request'!$G$15:$G$39,MATCH('Forestry Linear'!$H33,'Variance Request'!$B$15:$B$39,0)))),\"\")","v":""},{"$f":"IFERROR(IF(I33<>\"\",VLOOKUP(H33,'Veg Guide Data Base'!$AZ$29:$DD$800,57,FALSE),\"\"),\"\")","v":""}]
[{"$f":"IF($B$21=\"Select Number\",\"No\",IF($B$21<13,\"No\",\"Yes\"))","v":"No"},null,null,null,"","",null,"",null,null,{"$f":"IFERROR(IF(I34=\"\",\"\",IF(INDEX('Veg Guide Data Base'!$BZ$29:$DC$600,MATCH($H34,'Veg Guide Data Base'!$AZ$29:$AZ$600,0),MATCH('Veg Guide Data Base'!$AC$2,'Veg Guide Data Base'!$BZ$18:$DC$18,0))=\"Yes\",\"Native\",\"Introduced\")),\"<select>\")","v":""},null,"",null,"","",null,null,null,null,"","","n/a",10,null,"","",null,null,null,null,null,"",{"$f":"IFERROR(INDEX('Variance Request'!$D$15:$D$39,MATCH('Forestry Linear'!$H34,'Variance Request'!$B$15:$B$39,0)),\"\")","v":""},{"$f":"IFERROR(INDEX('Veg Guide Data Base'!$BV$29:$BV$800,MATCH('Forestry Linear'!$H34,'Veg Guide Data Base'!$AZ$29:$AZ$800,0)),\"\")","v":""},{"$f":"IFERROR(IF(INDEX('Variance Request'!$G$15:$G$39,MATCH('Forestry Linear'!$H34,'Variance Request'!$B$15:$B$39,0))=\"\",\"\",(INDEX('Variance Request'!$G$15:$G$39,MATCH('Forestry Linear'!$H34,'Variance Request'!$B$15:$B$39,0)))),\"\")","v":""},{"$f":"IFERROR(IF(I34<>\"\",VLOOKUP(H34,'Veg Guide Data Base'!$AZ$29:$DD$800,57,FALSE),\"\"),\"\")","v":""}]
[{"$f":"IF($B$21=\"Select Number\",\"No\",IF($B$21<14,\"No\",\"Yes\"))","v":"No"},null,null,null,"","",null,"",null,null,{"$f":"IFERROR(IF(I35=\"\",\"\",IF(INDEX('Veg Guide Data Base'!$BZ$29:$DC$600,MATCH($H35,'Veg Guide Data Base'!$AZ$29:$AZ$600,0),MATCH('Veg Guide Data Base'!$AC$2,'Veg Guide Data Base'!$BZ$18:$DC$18,0))=\"Yes\",\"Native\",\"Introduced\")),\"<select>\")","v":""},null,"",null,"","",null,null,null,null,"","","n/a",11,null,"","",null,null,null,null,null,"",{"$f":"IFERROR(INDEX('Variance Request'!$D$15:$D$39,MATCH('Forestry Linear'!$H35,'Variance Request'!$B$15:$B$39,0)),\"\")","v":""},{"$f":"IFERROR(INDEX('Veg Guide Data Base'!$BV$29:$BV$800,MATCH('Forestry Linear'!$H35,'Veg Guide Data Base'!$AZ$29:$AZ$800,0)),\"\")","v":""},{"$f":"IFERROR(IF(INDEX('Variance Request'!$G$15:$G$39,MATCH('Forestry Linear'!$H35,'Variance Request'!$B$15:$B$39,0))=\"\",\"\",(INDEX('Variance Request'!$G$15:$G$39,MATCH('Forestry Linear'!$H35,'Variance Request'!$B$15:$B$39,0)))),\"\")","v":""},{"$f":"IFERROR(IF(I35<>\"\",VLOOKUP(H35,'Veg Guide Data Base'!$AZ$29:$DD$800,57,FALSE),\"\"),\"\")","v":""}]
[{"$f":"IF($B$21=\"Select Number\",\"No\",IF($B$21<15,\"No\",\"Yes\"))","v":"No"},null,null,null,"","",null,"",null,null,{"$f":"IFERROR(IF(I36=\"\",\"\",IF(INDEX('Veg Guide Data Base'!$BZ$29:$DC$600,MATCH($H36,'Veg Guide Data Base'!$AZ$29:$AZ$600,0),MATCH('Veg Guide Data Base'!$AC$2,'Veg Guide Data Base'!$BZ$18:$DC$18,0))=\"Yes\",\"Native\",\"Introduced\")),\"<select>\")","v":""},null,"",null,"","",null,null,null,null,"","","n/a",12,null,"","",null,null,null,null,null,"",{"$f":"IFERROR(INDEX('Variance Request'!$D$15:$D$39,MATCH('Forestry Linear'!$H36,'Variance Request'!$B$15:$B$39,0)),\"\")","v":""},{"$f":"IFERROR(INDEX('Veg Guide Data Base'!$BV$29:$BV$800,MATCH('Forestry Linear'!$H36,'Veg Guide Data Base'!$AZ$29:$AZ$800,0)),\"\")","v":""},{"$f":"IFERROR(IF(INDEX('Variance Request'!$G$15:$G$39,MATCH('Forestry Linear'!$H36,'Variance Request'!$B$15:$B$39,0))=\"\",\"\",(INDEX('Variance Request'!$G$15:$G$39,MATCH('Forestry Linear'!$H36,'Variance Request'!$B$15:$B$39,0)))),\"\")","v":""},{"$f":"IFERROR(IF(I36<>\"\",VLOOKUP(H36,'Veg Guide Data Base'!$AZ$29:$DD$800,57,FALSE),\"\"),\"\")","v":""}]
[{"$f":"IF($B$21=\"Select Number\",\"No\",IF($B$21<16,\"No\",\"Yes\"))","v":"No"},null,null,null,"","",null,"",null,null,{"$f":"IFERROR(IF(I37=\"\",\"\",IF(INDEX('Veg Guide Data Base'!$BZ$29:$DC$600,MATCH($H37,'Veg Guide Data Base'!$AZ$29:$AZ$600,0),MATCH('Veg Guide Data Base'!$AC$2,'Veg Guide Data Base'!$BZ$18:$DC$18,0))=\"Yes\",\"Native\",\"Introduced\")),\"<select>\")","v":""},null,"",null,"","",null,null,null,null,"","","n/a",12.5,null,"","",null,null,null,null,null,"",{"$f":"IFERROR(INDEX('Variance Request'!$D$15:$D$39,MATCH('Forestry Linear'!$H37,'Variance Request'!$B$15:$B$39,0)),\"\")","v":""},{"$f":"IFERROR(INDEX('Veg Guide Data Base'!$BV$29:$BV$800,MATCH('Forestry Linear'!$H37,'Veg Guide Data Base'!$AZ$29:$AZ$800,0)),\"\")","v":""},{"$f":"IFERROR(IF(INDEX('Variance Request'!$G$15:$G$39,MATCH('Forestry Linear'!$H37,'Variance Request'!$B$15:$B$39,0))=\"\",\"\",(INDEX('Variance Request'!$G$15:$G$39,MATCH('Forestry Linear'!$H37,'Variance Request'!$B$15:$B$39,0)))),\"\")","v":""},{"$f":"IFERROR(IF(I37<>\"\",VLOOKUP(H37,'Veg Guide Data Base'!$AZ$29:$DD$800,57,FALSE),\"\"),\"\")","v":""}]
[{"$f":"IF($B$21=\"Select Number\",\"No\",IF($B$21<17,\"No\",\"Yes\"))","v":"No"},null,null,null,"","",null,"",null,null,{"$f":"IFERROR(IF(I38=\"\",\"\",IF(INDEX('Veg Guide Data Base'!$BZ$29:$DC$600,MATCH($H38,'Veg Guide Data Base'!$AZ$29:$AZ$600,0),MATCH('Veg Guide Data Base'!$AC$2,'Veg Guide Data Base'!$BZ$18:$DC$18,0))=\"Yes\",\"Native\",\"Introduced\")),\"<select>\")","v":""},null,"",null,"","",null,null,null,null,"","","n/a",13,null,"","",null,null,null,null,null,"",{"$f":"IFERROR(INDEX('Variance Request'!$D$15:$D$39,MATCH('Forestry Linear'!$H38,'Variance Request'!$B$15:$B$39,0)),\"\")","v":""},{"$f":"IFERROR(INDEX('Veg Guide Data Base'!$BV$29:$BV$800,MATCH('Forestry Linear'!$H38,'Veg Guide Data Base'!$AZ$29:$AZ$800,0)),\"\")","v":""},{"$f":"IFERROR(IF(INDEX('Variance Request'!$G$15:$G$39,MATCH('Forestry Linear'!$H38,'Variance Request'!$B$15:$B$39,0))=\"\",\"\",(INDEX('Variance Request'!$G$15:$G$39,MATCH('Forestry Linear'!$H38,'Variance Request'!$B$15:$B$39,0)))),\"\")","v":""},{"$f":"IFERROR(IF(I38<>\"\",VLOOKUP(H38,'Veg Guide Data Base'!$AZ$29:$DD$800,57,FALSE),\"\"),\"\")","v":""}]
[{"$f":"IF($B$21=\"Select Number\",\"No\",IF($B$21<18,\"No\",\"Yes\"))","v":"No"},null,null,null,"","",null,"",null,null,{"$f":"IFERROR(IF(I39=\"\",\"\",IF(INDEX('Veg Guide Data Base'!$BZ$29:$DC$600,MATCH($H39,'Veg Guide Data Base'!$AZ$29:$AZ$600,0),MATCH('Veg Guide Data Base'!$AC$2,'Veg Guide Data Base'!$BZ$18:$DC$18,0))=\"Yes\",\"Native\",\"Introduced\")),\"<select>\")","v":""},null,"",null,"","",null,null,null,null,"","","n/a",14,null,"","",null,null,null,null,null,"",{"$f":"IFERROR(INDEX('Variance Request'!$D$15:$D$39,MATCH('Forestry Linear'!$H39,'Variance Request'!$B$15:$B$39,0)),\"\")","v":""},{"$f":"IFERROR(INDEX('Veg Guide Data Base'!$BV$29:$BV$800,MATCH('Forestry Linear'!$H39,'Veg Guide Data Base'!$AZ$29:$AZ$800,0)),\"\")","v":""},{"$f":"IFERROR(IF(INDEX('Variance Request'!$G$15:$G$39,MATCH('Forestry Linear'!$H39,'Variance Request'!$B$15:$B$39,0))=\"\",\"\",(INDEX('Variance Request'!$G$15:$G$39,MATCH('Forestry Linear'!$H39,'Variance Request'!$B$15:$B$39,0)))),\"\")","v":""},{"$f":"IFERROR(IF(I39<>\"\",VLOOKUP(H39,'Veg Guide Data Base'!$AZ$29:$DD$800,57,FALSE),\"\"),\"\")","v":""}]
[{"$f":"IF($B$21=\"Select Number\",\"No\",IF($B$21<19,\"No\",\"Yes\"))","v":"No"},null,null,null,"","",null,"",null,null,{"$f":"IFERROR(IF(I40=\"\",\"\",IF(INDEX('Veg Guide Data Base'!$BZ$29:$DC$600,MATCH($H40,'Veg Guide Data Base'!$AZ$29:$AZ$600,0),MATCH('Veg Guide Data Base'!$AC$2,'Veg Guide Data Base'!$BZ$18:$DC$18,0))=\"Yes\",\"Native\",\"Introduced\")),\"<select>\")","v":""},null,"",null,"","",null,null,null,null,"","","n/a",15,null,"","",null,null,null,null,null,"",{"$f":"IFERROR(INDEX('Variance Request'!$D$15:$D$39,MATCH('Forestry Linear'!$H40,'Variance Request'!$B$15:$B$39,0)),\"\")","v":""},{"$f":"IFERROR(INDEX('Veg Guide Data Base'!$BV$29:$BV$800,MATCH('Forestry Linear'!$H40,'Veg Guide Data Base'!$AZ$29:$AZ$800,0)),\"\")","v":""},{"$f":"IFERROR(IF(INDEX('Variance Request'!$G$15:$G$39,MATCH('Forestry Linear'!$H40,'Variance Request'!$B$15:$B$39,0))=\"\",\"\",(INDEX('Variance Request'!$G$15:$G$39,MATCH('Forestry Linear'!$H40,'Variance Request'!$B$15:$B$39,0)))),\"\")","v":""},{"$f":"IFERROR(IF(I40<>\"\",VLOOKUP(H40,'Veg Guide Data Base'!$AZ$29:$DD$800,57,FALSE),\"\"),\"\")","v":""}]
[{"$f":"IF($B$21=\"Select Number\",\"No\",IF($B$21<20,\"No\",\"Yes\"))","v":"No"},null,null,null,"","",null,"",null,null,{"$f":"IFERROR(IF(I41=\"\",\"\",IF(INDEX('Veg Guide Data Base'!$BZ$29:$DC$600,MATCH($H41,'Veg Guide Data Base'!$AZ$29:$AZ$600,0),MATCH('Veg Guide Data Base'!$AC$2,'Veg Guide Data Base'!$BZ$18:$DC$18,0))=\"Yes\",\"Native\",\"Introduced\")),\"<select>\")","v":""},null,"",null,"","",null,null,null,null,"","","n/a",17.5,null,"","",null,null,null,null,null,"",{"$f":"IFERROR(INDEX('Variance Request'!$D$15:$D$39,MATCH('Forestry Linear'!$H41,'Variance Request'!$B$15:$B$39,0)),\"\")","v":""},{"$f":"IFERROR(INDEX('Veg Guide Data Base'!$BV$29:$BV$800,MATCH('Forestry Linear'!$H41,'Veg Guide Data Base'!$AZ$29:$AZ$800,0)),\"\")","v":""},{"$f":"IFERROR(IF(INDEX('Variance Request'!$G$15:$G$39,MATCH('Forestry Linear'!$H41,'Variance Request'!$B$15:$B$39,0))=\"\",\"\",(INDEX('Variance Request'!$G$15:$G$39,MATCH('Forestry Linear'!$H41,'Variance Request'!$B$15:$B$39,0)))),\"\")","v":""},{"$f":"IFERROR(IF(I41<>\"\",VLOOKUP(H41,'Veg Guide Data Base'!$AZ$29:$DD$800,57,FALSE),\"\"),\"\")","v":""}]
[{"$f":"IF($B$21=\"Select Number\",\"No\",IF($B$21<21,\"No\",\"Yes\"))","v":"No"},null,null,null,"","",null,"",null,null,{"$f":"IFERROR(IF(I42=\"\",\"\",IF(INDEX('Veg Guide Data Base'!$BZ$29:$DC$600,MATCH($H42,'Veg Guide Data Base'!$AZ$29:$AZ$600,0),MATCH('Veg Guide Data Base'!$AC$2,'Veg Guide Data Base'!$BZ$18:$DC$18,0))=\"Yes\",\"Native\",\"Introduced\")),\"<select>\")","v":""},null,"",null,"","",null,null,null,null,"","","n/a",20,null,"","",null,null,null,null,null,"",{"$f":"IFERROR(INDEX('Variance Request'!$D$15:$D$39,MATCH('Forestry Linear'!$H42,'Variance Request'!$B$15:$B$39,0)),\"\")","v":""},{"$f":"IFERROR(INDEX('Veg Guide Data Base'!$BV$29:$BV$800,MATCH('Forestry Linear'!$H42,'Veg Guide Data Base'!$AZ$29:$AZ$800,0)),\"\")","v":""},{"$f":"IFERROR(IF(INDEX('Variance Request'!$G$15:$G$39,MATCH('Forestry Linear'!$H42,'Variance Request'!$B$15:$B$39,0))=\"\",\"\",(INDEX('Variance Request'!$G$15:$G$39,MATCH('Forestry Linear'!$H42,'Variance Request'!$B$15:$B$39,0)))),\"\")","v":""},{"$f":"IFERROR(IF(I42<>\"\",VLOOKUP(H42,'Veg Guide Data Base'!$AZ$29:$DD$800,57,FALSE),\"\"),\"\")","v":""}]
[{"$f":"IF($B$21=\"Select Number\",\"No\",IF($B$21<22,\"No\",\"Yes\"))","v":"No"},null,null,null,"","",null,"",null,null,{"$f":"IFERROR(IF(I43=\"\",\"\",IF(INDEX('Veg Guide Data Base'!$BZ$29:$DC$600,MATCH($H43,'Veg Guide Data Base'!$AZ$29:$AZ$600,0),MATCH('Veg Guide Data Base'!$AC$2,'Veg Guide Data Base'!$BZ$18:$DC$18,0))=\"Yes\",\"Native\",\"Introduced\")),\"<select>\")","v":""},null,"",null,"","",null,null,null,null,"","","n/a",25,null,"","",null,null,null,null,null,"",{"$f":"IFERROR(INDEX('Variance Request'!$D$15:$D$39,MATCH('Forestry Linear'!$H43,'Variance Request'!$B$15:$B$39,0)),\"\")","v":""},{"$f":"IFERROR(INDEX('Veg Guide Data Base'!$BV$29:$BV$800,MATCH('Forestry Linear'!$H43,'Veg Guide Data Base'!$AZ$29:$AZ$800,0)),\"\")","v":""},{"$f":"IFERROR(IF(INDEX('Variance Request'!$G$15:$G$39,MATCH('Forestry Linear'!$H43,'Variance Request'!$B$15:$B$39,0))=\"\",\"\",(INDEX('Variance Request'!$G$15:$G$39,MATCH('Forestry Linear'!$H43,'Variance Request'!$B$15:$B$39,0)))),\"\")","v":""},{"$f":"IFERROR(IF(I43<>\"\",VLOOKUP(H43,'Veg Guide Data Base'!$AZ$29:$DD$800,57,FALSE),\"\"),\"\")","v":""}]
["Yes",null," Planned total quantity of trees & shrubs to plant:",null,null,null,null,null,null,null,null,null,{"$f":"SUM(M22:M43)","v":0},null,null,null,null,null,null,null,null,null,null,30,null,"",""]
["Yes",null," Selection and Care of Planting Material:",null,null,null,null,null,null,null,null,null,null,null,{"$f":"IF(OR(COUNTIF(L22:L43,\"<2\"),COUNTIF(N22:N43,\"<2\")),\" You must obtain PIA State Forester approval for tree or shrub spacing less than 2 feet\",\"\")","v":""},null,null,null,null,null,null,null,null,35]
["Yes",null,"  ● Only viable, high-quality and adapted planting stock or seed will be used.",null,null,null,null,null,null,null,null,null,null,null," You must obtain PIA State Forester approval for listed plant species and prepare appropriate ESA compliance paperwork",null,null,null,null,null,null,null,null,40]
["Yes",null,"  ● Provide a 2-3 week acclimation period in-nursery or after transferring containerized planting material",null,null,null,null,null,null,null,null,null,null,null,null,null,null,null,null,null,null,null,null,50]
["Yes",null,"     from nursery to planting site (if different location) by gradually transitioning seedlings from sunlight ",null,null,null,null,null,null,null,null,null,null,null,"Hawaii Pacific Weed Risk Assessment",null,null,"<--Search here to evaluate selected species for weed threats",null,null,null,null,null,75]
["Yes",null,"     exposure and watering regime employed at the nursery to those at the planting site.",null,null,null,null,null,null,null,null,null,null,null,"Listing (T&E) status for Hawaii plants ",null,null,"<--Search here by genus to subspecies or variety level",null,null,null,null,null,100]
["Yes",null,"  ● Ensure occasional root pruning if seedlings will be stored for 2 months or longer at the planting site.",null,null,null,null,null,null,null,null,null,null,null,"Listing (T&E) status for Guam & CNMI plants",null,null,"<--Search here by species name",null,null,null,null,null,150]
["Yes",null,"Additional Information/Requirements: ",null,null,null,null,null,null,null,null,null,null,null,null,null,null,null,null,null,null,null,null,200]
["Yes",null,null,null,null,null,null,null,null,null,null,null,null,null," Specified approval signature(s) must be obtained for each item shown below (if any) to proceed with the project:",null,null,null,null,null,null,null,null,250]
["Yes",null,null,null,null,null,null,null,null,null,null,null,null,null,{"$f":"IF(OR(COUNTIF(L22:L43,\"<2\"),COUNTIF(N22:N43,\"<2\")),\"PIA State Forester approval for planned tree or shrub spacing:\",\"\")","v":""},null,null,null,null,null,null,null,null,"Hand tools"]
["Yes",null,null,null,null,null,null,null,null,null,null,null,null,null,null,null,null,null,null,null,null,null,null,"Planting bar"]
["Yes",null,null,null,null,null,null,null,null,null,null,null,null,null,"",null,null,null,null,null,null,null,null,"Mechanized"]
["Yes",null," Planting:",null,null,null,null,null,"Planting hole preparation & planting method:",null,null,null,null,null,null,null,null,null,null,null,null,null,null,"Auger"]
["Yes",null,"  ● Planting points for trees & shrubs will be laid out with flags or other markings - planting holes should be",null,null,null,null,null,null,null,null,null,null,null,{"$f":"Z59","v":""},null,null,null,null,null,null,null,null,"Other"]
["Yes",null,"      1.5-2.0 times as wide and 1.0-1.5 times as deep as the the dibble tube or pot size.",null,null,null,null,null,null,null,null,null,null,null,null,null,null,null,null,null,null,null,null,null,null,"Alley Cropping note:"]
["Yes",null,"  ● Plant seedlings so root collars are at or slightly above (0.5\") planting site grade.  ",null,null,null,null,null,null,null,null,null,null,null,null,null,null,null,null,null,null,null,null,"January",null,{"$f":"IF(C3<>\"Alley Cropping (311)\",\"\",\"<---  Note for alley cropping systems: While keeping in mind slope, erosion potential & requirements for crop plants, consider laying out sets/rows in as close to East-West orientation as practical to maximize sunlight in cropped alley areas.\")","v":""}]
["Yes",null,"  ● Don't bend or crowd seedling roots when planting, refill hole with soil & pack well to remove air pockets.",null,null,null,null,null,null,null,null,null,null,null,null,null,null,null,null,null,null,null,null,"February"]
["Yes",null,"  ● Plant cuttings 6-10 inches deep with 6-12 inches remaining above ground.",null,null,null,null,null,null,null,null,null,null,null,null,null,null,null,null,null,null,null,null,"March"]
["Yes",null,null,null,null,"of coated slow-release fertilizer (NPK + micronutrients) shall be placed into each planting hole &",null,null,null,null,null,null,null,null,null,null,null,null,null,null,null,null,null,"April","  • Half an ounce"]
["Yes",null,"     covered w/ a small volume of soil to prevent direct fertilizer contact w/ seedling roots or cuttings.",null,null,null,null,null,null,null,null,null,null,null,null,null,null,null,null,null,null,null,null,"May","  • One ounce"]
["Yes",null,"  ● Tree and shrub planting work should be completed 2 weeks to 6 months after Tree/Shrub Site Preparation",null,null,null,null,null,null,null,null,null,null,null,null,null,null,null,null,null,null,null,null,"June"]
["Yes",null,"     (490) work is completed, with a preference for the shortest time period possible.",null,null,null,null,null,null,null,null,null,null,null,null,null,null,null,null,null,null,null,null,"July"]
["Yes",null,"  • The rainy season for this site typically ranges from:",null,null,null,null,null,null,"-- to --",null,null,null,null,"<---  ○ Hawaii - UH Geography Department interactive rainfall map",null,null,null,null,null,null,null,null,"August"]
["Yes",null,"  ● When site preparation (if any) is complete, non-irrigated sites shall be planted as early after the onset",null,null,null,null,null,null,null,null,null,null,null,"          ○ Guam - U.S. Geological Survey rainfall modelling map",null,null,null,null,null,null,null,null,"September"]
["Yes",null,"     (1” of rainfall during a 2 week period) of the rainy season as possible.  Avoid planting on hot, windy days.",null,null,null,null,null,null,null,null,null,null,null,"          ○ Saipan - U.S. Geological Survey rainfall modelling map",null,null,null,null,null,null,null,null,"October"]
["Yes",null,"Additional Information/Requirements: ",null,null,null,null,null,null,null,null,null,null,null,"          ○ Tutuila - U.S. Geological Survey rainfall modelling map",null,null,null,null,null,null,null,null,"November"]
["Yes",null,null,null,null,null,null,null,null,null,null,null,null,null,null,null,null,null,null,null,null,null,null,"December"]
["Yes",null," Plant Protection and Cultural Treatments:",null,null,null,null,null,"Individual plant protection to be installed?",null,null,null,null,null,null,null,null,null,null,null,null,null,null,"No"]
["Yes",null,"  ●  Protect plantings from weeds, human activity, animal pests or adverse weather as warranted by site conditions,",null,null,null,null,null,null,null,null,null,null,null,null,null,null,null,null,null,null,null,null,"Yes"]
["Yes",null,"    e.g. herbicide, weed mats, individual plant protection & other means.  "]
["Yes",null,"  ● After planting, broadcast fertilizing and liming to facilitate plant establishment should only be applied based"]
["Yes",null,"     on soil and/or leaf tissue tests."]
["Yes",null,"  ●  Provide supplemental water as needed during dry periods until plants become established (1-2 years)."]
["Yes",null,"     Additional Information/Requirements: "]
["Yes"]
["Yes",null," Operation and Maintenance Requirements:"]
["Yes",null,"  ● Planted trees & shrubs will be periodically inspected & protected from adverse impacts or damage from",null,null,null,null,null,null,null,null,null,null,null,null,null,null,null,null,null,null,null,null,"100%"]
["Yes",null,"     insects, diseases, competing vegetation, livestock or wildlife.",null,null,null,null,null,null,null,null,null,null,null,null,null,null,null,null,null,null,null,null,"95%"]
["Yes",null,"  ● If needed, competing vegetation will be controlled until planted trees & shrubs are established.  Noxious &",null,null,null,null,null,null,null,null,null,null,null,null,null,null,null,null,null,null,null,null,"90%"]
["Yes",null,"     invasive weeds will be controlled.",null,null,null,null,null,null,null,null,null,null,null,null,null,null,null,null,null,null,null,null,"85%"]
["Yes",null,"  ● The Cooperator is responsible for replacing planted trees & shrubs that die such that the overall survival",null,null,null,null,null,null,null,null,null,null,null,null,null,null,null,null,null,null,null,null,"80%"]
["Yes",null,"     rate does not drop below",null,null,null,null,null,"during the 15-year lifespan of this practice.",null,null,null,null,null,null,null,null,null,null,null,null,null,null,"75%"]
["Yes",null,"Additional Information/Requirements: "]
["Yes"]
["Yes",null," I&E and Design Approval:",null,null,null,null,{"$f":"C3","v":"Use the Forestry Area Template for the Selected Practice"},null,null,{"$f":"INDEX(Z88:Z106,MATCH(H88,Y88:Y106,0))","v":"No CPS Selected"},null,null,"Req. Job Class",null,null,null,null,null,null,null,null,null,"I","All Species","No CPS Selected"]
["Yes",null,"Controlling Factor",null,null,null,null,null,"Units",null,"Planned Amt/Type/Method",null,null,null,null,null,null,null,null,null,null,null,null,"II","Alley Cropping (311)","Discipline: For.","design complexity (311, 379, 381, 380)","treatmnt type/purpose"]
["Yes",null,null,null,null,null,null,null,null,null,null,null,null,null,null,null,null,null,null,null,null,null,null,"III","Conservation Cover (327)","Discipline: Agron","complexity of establishing plant material; site sensitivity (612)","type of plant stock"]
["Yes",null,null,null,null,null,null,null,null,null,null,null,null,null,null,null,null,null,null,null,null,null,null,"IV","Cover Crop (340)","Discipline: Agron","planting complexity & site sensitivity (391)","potential seedling mort. rating"]
["Yes",null,null,null,null,null,null,null,null,null,null,null,null,null,null,null,null,null,null,null,null,null,null,"V","Critical Area Planting (342)","Discipline: Agron & CED-LA","stream order (391)","number of canopy layers"]
["Yes",null,null,null,null,null,null,null,null,null,null,null,null,null,null,null,null,null,null,null,null,null,null,null,"Critical Area Planting (Grassed Waterway) (342)","Discipline: Agron & CED-LA","slope (601)","number  of species per row"]
["Yes",null,null,null,null,null,null,null,null,null,null,null,null,null,null,null,null,null,null,null,null,null,null,null,"Field Border (386)","Discipline: Agron","practice purpose (386)","number"]
["Yes",null,"Signature for Approval of I&E (must submit inventory work to approver)",null,null,null,null,null,null,null,"Approver's JAA",null,"Date",null,null,null,null,null,null,null,null,null,null,null,"Pasture and Hay Planting (512)","Discipline: Rangeland Mgt Sp",null,"%"]
["Yes",null,null,null,null,null,null,null,null,null,null,null,null,null,null,null,null,null,null,null,null,null,null,null,"Hedgerow Planting (422)","Discipline: WBio"]
["Yes",null,"Signature for Approval of Design",null,null,null,null,null,null,null,"Approver's JAA",null,"Date",null,null,null,null,null,null,null,null,null,null,null,"Herbaceous Wind Barriers (603)","Discipline: Agron"]
["Yes",null,null,null,null,null,null,null,null,null,null,null,null,null,null,null,null,null,null,null,null,null,null,null,"Forest Farming (379)","Discipline: For"]
["Yes",null," Cooperator’s Acknowledgement: (To be completed after practice I&E and Design have been approved.)",null,null,null,null,null,null,null,null,null,null,null,null,null,null,null,null,null,null,null,null,null,"Range Planting (550)","Discipline: Rangeland Mgt Sp"]
["Yes",null," By signing below, I acknowledge that I: ",null,null,null,null,null,null,null,null,null,null,null,null,null,null,null,null,null,null,null,null,null,"Riparian Forest Buffer (391)","Discipline: For & Agron & CED-LA & WBio"]
["Yes",null,"  ● Have reviewed these Implementation Requirements and understand the contents and requirements; ",null,null,null,null,null,null,null,null,null,null,null,null,null,null,null,null,null,null,null,null,null,"Riparian Herbaceous Cover (390)","Discipline: WBio"]
["Yes",null,"  ● Will make no changes to these Implementation Requirements without prior concurrence of NRCS;",null,null,null,null,null,null,null,null,null,null,null,null,null,null,null,null,null,null,null,null,null,"Silvopasture (381)","Discipline: For"]
["Yes",null,"  ● Will install, operate, and maintain this practice in accordance with these Implementation Requirements; and",null,null,null,null,null,null,null,null,null,null,null,null,null,null,null,null,null,null,null,null,null,"Tree/Shrub Establishment (612)","Discipline: For"]
["Yes",null,"  ● Will obtain all necessary permits and/or rights, comply with all ordinances and laws, and notify all utilities pertaining to the installation, operation, and maintenance of this practice.",null,null,null,null,null,null,null,null,null,null,null,null,null,null,null,null,null,null,null,null,null,"Vegetative Barrier (601)","Discipline: Agron"]
["Yes",null,null,null,null,null,null,null,null,null,null,null,null,null,null,null,null,null,null,null,null,null,null,null,"Windbreak/Shelterbelt Establishment (380)","Discipline: For"]
["Yes",null,null,null,null,null,null,null,null,null,null,null,null,null,null,null,null,null,null,null,null,null,null,null,"Use the Forestry Area Template for the Selected Practice","No CPS Selected"]
["Yes",null,"Natural Resources Conservation Service"]
["Yes",null,"Pacific Islands Conservation Practice Certification Sheet"]
["Yes"]
["Yes",null," Certification Prepared for:",null,null,null,null,null,null,null,null,"Date"]
["Yes",null," Cooperator Name",null,null,null,{"$f":"IF(F6=0,\"\",F6)","v":""},null,"     Business Name",{"$f":"IF(J6=0,\"\",J6)","v":""}]
["Yes",null,"Tract Number",null,{"$f":"IF(E7=0,\"\",E7)","v":""},"Field Number(s)",null,{"$f":"IF(H7=0,\"\",H7)","v":""},"Field Acres",{"$f":"IF(J7=0,\"\",J7)","v":""},"Planned Amount",{"$f":"IF(N7=0,\"\",N7)","v":""},null,"feet"]
["Yes",null," Certification Prepared by:",null,null,null,null,null,"Planner Name"]
["Yes",null,"Resource Problem Identified",null,null,null,null,{"$f":"IF(G10=0,\"\",G10)","v":""}]
["Yes",null," Selected Primary Purpose ",null,null,null,null,{"$f":"IF(G11=0,\"\",G11)","v":""}]
["Yes",null," Record of Trees and Shrubs Planted and Field Checkout Notes:"]
["Yes",null,"CIN #"]
["Yes",null,"Field"]
["Yes",null,"Planting completion date",null,null,null,null,null,null,null,null,null,null,"Totals"]
["Yes",null,"Linear feet planted",null,null,null,null,null,null,null,null,null,null,{"$f":"SUM(H120:M120)","v":0}]
["Yes",null,"Cuttings",null,null,null,null,null,null,null,null,null,null,{"$f":"SUM(H121:M121)","v":0}]
["Yes",null,"Native trees & shrubs",null,null,null,null,null,null,null,null,null,null,{"$f":"SUM(H122:M122)","v":0}]
["Yes",null,"Introduced trees & shrubs",null,null,null,null,null,null,null,null,null,null,{"$f":"SUM(H123:M123)","v":0}]
["Yes",null,"Individual plant protection",null,null,null,null,null,null,null,null,null,null,{"$f":"SUM(H124:M124)","v":0}]
["Yes",null," Any variances to the following terms must be documented and approved by NRCS prior to initiating planting."]
["Yes",null," 1.  All species planted are documented on the Jobsheet.",null,null,null,null,null,null,null,null,null,null,null,null,null,null,null,null,null,null,null,null,"True"]
["Yes",null," 2.  The planted quantity of each species falls within +/- 10% of the planned quantity for that species.",null,null,null,null,null,null,null,null,null,null,null,null,null,null,null,null,null,null,null,null,"False"]
["Yes",null," 3.  The average spacing for each species planted falls within +/- 10% of the planned spacing for that species."]
["Yes",null," 4.  At time of checkout planted tree & shrub is meeting the required minimum survival rate of",null,null,null,null,null,null,null,"100%"]
["Yes",null," 5.  All other Jobsheet specifications have been followed."]
["Yes",null," 6.  The practice as installed addresses the identified resource problem for the planned area."]
["Yes",null," Checkout notes & methods used to determine applied units (GPS, tape, count, initial inventory, etc.): "]
["Yes"]
["Yes",null,"If the above six questions are answered True then the practice should be certified complete."]
["Yes",null,null,null,null,null,null,"Certification Signature",null,null,null,null,"Date"]
["Yes",null,"Answering any of the above questions False simply means that this practice should not be certified at this time.  In the box below describe what needs to occur before the practice can be certified and review with the Cooperator."]
["Yes"]
[]
[]
[]
[]
[]
[]
[]
[]
[]
[]
[]
[]
[]
[]
[]
[]
[]
[]
[]
[]
[]
[]
[]
[]
[]
[null,null,null,null,null,null,null,{"$f":"IF(E163=TRUE,D163,\" \")","v":" "}]
[null,null,null,null,null,null,null,{"$f":"IF(E164=TRUE,D164,\" \")","v":" "}]
[null,null,null,null,null,null,null," "]
[null,null,null,null,null,null,null," "]
[null,null,null,null,null,null,null,{"$f":"IF(E167=TRUE,D167,\" \")","v":" "}]
[null,null,null,null,null,null,null," "]
[null,null,null,null,null,null,null," "]
[null,null,null,null,null,null,null," "]
[null,null,null,null,null,null,null," "]
[null,null,null,null,null,null,null," "]
[null,null,null,null,null,null,null," "]
[null,null,null,null,null,null,null," "]
[null,null,null,null,null,null,null," "]
[null,null,null,null,null,null,null," "]
[null,null,null,null,null,null,null," "]
[null,null,null,null,null,null,null," "]
[null,null,null,null,null,null,null," "]
[null,null,null,null,null,null,null," "]
[]
[null,null,"Tie the CPPE matrix to the selected resource concern to see if there is even a problem to be addressed - hold off on this until we have the updated resource concerns fully adopted with their associated CPPE values"]
[null,null,"PracticeName","SOIL EROSION - Sheet, rill, & wind erosion","SOIL EROSION – Concentrated flow erosion","SOIL EROSION– Excessive bank erosion from streams shorelines or water conveyance channels","SOIL QUALITY DEGRADATION - Subsidence","SOIL QUALITY DEGRADATION – Compaction","SOIL QUALITY DEGRADATION – Organic matter depletion","SOIL QUALITY DEGRADATION – Concentration of salts or other chemicals","EXCESS WATER – Ponding, flooding, seasonal high water table, seeps, and drifted snow","INSUFFICIENT WATER – Inefficient moisture management","INSUFFICIENT WATER – Inefficient use of irrigation water","WATER QUALITY DEGRADATION – Excess nutrients in surface and ground waters","WATER QUALITY DEGRADATION – Excess nutrients in surface and ground waters","WATER QUALITY DEGRADATION – Pesticides transported to surface and ground waters","WATER QUALITY DEGRADATION – Excess pathogens and chemicals from manure, bio-solids or compost applications","WATER QUALITY DEGRADATION – Excessive salts in surface and ground waters","WATER QUALITY DEGRADATION – Petroleum, heavy metals and other pollutants transported to receiving waters","WATER QUALITY DEGRADATION – Excessive sediment in surface waters","DEGRADED PLANT CONDITION – Undesirable plant productivity and health","DEGRADED PLANT CONDITION – Inadequate structure and composition","DEGRADED PLANT CONDITION – Excessive plant pest pressure","DEGRADED PLANT CONDITION– Wildfire hazard, excessive biomass accumulation","INADEQUATE HABITAT FOR FISH AND WILDLIFE – Habitat degradation","LIVESTOCK PRODUCTION LIMITATION – Inadequate feed and forage","LIVESTOCK PRODUCTION LIMITATION – Inadequate livestock shelter","LIVESTOCK PRODUCTION LIMITATION – Inadequate livestock water","INEFFICIENT ENERGY USE – Equipment and facilities","INEFFICIENT ENERGY USE – Farming/ranching practices and field operations","AIR QUALITY IMPACTS - Emissions of Particulate Matter - PM - and PM Precursors","AIR QUALITY IMPACTS - Emissions of Greenhouse Gases - GHGs -","AIR QUALITY IMPACTS - Emissions of Ozone Precursors","AIR QUALITY IMPACTS - Objectionable odors"]
[null,null,"Alley Cropping (311)",null,null,null,null,null,null,null,null,null,null,null,null,null,null,null,null,null,null,4,4,0,0,2,-2,2,2,0,0,2,0,1]
[null,null,"Windbreak/Shelterbelt Establishment (380)",null,null,null,null,null,null,null,null,null,null,null,null,null,null,null,null,null,null,2,2,0,-2,2,-1,2,2,2,0,2,2,4]
[]
[]
[]
[]
[]
[]
[]
[]
[]
[]
[]
[]
[]
[]
[]
[]
[]
[]
[]
[]
[null,null,null,null,null,null,"Formula for named range in Data Validation for drop down list Common Names:",null,null,null,"\"='Forestry Linear'!$G$209:INDEX('Forestry Linear'!$G$209:$G$575,COUNTIF('Forestry Linear'!$G$209:$G$575,\"?*\"))\""]
[null,null,null,null,null,null,"List Source Common Name"]
[null,null,null,null,null,null,null,"Common Name","Scientific Name","Rate","Height Class","20 yr ht."]
[null,null,null,null,null,null,{"$f":"IFERROR(INDEX($H$209:$H$575,_xlfn.AGGREGATE(15,6,(ROW($H$209:$H$575)-ROW($H$209)+1)/($H$209:$H$575<>\"\"),ROWS(G$2:G2))),\"\")","v":"aalii, hopbush"},{"$f":"'Veg Guide Data Base'!A1499","v":"aalii, hopbush"},{"$f":"'Veg Guide Data Base'!B1499","v":{"$error":"#N/A"}},{"$f":"'Veg Guide Data Base'!L1499","v":{"$error":"#N/A"}},{"$f":"'Veg Guide Data Base'!K1499","v":{"$error":"#N/A"}},{"$f":"'Veg Guide Data Base'!M1499","v":{"$error":"#N/A"}}]
[null,null,null,null,null,null,{"$f":"IFERROR(INDEX($H$209:$H$575,_xlfn.AGGREGATE(15,6,(ROW($H$209:$H$575)-ROW($H$209)+1)/($H$209:$H$575<>\"\"),ROWS(G$2:G3))),\"\")","v":"ae - 1"},{"$f":"'Veg Guide Data Base'!A1500","v":"ae - 1"},{"$f":"'Veg Guide Data Base'!B1500","v":{"$error":"#N/A"}},{"$f":"'Veg Guide Data Base'!L1500","v":{"$error":"#N/A"}},{"$f":"'Veg Guide Data Base'!K1500","v":{"$error":"#N/A"}},{"$f":"'Veg Guide Data Base'!M1500","v":{"$error":"#N/A"}}]
[null,null,null,null,null,null,{"$f":"IFERROR(INDEX($H$209:$H$575,_xlfn.AGGREGATE(15,6,(ROW($H$209:$H$575)-ROW($H$209)+1)/($H$209:$H$575<>\"\"),ROWS(G$2:G4))),\"\")","v":"ae - 2"},{"$f":"'Veg Guide Data Base'!A1501","v":"ae - 2"},{"$f":"'Veg Guide Data Base'!B1501","v":{"$error":"#N/A"}},{"$f":"'Veg Guide Data Base'!L1501","v":{"$error":"#N/A"}},{"$f":"'Veg Guide Data Base'!K1501","v":{"$error":"#N/A"}},{"$f":"'Veg Guide Data Base'!M1501","v":{"$error":"#N/A"}}]
[null,null,null,null,null,null,{"$f":"IFERROR(INDEX($H$209:$H$575,_xlfn.AGGREGATE(15,6,(ROW($H$209:$H$575)-ROW($H$209)+1)/($H$209:$H$575<>\"\"),ROWS(G$2:G5))),\"\")","v":"ae, manele, soapberry"},{"$f":"'Veg Guide Data Base'!A1502","v":"ae, manele, soapberry"},{"$f":"'Veg Guide Data Base'!B1502","v":{"$error":"#N/A"}},{"$f":"'Veg Guide Data Base'!L1502","v":{"$error":"#N/A"}},{"$f":"'Veg Guide Data Base'!K1502","v":{"$error":"#N/A"}},{"$f":"'Veg Guide Data Base'!M1502","v":{"$error":"#N/A"}}]
[null,null,null,null,null,null,{"$f":"IFERROR(INDEX($H$209:$H$575,_xlfn.AGGREGATE(15,6,(ROW($H$209:$H$575)-ROW($H$209)+1)/($H$209:$H$575<>\"\"),ROWS(G$2:G6))),\"\")","v":"African mahogany"},{"$f":"'Veg Guide Data Base'!A1503","v":"African mahogany"},{"$f":"'Veg Guide Data Base'!B1503","v":{"$error":"#N/A"}},{"$f":"'Veg Guide Data Base'!L1503","v":{"$error":"#N/A"}},{"$f":"'Veg Guide Data Base'!K1503","v":{"$error":"#N/A"}},{"$f":"'Veg Guide Data Base'!M1503","v":{"$error":"#N/A"}}]
[null,null,null,null,null,null,{"$f":"IFERROR(INDEX($H$209:$H$575,_xlfn.AGGREGATE(15,6,(ROW($H$209:$H$575)-ROW($H$209)+1)/($H$209:$H$575<>\"\"),ROWS(G$2:G7))),\"\")","v":"ahakea"},{"$f":"'Veg Guide Data Base'!A1504","v":"ahakea"},{"$f":"'Veg Guide Data Base'!B1504","v":{"$error":"#N/A"}},{"$f":"'Veg Guide Data Base'!L1504","v":{"$error":"#N/A"}},{"$f":"'Veg Guide Data Base'!K1504","v":{"$error":"#N/A"}},{"$f":"'Veg Guide Data Base'!M1504","v":{"$error":"#N/A"}}]
[null,null,null,null,null,null,{"$f":"IFERROR(INDEX($H$209:$H$575,_xlfn.AGGREGATE(15,6,(ROW($H$209:$H$575)-ROW($H$209)+1)/($H$209:$H$575<>\"\"),ROWS(G$2:G8))),\"\")","v":"akia - 1"},{"$f":"'Veg Guide Data Base'!A1505","v":"akia - 1"},{"$f":"'Veg Guide Data Base'!B1505","v":{"$error":"#N/A"}},{"$f":"'Veg Guide Data Base'!L1505","v":{"$error":"#N/A"}},{"$f":"'Veg Guide Data Base'!K1505","v":{"$error":"#N/A"}},{"$f":"'Veg Guide Data Base'!M1505","v":{"$error":"#N/A"}}]
[null,null,null,null,null,null,{"$f":"IFERROR(INDEX($H$209:$H$575,_xlfn.AGGREGATE(15,6,(ROW($H$209:$H$575)-ROW($H$209)+1)/($H$209:$H$575<>\"\"),ROWS(G$2:G9))),\"\")","v":"akia - 2"},{"$f":"'Veg Guide Data Base'!A1506","v":"akia - 2"},{"$f":"'Veg Guide Data Base'!B1506","v":{"$error":"#N/A"}},{"$f":"'Veg Guide Data Base'!L1506","v":{"$error":"#N/A"}},{"$f":"'Veg Guide Data Base'!K1506","v":{"$error":"#N/A"}},{"$f":"'Veg Guide Data Base'!M1506","v":{"$error":"#N/A"}}]
[null,null,null,null,null,null,{"$f":"IFERROR(INDEX($H$209:$H$575,_xlfn.AGGREGATE(15,6,(ROW($H$209:$H$575)-ROW($H$209)+1)/($H$209:$H$575<>\"\"),ROWS(G$2:G10))),\"\")","v":"akia - 3"},{"$f":"'Veg Guide Data Base'!A1507","v":"akia - 3"},{"$f":"'Veg Guide Data Base'!B1507","v":{"$error":"#N/A"}},{"$f":"'Veg Guide Data Base'!L1507","v":{"$error":"#N/A"}},{"$f":"'Veg Guide Data Base'!K1507","v":{"$error":"#N/A"}},{"$f":"'Veg Guide Data Base'!M1507","v":{"$error":"#N/A"}}]
[null,null,null,null,null,null,{"$f":"IFERROR(INDEX($H$209:$H$575,_xlfn.AGGREGATE(15,6,(ROW($H$209:$H$575)-ROW($H$209)+1)/($H$209:$H$575<>\"\"),ROWS(G$2:G11))),\"\")","v":"akia - 4"},{"$f":"'Veg Guide Data Base'!A1508","v":"akia - 4"},{"$f":"'Veg Guide Data Base'!B1508","v":{"$error":"#N/A"}},{"$f":"'Veg Guide Data Base'!L1508","v":{"$error":"#N/A"}},{"$f":"'Veg Guide Data Base'!K1508","v":{"$error":"#N/A"}},{"$f":"'Veg Guide Data Base'!M1508","v":{"$error":"#N/A"}}]
[null,null,null,null,null,null,{"$f":"IFERROR(INDEX($H$209:$H$575,_xlfn.AGGREGATE(15,6,(ROW($H$209:$H$575)-ROW($H$209)+1)/($H$209:$H$575<>\"\"),ROWS(G$2:G12))),\"\")","v":"akia - 5"},{"$f":"'Veg Guide Data Base'!A1509","v":"akia - 5"},{"$f":"'Veg Guide Data Base'!B1509","v":{"$error":"#N/A"}},{"$f":"'Veg Guide Data Base'!L1509","v":{"$error":"#N/A"}},{"$f":"'Veg Guide Data Base'!K1509","v":{"$error":"#N/A"}},{"$f":"'Veg Guide Data Base'!M1509","v":{"$error":"#N/A"}}]
[null,null,null,null,null,null,{"$f":"IFERROR(INDEX($H$209:$H$575,_xlfn.AGGREGATE(15,6,(ROW($H$209:$H$575)-ROW($H$209)+1)/($H$209:$H$575<>\"\"),ROWS(G$2:G13))),\"\")","v":"akia - 6"},{"$f":"'Veg Guide Data Base'!A1510","v":"akia - 6"},{"$f":"'Veg Guide Data Base'!B1510","v":{"$error":"#N/A"}},{"$f":"'Veg Guide Data Base'!L1510","v":{"$error":"#N/A"}},{"$f":"'Veg Guide Data Base'!K1510","v":{"$error":"#N/A"}},{"$f":"'Veg Guide Data Base'!M1510","v":{"$error":"#N/A"}}]
[null,null,null,null,null,null,{"$f":"IFERROR(INDEX($H$209:$H$575,_xlfn.AGGREGATE(15,6,(ROW($H$209:$H$575)-ROW($H$209)+1)/($H$209:$H$575<>\"\"),ROWS(G$2:G14))),\"\")","v":"akoko - 1"},{"$f":"'Veg Guide Data Base'!A1511","v":"akoko - 1"},{"$f":"'Veg Guide Data Base'!B1511","v":{"$error":"#N/A"}},{"$f":"'Veg Guide Data Base'!L1511","v":{"$error":"#N/A"}},{"$f":"'Veg Guide Data Base'!K1511","v":{"$error":"#N/A"}},{"$f":"'Veg Guide Data Base'!M1511","v":{"$error":"#N/A"}}]
[null,null,null,null,null,null,{"$f":"IFERROR(INDEX($H$209:$H$575,_xlfn.AGGREGATE(15,6,(ROW($H$209:$H$575)-ROW($H$209)+1)/($H$209:$H$575<>\"\"),ROWS(G$2:G15))),\"\")","v":"akoko - 4"},{"$f":"'Veg Guide Data Base'!A1512","v":"akoko - 4"},{"$f":"'Veg Guide Data Base'!B1512","v":{"$error":"#N/A"}},{"$f":"'Veg Guide Data Base'!L1512","v":{"$error":"#N/A"}},{"$f":"'Veg Guide Data Base'!K1512","v":{"$error":"#N/A"}},{"$f":"'Veg Guide Data Base'!M1512","v":{"$error":"#N/A"}}]
[null,null,null,null,null,null,{"$f":"IFERROR(INDEX($H$209:$H$575,_xlfn.AGGREGATE(15,6,(ROW($H$209:$H$575)-ROW($H$209)+1)/($H$209:$H$575<>\"\"),ROWS(G$2:G16))),\"\")","v":"akoko - 5"},{"$f":"'Veg Guide Data Base'!A1513","v":"akoko - 5"},{"$f":"'Veg Guide Data Base'!B1513","v":{"$error":"#N/A"}},{"$f":"'Veg Guide Data Base'!L1513","v":{"$error":"#N/A"}},{"$f":"'Veg Guide Data Base'!K1513","v":{"$error":"#N/A"}},{"$f":"'Veg Guide Data Base'!M1513","v":{"$error":"#N/A"}}]
[null,null,null,null,null,null,{"$f":"IFERROR(INDEX($H$209:$H$575,_xlfn.AGGREGATE(15,6,(ROW($H$209:$H$575)-ROW($H$209)+1)/($H$209:$H$575<>\"\"),ROWS(G$2:G17))),\"\")","v":"akolea"},{"$f":"'Veg Guide Data Base'!A1514","v":"akolea"},{"$f":"'Veg Guide Data Base'!B1514","v":{"$error":"#N/A"}},{"$f":"'Veg Guide Data Base'!L1514","v":{"$error":"#N/A"}},{"$f":"'Veg Guide Data Base'!K1514","v":{"$error":"#N/A"}},{"$f":"'Veg Guide Data Base'!M1514","v":{"$error":"#N/A"}}]
[null,null,null,null,null,null,{"$f":"IFERROR(INDEX($H$209:$H$575,_xlfn.AGGREGATE(15,6,(ROW($H$209:$H$575)-ROW($H$209)+1)/($H$209:$H$575<>\"\"),ROWS(G$2:G18))),\"\")","v":"alahee"},{"$f":"'Veg Guide Data Base'!A1515","v":"alahee"},{"$f":"'Veg Guide Data Base'!B1515","v":{"$error":"#N/A"}},{"$f":"'Veg Guide Data Base'!L1515","v":{"$error":"#N/A"}},{"$f":"'Veg Guide Data Base'!K1515","v":{"$error":"#N/A"}},{"$f":"'Veg Guide Data Base'!M1515","v":{"$error":"#N/A"}}]
[null,null,null,null,null,null,{"$f":"IFERROR(INDEX($H$209:$H$575,_xlfn.AGGREGATE(15,6,(ROW($H$209:$H$575)-ROW($H$209)+1)/($H$209:$H$575<>\"\"),ROWS(G$2:G19))),\"\")","v":"alani"},{"$f":"'Veg Guide Data Base'!A1516","v":"alani"},{"$f":"'Veg Guide Data Base'!B1516","v":{"$error":"#N/A"}},{"$f":"'Veg Guide Data Base'!L1516","v":{"$error":"#N/A"}},{"$f":"'Veg Guide Data Base'!K1516","v":{"$error":"#N/A"}},{"$f":"'Veg Guide Data Base'!M1516","v":{"$error":"#N/A"}}]
[null,null,null,null,null,null,{"$f":"IFERROR(INDEX($H$209:$H$575,_xlfn.AGGREGATE(15,6,(ROW($H$209:$H$575)-ROW($H$209)+1)/($H$209:$H$575<>\"\"),ROWS(G$2:G20))),\"\")","v":"alani"},{"$f":"'Veg Guide Data Base'!A1517","v":"alani"},{"$f":"'Veg Guide Data Base'!B1517","v":{"$error":"#N/A"}},{"$f":"'Veg Guide Data Base'!L1517","v":{"$error":"#N/A"}},{"$f":"'Veg Guide Data Base'!K1517","v":{"$error":"#N/A"}},{"$f":"'Veg Guide Data Base'!M1517","v":{"$error":"#N/A"}}]
[null,null,null,null,null,null,{"$f":"IFERROR(INDEX($H$209:$H$575,_xlfn.AGGREGATE(15,6,(ROW($H$209:$H$575)-ROW($H$209)+1)/($H$209:$H$575<>\"\"),ROWS(G$2:G21))),\"\")","v":"aloalo, hau hele wai, ʻakiohala, Hawaiian pink hibiscus, lindenleaf rosemallow"},{"$f":"'Veg Guide Data Base'!A1518","v":"aloalo, hau hele wai, ʻakiohala, Hawaiian pink hibiscus, lindenleaf rosemallow"},{"$f":"'Veg Guide Data Base'!B1518","v":{"$error":"#N/A"}},{"$f":"'Veg Guide Data Base'!L1518","v":{"$error":"#N/A"}},{"$f":"'Veg Guide Data Base'!K1518","v":{"$error":"#N/A"}},{"$f":"'Veg Guide Data Base'!M1518","v":{"$error":"#N/A"}}]
[null,null,null,null,null,null,{"$f":"IFERROR(INDEX($H$209:$H$575,_xlfn.AGGREGATE(15,6,(ROW($H$209:$H$575)-ROW($H$209)+1)/($H$209:$H$575<>\"\"),ROWS(G$2:G22))),\"\")","v":"amau"},{"$f":"'Veg Guide Data Base'!A1519","v":"amau"},{"$f":"'Veg Guide Data Base'!B1519","v":{"$error":"#N/A"}},{"$f":"'Veg Guide Data Base'!L1519","v":{"$error":"#N/A"}},{"$f":"'Veg Guide Data Base'!K1519","v":{"$error":"#N/A"}},{"$f":"'Veg Guide Data Base'!M1519","v":{"$error":"#N/A"}}]
[null,null,null,null,null,null,{"$f":"IFERROR(INDEX($H$209:$H$575,_xlfn.AGGREGATE(15,6,(ROW($H$209:$H$575)-ROW($H$209)+1)/($H$209:$H$575<>\"\"),ROWS(G$2:G23))),\"\")","v":"areca palm"},{"$f":"'Veg Guide Data Base'!A1520","v":"areca palm"},{"$f":"'Veg Guide Data Base'!B1520","v":{"$error":"#N/A"}},{"$f":"'Veg Guide Data Base'!L1520","v":{"$error":"#N/A"}},{"$f":"'Veg Guide Data Base'!K1520","v":{"$error":"#N/A"}},{"$f":"'Veg Guide Data Base'!M1520","v":{"$error":"#N/A"}}]
[null,null,null,null,null,null,{"$f":"IFERROR(INDEX($H$209:$H$575,_xlfn.AGGREGATE(15,6,(ROW($H$209:$H$575)-ROW($H$209)+1)/($H$209:$H$575<>\"\"),ROWS(G$2:G24))),\"\")","v":"atemoya"},{"$f":"'Veg Guide Data Base'!A1521","v":"atemoya"},{"$f":"'Veg Guide Data Base'!B1521","v":{"$error":"#N/A"}},{"$f":"'Veg Guide Data Base'!L1521","v":{"$error":"#N/A"}},{"$f":"'Veg Guide Data Base'!K1521","v":{"$error":"#N/A"}},{"$f":"'Veg Guide Data Base'!M1521","v":{"$error":"#N/A"}}]
[null,null,null,null,null,null,{"$f":"IFERROR(INDEX($H$209:$H$575,_xlfn.AGGREGATE(15,6,(ROW($H$209:$H$575)-ROW($H$209)+1)/($H$209:$H$575<>\"\"),ROWS(G$2:G25))),\"\")","v":"aulu"},{"$f":"'Veg Guide Data Base'!A1522","v":"aulu"},{"$f":"'Veg Guide Data Base'!B1522","v":{"$error":"#N/A"}},{"$f":"'Veg Guide Data Base'!L1522","v":{"$error":"#N/A"}},{"$f":"'Veg Guide Data Base'!K1522","v":{"$error":"#N/A"}},{"$f":"'Veg Guide Data Base'!M1522","v":{"$error":"#N/A"}}]
[null,null,null,null,null,null,{"$f":"IFERROR(INDEX($H$209:$H$575,_xlfn.AGGREGATE(15,6,(ROW($H$209:$H$575)-ROW($H$209)+1)/($H$209:$H$575<>\"\"),ROWS(G$2:G26))),\"\")","v":"avocado"},{"$f":"'Veg Guide Data Base'!A1523","v":"avocado"},{"$f":"'Veg Guide Data Base'!B1523","v":{"$error":"#N/A"}},{"$f":"'Veg Guide Data Base'!L1523","v":{"$error":"#N/A"}},{"$f":"'Veg Guide Data Base'!K1523","v":{"$error":"#N/A"}},{"$f":"'Veg Guide Data Base'!M1523","v":{"$error":"#N/A"}}]
[null,null,null,null,null,null,{"$f":"IFERROR(INDEX($H$209:$H$575,_xlfn.AGGREGATE(15,6,(ROW($H$209:$H$575)-ROW($H$209)+1)/($H$209:$H$575<>\"\"),ROWS(G$2:G27))),\"\")","v":"aweoweo, aheahea"},{"$f":"'Veg Guide Data Base'!A1524","v":"aweoweo, aheahea"},{"$f":"'Veg Guide Data Base'!B1524","v":{"$error":"#N/A"}},{"$f":"'Veg Guide Data Base'!L1524","v":{"$error":"#N/A"}},{"$f":"'Veg Guide Data Base'!K1524","v":{"$error":"#N/A"}},{"$f":"'Veg Guide Data Base'!M1524","v":{"$error":"#N/A"}}]
[null,null,null,null,null,null,{"$f":"IFERROR(INDEX($H$209:$H$575,_xlfn.AGGREGATE(15,6,(ROW($H$209:$H$575)-ROW($H$209)+1)/($H$209:$H$575<>\"\"),ROWS(G$2:G28))),\"\")","v":"bamboo (clumping only), ohe"},{"$f":"'Veg Guide Data Base'!A1525","v":"bamboo (clumping only), ohe"},{"$f":"'Veg Guide Data Base'!B1525","v":{"$error":"#N/A"}},{"$f":"'Veg Guide Data Base'!L1525","v":{"$error":"#N/A"}},{"$f":"'Veg Guide Data Base'!K1525","v":{"$error":"#N/A"}},{"$f":"'Veg Guide Data Base'!M1525","v":{"$error":"#N/A"}}]
[null,null,null,null,null,null,{"$f":"IFERROR(INDEX($H$209:$H$575,_xlfn.AGGREGATE(15,6,(ROW($H$209:$H$575)-ROW($H$209)+1)/($H$209:$H$575<>\"\"),ROWS(G$2:G29))),\"\")","v":"banana, apple banana, maia"},{"$f":"'Veg Guide Data Base'!A1526","v":"banana, apple banana, maia"},{"$f":"'Veg Guide Data Base'!B1526","v":{"$error":"#N/A"}},{"$f":"'Veg Guide Data Base'!L1526","v":{"$error":"#N/A"}},{"$f":"'Veg Guide Data Base'!K1526","v":{"$error":"#N/A"}},{"$f":"'Veg Guide Data Base'!M1526","v":{"$error":"#N/A"}}]
[null,null,null,null,null,null,{"$f":"IFERROR(INDEX($H$209:$H$575,_xlfn.AGGREGATE(15,6,(ROW($H$209:$H$575)-ROW($H$209)+1)/($H$209:$H$575<>\"\"),ROWS(G$2:G30))),\"\")","v":"banana, plantain"},{"$f":"'Veg Guide Data Base'!A1527","v":"banana, plantain"},{"$f":"'Veg Guide Data Base'!B1527","v":{"$error":"#N/A"}},{"$f":"'Veg Guide Data Base'!L1527","v":{"$error":"#N/A"}},{"$f":"'Veg Guide Data Base'!K1527","v":{"$error":"#N/A"}},{"$f":"'Veg Guide Data Base'!M1527","v":{"$error":"#N/A"}}]
[null,null,null,null,null,null,{"$f":"IFERROR(INDEX($H$209:$H$575,_xlfn.AGGREGATE(15,6,(ROW($H$209:$H$575)-ROW($H$209)+1)/($H$209:$H$575<>\"\"),ROWS(G$2:G31))),\"\")","v":"Bermuda juniper"},{"$f":"'Veg Guide Data Base'!A1528","v":"Bermuda juniper"},{"$f":"'Veg Guide Data Base'!B1528","v":{"$error":"#N/A"}},{"$f":"'Veg Guide Data Base'!L1528","v":{"$error":"#N/A"}},{"$f":"'Veg Guide Data Base'!K1528","v":{"$error":"#N/A"}},{"$f":"'Veg Guide Data Base'!M1528","v":{"$error":"#N/A"}}]
[null,null,null,null,null,null,{"$f":"IFERROR(INDEX($H$209:$H$575,_xlfn.AGGREGATE(15,6,(ROW($H$209:$H$575)-ROW($H$209)+1)/($H$209:$H$575<>\"\"),ROWS(G$2:G32))),\"\")","v":"big/broad leaf mahogany"},{"$f":"'Veg Guide Data Base'!A1529","v":"big/broad leaf mahogany"},{"$f":"'Veg Guide Data Base'!B1529","v":{"$error":"#N/A"}},{"$f":"'Veg Guide Data Base'!L1529","v":{"$error":"#N/A"}},{"$f":"'Veg Guide Data Base'!K1529","v":{"$error":"#N/A"}},{"$f":"'Veg Guide Data Base'!M1529","v":{"$error":"#N/A"}}]
[null,null,null,null,null,null,{"$f":"IFERROR(INDEX($H$209:$H$575,_xlfn.AGGREGATE(15,6,(ROW($H$209:$H$575)-ROW($H$209)+1)/($H$209:$H$575<>\"\"),ROWS(G$2:G33))),\"\")","v":"blue marble"},{"$f":"'Veg Guide Data Base'!A1530","v":"blue marble"},{"$f":"'Veg Guide Data Base'!B1530","v":{"$error":"#N/A"}},{"$f":"'Veg Guide Data Base'!L1530","v":{"$error":"#N/A"}},{"$f":"'Veg Guide Data Base'!K1530","v":{"$error":"#N/A"}},{"$f":"'Veg Guide Data Base'!M1530","v":{"$error":"#N/A"}}]
[null,null,null,null,null,null,{"$f":"IFERROR(INDEX($H$209:$H$575,_xlfn.AGGREGATE(15,6,(ROW($H$209:$H$575)-ROW($H$209)+1)/($H$209:$H$575<>\"\"),ROWS(G$2:G34))),\"\")","v":"breadfruit, ulu"},{"$f":"'Veg Guide Data Base'!A1531","v":"breadfruit, ulu"},{"$f":"'Veg Guide Data Base'!B1531","v":{"$error":"#N/A"}},{"$f":"'Veg Guide Data Base'!L1531","v":{"$error":"#N/A"}},{"$f":"'Veg Guide Data Base'!K1531","v":{"$error":"#N/A"}},{"$f":"'Veg Guide Data Base'!M1531","v":{"$error":"#N/A"}}]
[null,null,null,null,null,null,{"$f":"IFERROR(INDEX($H$209:$H$575,_xlfn.AGGREGATE(15,6,(ROW($H$209:$H$575)-ROW($H$209)+1)/($H$209:$H$575<>\"\"),ROWS(G$2:G35))),\"\")","v":"brushbox"},{"$f":"'Veg Guide Data Base'!A1532","v":"brushbox"},{"$f":"'Veg Guide Data Base'!B1532","v":{"$error":"#N/A"}},{"$f":"'Veg Guide Data Base'!L1532","v":{"$error":"#N/A"}},{"$f":"'Veg Guide Data Base'!K1532","v":{"$error":"#N/A"}},{"$f":"'Veg Guide Data Base'!M1532","v":{"$error":"#N/A"}}]
[null,null,null,null,null,null,{"$f":"IFERROR(INDEX($H$209:$H$575,_xlfn.AGGREGATE(15,6,(ROW($H$209:$H$575)-ROW($H$209)+1)/($H$209:$H$575<>\"\"),ROWS(G$2:G36))),\"\")","v":"cacao, cocoa"},{"$f":"'Veg Guide Data Base'!A1533","v":"cacao, cocoa"},{"$f":"'Veg Guide Data Base'!B1533","v":{"$error":"#N/A"}},{"$f":"'Veg Guide Data Base'!L1533","v":{"$error":"#N/A"}},{"$f":"'Veg Guide Data Base'!K1533","v":{"$error":"#N/A"}},{"$f":"'Veg Guide Data Base'!M1533","v":{"$error":"#N/A"}}]
[null,null,null,null,null,null,{"$f":"IFERROR(INDEX($H$209:$H$575,_xlfn.AGGREGATE(15,6,(ROW($H$209:$H$575)-ROW($H$209)+1)/($H$209:$H$575<>\"\"),ROWS(G$2:G37))),\"\")","v":"calamansi, calamondin"},{"$f":"'Veg Guide Data Base'!A1534","v":"calamansi, calamondin"},{"$f":"'Veg Guide Data Base'!B1534","v":{"$error":"#N/A"}},{"$f":"'Veg Guide Data Base'!L1534","v":{"$error":"#N/A"}},{"$f":"'Veg Guide Data Base'!K1534","v":{"$error":"#N/A"}},{"$f":"'Veg Guide Data Base'!M1534","v":{"$error":"#N/A"}}]
[null,null,null,null,null,null,{"$f":"IFERROR(INDEX($H$209:$H$575,_xlfn.AGGREGATE(15,6,(ROW($H$209:$H$575)-ROW($H$209)+1)/($H$209:$H$575<>\"\"),ROWS(G$2:G38))),\"\")","v":"cashew"},{"$f":"'Veg Guide Data Base'!A1535","v":"cashew"},{"$f":"'Veg Guide Data Base'!B1535","v":{"$error":"#N/A"}},{"$f":"'Veg Guide Data Base'!L1535","v":{"$error":"#N/A"}},{"$f":"'Veg Guide Data Base'!K1535","v":{"$error":"#N/A"}},{"$f":"'Veg Guide Data Base'!M1535","v":{"$error":"#N/A"}}]
[null,null,null,null,null,null,{"$f":"IFERROR(INDEX($H$209:$H$575,_xlfn.AGGREGATE(15,6,(ROW($H$209:$H$575)-ROW($H$209)+1)/($H$209:$H$575<>\"\"),ROWS(G$2:G39))),\"\")","v":"citrus"},{"$f":"'Veg Guide Data Base'!A1536","v":"citrus"},{"$f":"'Veg Guide Data Base'!B1536","v":{"$error":"#N/A"}},{"$f":"'Veg Guide Data Base'!L1536","v":{"$error":"#N/A"}},{"$f":"'Veg Guide Data Base'!K1536","v":{"$error":"#N/A"}},{"$f":"'Veg Guide Data Base'!M1536","v":{"$error":"#N/A"}}]
[null,null,null,null,null,null,{"$f":"IFERROR(INDEX($H$209:$H$575,_xlfn.AGGREGATE(15,6,(ROW($H$209:$H$575)-ROW($H$209)+1)/($H$209:$H$575<>\"\"),ROWS(G$2:G40))),\"\")","v":"coconut (dwarf), niu leka"},{"$f":"'Veg Guide Data Base'!A1537","v":"coconut (dwarf), niu leka"},{"$f":"'Veg Guide Data Base'!B1537","v":{"$error":"#N/A"}},{"$f":"'Veg Guide Data Base'!L1537","v":{"$error":"#N/A"}},{"$f":"'Veg Guide Data Base'!K1537","v":{"$error":"#N/A"}},{"$f":"'Veg Guide Data Base'!M1537","v":{"$error":"#N/A"}}]
[null,null,null,null,null,null,{"$f":"IFERROR(INDEX($H$209:$H$575,_xlfn.AGGREGATE(15,6,(ROW($H$209:$H$575)-ROW($H$209)+1)/($H$209:$H$575<>\"\"),ROWS(G$2:G41))),\"\")","v":"coconut (tall), niu"},{"$f":"'Veg Guide Data Base'!A1538","v":"coconut (tall), niu"},{"$f":"'Veg Guide Data Base'!B1538","v":{"$error":"#N/A"}},{"$f":"'Veg Guide Data Base'!L1538","v":{"$error":"#N/A"}},{"$f":"'Veg Guide Data Base'!K1538","v":{"$error":"#N/A"}},{"$f":"'Veg Guide Data Base'!M1538","v":{"$error":"#N/A"}}]
[null,null,null,null,null,null,{"$f":"IFERROR(INDEX($H$209:$H$575,_xlfn.AGGREGATE(15,6,(ROW($H$209:$H$575)-ROW($H$209)+1)/($H$209:$H$575<>\"\"),ROWS(G$2:G42))),\"\")","v":"Cook pine"},{"$f":"'Veg Guide Data Base'!A1539","v":"Cook pine"},{"$f":"'Veg Guide Data Base'!B1539","v":{"$error":"#N/A"}},{"$f":"'Veg Guide Data Base'!L1539","v":{"$error":"#N/A"}},{"$f":"'Veg Guide Data Base'!K1539","v":{"$error":"#N/A"}},{"$f":"'Veg Guide Data Base'!M1539","v":{"$error":"#N/A"}}]
[null,null,null,null,null,null,{"$f":"IFERROR(INDEX($H$209:$H$575,_xlfn.AGGREGATE(15,6,(ROW($H$209:$H$575)-ROW($H$209)+1)/($H$209:$H$575<>\"\"),ROWS(G$2:G43))),\"\")","v":"cornstalk dracaena"},{"$f":"'Veg Guide Data Base'!A1540","v":"cornstalk dracaena"},{"$f":"'Veg Guide Data Base'!B1540","v":{"$error":"#N/A"}},{"$f":"'Veg Guide Data Base'!L1540","v":{"$error":"#N/A"}},{"$f":"'Veg Guide Data Base'!K1540","v":{"$error":"#N/A"}},{"$f":"'Veg Guide Data Base'!M1540","v":{"$error":"#N/A"}}]
[null,null,null,null,null,null,{"$f":"IFERROR(INDEX($H$209:$H$575,_xlfn.AGGREGATE(15,6,(ROW($H$209:$H$575)-ROW($H$209)+1)/($H$209:$H$575<>\"\"),ROWS(G$2:G44))),\"\")","v":"croton"},{"$f":"'Veg Guide Data Base'!A1541","v":"croton"},{"$f":"'Veg Guide Data Base'!B1541","v":{"$error":"#N/A"}},{"$f":"'Veg Guide Data Base'!L1541","v":{"$error":"#N/A"}},{"$f":"'Veg Guide Data Base'!K1541","v":{"$error":"#N/A"}},{"$f":"'Veg Guide Data Base'!M1541","v":{"$error":"#N/A"}}]
[null,null,null,null,null,null,{"$f":"IFERROR(INDEX($H$209:$H$575,_xlfn.AGGREGATE(15,6,(ROW($H$209:$H$575)-ROW($H$209)+1)/($H$209:$H$575<>\"\"),ROWS(G$2:G45))),\"\")","v":"durian"},{"$f":"'Veg Guide Data Base'!A1542","v":"durian"},{"$f":"'Veg Guide Data Base'!B1542","v":{"$error":"#N/A"}},{"$f":"'Veg Guide Data Base'!L1542","v":{"$error":"#N/A"}},{"$f":"'Veg Guide Data Base'!K1542","v":{"$error":"#N/A"}},{"$f":"'Veg Guide Data Base'!M1542","v":{"$error":"#N/A"}}]
[null,null,null,null,null,null,{"$f":"IFERROR(INDEX($H$209:$H$575,_xlfn.AGGREGATE(15,6,(ROW($H$209:$H$575)-ROW($H$209)+1)/($H$209:$H$575<>\"\"),ROWS(G$2:G46))),\"\")","v":"ear pod"},{"$f":"'Veg Guide Data Base'!A1543","v":"ear pod"},{"$f":"'Veg Guide Data Base'!B1543","v":{"$error":"#N/A"}},{"$f":"'Veg Guide Data Base'!L1543","v":{"$error":"#N/A"}},{"$f":"'Veg Guide Data Base'!K1543","v":{"$error":"#N/A"}},{"$f":"'Veg Guide Data Base'!M1543","v":{"$error":"#N/A"}}]
[null,null,null,null,null,null,{"$f":"IFERROR(INDEX($H$209:$H$575,_xlfn.AGGREGATE(15,6,(ROW($H$209:$H$575)-ROW($H$209)+1)/($H$209:$H$575<>\"\"),ROWS(G$2:G47))),\"\")","v":"false kamani, tropical almond, kamani haole"},{"$f":"'Veg Guide Data Base'!A1544","v":"false kamani, tropical almond, kamani haole"},{"$f":"'Veg Guide Data Base'!B1544","v":{"$error":"#N/A"}},{"$f":"'Veg Guide Data Base'!L1544","v":{"$error":"#N/A"}},{"$f":"'Veg Guide Data Base'!K1544","v":{"$error":"#N/A"}},{"$f":"'Veg Guide Data Base'!M1544","v":{"$error":"#N/A"}}]
[null,null,null,null,null,null,{"$f":"IFERROR(INDEX($H$209:$H$575,_xlfn.AGGREGATE(15,6,(ROW($H$209:$H$575)-ROW($H$209)+1)/($H$209:$H$575<>\"\"),ROWS(G$2:G48))),\"\")","v":"fern pine"},{"$f":"'Veg Guide Data Base'!A1545","v":"fern pine"},{"$f":"'Veg Guide Data Base'!B1545","v":{"$error":"#N/A"}},{"$f":"'Veg Guide Data Base'!L1545","v":{"$error":"#N/A"}},{"$f":"'Veg Guide Data Base'!K1545","v":{"$error":"#N/A"}},{"$f":"'Veg Guide Data Base'!M1545","v":{"$error":"#N/A"}}]
[null,null,null,null,null,null,{"$f":"IFERROR(INDEX($H$209:$H$575,_xlfn.AGGREGATE(15,6,(ROW($H$209:$H$575)-ROW($H$209)+1)/($H$209:$H$575<>\"\"),ROWS(G$2:G49))),\"\")","v":"fern tree "},{"$f":"'Veg Guide Data Base'!A1546","v":"fern tree "},{"$f":"'Veg Guide Data Base'!B1546","v":{"$error":"#N/A"}},{"$f":"'Veg Guide Data Base'!L1546","v":{"$error":"#N/A"}},{"$f":"'Veg Guide Data Base'!K1546","v":{"$error":"#N/A"}},{"$f":"'Veg Guide Data Base'!M1546","v":{"$error":"#N/A"}}]
[null,null,null,null,null,null,{"$f":"IFERROR(INDEX($H$209:$H$575,_xlfn.AGGREGATE(15,6,(ROW($H$209:$H$575)-ROW($H$209)+1)/($H$209:$H$575<>\"\"),ROWS(G$2:G50))),\"\")","v":"fig (common)"},{"$f":"'Veg Guide Data Base'!A1547","v":"fig (common)"},{"$f":"'Veg Guide Data Base'!B1547","v":{"$error":"#N/A"}},{"$f":"'Veg Guide Data Base'!L1547","v":{"$error":"#N/A"}},{"$f":"'Veg Guide Data Base'!K1547","v":{"$error":"#N/A"}},{"$f":"'Veg Guide Data Base'!M1547","v":{"$error":"#N/A"}}]
[null,null,null,null,null,null,{"$f":"IFERROR(INDEX($H$209:$H$575,_xlfn.AGGREGATE(15,6,(ROW($H$209:$H$575)-ROW($H$209)+1)/($H$209:$H$575<>\"\"),ROWS(G$2:G51))),\"\")","v":"fish poison tree  "},{"$f":"'Veg Guide Data Base'!A1548","v":"fish poison tree  "},{"$f":"'Veg Guide Data Base'!B1548","v":{"$error":"#N/A"}},{"$f":"'Veg Guide Data Base'!L1548","v":{"$error":"#N/A"}},{"$f":"'Veg Guide Data Base'!K1548","v":{"$error":"#N/A"}},{"$f":"'Veg Guide Data Base'!M1548","v":{"$error":"#N/A"}}]
[null,null,null,null,null,null,{"$f":"IFERROR(INDEX($H$209:$H$575,_xlfn.AGGREGATE(15,6,(ROW($H$209:$H$575)-ROW($H$209)+1)/($H$209:$H$575<>\"\"),ROWS(G$2:G52))),\"\")","v":"Guatemalan rosewood"},{"$f":"'Veg Guide Data Base'!A1549","v":"Guatemalan rosewood"},{"$f":"'Veg Guide Data Base'!B1549","v":{"$error":"#N/A"}},{"$f":"'Veg Guide Data Base'!L1549","v":{"$error":"#N/A"}},{"$f":"'Veg Guide Data Base'!K1549","v":{"$error":"#N/A"}},{"$f":"'Veg Guide Data Base'!M1549","v":{"$error":"#N/A"}}]
[null,null,null,null,null,null,{"$f":"IFERROR(INDEX($H$209:$H$575,_xlfn.AGGREGATE(15,6,(ROW($H$209:$H$575)-ROW($H$209)+1)/($H$209:$H$575<>\"\"),ROWS(G$2:G53))),\"\")","v":"hala pepe - 1"},{"$f":"'Veg Guide Data Base'!A1550","v":"hala pepe - 1"},{"$f":"'Veg Guide Data Base'!B1550","v":{"$error":"#N/A"}},{"$f":"'Veg Guide Data Base'!L1550","v":{"$error":"#N/A"}},{"$f":"'Veg Guide Data Base'!K1550","v":{"$error":"#N/A"}},{"$f":"'Veg Guide Data Base'!M1550","v":{"$error":"#N/A"}}]
[null,null,null,null,null,null,{"$f":"IFERROR(INDEX($H$209:$H$575,_xlfn.AGGREGATE(15,6,(ROW($H$209:$H$575)-ROW($H$209)+1)/($H$209:$H$575<>\"\"),ROWS(G$2:G54))),\"\")","v":"hala pepe - 2"},{"$f":"'Veg Guide Data Base'!A1551","v":"hala pepe - 2"},{"$f":"'Veg Guide Data Base'!B1551","v":{"$error":"#N/A"}},{"$f":"'Veg Guide Data Base'!L1551","v":{"$error":"#N/A"}},{"$f":"'Veg Guide Data Base'!K1551","v":{"$error":"#N/A"}},{"$f":"'Veg Guide Data Base'!M1551","v":{"$error":"#N/A"}}]
[null,null,null,null,null,null,{"$f":"IFERROR(INDEX($H$209:$H$575,_xlfn.AGGREGATE(15,6,(ROW($H$209:$H$575)-ROW($H$209)+1)/($H$209:$H$575<>\"\"),ROWS(G$2:G55))),\"\")","v":"hala pepe - 3"},{"$f":"'Veg Guide Data Base'!A1552","v":"hala pepe - 3"},{"$f":"'Veg Guide Data Base'!B1552","v":{"$error":"#N/A"}},{"$f":"'Veg Guide Data Base'!L1552","v":{"$error":"#N/A"}},{"$f":"'Veg Guide Data Base'!K1552","v":{"$error":"#N/A"}},{"$f":"'Veg Guide Data Base'!M1552","v":{"$error":"#N/A"}}]
[null,null,null,null,null,null,{"$f":"IFERROR(INDEX($H$209:$H$575,_xlfn.AGGREGATE(15,6,(ROW($H$209:$H$575)-ROW($H$209)+1)/($H$209:$H$575<>\"\"),ROWS(G$2:G56))),\"\")","v":"hala, screwpine"},{"$f":"'Veg Guide Data Base'!A1553","v":"hala, screwpine"},{"$f":"'Veg Guide Data Base'!B1553","v":{"$error":"#N/A"}},{"$f":"'Veg Guide Data Base'!L1553","v":{"$error":"#N/A"}},{"$f":"'Veg Guide Data Base'!K1553","v":{"$error":"#N/A"}},{"$f":"'Veg Guide Data Base'!M1553","v":{"$error":"#N/A"}}]
[null,null,null,null,null,null,{"$f":"IFERROR(INDEX($H$209:$H$575,_xlfn.AGGREGATE(15,6,(ROW($H$209:$H$575)-ROW($H$209)+1)/($H$209:$H$575<>\"\"),ROWS(G$2:G57))),\"\")","v":"hame - 1"},{"$f":"'Veg Guide Data Base'!A1554","v":"hame - 1"},{"$f":"'Veg Guide Data Base'!B1554","v":{"$error":"#N/A"}},{"$f":"'Veg Guide Data Base'!L1554","v":{"$error":"#N/A"}},{"$f":"'Veg Guide Data Base'!K1554","v":{"$error":"#N/A"}},{"$f":"'Veg Guide Data Base'!M1554","v":{"$error":"#N/A"}}]
[null,null,null,null,null,null,{"$f":"IFERROR(INDEX($H$209:$H$575,_xlfn.AGGREGATE(15,6,(ROW($H$209:$H$575)-ROW($H$209)+1)/($H$209:$H$575<>\"\"),ROWS(G$2:G58))),\"\")","v":"hame - 2"},{"$f":"'Veg Guide Data Base'!A1555","v":"hame - 2"},{"$f":"'Veg Guide Data Base'!B1555","v":{"$error":"#N/A"}},{"$f":"'Veg Guide Data Base'!L1555","v":{"$error":"#N/A"}},{"$f":"'Veg Guide Data Base'!K1555","v":{"$error":"#N/A"}},{"$f":"'Veg Guide Data Base'!M1555","v":{"$error":"#N/A"}}]
[null,null,null,null,null,null,{"$f":"IFERROR(INDEX($H$209:$H$575,_xlfn.AGGREGATE(15,6,(ROW($H$209:$H$575)-ROW($H$209)+1)/($H$209:$H$575<>\"\"),ROWS(G$2:G59))),\"\")","v":"hao"},{"$f":"'Veg Guide Data Base'!A1556","v":"hao"},{"$f":"'Veg Guide Data Base'!B1556","v":{"$error":"#N/A"}},{"$f":"'Veg Guide Data Base'!L1556","v":{"$error":"#N/A"}},{"$f":"'Veg Guide Data Base'!K1556","v":{"$error":"#N/A"}},{"$f":"'Veg Guide Data Base'!M1556","v":{"$error":"#N/A"}}]
[null,null,null,null,null,null,{"$f":"IFERROR(INDEX($H$209:$H$575,_xlfn.AGGREGATE(15,6,(ROW($H$209:$H$575)-ROW($H$209)+1)/($H$209:$H$575<>\"\"),ROWS(G$2:G60))),\"\")","v":"hapuu"},{"$f":"'Veg Guide Data Base'!A1557","v":"hapuu"},{"$f":"'Veg Guide Data Base'!B1557","v":{"$error":"#N/A"}},{"$f":"'Veg Guide Data Base'!L1557","v":{"$error":"#N/A"}},{"$f":"'Veg Guide Data Base'!K1557","v":{"$error":"#N/A"}},{"$f":"'Veg Guide Data Base'!M1557","v":{"$error":"#N/A"}}]
[null,null,null,null,null,null,{"$f":"IFERROR(INDEX($H$209:$H$575,_xlfn.AGGREGATE(15,6,(ROW($H$209:$H$575)-ROW($H$209)+1)/($H$209:$H$575<>\"\"),ROWS(G$2:G61))),\"\")","v":"hapuu pulu"},{"$f":"'Veg Guide Data Base'!A1558","v":"hapuu pulu"},{"$f":"'Veg Guide Data Base'!B1558","v":{"$error":"#N/A"}},{"$f":"'Veg Guide Data Base'!L1558","v":{"$error":"#N/A"}},{"$f":"'Veg Guide Data Base'!K1558","v":{"$error":"#N/A"}},{"$f":"'Veg Guide Data Base'!M1558","v":{"$error":"#N/A"}}]
[null,null,null,null,null,null,{"$f":"IFERROR(INDEX($H$209:$H$575,_xlfn.AGGREGATE(15,6,(ROW($H$209:$H$575)-ROW($H$209)+1)/($H$209:$H$575<>\"\"),ROWS(G$2:G62))),\"\")","v":"hibiscus (Chinese), aloalo"},{"$f":"'Veg Guide Data Base'!A1559","v":"hibiscus (Chinese), aloalo"},{"$f":"'Veg Guide Data Base'!B1559","v":{"$error":"#N/A"}},{"$f":"'Veg Guide Data Base'!L1559","v":{"$error":"#N/A"}},{"$f":"'Veg Guide Data Base'!K1559","v":{"$error":"#N/A"}},{"$f":"'Veg Guide Data Base'!M1559","v":{"$error":"#N/A"}}]
[null,null,null,null,null,null,{"$f":"IFERROR(INDEX($H$209:$H$575,_xlfn.AGGREGATE(15,6,(ROW($H$209:$H$575)-ROW($H$209)+1)/($H$209:$H$575<>\"\"),ROWS(G$2:G63))),\"\")","v":"hoawa - 1"},{"$f":"'Veg Guide Data Base'!A1560","v":"hoawa - 1"},{"$f":"'Veg Guide Data Base'!B1560","v":{"$error":"#N/A"}},{"$f":"'Veg Guide Data Base'!L1560","v":{"$error":"#N/A"}},{"$f":"'Veg Guide Data Base'!K1560","v":{"$error":"#N/A"}},{"$f":"'Veg Guide Data Base'!M1560","v":{"$error":"#N/A"}}]
[null,null,null,null,null,null,{"$f":"IFERROR(INDEX($H$209:$H$575,_xlfn.AGGREGATE(15,6,(ROW($H$209:$H$575)-ROW($H$209)+1)/($H$209:$H$575<>\"\"),ROWS(G$2:G64))),\"\")","v":"hoawa - 4"},{"$f":"'Veg Guide Data Base'!A1561","v":"hoawa - 4"},{"$f":"'Veg Guide Data Base'!B1561","v":{"$error":"#N/A"}},{"$f":"'Veg Guide Data Base'!L1561","v":{"$error":"#N/A"}},{"$f":"'Veg Guide Data Base'!K1561","v":{"$error":"#N/A"}},{"$f":"'Veg Guide Data Base'!M1561","v":{"$error":"#N/A"}}]
[null,null,null,null,null,null,{"$f":"IFERROR(INDEX($H$209:$H$575,_xlfn.AGGREGATE(15,6,(ROW($H$209:$H$575)-ROW($H$209)+1)/($H$209:$H$575<>\"\"),ROWS(G$2:G65))),\"\")","v":"holei - 1"},{"$f":"'Veg Guide Data Base'!A1562","v":"holei - 1"},{"$f":"'Veg Guide Data Base'!B1562","v":{"$error":"#N/A"}},{"$f":"'Veg Guide Data Base'!L1562","v":{"$error":"#N/A"}},{"$f":"'Veg Guide Data Base'!K1562","v":{"$error":"#N/A"}},{"$f":"'Veg Guide Data Base'!M1562","v":{"$error":"#N/A"}}]
[null,null,null,null,null,null,{"$f":"IFERROR(INDEX($H$209:$H$575,_xlfn.AGGREGATE(15,6,(ROW($H$209:$H$575)-ROW($H$209)+1)/($H$209:$H$575<>\"\"),ROWS(G$2:G66))),\"\")","v":"huahuako"},{"$f":"'Veg Guide Data Base'!A1563","v":"huahuako"},{"$f":"'Veg Guide Data Base'!B1563","v":{"$error":"#N/A"}},{"$f":"'Veg Guide Data Base'!L1563","v":{"$error":"#N/A"}},{"$f":"'Veg Guide Data Base'!K1563","v":{"$error":"#N/A"}},{"$f":"'Veg Guide Data Base'!M1563","v":{"$error":"#N/A"}}]
[null,null,null,null,null,null,{"$f":"IFERROR(INDEX($H$209:$H$575,_xlfn.AGGREGATE(15,6,(ROW($H$209:$H$575)-ROW($H$209)+1)/($H$209:$H$575<>\"\"),ROWS(G$2:G67))),\"\")","v":"ice cream bean"},{"$f":"'Veg Guide Data Base'!A1564","v":"ice cream bean"},{"$f":"'Veg Guide Data Base'!B1564","v":{"$error":"#N/A"}},{"$f":"'Veg Guide Data Base'!L1564","v":{"$error":"#N/A"}},{"$f":"'Veg Guide Data Base'!K1564","v":{"$error":"#N/A"}},{"$f":"'Veg Guide Data Base'!M1564","v":{"$error":"#N/A"}}]
[null,null,null,null,null,null,{"$f":"IFERROR(INDEX($H$209:$H$575,_xlfn.AGGREGATE(15,6,(ROW($H$209:$H$575)-ROW($H$209)+1)/($H$209:$H$575<>\"\"),ROWS(G$2:G68))),\"\")","v":"ieie"},{"$f":"'Veg Guide Data Base'!A1565","v":"ieie"},{"$f":"'Veg Guide Data Base'!B1565","v":{"$error":"#N/A"}},{"$f":"'Veg Guide Data Base'!L1565","v":{"$error":"#N/A"}},{"$f":"'Veg Guide Data Base'!K1565","v":{"$error":"#N/A"}},{"$f":"'Veg Guide Data Base'!M1565","v":{"$error":"#N/A"}}]
[null,null,null,null,null,null,{"$f":"IFERROR(INDEX($H$209:$H$575,_xlfn.AGGREGATE(15,6,(ROW($H$209:$H$575)-ROW($H$209)+1)/($H$209:$H$575<>\"\"),ROWS(G$2:G69))),\"\")","v":"iliahi, sandalwood - 1"},{"$f":"'Veg Guide Data Base'!A1566","v":"iliahi, sandalwood - 1"},{"$f":"'Veg Guide Data Base'!B1566","v":{"$error":"#N/A"}},{"$f":"'Veg Guide Data Base'!L1566","v":{"$error":"#N/A"}},{"$f":"'Veg Guide Data Base'!K1566","v":{"$error":"#N/A"}},{"$f":"'Veg Guide Data Base'!M1566","v":{"$error":"#N/A"}}]
[null,null,null,null,null,null,{"$f":"IFERROR(INDEX($H$209:$H$575,_xlfn.AGGREGATE(15,6,(ROW($H$209:$H$575)-ROW($H$209)+1)/($H$209:$H$575<>\"\"),ROWS(G$2:G70))),\"\")","v":"iliahi, sandalwood - 2"},{"$f":"'Veg Guide Data Base'!A1567","v":"iliahi, sandalwood - 2"},{"$f":"'Veg Guide Data Base'!B1567","v":{"$error":"#N/A"}},{"$f":"'Veg Guide Data Base'!L1567","v":{"$error":"#N/A"}},{"$f":"'Veg Guide Data Base'!K1567","v":{"$error":"#N/A"}},{"$f":"'Veg Guide Data Base'!M1567","v":{"$error":"#N/A"}}]
[null,null,null,null,null,null,{"$f":"IFERROR(INDEX($H$209:$H$575,_xlfn.AGGREGATE(15,6,(ROW($H$209:$H$575)-ROW($H$209)+1)/($H$209:$H$575<>\"\"),ROWS(G$2:G71))),\"\")","v":"iliahi, sandalwood - 3"},{"$f":"'Veg Guide Data Base'!A1568","v":"iliahi, sandalwood - 3"},{"$f":"'Veg Guide Data Base'!B1568","v":{"$error":"#N/A"}},{"$f":"'Veg Guide Data Base'!L1568","v":{"$error":"#N/A"}},{"$f":"'Veg Guide Data Base'!K1568","v":{"$error":"#N/A"}},{"$f":"'Veg Guide Data Base'!M1568","v":{"$error":"#N/A"}}]
[null,null,null,null,null,null,{"$f":"IFERROR(INDEX($H$209:$H$575,_xlfn.AGGREGATE(15,6,(ROW($H$209:$H$575)-ROW($H$209)+1)/($H$209:$H$575<>\"\"),ROWS(G$2:G72))),\"\")","v":"iliahi, sandalwood - 7"},{"$f":"'Veg Guide Data Base'!A1569","v":"iliahi, sandalwood - 7"},{"$f":"'Veg Guide Data Base'!B1569","v":{"$error":"#N/A"}},{"$f":"'Veg Guide Data Base'!L1569","v":{"$error":"#N/A"}},{"$f":"'Veg Guide Data Base'!K1569","v":{"$error":"#N/A"}},{"$f":"'Veg Guide Data Base'!M1569","v":{"$error":"#N/A"}}]
[null,null,null,null,null,null,{"$f":"IFERROR(INDEX($H$209:$H$575,_xlfn.AGGREGATE(15,6,(ROW($H$209:$H$575)-ROW($H$209)+1)/($H$209:$H$575<>\"\"),ROWS(G$2:G73))),\"\")","v":"iliee, wild leadwort"},{"$f":"'Veg Guide Data Base'!A1570","v":"iliee, wild leadwort"},{"$f":"'Veg Guide Data Base'!B1570","v":{"$error":"#N/A"}},{"$f":"'Veg Guide Data Base'!L1570","v":{"$error":"#N/A"}},{"$f":"'Veg Guide Data Base'!K1570","v":{"$error":"#N/A"}},{"$f":"'Veg Guide Data Base'!M1570","v":{"$error":"#N/A"}}]
[null,null,null,null,null,null,{"$f":"IFERROR(INDEX($H$209:$H$575,_xlfn.AGGREGATE(15,6,(ROW($H$209:$H$575)-ROW($H$209)+1)/($H$209:$H$575<>\"\"),ROWS(G$2:G74))),\"\")","v":"ilima"},{"$f":"'Veg Guide Data Base'!A1571","v":"ilima"},{"$f":"'Veg Guide Data Base'!B1571","v":{"$error":"#N/A"}},{"$f":"'Veg Guide Data Base'!L1571","v":{"$error":"#N/A"}},{"$f":"'Veg Guide Data Base'!K1571","v":{"$error":"#N/A"}},{"$f":"'Veg Guide Data Base'!M1571","v":{"$error":"#N/A"}}]
[null,null,null,null,null,null,{"$f":"IFERROR(INDEX($H$209:$H$575,_xlfn.AGGREGATE(15,6,(ROW($H$209:$H$575)-ROW($H$209)+1)/($H$209:$H$575<>\"\"),ROWS(G$2:G75))),\"\")","v":"jaboticaba"},{"$f":"'Veg Guide Data Base'!A1572","v":"jaboticaba"},{"$f":"'Veg Guide Data Base'!B1572","v":{"$error":"#N/A"}},{"$f":"'Veg Guide Data Base'!L1572","v":{"$error":"#N/A"}},{"$f":"'Veg Guide Data Base'!K1572","v":{"$error":"#N/A"}},{"$f":"'Veg Guide Data Base'!M1572","v":{"$error":"#N/A"}}]
[null,null,null,null,null,null,{"$f":"IFERROR(INDEX($H$209:$H$575,_xlfn.AGGREGATE(15,6,(ROW($H$209:$H$575)-ROW($H$209)+1)/($H$209:$H$575<>\"\"),ROWS(G$2:G76))),\"\")","v":"jackfruit"},{"$f":"'Veg Guide Data Base'!A1573","v":"jackfruit"},{"$f":"'Veg Guide Data Base'!B1573","v":{"$error":"#N/A"}},{"$f":"'Veg Guide Data Base'!L1573","v":{"$error":"#N/A"}},{"$f":"'Veg Guide Data Base'!K1573","v":{"$error":"#N/A"}},{"$f":"'Veg Guide Data Base'!M1573","v":{"$error":"#N/A"}}]
[null,null,null,null,null,null,{"$f":"IFERROR(INDEX($H$209:$H$575,_xlfn.AGGREGATE(15,6,(ROW($H$209:$H$575)-ROW($H$209)+1)/($H$209:$H$575<>\"\"),ROWS(G$2:G77))),\"\")","v":"kaee, sea bean - 2"},{"$f":"'Veg Guide Data Base'!A1574","v":"kaee, sea bean - 2"},{"$f":"'Veg Guide Data Base'!B1574","v":{"$error":"#N/A"}},{"$f":"'Veg Guide Data Base'!L1574","v":{"$error":"#N/A"}},{"$f":"'Veg Guide Data Base'!K1574","v":{"$error":"#N/A"}},{"$f":"'Veg Guide Data Base'!M1574","v":{"$error":"#N/A"}}]
[null,null,null,null,null,null,{"$f":"IFERROR(INDEX($H$209:$H$575,_xlfn.AGGREGATE(15,6,(ROW($H$209:$H$575)-ROW($H$209)+1)/($H$209:$H$575<>\"\"),ROWS(G$2:G78))),\"\")","v":"kalamunggay, malunggay"},{"$f":"'Veg Guide Data Base'!A1575","v":"kalamunggay, malunggay"},{"$f":"'Veg Guide Data Base'!B1575","v":{"$error":"#N/A"}},{"$f":"'Veg Guide Data Base'!L1575","v":{"$error":"#N/A"}},{"$f":"'Veg Guide Data Base'!K1575","v":{"$error":"#N/A"}},{"$f":"'Veg Guide Data Base'!M1575","v":{"$error":"#N/A"}}]
[null,null,null,null,null,null,{"$f":"IFERROR(INDEX($H$209:$H$575,_xlfn.AGGREGATE(15,6,(ROW($H$209:$H$575)-ROW($H$209)+1)/($H$209:$H$575<>\"\"),ROWS(G$2:G79))),\"\")","v":"kamani, Alexandrian laurel"},{"$f":"'Veg Guide Data Base'!A1576","v":"kamani, Alexandrian laurel"},{"$f":"'Veg Guide Data Base'!B1576","v":{"$error":"#N/A"}},{"$f":"'Veg Guide Data Base'!L1576","v":{"$error":"#N/A"}},{"$f":"'Veg Guide Data Base'!K1576","v":{"$error":"#N/A"}},{"$f":"'Veg Guide Data Base'!M1576","v":{"$error":"#N/A"}}]
[null,null,null,null,null,null,{"$f":"IFERROR(INDEX($H$209:$H$575,_xlfn.AGGREGATE(15,6,(ROW($H$209:$H$575)-ROW($H$209)+1)/($H$209:$H$575<>\"\"),ROWS(G$2:G80))),\"\")","v":"kapok"},{"$f":"'Veg Guide Data Base'!A1577","v":"kapok"},{"$f":"'Veg Guide Data Base'!B1577","v":{"$error":"#N/A"}},{"$f":"'Veg Guide Data Base'!L1577","v":{"$error":"#N/A"}},{"$f":"'Veg Guide Data Base'!K1577","v":{"$error":"#N/A"}},{"$f":"'Veg Guide Data Base'!M1577","v":{"$error":"#N/A"}}]
[null,null,null,null,null,null,{"$f":"IFERROR(INDEX($H$209:$H$575,_xlfn.AGGREGATE(15,6,(ROW($H$209:$H$575)-ROW($H$209)+1)/($H$209:$H$575<>\"\"),ROWS(G$2:G81))),\"\")","v":"katuk, star gooseberry, sweet leaf, leaf asparagus"},{"$f":"'Veg Guide Data Base'!A1578","v":"katuk, star gooseberry, sweet leaf, leaf asparagus"},{"$f":"'Veg Guide Data Base'!B1578","v":{"$error":"#N/A"}},{"$f":"'Veg Guide Data Base'!L1578","v":{"$error":"#N/A"}},{"$f":"'Veg Guide Data Base'!K1578","v":{"$error":"#N/A"}},{"$f":"'Veg Guide Data Base'!M1578","v":{"$error":"#N/A"}}]
[null,null,null,null,null,null,{"$f":"IFERROR(INDEX($H$209:$H$575,_xlfn.AGGREGATE(15,6,(ROW($H$209:$H$575)-ROW($H$209)+1)/($H$209:$H$575<>\"\"),ROWS(G$2:G82))),\"\")","v":"kauila "},{"$f":"'Veg Guide Data Base'!A1579","v":"kauila "},{"$f":"'Veg Guide Data Base'!B1579","v":{"$error":"#N/A"}},{"$f":"'Veg Guide Data Base'!L1579","v":{"$error":"#N/A"}},{"$f":"'Veg Guide Data Base'!K1579","v":{"$error":"#N/A"}},{"$f":"'Veg Guide Data Base'!M1579","v":{"$error":"#N/A"}}]
[null,null,null,null,null,null,{"$f":"IFERROR(INDEX($H$209:$H$575,_xlfn.AGGREGATE(15,6,(ROW($H$209:$H$575)-ROW($H$209)+1)/($H$209:$H$575<>\"\"),ROWS(G$2:G83))),\"\")","v":"keahi"},{"$f":"'Veg Guide Data Base'!A1580","v":"keahi"},{"$f":"'Veg Guide Data Base'!B1580","v":{"$error":"#N/A"}},{"$f":"'Veg Guide Data Base'!L1580","v":{"$error":"#N/A"}},{"$f":"'Veg Guide Data Base'!K1580","v":{"$error":"#N/A"}},{"$f":"'Veg Guide Data Base'!M1580","v":{"$error":"#N/A"}}]
[null,null,null,null,null,null,{"$f":"IFERROR(INDEX($H$209:$H$575,_xlfn.AGGREGATE(15,6,(ROW($H$209:$H$575)-ROW($H$209)+1)/($H$209:$H$575<>\"\"),ROWS(G$2:G84))),\"\")","v":"koa"},{"$f":"'Veg Guide Data Base'!A1581","v":"koa"},{"$f":"'Veg Guide Data Base'!B1581","v":{"$error":"#N/A"}},{"$f":"'Veg Guide Data Base'!L1581","v":{"$error":"#N/A"}},{"$f":"'Veg Guide Data Base'!K1581","v":{"$error":"#N/A"}},{"$f":"'Veg Guide Data Base'!M1581","v":{"$error":"#N/A"}}]
[null,null,null,null,null,null,{"$f":"IFERROR(INDEX($H$209:$H$575,_xlfn.AGGREGATE(15,6,(ROW($H$209:$H$575)-ROW($H$209)+1)/($H$209:$H$575<>\"\"),ROWS(G$2:G85))),\"\")","v":"koaia, koaie"},{"$f":"'Veg Guide Data Base'!A1582","v":"koaia, koaie"},{"$f":"'Veg Guide Data Base'!B1582","v":{"$error":"#N/A"}},{"$f":"'Veg Guide Data Base'!L1582","v":{"$error":"#N/A"}},{"$f":"'Veg Guide Data Base'!K1582","v":{"$error":"#N/A"}},{"$f":"'Veg Guide Data Base'!M1582","v":{"$error":"#N/A"}}]
[null,null,null,null,null,null,{"$f":"IFERROR(INDEX($H$209:$H$575,_xlfn.AGGREGATE(15,6,(ROW($H$209:$H$575)-ROW($H$209)+1)/($H$209:$H$575<>\"\"),ROWS(G$2:G86))),\"\")","v":"kokio"},{"$f":"'Veg Guide Data Base'!A1583","v":"kokio"},{"$f":"'Veg Guide Data Base'!B1583","v":{"$error":"#N/A"}},{"$f":"'Veg Guide Data Base'!L1583","v":{"$error":"#N/A"}},{"$f":"'Veg Guide Data Base'!K1583","v":{"$error":"#N/A"}},{"$f":"'Veg Guide Data Base'!M1583","v":{"$error":"#N/A"}}]
[null,null,null,null,null,null,{"$f":"IFERROR(INDEX($H$209:$H$575,_xlfn.AGGREGATE(15,6,(ROW($H$209:$H$575)-ROW($H$209)+1)/($H$209:$H$575<>\"\"),ROWS(G$2:G87))),\"\")","v":"kokio keokeo, Hawaiian white hibiscus - 1"},{"$f":"'Veg Guide Data Base'!A1584","v":"kokio keokeo, Hawaiian white hibiscus - 1"},{"$f":"'Veg Guide Data Base'!B1584","v":{"$error":"#N/A"}},{"$f":"'Veg Guide Data Base'!L1584","v":{"$error":"#N/A"}},{"$f":"'Veg Guide Data Base'!K1584","v":{"$error":"#N/A"}},{"$f":"'Veg Guide Data Base'!M1584","v":{"$error":"#N/A"}}]
[null,null,null,null,null,null,{"$f":"IFERROR(INDEX($H$209:$H$575,_xlfn.AGGREGATE(15,6,(ROW($H$209:$H$575)-ROW($H$209)+1)/($H$209:$H$575<>\"\"),ROWS(G$2:G88))),\"\")","v":"kokio keokeo, Hawaiian white hibiscus - 2"},{"$f":"'Veg Guide Data Base'!A1585","v":"kokio keokeo, Hawaiian white hibiscus - 2"},{"$f":"'Veg Guide Data Base'!B1585","v":{"$error":"#N/A"}},{"$f":"'Veg Guide Data Base'!L1585","v":{"$error":"#N/A"}},{"$f":"'Veg Guide Data Base'!K1585","v":{"$error":"#N/A"}},{"$f":"'Veg Guide Data Base'!M1585","v":{"$error":"#N/A"}}]
[null,null,null,null,null,null,{"$f":"IFERROR(INDEX($H$209:$H$575,_xlfn.AGGREGATE(15,6,(ROW($H$209:$H$575)-ROW($H$209)+1)/($H$209:$H$575<>\"\"),ROWS(G$2:G89))),\"\")","v":"kolea"},{"$f":"'Veg Guide Data Base'!A1586","v":"kolea"},{"$f":"'Veg Guide Data Base'!B1586","v":{"$error":"#N/A"}},{"$f":"'Veg Guide Data Base'!L1586","v":{"$error":"#N/A"}},{"$f":"'Veg Guide Data Base'!K1586","v":{"$error":"#N/A"}},{"$f":"'Veg Guide Data Base'!M1586","v":{"$error":"#N/A"}}]
[null,null,null,null,null,null,{"$f":"IFERROR(INDEX($H$209:$H$575,_xlfn.AGGREGATE(15,6,(ROW($H$209:$H$575)-ROW($H$209)+1)/($H$209:$H$575<>\"\"),ROWS(G$2:G90))),\"\")","v":"kolea lau lii"},{"$f":"'Veg Guide Data Base'!A1587","v":"kolea lau lii"},{"$f":"'Veg Guide Data Base'!B1587","v":{"$error":"#N/A"}},{"$f":"'Veg Guide Data Base'!L1587","v":{"$error":"#N/A"}},{"$f":"'Veg Guide Data Base'!K1587","v":{"$error":"#N/A"}},{"$f":"'Veg Guide Data Base'!M1587","v":{"$error":"#N/A"}}]
[null,null,null,null,null,null,{"$f":"IFERROR(INDEX($H$209:$H$575,_xlfn.AGGREGATE(15,6,(ROW($H$209:$H$575)-ROW($H$209)+1)/($H$209:$H$575<>\"\"),ROWS(G$2:G91))),\"\")","v":"kolea lau nui"},{"$f":"'Veg Guide Data Base'!A1588","v":"kolea lau nui"},{"$f":"'Veg Guide Data Base'!B1588","v":{"$error":"#N/A"}},{"$f":"'Veg Guide Data Base'!L1588","v":{"$error":"#N/A"}},{"$f":"'Veg Guide Data Base'!K1588","v":{"$error":"#N/A"}},{"$f":"'Veg Guide Data Base'!M1588","v":{"$error":"#N/A"}}]
[null,null,null,null,null,null,{"$f":"IFERROR(INDEX($H$209:$H$575,_xlfn.AGGREGATE(15,6,(ROW($H$209:$H$575)-ROW($H$209)+1)/($H$209:$H$575<>\"\"),ROWS(G$2:G92))),\"\")","v":"kolomona"},{"$f":"'Veg Guide Data Base'!A1589","v":"kolomona"},{"$f":"'Veg Guide Data Base'!B1589","v":{"$error":"#N/A"}},{"$f":"'Veg Guide Data Base'!L1589","v":{"$error":"#N/A"}},{"$f":"'Veg Guide Data Base'!K1589","v":{"$error":"#N/A"}},{"$f":"'Veg Guide Data Base'!M1589","v":{"$error":"#N/A"}}]
[null,null,null,null,null,null,{"$f":"IFERROR(INDEX($H$209:$H$575,_xlfn.AGGREGATE(15,6,(ROW($H$209:$H$575)-ROW($H$209)+1)/($H$209:$H$575<>\"\"),ROWS(G$2:G93))),\"\")","v":"kookoolau - 11"},{"$f":"'Veg Guide Data Base'!A1590","v":"kookoolau - 11"},{"$f":"'Veg Guide Data Base'!B1590","v":{"$error":"#N/A"}},{"$f":"'Veg Guide Data Base'!L1590","v":{"$error":"#N/A"}},{"$f":"'Veg Guide Data Base'!K1590","v":{"$error":"#N/A"}},{"$f":"'Veg Guide Data Base'!M1590","v":{"$error":"#N/A"}}]
[null,null,null,null,null,null,{"$f":"IFERROR(INDEX($H$209:$H$575,_xlfn.AGGREGATE(15,6,(ROW($H$209:$H$575)-ROW($H$209)+1)/($H$209:$H$575<>\"\"),ROWS(G$2:G94))),\"\")","v":"kopiko - 2"},{"$f":"'Veg Guide Data Base'!A1591","v":"kopiko - 2"},{"$f":"'Veg Guide Data Base'!B1591","v":{"$error":"#N/A"}},{"$f":"'Veg Guide Data Base'!L1591","v":{"$error":"#N/A"}},{"$f":"'Veg Guide Data Base'!K1591","v":{"$error":"#N/A"}},{"$f":"'Veg Guide Data Base'!M1591","v":{"$error":"#N/A"}}]
[null,null,null,null,null,null,{"$f":"IFERROR(INDEX($H$209:$H$575,_xlfn.AGGREGATE(15,6,(ROW($H$209:$H$575)-ROW($H$209)+1)/($H$209:$H$575<>\"\"),ROWS(G$2:G95))),\"\")","v":"kopiko - 3"},{"$f":"'Veg Guide Data Base'!A1592","v":"kopiko - 3"},{"$f":"'Veg Guide Data Base'!B1592","v":{"$error":"#N/A"}},{"$f":"'Veg Guide Data Base'!L1592","v":{"$error":"#N/A"}},{"$f":"'Veg Guide Data Base'!K1592","v":{"$error":"#N/A"}},{"$f":"'Veg Guide Data Base'!M1592","v":{"$error":"#N/A"}}]
[null,null,null,null,null,null,{"$f":"IFERROR(INDEX($H$209:$H$575,_xlfn.AGGREGATE(15,6,(ROW($H$209:$H$575)-ROW($H$209)+1)/($H$209:$H$575<>\"\"),ROWS(G$2:G96))),\"\")","v":"kopiko - 6"},{"$f":"'Veg Guide Data Base'!A1593","v":"kopiko - 6"},{"$f":"'Veg Guide Data Base'!B1593","v":{"$error":"#N/A"}},{"$f":"'Veg Guide Data Base'!L1593","v":{"$error":"#N/A"}},{"$f":"'Veg Guide Data Base'!K1593","v":{"$error":"#N/A"}},{"$f":"'Veg Guide Data Base'!M1593","v":{"$error":"#N/A"}}]
[null,null,null,null,null,null,{"$f":"IFERROR(INDEX($H$209:$H$575,_xlfn.AGGREGATE(15,6,(ROW($H$209:$H$575)-ROW($H$209)+1)/($H$209:$H$575<>\"\"),ROWS(G$2:G97))),\"\")","v":"kukaemoa"},{"$f":"'Veg Guide Data Base'!A1594","v":"kukaemoa"},{"$f":"'Veg Guide Data Base'!B1594","v":{"$error":"#N/A"}},{"$f":"'Veg Guide Data Base'!L1594","v":{"$error":"#N/A"}},{"$f":"'Veg Guide Data Base'!K1594","v":{"$error":"#N/A"}},{"$f":"'Veg Guide Data Base'!M1594","v":{"$error":"#N/A"}}]
[null,null,null,null,null,null,{"$f":"IFERROR(INDEX($H$209:$H$575,_xlfn.AGGREGATE(15,6,(ROW($H$209:$H$575)-ROW($H$209)+1)/($H$209:$H$575<>\"\"),ROWS(G$2:G98))),\"\")","v":"kukui, candlenut"},{"$f":"'Veg Guide Data Base'!A1595","v":"kukui, candlenut"},{"$f":"'Veg Guide Data Base'!B1595","v":{"$error":"#N/A"}},{"$f":"'Veg Guide Data Base'!L1595","v":{"$error":"#N/A"}},{"$f":"'Veg Guide Data Base'!K1595","v":{"$error":"#N/A"}},{"$f":"'Veg Guide Data Base'!M1595","v":{"$error":"#N/A"}}]
[null,null,null,null,null,null,{"$f":"IFERROR(INDEX($H$209:$H$575,_xlfn.AGGREGATE(15,6,(ROW($H$209:$H$575)-ROW($H$209)+1)/($H$209:$H$575<>\"\"),ROWS(G$2:G99))),\"\")","v":"kului "},{"$f":"'Veg Guide Data Base'!A1596","v":"kului "},{"$f":"'Veg Guide Data Base'!B1596","v":{"$error":"#N/A"}},{"$f":"'Veg Guide Data Base'!L1596","v":{"$error":"#N/A"}},{"$f":"'Veg Guide Data Base'!K1596","v":{"$error":"#N/A"}},{"$f":"'Veg Guide Data Base'!M1596","v":{"$error":"#N/A"}}]
[null,null,null,null,null,null,{"$f":"IFERROR(INDEX($H$209:$H$575,_xlfn.AGGREGATE(15,6,(ROW($H$209:$H$575)-ROW($H$209)+1)/($H$209:$H$575<>\"\"),ROWS(G$2:G100))),\"\")","v":"lama"},{"$f":"'Veg Guide Data Base'!A1597","v":"lama"},{"$f":"'Veg Guide Data Base'!B1597","v":{"$error":"#N/A"}},{"$f":"'Veg Guide Data Base'!L1597","v":{"$error":"#N/A"}},{"$f":"'Veg Guide Data Base'!K1597","v":{"$error":"#N/A"}},{"$f":"'Veg Guide Data Base'!M1597","v":{"$error":"#N/A"}}]
[null,null,null,null,null,null,{"$f":"IFERROR(INDEX($H$209:$H$575,_xlfn.AGGREGATE(15,6,(ROW($H$209:$H$575)-ROW($H$209)+1)/($H$209:$H$575<>\"\"),ROWS(G$2:G101))),\"\")","v":"leiohiiaka"},{"$f":"'Veg Guide Data Base'!A1598","v":"leiohiiaka"},{"$f":"'Veg Guide Data Base'!B1598","v":{"$error":"#N/A"}},{"$f":"'Veg Guide Data Base'!L1598","v":{"$error":"#N/A"}},{"$f":"'Veg Guide Data Base'!K1598","v":{"$error":"#N/A"}},{"$f":"'Veg Guide Data Base'!M1598","v":{"$error":"#N/A"}}]
[null,null,null,null,null,null,{"$f":"IFERROR(INDEX($H$209:$H$575,_xlfn.AGGREGATE(15,6,(ROW($H$209:$H$575)-ROW($H$209)+1)/($H$209:$H$575<>\"\"),ROWS(G$2:G102))),\"\")","v":"lemon-scented gum"},{"$f":"'Veg Guide Data Base'!A1599","v":"lemon-scented gum"},{"$f":"'Veg Guide Data Base'!B1599","v":{"$error":"#N/A"}},{"$f":"'Veg Guide Data Base'!L1599","v":{"$error":"#N/A"}},{"$f":"'Veg Guide Data Base'!K1599","v":{"$error":"#N/A"}},{"$f":"'Veg Guide Data Base'!M1599","v":{"$error":"#N/A"}}]
[null,null,null,null,null,null,{"$f":"IFERROR(INDEX($H$209:$H$575,_xlfn.AGGREGATE(15,6,(ROW($H$209:$H$575)-ROW($H$209)+1)/($H$209:$H$575<>\"\"),ROWS(G$2:G103))),\"\")","v":"Leuceana hybrids, KX2, KX3, KX4"},{"$f":"'Veg Guide Data Base'!A1600","v":"Leuceana hybrids, KX2, KX3, KX4"},{"$f":"'Veg Guide Data Base'!B1600","v":{"$error":"#N/A"}},{"$f":"'Veg Guide Data Base'!L1600","v":{"$error":"#N/A"}},{"$f":"'Veg Guide Data Base'!K1600","v":{"$error":"#N/A"}},{"$f":"'Veg Guide Data Base'!M1600","v":{"$error":"#N/A"}}]
[null,null,null,null,null,null,{"$f":"IFERROR(INDEX($H$209:$H$575,_xlfn.AGGREGATE(15,6,(ROW($H$209:$H$575)-ROW($H$209)+1)/($H$209:$H$575<>\"\"),ROWS(G$2:G104))),\"\")","v":"longan"},{"$f":"'Veg Guide Data Base'!A1601","v":"longan"},{"$f":"'Veg Guide Data Base'!B1601","v":{"$error":"#N/A"}},{"$f":"'Veg Guide Data Base'!L1601","v":{"$error":"#N/A"}},{"$f":"'Veg Guide Data Base'!K1601","v":{"$error":"#N/A"}},{"$f":"'Veg Guide Data Base'!M1601","v":{"$error":"#N/A"}}]
[null,null,null,null,null,null,{"$f":"IFERROR(INDEX($H$209:$H$575,_xlfn.AGGREGATE(15,6,(ROW($H$209:$H$575)-ROW($H$209)+1)/($H$209:$H$575<>\"\"),ROWS(G$2:G105))),\"\")","v":"lonomea, soapberry"},{"$f":"'Veg Guide Data Base'!A1602","v":"lonomea, soapberry"},{"$f":"'Veg Guide Data Base'!B1602","v":{"$error":"#N/A"}},{"$f":"'Veg Guide Data Base'!L1602","v":{"$error":"#N/A"}},{"$f":"'Veg Guide Data Base'!K1602","v":{"$error":"#N/A"}},{"$f":"'Veg Guide Data Base'!M1602","v":{"$error":"#N/A"}}]
[null,null,null,null,null,null,{"$f":"IFERROR(INDEX($H$209:$H$575,_xlfn.AGGREGATE(15,6,(ROW($H$209:$H$575)-ROW($H$209)+1)/($H$209:$H$575<>\"\"),ROWS(G$2:G106))),\"\")","v":"loulu - 10"},{"$f":"'Veg Guide Data Base'!A1603","v":"loulu - 10"},{"$f":"'Veg Guide Data Base'!B1603","v":{"$error":"#N/A"}},{"$f":"'Veg Guide Data Base'!L1603","v":{"$error":"#N/A"}},{"$f":"'Veg Guide Data Base'!K1603","v":{"$error":"#N/A"}},{"$f":"'Veg Guide Data Base'!M1603","v":{"$error":"#N/A"}}]
[null,null,null,null,null,null,{"$f":"IFERROR(INDEX($H$209:$H$575,_xlfn.AGGREGATE(15,6,(ROW($H$209:$H$575)-ROW($H$209)+1)/($H$209:$H$575<>\"\"),ROWS(G$2:G107))),\"\")","v":"loulu - 5"},{"$f":"'Veg Guide Data Base'!A1604","v":"loulu - 5"},{"$f":"'Veg Guide Data Base'!B1604","v":{"$error":"#N/A"}},{"$f":"'Veg Guide Data Base'!L1604","v":{"$error":"#N/A"}},{"$f":"'Veg Guide Data Base'!K1604","v":{"$error":"#N/A"}},{"$f":"'Veg Guide Data Base'!M1604","v":{"$error":"#N/A"}}]
[null,null,null,null,null,null,{"$f":"IFERROR(INDEX($H$209:$H$575,_xlfn.AGGREGATE(15,6,(ROW($H$209:$H$575)-ROW($H$209)+1)/($H$209:$H$575<>\"\"),ROWS(G$2:G108))),\"\")","v":"loulu - 6"},{"$f":"'Veg Guide Data Base'!A1605","v":"loulu - 6"},{"$f":"'Veg Guide Data Base'!B1605","v":{"$error":"#N/A"}},{"$f":"'Veg Guide Data Base'!L1605","v":{"$error":"#N/A"}},{"$f":"'Veg Guide Data Base'!K1605","v":{"$error":"#N/A"}},{"$f":"'Veg Guide Data Base'!M1605","v":{"$error":"#N/A"}}]
[null,null,null,null,null,null,{"$f":"IFERROR(INDEX($H$209:$H$575,_xlfn.AGGREGATE(15,6,(ROW($H$209:$H$575)-ROW($H$209)+1)/($H$209:$H$575<>\"\"),ROWS(G$2:G109))),\"\")","v":"loulu - 9"},{"$f":"'Veg Guide Data Base'!A1606","v":"loulu - 9"},{"$f":"'Veg Guide Data Base'!B1606","v":{"$error":"#N/A"}},{"$f":"'Veg Guide Data Base'!L1606","v":{"$error":"#N/A"}},{"$f":"'Veg Guide Data Base'!K1606","v":{"$error":"#N/A"}},{"$f":"'Veg Guide Data Base'!M1606","v":{"$error":"#N/A"}}]
[null,null,null,null,null,null,{"$f":"IFERROR(INDEX($H$209:$H$575,_xlfn.AGGREGATE(15,6,(ROW($H$209:$H$575)-ROW($H$209)+1)/($H$209:$H$575<>\"\"),ROWS(G$2:G110))),\"\")","v":"lychee"},{"$f":"'Veg Guide Data Base'!A1607","v":"lychee"},{"$f":"'Veg Guide Data Base'!B1607","v":{"$error":"#N/A"}},{"$f":"'Veg Guide Data Base'!L1607","v":{"$error":"#N/A"}},{"$f":"'Veg Guide Data Base'!K1607","v":{"$error":"#N/A"}},{"$f":"'Veg Guide Data Base'!M1607","v":{"$error":"#N/A"}}]
[null,null,null,null,null,null,{"$f":"IFERROR(INDEX($H$209:$H$575,_xlfn.AGGREGATE(15,6,(ROW($H$209:$H$575)-ROW($H$209)+1)/($H$209:$H$575<>\"\"),ROWS(G$2:G111))),\"\")","v":"macadamia nut"},{"$f":"'Veg Guide Data Base'!A1608","v":"macadamia nut"},{"$f":"'Veg Guide Data Base'!B1608","v":{"$error":"#N/A"}},{"$f":"'Veg Guide Data Base'!L1608","v":{"$error":"#N/A"}},{"$f":"'Veg Guide Data Base'!K1608","v":{"$error":"#N/A"}},{"$f":"'Veg Guide Data Base'!M1608","v":{"$error":"#N/A"}}]
[null,null,null,null,null,null,{"$f":"IFERROR(INDEX($H$209:$H$575,_xlfn.AGGREGATE(15,6,(ROW($H$209:$H$575)-ROW($H$209)+1)/($H$209:$H$575<>\"\"),ROWS(G$2:G112))),\"\")","v":"Macarthur palm"},{"$f":"'Veg Guide Data Base'!A1609","v":"Macarthur palm"},{"$f":"'Veg Guide Data Base'!B1609","v":{"$error":"#N/A"}},{"$f":"'Veg Guide Data Base'!L1609","v":{"$error":"#N/A"}},{"$f":"'Veg Guide Data Base'!K1609","v":{"$error":"#N/A"}},{"$f":"'Veg Guide Data Base'!M1609","v":{"$error":"#N/A"}}]
[null,null,null,null,null,null,{"$f":"IFERROR(INDEX($H$209:$H$575,_xlfn.AGGREGATE(15,6,(ROW($H$209:$H$575)-ROW($H$209)+1)/($H$209:$H$575<>\"\"),ROWS(G$2:G113))),\"\")","v":"maiapilo, pua pilo"},{"$f":"'Veg Guide Data Base'!A1610","v":"maiapilo, pua pilo"},{"$f":"'Veg Guide Data Base'!B1610","v":{"$error":"#N/A"}},{"$f":"'Veg Guide Data Base'!L1610","v":{"$error":"#N/A"}},{"$f":"'Veg Guide Data Base'!K1610","v":{"$error":"#N/A"}},{"$f":"'Veg Guide Data Base'!M1610","v":{"$error":"#N/A"}}]
[null,null,null,null,null,null,{"$f":"IFERROR(INDEX($H$209:$H$575,_xlfn.AGGREGATE(15,6,(ROW($H$209:$H$575)-ROW($H$209)+1)/($H$209:$H$575<>\"\"),ROWS(G$2:G114))),\"\")","v":"maile"},{"$f":"'Veg Guide Data Base'!A1611","v":"maile"},{"$f":"'Veg Guide Data Base'!B1611","v":{"$error":"#N/A"}},{"$f":"'Veg Guide Data Base'!L1611","v":{"$error":"#N/A"}},{"$f":"'Veg Guide Data Base'!K1611","v":{"$error":"#N/A"}},{"$f":"'Veg Guide Data Base'!M1611","v":{"$error":"#N/A"}}]
[null,null,null,null,null,null,{"$f":"IFERROR(INDEX($H$209:$H$575,_xlfn.AGGREGATE(15,6,(ROW($H$209:$H$575)-ROW($H$209)+1)/($H$209:$H$575<>\"\"),ROWS(G$2:G115))),\"\")","v":"Malabar chestnut"},{"$f":"'Veg Guide Data Base'!A1612","v":"Malabar chestnut"},{"$f":"'Veg Guide Data Base'!B1612","v":{"$error":"#N/A"}},{"$f":"'Veg Guide Data Base'!L1612","v":{"$error":"#N/A"}},{"$f":"'Veg Guide Data Base'!K1612","v":{"$error":"#N/A"}},{"$f":"'Veg Guide Data Base'!M1612","v":{"$error":"#N/A"}}]
[null,null,null,null,null,null,{"$f":"IFERROR(INDEX($H$209:$H$575,_xlfn.AGGREGATE(15,6,(ROW($H$209:$H$575)-ROW($H$209)+1)/($H$209:$H$575<>\"\"),ROWS(G$2:G116))),\"\")","v":"mamaki"},{"$f":"'Veg Guide Data Base'!A1613","v":"mamaki"},{"$f":"'Veg Guide Data Base'!B1613","v":{"$error":"#N/A"}},{"$f":"'Veg Guide Data Base'!L1613","v":{"$error":"#N/A"}},{"$f":"'Veg Guide Data Base'!K1613","v":{"$error":"#N/A"}},{"$f":"'Veg Guide Data Base'!M1613","v":{"$error":"#N/A"}}]
[null,null,null,null,null,null,{"$f":"IFERROR(INDEX($H$209:$H$575,_xlfn.AGGREGATE(15,6,(ROW($H$209:$H$575)-ROW($H$209)+1)/($H$209:$H$575<>\"\"),ROWS(G$2:G117))),\"\")","v":"mango, manako"},{"$f":"'Veg Guide Data Base'!A1614","v":"mango, manako"},{"$f":"'Veg Guide Data Base'!B1614","v":{"$error":"#N/A"}},{"$f":"'Veg Guide Data Base'!L1614","v":{"$error":"#N/A"}},{"$f":"'Veg Guide Data Base'!K1614","v":{"$error":"#N/A"}},{"$f":"'Veg Guide Data Base'!M1614","v":{"$error":"#N/A"}}]
[null,null,null,null,null,null,{"$f":"IFERROR(INDEX($H$209:$H$575,_xlfn.AGGREGATE(15,6,(ROW($H$209:$H$575)-ROW($H$209)+1)/($H$209:$H$575<>\"\"),ROWS(G$2:G118))),\"\")","v":"mangosteen"},{"$f":"'Veg Guide Data Base'!A1615","v":"mangosteen"},{"$f":"'Veg Guide Data Base'!B1615","v":{"$error":"#N/A"}},{"$f":"'Veg Guide Data Base'!L1615","v":{"$error":"#N/A"}},{"$f":"'Veg Guide Data Base'!K1615","v":{"$error":"#N/A"}},{"$f":"'Veg Guide Data Base'!M1615","v":{"$error":"#N/A"}}]
[null,null,null,null,null,null,{"$f":"IFERROR(INDEX($H$209:$H$575,_xlfn.AGGREGATE(15,6,(ROW($H$209:$H$575)-ROW($H$209)+1)/($H$209:$H$575<>\"\"),ROWS(G$2:G119))),\"\")","v":"manono - 1"},{"$f":"'Veg Guide Data Base'!A1616","v":"manono - 1"},{"$f":"'Veg Guide Data Base'!B1616","v":{"$error":"#N/A"}},{"$f":"'Veg Guide Data Base'!L1616","v":{"$error":"#N/A"}},{"$f":"'Veg Guide Data Base'!K1616","v":{"$error":"#N/A"}},{"$f":"'Veg Guide Data Base'!M1616","v":{"$error":"#N/A"}}]
[null,null,null,null,null,null,{"$f":"IFERROR(INDEX($H$209:$H$575,_xlfn.AGGREGATE(15,6,(ROW($H$209:$H$575)-ROW($H$209)+1)/($H$209:$H$575<>\"\"),ROWS(G$2:G120))),\"\")","v":"manono - 2"},{"$f":"'Veg Guide Data Base'!A1617","v":"manono - 2"},{"$f":"'Veg Guide Data Base'!B1617","v":{"$error":"#N/A"}},{"$f":"'Veg Guide Data Base'!L1617","v":{"$error":"#N/A"}},{"$f":"'Veg Guide Data Base'!K1617","v":{"$error":"#N/A"}},{"$f":"'Veg Guide Data Base'!M1617","v":{"$error":"#N/A"}}]
[null,null,null,null,null,null,{"$f":"IFERROR(INDEX($H$209:$H$575,_xlfn.AGGREGATE(15,6,(ROW($H$209:$H$575)-ROW($H$209)+1)/($H$209:$H$575<>\"\"),ROWS(G$2:G121))),\"\")","v":"mao, huluhulu, Hawaiian cotton"},{"$f":"'Veg Guide Data Base'!A1618","v":"mao, huluhulu, Hawaiian cotton"},{"$f":"'Veg Guide Data Base'!B1618","v":{"$error":"#N/A"}},{"$f":"'Veg Guide Data Base'!L1618","v":{"$error":"#N/A"}},{"$f":"'Veg Guide Data Base'!K1618","v":{"$error":"#N/A"}},{"$f":"'Veg Guide Data Base'!M1618","v":{"$error":"#N/A"}}]
[null,null,null,null,null,null,{"$f":"IFERROR(INDEX($H$209:$H$575,_xlfn.AGGREGATE(15,6,(ROW($H$209:$H$575)-ROW($H$209)+1)/($H$209:$H$575<>\"\"),ROWS(G$2:G122))),\"\")","v":"maua"},{"$f":"'Veg Guide Data Base'!A1619","v":"maua"},{"$f":"'Veg Guide Data Base'!B1619","v":{"$error":"#N/A"}},{"$f":"'Veg Guide Data Base'!L1619","v":{"$error":"#N/A"}},{"$f":"'Veg Guide Data Base'!K1619","v":{"$error":"#N/A"}},{"$f":"'Veg Guide Data Base'!M1619","v":{"$error":"#N/A"}}]
[null,null,null,null,null,null,{"$f":"IFERROR(INDEX($H$209:$H$575,_xlfn.AGGREGATE(15,6,(ROW($H$209:$H$575)-ROW($H$209)+1)/($H$209:$H$575<>\"\"),ROWS(G$2:G123))),\"\")","v":"Maui hinahina ewa, Maui chaff flower"},{"$f":"'Veg Guide Data Base'!A1620","v":"Maui hinahina ewa, Maui chaff flower"},{"$f":"'Veg Guide Data Base'!B1620","v":{"$error":"#N/A"}},{"$f":"'Veg Guide Data Base'!L1620","v":{"$error":"#N/A"}},{"$f":"'Veg Guide Data Base'!K1620","v":{"$error":"#N/A"}},{"$f":"'Veg Guide Data Base'!M1620","v":{"$error":"#N/A"}}]
[null,null,null,null,null,null,{"$f":"IFERROR(INDEX($H$209:$H$575,_xlfn.AGGREGATE(15,6,(ROW($H$209:$H$575)-ROW($H$209)+1)/($H$209:$H$575<>\"\"),ROWS(G$2:G124))),\"\")","v":"Mexican (Portugese) cypress"},{"$f":"'Veg Guide Data Base'!A1621","v":"Mexican (Portugese) cypress"},{"$f":"'Veg Guide Data Base'!B1621","v":{"$error":"#N/A"}},{"$f":"'Veg Guide Data Base'!L1621","v":{"$error":"#N/A"}},{"$f":"'Veg Guide Data Base'!K1621","v":{"$error":"#N/A"}},{"$f":"'Veg Guide Data Base'!M1621","v":{"$error":"#N/A"}}]
[null,null,null,null,null,null,{"$f":"IFERROR(INDEX($H$209:$H$575,_xlfn.AGGREGATE(15,6,(ROW($H$209:$H$575)-ROW($H$209)+1)/($H$209:$H$575<>\"\"),ROWS(G$2:G125))),\"\")","v":"milo, Pacific rosewood"},{"$f":"'Veg Guide Data Base'!A1622","v":"milo, Pacific rosewood"},{"$f":"'Veg Guide Data Base'!B1622","v":{"$error":"#N/A"}},{"$f":"'Veg Guide Data Base'!L1622","v":{"$error":"#N/A"}},{"$f":"'Veg Guide Data Base'!K1622","v":{"$error":"#N/A"}},{"$f":"'Veg Guide Data Base'!M1622","v":{"$error":"#N/A"}}]
[null,null,null,null,null,null,{"$f":"IFERROR(INDEX($H$209:$H$575,_xlfn.AGGREGATE(15,6,(ROW($H$209:$H$575)-ROW($H$209)+1)/($H$209:$H$575<>\"\"),ROWS(G$2:G126))),\"\")","v":"Mindanao gum, rainbow gum"},{"$f":"'Veg Guide Data Base'!A1623","v":"Mindanao gum, rainbow gum"},{"$f":"'Veg Guide Data Base'!B1623","v":{"$error":"#N/A"}},{"$f":"'Veg Guide Data Base'!L1623","v":{"$error":"#N/A"}},{"$f":"'Veg Guide Data Base'!K1623","v":{"$error":"#N/A"}},{"$f":"'Veg Guide Data Base'!M1623","v":{"$error":"#N/A"}}]
[null,null,null,null,null,null,{"$f":"IFERROR(INDEX($H$209:$H$575,_xlfn.AGGREGATE(15,6,(ROW($H$209:$H$575)-ROW($H$209)+1)/($H$209:$H$575<>\"\"),ROWS(G$2:G127))),\"\")","v":"mock orange"},{"$f":"'Veg Guide Data Base'!A1624","v":"mock orange"},{"$f":"'Veg Guide Data Base'!B1624","v":{"$error":"#N/A"}},{"$f":"'Veg Guide Data Base'!L1624","v":{"$error":"#N/A"}},{"$f":"'Veg Guide Data Base'!K1624","v":{"$error":"#N/A"}},{"$f":"'Veg Guide Data Base'!M1624","v":{"$error":"#N/A"}}]
[null,null,null,null,null,null,{"$f":"IFERROR(INDEX($H$209:$H$575,_xlfn.AGGREGATE(15,6,(ROW($H$209:$H$575)-ROW($H$209)+1)/($H$209:$H$575<>\"\"),ROWS(G$2:G128))),\"\")","v":"monkeypod, ohai, rain tree"},{"$f":"'Veg Guide Data Base'!A1625","v":"monkeypod, ohai, rain tree"},{"$f":"'Veg Guide Data Base'!B1625","v":{"$error":"#N/A"}},{"$f":"'Veg Guide Data Base'!L1625","v":{"$error":"#N/A"}},{"$f":"'Veg Guide Data Base'!K1625","v":{"$error":"#N/A"}},{"$f":"'Veg Guide Data Base'!M1625","v":{"$error":"#N/A"}}]
[null,null,null,null,null,null,{"$f":"IFERROR(INDEX($H$209:$H$575,_xlfn.AGGREGATE(15,6,(ROW($H$209:$H$575)-ROW($H$209)+1)/($H$209:$H$575<>\"\"),ROWS(G$2:G129))),\"\")","v":"mountain apple"},{"$f":"'Veg Guide Data Base'!A1626","v":"mountain apple"},{"$f":"'Veg Guide Data Base'!B1626","v":{"$error":"#N/A"}},{"$f":"'Veg Guide Data Base'!L1626","v":{"$error":"#N/A"}},{"$f":"'Veg Guide Data Base'!K1626","v":{"$error":"#N/A"}},{"$f":"'Veg Guide Data Base'!M1626","v":{"$error":"#N/A"}}]
[null,null,null,null,null,null,{"$f":"IFERROR(INDEX($H$209:$H$575,_xlfn.AGGREGATE(15,6,(ROW($H$209:$H$575)-ROW($H$209)+1)/($H$209:$H$575<>\"\"),ROWS(G$2:G130))),\"\")","v":"narra, Burmese rosewood"},{"$f":"'Veg Guide Data Base'!A1627","v":"narra, Burmese rosewood"},{"$f":"'Veg Guide Data Base'!B1627","v":{"$error":"#N/A"}},{"$f":"'Veg Guide Data Base'!L1627","v":{"$error":"#N/A"}},{"$f":"'Veg Guide Data Base'!K1627","v":{"$error":"#N/A"}},{"$f":"'Veg Guide Data Base'!M1627","v":{"$error":"#N/A"}}]
[null,null,null,null,null,null,{"$f":"IFERROR(INDEX($H$209:$H$575,_xlfn.AGGREGATE(15,6,(ROW($H$209:$H$575)-ROW($H$209)+1)/($H$209:$H$575<>\"\"),ROWS(G$2:G131))),\"\")","v":"narrow-leaved ironbark"},{"$f":"'Veg Guide Data Base'!A1628","v":"narrow-leaved ironbark"},{"$f":"'Veg Guide Data Base'!B1628","v":{"$error":"#N/A"}},{"$f":"'Veg Guide Data Base'!L1628","v":{"$error":"#N/A"}},{"$f":"'Veg Guide Data Base'!K1628","v":{"$error":"#N/A"}},{"$f":"'Veg Guide Data Base'!M1628","v":{"$error":"#N/A"}}]
[null,null,null,null,null,null,{"$f":"IFERROR(INDEX($H$209:$H$575,_xlfn.AGGREGATE(15,6,(ROW($H$209:$H$575)-ROW($H$209)+1)/($H$209:$H$575<>\"\"),ROWS(G$2:G132))),\"\")","v":"naupaka kahakai, beach cabbage"},{"$f":"'Veg Guide Data Base'!A1629","v":"naupaka kahakai, beach cabbage"},{"$f":"'Veg Guide Data Base'!B1629","v":{"$error":"#N/A"}},{"$f":"'Veg Guide Data Base'!L1629","v":{"$error":"#N/A"}},{"$f":"'Veg Guide Data Base'!K1629","v":{"$error":"#N/A"}},{"$f":"'Veg Guide Data Base'!M1629","v":{"$error":"#N/A"}}]
[null,null,null,null,null,null,{"$f":"IFERROR(INDEX($H$209:$H$575,_xlfn.AGGREGATE(15,6,(ROW($H$209:$H$575)-ROW($H$209)+1)/($H$209:$H$575<>\"\"),ROWS(G$2:G133))),\"\")","v":"naupaka kuahiwi - 3"},{"$f":"'Veg Guide Data Base'!A1630","v":"naupaka kuahiwi - 3"},{"$f":"'Veg Guide Data Base'!B1630","v":{"$error":"#N/A"}},{"$f":"'Veg Guide Data Base'!L1630","v":{"$error":"#N/A"}},{"$f":"'Veg Guide Data Base'!K1630","v":{"$error":"#N/A"}},{"$f":"'Veg Guide Data Base'!M1630","v":{"$error":"#N/A"}}]
[null,null,null,null,null,null,{"$f":"IFERROR(INDEX($H$209:$H$575,_xlfn.AGGREGATE(15,6,(ROW($H$209:$H$575)-ROW($H$209)+1)/($H$209:$H$575<>\"\"),ROWS(G$2:G134))),\"\")","v":"neem, Indian lilac"},{"$f":"'Veg Guide Data Base'!A1631","v":"neem, Indian lilac"},{"$f":"'Veg Guide Data Base'!B1631","v":{"$error":"#N/A"}},{"$f":"'Veg Guide Data Base'!L1631","v":{"$error":"#N/A"}},{"$f":"'Veg Guide Data Base'!K1631","v":{"$error":"#N/A"}},{"$f":"'Veg Guide Data Base'!M1631","v":{"$error":"#N/A"}}]
[null,null,null,null,null,null,{"$f":"IFERROR(INDEX($H$209:$H$575,_xlfn.AGGREGATE(15,6,(ROW($H$209:$H$575)-ROW($H$209)+1)/($H$209:$H$575<>\"\"),ROWS(G$2:G135))),\"\")","v":"nehe"},{"$f":"'Veg Guide Data Base'!A1632","v":"nehe"},{"$f":"'Veg Guide Data Base'!B1632","v":{"$error":"#N/A"}},{"$f":"'Veg Guide Data Base'!L1632","v":{"$error":"#N/A"}},{"$f":"'Veg Guide Data Base'!K1632","v":{"$error":"#N/A"}},{"$f":"'Veg Guide Data Base'!M1632","v":{"$error":"#N/A"}}]
[null,null,null,null,null,null,{"$f":"IFERROR(INDEX($H$209:$H$575,_xlfn.AGGREGATE(15,6,(ROW($H$209:$H$575)-ROW($H$209)+1)/($H$209:$H$575<>\"\"),ROWS(G$2:G136))),\"\")","v":"neneleau"},{"$f":"'Veg Guide Data Base'!A1633","v":"neneleau"},{"$f":"'Veg Guide Data Base'!B1633","v":{"$error":"#N/A"}},{"$f":"'Veg Guide Data Base'!L1633","v":{"$error":"#N/A"}},{"$f":"'Veg Guide Data Base'!K1633","v":{"$error":"#N/A"}},{"$f":"'Veg Guide Data Base'!M1633","v":{"$error":"#N/A"}}]
[null,null,null,null,null,null,{"$f":"IFERROR(INDEX($H$209:$H$575,_xlfn.AGGREGATE(15,6,(ROW($H$209:$H$575)-ROW($H$209)+1)/($H$209:$H$575<>\"\"),ROWS(G$2:G137))),\"\")","v":"Nicaraguan rosewood, cocobolo"},{"$f":"'Veg Guide Data Base'!A1634","v":"Nicaraguan rosewood, cocobolo"},{"$f":"'Veg Guide Data Base'!B1634","v":{"$error":"#N/A"}},{"$f":"'Veg Guide Data Base'!L1634","v":{"$error":"#N/A"}},{"$f":"'Veg Guide Data Base'!K1634","v":{"$error":"#N/A"}},{"$f":"'Veg Guide Data Base'!M1634","v":{"$error":"#N/A"}}]
[null,null,null,null,null,null,{"$f":"IFERROR(INDEX($H$209:$H$575,_xlfn.AGGREGATE(15,6,(ROW($H$209:$H$575)-ROW($H$209)+1)/($H$209:$H$575<>\"\"),ROWS(G$2:G138))),\"\")","v":"noni, Indian mulberry"},{"$f":"'Veg Guide Data Base'!A1635","v":"noni, Indian mulberry"},{"$f":"'Veg Guide Data Base'!B1635","v":{"$error":"#N/A"}},{"$f":"'Veg Guide Data Base'!L1635","v":{"$error":"#N/A"}},{"$f":"'Veg Guide Data Base'!K1635","v":{"$error":"#N/A"}},{"$f":"'Veg Guide Data Base'!M1635","v":{"$error":"#N/A"}}]
[null,null,null,null,null,null,{"$f":"IFERROR(INDEX($H$209:$H$575,_xlfn.AGGREGATE(15,6,(ROW($H$209:$H$575)-ROW($H$209)+1)/($H$209:$H$575<>\"\"),ROWS(G$2:G139))),\"\")","v":"Norfolk Island pine"},{"$f":"'Veg Guide Data Base'!A1636","v":"Norfolk Island pine"},{"$f":"'Veg Guide Data Base'!B1636","v":{"$error":"#N/A"}},{"$f":"'Veg Guide Data Base'!L1636","v":{"$error":"#N/A"}},{"$f":"'Veg Guide Data Base'!K1636","v":{"$error":"#N/A"}},{"$f":"'Veg Guide Data Base'!M1636","v":{"$error":"#N/A"}}]
[null,null,null,null,null,null,{"$f":"IFERROR(INDEX($H$209:$H$575,_xlfn.AGGREGATE(15,6,(ROW($H$209:$H$575)-ROW($H$209)+1)/($H$209:$H$575<>\"\"),ROWS(G$2:G140))),\"\")","v":"oha wai - 6"},{"$f":"'Veg Guide Data Base'!A1637","v":"oha wai - 6"},{"$f":"'Veg Guide Data Base'!B1637","v":{"$error":"#N/A"}},{"$f":"'Veg Guide Data Base'!L1637","v":{"$error":"#N/A"}},{"$f":"'Veg Guide Data Base'!K1637","v":{"$error":"#N/A"}},{"$f":"'Veg Guide Data Base'!M1637","v":{"$error":"#N/A"}}]
[null,null,null,null,null,null,{"$f":"IFERROR(INDEX($H$209:$H$575,_xlfn.AGGREGATE(15,6,(ROW($H$209:$H$575)-ROW($H$209)+1)/($H$209:$H$575<>\"\"),ROWS(G$2:G141))),\"\")","v":"ohai keokeo, corkwood"},{"$f":"'Veg Guide Data Base'!A1638","v":"ohai keokeo, corkwood"},{"$f":"'Veg Guide Data Base'!B1638","v":{"$error":"#N/A"}},{"$f":"'Veg Guide Data Base'!L1638","v":{"$error":"#N/A"}},{"$f":"'Veg Guide Data Base'!K1638","v":{"$error":"#N/A"}},{"$f":"'Veg Guide Data Base'!M1638","v":{"$error":"#N/A"}}]
[null,null,null,null,null,null,{"$f":"IFERROR(INDEX($H$209:$H$575,_xlfn.AGGREGATE(15,6,(ROW($H$209:$H$575)-ROW($H$209)+1)/($H$209:$H$575<>\"\"),ROWS(G$2:G142))),\"\")","v":"ohe makai"},{"$f":"'Veg Guide Data Base'!A1639","v":"ohe makai"},{"$f":"'Veg Guide Data Base'!B1639","v":{"$error":"#N/A"}},{"$f":"'Veg Guide Data Base'!L1639","v":{"$error":"#N/A"}},{"$f":"'Veg Guide Data Base'!K1639","v":{"$error":"#N/A"}},{"$f":"'Veg Guide Data Base'!M1639","v":{"$error":"#N/A"}}]
[null,null,null,null,null,null,{"$f":"IFERROR(INDEX($H$209:$H$575,_xlfn.AGGREGATE(15,6,(ROW($H$209:$H$575)-ROW($H$209)+1)/($H$209:$H$575<>\"\"),ROWS(G$2:G143))),\"\")","v":"ohia, ohia lehua"},{"$f":"'Veg Guide Data Base'!A1640","v":"ohia, ohia lehua"},{"$f":"'Veg Guide Data Base'!B1640","v":{"$error":"#N/A"}},{"$f":"'Veg Guide Data Base'!L1640","v":{"$error":"#N/A"}},{"$f":"'Veg Guide Data Base'!K1640","v":{"$error":"#N/A"}},{"$f":"'Veg Guide Data Base'!M1640","v":{"$error":"#N/A"}}]
[null,null,null,null,null,null,{"$f":"IFERROR(INDEX($H$209:$H$575,_xlfn.AGGREGATE(15,6,(ROW($H$209:$H$575)-ROW($H$209)+1)/($H$209:$H$575<>\"\"),ROWS(G$2:G144))),\"\")","v":"olapa, lapalapa - 2"},{"$f":"'Veg Guide Data Base'!A1641","v":"olapa, lapalapa - 2"},{"$f":"'Veg Guide Data Base'!B1641","v":{"$error":"#N/A"}},{"$f":"'Veg Guide Data Base'!L1641","v":{"$error":"#N/A"}},{"$f":"'Veg Guide Data Base'!K1641","v":{"$error":"#N/A"}},{"$f":"'Veg Guide Data Base'!M1641","v":{"$error":"#N/A"}}]
[null,null,null,null,null,null,{"$f":"IFERROR(INDEX($H$209:$H$575,_xlfn.AGGREGATE(15,6,(ROW($H$209:$H$575)-ROW($H$209)+1)/($H$209:$H$575<>\"\"),ROWS(G$2:G145))),\"\")","v":"olopua"},{"$f":"'Veg Guide Data Base'!A1642","v":"olopua"},{"$f":"'Veg Guide Data Base'!B1642","v":{"$error":"#N/A"}},{"$f":"'Veg Guide Data Base'!L1642","v":{"$error":"#N/A"}},{"$f":"'Veg Guide Data Base'!K1642","v":{"$error":"#N/A"}},{"$f":"'Veg Guide Data Base'!M1642","v":{"$error":"#N/A"}}]
[null,null,null,null,null,null,{"$f":"IFERROR(INDEX($H$209:$H$575,_xlfn.AGGREGATE(15,6,(ROW($H$209:$H$575)-ROW($H$209)+1)/($H$209:$H$575<>\"\"),ROWS(G$2:G146))),\"\")","v":"papala"},{"$f":"'Veg Guide Data Base'!A1643","v":"papala"},{"$f":"'Veg Guide Data Base'!B1643","v":{"$error":"#N/A"}},{"$f":"'Veg Guide Data Base'!L1643","v":{"$error":"#N/A"}},{"$f":"'Veg Guide Data Base'!K1643","v":{"$error":"#N/A"}},{"$f":"'Veg Guide Data Base'!M1643","v":{"$error":"#N/A"}}]
[null,null,null,null,null,null,{"$f":"IFERROR(INDEX($H$209:$H$575,_xlfn.AGGREGATE(15,6,(ROW($H$209:$H$575)-ROW($H$209)+1)/($H$209:$H$575<>\"\"),ROWS(G$2:G147))),\"\")","v":"papala kepau - 1"},{"$f":"'Veg Guide Data Base'!A1644","v":"papala kepau - 1"},{"$f":"'Veg Guide Data Base'!B1644","v":{"$error":"#N/A"}},{"$f":"'Veg Guide Data Base'!L1644","v":{"$error":"#N/A"}},{"$f":"'Veg Guide Data Base'!K1644","v":{"$error":"#N/A"}},{"$f":"'Veg Guide Data Base'!M1644","v":{"$error":"#N/A"}}]
[null,null,null,null,null,null,{"$f":"IFERROR(INDEX($H$209:$H$575,_xlfn.AGGREGATE(15,6,(ROW($H$209:$H$575)-ROW($H$209)+1)/($H$209:$H$575<>\"\"),ROWS(G$2:G148))),\"\")","v":"pawale, uhauhako"},{"$f":"'Veg Guide Data Base'!A1645","v":"pawale, uhauhako"},{"$f":"'Veg Guide Data Base'!B1645","v":{"$error":"#N/A"}},{"$f":"'Veg Guide Data Base'!L1645","v":{"$error":"#N/A"}},{"$f":"'Veg Guide Data Base'!K1645","v":{"$error":"#N/A"}},{"$f":"'Veg Guide Data Base'!M1645","v":{"$error":"#N/A"}}]
[null,null,null,null,null,null,{"$f":"IFERROR(INDEX($H$209:$H$575,_xlfn.AGGREGATE(15,6,(ROW($H$209:$H$575)-ROW($H$209)+1)/($H$209:$H$575<>\"\"),ROWS(G$2:G149))),\"\")","v":"Pheasant wood, Siamese cassia"},{"$f":"'Veg Guide Data Base'!A1646","v":"Pheasant wood, Siamese cassia"},{"$f":"'Veg Guide Data Base'!B1646","v":{"$error":"#N/A"}},{"$f":"'Veg Guide Data Base'!L1646","v":{"$error":"#N/A"}},{"$f":"'Veg Guide Data Base'!K1646","v":{"$error":"#N/A"}},{"$f":"'Veg Guide Data Base'!M1646","v":{"$error":"#N/A"}}]
[null,null,null,null,null,null,{"$f":"IFERROR(INDEX($H$209:$H$575,_xlfn.AGGREGATE(15,6,(ROW($H$209:$H$575)-ROW($H$209)+1)/($H$209:$H$575<>\"\"),ROWS(G$2:G150))),\"\")","v":"plumeria"},{"$f":"'Veg Guide Data Base'!A1647","v":"plumeria"},{"$f":"'Veg Guide Data Base'!B1647","v":{"$error":"#N/A"}},{"$f":"'Veg Guide Data Base'!L1647","v":{"$error":"#N/A"}},{"$f":"'Veg Guide Data Base'!K1647","v":{"$error":"#N/A"}},{"$f":"'Veg Guide Data Base'!M1647","v":{"$error":"#N/A"}}]
[null,null,null,null,null,null,{"$f":"IFERROR(INDEX($H$209:$H$575,_xlfn.AGGREGATE(15,6,(ROW($H$209:$H$575)-ROW($H$209)+1)/($H$209:$H$575<>\"\"),ROWS(G$2:G151))),\"\")","v":"pomegranate"},{"$f":"'Veg Guide Data Base'!A1648","v":"pomegranate"},{"$f":"'Veg Guide Data Base'!B1648","v":{"$error":"#N/A"}},{"$f":"'Veg Guide Data Base'!L1648","v":{"$error":"#N/A"}},{"$f":"'Veg Guide Data Base'!K1648","v":{"$error":"#N/A"}},{"$f":"'Veg Guide Data Base'!M1648","v":{"$error":"#N/A"}}]
[null,null,null,null,null,null,{"$f":"IFERROR(INDEX($H$209:$H$575,_xlfn.AGGREGATE(15,6,(ROW($H$209:$H$575)-ROW($H$209)+1)/($H$209:$H$575<>\"\"),ROWS(G$2:G152))),\"\")","v":"primavera, gold tree"},{"$f":"'Veg Guide Data Base'!A1649","v":"primavera, gold tree"},{"$f":"'Veg Guide Data Base'!B1649","v":{"$error":"#N/A"}},{"$f":"'Veg Guide Data Base'!L1649","v":{"$error":"#N/A"}},{"$f":"'Veg Guide Data Base'!K1649","v":{"$error":"#N/A"}},{"$f":"'Veg Guide Data Base'!M1649","v":{"$error":"#N/A"}}]
[null,null,null,null,null,null,{"$f":"IFERROR(INDEX($H$209:$H$575,_xlfn.AGGREGATE(15,6,(ROW($H$209:$H$575)-ROW($H$209)+1)/($H$209:$H$575<>\"\"),ROWS(G$2:G153))),\"\")","v":"pua kine kine"},{"$f":"'Veg Guide Data Base'!A1650","v":"pua kine kine"},{"$f":"'Veg Guide Data Base'!B1650","v":{"$error":"#N/A"}},{"$f":"'Veg Guide Data Base'!L1650","v":{"$error":"#N/A"}},{"$f":"'Veg Guide Data Base'!K1650","v":{"$error":"#N/A"}},{"$f":"'Veg Guide Data Base'!M1650","v":{"$error":"#N/A"}}]
[null,null,null,null,null,null,{"$f":"IFERROR(INDEX($H$209:$H$575,_xlfn.AGGREGATE(15,6,(ROW($H$209:$H$575)-ROW($H$209)+1)/($H$209:$H$575<>\"\"),ROWS(G$2:G154))),\"\")","v":"pukiawe"},{"$f":"'Veg Guide Data Base'!A1651","v":"pukiawe"},{"$f":"'Veg Guide Data Base'!B1651","v":{"$error":"#N/A"}},{"$f":"'Veg Guide Data Base'!L1651","v":{"$error":"#N/A"}},{"$f":"'Veg Guide Data Base'!K1651","v":{"$error":"#N/A"}},{"$f":"'Veg Guide Data Base'!M1651","v":{"$error":"#N/A"}}]
[null,null,null,null,null,null,{"$f":"IFERROR(INDEX($H$209:$H$575,_xlfn.AGGREGATE(15,6,(ROW($H$209:$H$575)-ROW($H$209)+1)/($H$209:$H$575<>\"\"),ROWS(G$2:G155))),\"\")","v":"pummelo"},{"$f":"'Veg Guide Data Base'!A1652","v":"pummelo"},{"$f":"'Veg Guide Data Base'!B1652","v":{"$error":"#N/A"}},{"$f":"'Veg Guide Data Base'!L1652","v":{"$error":"#N/A"}},{"$f":"'Veg Guide Data Base'!K1652","v":{"$error":"#N/A"}},{"$f":"'Veg Guide Data Base'!M1652","v":{"$error":"#N/A"}}]
[null,null,null,null,null,null,{"$f":"IFERROR(INDEX($H$209:$H$575,_xlfn.AGGREGATE(15,6,(ROW($H$209:$H$575)-ROW($H$209)+1)/($H$209:$H$575<>\"\"),ROWS(G$2:G156))),\"\")","v":"Queensland kauri"},{"$f":"'Veg Guide Data Base'!A1653","v":"Queensland kauri"},{"$f":"'Veg Guide Data Base'!B1653","v":{"$error":"#N/A"}},{"$f":"'Veg Guide Data Base'!L1653","v":{"$error":"#N/A"}},{"$f":"'Veg Guide Data Base'!K1653","v":{"$error":"#N/A"}},{"$f":"'Veg Guide Data Base'!M1653","v":{"$error":"#N/A"}}]
[null,null,null,null,null,null,{"$f":"IFERROR(INDEX($H$209:$H$575,_xlfn.AGGREGATE(15,6,(ROW($H$209:$H$575)-ROW($H$209)+1)/($H$209:$H$575<>\"\"),ROWS(G$2:G157))),\"\")","v":"quick stick, mother of cocoa"},{"$f":"'Veg Guide Data Base'!A1654","v":"quick stick, mother of cocoa"},{"$f":"'Veg Guide Data Base'!B1654","v":{"$error":"#N/A"}},{"$f":"'Veg Guide Data Base'!L1654","v":{"$error":"#N/A"}},{"$f":"'Veg Guide Data Base'!K1654","v":{"$error":"#N/A"}},{"$f":"'Veg Guide Data Base'!M1654","v":{"$error":"#N/A"}}]
[null,null,null,null,null,null,{"$f":"IFERROR(INDEX($H$209:$H$575,_xlfn.AGGREGATE(15,6,(ROW($H$209:$H$575)-ROW($H$209)+1)/($H$209:$H$575<>\"\"),ROWS(G$2:G158))),\"\")","v":"rollinia"},{"$f":"'Veg Guide Data Base'!A1655","v":"rollinia"},{"$f":"'Veg Guide Data Base'!B1655","v":{"$error":"#N/A"}},{"$f":"'Veg Guide Data Base'!L1655","v":{"$error":"#N/A"}},{"$f":"'Veg Guide Data Base'!K1655","v":{"$error":"#N/A"}},{"$f":"'Veg Guide Data Base'!M1655","v":{"$error":"#N/A"}}]
[null,null,null,null,null,null,{"$f":"IFERROR(INDEX($H$209:$H$575,_xlfn.AGGREGATE(15,6,(ROW($H$209:$H$575)-ROW($H$209)+1)/($H$209:$H$575<>\"\"),ROWS(G$2:G159))),\"\")","v":"sadak"},{"$f":"'Veg Guide Data Base'!A1656","v":"sadak"},{"$f":"'Veg Guide Data Base'!B1656","v":{"$error":"#N/A"}},{"$f":"'Veg Guide Data Base'!L1656","v":{"$error":"#N/A"}},{"$f":"'Veg Guide Data Base'!K1656","v":{"$error":"#N/A"}},{"$f":"'Veg Guide Data Base'!M1656","v":{"$error":"#N/A"}}]
[null,null,null,null,null,null,{"$f":"IFERROR(INDEX($H$209:$H$575,_xlfn.AGGREGATE(15,6,(ROW($H$209:$H$575)-ROW($H$209)+1)/($H$209:$H$575<>\"\"),ROWS(G$2:G160))),\"\")","v":"simpleleaf chastetree - 1"},{"$f":"'Veg Guide Data Base'!A1657","v":"simpleleaf chastetree - 1"},{"$f":"'Veg Guide Data Base'!B1657","v":{"$error":"#N/A"}},{"$f":"'Veg Guide Data Base'!L1657","v":{"$error":"#N/A"}},{"$f":"'Veg Guide Data Base'!K1657","v":{"$error":"#N/A"}},{"$f":"'Veg Guide Data Base'!M1657","v":{"$error":"#N/A"}}]
[null,null,null,null,null,null,{"$f":"IFERROR(INDEX($H$209:$H$575,_xlfn.AGGREGATE(15,6,(ROW($H$209:$H$575)-ROW($H$209)+1)/($H$209:$H$575<>\"\"),ROWS(G$2:G161))),\"\")","v":"simpleleaf chastetree - 2"},{"$f":"'Veg Guide Data Base'!A1658","v":"simpleleaf chastetree - 2"},{"$f":"'Veg Guide Data Base'!B1658","v":{"$error":"#N/A"}},{"$f":"'Veg Guide Data Base'!L1658","v":{"$error":"#N/A"}},{"$f":"'Veg Guide Data Base'!K1658","v":{"$error":"#N/A"}},{"$f":"'Veg Guide Data Base'!M1658","v":{"$error":"#N/A"}}]
[null,null,null,null,null,null,{"$f":"IFERROR(INDEX($H$209:$H$575,_xlfn.AGGREGATE(15,6,(ROW($H$209:$H$575)-ROW($H$209)+1)/($H$209:$H$575<>\"\"),ROWS(G$2:G162))),\"\")","v":"small cone ironwood"},{"$f":"'Veg Guide Data Base'!A1659","v":"small cone ironwood"},{"$f":"'Veg Guide Data Base'!B1659","v":{"$error":"#N/A"}},{"$f":"'Veg Guide Data Base'!L1659","v":{"$error":"#N/A"}},{"$f":"'Veg Guide Data Base'!K1659","v":{"$error":"#N/A"}},{"$f":"'Veg Guide Data Base'!M1659","v":{"$error":"#N/A"}}]
[null,null,null,null,null,null,{"$f":"IFERROR(INDEX($H$209:$H$575,_xlfn.AGGREGATE(15,6,(ROW($H$209:$H$575)-ROW($H$209)+1)/($H$209:$H$575<>\"\"),ROWS(G$2:G163))),\"\")","v":"song of India"},{"$f":"'Veg Guide Data Base'!A1660","v":"song of India"},{"$f":"'Veg Guide Data Base'!B1660","v":{"$error":"#N/A"}},{"$f":"'Veg Guide Data Base'!L1660","v":{"$error":"#N/A"}},{"$f":"'Veg Guide Data Base'!K1660","v":{"$error":"#N/A"}},{"$f":"'Veg Guide Data Base'!M1660","v":{"$error":"#N/A"}}]
[null,null,null,null,null,null,{"$f":"IFERROR(INDEX($H$209:$H$575,_xlfn.AGGREGATE(15,6,(ROW($H$209:$H$575)-ROW($H$209)+1)/($H$209:$H$575<>\"\"),ROWS(G$2:G164))),\"\")","v":"sour sop"},{"$f":"'Veg Guide Data Base'!A1661","v":"sour sop"},{"$f":"'Veg Guide Data Base'!B1661","v":{"$error":"#N/A"}},{"$f":"'Veg Guide Data Base'!L1661","v":{"$error":"#N/A"}},{"$f":"'Veg Guide Data Base'!K1661","v":{"$error":"#N/A"}},{"$f":"'Veg Guide Data Base'!M1661","v":{"$error":"#N/A"}}]
[null,null,null,null,null,null,{"$f":"IFERROR(INDEX($H$209:$H$575,_xlfn.AGGREGATE(15,6,(ROW($H$209:$H$575)-ROW($H$209)+1)/($H$209:$H$575<>\"\"),ROWS(G$2:G165))),\"\")","v":"Southern magnolia"},{"$f":"'Veg Guide Data Base'!A1662","v":"Southern magnolia"},{"$f":"'Veg Guide Data Base'!B1662","v":{"$error":"#N/A"}},{"$f":"'Veg Guide Data Base'!L1662","v":{"$error":"#N/A"}},{"$f":"'Veg Guide Data Base'!K1662","v":{"$error":"#N/A"}},{"$f":"'Veg Guide Data Base'!M1662","v":{"$error":"#N/A"}}]
[null,null,null,null,null,null,{"$f":"IFERROR(INDEX($H$209:$H$575,_xlfn.AGGREGATE(15,6,(ROW($H$209:$H$575)-ROW($H$209)+1)/($H$209:$H$575<>\"\"),ROWS(G$2:G166))),\"\")","v":"striped dracaena"},{"$f":"'Veg Guide Data Base'!A1663","v":"striped dracaena"},{"$f":"'Veg Guide Data Base'!B1663","v":{"$error":"#N/A"}},{"$f":"'Veg Guide Data Base'!L1663","v":{"$error":"#N/A"}},{"$f":"'Veg Guide Data Base'!K1663","v":{"$error":"#N/A"}},{"$f":"'Veg Guide Data Base'!M1663","v":{"$error":"#N/A"}}]
[null,null,null,null,null,null,{"$f":"IFERROR(INDEX($H$209:$H$575,_xlfn.AGGREGATE(15,6,(ROW($H$209:$H$575)-ROW($H$209)+1)/($H$209:$H$575<>\"\"),ROWS(G$2:G167))),\"\")","v":"sugar apple"},{"$f":"'Veg Guide Data Base'!A1664","v":"sugar apple"},{"$f":"'Veg Guide Data Base'!B1664","v":{"$error":"#N/A"}},{"$f":"'Veg Guide Data Base'!L1664","v":{"$error":"#N/A"}},{"$f":"'Veg Guide Data Base'!K1664","v":{"$error":"#N/A"}},{"$f":"'Veg Guide Data Base'!M1664","v":{"$error":"#N/A"}}]
[null,null,null,null,null,null,{"$f":"IFERROR(INDEX($H$209:$H$575,_xlfn.AGGREGATE(15,6,(ROW($H$209:$H$575)-ROW($H$209)+1)/($H$209:$H$575<>\"\"),ROWS(G$2:G168))),\"\")","v":"swamp mahogany"},{"$f":"'Veg Guide Data Base'!A1665","v":"swamp mahogany"},{"$f":"'Veg Guide Data Base'!B1665","v":{"$error":"#N/A"}},{"$f":"'Veg Guide Data Base'!L1665","v":{"$error":"#N/A"}},{"$f":"'Veg Guide Data Base'!K1665","v":{"$error":"#N/A"}},{"$f":"'Veg Guide Data Base'!M1665","v":{"$error":"#N/A"}}]
[null,null,null,null,null,null,{"$f":"IFERROR(INDEX($H$209:$H$575,_xlfn.AGGREGATE(15,6,(ROW($H$209:$H$575)-ROW($H$209)+1)/($H$209:$H$575<>\"\"),ROWS(G$2:G169))),\"\")","v":"Tahitian chestnut"},{"$f":"'Veg Guide Data Base'!A1666","v":"Tahitian chestnut"},{"$f":"'Veg Guide Data Base'!B1666","v":{"$error":"#N/A"}},{"$f":"'Veg Guide Data Base'!L1666","v":{"$error":"#N/A"}},{"$f":"'Veg Guide Data Base'!K1666","v":{"$error":"#N/A"}},{"$f":"'Veg Guide Data Base'!M1666","v":{"$error":"#N/A"}}]
[null,null,null,null,null,null,{"$f":"IFERROR(INDEX($H$209:$H$575,_xlfn.AGGREGATE(15,6,(ROW($H$209:$H$575)-ROW($H$209)+1)/($H$209:$H$575<>\"\"),ROWS(G$2:G170))),\"\")","v":"tallowwood"},{"$f":"'Veg Guide Data Base'!A1667","v":"tallowwood"},{"$f":"'Veg Guide Data Base'!B1667","v":{"$error":"#N/A"}},{"$f":"'Veg Guide Data Base'!L1667","v":{"$error":"#N/A"}},{"$f":"'Veg Guide Data Base'!K1667","v":{"$error":"#N/A"}},{"$f":"'Veg Guide Data Base'!M1667","v":{"$error":"#N/A"}}]
[null,null,null,null,null,null,{"$f":"IFERROR(INDEX($H$209:$H$575,_xlfn.AGGREGATE(15,6,(ROW($H$209:$H$575)-ROW($H$209)+1)/($H$209:$H$575<>\"\"),ROWS(G$2:G171))),\"\")","v":"tamarind, wi awaawa"},{"$f":"'Veg Guide Data Base'!A1668","v":"tamarind, wi awaawa"},{"$f":"'Veg Guide Data Base'!B1668","v":{"$error":"#N/A"}},{"$f":"'Veg Guide Data Base'!L1668","v":{"$error":"#N/A"}},{"$f":"'Veg Guide Data Base'!K1668","v":{"$error":"#N/A"}},{"$f":"'Veg Guide Data Base'!M1668","v":{"$error":"#N/A"}}]
[null,null,null,null,null,null,{"$f":"IFERROR(INDEX($H$209:$H$575,_xlfn.AGGREGATE(15,6,(ROW($H$209:$H$575)-ROW($H$209)+1)/($H$209:$H$575<>\"\"),ROWS(G$2:G172))),\"\")","v":"teak"},{"$f":"'Veg Guide Data Base'!A1669","v":"teak"},{"$f":"'Veg Guide Data Base'!B1669","v":{"$error":"#N/A"}},{"$f":"'Veg Guide Data Base'!L1669","v":{"$error":"#N/A"}},{"$f":"'Veg Guide Data Base'!K1669","v":{"$error":"#N/A"}},{"$f":"'Veg Guide Data Base'!M1669","v":{"$error":"#N/A"}}]
[null,null,null,null,null,null,{"$f":"IFERROR(INDEX($H$209:$H$575,_xlfn.AGGREGATE(15,6,(ROW($H$209:$H$575)-ROW($H$209)+1)/($H$209:$H$575<>\"\"),ROWS(G$2:G173))),\"\")","v":"ti, ki, lai"},{"$f":"'Veg Guide Data Base'!A1670","v":"ti, ki, lai"},{"$f":"'Veg Guide Data Base'!B1670","v":{"$error":"#N/A"}},{"$f":"'Veg Guide Data Base'!L1670","v":{"$error":"#N/A"}},{"$f":"'Veg Guide Data Base'!K1670","v":{"$error":"#N/A"}},{"$f":"'Veg Guide Data Base'!M1670","v":{"$error":"#N/A"}}]
[null,null,null,null,null,null,{"$f":"IFERROR(INDEX($H$209:$H$575,_xlfn.AGGREGATE(15,6,(ROW($H$209:$H$575)-ROW($H$209)+1)/($H$209:$H$575<>\"\"),ROWS(G$2:G174))),\"\")","v":"turpentine tree "},{"$f":"'Veg Guide Data Base'!A1671","v":"turpentine tree "},{"$f":"'Veg Guide Data Base'!B1671","v":{"$error":"#N/A"}},{"$f":"'Veg Guide Data Base'!L1671","v":{"$error":"#N/A"}},{"$f":"'Veg Guide Data Base'!K1671","v":{"$error":"#N/A"}},{"$f":"'Veg Guide Data Base'!M1671","v":{"$error":"#N/A"}}]
[null,null,null,null,null,null,{"$f":"IFERROR(INDEX($H$209:$H$575,_xlfn.AGGREGATE(15,6,(ROW($H$209:$H$575)-ROW($H$209)+1)/($H$209:$H$575<>\"\"),ROWS(G$2:G175))),\"\")","v":"uhaloa"},{"$f":"'Veg Guide Data Base'!A1672","v":"uhaloa"},{"$f":"'Veg Guide Data Base'!B1672","v":{"$error":"#N/A"}},{"$f":"'Veg Guide Data Base'!L1672","v":{"$error":"#N/A"}},{"$f":"'Veg Guide Data Base'!K1672","v":{"$error":"#N/A"}},{"$f":"'Veg Guide Data Base'!M1672","v":{"$error":"#N/A"}}]
[null,null,null,null,null,null,{"$f":"IFERROR(INDEX($H$209:$H$575,_xlfn.AGGREGATE(15,6,(ROW($H$209:$H$575)-ROW($H$209)+1)/($H$209:$H$575<>\"\"),ROWS(G$2:G176))),\"\")","v":"ulei "},{"$f":"'Veg Guide Data Base'!A1673","v":"ulei "},{"$f":"'Veg Guide Data Base'!B1673","v":{"$error":"#N/A"}},{"$f":"'Veg Guide Data Base'!L1673","v":{"$error":"#N/A"}},{"$f":"'Veg Guide Data Base'!K1673","v":{"$error":"#N/A"}},{"$f":"'Veg Guide Data Base'!M1673","v":{"$error":"#N/A"}}]
[null,null,null,null,null,null,{"$f":"IFERROR(INDEX($H$209:$H$575,_xlfn.AGGREGATE(15,6,(ROW($H$209:$H$575)-ROW($H$209)+1)/($H$209:$H$575<>\"\"),ROWS(G$2:G177))),\"\")","v":"Waipahu fig"},{"$f":"'Veg Guide Data Base'!A1674","v":"Waipahu fig"},{"$f":"'Veg Guide Data Base'!B1674","v":{"$error":"#N/A"}},{"$f":"'Veg Guide Data Base'!L1674","v":{"$error":"#N/A"}},{"$f":"'Veg Guide Data Base'!K1674","v":{"$error":"#N/A"}},{"$f":"'Veg Guide Data Base'!M1674","v":{"$error":"#N/A"}}]
[null,null,null,null,null,null,{"$f":"IFERROR(INDEX($H$209:$H$575,_xlfn.AGGREGATE(15,6,(ROW($H$209:$H$575)-ROW($H$209)+1)/($H$209:$H$575<>\"\"),ROWS(G$2:G178))),\"\")","v":"wauke, poaaha, paper mulberry"},{"$f":"'Veg Guide Data Base'!A1675","v":"wauke, poaaha, paper mulberry"},{"$f":"'Veg Guide Data Base'!B1675","v":{"$error":"#N/A"}},{"$f":"'Veg Guide Data Base'!L1675","v":{"$error":"#N/A"}},{"$f":"'Veg Guide Data Base'!K1675","v":{"$error":"#N/A"}},{"$f":"'Veg Guide Data Base'!M1675","v":{"$error":"#N/A"}},null,null,null,null,null,null,null,null,null,null,null,null,null,null,null,null,null,"Oahu"]
[null,null,null,null,null,null,{"$f":"IFERROR(INDEX($H$209:$H$575,_xlfn.AGGREGATE(15,6,(ROW($H$209:$H$575)-ROW($H$209)+1)/($H$209:$H$575<>\"\"),ROWS(G$2:G179))),\"\")","v":"weeping bottlebrush"},{"$f":"'Veg Guide Data Base'!A1676","v":"weeping bottlebrush"},{"$f":"'Veg Guide Data Base'!B1676","v":{"$error":"#N/A"}},{"$f":"'Veg Guide Data Base'!L1676","v":{"$error":"#N/A"}},{"$f":"'Veg Guide Data Base'!K1676","v":{"$error":"#N/A"}},{"$f":"'Veg Guide Data Base'!M1676","v":{"$error":"#N/A"}}]
[null,null,null,null,null,null,{"$f":"IFERROR(INDEX($H$209:$H$575,_xlfn.AGGREGATE(15,6,(ROW($H$209:$H$575)-ROW($H$209)+1)/($H$209:$H$575<>\"\"),ROWS(G$2:G180))),\"\")","v":"West Indian locust, Brazilian cherry"},{"$f":"'Veg Guide Data Base'!A1677","v":"West Indian locust, Brazilian cherry"},{"$f":"'Veg Guide Data Base'!B1677","v":{"$error":"#N/A"}},{"$f":"'Veg Guide Data Base'!L1677","v":{"$error":"#N/A"}},{"$f":"'Veg Guide Data Base'!K1677","v":{"$error":"#N/A"}},{"$f":"'Veg Guide Data Base'!M1677","v":{"$error":"#N/A"}}]
[null,null,null,null,null,null,{"$f":"IFERROR(INDEX($H$209:$H$575,_xlfn.AGGREGATE(15,6,(ROW($H$209:$H$575)-ROW($H$209)+1)/($H$209:$H$575<>\"\"),ROWS(G$2:G181))),\"\")","v":"West Indies/Cuban mahogany"},{"$f":"'Veg Guide Data Base'!A1678","v":"West Indies/Cuban mahogany"},{"$f":"'Veg Guide Data Base'!B1678","v":{"$error":"#N/A"}},{"$f":"'Veg Guide Data Base'!L1678","v":{"$error":"#N/A"}},{"$f":"'Veg Guide Data Base'!K1678","v":{"$error":"#N/A"}},{"$f":"'Veg Guide Data Base'!M1678","v":{"$error":"#N/A"}}]
[null,null,null,null,null,null,{"$f":"IFERROR(INDEX($H$209:$H$575,_xlfn.AGGREGATE(15,6,(ROW($H$209:$H$575)-ROW($H$209)+1)/($H$209:$H$575<>\"\"),ROWS(G$2:G182))),\"\")","v":"wiliwili"},{"$f":"'Veg Guide Data Base'!A1679","v":"wiliwili"},{"$f":"'Veg Guide Data Base'!B1679","v":{"$error":"#N/A"}},{"$f":"'Veg Guide Data Base'!L1679","v":{"$error":"#N/A"}},{"$f":"'Veg Guide Data Base'!K1679","v":{"$error":"#N/A"}},{"$f":"'Veg Guide Data Base'!M1679","v":{"$error":"#N/A"}}]
[null,null,null,null,null,null,{"$f":"IFERROR(INDEX($H$209:$H$575,_xlfn.AGGREGATE(15,6,(ROW($H$209:$H$575)-ROW($H$209)+1)/($H$209:$H$575<>\"\"),ROWS(G$2:G183))),\"\")","v":"ylang ylang, lanalana"},{"$f":"'Veg Guide Data Base'!A1680","v":"ylang ylang, lanalana"},{"$f":"'Veg Guide Data Base'!B1680","v":{"$error":"#N/A"}},{"$f":"'Veg Guide Data Base'!L1680","v":{"$error":"#N/A"}},{"$f":"'Veg Guide Data Base'!K1680","v":{"$error":"#N/A"}},{"$f":"'Veg Guide Data Base'!M1680","v":{"$error":"#N/A"}}]
[null,null,null,null,null,null,{"$f":"IFERROR(INDEX($H$209:$H$575,_xlfn.AGGREGATE(15,6,(ROW($H$209:$H$575)-ROW($H$209)+1)/($H$209:$H$575<>\"\"),ROWS(G$2:G184))),\"\")","v":""},{"$f":"'Veg Guide Data Base'!A1681","v":""},{"$f":"'Veg Guide Data Base'!B1681","v":""},{"$f":"'Veg Guide Data Base'!L1681","v":""},{"$f":"'Veg Guide Data Base'!K1681","v":""},{"$f":"'Veg Guide Data Base'!M1681","v":""}]
[null,null,null,null,null,null,{"$f":"IFERROR(INDEX($H$209:$H$575,_xlfn.AGGREGATE(15,6,(ROW($H$209:$H$575)-ROW($H$209)+1)/($H$209:$H$575<>\"\"),ROWS(G$2:G185))),\"\")","v":""},{"$f":"'Veg Guide Data Base'!A1682","v":""},{"$f":"'Veg Guide Data Base'!B1682","v":""},{"$f":"'Veg Guide Data Base'!L1682","v":""},{"$f":"'Veg Guide Data Base'!K1682","v":""},{"$f":"'Veg Guide Data Base'!M1682","v":""}]
[null,null,null,null,null,null,{"$f":"IFERROR(INDEX($H$209:$H$575,_xlfn.AGGREGATE(15,6,(ROW($H$209:$H$575)-ROW($H$209)+1)/($H$209:$H$575<>\"\"),ROWS(G$2:G186))),\"\")","v":""},{"$f":"'Veg Guide Data Base'!A1683","v":""},{"$f":"'Veg Guide Data Base'!B1683","v":""},{"$f":"'Veg Guide Data Base'!L1683","v":""},{"$f":"'Veg Guide Data Base'!K1683","v":""},{"$f":"'Veg Guide Data Base'!M1683","v":""}]
[null,null,null,null,null,null,{"$f":"IFERROR(INDEX($H$209:$H$575,_xlfn.AGGREGATE(15,6,(ROW($H$209:$H$575)-ROW($H$209)+1)/($H$209:$H$575<>\"\"),ROWS(G$2:G187))),\"\")","v":""},{"$f":"'Veg Guide Data Base'!A1684","v":""},{"$f":"'Veg Guide Data Base'!B1684","v":""},{"$f":"'Veg Guide Data Base'!L1684","v":""},{"$f":"'Veg Guide Data Base'!K1684","v":""},{"$f":"'Veg Guide Data Base'!M1684","v":""}]
[null,null,null,null,null,null,{"$f":"IFERROR(INDEX($H$209:$H$575,_xlfn.AGGREGATE(15,6,(ROW($H$209:$H$575)-ROW($H$209)+1)/($H$209:$H$575<>\"\"),ROWS(G$2:G188))),\"\")","v":""},{"$f":"'Veg Guide Data Base'!A1685","v":""},{"$f":"'Veg Guide Data Base'!B1685","v":""},{"$f":"'Veg Guide Data Base'!L1685","v":""},{"$f":"'Veg Guide Data Base'!K1685","v":""},{"$f":"'Veg Guide Data Base'!M1685","v":""}]
[null,null,null,null,null,null,{"$f":"IFERROR(INDEX($H$209:$H$575,_xlfn.AGGREGATE(15,6,(ROW($H$209:$H$575)-ROW($H$209)+1)/($H$209:$H$575<>\"\"),ROWS(G$2:G189))),\"\")","v":""},{"$f":"'Veg Guide Data Base'!A1686","v":""},{"$f":"'Veg Guide Data Base'!B1686","v":""},{"$f":"'Veg Guide Data Base'!L1686","v":""},{"$f":"'Veg Guide Data Base'!K1686","v":""},{"$f":"'Veg Guide Data Base'!M1686","v":""}]
[null,null,null,null,null,null,{"$f":"IFERROR(INDEX($H$209:$H$575,_xlfn.AGGREGATE(15,6,(ROW($H$209:$H$575)-ROW($H$209)+1)/($H$209:$H$575<>\"\"),ROWS(G$2:G190))),\"\")","v":""},{"$f":"'Veg Guide Data Base'!A1687","v":""},{"$f":"'Veg Guide Data Base'!B1687","v":""},{"$f":"'Veg Guide Data Base'!L1687","v":""},{"$f":"'Veg Guide Data Base'!K1687","v":""},{"$f":"'Veg Guide Data Base'!M1687","v":""}]
[null,null,null,null,null,null,{"$f":"IFERROR(INDEX($H$209:$H$575,_xlfn.AGGREGATE(15,6,(ROW($H$209:$H$575)-ROW($H$209)+1)/($H$209:$H$575<>\"\"),ROWS(G$2:G191))),\"\")","v":""},{"$f":"'Veg Guide Data Base'!A1688","v":""},{"$f":"'Veg Guide Data Base'!B1688","v":""},{"$f":"'Veg Guide Data Base'!L1688","v":""},{"$f":"'Veg Guide Data Base'!K1688","v":""},{"$f":"'Veg Guide Data Base'!M1688","v":""}]
[null,null,null,null,null,null,{"$f":"IFERROR(INDEX($H$209:$H$575,_xlfn.AGGREGATE(15,6,(ROW($H$209:$H$575)-ROW($H$209)+1)/($H$209:$H$575<>\"\"),ROWS(G$2:G192))),\"\")","v":""},{"$f":"'Veg Guide Data Base'!A1689","v":""},{"$f":"'Veg Guide Data Base'!B1689","v":""},{"$f":"'Veg Guide Data Base'!L1689","v":""},{"$f":"'Veg Guide Data Base'!K1689","v":""},{"$f":"'Veg Guide Data Base'!M1689","v":""}]
[null,null,null,null,null,null,{"$f":"IFERROR(INDEX($H$209:$H$575,_xlfn.AGGREGATE(15,6,(ROW($H$209:$H$575)-ROW($H$209)+1)/($H$209:$H$575<>\"\"),ROWS(G$2:G193))),\"\")","v":""},{"$f":"'Veg Guide Data Base'!A1690","v":""},{"$f":"'Veg Guide Data Base'!B1690","v":""},{"$f":"'Veg Guide Data Base'!L1690","v":""},{"$f":"'Veg Guide Data Base'!K1690","v":""},{"$f":"'Veg Guide Data Base'!M1690","v":""}]
[null,null,null,null,null,null,{"$f":"IFERROR(INDEX($H$209:$H$575,_xlfn.AGGREGATE(15,6,(ROW($H$209:$H$575)-ROW($H$209)+1)/($H$209:$H$575<>\"\"),ROWS(G$2:G194))),\"\")","v":""},{"$f":"'Veg Guide Data Base'!A1691","v":""},{"$f":"'Veg Guide Data Base'!B1691","v":""},{"$f":"'Veg Guide Data Base'!L1691","v":""},{"$f":"'Veg Guide Data Base'!K1691","v":""},{"$f":"'Veg Guide Data Base'!M1691","v":""}]
[null,null,null,null,null,null,{"$f":"IFERROR(INDEX($H$209:$H$575,_xlfn.AGGREGATE(15,6,(ROW($H$209:$H$575)-ROW($H$209)+1)/($H$209:$H$575<>\"\"),ROWS(G$2:G195))),\"\")","v":""},{"$f":"'Veg Guide Data Base'!A1692","v":""},{"$f":"'Veg Guide Data Base'!B1692","v":""},{"$f":"'Veg Guide Data Base'!L1692","v":""},{"$f":"'Veg Guide Data Base'!K1692","v":""},{"$f":"'Veg Guide Data Base'!M1692","v":""}]
[null,null,null,null,null,null,{"$f":"IFERROR(INDEX($H$209:$H$575,_xlfn.AGGREGATE(15,6,(ROW($H$209:$H$575)-ROW($H$209)+1)/($H$209:$H$575<>\"\"),ROWS(G$2:G196))),\"\")","v":""},{"$f":"'Veg Guide Data Base'!A1693","v":""},{"$f":"'Veg Guide Data Base'!B1693","v":""},{"$f":"'Veg Guide Data Base'!L1693","v":""},{"$f":"'Veg Guide Data Base'!K1693","v":""},{"$f":"'Veg Guide Data Base'!M1693","v":""}]
[null,null,null,null,null,null,{"$f":"IFERROR(INDEX($H$209:$H$575,_xlfn.AGGREGATE(15,6,(ROW($H$209:$H$575)-ROW($H$209)+1)/($H$209:$H$575<>\"\"),ROWS(G$2:G197))),\"\")","v":""},{"$f":"'Veg Guide Data Base'!A1694","v":""},{"$f":"'Veg Guide Data Base'!B1694","v":""},{"$f":"'Veg Guide Data Base'!L1694","v":""},{"$f":"'Veg Guide Data Base'!K1694","v":""},{"$f":"'Veg Guide Data Base'!M1694","v":""}]
[null,null,null,null,null,null,{"$f":"IFERROR(INDEX($H$209:$H$575,_xlfn.AGGREGATE(15,6,(ROW($H$209:$H$575)-ROW($H$209)+1)/($H$209:$H$575<>\"\"),ROWS(G$2:G198))),\"\")","v":""},{"$f":"'Veg Guide Data Base'!A1695","v":""},{"$f":"'Veg Guide Data Base'!B1695","v":""},{"$f":"'Veg Guide Data Base'!L1695","v":""},{"$f":"'Veg Guide Data Base'!K1695","v":""},{"$f":"'Veg Guide Data Base'!M1695","v":""}]
[null,null,null,null,null,null,{"$f":"IFERROR(INDEX($H$209:$H$575,_xlfn.AGGREGATE(15,6,(ROW($H$209:$H$575)-ROW($H$209)+1)/($H$209:$H$575<>\"\"),ROWS(G$2:G199))),\"\")","v":""},{"$f":"'Veg Guide Data Base'!A1696","v":""},{"$f":"'Veg Guide Data Base'!B1696","v":""},{"$f":"'Veg Guide Data Base'!L1696","v":""},{"$f":"'Veg Guide Data Base'!K1696","v":""},{"$f":"'Veg Guide Data Base'!M1696","v":""}]
[null,null,null,null,null,null,{"$f":"IFERROR(INDEX($H$209:$H$575,_xlfn.AGGREGATE(15,6,(ROW($H$209:$H$575)-ROW($H$209)+1)/($H$209:$H$575<>\"\"),ROWS(G$2:G200))),\"\")","v":""},{"$f":"'Veg Guide Data Base'!A1697","v":""},{"$f":"'Veg Guide Data Base'!B1697","v":""},{"$f":"'Veg Guide Data Base'!L1697","v":""},{"$f":"'Veg Guide Data Base'!K1697","v":""},{"$f":"'Veg Guide Data Base'!M1697","v":""}]
[null,null,null,null,null,null,{"$f":"IFERROR(INDEX($H$209:$H$575,_xlfn.AGGREGATE(15,6,(ROW($H$209:$H$575)-ROW($H$209)+1)/($H$209:$H$575<>\"\"),ROWS(G$2:G201))),\"\")","v":""},{"$f":"'Veg Guide Data Base'!A1698","v":""},{"$f":"'Veg Guide Data Base'!B1698","v":""},{"$f":"'Veg Guide Data Base'!L1698","v":""},{"$f":"'Veg Guide Data Base'!K1698","v":""},{"$f":"'Veg Guide Data Base'!M1698","v":""}]
[null,null,null,null,null,null,{"$f":"IFERROR(INDEX($H$209:$H$575,_xlfn.AGGREGATE(15,6,(ROW($H$209:$H$575)-ROW($H$209)+1)/($H$209:$H$575<>\"\"),ROWS(G$2:G202))),\"\")","v":""},{"$f":"'Veg Guide Data Base'!A1699","v":""},{"$f":"'Veg Guide Data Base'!B1699","v":""},{"$f":"'Veg Guide Data Base'!L1699","v":""},{"$f":"'Veg Guide Data Base'!K1699","v":""},{"$f":"'Veg Guide Data Base'!M1699","v":""}]
[null,null,null,null,null,null,{"$f":"IFERROR(INDEX($H$209:$H$575,_xlfn.AGGREGATE(15,6,(ROW($H$209:$H$575)-ROW($H$209)+1)/($H$209:$H$575<>\"\"),ROWS(G$2:G203))),\"\")","v":""},{"$f":"'Veg Guide Data Base'!A1700","v":""},{"$f":"'Veg Guide Data Base'!B1700","v":""},{"$f":"'Veg Guide Data Base'!L1700","v":""},{"$f":"'Veg Guide Data Base'!K1700","v":""},{"$f":"'Veg Guide Data Base'!M1700","v":""}]
[null,null,null,null,null,null,{"$f":"IFERROR(INDEX($H$209:$H$575,_xlfn.AGGREGATE(15,6,(ROW($H$209:$H$575)-ROW($H$209)+1)/($H$209:$H$575<>\"\"),ROWS(G$2:G204))),\"\")","v":""},{"$f":"'Veg Guide Data Base'!A1701","v":""},{"$f":"'Veg Guide Data Base'!B1701","v":""},{"$f":"'Veg Guide Data Base'!L1701","v":""},{"$f":"'Veg Guide Data Base'!K1701","v":""},{"$f":"'Veg Guide Data Base'!M1701","v":""}]
[null,null,null,null,null,null,{"$f":"IFERROR(INDEX($H$209:$H$575,_xlfn.AGGREGATE(15,6,(ROW($H$209:$H$575)-ROW($H$209)+1)/($H$209:$H$575<>\"\"),ROWS(G$2:G205))),\"\")","v":""},{"$f":"'Veg Guide Data Base'!A1702","v":""},{"$f":"'Veg Guide Data Base'!B1702","v":""},{"$f":"'Veg Guide Data Base'!L1702","v":""},{"$f":"'Veg Guide Data Base'!K1702","v":""},{"$f":"'Veg Guide Data Base'!M1702","v":""}]
[null,null,null,null,null,null,{"$f":"IFERROR(INDEX($H$209:$H$575,_xlfn.AGGREGATE(15,6,(ROW($H$209:$H$575)-ROW($H$209)+1)/($H$209:$H$575<>\"\"),ROWS(G$2:G206))),\"\")","v":""},{"$f":"'Veg Guide Data Base'!A1703","v":""},{"$f":"'Veg Guide Data Base'!B1703","v":""},{"$f":"'Veg Guide Data Base'!L1703","v":""},{"$f":"'Veg Guide Data Base'!K1703","v":""},{"$f":"'Veg Guide Data Base'!M1703","v":""}]
[null,null,null,null,null,null,{"$f":"IFERROR(INDEX($H$209:$H$575,_xlfn.AGGREGATE(15,6,(ROW($H$209:$H$575)-ROW($H$209)+1)/($H$209:$H$575<>\"\"),ROWS(G$2:G207))),\"\")","v":""},{"$f":"'Veg Guide Data Base'!A1704","v":""},{"$f":"'Veg Guide Data Base'!B1704","v":""},{"$f":"'Veg Guide Data Base'!L1704","v":""},{"$f":"'Veg Guide Data Base'!K1704","v":""},{"$f":"'Veg Guide Data Base'!M1704","v":""}]
[null,null,null,null,null,null,{"$f":"IFERROR(INDEX($H$209:$H$575,_xlfn.AGGREGATE(15,6,(ROW($H$209:$H$575)-ROW($H$209)+1)/($H$209:$H$575<>\"\"),ROWS(G$2:G207))),\"\")","v":""},{"$f":"'Veg Guide Data Base'!A1705","v":""},{"$f":"'Veg Guide Data Base'!B1705","v":""},{"$f":"'Veg Guide Data Base'!L1705","v":""},{"$f":"'Veg Guide Data Base'!K1705","v":""},{"$f":"'Veg Guide Data Base'!M1705","v":""}]
[null,null,null,null,null,null,{"$f":"IFERROR(INDEX($H$209:$H$575,_xlfn.AGGREGATE(15,6,(ROW($H$209:$H$575)-ROW($H$209)+1)/($H$209:$H$575<>\"\"),ROWS(G$2:G209))),\"\")","v":""},{"$f":"'Veg Guide Data Base'!A1706","v":""},{"$f":"'Veg Guide Data Base'!B1706","v":""},{"$f":"'Veg Guide Data Base'!L1706","v":""},{"$f":"'Veg Guide Data Base'!K1706","v":""},{"$f":"'Veg Guide Data Base'!M1706","v":""}]
[null,null,null,null,null,null,{"$f":"IFERROR(INDEX($H$209:$H$575,_xlfn.AGGREGATE(15,6,(ROW($H$209:$H$575)-ROW($H$209)+1)/($H$209:$H$575<>\"\"),ROWS(G$2:G210))),\"\")","v":""},{"$f":"'Veg Guide Data Base'!A1707","v":""},{"$f":"'Veg Guide Data Base'!B1707","v":""},{"$f":"'Veg Guide Data Base'!L1707","v":""},{"$f":"'Veg Guide Data Base'!K1707","v":""},{"$f":"'Veg Guide Data Base'!M1707","v":""}]
[null,null,null,null,null,null,{"$f":"IFERROR(INDEX($H$209:$H$575,_xlfn.AGGREGATE(15,6,(ROW($H$209:$H$575)-ROW($H$209)+1)/($H$209:$H$575<>\"\"),ROWS(G$2:G211))),\"\")","v":""},{"$f":"'Veg Guide Data Base'!A1708","v":""},{"$f":"'Veg Guide Data Base'!B1708","v":""},{"$f":"'Veg Guide Data Base'!L1708","v":""},{"$f":"'Veg Guide Data Base'!K1708","v":""},{"$f":"'Veg Guide Data Base'!M1708","v":""}]
[null,null,null,null,null,null,{"$f":"IFERROR(INDEX($H$209:$H$575,_xlfn.AGGREGATE(15,6,(ROW($H$209:$H$575)-ROW($H$209)+1)/($H$209:$H$575<>\"\"),ROWS(G$2:G212))),\"\")","v":""},{"$f":"'Veg Guide Data Base'!A1709","v":""},{"$f":"'Veg Guide Data Base'!B1709","v":""},{"$f":"'Veg Guide Data Base'!L1709","v":""},{"$f":"'Veg Guide Data Base'!K1709","v":""},{"$f":"'Veg Guide Data Base'!M1709","v":""}]
[null,null,null,null,null,null,{"$f":"IFERROR(INDEX($H$209:$H$575,_xlfn.AGGREGATE(15,6,(ROW($H$209:$H$575)-ROW($H$209)+1)/($H$209:$H$575<>\"\"),ROWS(G$2:G213))),\"\")","v":""},{"$f":"'Veg Guide Data Base'!A1710","v":""},{"$f":"'Veg Guide Data Base'!B1710","v":""},{"$f":"'Veg Guide Data Base'!L1710","v":""},{"$f":"'Veg Guide Data Base'!K1710","v":""},{"$f":"'Veg Guide Data Base'!M1710","v":""}]
[null,null,null,null,null,null,{"$f":"IFERROR(INDEX($H$209:$H$575,_xlfn.AGGREGATE(15,6,(ROW($H$209:$H$575)-ROW($H$209)+1)/($H$209:$H$575<>\"\"),ROWS(G$2:G214))),\"\")","v":""},{"$f":"'Veg Guide Data Base'!A1711","v":""},{"$f":"'Veg Guide Data Base'!B1711","v":""},{"$f":"'Veg Guide Data Base'!L1711","v":""},{"$f":"'Veg Guide Data Base'!K1711","v":""},{"$f":"'Veg Guide Data Base'!M1711","v":""}]
[null,null,null,null,null,null,{"$f":"IFERROR(INDEX($H$209:$H$575,_xlfn.AGGREGATE(15,6,(ROW($H$209:$H$575)-ROW($H$209)+1)/($H$209:$H$575<>\"\"),ROWS(G$2:G215))),\"\")","v":""},{"$f":"'Veg Guide Data Base'!A1712","v":""},{"$f":"'Veg Guide Data Base'!B1712","v":""},{"$f":"'Veg Guide Data Base'!L1712","v":""},{"$f":"'Veg Guide Data Base'!K1712","v":""},{"$f":"'Veg Guide Data Base'!M1712","v":""}]
[null,null,null,null,null,null,{"$f":"IFERROR(INDEX($H$209:$H$575,_xlfn.AGGREGATE(15,6,(ROW($H$209:$H$575)-ROW($H$209)+1)/($H$209:$H$575<>\"\"),ROWS(G$2:G216))),\"\")","v":""},{"$f":"'Veg Guide Data Base'!A1713","v":""},{"$f":"'Veg Guide Data Base'!B1713","v":""},{"$f":"'Veg Guide Data Base'!L1713","v":""},{"$f":"'Veg Guide Data Base'!K1713","v":""},{"$f":"'Veg Guide Data Base'!M1713","v":""}]
[null,null,null,null,null,null,{"$f":"IFERROR(INDEX($H$209:$H$575,_xlfn.AGGREGATE(15,6,(ROW($H$209:$H$575)-ROW($H$209)+1)/($H$209:$H$575<>\"\"),ROWS(G$2:G217))),\"\")","v":""},{"$f":"'Veg Guide Data Base'!A1714","v":""},{"$f":"'Veg Guide Data Base'!B1714","v":""},{"$f":"'Veg Guide Data Base'!L1714","v":""},{"$f":"'Veg Guide Data Base'!K1714","v":""},{"$f":"'Veg Guide Data Base'!M1714","v":""}]
[null,null,null,null,null,null,{"$f":"IFERROR(INDEX($H$209:$H$575,_xlfn.AGGREGATE(15,6,(ROW($H$209:$H$575)-ROW($H$209)+1)/($H$209:$H$575<>\"\"),ROWS(G$2:G218))),\"\")","v":""},{"$f":"'Veg Guide Data Base'!A1715","v":""},{"$f":"'Veg Guide Data Base'!B1715","v":""},{"$f":"'Veg Guide Data Base'!L1715","v":""},{"$f":"'Veg Guide Data Base'!K1715","v":""},{"$f":"'Veg Guide Data Base'!M1715","v":""}]
[null,null,null,null,null,null,{"$f":"IFERROR(INDEX($H$209:$H$575,_xlfn.AGGREGATE(15,6,(ROW($H$209:$H$575)-ROW($H$209)+1)/($H$209:$H$575<>\"\"),ROWS(G$2:G219))),\"\")","v":""},{"$f":"'Veg Guide Data Base'!A1716","v":""},{"$f":"'Veg Guide Data Base'!B1716","v":""},{"$f":"'Veg Guide Data Base'!L1716","v":""},{"$f":"'Veg Guide Data Base'!K1716","v":""},{"$f":"'Veg Guide Data Base'!M1716","v":""}]
[null,null,null,null,null,null,{"$f":"IFERROR(INDEX($H$209:$H$575,_xlfn.AGGREGATE(15,6,(ROW($H$209:$H$575)-ROW($H$209)+1)/($H$209:$H$575<>\"\"),ROWS(G$2:G220))),\"\")","v":""},{"$f":"'Veg Guide Data Base'!A1717","v":""},{"$f":"'Veg Guide Data Base'!B1717","v":""},{"$f":"'Veg Guide Data Base'!L1717","v":""},{"$f":"'Veg Guide Data Base'!K1717","v":""},{"$f":"'Veg Guide Data Base'!M1717","v":""}]
[null,null,null,null,null,null,{"$f":"IFERROR(INDEX($H$209:$H$575,_xlfn.AGGREGATE(15,6,(ROW($H$209:$H$575)-ROW($H$209)+1)/($H$209:$H$575<>\"\"),ROWS(G$2:G221))),\"\")","v":""},{"$f":"'Veg Guide Data Base'!A1718","v":""},{"$f":"'Veg Guide Data Base'!B1718","v":""},{"$f":"'Veg Guide Data Base'!L1718","v":""},{"$f":"'Veg Guide Data Base'!K1718","v":""},{"$f":"'Veg Guide Data Base'!M1718","v":""}]
[null,null,null,null,null,null,{"$f":"IFERROR(INDEX($H$209:$H$575,_xlfn.AGGREGATE(15,6,(ROW($H$209:$H$575)-ROW($H$209)+1)/($H$209:$H$575<>\"\"),ROWS(G$2:G222))),\"\")","v":""},{"$f":"'Veg Guide Data Base'!A1719","v":""},{"$f":"'Veg Guide Data Base'!B1719","v":""},{"$f":"'Veg Guide Data Base'!L1719","v":""},{"$f":"'Veg Guide Data Base'!K1719","v":""},{"$f":"'Veg Guide Data Base'!M1719","v":""}]
[null,null,null,null,null,null,{"$f":"IFERROR(INDEX($H$209:$H$575,_xlfn.AGGREGATE(15,6,(ROW($H$209:$H$575)-ROW($H$209)+1)/($H$209:$H$575<>\"\"),ROWS(G$2:G223))),\"\")","v":""},{"$f":"'Veg Guide Data Base'!A1720","v":""},{"$f":"'Veg Guide Data Base'!B1720","v":""},{"$f":"'Veg Guide Data Base'!L1720","v":""},{"$f":"'Veg Guide Data Base'!K1720","v":""},{"$f":"'Veg Guide Data Base'!M1720","v":""}]
[null,null,null,null,null,null,{"$f":"IFERROR(INDEX($H$209:$H$575,_xlfn.AGGREGATE(15,6,(ROW($H$209:$H$575)-ROW($H$209)+1)/($H$209:$H$575<>\"\"),ROWS(G$2:G224))),\"\")","v":""},{"$f":"'Veg Guide Data Base'!A1721","v":""},{"$f":"'Veg Guide Data Base'!B1721","v":""},{"$f":"'Veg Guide Data Base'!L1721","v":""},{"$f":"'Veg Guide Data Base'!K1721","v":""},{"$f":"'Veg Guide Data Base'!M1721","v":""}]
[null,null,null,null,null,null,{"$f":"IFERROR(INDEX($H$209:$H$575,_xlfn.AGGREGATE(15,6,(ROW($H$209:$H$575)-ROW($H$209)+1)/($H$209:$H$575<>\"\"),ROWS(G$2:G225))),\"\")","v":""},{"$f":"'Veg Guide Data Base'!A1722","v":""},{"$f":"'Veg Guide Data Base'!B1722","v":""},{"$f":"'Veg Guide Data Base'!L1722","v":""},{"$f":"'Veg Guide Data Base'!K1722","v":""},{"$f":"'Veg Guide Data Base'!M1722","v":""}]
[null,null,null,null,null,null,{"$f":"IFERROR(INDEX($H$209:$H$575,_xlfn.AGGREGATE(15,6,(ROW($H$209:$H$575)-ROW($H$209)+1)/($H$209:$H$575<>\"\"),ROWS(G$2:G226))),\"\")","v":""},{"$f":"'Veg Guide Data Base'!A1723","v":""},{"$f":"'Veg Guide Data Base'!B1723","v":""},{"$f":"'Veg Guide Data Base'!L1723","v":""},{"$f":"'Veg Guide Data Base'!K1723","v":""},{"$f":"'Veg Guide Data Base'!M1723","v":""}]
[null,null,null,null,null,null,{"$f":"IFERROR(INDEX($H$209:$H$575,_xlfn.AGGREGATE(15,6,(ROW($H$209:$H$575)-ROW($H$209)+1)/($H$209:$H$575<>\"\"),ROWS(G$2:G227))),\"\")","v":""},{"$f":"'Veg Guide Data Base'!A1724","v":""},{"$f":"'Veg Guide Data Base'!B1724","v":""},{"$f":"'Veg Guide Data Base'!L1724","v":""},{"$f":"'Veg Guide Data Base'!K1724","v":""},{"$f":"'Veg Guide Data Base'!M1724","v":""}]
[null,null,null,null,null,null,{"$f":"IFERROR(INDEX($H$209:$H$575,_xlfn.AGGREGATE(15,6,(ROW($H$209:$H$575)-ROW($H$209)+1)/($H$209:$H$575<>\"\"),ROWS(G$2:G228))),\"\")","v":""},{"$f":"'Veg Guide Data Base'!A1725","v":""},{"$f":"'Veg Guide Data Base'!B1725","v":""},{"$f":"'Veg Guide Data Base'!L1725","v":""},{"$f":"'Veg Guide Data Base'!K1725","v":""},{"$f":"'Veg Guide Data Base'!M1725","v":""}]
[null,null,null,null,null,null,{"$f":"IFERROR(INDEX($H$209:$H$575,_xlfn.AGGREGATE(15,6,(ROW($H$209:$H$575)-ROW($H$209)+1)/($H$209:$H$575<>\"\"),ROWS(G$2:G229))),\"\")","v":""},{"$f":"'Veg Guide Data Base'!A1726","v":""},{"$f":"'Veg Guide Data Base'!B1726","v":""},{"$f":"'Veg Guide Data Base'!L1726","v":""},{"$f":"'Veg Guide Data Base'!K1726","v":""},{"$f":"'Veg Guide Data Base'!M1726","v":""}]
[null,null,null,null,null,null,{"$f":"IFERROR(INDEX($H$209:$H$575,_xlfn.AGGREGATE(15,6,(ROW($H$209:$H$575)-ROW($H$209)+1)/($H$209:$H$575<>\"\"),ROWS(G$2:G230))),\"\")","v":""},{"$f":"'Veg Guide Data Base'!A1727","v":""},{"$f":"'Veg Guide Data Base'!B1727","v":""},{"$f":"'Veg Guide Data Base'!L1727","v":""},{"$f":"'Veg Guide Data Base'!K1727","v":""},{"$f":"'Veg Guide Data Base'!M1727","v":""}]
[null,null,null,null,null,null,{"$f":"IFERROR(INDEX($H$209:$H$575,_xlfn.AGGREGATE(15,6,(ROW($H$209:$H$575)-ROW($H$209)+1)/($H$209:$H$575<>\"\"),ROWS(G$2:G231))),\"\")","v":""},{"$f":"'Veg Guide Data Base'!A1728","v":""},{"$f":"'Veg Guide Data Base'!B1728","v":""},{"$f":"'Veg Guide Data Base'!L1728","v":""},{"$f":"'Veg Guide Data Base'!K1728","v":""},{"$f":"'Veg Guide Data Base'!M1728","v":""}]
[null,null,null,null,null,null,{"$f":"IFERROR(INDEX($H$209:$H$575,_xlfn.AGGREGATE(15,6,(ROW($H$209:$H$575)-ROW($H$209)+1)/($H$209:$H$575<>\"\"),ROWS(G$2:G232))),\"\")","v":""},{"$f":"'Veg Guide Data Base'!A1729","v":""},{"$f":"'Veg Guide Data Base'!B1729","v":""},{"$f":"'Veg Guide Data Base'!L1729","v":""},{"$f":"'Veg Guide Data Base'!K1729","v":""},{"$f":"'Veg Guide Data Base'!M1729","v":""}]
[null,null,null,null,null,null,{"$f":"IFERROR(INDEX($H$209:$H$575,_xlfn.AGGREGATE(15,6,(ROW($H$209:$H$575)-ROW($H$209)+1)/($H$209:$H$575<>\"\"),ROWS(G$2:G233))),\"\")","v":""},{"$f":"'Veg Guide Data Base'!A1730","v":""},{"$f":"'Veg Guide Data Base'!B1730","v":""},{"$f":"'Veg Guide Data Base'!L1730","v":""},{"$f":"'Veg Guide Data Base'!K1730","v":""},{"$f":"'Veg Guide Data Base'!M1730","v":""}]
[null,null,null,null,null,null,{"$f":"IFERROR(INDEX($H$209:$H$575,_xlfn.AGGREGATE(15,6,(ROW($H$209:$H$575)-ROW($H$209)+1)/($H$209:$H$575<>\"\"),ROWS(G$2:G234))),\"\")","v":""},{"$f":"'Veg Guide Data Base'!A1731","v":""},{"$f":"'Veg Guide Data Base'!B1731","v":""},{"$f":"'Veg Guide Data Base'!L1731","v":""},{"$f":"'Veg Guide Data Base'!K1731","v":""},{"$f":"'Veg Guide Data Base'!M1731","v":""}]
[null,null,null,null,null,null,{"$f":"IFERROR(INDEX($H$209:$H$575,_xlfn.AGGREGATE(15,6,(ROW($H$209:$H$575)-ROW($H$209)+1)/($H$209:$H$575<>\"\"),ROWS(G$2:G235))),\"\")","v":""},{"$f":"'Veg Guide Data Base'!A1732","v":""},{"$f":"'Veg Guide Data Base'!B1732","v":""},{"$f":"'Veg Guide Data Base'!L1732","v":""},{"$f":"'Veg Guide Data Base'!K1732","v":""},{"$f":"'Veg Guide Data Base'!M1732","v":""}]
[null,null,null,null,null,null,{"$f":"IFERROR(INDEX($H$209:$H$575,_xlfn.AGGREGATE(15,6,(ROW($H$209:$H$575)-ROW($H$209)+1)/($H$209:$H$575<>\"\"),ROWS(G$2:G236))),\"\")","v":""},{"$f":"'Veg Guide Data Base'!A1733","v":""},{"$f":"'Veg Guide Data Base'!B1733","v":""},{"$f":"'Veg Guide Data Base'!L1733","v":""},{"$f":"'Veg Guide Data Base'!K1733","v":""},{"$f":"'Veg Guide Data Base'!M1733","v":""}]
[null,null,null,null,null,null,{"$f":"IFERROR(INDEX($H$209:$H$575,_xlfn.AGGREGATE(15,6,(ROW($H$209:$H$575)-ROW($H$209)+1)/($H$209:$H$575<>\"\"),ROWS(G$2:G237))),\"\")","v":""},{"$f":"'Veg Guide Data Base'!A1734","v":""},{"$f":"'Veg Guide Data Base'!B1734","v":""},{"$f":"'Veg Guide Data Base'!L1734","v":""},{"$f":"'Veg Guide Data Base'!K1734","v":""},{"$f":"'Veg Guide Data Base'!M1734","v":""}]
[null,null,null,null,null,null,{"$f":"IFERROR(INDEX($H$209:$H$575,_xlfn.AGGREGATE(15,6,(ROW($H$209:$H$575)-ROW($H$209)+1)/($H$209:$H$575<>\"\"),ROWS(G$2:G238))),\"\")","v":""},{"$f":"'Veg Guide Data Base'!A1735","v":""},{"$f":"'Veg Guide Data Base'!B1735","v":""},{"$f":"'Veg Guide Data Base'!L1735","v":""},{"$f":"'Veg Guide Data Base'!K1735","v":""},{"$f":"'Veg Guide Data Base'!M1735","v":""}]
[null,null,null,null,null,null,{"$f":"IFERROR(INDEX($H$209:$H$575,_xlfn.AGGREGATE(15,6,(ROW($H$209:$H$575)-ROW($H$209)+1)/($H$209:$H$575<>\"\"),ROWS(G$2:G239))),\"\")","v":""},{"$f":"'Veg Guide Data Base'!A1736","v":""},{"$f":"'Veg Guide Data Base'!B1736","v":""},{"$f":"'Veg Guide Data Base'!L1736","v":""},{"$f":"'Veg Guide Data Base'!K1736","v":""},{"$f":"'Veg Guide Data Base'!M1736","v":""}]
[null,null,null,null,null,null,{"$f":"IFERROR(INDEX($H$209:$H$575,_xlfn.AGGREGATE(15,6,(ROW($H$209:$H$575)-ROW($H$209)+1)/($H$209:$H$575<>\"\"),ROWS(G$2:G240))),\"\")","v":""},{"$f":"'Veg Guide Data Base'!A1737","v":""},{"$f":"'Veg Guide Data Base'!B1737","v":""},{"$f":"'Veg Guide Data Base'!L1737","v":""},{"$f":"'Veg Guide Data Base'!K1737","v":""},{"$f":"'Veg Guide Data Base'!M1737","v":""}]
[null,null,null,null,null,null,{"$f":"IFERROR(INDEX($H$209:$H$575,_xlfn.AGGREGATE(15,6,(ROW($H$209:$H$575)-ROW($H$209)+1)/($H$209:$H$575<>\"\"),ROWS(G$2:G241))),\"\")","v":""},{"$f":"'Veg Guide Data Base'!A1738","v":""},{"$f":"'Veg Guide Data Base'!B1738","v":""},{"$f":"'Veg Guide Data Base'!L1738","v":""},{"$f":"'Veg Guide Data Base'!K1738","v":""},{"$f":"'Veg Guide Data Base'!M1738","v":""}]
[null,null,null,null,null,null,{"$f":"IFERROR(INDEX($H$209:$H$575,_xlfn.AGGREGATE(15,6,(ROW($H$209:$H$575)-ROW($H$209)+1)/($H$209:$H$575<>\"\"),ROWS(G$2:G242))),\"\")","v":""},{"$f":"'Veg Guide Data Base'!A1739","v":""},{"$f":"'Veg Guide Data Base'!B1739","v":""},{"$f":"'Veg Guide Data Base'!L1739","v":""},{"$f":"'Veg Guide Data Base'!K1739","v":""},{"$f":"'Veg Guide Data Base'!M1739","v":""}]
[null,null,null,null,null,null,{"$f":"IFERROR(INDEX($H$209:$H$575,_xlfn.AGGREGATE(15,6,(ROW($H$209:$H$575)-ROW($H$209)+1)/($H$209:$H$575<>\"\"),ROWS(G$2:G243))),\"\")","v":""},{"$f":"'Veg Guide Data Base'!A1740","v":""},{"$f":"'Veg Guide Data Base'!B1740","v":""},{"$f":"'Veg Guide Data Base'!L1740","v":""},{"$f":"'Veg Guide Data Base'!K1740","v":""},{"$f":"'Veg Guide Data Base'!M1740","v":""}]
[null,null,null,null,null,null,{"$f":"IFERROR(INDEX($H$209:$H$575,_xlfn.AGGREGATE(15,6,(ROW($H$209:$H$575)-ROW($H$209)+1)/($H$209:$H$575<>\"\"),ROWS(G$2:G244))),\"\")","v":""},{"$f":"'Veg Guide Data Base'!A1741","v":""},{"$f":"'Veg Guide Data Base'!B1741","v":""},{"$f":"'Veg Guide Data Base'!L1741","v":""},{"$f":"'Veg Guide Data Base'!K1741","v":""},{"$f":"'Veg Guide Data Base'!M1741","v":""}]
[null,null,null,null,null,null,{"$f":"IFERROR(INDEX($H$209:$H$575,_xlfn.AGGREGATE(15,6,(ROW($H$209:$H$575)-ROW($H$209)+1)/($H$209:$H$575<>\"\"),ROWS(G$2:G245))),\"\")","v":""},{"$f":"'Veg Guide Data Base'!A1742","v":""},{"$f":"'Veg Guide Data Base'!B1742","v":""},{"$f":"'Veg Guide Data Base'!L1742","v":""},{"$f":"'Veg Guide Data Base'!K1742","v":""},{"$f":"'Veg Guide Data Base'!M1742","v":""}]
[null,null,null,null,null,null,{"$f":"IFERROR(INDEX($H$209:$H$575,_xlfn.AGGREGATE(15,6,(ROW($H$209:$H$575)-ROW($H$209)+1)/($H$209:$H$575<>\"\"),ROWS(G$2:G246))),\"\")","v":""},{"$f":"'Veg Guide Data Base'!A1743","v":""},{"$f":"'Veg Guide Data Base'!B1743","v":""},{"$f":"'Veg Guide Data Base'!L1743","v":""},{"$f":"'Veg Guide Data Base'!K1743","v":""},{"$f":"'Veg Guide Data Base'!M1743","v":""}]
[null,null,null,null,null,null,{"$f":"IFERROR(INDEX($H$209:$H$575,_xlfn.AGGREGATE(15,6,(ROW($H$209:$H$575)-ROW($H$209)+1)/($H$209:$H$575<>\"\"),ROWS(G$2:G247))),\"\")","v":""},{"$f":"'Veg Guide Data Base'!A1744","v":""},{"$f":"'Veg Guide Data Base'!B1744","v":""},{"$f":"'Veg Guide Data Base'!L1744","v":""},{"$f":"'Veg Guide Data Base'!K1744","v":""},{"$f":"'Veg Guide Data Base'!M1744","v":""}]
[null,null,null,null,null,null,{"$f":"IFERROR(INDEX($H$209:$H$575,_xlfn.AGGREGATE(15,6,(ROW($H$209:$H$575)-ROW($H$209)+1)/($H$209:$H$575<>\"\"),ROWS(G$2:G248))),\"\")","v":""},{"$f":"'Veg Guide Data Base'!A1745","v":""},{"$f":"'Veg Guide Data Base'!B1745","v":""},{"$f":"'Veg Guide Data Base'!L1745","v":""},{"$f":"'Veg Guide Data Base'!K1745","v":""},{"$f":"'Veg Guide Data Base'!M1745","v":""}]
[null,null,null,null,null,null,{"$f":"IFERROR(INDEX($H$209:$H$575,_xlfn.AGGREGATE(15,6,(ROW($H$209:$H$575)-ROW($H$209)+1)/($H$209:$H$575<>\"\"),ROWS(G$2:G249))),\"\")","v":""},{"$f":"'Veg Guide Data Base'!A1746","v":""},{"$f":"'Veg Guide Data Base'!B1746","v":""},{"$f":"'Veg Guide Data Base'!L1746","v":""},{"$f":"'Veg Guide Data Base'!K1746","v":""},{"$f":"'Veg Guide Data Base'!M1746","v":""}]
[null,null,null,null,null,null,{"$f":"IFERROR(INDEX($H$209:$H$575,_xlfn.AGGREGATE(15,6,(ROW($H$209:$H$575)-ROW($H$209)+1)/($H$209:$H$575<>\"\"),ROWS(G$2:G250))),\"\")","v":""},{"$f":"'Veg Guide Data Base'!A1747","v":""},{"$f":"'Veg Guide Data Base'!B1747","v":""},{"$f":"'Veg Guide Data Base'!L1747","v":""},{"$f":"'Veg Guide Data Base'!K1747","v":""},{"$f":"'Veg Guide Data Base'!M1747","v":""}]
[null,null,null,null,null,null,{"$f":"IFERROR(INDEX($H$209:$H$575,_xlfn.AGGREGATE(15,6,(ROW($H$209:$H$575)-ROW($H$209)+1)/($H$209:$H$575<>\"\"),ROWS(G$2:G251))),\"\")","v":""},{"$f":"'Veg Guide Data Base'!A1748","v":""},{"$f":"'Veg Guide Data Base'!B1748","v":""},{"$f":"'Veg Guide Data Base'!L1748","v":""},{"$f":"'Veg Guide Data Base'!K1748","v":""},{"$f":"'Veg Guide Data Base'!M1748","v":""}]
[null,null,null,null,null,null,{"$f":"IFERROR(INDEX($H$209:$H$575,_xlfn.AGGREGATE(15,6,(ROW($H$209:$H$575)-ROW($H$209)+1)/($H$209:$H$575<>\"\"),ROWS(G$2:G252))),\"\")","v":""},{"$f":"'Veg Guide Data Base'!A1749","v":""},{"$f":"'Veg Guide Data Base'!B1749","v":""},{"$f":"'Veg Guide Data Base'!L1749","v":""},{"$f":"'Veg Guide Data Base'!K1749","v":""},{"$f":"'Veg Guide Data Base'!M1749","v":""}]
[null,null,null,null,null,null,{"$f":"IFERROR(INDEX($H$209:$H$575,_xlfn.AGGREGATE(15,6,(ROW($H$209:$H$575)-ROW($H$209)+1)/($H$209:$H$575<>\"\"),ROWS(G$2:G253))),\"\")","v":""},{"$f":"'Veg Guide Data Base'!A1750","v":""},{"$f":"'Veg Guide Data Base'!B1750","v":""},{"$f":"'Veg Guide Data Base'!L1750","v":""},{"$f":"'Veg Guide Data Base'!K1750","v":""},{"$f":"'Veg Guide Data Base'!M1750","v":""}]
[null,null,null,null,null,null,{"$f":"IFERROR(INDEX($H$209:$H$575,_xlfn.AGGREGATE(15,6,(ROW($H$209:$H$575)-ROW($H$209)+1)/($H$209:$H$575<>\"\"),ROWS(G$2:G254))),\"\")","v":""},{"$f":"'Veg Guide Data Base'!A1751","v":""},{"$f":"'Veg Guide Data Base'!B1751","v":""},{"$f":"'Veg Guide Data Base'!L1751","v":""},{"$f":"'Veg Guide Data Base'!K1751","v":""},{"$f":"'Veg Guide Data Base'!M1751","v":""}]
[null,null,null,null,null,null,{"$f":"IFERROR(INDEX($H$209:$H$575,_xlfn.AGGREGATE(15,6,(ROW($H$209:$H$575)-ROW($H$209)+1)/($H$209:$H$575<>\"\"),ROWS(G$2:G255))),\"\")","v":""},{"$f":"'Veg Guide Data Base'!A1752","v":""},{"$f":"'Veg Guide Data Base'!B1752","v":""},{"$f":"'Veg Guide Data Base'!L1752","v":""},{"$f":"'Veg Guide Data Base'!K1752","v":""},{"$f":"'Veg Guide Data Base'!M1752","v":""}]
[null,null,null,null,null,null,{"$f":"IFERROR(INDEX($H$209:$H$575,_xlfn.AGGREGATE(15,6,(ROW($H$209:$H$575)-ROW($H$209)+1)/($H$209:$H$575<>\"\"),ROWS(G$2:G256))),\"\")","v":""},{"$f":"'Veg Guide Data Base'!A1753","v":""},{"$f":"'Veg Guide Data Base'!B1753","v":""},{"$f":"'Veg Guide Data Base'!L1753","v":""},{"$f":"'Veg Guide Data Base'!K1753","v":""},{"$f":"'Veg Guide Data Base'!M1753","v":""}]
[null,null,null,null,null,null,{"$f":"IFERROR(INDEX($H$209:$H$575,_xlfn.AGGREGATE(15,6,(ROW($H$209:$H$575)-ROW($H$209)+1)/($H$209:$H$575<>\"\"),ROWS(G$2:G257))),\"\")","v":""},{"$f":"'Veg Guide Data Base'!A1754","v":""},{"$f":"'Veg Guide Data Base'!B1754","v":""},{"$f":"'Veg Guide Data Base'!L1754","v":""},{"$f":"'Veg Guide Data Base'!K1754","v":""},{"$f":"'Veg Guide Data Base'!M1754","v":""}]
[null,null,null,null,null,null,{"$f":"IFERROR(INDEX($H$209:$H$575,_xlfn.AGGREGATE(15,6,(ROW($H$209:$H$575)-ROW($H$209)+1)/($H$209:$H$575<>\"\"),ROWS(G$2:G258))),\"\")","v":""},{"$f":"'Veg Guide Data Base'!A1755","v":""},{"$f":"'Veg Guide Data Base'!B1755","v":""},{"$f":"'Veg Guide Data Base'!L1755","v":""},{"$f":"'Veg Guide Data Base'!K1755","v":""},{"$f":"'Veg Guide Data Base'!M1755","v":""}]
[null,null,null,null,null,null,{"$f":"IFERROR(INDEX($H$209:$H$575,_xlfn.AGGREGATE(15,6,(ROW($H$209:$H$575)-ROW($H$209)+1)/($H$209:$H$575<>\"\"),ROWS(G$2:G259))),\"\")","v":""},{"$f":"'Veg Guide Data Base'!A1756","v":""},{"$f":"'Veg Guide Data Base'!B1756","v":""},{"$f":"'Veg Guide Data Base'!L1756","v":""},{"$f":"'Veg Guide Data Base'!K1756","v":""},{"$f":"'Veg Guide Data Base'!M1756","v":""}]
[null,null,null,null,null,null,{"$f":"IFERROR(INDEX($H$209:$H$575,_xlfn.AGGREGATE(15,6,(ROW($H$209:$H$575)-ROW($H$209)+1)/($H$209:$H$575<>\"\"),ROWS(G$2:G260))),\"\")","v":""},{"$f":"'Veg Guide Data Base'!A1757","v":""},{"$f":"'Veg Guide Data Base'!B1757","v":""},{"$f":"'Veg Guide Data Base'!L1757","v":""},{"$f":"'Veg Guide Data Base'!K1757","v":""},{"$f":"'Veg Guide Data Base'!M1757","v":""}]
[null,null,null,null,null,null,{"$f":"IFERROR(INDEX($H$209:$H$575,_xlfn.AGGREGATE(15,6,(ROW($H$209:$H$575)-ROW($H$209)+1)/($H$209:$H$575<>\"\"),ROWS(G$2:G261))),\"\")","v":""},{"$f":"'Veg Guide Data Base'!A1758","v":""},{"$f":"'Veg Guide Data Base'!B1758","v":""},{"$f":"'Veg Guide Data Base'!L1758","v":""},{"$f":"'Veg Guide Data Base'!K1758","v":""},{"$f":"'Veg Guide Data Base'!M1758","v":""}]
[null,null,null,null,null,null,{"$f":"IFERROR(INDEX($H$209:$H$575,_xlfn.AGGREGATE(15,6,(ROW($H$209:$H$575)-ROW($H$209)+1)/($H$209:$H$575<>\"\"),ROWS(G$2:G262))),\"\")","v":""},{"$f":"'Veg Guide Data Base'!A1759","v":""},{"$f":"'Veg Guide Data Base'!B1759","v":""},{"$f":"'Veg Guide Data Base'!L1759","v":""},{"$f":"'Veg Guide Data Base'!K1759","v":""},{"$f":"'Veg Guide Data Base'!M1759","v":""}]
[null,null,null,null,null,null,{"$f":"IFERROR(INDEX($H$209:$H$575,_xlfn.AGGREGATE(15,6,(ROW($H$209:$H$575)-ROW($H$209)+1)/($H$209:$H$575<>\"\"),ROWS(G$2:G263))),\"\")","v":""},{"$f":"'Veg Guide Data Base'!A1760","v":""},{"$f":"'Veg Guide Data Base'!B1760","v":""},{"$f":"'Veg Guide Data Base'!L1760","v":""},{"$f":"'Veg Guide Data Base'!K1760","v":""},{"$f":"'Veg Guide Data Base'!M1760","v":""}]
[null,null,null,null,null,null,{"$f":"IFERROR(INDEX($H$209:$H$575,_xlfn.AGGREGATE(15,6,(ROW($H$209:$H$575)-ROW($H$209)+1)/($H$209:$H$575<>\"\"),ROWS(G$2:G264))),\"\")","v":""},{"$f":"'Veg Guide Data Base'!A1761","v":""},{"$f":"'Veg Guide Data Base'!B1761","v":""},{"$f":"'Veg Guide Data Base'!L1761","v":""},{"$f":"'Veg Guide Data Base'!K1761","v":""},{"$f":"'Veg Guide Data Base'!M1761","v":""}]
[null,null,null,null,null,null,{"$f":"IFERROR(INDEX($H$209:$H$575,_xlfn.AGGREGATE(15,6,(ROW($H$209:$H$575)-ROW($H$209)+1)/($H$209:$H$575<>\"\"),ROWS(G$2:G265))),\"\")","v":""},{"$f":"'Veg Guide Data Base'!A1762","v":""},{"$f":"'Veg Guide Data Base'!B1762","v":""},{"$f":"'Veg Guide Data Base'!L1762","v":""},{"$f":"'Veg Guide Data Base'!K1762","v":""},{"$f":"'Veg Guide Data Base'!M1762","v":""}]
[null,null,null,null,null,null,{"$f":"IFERROR(INDEX($H$209:$H$575,_xlfn.AGGREGATE(15,6,(ROW($H$209:$H$575)-ROW($H$209)+1)/($H$209:$H$575<>\"\"),ROWS(G$2:G266))),\"\")","v":""},{"$f":"'Veg Guide Data Base'!A1763","v":""},{"$f":"'Veg Guide Data Base'!B1763","v":""},{"$f":"'Veg Guide Data Base'!L1763","v":""},{"$f":"'Veg Guide Data Base'!K1763","v":""},{"$f":"'Veg Guide Data Base'!M1763","v":""}]
[null,null,null,null,null,null,{"$f":"IFERROR(INDEX($H$209:$H$575,_xlfn.AGGREGATE(15,6,(ROW($H$209:$H$575)-ROW($H$209)+1)/($H$209:$H$575<>\"\"),ROWS(G$2:G267))),\"\")","v":""},{"$f":"'Veg Guide Data Base'!A1764","v":""},{"$f":"'Veg Guide Data Base'!B1764","v":""},{"$f":"'Veg Guide Data Base'!L1764","v":""},{"$f":"'Veg Guide Data Base'!K1764","v":""},{"$f":"'Veg Guide Data Base'!M1764","v":""}]
[null,null,null,null,null,null,{"$f":"IFERROR(INDEX($H$209:$H$575,_xlfn.AGGREGATE(15,6,(ROW($H$209:$H$575)-ROW($H$209)+1)/($H$209:$H$575<>\"\"),ROWS(G$2:G268))),\"\")","v":""},{"$f":"'Veg Guide Data Base'!A1765","v":""},{"$f":"'Veg Guide Data Base'!B1765","v":""},{"$f":"'Veg Guide Data Base'!L1765","v":""},{"$f":"'Veg Guide Data Base'!K1765","v":""},{"$f":"'Veg Guide Data Base'!M1765","v":""}]
[null,null,null,null,null,null,{"$f":"IFERROR(INDEX($H$209:$H$575,_xlfn.AGGREGATE(15,6,(ROW($H$209:$H$575)-ROW($H$209)+1)/($H$209:$H$575<>\"\"),ROWS(G$2:G269))),\"\")","v":""},{"$f":"'Veg Guide Data Base'!A1766","v":""},{"$f":"'Veg Guide Data Base'!B1766","v":""},{"$f":"'Veg Guide Data Base'!L1766","v":""},{"$f":"'Veg Guide Data Base'!K1766","v":""},{"$f":"'Veg Guide Data Base'!M1766","v":""}]
[null,null,null,null,null,null,{"$f":"IFERROR(INDEX($H$209:$H$575,_xlfn.AGGREGATE(15,6,(ROW($H$209:$H$575)-ROW($H$209)+1)/($H$209:$H$575<>\"\"),ROWS(G$2:G270))),\"\")","v":""},{"$f":"'Veg Guide Data Base'!A1767","v":""},{"$f":"'Veg Guide Data Base'!B1767","v":""},{"$f":"'Veg Guide Data Base'!L1767","v":""},{"$f":"'Veg Guide Data Base'!K1767","v":""},{"$f":"'Veg Guide Data Base'!M1767","v":""}]
[null,null,null,null,null,null,{"$f":"IFERROR(INDEX($H$209:$H$575,_xlfn.AGGREGATE(15,6,(ROW($H$209:$H$575)-ROW($H$209)+1)/($H$209:$H$575<>\"\"),ROWS(G$2:G271))),\"\")","v":""},{"$f":"'Veg Guide Data Base'!A1768","v":""},{"$f":"'Veg Guide Data Base'!B1768","v":""},{"$f":"'Veg Guide Data Base'!L1768","v":""},{"$f":"'Veg Guide Data Base'!K1768","v":""},{"$f":"'Veg Guide Data Base'!M1768","v":""}]
[null,null,null,null,null,null,{"$f":"IFERROR(INDEX($H$209:$H$575,_xlfn.AGGREGATE(15,6,(ROW($H$209:$H$575)-ROW($H$209)+1)/($H$209:$H$575<>\"\"),ROWS(G$2:G272))),\"\")","v":""},{"$f":"'Veg Guide Data Base'!A1769","v":""},{"$f":"'Veg Guide Data Base'!B1769","v":""},{"$f":"'Veg Guide Data Base'!L1769","v":""},{"$f":"'Veg Guide Data Base'!K1769","v":""},{"$f":"'Veg Guide Data Base'!M1769","v":""}]
[null,null,null,null,null,null,{"$f":"IFERROR(INDEX($H$209:$H$575,_xlfn.AGGREGATE(15,6,(ROW($H$209:$H$575)-ROW($H$209)+1)/($H$209:$H$575<>\"\"),ROWS(G$2:G273))),\"\")","v":""},{"$f":"'Veg Guide Data Base'!A1770","v":""},{"$f":"'Veg Guide Data Base'!B1770","v":""},{"$f":"'Veg Guide Data Base'!L1770","v":""},{"$f":"'Veg Guide Data Base'!K1770","v":""},{"$f":"'Veg Guide Data Base'!M1770","v":""}]
[null,null,null,null,null,null,{"$f":"IFERROR(INDEX($H$209:$H$575,_xlfn.AGGREGATE(15,6,(ROW($H$209:$H$575)-ROW($H$209)+1)/($H$209:$H$575<>\"\"),ROWS(G$2:G274))),\"\")","v":""},{"$f":"'Veg Guide Data Base'!A1771","v":""},{"$f":"'Veg Guide Data Base'!B1771","v":""},{"$f":"'Veg Guide Data Base'!L1771","v":""},{"$f":"'Veg Guide Data Base'!K1771","v":""},{"$f":"'Veg Guide Data Base'!M1771","v":""}]
[null,null,null,null,null,null,{"$f":"IFERROR(INDEX($H$209:$H$575,_xlfn.AGGREGATE(15,6,(ROW($H$209:$H$575)-ROW($H$209)+1)/($H$209:$H$575<>\"\"),ROWS(G$2:G275))),\"\")","v":""},{"$f":"'Veg Guide Data Base'!A1772","v":""},{"$f":"'Veg Guide Data Base'!B1772","v":""},{"$f":"'Veg Guide Data Base'!L1772","v":""},{"$f":"'Veg Guide Data Base'!K1772","v":""},{"$f":"'Veg Guide Data Base'!M1772","v":""}]
[null,null,null,null,null,null,{"$f":"IFERROR(INDEX($H$209:$H$575,_xlfn.AGGREGATE(15,6,(ROW($H$209:$H$575)-ROW($H$209)+1)/($H$209:$H$575<>\"\"),ROWS(G$2:G276))),\"\")","v":""},{"$f":"'Veg Guide Data Base'!A1773","v":""},{"$f":"'Veg Guide Data Base'!B1773","v":""},{"$f":"'Veg Guide Data Base'!L1773","v":""},{"$f":"'Veg Guide Data Base'!K1773","v":""},{"$f":"'Veg Guide Data Base'!M1773","v":""}]
[null,null,null,null,null,null,{"$f":"IFERROR(INDEX($H$209:$H$575,_xlfn.AGGREGATE(15,6,(ROW($H$209:$H$575)-ROW($H$209)+1)/($H$209:$H$575<>\"\"),ROWS(G$2:G277))),\"\")","v":""},{"$f":"'Veg Guide Data Base'!A1774","v":""},{"$f":"'Veg Guide Data Base'!B1774","v":""},{"$f":"'Veg Guide Data Base'!L1774","v":""},{"$f":"'Veg Guide Data Base'!K1774","v":""},{"$f":"'Veg Guide Data Base'!M1774","v":""}]
[null,null,null,null,null,null,{"$f":"IFERROR(INDEX($H$209:$H$575,_xlfn.AGGREGATE(15,6,(ROW($H$209:$H$575)-ROW($H$209)+1)/($H$209:$H$575<>\"\"),ROWS(G$2:G278))),\"\")","v":""},{"$f":"'Veg Guide Data Base'!A1775","v":""},{"$f":"'Veg Guide Data Base'!B1775","v":""},{"$f":"'Veg Guide Data Base'!L1775","v":""},{"$f":"'Veg Guide Data Base'!K1775","v":""},{"$f":"'Veg Guide Data Base'!M1775","v":""}]
[null,null,null,null,null,null,{"$f":"IFERROR(INDEX($H$209:$H$575,_xlfn.AGGREGATE(15,6,(ROW($H$209:$H$575)-ROW($H$209)+1)/($H$209:$H$575<>\"\"),ROWS(G$2:G279))),\"\")","v":""},{"$f":"'Veg Guide Data Base'!A1776","v":""},{"$f":"'Veg Guide Data Base'!B1776","v":""},{"$f":"'Veg Guide Data Base'!L1776","v":""},{"$f":"'Veg Guide Data Base'!K1776","v":""},{"$f":"'Veg Guide Data Base'!M1776","v":""}]
[null,null,null,null,null,null,{"$f":"IFERROR(INDEX($H$209:$H$575,_xlfn.AGGREGATE(15,6,(ROW($H$209:$H$575)-ROW($H$209)+1)/($H$209:$H$575<>\"\"),ROWS(G$2:G280))),\"\")","v":""},{"$f":"'Veg Guide Data Base'!A1777","v":""},{"$f":"'Veg Guide Data Base'!B1777","v":""},{"$f":"'Veg Guide Data Base'!L1777","v":""},{"$f":"'Veg Guide Data Base'!K1777","v":""},{"$f":"'Veg Guide Data Base'!M1777","v":""}]
[null,null,null,null,null,null,{"$f":"IFERROR(INDEX($H$209:$H$575,_xlfn.AGGREGATE(15,6,(ROW($H$209:$H$575)-ROW($H$209)+1)/($H$209:$H$575<>\"\"),ROWS(G$2:G281))),\"\")","v":""},{"$f":"'Veg Guide Data Base'!A1778","v":""},{"$f":"'Veg Guide Data Base'!B1778","v":""},{"$f":"'Veg Guide Data Base'!L1778","v":""},{"$f":"'Veg Guide Data Base'!K1778","v":""},{"$f":"'Veg Guide Data Base'!M1778","v":""}]
[null,null,null,null,null,null,{"$f":"IFERROR(INDEX($H$209:$H$575,_xlfn.AGGREGATE(15,6,(ROW($H$209:$H$575)-ROW($H$209)+1)/($H$209:$H$575<>\"\"),ROWS(G$2:G282))),\"\")","v":""},{"$f":"'Veg Guide Data Base'!A1779","v":""},{"$f":"'Veg Guide Data Base'!B1779","v":""},{"$f":"'Veg Guide Data Base'!L1779","v":""},{"$f":"'Veg Guide Data Base'!K1779","v":""},{"$f":"'Veg Guide Data Base'!M1779","v":""}]
[null,null,null,null,null,null,{"$f":"IFERROR(INDEX($H$209:$H$575,_xlfn.AGGREGATE(15,6,(ROW($H$209:$H$575)-ROW($H$209)+1)/($H$209:$H$575<>\"\"),ROWS(G$2:G283))),\"\")","v":""},{"$f":"'Veg Guide Data Base'!A1780","v":""},{"$f":"'Veg Guide Data Base'!B1780","v":""},{"$f":"'Veg Guide Data Base'!L1780","v":""},{"$f":"'Veg Guide Data Base'!K1780","v":""},{"$f":"'Veg Guide Data Base'!M1780","v":""}]
[null,null,null,null,null,null,{"$f":"IFERROR(INDEX($H$209:$H$575,_xlfn.AGGREGATE(15,6,(ROW($H$209:$H$575)-ROW($H$209)+1)/($H$209:$H$575<>\"\"),ROWS(G$2:G284))),\"\")","v":""},{"$f":"'Veg Guide Data Base'!A1781","v":""},{"$f":"'Veg Guide Data Base'!B1781","v":""},{"$f":"'Veg Guide Data Base'!L1781","v":""},{"$f":"'Veg Guide Data Base'!K1781","v":""},{"$f":"'Veg Guide Data Base'!M1781","v":""}]
[null,null,null,null,null,null,{"$f":"IFERROR(INDEX($H$209:$H$575,_xlfn.AGGREGATE(15,6,(ROW($H$209:$H$575)-ROW($H$209)+1)/($H$209:$H$575<>\"\"),ROWS(G$2:G285))),\"\")","v":""},{"$f":"'Veg Guide Data Base'!A1782","v":""},{"$f":"'Veg Guide Data Base'!B1782","v":""},{"$f":"'Veg Guide Data Base'!L1782","v":""},{"$f":"'Veg Guide Data Base'!K1782","v":""},{"$f":"'Veg Guide Data Base'!M1782","v":""}]
[null,null,null,null,null,null,{"$f":"IFERROR(INDEX($H$209:$H$575,_xlfn.AGGREGATE(15,6,(ROW($H$209:$H$575)-ROW($H$209)+1)/($H$209:$H$575<>\"\"),ROWS(G$2:G286))),\"\")","v":""},{"$f":"'Veg Guide Data Base'!A1783","v":""},{"$f":"'Veg Guide Data Base'!B1783","v":""},{"$f":"'Veg Guide Data Base'!L1783","v":""},{"$f":"'Veg Guide Data Base'!K1783","v":""},{"$f":"'Veg Guide Data Base'!M1783","v":""}]
[null,null,null,null,null,null,{"$f":"IFERROR(INDEX($H$209:$H$575,_xlfn.AGGREGATE(15,6,(ROW($H$209:$H$575)-ROW($H$209)+1)/($H$209:$H$575<>\"\"),ROWS(G$2:G287))),\"\")","v":""},{"$f":"'Veg Guide Data Base'!A1784","v":""},{"$f":"'Veg Guide Data Base'!B1784","v":""},{"$f":"'Veg Guide Data Base'!L1784","v":""},{"$f":"'Veg Guide Data Base'!K1784","v":""},{"$f":"'Veg Guide Data Base'!M1784","v":""}]
[null,null,null,null,null,null,{"$f":"IFERROR(INDEX($H$209:$H$575,_xlfn.AGGREGATE(15,6,(ROW($H$209:$H$575)-ROW($H$209)+1)/($H$209:$H$575<>\"\"),ROWS(G$2:G288))),\"\")","v":""},{"$f":"'Veg Guide Data Base'!A1785","v":""},{"$f":"'Veg Guide Data Base'!B1785","v":""},{"$f":"'Veg Guide Data Base'!L1785","v":""},{"$f":"'Veg Guide Data Base'!K1785","v":""},{"$f":"'Veg Guide Data Base'!M1785","v":""}]
[null,null,null,null,null,null,{"$f":"IFERROR(INDEX($H$209:$H$575,_xlfn.AGGREGATE(15,6,(ROW($H$209:$H$575)-ROW($H$209)+1)/($H$209:$H$575<>\"\"),ROWS(G$2:G289))),\"\")","v":""},{"$f":"'Veg Guide Data Base'!A1786","v":""},{"$f":"'Veg Guide Data Base'!B1786","v":""},{"$f":"'Veg Guide Data Base'!L1786","v":""},{"$f":"'Veg Guide Data Base'!K1786","v":""},{"$f":"'Veg Guide Data Base'!M1786","v":""}]
[null,null,null,null,null,null,{"$f":"IFERROR(INDEX($H$209:$H$575,_xlfn.AGGREGATE(15,6,(ROW($H$209:$H$575)-ROW($H$209)+1)/($H$209:$H$575<>\"\"),ROWS(G$2:G290))),\"\")","v":""},{"$f":"'Veg Guide Data Base'!A1787","v":""},{"$f":"'Veg Guide Data Base'!B1787","v":""},{"$f":"'Veg Guide Data Base'!L1787","v":""},{"$f":"'Veg Guide Data Base'!K1787","v":""},{"$f":"'Veg Guide Data Base'!M1787","v":""}]
[null,null,null,null,null,null,{"$f":"IFERROR(INDEX($H$209:$H$575,_xlfn.AGGREGATE(15,6,(ROW($H$209:$H$575)-ROW($H$209)+1)/($H$209:$H$575<>\"\"),ROWS(G$2:G291))),\"\")","v":""},{"$f":"'Veg Guide Data Base'!A1788","v":""},{"$f":"'Veg Guide Data Base'!B1788","v":""},{"$f":"'Veg Guide Data Base'!L1788","v":""},{"$f":"'Veg Guide Data Base'!K1788","v":""},{"$f":"'Veg Guide Data Base'!M1788","v":""}]
[null,null,null,null,null,null,{"$f":"IFERROR(INDEX($H$209:$H$575,_xlfn.AGGREGATE(15,6,(ROW($H$209:$H$575)-ROW($H$209)+1)/($H$209:$H$575<>\"\"),ROWS(G$2:G292))),\"\")","v":""},{"$f":"'Veg Guide Data Base'!A1789","v":""},{"$f":"'Veg Guide Data Base'!B1789","v":""},{"$f":"'Veg Guide Data Base'!L1789","v":""},{"$f":"'Veg Guide Data Base'!K1789","v":""},{"$f":"'Veg Guide Data Base'!M1789","v":""}]
[null,null,null,null,null,null,{"$f":"IFERROR(INDEX($H$209:$H$575,_xlfn.AGGREGATE(15,6,(ROW($H$209:$H$575)-ROW($H$209)+1)/($H$209:$H$575<>\"\"),ROWS(G$2:G293))),\"\")","v":""},{"$f":"'Veg Guide Data Base'!A1790","v":""},{"$f":"'Veg Guide Data Base'!B1790","v":""},{"$f":"'Veg Guide Data Base'!L1790","v":""},{"$f":"'Veg Guide Data Base'!K1790","v":""},{"$f":"'Veg Guide Data Base'!M1790","v":""}]
[null,null,null,null,null,null,{"$f":"IFERROR(INDEX($H$209:$H$575,_xlfn.AGGREGATE(15,6,(ROW($H$209:$H$575)-ROW($H$209)+1)/($H$209:$H$575<>\"\"),ROWS(G$2:G294))),\"\")","v":""},{"$f":"'Veg Guide Data Base'!A1791","v":""},{"$f":"'Veg Guide Data Base'!B1791","v":""},{"$f":"'Veg Guide Data Base'!L1791","v":""},{"$f":"'Veg Guide Data Base'!K1791","v":""},{"$f":"'Veg Guide Data Base'!M1791","v":""}]
[null,null,null,null,null,null,{"$f":"IFERROR(INDEX($H$209:$H$575,_xlfn.AGGREGATE(15,6,(ROW($H$209:$H$575)-ROW($H$209)+1)/($H$209:$H$575<>\"\"),ROWS(G$2:G295))),\"\")","v":""},{"$f":"'Veg Guide Data Base'!A1792","v":""},{"$f":"'Veg Guide Data Base'!B1792","v":""},{"$f":"'Veg Guide Data Base'!L1792","v":""},{"$f":"'Veg Guide Data Base'!K1792","v":""},{"$f":"'Veg Guide Data Base'!M1792","v":""}]
[null,null,null,null,null,null,{"$f":"IFERROR(INDEX($H$209:$H$575,_xlfn.AGGREGATE(15,6,(ROW($H$209:$H$575)-ROW($H$209)+1)/($H$209:$H$575<>\"\"),ROWS(G$2:G296))),\"\")","v":""},{"$f":"'Veg Guide Data Base'!A1793","v":""},{"$f":"'Veg Guide Data Base'!B1793","v":""},{"$f":"'Veg Guide Data Base'!L1793","v":""},{"$f":"'Veg Guide Data Base'!K1793","v":""},{"$f":"'Veg Guide Data Base'!M1793","v":""}]
[null,null,null,null,null,null,{"$f":"IFERROR(INDEX($H$209:$H$575,_xlfn.AGGREGATE(15,6,(ROW($H$209:$H$575)-ROW($H$209)+1)/($H$209:$H$575<>\"\"),ROWS(G$2:G297))),\"\")","v":""},{"$f":"'Veg Guide Data Base'!A1794","v":""},{"$f":"'Veg Guide Data Base'!B1794","v":""},{"$f":"'Veg Guide Data Base'!L1794","v":""},{"$f":"'Veg Guide Data Base'!K1794","v":""},{"$f":"'Veg Guide Data Base'!M1794","v":""}]
[null,null,null,null,null,null,{"$f":"IFERROR(INDEX($H$209:$H$575,_xlfn.AGGREGATE(15,6,(ROW($H$209:$H$575)-ROW($H$209)+1)/($H$209:$H$575<>\"\"),ROWS(G$2:G298))),\"\")","v":""},{"$f":"'Veg Guide Data Base'!A1795","v":""},{"$f":"'Veg Guide Data Base'!B1795","v":""},{"$f":"'Veg Guide Data Base'!L1795","v":""},{"$f":"'Veg Guide Data Base'!K1795","v":""},{"$f":"'Veg Guide Data Base'!M1795","v":""}]
[null,null,null,null,null,null,{"$f":"IFERROR(INDEX($H$209:$H$575,_xlfn.AGGREGATE(15,6,(ROW($H$209:$H$575)-ROW($H$209)+1)/($H$209:$H$575<>\"\"),ROWS(G$2:G299))),\"\")","v":""},{"$f":"'Veg Guide Data Base'!A1796","v":""},{"$f":"'Veg Guide Data Base'!B1796","v":""},{"$f":"'Veg Guide Data Base'!L1796","v":""},{"$f":"'Veg Guide Data Base'!K1796","v":""},{"$f":"'Veg Guide Data Base'!M1796","v":""}]
[null,null,null,null,null,null,{"$f":"IFERROR(INDEX($H$209:$H$575,_xlfn.AGGREGATE(15,6,(ROW($H$209:$H$575)-ROW($H$209)+1)/($H$209:$H$575<>\"\"),ROWS(G$2:G300))),\"\")","v":""},{"$f":"'Veg Guide Data Base'!A1797","v":""},{"$f":"'Veg Guide Data Base'!B1797","v":""},{"$f":"'Veg Guide Data Base'!L1797","v":""},{"$f":"'Veg Guide Data Base'!K1797","v":""},{"$f":"'Veg Guide Data Base'!M1797","v":""}]
[null,null,null,null,null,null,{"$f":"IFERROR(INDEX($H$209:$H$575,_xlfn.AGGREGATE(15,6,(ROW($H$209:$H$575)-ROW($H$209)+1)/($H$209:$H$575<>\"\"),ROWS(G$2:G301))),\"\")","v":""},{"$f":"'Veg Guide Data Base'!A1798","v":""},{"$f":"'Veg Guide Data Base'!B1798","v":""},{"$f":"'Veg Guide Data Base'!L1798","v":""},{"$f":"'Veg Guide Data Base'!K1798","v":""},{"$f":"'Veg Guide Data Base'!M1798","v":""}]
[null,null,null,null,null,null,{"$f":"IFERROR(INDEX($H$209:$H$575,_xlfn.AGGREGATE(15,6,(ROW($H$209:$H$575)-ROW($H$209)+1)/($H$209:$H$575<>\"\"),ROWS(G$2:G302))),\"\")","v":""},{"$f":"'Veg Guide Data Base'!A1799","v":""},{"$f":"'Veg Guide Data Base'!B1799","v":""},{"$f":"'Veg Guide Data Base'!L1799","v":""},{"$f":"'Veg Guide Data Base'!K1799","v":""},{"$f":"'Veg Guide Data Base'!M1799","v":""}]
[null,null,null,null,null,null,{"$f":"IFERROR(INDEX($H$209:$H$575,_xlfn.AGGREGATE(15,6,(ROW($H$209:$H$575)-ROW($H$209)+1)/($H$209:$H$575<>\"\"),ROWS(G$2:G303))),\"\")","v":""},{"$f":"'Veg Guide Data Base'!A1800","v":""},{"$f":"'Veg Guide Data Base'!B1800","v":""},{"$f":"'Veg Guide Data Base'!L1800","v":""},{"$f":"'Veg Guide Data Base'!K1800","v":""},{"$f":"'Veg Guide Data Base'!M1800","v":""}]
[null,null,null,null,null,null,{"$f":"IFERROR(INDEX($H$209:$H$575,_xlfn.AGGREGATE(15,6,(ROW($H$209:$H$575)-ROW($H$209)+1)/($H$209:$H$575<>\"\"),ROWS(G$2:G304))),\"\")","v":""},{"$f":"'Veg Guide Data Base'!A1801","v":""},{"$f":"'Veg Guide Data Base'!B1801","v":""},{"$f":"'Veg Guide Data Base'!L1801","v":""},{"$f":"'Veg Guide Data Base'!K1801","v":""},{"$f":"'Veg Guide Data Base'!M1801","v":""}]
[null,null,null,null,null,null,{"$f":"IFERROR(INDEX($H$209:$H$575,_xlfn.AGGREGATE(15,6,(ROW($H$209:$H$575)-ROW($H$209)+1)/($H$209:$H$575<>\"\"),ROWS(G$2:G305))),\"\")","v":""},{"$f":"'Veg Guide Data Base'!A1802","v":""},{"$f":"'Veg Guide Data Base'!B1802","v":""},{"$f":"'Veg Guide Data Base'!L1802","v":""},{"$f":"'Veg Guide Data Base'!K1802","v":""},{"$f":"'Veg Guide Data Base'!M1802","v":""}]
[null,null,null,null,null,null,{"$f":"IFERROR(INDEX($H$209:$H$575,_xlfn.AGGREGATE(15,6,(ROW($H$209:$H$575)-ROW($H$209)+1)/($H$209:$H$575<>\"\"),ROWS(G$2:G306))),\"\")","v":""},{"$f":"'Veg Guide Data Base'!A1803","v":""},{"$f":"'Veg Guide Data Base'!B1803","v":""},{"$f":"'Veg Guide Data Base'!L1803","v":""},{"$f":"'Veg Guide Data Base'!K1803","v":""},{"$f":"'Veg Guide Data Base'!M1803","v":""}]
[null,null,null,null,null,null,{"$f":"IFERROR(INDEX($H$209:$H$575,_xlfn.AGGREGATE(15,6,(ROW($H$209:$H$575)-ROW($H$209)+1)/($H$209:$H$575<>\"\"),ROWS(G$2:G307))),\"\")","v":""},{"$f":"'Veg Guide Data Base'!A1804","v":""},{"$f":"'Veg Guide Data Base'!B1804","v":""},{"$f":"'Veg Guide Data Base'!L1804","v":""},{"$f":"'Veg Guide Data Base'!K1804","v":""},{"$f":"'Veg Guide Data Base'!M1804","v":""}]
[null,null,null,null,null,null,{"$f":"IFERROR(INDEX($H$209:$H$575,_xlfn.AGGREGATE(15,6,(ROW($H$209:$H$575)-ROW($H$209)+1)/($H$209:$H$575<>\"\"),ROWS(G$2:G308))),\"\")","v":""},{"$f":"'Veg Guide Data Base'!A1805","v":""},{"$f":"'Veg Guide Data Base'!B1805","v":""},{"$f":"'Veg Guide Data Base'!L1805","v":""},{"$f":"'Veg Guide Data Base'!K1805","v":""},{"$f":"'Veg Guide Data Base'!M1805","v":""}]
[null,null,null,null,null,null,{"$f":"IFERROR(INDEX($H$209:$H$575,_xlfn.AGGREGATE(15,6,(ROW($H$209:$H$575)-ROW($H$209)+1)/($H$209:$H$575<>\"\"),ROWS(G$2:G309))),\"\")","v":""},{"$f":"'Veg Guide Data Base'!A1806","v":""},{"$f":"'Veg Guide Data Base'!B1806","v":""},{"$f":"'Veg Guide Data Base'!L1806","v":""},{"$f":"'Veg Guide Data Base'!K1806","v":""},{"$f":"'Veg Guide Data Base'!M1806","v":""}]
[null,null,null,null,null,null,{"$f":"IFERROR(INDEX($H$209:$H$575,_xlfn.AGGREGATE(15,6,(ROW($H$209:$H$575)-ROW($H$209)+1)/($H$209:$H$575<>\"\"),ROWS(G$2:G310))),\"\")","v":""},{"$f":"'Veg Guide Data Base'!A1807","v":""},{"$f":"'Veg Guide Data Base'!B1807","v":""},{"$f":"'Veg Guide Data Base'!L1807","v":""},{"$f":"'Veg Guide Data Base'!K1807","v":""},{"$f":"'Veg Guide Data Base'!M1807","v":""}]
[null,null,null,null,null,null,{"$f":"IFERROR(INDEX($H$209:$H$575,_xlfn.AGGREGATE(15,6,(ROW($H$209:$H$575)-ROW($H$209)+1)/($H$209:$H$575<>\"\"),ROWS(G$2:G311))),\"\")","v":""},{"$f":"'Veg Guide Data Base'!A1808","v":""},{"$f":"'Veg Guide Data Base'!B1808","v":""},{"$f":"'Veg Guide Data Base'!L1808","v":""},{"$f":"'Veg Guide Data Base'!K1808","v":""},{"$f":"'Veg Guide Data Base'!M1808","v":""}]
[null,null,null,null,null,null,{"$f":"IFERROR(INDEX($H$209:$H$575,_xlfn.AGGREGATE(15,6,(ROW($H$209:$H$575)-ROW($H$209)+1)/($H$209:$H$575<>\"\"),ROWS(G$2:G312))),\"\")","v":""},{"$f":"'Veg Guide Data Base'!A1809","v":""},{"$f":"'Veg Guide Data Base'!B1809","v":""},{"$f":"'Veg Guide Data Base'!L1809","v":""},{"$f":"'Veg Guide Data Base'!K1809","v":""},{"$f":"'Veg Guide Data Base'!M1809","v":""}]
[null,null,null,null,null,null,{"$f":"IFERROR(INDEX($H$209:$H$575,_xlfn.AGGREGATE(15,6,(ROW($H$209:$H$575)-ROW($H$209)+1)/($H$209:$H$575<>\"\"),ROWS(G$2:G313))),\"\")","v":""},{"$f":"'Veg Guide Data Base'!A1810","v":""},{"$f":"'Veg Guide Data Base'!B1810","v":""},{"$f":"'Veg Guide Data Base'!L1810","v":""},{"$f":"'Veg Guide Data Base'!K1810","v":""},{"$f":"'Veg Guide Data Base'!M1810","v":""}]
[null,null,null,null,null,null,{"$f":"IFERROR(INDEX($H$209:$H$575,_xlfn.AGGREGATE(15,6,(ROW($H$209:$H$575)-ROW($H$209)+1)/($H$209:$H$575<>\"\"),ROWS(G$2:G314))),\"\")","v":""},{"$f":"'Veg Guide Data Base'!A1811","v":""},{"$f":"'Veg Guide Data Base'!B1811","v":""},{"$f":"'Veg Guide Data Base'!L1811","v":""},{"$f":"'Veg Guide Data Base'!K1811","v":""},{"$f":"'Veg Guide Data Base'!M1811","v":""}]
[null,null,null,null,null,null,{"$f":"IFERROR(INDEX($H$209:$H$575,_xlfn.AGGREGATE(15,6,(ROW($H$209:$H$575)-ROW($H$209)+1)/($H$209:$H$575<>\"\"),ROWS(G$2:G315))),\"\")","v":""},{"$f":"'Veg Guide Data Base'!A1812","v":""},{"$f":"'Veg Guide Data Base'!B1812","v":""},{"$f":"'Veg Guide Data Base'!L1812","v":""},{"$f":"'Veg Guide Data Base'!K1812","v":""},{"$f":"'Veg Guide Data Base'!M1812","v":""}]
[null,null,null,null,null,null,{"$f":"IFERROR(INDEX($H$209:$H$575,_xlfn.AGGREGATE(15,6,(ROW($H$209:$H$575)-ROW($H$209)+1)/($H$209:$H$575<>\"\"),ROWS(G$2:G316))),\"\")","v":""},{"$f":"'Veg Guide Data Base'!A1813","v":""},{"$f":"'Veg Guide Data Base'!B1813","v":""},{"$f":"'Veg Guide Data Base'!L1813","v":""},{"$f":"'Veg Guide Data Base'!K1813","v":""},{"$f":"'Veg Guide Data Base'!M1813","v":""}]
[null,null,null,null,null,null,{"$f":"IFERROR(INDEX($H$209:$H$575,_xlfn.AGGREGATE(15,6,(ROW($H$209:$H$575)-ROW($H$209)+1)/($H$209:$H$575<>\"\"),ROWS(G$2:G317))),\"\")","v":""},{"$f":"'Veg Guide Data Base'!A1814","v":""},{"$f":"'Veg Guide Data Base'!B1814","v":""},{"$f":"'Veg Guide Data Base'!L1814","v":""},{"$f":"'Veg Guide Data Base'!K1814","v":""},{"$f":"'Veg Guide Data Base'!M1814","v":""}]
[null,null,null,null,null,null,{"$f":"IFERROR(INDEX($H$209:$H$575,_xlfn.AGGREGATE(15,6,(ROW($H$209:$H$575)-ROW($H$209)+1)/($H$209:$H$575<>\"\"),ROWS(G$2:G318))),\"\")","v":""},{"$f":"'Veg Guide Data Base'!A1815","v":""},{"$f":"'Veg Guide Data Base'!B1815","v":""},{"$f":"'Veg Guide Data Base'!L1815","v":""},{"$f":"'Veg Guide Data Base'!K1815","v":""},{"$f":"'Veg Guide Data Base'!M1815","v":""}]
[null,null,null,null,null,null,{"$f":"IFERROR(INDEX($H$209:$H$575,_xlfn.AGGREGATE(15,6,(ROW($H$209:$H$575)-ROW($H$209)+1)/($H$209:$H$575<>\"\"),ROWS(G$2:G319))),\"\")","v":""},{"$f":"'Veg Guide Data Base'!A1816","v":""},{"$f":"'Veg Guide Data Base'!B1816","v":""},{"$f":"'Veg Guide Data Base'!L1816","v":""},{"$f":"'Veg Guide Data Base'!K1816","v":""},{"$f":"'Veg Guide Data Base'!M1816","v":""}]
[null,null,null,null,null,null,{"$f":"IFERROR(INDEX($H$209:$H$575,_xlfn.AGGREGATE(15,6,(ROW($H$209:$H$575)-ROW($H$209)+1)/($H$209:$H$575<>\"\"),ROWS(G$2:G320))),\"\")","v":""},{"$f":"'Veg Guide Data Base'!A1817","v":""},{"$f":"'Veg Guide Data Base'!B1817","v":""},{"$f":"'Veg Guide Data Base'!L1817","v":""},{"$f":"'Veg Guide Data Base'!K1817","v":""},{"$f":"'Veg Guide Data Base'!M1817","v":""}]
[null,null,null,null,null,null,{"$f":"IFERROR(INDEX($H$209:$H$575,_xlfn.AGGREGATE(15,6,(ROW($H$209:$H$575)-ROW($H$209)+1)/($H$209:$H$575<>\"\"),ROWS(G$2:G321))),\"\")","v":""},{"$f":"'Veg Guide Data Base'!A1818","v":""},{"$f":"'Veg Guide Data Base'!B1818","v":""},{"$f":"'Veg Guide Data Base'!L1818","v":""},{"$f":"'Veg Guide Data Base'!K1818","v":""},{"$f":"'Veg Guide Data Base'!M1818","v":""}]
[null,null,null,null,null,null,{"$f":"IFERROR(INDEX($H$209:$H$575,_xlfn.AGGREGATE(15,6,(ROW($H$209:$H$575)-ROW($H$209)+1)/($H$209:$H$575<>\"\"),ROWS(G$2:G322))),\"\")","v":""},{"$f":"'Veg Guide Data Base'!A1819","v":""},{"$f":"'Veg Guide Data Base'!B1819","v":""},{"$f":"'Veg Guide Data Base'!L1819","v":""},{"$f":"'Veg Guide Data Base'!K1819","v":""},{"$f":"'Veg Guide Data Base'!M1819","v":""}]
[null,null,null,null,null,null,{"$f":"IFERROR(INDEX($H$209:$H$575,_xlfn.AGGREGATE(15,6,(ROW($H$209:$H$575)-ROW($H$209)+1)/($H$209:$H$575<>\"\"),ROWS(G$2:G323))),\"\")","v":""},{"$f":"'Veg Guide Data Base'!A1820","v":""},{"$f":"'Veg Guide Data Base'!B1820","v":""},{"$f":"'Veg Guide Data Base'!L1820","v":""},{"$f":"'Veg Guide Data Base'!K1820","v":""},{"$f":"'Veg Guide Data Base'!M1820","v":""}]
[null,null,null,null,null,null,{"$f":"IFERROR(INDEX($H$209:$H$575,_xlfn.AGGREGATE(15,6,(ROW($H$209:$H$575)-ROW($H$209)+1)/($H$209:$H$575<>\"\"),ROWS(G$2:G324))),\"\")","v":""},{"$f":"'Veg Guide Data Base'!A1821","v":""},{"$f":"'Veg Guide Data Base'!B1821","v":""},{"$f":"'Veg Guide Data Base'!L1821","v":""},{"$f":"'Veg Guide Data Base'!K1821","v":""},{"$f":"'Veg Guide Data Base'!M1821","v":""}]
[null,null,null,null,null,null,{"$f":"IFERROR(INDEX($H$209:$H$575,_xlfn.AGGREGATE(15,6,(ROW($H$209:$H$575)-ROW($H$209)+1)/($H$209:$H$575<>\"\"),ROWS(G$2:G325))),\"\")","v":""},{"$f":"'Veg Guide Data Base'!A1822","v":""},{"$f":"'Veg Guide Data Base'!B1822","v":""},{"$f":"'Veg Guide Data Base'!L1822","v":""},{"$f":"'Veg Guide Data Base'!K1822","v":""},{"$f":"'Veg Guide Data Base'!M1822","v":""}]
[null,null,null,null,null,null,{"$f":"IFERROR(INDEX($H$209:$H$575,_xlfn.AGGREGATE(15,6,(ROW($H$209:$H$575)-ROW($H$209)+1)/($H$209:$H$575<>\"\"),ROWS(G$2:G326))),\"\")","v":""},{"$f":"'Veg Guide Data Base'!A1823","v":""},{"$f":"'Veg Guide Data Base'!B1823","v":""},{"$f":"'Veg Guide Data Base'!L1823","v":""},{"$f":"'Veg Guide Data Base'!K1823","v":""},{"$f":"'Veg Guide Data Base'!M1823","v":""}]
[null,null,null,null,null,null,{"$f":"IFERROR(INDEX($H$209:$H$575,_xlfn.AGGREGATE(15,6,(ROW($H$209:$H$575)-ROW($H$209)+1)/($H$209:$H$575<>\"\"),ROWS(G$2:G327))),\"\")","v":""},{"$f":"'Veg Guide Data Base'!A1824","v":""},{"$f":"'Veg Guide Data Base'!B1824","v":""},{"$f":"'Veg Guide Data Base'!L1824","v":""},{"$f":"'Veg Guide Data Base'!K1824","v":""},{"$f":"'Veg Guide Data Base'!M1824","v":""}]
[null,null,null,null,null,null,{"$f":"IFERROR(INDEX($H$209:$H$575,_xlfn.AGGREGATE(15,6,(ROW($H$209:$H$575)-ROW($H$209)+1)/($H$209:$H$575<>\"\"),ROWS(G$2:G328))),\"\")","v":""},{"$f":"'Veg Guide Data Base'!A1825","v":""},{"$f":"'Veg Guide Data Base'!B1825","v":""},{"$f":"'Veg Guide Data Base'!L1825","v":""},{"$f":"'Veg Guide Data Base'!K1825","v":""},{"$f":"'Veg Guide Data Base'!M1825","v":""}]
[null,null,null,null,null,null,{"$f":"IFERROR(INDEX($H$209:$H$575,_xlfn.AGGREGATE(15,6,(ROW($H$209:$H$575)-ROW($H$209)+1)/($H$209:$H$575<>\"\"),ROWS(G$2:G329))),\"\")","v":""},{"$f":"'Veg Guide Data Base'!A1826","v":""},{"$f":"'Veg Guide Data Base'!B1826","v":""},{"$f":"'Veg Guide Data Base'!L1826","v":""},{"$f":"'Veg Guide Data Base'!K1826","v":""},{"$f":"'Veg Guide Data Base'!M1826","v":""}]
[null,null,null,null,null,null,{"$f":"IFERROR(INDEX($H$209:$H$575,_xlfn.AGGREGATE(15,6,(ROW($H$209:$H$575)-ROW($H$209)+1)/($H$209:$H$575<>\"\"),ROWS(G$2:G330))),\"\")","v":""},{"$f":"'Veg Guide Data Base'!A1827","v":""},{"$f":"'Veg Guide Data Base'!B1827","v":""},{"$f":"'Veg Guide Data Base'!L1827","v":""},{"$f":"'Veg Guide Data Base'!K1827","v":""},{"$f":"'Veg Guide Data Base'!M1827","v":""}]
[null,null,null,null,null,null,{"$f":"IFERROR(INDEX($H$209:$H$575,_xlfn.AGGREGATE(15,6,(ROW($H$209:$H$575)-ROW($H$209)+1)/($H$209:$H$575<>\"\"),ROWS(G$2:G331))),\"\")","v":""},{"$f":"'Veg Guide Data Base'!A1828","v":""},{"$f":"'Veg Guide Data Base'!B1828","v":""},{"$f":"'Veg Guide Data Base'!L1828","v":""},{"$f":"'Veg Guide Data Base'!K1828","v":""},{"$f":"'Veg Guide Data Base'!M1828","v":""}]
[null,null,null,null,null,null,{"$f":"IFERROR(INDEX($H$209:$H$575,_xlfn.AGGREGATE(15,6,(ROW($H$209:$H$575)-ROW($H$209)+1)/($H$209:$H$575<>\"\"),ROWS(G$2:G332))),\"\")","v":""},{"$f":"'Veg Guide Data Base'!A1829","v":""},{"$f":"'Veg Guide Data Base'!B1829","v":""},{"$f":"'Veg Guide Data Base'!L1829","v":""},{"$f":"'Veg Guide Data Base'!K1829","v":""},{"$f":"'Veg Guide Data Base'!M1829","v":""}]
[null,null,null,null,null,null,{"$f":"IFERROR(INDEX($H$209:$H$575,_xlfn.AGGREGATE(15,6,(ROW($H$209:$H$575)-ROW($H$209)+1)/($H$209:$H$575<>\"\"),ROWS(G$2:G333))),\"\")","v":""},{"$f":"'Veg Guide Data Base'!A1830","v":""},{"$f":"'Veg Guide Data Base'!B1830","v":""},{"$f":"'Veg Guide Data Base'!L1830","v":""},{"$f":"'Veg Guide Data Base'!K1830","v":""},{"$f":"'Veg Guide Data Base'!M1830","v":""}]
[null,null,null,null,null,null,{"$f":"IFERROR(INDEX($H$209:$H$575,_xlfn.AGGREGATE(15,6,(ROW($H$209:$H$575)-ROW($H$209)+1)/($H$209:$H$575<>\"\"),ROWS(G$2:G334))),\"\")","v":""},{"$f":"'Veg Guide Data Base'!A1831","v":""},{"$f":"'Veg Guide Data Base'!B1831","v":""},{"$f":"'Veg Guide Data Base'!L1831","v":""},{"$f":"'Veg Guide Data Base'!K1831","v":""},{"$f":"'Veg Guide Data Base'!M1831","v":""}]
[null,null,null,null,null,null,{"$f":"IFERROR(INDEX($H$209:$H$575,_xlfn.AGGREGATE(15,6,(ROW($H$209:$H$575)-ROW($H$209)+1)/($H$209:$H$575<>\"\"),ROWS(G$2:G335))),\"\")","v":""},{"$f":"'Veg Guide Data Base'!A1832","v":""},{"$f":"'Veg Guide Data Base'!B1832","v":""},{"$f":"'Veg Guide Data Base'!L1832","v":""},{"$f":"'Veg Guide Data Base'!K1832","v":""},{"$f":"'Veg Guide Data Base'!M1832","v":""}]
[null,null,null,null,null,null,{"$f":"IFERROR(INDEX($H$209:$H$575,_xlfn.AGGREGATE(15,6,(ROW($H$209:$H$575)-ROW($H$209)+1)/($H$209:$H$575<>\"\"),ROWS(G$2:G336))),\"\")","v":""},{"$f":"'Veg Guide Data Base'!A1833","v":""},{"$f":"'Veg Guide Data Base'!B1833","v":""},{"$f":"'Veg Guide Data Base'!L1833","v":""},{"$f":"'Veg Guide Data Base'!K1833","v":""},{"$f":"'Veg Guide Data Base'!M1833","v":""}]
[null,null,null,null,null,null,{"$f":"IFERROR(INDEX($H$209:$H$575,_xlfn.AGGREGATE(15,6,(ROW($H$209:$H$575)-ROW($H$209)+1)/($H$209:$H$575<>\"\"),ROWS(G$2:G337))),\"\")","v":""},{"$f":"'Veg Guide Data Base'!A1834","v":""},{"$f":"'Veg Guide Data Base'!B1834","v":""},{"$f":"'Veg Guide Data Base'!L1834","v":""},{"$f":"'Veg Guide Data Base'!K1834","v":""},{"$f":"'Veg Guide Data Base'!M1834","v":""}]
[null,null,null,null,null,null,{"$f":"IFERROR(INDEX($H$209:$H$575,_xlfn.AGGREGATE(15,6,(ROW($H$209:$H$575)-ROW($H$209)+1)/($H$209:$H$575<>\"\"),ROWS(G$2:G338))),\"\")","v":""},{"$f":"'Veg Guide Data Base'!A1835","v":""},{"$f":"'Veg Guide Data Base'!B1835","v":""},{"$f":"'Veg Guide Data Base'!L1835","v":""},{"$f":"'Veg Guide Data Base'!K1835","v":""},{"$f":"'Veg Guide Data Base'!M1835","v":""}]
[null,null,null,null,null,null,{"$f":"IFERROR(INDEX($H$209:$H$575,_xlfn.AGGREGATE(15,6,(ROW($H$209:$H$575)-ROW($H$209)+1)/($H$209:$H$575<>\"\"),ROWS(G$2:G339))),\"\")","v":""},{"$f":"'Veg Guide Data Base'!A1836","v":""},{"$f":"'Veg Guide Data Base'!B1836","v":""},{"$f":"'Veg Guide Data Base'!L1836","v":""},{"$f":"'Veg Guide Data Base'!K1836","v":""},{"$f":"'Veg Guide Data Base'!M1836","v":""}]
[null,null,null,null,null,null,{"$f":"IFERROR(INDEX($H$209:$H$575,_xlfn.AGGREGATE(15,6,(ROW($H$209:$H$575)-ROW($H$209)+1)/($H$209:$H$575<>\"\"),ROWS(G$2:G340))),\"\")","v":""},{"$f":"'Veg Guide Data Base'!A1837","v":""},{"$f":"'Veg Guide Data Base'!B1837","v":""},{"$f":"'Veg Guide Data Base'!L1837","v":""},{"$f":"'Veg Guide Data Base'!K1837","v":""},{"$f":"'Veg Guide Data Base'!M1837","v":""}]
[null,null,null,null,null,null,{"$f":"IFERROR(INDEX($H$209:$H$575,_xlfn.AGGREGATE(15,6,(ROW($H$209:$H$575)-ROW($H$209)+1)/($H$209:$H$575<>\"\"),ROWS(G$2:G341))),\"\")","v":""},{"$f":"'Veg Guide Data Base'!A1838","v":""},{"$f":"'Veg Guide Data Base'!B1838","v":""},{"$f":"'Veg Guide Data Base'!L1838","v":""},{"$f":"'Veg Guide Data Base'!K1838","v":""},{"$f":"'Veg Guide Data Base'!M1838","v":""}]
[null,null,null,null,null,null,{"$f":"IFERROR(INDEX($H$209:$H$575,_xlfn.AGGREGATE(15,6,(ROW($H$209:$H$575)-ROW($H$209)+1)/($H$209:$H$575<>\"\"),ROWS(G$2:G342))),\"\")","v":""},{"$f":"'Veg Guide Data Base'!A1839","v":""},{"$f":"'Veg Guide Data Base'!B1839","v":""},{"$f":"'Veg Guide Data Base'!L1839","v":""},{"$f":"'Veg Guide Data Base'!K1839","v":""},{"$f":"'Veg Guide Data Base'!M1839","v":""}]
[null,null,null,null,null,null,{"$f":"IFERROR(INDEX($H$209:$H$575,_xlfn.AGGREGATE(15,6,(ROW($H$209:$H$575)-ROW($H$209)+1)/($H$209:$H$575<>\"\"),ROWS(G$2:G343))),\"\")","v":""},{"$f":"'Veg Guide Data Base'!A1840","v":""},{"$f":"'Veg Guide Data Base'!B1840","v":""},{"$f":"'Veg Guide Data Base'!L1840","v":""},{"$f":"'Veg Guide Data Base'!K1840","v":""},{"$f":"'Veg Guide Data Base'!M1840","v":""}]
[null,null,null,null,null,null,{"$f":"IFERROR(INDEX($H$209:$H$575,_xlfn.AGGREGATE(15,6,(ROW($H$209:$H$575)-ROW($H$209)+1)/($H$209:$H$575<>\"\"),ROWS(G$2:G344))),\"\")","v":""},{"$f":"IF('Variance Request'!$C15=0,\"\",'Variance Request'!$C15)","v":""},{"$f":"IF('Variance Request'!$B15=0,\"\",'Variance Request'!$B15)","v":""}]
[null,null,null,null,null,null,{"$f":"IFERROR(INDEX($H$209:$H$575,_xlfn.AGGREGATE(15,6,(ROW($H$209:$H$575)-ROW($H$209)+1)/($H$209:$H$575<>\"\"),ROWS(G$2:G345))),\"\")","v":""},{"$f":"IF('Variance Request'!$C16=0,\"\",'Variance Request'!$C16)","v":""},{"$f":"IF('Variance Request'!$B16=0,\"\",'Variance Request'!$B16)","v":""}]
[null,null,null,null,null,null,{"$f":"IFERROR(INDEX($H$209:$H$575,_xlfn.AGGREGATE(15,6,(ROW($H$209:$H$575)-ROW($H$209)+1)/($H$209:$H$575<>\"\"),ROWS(G$2:G346))),\"\")","v":""},{"$f":"IF('Variance Request'!$C17=0,\"\",'Variance Request'!$C17)","v":""},{"$f":"IF('Variance Request'!$B17=0,\"\",'Variance Request'!$B17)","v":""}]
[null,null,null,null,null,null,{"$f":"IFERROR(INDEX($H$209:$H$575,_xlfn.AGGREGATE(15,6,(ROW($H$209:$H$575)-ROW($H$209)+1)/($H$209:$H$575<>\"\"),ROWS(G$2:G347))),\"\")","v":""},{"$f":"IF('Variance Request'!$C18=0,\"\",'Variance Request'!$C18)","v":""},{"$f":"IF('Variance Request'!$B18=0,\"\",'Variance Request'!$B18)","v":""}]
[null,null,null,null,null,null,{"$f":"IFERROR(INDEX($H$209:$H$575,_xlfn.AGGREGATE(15,6,(ROW($H$209:$H$575)-ROW($H$209)+1)/($H$209:$H$575<>\"\"),ROWS(G$2:G348))),\"\")","v":""},{"$f":"IF('Variance Request'!$C19=0,\"\",'Variance Request'!$C19)","v":""},{"$f":"IF('Variance Request'!$B19=0,\"\",'Variance Request'!$B19)","v":""}]
[null,null,null,null,null,null,{"$f":"IFERROR(INDEX($H$209:$H$575,_xlfn.AGGREGATE(15,6,(ROW($H$209:$H$575)-ROW($H$209)+1)/($H$209:$H$575<>\"\"),ROWS(G$2:G349))),\"\")","v":""},{"$f":"IF('Variance Request'!$C20=0,\"\",'Variance Request'!$C20)","v":""},{"$f":"IF('Variance Request'!$B20=0,\"\",'Variance Request'!$B20)","v":""}]
[null,null,null,null,null,null,{"$f":"IFERROR(INDEX($H$209:$H$575,_xlfn.AGGREGATE(15,6,(ROW($H$209:$H$575)-ROW($H$209)+1)/($H$209:$H$575<>\"\"),ROWS(G$2:G350))),\"\")","v":""},{"$f":"IF('Variance Request'!$C21=0,\"\",'Variance Request'!$C21)","v":""},{"$f":"IF('Variance Request'!$B21=0,\"\",'Variance Request'!$B21)","v":""}]
[null,null,null,null,null,null,{"$f":"IFERROR(INDEX($H$209:$H$575,_xlfn.AGGREGATE(15,6,(ROW($H$209:$H$575)-ROW($H$209)+1)/($H$209:$H$575<>\"\"),ROWS(G$2:G351))),\"\")","v":""},{"$f":"IF('Variance Request'!$C22=0,\"\",'Variance Request'!$C22)","v":""},{"$f":"IF('Variance Request'!$B22=0,\"\",'Variance Request'!$B22)","v":""}]
[null,null,null,null,null,null,{"$f":"IFERROR(INDEX($H$209:$H$575,_xlfn.AGGREGATE(15,6,(ROW($H$209:$H$575)-ROW($H$209)+1)/($H$209:$H$575<>\"\"),ROWS(G$2:G352))),\"\")","v":""},{"$f":"IF('Variance Request'!$C23=0,\"\",'Variance Request'!$C23)","v":""},{"$f":"IF('Variance Request'!$B23=0,\"\",'Variance Request'!$B23)","v":""}]
[null,null,null,null,null,null,{"$f":"IFERROR(INDEX($H$209:$H$575,_xlfn.AGGREGATE(15,6,(ROW($H$209:$H$575)-ROW($H$209)+1)/($H$209:$H$575<>\"\"),ROWS(G$2:G353))),\"\")","v":""},{"$f":"IF('Variance Request'!$C24=0,\"\",'Variance Request'!$C24)","v":""},{"$f":"IF('Variance Request'!$B24=0,\"\",'Variance Request'!$B24)","v":""}]
[null,null,null,null,null,null,{"$f":"IFERROR(INDEX($H$209:$H$575,_xlfn.AGGREGATE(15,6,(ROW($H$209:$H$575)-ROW($H$209)+1)/($H$209:$H$575<>\"\"),ROWS(G$2:G354))),\"\")","v":""},{"$f":"IF('Variance Request'!$C25=0,\"\",'Variance Request'!$C25)","v":""},{"$f":"IF('Variance Request'!$B25=0,\"\",'Variance Request'!$B25)","v":""}]
[null,null,null,null,null,null,{"$f":"IFERROR(INDEX($H$209:$H$575,_xlfn.AGGREGATE(15,6,(ROW($H$209:$H$575)-ROW($H$209)+1)/($H$209:$H$575<>\"\"),ROWS(G$2:G355))),\"\")","v":""},{"$f":"IF('Variance Request'!$C26=0,\"\",'Variance Request'!$C26)","v":""},{"$f":"IF('Variance Request'!$B26=0,\"\",'Variance Request'!$B26)","v":""}]
[null,null,null,null,null,null,{"$f":"IFERROR(INDEX($H$209:$H$575,_xlfn.AGGREGATE(15,6,(ROW($H$209:$H$575)-ROW($H$209)+1)/($H$209:$H$575<>\"\"),ROWS(G$2:G356))),\"\")","v":""},{"$f":"IF('Variance Request'!$C27=0,\"\",'Variance Request'!$C27)","v":""},{"$f":"IF('Variance Request'!$B27=0,\"\",'Variance Request'!$B27)","v":""}]
[null,null,null,null,null,null,{"$f":"IFERROR(INDEX($H$209:$H$575,_xlfn.AGGREGATE(15,6,(ROW($H$209:$H$575)-ROW($H$209)+1)/($H$209:$H$575<>\"\"),ROWS(G$2:G357))),\"\")","v":""},{"$f":"IF('Variance Request'!$C28=0,\"\",'Variance Request'!$C28)","v":""},{"$f":"IF('Variance Request'!$B28=0,\"\",'Variance Request'!$B28)","v":""}]
[null,null,null,null,null,null,{"$f":"IFERROR(INDEX($H$209:$H$575,_xlfn.AGGREGATE(15,6,(ROW($H$209:$H$575)-ROW($H$209)+1)/($H$209:$H$575<>\"\"),ROWS(G$2:G358))),\"\")","v":""},{"$f":"IF('Variance Request'!$C29=0,\"\",'Variance Request'!$C29)","v":""},{"$f":"IF('Variance Request'!$B29=0,\"\",'Variance Request'!$B29)","v":""}]
[null,null,null,null,null,null,{"$f":"IFERROR(INDEX($H$209:$H$575,_xlfn.AGGREGATE(15,6,(ROW($H$209:$H$575)-ROW($H$209)+1)/($H$209:$H$575<>\"\"),ROWS(G$2:G359))),\"\")","v":""},{"$f":"IF('Variance Request'!$C30=0,\"\",'Variance Request'!$C30)","v":""},{"$f":"IF('Variance Request'!$B30=0,\"\",'Variance Request'!$B30)","v":""}]
[null,null,null,null,null,null,{"$f":"IFERROR(INDEX($H$209:$H$575,_xlfn.AGGREGATE(15,6,(ROW($H$209:$H$575)-ROW($H$209)+1)/($H$209:$H$575<>\"\"),ROWS(G$2:G360))),\"\")","v":""},{"$f":"IF('Variance Request'!$C31=0,\"\",'Variance Request'!$C31)","v":""},{"$f":"IF('Variance Request'!$B31=0,\"\",'Variance Request'!$B31)","v":""}]
[null,null,null,null,null,null,{"$f":"IFERROR(INDEX($H$209:$H$575,_xlfn.AGGREGATE(15,6,(ROW($H$209:$H$575)-ROW($H$209)+1)/($H$209:$H$575<>\"\"),ROWS(G$2:G361))),\"\")","v":""},{"$f":"IF('Variance Request'!$C32=0,\"\",'Variance Request'!$C32)","v":""},{"$f":"IF('Variance Request'!$B32=0,\"\",'Variance Request'!$B32)","v":""}]
[null,null,null,null,null,null,{"$f":"IFERROR(INDEX($H$209:$H$575,_xlfn.AGGREGATE(15,6,(ROW($H$209:$H$575)-ROW($H$209)+1)/($H$209:$H$575<>\"\"),ROWS(G$2:G362))),\"\")","v":""},{"$f":"IF('Variance Request'!$C33=0,\"\",'Variance Request'!$C33)","v":""},{"$f":"IF('Variance Request'!$B33=0,\"\",'Variance Request'!$B33)","v":""}]
[null,null,null,null,null,null,{"$f":"IFERROR(INDEX($H$209:$H$575,_xlfn.AGGREGATE(15,6,(ROW($H$209:$H$575)-ROW($H$209)+1)/($H$209:$H$575<>\"\"),ROWS(G$2:G363))),\"\")","v":""},{"$f":"IF('Variance Request'!$C34=0,\"\",'Variance Request'!$C34)","v":""},{"$f":"IF('Variance Request'!$B34=0,\"\",'Variance Request'!$B34)","v":""}]
[null,null,null,null,null,null,{"$f":"IFERROR(INDEX($H$209:$H$575,_xlfn.AGGREGATE(15,6,(ROW($H$209:$H$575)-ROW($H$209)+1)/($H$209:$H$575<>\"\"),ROWS(G$2:G364))),\"\")","v":""},{"$f":"IF('Variance Request'!$C35=0,\"\",'Variance Request'!$C35)","v":""},{"$f":"IF('Variance Request'!$B35=0,\"\",'Variance Request'!$B35)","v":""}]
[null,null,null,null,null,null,{"$f":"IFERROR(INDEX($H$209:$H$575,_xlfn.AGGREGATE(15,6,(ROW($H$209:$H$575)-ROW($H$209)+1)/($H$209:$H$575<>\"\"),ROWS(G$2:G365))),\"\")","v":""},{"$f":"IF('Variance Request'!$C36=0,\"\",'Variance Request'!$C36)","v":""},{"$f":"IF('Variance Request'!$B36=0,\"\",'Variance Request'!$B36)","v":""}]
[null,null,null,null,null,null,{"$f":"IFERROR(INDEX($H$209:$H$575,_xlfn.AGGREGATE(15,6,(ROW($H$209:$H$575)-ROW($H$209)+1)/($H$209:$H$575<>\"\"),ROWS(G$2:G366))),\"\")","v":""},{"$f":"IF('Variance Request'!$C37=0,\"\",'Variance Request'!$C37)","v":""},{"$f":"IF('Variance Request'!$B37=0,\"\",'Variance Request'!$B37)","v":""}]
[null,null,null,null,null,null,{"$f":"IFERROR(INDEX($H$209:$H$575,_xlfn.AGGREGATE(15,6,(ROW($H$209:$H$575)-ROW($H$209)+1)/($H$209:$H$575<>\"\"),ROWS(G$2:G367))),\"\")","v":""},{"$f":"IF('Variance Request'!$C38=0,\"\",'Variance Request'!$C38)","v":""},{"$f":"IF('Variance Request'!$B38=0,\"\",'Variance Request'!$B38)","v":""}]
[null,null,null,null,null,null,{"$f":"IFERROR(INDEX($H$209:$H$575,_xlfn.AGGREGATE(15,6,(ROW($H$209:$H$575)-ROW($H$209)+1)/($H$209:$H$575<>\"\"),ROWS(G$2:G368))),\"\")","v":""},{"$f":"IF('Variance Request'!$C39=0,\"\",'Variance Request'!$C39)","v":""},{"$f":"IF('Variance Request'!$B39=0,\"\",'Variance Request'!$B39)","v":""}]

{"sheet":"Job  Sketch","index":10,"n_rows":53,"n_cols":42,"rows_kept":53,"cut":false,"hidden":false,"merged":[[54,2,60,41],[5,41,5,43],[5,36,5,40],[5,28,5,35],[5,22,5,27],[7,31,8,32],[7,33,8,36],[7,24,8,30],[7,39,8,40],[4,30,4,43],[7,37,8,38],[7,2,9,13],[52,2,53,19],[4,22,4,29],[4,0,4,6],[4,7,4,21],[5,0,5,6],[5,13,5,21],[5,7,5,12],[0,36,0,43],[1,36,1,43],[0,0,0,35],[1,0,1,35],[3,32,3,35],[2,0,2,43],[3,36,3,43],[3,10,3,31],[3,0,3,9]]}
["Natural Resources Conservation Service",null,null,null,null,null,null,null,null,null,null,null,null,null,null,null,null,null,null,null,null,null,null,null,null,null,null,null,null,null,null,null,null,null,null,null,"Field Office:"]
["Pacific Islands Conservation Practice Job Sketch",null,null,null,null,null,null,null,null,null,null,null,null,null,null,null,null,null,null,null,null,null,null,null,null,null,null,null,null,null,null,null,null,null,null,null,{"$f":"IF('Forestry Linear'!M2=\"\",\"\",'Forestry Linear'!M2)","v":""}]
[{"$f":"IF('Forestry Linear'!C3=\"\",\"\",'Forestry Linear'!C3)","v":"Use the Forestry Area Template for the Selected Practice"}]
["Sketch prepared by",null,null,null,null,null,null,null,null,null,null,null,null,null,null,null,null,null,null,null,null,null,null,null,null,null,null,null,null,null,null,null,"Date"]
["Client Name",null,null,null,null,null,null,{"$f":"IF('Forestry Linear'!F6=\"\",\"\",'Forestry Linear'!F6)","v":0},null,null,null,null,null,null,null,null,null,null,null,null,null,null,"Business Name",null,null,null,null,null,null,null,{"$f":"IF('Forestry Linear'!J6=\"\",\"\",'Forestry Linear'!J6)","v":0}]
["Tract Number",null,null,null,null,null,null,{"$f":"IF('Forestry Linear'!E7=\"\",\"\",'Forestry Linear'!E7)","v":0},null,null,null,null,null,"Field Number(s)",null,null,null,null,null,null,null,null,{"$f":"IF('Forestry Linear'!H7=\"\",\"\",'Forestry Linear'!H7)","v":0},null,null,null,null,null,"Planned Amount",null,null,null,null,null,null,null,{"$f":"IF('Forestry Linear'!N7=\"\",\"\",'Forestry Linear'!N7)","v":0},null,null,null,null,"feet"]
[]
[null,null,"Planting arrangment for \nportion of planned field",null,null,null,null,null,null,null,null,null,null,null,null,null,null,null,null,null,null,null,null,null,"Each grid cell  = ",null,null,null,null,null,null,null,null,"feet by",null,null,null,null,null,"feet"]
[]
[]
[]
[]
[]
[]
[]
[]
[]
[]
[]
[]
[]
[]
[]
[]
[]
[]
[]
[]
[]
[]
[]
[]
[]
[]
[]
[]
[]
[]
[]
[]
[]
[]
[]
[]
[]
[]
[]
[]
[]
[]
[]
[]
[null,null,"Additional Information/Requirements:"]

{"sheet":"Windbreak Example","index":11,"n_rows":67,"n_cols":48,"rows_kept":67,"cut":false,"hidden":false,"merged":[[47,47,48,76],[9,20,46,23],[48,20,83,23],[1,47,2,76],[66,45,68,75],[4,42,8,43],[45,42,49,43],[1,5,2,38],[4,47,5,76],[7,47,8,76],[22,47,23,76],[10,47,11,76],[4,2,4,21],[4,22,4,41],[13,47,14,76],[16,47,17,76],[19,47,20,76]]}
[]
[null,null,null,null,null,"Windbreak Example",null,null,null,null,null,null,null,null,null,null,null,null,null,null,null,null,null,null,null,null,null,null,null,null,null,null,null,null,null,null,null,null,null,null,null,null,null,null,null,null,null,"Prevailing winds are from due North."]
[]
[]
[null,null,"Segment 11.01",null,null,null,null,null,null,null,null,null,null,null,null,null,null,null,null,null,null,null,"Segment 11.02",null,null,null,null,null,null,null,null,null,null,null,null,null,null,null,null,null,null,null,"Set 1",null,null,null,null,"Entire diagram represents a 7.3 acre field (400' x 800')."]
[]
[null,null,null,null,null,null,null,null,null,null,null,null,null,null,null,null,null,null,"Segment 12.01"]
[null,null,null,null,null,null,null,null,null,null,null,null,null,null,null,null,null,null,null,null,null,null,null,null,null,null,null,null,null,null,null,null,null,null,null,null,null,null,null,null,null,null,null,null,null,null,null,"Each grid cell  =  10 feet x 10 feet. "]
[null,null,null,null,null,null,null,null,"Segment 13.01",null,null,null,null,null,null,null,null,null,null,null,null,null,null,null,null,null,null,null,null,"Segment 13.02"]
[null,null,null,null,null,null,null,null,null,null,null,null,null,null,null,null,null,null,null,null,"<----------------------------------- 400 feet ----------------------------------->"]
[null,null,null,null,null,null,null,null,null,null,null,null,null,null,null,null,null,null,null,null,null,null,null,null,null,null,null,null,null,null,null,null,null,null,null,null,null,null,null,null,null,null,null,null,null,null,null," Dwarf apple banana at 5' spacing."]
[]
[]
[null,null,null,null,null,null,null,null,null,null,null,null,null,null,null,null,null,null,null,null,null,null,null,null,null,null,null,null,null,null,null,null,null,null,null,null,null,null,null,null,null,null,null,null,null,null,null," Aalii at 5' spacing."]
[]
[]
[null,null,null,null,null,null,null,null,null,null,null,null,null,null,null,null,null,null,null,null,null,null,null,null,null,null,null,null,null,null,null,null,null,null,null,null,null,null,null,null,null,null,null,null,null,null,null," Acacia koaia at 10' spacing.  "]
[]
[]
[null,null,null,null,null,null,null,null,null,null,null,null,null,null,null,null,null,null,null,null,null,null,null,null,null,null,null,null,null,null,null,null,null,null,null,null,null,null,null,null,null,null,null,null,null,null,null," Honduran mahogany at 15' spacing (20 year height = 60')."]
[]
[]
[null,null,null,null,null,null,null,null,null,null,null,null,null,null,null,null,null,null,null,null,null,null,null,null,null,null,null,null,null,null,null,null,null,null,null,null,null,null,null,null,null,null,null,null,null,null,null," Manele (soapberry) at 15' spacing (20 year height = 60')."]
[]
[]
[]
[]
[]
[]
[]
[]
[]
[]
[]
[]
[]
[]
[]
[]
[]
[]
[]
[]
[]
[]
[null,null,null,null,null,null,null,null,null,null,null,null,null,null,null,null,null,null,null,null,null,null,null,null,null,null,null,null,null,null,null,null,null,null,null,null,null,null,null,null,null,null,"Set 2"]
[]
[null,null,null,null,null,null,null,null,null,null,null,null,null,null,null,null,null,null,"Segment 21.01",null,null,null,null,null,null,null,null,null,null,null,null,null,null,null,null,null,null,null,null,null,null,null,null,null,null,null,null,"Jackfruit at 10' spacing (20 year height = 60')."]
[null,null,null,null,null,null,null,null,null,null,null,null,null,null,null,null,null,null,null,null,"<-------------------------------- 380 feet --------------------------------->"]
[]
[]
[]
[]
[]
[]
[]
[]
[]
[]
[]
[]
[]
[]
[]
[]
[]
[null,null,null,null,null,null,null,null,null,null,null,null,null,null,null,null,null,null,null,null,null,null,null,null,null,null,null,null,null,null,null,null,null,null,null,null,null,null,null,null,null,null,null,null,null,"Approximate extent of leeward wind protection from Set 1 Row 3 = 600 feet."]

{"sheet":"Alley Cropping Example","index":12,"n_rows":44,"n_cols":48,"rows_kept":44,"cut":false,"hidden":false,"merged":[[1,5,2,38],[10,45,10,46],[11,45,11,46],[4,47,5,65],[7,47,8,65],[8,42,11,43],[10,47,11,65],[11,20,17,23],[18,47,19,65],[24,42,27,43],[32,42,35,43],[41,42,44,43],[19,20,25,23],[43,47,44,65],[27,20,33,23],[36,20,42,23],[16,42,19,43],[34,45,35,46],[34,47,35,65],[26,47,27,65]]}
[]
[null,null,null,null,null,"Alley Cropping Example"]
[]
[]
[null,null,null,null,null,null,null,null,null,null,null,null,null,null,null,null,null,null,null,null,null,null,null,null,null,null,null,null,null,null,null,null,null,null,null,null,null,null,null,null,null,null,null,null,null,null,null,"Entire diagram represents a 3.7 acre field."]
[]
[]
[null,null,null,null,null,null,null,null,null,null,null,null,null,null,null,null,null,null,null,null,null,null,null,null,null,null,null,null,null,null,null,null,null,null,null,null,null,null,null,null,null,null,null,null,null,null,null,"Each grid cell  =  10 feet x 10 feet. "]
[null,null,null,null,null,null,null,null,null,null,null,null,null,null,null,null,null,null,null,null,null,null,null,null,null,null,null,null,null,null,null,null,null,null,null,null,null,null,null,null,null,null,"Set 1"]
[]
[null,null,null,null,null,null,null,null,null,null,null,null,null,null,null,null,null,null,null,null,null,null,null,null,null,null,null,null,null,null,null,null,null,null,null,null,null,null,null,null,null,null,null,null,null,null,null,"Calamansi and lada at 12.5' spacing."]
[null,null,null,null,null,null,null,null,null,null,null,null,null,null,null,null,null,null,null,null,"< 80 feet >"]
[]
[]
[]
[]
[null,null,null,null,null,null,null,null,null,null,null,null,null,null,null,null,null,null,null,null,null,null,null,null,null,null,null,null,null,null,null,null,null,null,null,null,null,null,null,null,null,null,"Set 2"]
[]
[null,null,null,null,null,null,null,null,null,null,null,null,null,null,null,null,null,null,null,null,null,null,null,null,null,null,null,null,null,null,null,null,null,null,null,null,null,null,null,null,null,null,null,null,null,null,null,"Double row of Leucaena at 3'x3' spacing."]
[null,null,null,null,null,null,null,null,null,null,null,null,null,null,null,null,null,null,null,null,"< 80 feet >"]
[]
[]
[]
[]
[null,null,null,null,null,null,null,null,null,null,null,null,null,null,null,null,null,null,null,null,null,null,null,null,null,null,null,null,null,null,null,null,null,null,null,null,null,null,null,null,null,null,"Set 3"]
[]
[null,null,null,null,null,null,null,null,null,null,null,null,null,null,null,null,null,null,null,null,null,null,null,null,null,null,null,null,null,null,null,null,null,null,null,null,null,null,null,null,null,null,null,null,null,null,null,"Dugdug at 40' spacing."]
[null,null,null,null,null,null,null,null,null,null,null,null,null,null,null,null,null,null,null,null,"< 80 feet >"]
[]
[]
[]
[]
[null,null,null,null,null,null,null,null,null,null,null,null,null,null,null,null,null,null,null,null,null,null,null,null,null,null,null,null,null,null,null,null,null,null,null,null,null,null,null,null,null,null,"Set 4"]
[]
[null,null,null,null,null,null,null,null,null,null,null,null,null,null,null,null,null,null,null,null,null,null,null,null,null,null,null,null,null,null,null,null,null,null,null,null,null,null,null,null,null,null,null,null,null,null,null,"Double row of daok at 15'x15' spacing."]
[]
[null,null,null,null,null,null,null,null,null,null,null,null,null,null,null,null,null,null,null,null,"< 80 feet >"]
[]
[]
[]
[]
[null,null,null,null,null,null,null,null,null,null,null,null,null,null,null,null,null,null,null,null,null,null,null,null,null,null,null,null,null,null,null,null,null,null,null,null,null,null,null,null,null,null,"Set 5"]
[]
[null,null,null,null,null,null,null,null,null,null,null,null,null,null,null,null,null,null,null,null,null,null,null,null,null,null,null,null,null,null,null,null,null,null,null,null,null,null,null,null,null,null,null,null,null,null,null,"Ahgao at 10' spacing."]

{"sheet":"Variance Request","index":13,"n_rows":107,"n_cols":43,"rows_kept":107,"cut":false,"hidden":false,"merged":[[13,7,13,11],[2,5,2,6],[0,0,0,6],[6,2,6,6],[7,5,7,6],[11,0,12,6],[10,0,10,6],[5,5,5,6],[4,5,4,6],[3,5,3,6],[2,0,2,1],[5,2,5,4],[3,2,3,4],[3,0,3,1],[4,2,4,4],[4,0,4,1],[9,0,9,3],[7,3,7,4],[1,5,1,6],[39,2,39,6],[9,5,9,6],[2,2,2,4],[39,0,39,1],[8,0,8,1],[7,0,7,1],[6,0,6,1],[5,0,5,1]]}
["NRCS PIA Planting Practices Species Variance Request",null,null,null,null,null,null,null,null,null,null,null,null,null,null,null,null,null,null,null,null,null,null,"American Samoa","Alley Cropping (311)","keep this cell as is","Must select a practice in User Forms","No","Approved",null,null,null,null,"Formula below drives data validation in cell C7 using named ranges, keep assist with future changes to CPS and associated purposes"]
[null,null,null,null,null,null,null,null,null,null,null,null,null,null,null,null,null,null,null,null,null,null,null,"Guam","Conservation Cover (327)","Alley Cropping (311)","\tEnhance microclimatic conditions to improve crop or forage quality and quantity","Yes","Denied",null,null,null,null,{"$f":"IF(C6=Y1,A,IF(C6=Y2,B,IF(C6=Y3,D,IF(C6=Y4,E,IF(C6=Y5,F,IF(C6=Y6,G,IF(C6=Y7,H,IF(C6=Y8,I,IF(C6=Y9,J,IF(C6=Y10,K,IF(C6=Y11,L,IF(C6=Y12,M,IF(C6=Y13,N,IF(C6=Y14,O,IF(C6=Y15,P,IF(C6=Y16,Q,IF(C6=Y17,S,Z)))))))))))))))))","v":"Must select a practice in User Forms"}]
["Field Office:",null,{"$f":"IF(AND('Forestry Area'!L2<>\"\",'Forestry Linear'!M2<>\"\"),\"ERR-clear either for. area or linear sheet\",IF('Forestry Area'!L2<>\"\",'Forestry Area'!L2,IF('Forestry Linear'!M2<>\"\",'Forestry Linear'!M2,\"\")))","v":""},null,null,null,null,null,null,null,null,null,null,null,null,null,null,null,null,null,null,null,null,"Hilo","Cover Crop (340)","Alley Cropping (311)","\tReduce surface water runoff and erosion",null,null,null,null,null,null,null,null,null,null,null,null,null,null,null,"2016-07-12"]
["Planner: ",null,{"$f":"'Veg Guide Data Base'!B1398","v":0},null,null,null,null,null,null,null,null,null,null,null,null,null,null,null,null,null,null,null,null,"Hoolehua","Critical Area Planting (342)","Alley Cropping (311)","Improve soil health by increasing utilization and cycling of nutrients",null,null,null,null,null,null,null,null,null,null,null,null,null,null,null,42563]
["Cooperator: ",null,{"$f":"'Veg Guide Data Base'!B1402","v":0},null,null,null,null,null,null,null,null,null,null,null,null,null,null,null,null,null,null,null,null,"Kahului","Field Border (386)","Alley Cropping (311)","Alter subsurface water quantity or water table depths"]
["Conservation Practice:",null,{"$f":"'Veg Guide Data Base'!A2","v":"All Species"},null,null,null,null,null,null,null,null,null,null,null,null,null,null,null,null,null,null,null,null,"Kealakekua","Forage and Biomass Planting (512)","Alley Cropping (311)","E\tnhance wildlilfe and beneficial insect habitat"]
["Practice Purpose:",null,{"$f":"IF(AND('Forestry Area'!F11<>\"\",'Forestry Linear'!G11<>\"\"),\"ERR-clear either for. area or linear sheet\",IF('Forestry Area'!F11<>\"\",'Forestry Area'!F11,IF('Forestry Linear'!G11<>\"\",'Forestry Linear'!G11,\"\")))","v":""},null,null,null,null,null,null,null,null,null,null,null,null,null,null,null,null,null,null,null,null,"Lihue","Grassed Waterway (412)","Alley Cropping (311)","\tDecrease offsite movement of nutrients or chemicals"]
["Site Annual Rainfall (inches):",null,{"$f":"'Veg Guide Data Base'!C6","v":0},"Site Elevation:",null,{"$f":"'Veg Guide Data Base'!C7","v":0},null,null,null,null,null,null,null,null,null,null,null,null,null,null,null,null,null,"Oahu","Hedgerow Planting (422)","Alley Cropping (311)","\tIncrease carbon storage in plant biomass and soils"]
[null,null,null,null,null,null,null,null,null,null,null,null,null,null,null,null,null,null,null,null,null,null,null,"Palau","Herbaceous Wind Barriers (603)","Alley Cropping (311)","Develop renewable energy systems"]
["Will there be moderate or heavy shade from existing desirable plants after site preparation work is completed?:",null,null,null,null,null,null,null,null,null,null,null,null,null,null,null,null,null,null,null,null,null,null,"Pohnpei","Forest Farming (379)","Alley Cropping (311)","Improve air quality"]
["Site conditions that may limit plant potential or other considerations (wildlife target species, etc.):",null,null,null,null,null,null,null,null,null,null,null,null,null,null,null,null,null,null,null,null,null,null,"Saipan","Range Planting (550)","Conservation Cover (327)","Reduce sheet, rill and wind erosion and sedimentation "]
[null,null,null,null,null,null,null,null,null,null,null,null,null,null,null,null,null,null,null,null,null,null,null,"Waimea","Riparian Forest Buffer (391)","Conservation Cover (327)","Reduce ground and surface water quality degradation by nutrients and surface water quality degradation by sediment"]
[null,null,null,null,null,null,null,null,null,null,null,null,null,null,null,null,null,null,null,null,null,null,null,"Marshall Islands","Riparian Herbaceous Cover (390)","Conservation Cover (327)","Reduce emissions of particulate matter (PM), PM precursors, and greenhouse gases"]
["Item No.","Scientific name","Common name","HPWRA score","Variance Request","Habit","Notes","Hawaii Pacific Weed Risk Assessment (HPWRA)",null,null,null,null,null,null,null,null,null,null,null,null,null,null,null,null,"Silvopasture (381)","Conservation Cover (327)","Enhance wildlife, pollinator and beneficial organism habitat"]
[1,null,null,null,null,null,null,null,null,null,null,null,null,null,null,null,null,null,null,null,null,null,null,null,"Tree/Shrub Establishment (612)","Conservation Cover (327)","Improve soil health              "]
[2,null,null,null,null,null,null,null,null,null,null,null,null,null,null,null,null,null,null,null,null,null,"Tree",null,"Vegetative Barrier (601)","Cover Crop (340)","Reduce erosion from wind and water     "]
[3,null,null,null,null,null,null,null,null,null,null,null,null,null,null,null,null,null,null,null,null,null,"Shrub",null,"Windbreak/Shelterbelt Establishment (380)","Cover Crop (340)","Maintain or increase soil health and organic matter content"]
[4,null,null,null,null,null,null,null,null,null,null,null,null,null,null,null,null,null,null,null,null,null,"Vine-woody",null,null,"Cover Crop (340)","Reduce water quality degradation by utilizing excessive soil nutrients"]
[5,null,null,null,null,null,null,null,null,null,null,null,null,null,null,null,null,null,null,null,null,null,"Vine-herb",null,null,"Cover Crop (340)","Suppress excessive weed pressures and break pest cycles"]
[6,null,null,null,null,null,null,null,null,null,null,null,null,null,null,null,null,null,null,null,null,null,"Herb",null,null,"Cover Crop (340)","Improve soil moisture use efficiency"]
[7,null,null,null,null,null,null,null,null,null,null,null,null,null,null,null,null,null,null,null,null,null,null,null,null,"Cover Crop (340)","Minimize soil compaction"]
[8,null,null,null,null,null,null,null,null,null,null,null,null,null,null,null,null,null,null,null,null,null,null,null,null,"Critical Area Planting (342)","Stabilize stream and channel banks, pond and other shorelines."]
[9,null,null,null,null,null,null,null,null,null,null,null,null,null,null,null,null,null,null,null,null,null,null,null,null,"Critical Area Planting (342)","Stabilize areas with existing or expected high rates of soil erosion by wind or water"]
[10,null,null,null,null,null,null,null,null,null,null,null,null,null,null,null,null,null,null,null,null,null,null,null,null,"Critical Area Planting (342)","Stabilize areas, such as sand dunes and riparian areas"]
[11,null,null,null,null,null,null,null,null,null,null,null,null,null,null,null,null,null,null,null,null,null,null,null,null,"Field Border (386)","Reduce erosion from wind and water"]
[12,null,null,null,null,null,null,null,null,null,null,null,null,null,null,null,null,null,null,null,null,null,null,null,null,"Field Border (386)","Protect soil and water quality"]
[13,null,null,null,null,null,null,null,null,null,null,null,null,null,null,null,null,null,null,null,null,null,null,null,null,"Field Border (386)","Provide wildlife food and cover and pollinator or other beneficial organism habitat"]
[14,null,null,null,null,null,null,null,null,null,null,null,null,null,null,null,null,null,null,null,null,null,null,null,null,"Field Border (386)","Increase carbon storage"]
[15,null,null,null,null,null,null,null,null,null,null,null,null,null,null,null,null,null,null,null,null,null,null,null,null,"Field Border (386)","Improve air quality"]
[16,null,null,null,null,null,null,null,null,null,null,null,null,null,null,null,null,null,null,null,null,null,null,null,null,"Forage and Biomass Planting (512)","Improve or maintain livestock nutrition and/or health"]
[17,null,null,null,null,null,null,null,null,null,null,null,null,null,null,null,null,null,null,null,null,null,null,null,null,"Forage and Biomass Planting (512)","Provide or increase forage supply during periods of low forage production"]
[18,null,null,null,null,null,null,null,null,null,null,null,null,null,null,null,null,null,null,null,null,null,null,null,null,"Forage and Biomass Planting (512)","Reduce soil erosion"]
[19,null,null,null,null,null,null,null,null,null,null,null,null,null,null,null,null,null,null,null,null,null,null,null,null,"Forage and Biomass Planting (512)","Improve soil and water quality"]
[20,null,null,null,null,null,null,null,null,null,null,null,null,null,null,null,null,null,null,null,null,null,null,null,null,"Forage and Biomass Planting (512)","Produce feedstock for biofuel or energy production"]
[21,null,null,null,null,null,null,null,null,null,null,null,null,null,null,null,null,null,null,null,null,null,null,null,null,"Grassed Waterway (412)","To convey runoff from terraces, diversions, or other water concentrations without causing erosion or flooding"]
[22,null,null,null,null,null,null,null,null,null,null,null,null,null,null,null,null,null,null,null,null,null,null,null,null,"Grassed Waterway (412)","To prevent gully formation"]
[23,null,null,null,null,null,null,null,null,null,null,null,null,null,null,null,null,null,null,null,null,null,null,null,null,"Grassed Waterway (412)","To protect/improve water quality"]
[24,null,null,null,null,null,null,null,null,null,null,null,null,null,null,null,null,null,null,null,null,null,null,null,null,"Hedgerow Planting (422)","Habitat, including food, cover, and corridors for terrestrial wildlife"]
[25,null,null,null,null,null,null,null,null,null,null,null,null,null,null,null,null,null,null,null,null,null,null,null,null,"Hedgerow Planting (422)","To enhance pollen, nectar, and nesting habitat for pollinators"]
["Authorized Signature:",null,null,null,null,null,null,null,null,null,null,null,null,null,null,null,null,null,null,null,null,null,null,null,null,"Hedgerow Planting (422)","Food, cover, and shade for aquatic organisms that live in adjacent streams or watercourses"]
[null,null,null,null,null,null,null,null,null,null,null,null,null,null,null,null,null,null,null,null,null,null,null,null,null,"Hedgerow Planting (422)","To provide substrate for predaceous and beneficial invertebrates as a component of integrated pest management"]
[null,null,null,null,null,null,null,null,null,null,null,null,null,null,null,null,null,null,null,null,null,null,null,null,null,"Hedgerow Planting (422)","To intercept airborne particulate matter"]
[null,null,null,null,null,null,null,null,null,null,null,null,null,null,null,null,null,null,null,null,null,null,null,null,null,"Hedgerow Planting (422)","To reduce chemical drift and odor movement"]
[null,null,null,null,null,null,null,null,null,null,null,null,null,null,null,null,null,null,null,null,null,null,null,null,null,"Hedgerow Planting (422)","Screens and barriers to noise and dust"]
[null,null,null,null,null,null,null,null,null,null,null,null,null,null,null,null,null,null,null,null,null,null,null,null,null,"Hedgerow Planting (422)","To increase carbon storage in biomass and soils"]
[null,null,null,null,null,null,null,null,null,null,null,null,null,null,null,null,null,null,null,null,null,null,null,null,null,"Hedgerow Planting (422)","Living fences"]
[null,null,null,null,null,null,null,null,null,null,null,null,null,null,null,null,null,null,null,null,null,null,null,null,null,"Hedgerow Planting (422)","Boundary delineation and contour guidelines"]
[null,null,null,null,null,null,null,null,null,null,null,null,null,null,null,null,null,null,null,null,null,null,null,null,null,"Herbaceous Wind Barriers (603)","Reduce soil erosion from wind"]
[null,null,null,null,null,null,null,null,null,null,null,null,null,null,null,null,null,null,null,null,null,null,null,null,null,"Herbaceous Wind Barriers (603)","Reduce soil particulate emissions to the air"]
[null,null,null,null,null,null,null,null,null,null,null,null,null,null,null,null,null,null,null,null,null,null,null,null,null,"Herbaceous Wind Barriers (603)","Protect growing crops from damage by wind or wind-borne soil particles"]
[null,null,null,null,null,null,null,null,null,null,null,null,null,null,null,null,null,null,null,null,null,null,null,null,null,"Forest Farming (379)","Improve crop diversity by growing mixed but compatible crops having different heights on the same area"]
[null,null,null,null,null,null,null,null,null,null,null,null,null,null,null,null,null,null,null,null,null,null,null,null,null,"Forest Farming (379)","Improve soil quality by increasing utilization and cycling of nutrients and maintaining or increasing soil organic matter"]
[null,null,null,null,null,null,null,null,null,null,null,null,null,null,null,null,null,null,null,null,null,null,null,null,null,"Forest Farming (379)","Increase net carbon storage in plant biomass and soil"]
[null,null,null,null,null,null,null,null,null,null,null,null,null,null,null,null,null,null,null,null,null,null,null,null,null,"Range Planting (550)","Restore a plant community similar to the Ecological Site Description reference state for the site or the desired plant commnunity"]
[null,null,null,null,null,null,null,null,null,null,null,null,null,null,null,null,null,null,null,null,null,null,null,null,null,"Range Planting (550)","Provide or improve forages for livestock"]
[null,null,null,null,null,null,null,null,null,null,null,null,null,null,null,null,null,null,null,null,null,null,null,null,null,"Range Planting (550)","Provide or improve forage, browse, or cover for wildlife"]
[null,null,null,null,null,null,null,null,null,null,null,null,null,null,null,null,null,null,null,null,null,null,null,null,null,"Range Planting (550)","Reduce erosion by wind and/or water"]
[null,null,null,null,null,null,null,null,null,null,null,null,null,null,null,null,null,null,null,null,null,null,null,null,null,"Range Planting (550)","Improve water quality and quantity"]
[null,null,null,null,null,null,null,null,null,null,null,null,null,null,null,null,null,null,null,null,null,null,null,null,null,"Range Planting (550)","Increase carbon sequestration"]
[null,null,null,null,null,null,null,null,null,null,null,null,null,null,null,null,null,null,null,null,null,null,null,null,null,"Riparian Forest Buffer (391)","Create shade to lower or maintain water temperatures to improve habitat for aquatic organisms"]
[null,null,null,null,null,null,null,null,null,null,null,null,null,null,null,null,null,null,null,null,null,null,null,null,null,"Riparian Forest Buffer (391)","Create or improve riparian habitat and provide a source of detritus and large woody debris"]
[null,null,null,null,null,null,null,null,null,null,null,null,null,null,null,null,null,null,null,null,null,null,null,null,null,"Riparian Forest Buffer (391)","Reduce excess sediment, organic material, nutrients & pesticides in surface runoff & reduce excess nutrients & other chemicals in shallow ground water flow"]
[null,null,null,null,null,null,null,null,null,null,null,null,null,null,null,null,null,null,null,null,null,null,null,null,null,"Riparian Forest Buffer (391)","Reduce pesticide drift entering the water body"]
[null,null,null,null,null,null,null,null,null,null,null,null,null,null,null,null,null,null,null,null,null,null,null,null,null,"Riparian Forest Buffer (391)","Restore riparian plant communities"]
[null,null,null,null,null,null,null,null,null,null,null,null,null,null,null,null,null,null,null,null,null,null,null,null,null,"Riparian Forest Buffer (391)","Increase carbon storage in plant biomass and soils"]
[null,null,null,null,null,null,null,null,null,null,null,null,null,null,null,null,null,null,null,null,null,null,null,null,null,"Riparian Herbaceous Cover (390)","Provide or improve food and cover for fish, wildlife and livestock"]
[null,null,null,null,null,null,null,null,null,null,null,null,null,null,null,null,null,null,null,null,null,null,null,null,null,"Riparian Herbaceous Cover (390)","Improve and maintain water quality"]
[null,null,null,null,null,null,null,null,null,null,null,null,null,null,null,null,null,null,null,null,null,null,null,null,null,"Riparian Herbaceous Cover (390)","Establish and maintain habitat corridors"]
[null,null,null,null,null,null,null,null,null,null,null,null,null,null,null,null,null,null,null,null,null,null,null,null,null,"Riparian Herbaceous Cover (390)","Increase water storage on floodplains"]
[null,null,null,null,null,null,null,null,null,null,null,null,null,null,null,null,null,null,null,null,null,null,null,null,null,"Riparian Herbaceous Cover (390)","Reduce erosion and improve stability to stream banks and shorelines"]
[null,null,null,null,null,null,null,null,null,null,null,null,null,null,null,null,null,null,null,null,null,null,null,null,null,"Riparian Herbaceous Cover (390)","Increase net carbon storage in the biomass and soil"]
[null,null,null,null,null,null,null,null,null,null,null,null,null,null,null,null,null,null,null,null,null,null,null,null,null,"Riparian Herbaceous Cover (390)","Enhance pollen, nectar, and nesting habitat for pollinators"]
[null,null,null,null,null,null,null,null,null,null,null,null,null,null,null,null,null,null,null,null,null,null,null,null,null,"Riparian Herbaceous Cover (390)","Restore, improve or maintain the desired plant communities"]
[null,null,null,null,null,null,null,null,null,null,null,null,null,null,null,null,null,null,null,null,null,null,null,null,null,"Riparian Herbaceous Cover (390)","Dissipate stream energy and trap sediment"]
[null,null,null,null,null,null,null,null,null,null,null,null,null,null,null,null,null,null,null,null,null,null,null,null,null,"Riparian Herbaceous Cover (390)","Enhance stream bank protection as part of stream bank soil bioengineering practices"]
[null,null,null,null,null,null,null,null,null,null,null,null,null,null,null,null,null,null,null,null,null,null,null,null,null,"Silvopasture (381)","Provide forage, shade and/or shelter for livestock"]
[null,null,null,null,null,null,null,null,null,null,null,null,null,null,null,null,null,null,null,null,null,null,null,null,null,"Silvopasture (381)","Improve the productivity and health of trees/shrubs and forages"]
[null,null,null,null,null,null,null,null,null,null,null,null,null,null,null,null,null,null,null,null,null,null,null,null,null,"Silvopasture (381)","Improve water quality"]
[null,null,null,null,null,null,null,null,null,null,null,null,null,null,null,null,null,null,null,null,null,null,null,null,null,"Silvopasture (381)","Reduce erosion"]
[null,null,null,null,null,null,null,null,null,null,null,null,null,null,null,null,null,null,null,null,null,null,null,null,null,"Silvopasture (381)","Enhance wildlife habitat"]
[null,null,null,null,null,null,null,null,null,null,null,null,null,null,null,null,null,null,null,null,null,null,null,null,null,"Silvopasture (381)","Improve biological diversity"]
[null,null,null,null,null,null,null,null,null,null,null,null,null,null,null,null,null,null,null,null,null,null,null,null,null,"Silvopasture (381)","Improve soil quality"]
[null,null,null,null,null,null,null,null,null,null,null,null,null,null,null,null,null,null,null,null,null,null,null,null,null,"Silvopasture (381)","Increase carbon sequestration and storage"]
[null,null,null,null,null,null,null,null,null,null,null,null,null,null,null,null,null,null,null,null,null,null,null,null,null,"Silvopasture (381)","Provide for beneficial organisms and pollinators"]
[null,null,null,null,null,null,null,null,null,null,null,null,null,null,null,null,null,null,null,null,null,null,null,null,null,"Tree/Shrub Establishment (612)","Maintain or improve desirable plant diversity, productivity, and health by establishing woody plants"]
[null,null,null,null,null,null,null,null,null,null,null,null,null,null,null,null,null,null,null,null,null,null,null,null,null,"Tree/Shrub Establishment (612)","Create or improve habitat for desired wildlife species compatible with ecological characteristics of the site"]
[null,null,null,null,null,null,null,null,null,null,null,null,null,null,null,null,null,null,null,null,null,null,null,null,null,"Tree/Shrub Establishment (612)","Control erosion"]
[null,null,null,null,null,null,null,null,null,null,null,null,null,null,null,null,null,null,null,null,null,null,null,null,null,"Tree/Shrub Establishment (612)","Improve water quality.  Reduce excess nutrients and other pollutants in runoff and groundwater"]
[null,null,null,null,null,null,null,null,null,null,null,null,null,null,null,null,null,null,null,null,null,null,null,null,null,"Tree/Shrub Establishment (612)","Sequester and store carbon"]
[null,null,null,null,null,null,null,null,null,null,null,null,null,null,null,null,null,null,null,null,null,null,null,null,null,"Tree/Shrub Establishment (612)","Restore or maintain native plant communities"]
[null,null,null,null,null,null,null,null,null,null,null,null,null,null,null,null,null,null,null,null,null,null,null,null,null,"Tree/Shrub Establishment (612)","Develop renewable energy systems"]
[null,null,null,null,null,null,null,null,null,null,null,null,null,null,null,null,null,null,null,null,null,null,null,null,null,"Tree/Shrub Establishment (612)","Conserve energy"]
[null,null,null,null,null,null,null,null,null,null,null,null,null,null,null,null,null,null,null,null,null,null,null,null,null,"Tree/Shrub Establishment (612)","Provide for beneficial organisms and pollinators"]
[null,null,null,null,null,null,null,null,null,null,null,null,null,null,null,null,null,null,null,null,null,null,null,null,null,"Vegetative Barrier (601)","Reduce sheet and rill erosion"]
[null,null,null,null,null,null,null,null,null,null,null,null,null,null,null,null,null,null,null,null,null,null,null,null,null,"Vegetative Barrier (601)","Reduce ephemeral gully erosion"]
[null,null,null,null,null,null,null,null,null,null,null,null,null,null,null,null,null,null,null,null,null,null,null,null,null,"Vegetative Barrier (601)","Manage water flow"]
[null,null,null,null,null,null,null,null,null,null,null,null,null,null,null,null,null,null,null,null,null,null,null,null,null,"Vegetative Barrier (601)","Stabilize steep slopes"]
[null,null,null,null,null,null,null,null,null,null,null,null,null,null,null,null,null,null,null,null,null,null,null,null,null,"Vegetative Barrier (601)","Trap sediment"]
[null,null,null,null,null,null,null,null,null,null,null,null,null,null,null,null,null,null,null,null,null,null,null,null,null,"Windbreak/Shelterbelt Establishment (380)","Reduce soil erosion from wind"]
[null,null,null,null,null,null,null,null,null,null,null,null,null,null,null,null,null,null,null,null,null,null,null,null,null,"Windbreak/Shelterbelt Establishment (380)","Protect plants from wind related damage"]
[null,null,null,null,null,null,null,null,null,null,null,null,null,null,null,null,null,null,null,null,null,null,null,null,null,"Windbreak/Shelterbelt Establishment (380)","Alter the microenvironment for enhancing plant growth"]
[null,null,null,null,null,null,null,null,null,null,null,null,null,null,null,null,null,null,null,null,null,null,null,null,null,"Windbreak/Shelterbelt Establishment (380)","Provide shelter for structures, animals, and people"]
[null,null,null,null,null,null,null,null,null,null,null,null,null,null,null,null,null,null,null,null,null,null,null,null,null,"Windbreak/Shelterbelt Establishment (380)","Enhance wildlife habitat"]
[null,null,null,null,null,null,null,null,null,null,null,null,null,null,null,null,null,null,null,null,null,null,null,null,null,"Windbreak/Shelterbelt Establishment (380)","Improve air quality by reducing and intercepting air borne particulate matter, chemicals and odors"]
[null,null,null,null,null,null,null,null,null,null,null,null,null,null,null,null,null,null,null,null,null,null,null,null,null,"Windbreak/Shelterbelt Establishment (380)","Improve irrigation effeciency"]
[null,null,null,null,null,null,null,null,null,null,null,null,null,null,null,null,null,null,null,null,null,null,null,null,null,"Windbreak/Shelterbelt Establishment (380)","Increase carbon storage in biomass and soils"]
[null,null,null,null,null,null,null,null,null,null,null,null,null,null,null,null,null,null,null,null,null,null,null,null,null,"Windbreak/Shelterbelt Establishment (380)","Reduce energy use"]