{"text_format":"1","workbook":"xlsx","n_sheets":7,"sheets":["Seed Plan","Seeding Plan Cover Sheet","Sheet3","Seeding Checkout","Fertilizer","Prepared Seed Mixes","Mixed Seed Tags"],"not_rendered":{"charts":0,"images":126,"macros":1,"external_links":0,"defined_names":16,"comments":0,"pivot_tables":0},"unopened":[],"bounds":{"document_bytes":16777216,"sheet_cells":100000,"rows_first":2000,"rows_last":500,"rows_between":2000,"halvings":0,"cell_chars":16384,"cell_head_chars":4096},"cells_cut":0,"cells_raw":0,"read":"whole","date_system":"1900"}

{"sheet":"Seed Plan","index":0,"n_rows":75,"n_cols":15,"rows_kept":75,"cut":false,"hidden":false,"merged":[[73,0,73,2],[73,6,73,7],[25,12,28,12],[25,11,28,11],[2,1,2,2],[2,4,2,5],[2,6,2,7],[4,1,4,4],[4,7,4,9],[6,1,6,2],[6,8,6,9],[25,9,28,9],[2,9,2,10],[13,0,13,10],[14,0,14,10],[16,0,16,10],[17,0,19,10],[25,0,28,2],[9,8,9,9],[21,5,21,6],[8,8,8,9],[24,0,24,10],[41,3,41,4],[42,0,42,2],[5,14,5,16],[8,0,9,1],[8,2,8,5],[9,2,9,5],[10,2,10,5],[25,10,28,10],[37,3,37,4],[38,0,38,2],[38,3,38,4],[35,0,35,2],[35,3,35,4],[33,0,33,2],[33,3,33,4],[34,0,34,2],[32,0,32,2],[32,3,32,4],[34,3,34,4],[25,3,28,4],[25,5,28,5],[29,0,29,2],[29,3,29,4],[25,6,27,6],[25,7,27,7],[25,8,27,8],[39,0,39,2],[39,3,39,4],[40,0,40,2],[40,3,40,4],[36,3,36,4],[36,0,36,2],[37,0,37,2],[70,0,70,2],[41,0,41,2],[52,17,53,17],[48,10,48,11],[56,15,57,15],[56,16,57,16],[56,17,57,17],[62,14,63,14],[62,15,63,15],[62,16,63,16],[62,17,63,17],[56,14,57,14],[52,14,53,14],[52,15,53,15],[52,16,53,16],[80,11,80,12],[65,14,66,14],[65,15,66,15],[65,16,66,16],[65,17,66,17],[55,0,55,2],[73,11,73,12],[74,11,74,12],[76,10,77,10],[76,11,76,12],[77,11,77,12],[67,11,67,12],[69,10,69,11],[70,10,72,10],[55,5,57,5],[55,6,57,7],[58,3,58,4],[58,0,58,2],[56,0,57,2],[58,6,58,7],[55,3,57,4],[67,0,67,2],[67,6,67,7],[70,6,70,7],[0,0,0,10],[78,11,78,12],[79,11,79,12],[70,11,70,12],[71,11,71,12],[72,11,72,12],[48,0,48,1],[53,0,53,2],[53,3,53,4],[53,7,53,8],[50,0,50,2],[50,7,52,8],[50,5,52,5],[50,6,52,6],[51,0,52,2],[50,3,52,4],[22,5,22,6],[30,0,30,2],[30,3,30,4],[31,0,31,2],[31,3,31,4],[43,0,43,2],[43,3,43,4],[42,3,42,4]]}
["SEEDING PLAN AND RECORD",null,null,null,null,null,null,null,null,null,null,null,null,null,true]
[null,null,null,null,null,null,null,null,null,null,null,null,null,null,false]
["Date:",{"$f":"TODAY()","v":"2021-09-20"},null,null,"Paddock/Field No:",null,"",null,"Acres:",null,null,null,null,null,true]
[]
["Cooperator:",null,null,null,null,null,"Conservationist:"]
[]
["Program:",null,null,null,"Practice No:",null,null,"Practice Name:"]
[]
["Drainage Class",null,null,null,null,null,null,null,"TYPE OF PLANTING"]
[]
[]
[]
[]
["Seeding Dates"]
[]
[]
["Seeding Method and Seedbed Preparation"]
[]
[]
[]
[]
[null,null,null,null,null,"Companion Crop"]
[]
[]
["SEEDING PLAN TABLE"]
["Seed Species",null,null,"Variety or Seed Source",null,"Seeds/lb","PLS Rate Planned","Acres","Seeds/Sqft","Total PLS lbs","% in Mixture"]
[]
[]
[]
["",null,null,"",null,{"$f":"IF(A30=\"\",0,VLOOKUP(A30,Sheet3!$A$282:$D$322,2,FALSE))","v":0},null,{"$f":"$J$3","v":0},{"$f":"IF(A30=\"\",\"\",(F30*G30)/43560)","v":""},{"$f":"IF(A30 = \"\",\"\",H30*G30)","v":""},{"$f":"IF(A30=\"\",\"\",I30/$I$45)","v":""}]
["",null,null,"",null,{"$f":"IF(A31=\"\",0,VLOOKUP(A31,Sheet3!$A$282:$D$322,2,FALSE))","v":0},null,{"$f":"$J$3","v":0},{"$f":"IF(A31=\"\",\"\",(F31*G31)/43560)","v":""},{"$f":"IF(A31 = \"\",\"\",H31*G31)","v":""},{"$f":"IF(A31=\"\",\"\",I31/$I$45)","v":""}]
["",null,null,"",null,{"$f":"IF(A32=\"\",0,VLOOKUP(A32,Sheet3!$A$282:$D$322,2,FALSE))","v":0},null,0,{"$f":"IF(A32=\"\",\"\",(F32*G32)/43560)","v":""},"",""]
["",null,null,"",null,{"$f":"IF(A33=\"\",0,VLOOKUP(A33,Sheet3!$A$282:$D$322,2,FALSE))","v":0},null,0,{"$f":"IF(A33=\"\",\"\",(F33*G33)/43560)","v":""},"",""]
["",null,null,"",null,{"$f":"IF(A34=\"\",0,VLOOKUP(A34,Sheet3!$A$282:$D$322,2,FALSE))","v":0},null,0,"","",""]
["",null,null,"",null,{"$f":"IF(A35=\"\",0,VLOOKUP(A35,Sheet3!$A$282:$D$322,2,FALSE))","v":0},null,0,"","",""]
["",null,null,"",null,{"$f":"IF(A36=\"\",0,VLOOKUP(A36,Sheet3!$A$282:$D$322,2,FALSE))","v":0},null,0,"","",""]
["",null,null,"",null,{"$f":"IF(A37=\"\",0,VLOOKUP(A37,Sheet3!$A$282:$D$322,2,FALSE))","v":0},null,0,"","",""]
["",null,null,"",null,{"$f":"IF(A38=\"\",0,VLOOKUP(A38,Sheet3!$A$282:$D$322,2,FALSE))","v":0},null,0,"","",""]
["",null,null,"",null,{"$f":"IF(A39=\"\",0,VLOOKUP(A39,Sheet3!$A$282:$D$322,2,FALSE))","v":0},null,0,"","",""]
["",null,null,"",null,{"$f":"IF(A40=\"\",0,VLOOKUP(A40,Sheet3!$A$282:$D$322,2,FALSE))","v":0},null,0,"","",""]
["",null,null,"",null,{"$f":"IF(A41=\"\",0,VLOOKUP(A41,Sheet3!$A$282:$D$322,2,FALSE))","v":0},null,0,"","",""]
["OTHER",null,null,"",null,"",null,0,{"$f":"IF(A42=\"OTHER\",\"\",(F42*G42)/43560)","v":""},{"$f":"IF(A42 = \"OTHER\",\"\",H42*G42)","v":""},{"$f":"IF(A42=\"OTHER\",\"\",I42/$I$45)","v":""}]
["OTHER",null,null,"",null,"",null,0,{"$f":"IF(A43=\"OTHER\",\"\",(F43*G43)/43560)","v":""},{"$f":"IF(A43 = \"OTHER\",\"\",H43*G43)","v":""},{"$f":"IF(A43=\"OTHER\",\"\",I43/$I$45)","v":""}]
["OTHER",null,null,"",null,"",null,0,{"$f":"IF(A44=\"OTHER\",\"\",(F44*G44)/43560)","v":""},{"$f":"IF(A44 = \"OTHER\",\"\",H44*G44)","v":""},{"$f":"IF(A44=\"OTHER\",\"\",I44/$I$45)","v":""}]
[null,null,null,null,null,null,{"$f":"SUM(G30:G44)","v":0},"Totals",{"$f":"SUM(I30:I44)","v":0},{"$f":"SUM(J30:J44)","v":0},{"$f":"SUM(K30:K44)","v":0}]
[]
[]
[]
["Fertilizer Recs"]
[]
["Phosphate",null,null,"Yield Tons/ac",null,null,null,"Phosphate Recommended lbs/ac"]
["Type of Stand"]
[]
["",null,null,"",null,"","",{"$f":"IF(F54>0,Sheet3!K197,IF(G54>0,Sheet3!K197,\"\"))","v":0}]
[]
["Potash",null,null,"Yield Tons/ac",null,"Soil Test Result","Potash Recommended lbs/ac"]
["Type of Stand"]
[]
[null,null,null,null,null,null,{"$f":"Sheet3!V198","v":0}]
[]
[]
[]
[]
[]
[]
[]
[]
[]
["Producer Signature:",null,null,null,null,null,"Date"]
[]
[]
["Planned By:",null,null,null,null,null,"Date"]
[]
[]
["Approved By:",null,null,null,null,null,"Date",null,null,"Job Class"]

{"sheet":"Seeding Plan Cover Sheet","index":1,"n_rows":68,"n_cols":9,"rows_kept":68,"cut":false,"hidden":true,"merged":[[60,0,64,9],[66,0,66,9],[67,0,74,9],[43,0,43,9],[54,0,57,9],[53,0,53,9],[59,0,59,9],[48,0,48,9],[51,2,51,3],[51,4,51,5],[49,2,49,3],[49,4,49,5],[50,0,50,1],[51,0,51,1],[22,0,22,1],[23,0,23,1],[24,0,24,1],[44,0,46,9],[49,7,51,8],[28,7,33,9],[0,0,0,9],[2,12,2,13],[2,6,2,7],[2,4,2,5],[14,7,14,9],[2,1,2,2],[8,0,8,2],[9,5,10,6],[4,1,4,4],[4,7,4,9],[6,1,6,2],[6,8,6,9],[9,7,9,9],[9,0,12,2],[10,7,10,9],[11,7,11,9],[17,21,21,23],[16,21,16,23],[17,0,17,1],[18,0,18,1],[19,0,19,1],[20,0,20,1],[15,7,16,9],[16,18,16,20],[16,0,16,1],[18,7,18,9],[18,18,18,20],[21,0,21,1],[19,7,20,9],[14,4,14,5],[50,4,50,5],[34,0,37,9],[39,0,39,9],[41,0,41,9],[25,0,25,1],[26,0,26,1],[28,0,28,1],[29,0,29,1],[30,0,30,1],[31,0,31,1],[23,7,23,9],[24,7,25,9],[50,2,50,3],[32,0,32,2],[27,0,27,1]]}
["Seed Plan and Record"]
[]
["Date:",{"$f":"'Seed Plan'!B3:C3","v":"2021-09-20"},null,null,"Paddock/Field No:",null,{"$f":"'Seed Plan'!G3:H3","v":""}]
[]
["Cooperator:",{"$f":"'Seed Plan'!B5:E5","v":0},null,null,null,null,"Conservationist:",{"$f":"'Seed Plan'!H5:J5","v":0}]
[]
["Program:",{"$f":"'Seed Plan'!B7:C7","v":0},null,null,"Practice No:",{"$f":"'Seed Plan'!F7","v":0},null,"Practice Name:",{"$f":"'Seed Plan'!I7:J7","v":0}]
[]
["Approved Planting Dates:"]
[{"$f":"'Seed Plan'!A15:K15","v":0},null,null,null,null,"Forage Suitability Group(s)",null,{"$f":"'Seed Plan'!C9","v":0}]
[null,null,null,null,null,null,null,{"$f":"'Seed Plan'!C10","v":0}]
[null,null,null,null,null,null,null,{"$f":"'Seed Plan'!C11","v":0}]
[]
[]
["The following seed mix is intended for:",null,null,null,{"$f":"'Seed Plan'!I10","v":0},null,null,"Planned Acres"]
[null,null,null,null,null,null,null,{"$f":"'Seed Plan'!J3","v":0}]
["Species",null,"Variety","Seeds/Sq ft","PLS Rate Planned / ac","Total lbs PLS"]
[{"$f":"'Seed Plan'!A30:C30","v":""},null,{"$f":"'Seed Plan'!D30","v":""},{"$f":"'Seed Plan'!I30","v":""},{"$f":"'Seed Plan'!G30","v":0},{"$f":"'Seed Plan'!J30","v":""}]
[{"$f":"'Seed Plan'!A31:C31","v":""},null,{"$f":"'Seed Plan'!D31","v":""},{"$f":"'Seed Plan'!I31","v":""},{"$f":"'Seed Plan'!G31","v":0},{"$f":"'Seed Plan'!J31","v":""},null,"Total PLS lbs of Mix"]
[{"$f":"'Seed Plan'!A32:C32","v":""},null,{"$f":"'Seed Plan'!D32","v":""},{"$f":"'Seed Plan'!I32","v":""},{"$f":"'Seed Plan'!G32","v":0},{"$f":"'Seed Plan'!J32","v":""},null,{"$f":"F33","v":0}]
[{"$f":"'Seed Plan'!A33:C33","v":""},null,{"$f":"'Seed Plan'!D33","v":""},{"$f":"'Seed Plan'!I33","v":""},{"$f":"'Seed Plan'!G33","v":0},{"$f":"'Seed Plan'!J33","v":""}]
[{"$f":"'Seed Plan'!A34:C34","v":""},null,{"$f":"'Seed Plan'!D34","v":""},{"$f":"'Seed Plan'!I34","v":""},{"$f":"'Seed Plan'!G34","v":0},{"$f":"'Seed Plan'!J34","v":""}]
[{"$f":"'Seed Plan'!A35:C35","v":""},null,{"$f":"'Seed Plan'!D35","v":""},{"$f":"'Seed Plan'!I35","v":""},{"$f":"'Seed Plan'!G35","v":0},{"$f":"'Seed Plan'!J35","v":""}]
[{"$f":"'Seed Plan'!A36:C36","v":""},null,{"$f":"'Seed Plan'!D36","v":""},{"$f":"'Seed Plan'!I36","v":""},{"$f":"'Seed Plan'!G36","v":0},{"$f":"'Seed Plan'!J36","v":""},null,"Total Seeds /Sq ft"]
[{"$f":"'Seed Plan'!A37:C37","v":""},null,{"$f":"'Seed Plan'!D37","v":""},{"$f":"'Seed Plan'!I37","v":""},{"$f":"'Seed Plan'!G37","v":0},{"$f":"'Seed Plan'!J37","v":""},null,{"$f":"D33","v":0}]
[{"$f":"'Seed Plan'!A38:C38","v":""},null,{"$f":"'Seed Plan'!D38","v":""},{"$f":"'Seed Plan'!I38","v":""},{"$f":"'Seed Plan'!G38","v":0},{"$f":"'Seed Plan'!J38","v":""}]
[{"$f":"'Seed Plan'!A39:C39","v":""},null,{"$f":"'Seed Plan'!D39","v":""},{"$f":"'Seed Plan'!I39","v":""},{"$f":"'Seed Plan'!G39","v":0},{"$f":"'Seed Plan'!J39","v":""}]
[{"$f":"'Seed Plan'!A40:C40","v":""},null,{"$f":"'Seed Plan'!D40","v":""},{"$f":"'Seed Plan'!I40","v":""},{"$f":"'Seed Plan'!G40","v":0},{"$f":"'Seed Plan'!J40","v":""}]
[{"$f":"'Seed Plan'!A41:C41","v":""},null,{"$f":"'Seed Plan'!D41","v":""},{"$f":"'Seed Plan'!I41","v":""},{"$f":"'Seed Plan'!G41","v":0},{"$f":"'Seed Plan'!J41","v":""},null,"Disclaimer:  Any deviation from this plan needs approval prior to seeding to be eligible for cost-share through a government program."]
[{"$f":"'Seed Plan'!A42:C42","v":"OTHER"},null,{"$f":"'Seed Plan'!D42","v":""},{"$f":"'Seed Plan'!I42","v":""},{"$f":"'Seed Plan'!G42","v":0},{"$f":"'Seed Plan'!J42","v":""}]
[{"$f":"'Seed Plan'!A43:C43","v":"OTHER"},null,{"$f":"'Seed Plan'!D43","v":""},{"$f":"'Seed Plan'!I43","v":""},{"$f":"'Seed Plan'!G43","v":0},{"$f":"'Seed Plan'!J43","v":""}]
[{"$f":"'Seed Plan'!A44:C44","v":"OTHER"},null,{"$f":"'Seed Plan'!D44","v":""},{"$f":"'Seed Plan'!I44","v":""},{"$f":"'Seed Plan'!G44","v":0},{"$f":"'Seed Plan'!J44","v":""}]
[null,null,null,{"$f":"SUM(D18:D32)","v":0},{"$f":"'Seed Plan'!G45","v":0},{"$f":"SUM(F18:F32)","v":0}]
[]
["PLS = Pure Live Seed.   All seeding rates are calculated based on PLS.  Total bulk lbs PLS needed = Pounds PLS / % purity / (%germination + % hard seed)"]
[]
[]
[]
[]
["Companion Crop"]
[]
[{"$f":"'Seed Plan'!F23","v":0}]
[]
["Companion Crop Notes"]
[{"$f":"IF(A42=0,0, \"Mow and remove companion crop residue at the boot stage or graze when it is approximately 10 inches tall to prevent it from going to seed, otherwise competition can begin to negetively effect seeding establishment.\")","v":0}]
[]
[]
[]
["Fertilizer Requirements"]
["Fertilizer ",null,"Rate per acre",null,"Total lbs needed:",null,null,"NEED SOILS TEST PRIOR TO SEEDING"]
["Phosphorous (P2O5)",null,{"$f":"'Seed Plan'!H54","v":0},null,{"$f":"C51*H16","v":0}]
["Potash (K2O)",null,{"$f":"'Seed Plan'!G59","v":0},null,{"$f":"C52*H16","v":0}]
[]
["Fertilizer Application Notes"]
[{"$f":"IF(E51>0,Sheet3!B260, IF(E52>0,Sheet3!B260, 0))","v":0}]
[]
[]
[]
[]
["Seedbed Preparation and Seeding Method:"]
[{"$f":"'Seed Plan'!A18","v":0}]
[]
[]
[]
[]
[]
["Operation and Maintenance"]
[{"$f":"IF(E15=0,\"THE TYPE OF PLANTING (HAY OR PASTURE) HAS NOT BEEN INDICATED ON THE SEED PLAN WORKHEET\",IF(E15=\"Pasture\",Sheet3!C272,IF(E15=\"Hay\",Sheet3!C271,0)))","v":"THE TYPE OF PLANTING (HAY OR PASTURE) HAS NOT BEEN INDICATED ON THE SEED PLAN WORKHEET"}]

{"sheet":"Sheet3","index":2,"n_rows":322,"n_cols":22,"rows_kept":322,"cut":false,"hidden":true,"merged":[[259,1,267,4],[44,1,44,10],[45,13,45,21],[4,7,4,8],[253,2,253,3],[254,2,254,3],[255,2,255,3],[256,2,256,3]]}
[5]
[]
[]
[]
[null,null,null,null,null,null,null,"Stand Type"]
[null,null,null,null,null,null,null,"Pasture >20% legume"]
[null,null,null,null,null,null,null,"Pasture <20% legume"]
[null,null,null,null,null,null,null,"Hay - Alfalfa"]
[null,null,null,null,null,null,null,"Hay - Other Legume"]
[null,null,null,null,null,null,null,"Hay - Grass"]
[]
[]
[]
[]
[]
[]
[]
[]
[]
[]
[]
[]
[]
[]
[]
[]
[]
[]
[]
[]
[]
[]
[]
[]
[]
[]
[]
[]
[]
[]
[null,null,null,null,null,null,null,1,null,null,null,1]
[]
[]
[]
[null,"Phosphorous Recs"]
[null,null,"Type of Stand","Tons/ac","Olsen","Bray","Application",null,null,null,null,null,null,"Potassium Recs"]
[{"$f":"IF('Seed Plan'!A54=\"Pasture >20% legume\",1,IF('Seed Plan'!A54=\"Pasture <20% Legume\",2,IF('Seed Plan'!A54=\"Hay - Alfalfa\",3,IF('Seed Plan'!A54=\"Hay - Other Legume\",4,IF('Seed Plan'!A54=\"Hay - Grass\",5,\"\")))))","v":""},1,"Pasture > 20% Legume",2,"0-3","0-5",35,{"$f":"IF($A$47=1,TRUE,FALSE)","v":false},{"$f":"IF('Seed Plan'!$D$54=2,TRUE,FALSE)","v":false},{"$f":"IF('Seed Plan'!$F$54=\"0-3\",TRUE,IF('Seed Plan'!$G$54=\"0-5\",TRUE,FALSE))","v":false},{"$f":"IF(H47=TRUE,IF(I47=TRUE,IF(J47=TRUE,G47,FALSE)))","v":false},null,{"$f":"IF('Seed Plan'!A59=\"Pasture >20% legume\",1,IF('Seed Plan'!A59=\"Pasture <20% Legume\",2,IF('Seed Plan'!A59=\"Hay - Alfalfa\",3,IF('Seed Plan'!A59=\"Hay - Other Legume\",4,IF('Seed Plan'!A59=\"Hay - Grass\",5,\"\")))))","v":""},null,"Type of Stand","Tons/ac","PPM","Application"]
[null,1,"Pasture > 20% Legume",3,"0-3","0-5",55,{"$f":"IF($A$47=1,TRUE,FALSE)","v":false},{"$f":"IF('Seed Plan'!$D$54=3,TRUE,FALSE)","v":false},{"$f":"IF('Seed Plan'!$F$54=\"0-3\",TRUE,IF('Seed Plan'!$G$54=\"0-5\",TRUE,FALSE))","v":false},{"$f":"IF(H48=TRUE,IF(I48=TRUE,IF(J48=TRUE,G48,FALSE)))","v":false},null,null,1,"Pasture > 20% Legume",2,"0-40",95,{"$f":"IF($M$47=1,TRUE,FALSE)","v":false},{"$f":"IF('Seed Plan'!$D$59=2,TRUE,FALSE)","v":false},{"$f":"IF('Seed Plan'!$F$59=\"0-40\",TRUE,FALSE)","v":false},{"$f":"IF(S48=TRUE,IF(T48=TRUE,IF(U48=TRUE,R48,FALSE)))","v":false}]
[null,1,"Pasture > 20% Legume",4,"0-3","0-5",70,false,{"$f":"IF('Seed Plan'!$D$54=4,TRUE,FALSE)","v":false},{"$f":"IF('Seed Plan'!$F$54=\"0-3\",TRUE,IF('Seed Plan'!$G$54=\"0-5\",TRUE,FALSE))","v":false},false,null,null,1,"Pasture > 20% Legume",3,"0-40",140,false,{"$f":"IF('Seed Plan'!$D$59=3,TRUE,FALSE)","v":false},{"$f":"IF('Seed Plan'!$F$59=\"0-40\",TRUE,FALSE)","v":false},{"$f":"IF(S49=TRUE,IF(T49=TRUE,IF(U49=TRUE,R49,FALSE)))","v":false}]
["Olsen",1,"Pasture > 20% Legume",5,"0-3","0-5",90,false,{"$f":"IF('Seed Plan'!$D$54=5,TRUE,FALSE)","v":false},{"$f":"IF('Seed Plan'!$F$54=\"0-3\",TRUE,IF('Seed Plan'!$G$54=\"0-5\",TRUE,FALSE))","v":false},false,null,null,1,"Pasture > 20% Legume",4,"0-40",185,false,{"$f":"IF('Seed Plan'!$D$59=4,TRUE,FALSE)","v":false},{"$f":"IF('Seed Plan'!$F$59=\"0-40\",TRUE,FALSE)","v":false},false]
["0-3",1,"Pasture > 20% Legume",6,"0-3","0-5",90,false,{"$f":"IF('Seed Plan'!$D$54=6,TRUE,FALSE)","v":false},{"$f":"IF('Seed Plan'!$F$54=\"0-3\",TRUE,IF('Seed Plan'!$G$54=\"0-5\",TRUE,FALSE))","v":false},false,null,"0-40",1,"Pasture > 20% Legume",5,"0-40",230,false,{"$f":"IF('Seed Plan'!$D$59=5,TRUE,FALSE)","v":false},{"$f":"IF('Seed Plan'!$F$59=\"0-40\",TRUE,FALSE)","v":false},false]
["4-7",1,"Pasture > 20% Legume","7+","0-3","0-5",90,false,{"$f":"IF('Seed Plan'!$D$54=\"7+\",TRUE,FALSE)","v":false},{"$f":"IF('Seed Plan'!$F$54=\"0-3\",TRUE,IF('Seed Plan'!$G$54=\"0-5\",TRUE,FALSE))","v":false},false,null,"41-80",1,"Pasture > 20% Legume",6,"0-40",230,false,{"$f":"IF('Seed Plan'!$D$59=6,TRUE,FALSE)","v":false},{"$f":"IF('Seed Plan'!$F$59=\"0-40\",TRUE,FALSE)","v":false},false]
["8-11",1,"Pasture > 20% Legume",2,"4-7","6-10",25,false,{"$f":"IF('Seed Plan'!$D$54=2,TRUE,FALSE)","v":false},{"$f":"IF('Seed Plan'!$F$54=\"4-7\",TRUE,IF('Seed Plan'!$G$54=\"6-10\",TRUE,FALSE))","v":false},false,null,"81-120",1,"Pasture > 20% Legume","7+","0-40",230,false,{"$f":"IF('Seed Plan'!$D$59=\"7+\",TRUE,FALSE)","v":false},{"$f":"IF('Seed Plan'!$F$59=\"0-40\",TRUE,FALSE)","v":false},false]
["12-15",1,"Pasture > 20% Legume",3,"4-7","6-10",40,false,{"$f":"IF('Seed Plan'!$D$54=3,TRUE,FALSE)","v":false},{"$f":"IF('Seed Plan'!$F$54=\"4-7\",TRUE,IF('Seed Plan'!$G$54=\"6-10\",TRUE,FALSE))","v":false},false,null,"121-160",1,"Pasture > 20% Legume",2,"41-80",65,false,{"$f":"IF('Seed Plan'!$D$59=2,TRUE,FALSE)","v":false},{"$f":"IF('Seed Plan'!$F$59=\"41-80\",TRUE,FALSE)","v":false},false]
["16+",1,"Pasture > 20% Legume",4,"4-7","6-10",50,false,{"$f":"IF('Seed Plan'!$D$54=4,TRUE,FALSE)","v":false},{"$f":"IF('Seed Plan'!$F$54=\"4-7\",TRUE,IF('Seed Plan'!$G$54=\"6-10\",TRUE,FALSE))","v":false},false,null,"160+",1,"Pasture > 20% Legume",3,"41-80",100,false,{"$f":"IF('Seed Plan'!$D$59=3,TRUE,FALSE)","v":false},{"$f":"IF('Seed Plan'!$F$59=\"41-80\",TRUE,FALSE)","v":false},false]
[null,1,"Pasture > 20% Legume",5,"4-7","6-10",65,false,{"$f":"IF('Seed Plan'!$D$54=5,TRUE,FALSE)","v":false},{"$f":"IF('Seed Plan'!$F$54=\"4-7\",TRUE,IF('Seed Plan'!$G$54=\"6-10\",TRUE,FALSE))","v":false},false,null,null,1,"Pasture > 20% Legume",4,"41-80",135,false,{"$f":"IF('Seed Plan'!$D$59=4,TRUE,FALSE)","v":false},{"$f":"IF('Seed Plan'!$F$59=\"41-80\",TRUE,FALSE)","v":false},false]
["Bray",1,"Pasture > 20% Legume",6,"4-7","6-10",65,false,{"$f":"IF('Seed Plan'!$D$54=6,TRUE,FALSE)","v":false},{"$f":"IF('Seed Plan'!$F$54=\"4-7\",TRUE,IF('Seed Plan'!$G$54=\"6-10\",TRUE,FALSE))","v":false},false,null,null,1,"Pasture > 20% Legume",5,"41-80",165,false,{"$f":"IF('Seed Plan'!$D$59=5,TRUE,FALSE)","v":false},{"$f":"IF('Seed Plan'!$F$59=\"41-80\",TRUE,FALSE)","v":false},false]
["0-5",1,"Pasture > 20% Legume","7+","4-7","6-10",65,false,{"$f":"IF('Seed Plan'!$D$54=\"7+\",TRUE,FALSE)","v":false},{"$f":"IF('Seed Plan'!$F$54=\"4-7\",TRUE,IF('Seed Plan'!$G$54=\"6-10\",TRUE,FALSE))","v":false},false,null,null,1,"Pasture > 20% Legume",6,"41-80",165,false,{"$f":"IF('Seed Plan'!$D$59=6,TRUE,FALSE)","v":false},{"$f":"IF('Seed Plan'!$F$59=\"41-80\",TRUE,FALSE)","v":false},false]
["6-10",1,"Pasture > 20% Legume",2,"8-11","11-15",15,false,{"$f":"IF('Seed Plan'!$D$54=2,TRUE,FALSE)","v":false},{"$f":"IF('Seed Plan'!$F$54=\"8-11\",TRUE,IF('Seed Plan'!$G$54=\"11-15\",TRUE,FALSE))","v":false},false,null,null,1,"Pasture > 20% Legume","7+","41-80",165,false,{"$f":"IF('Seed Plan'!$D$59=\"7+\",TRUE,FALSE)","v":false},{"$f":"IF('Seed Plan'!$F$59=\"41-80\",TRUE,FALSE)","v":false},false]
["11-15",1,"Pasture > 20% Legume",3,"8-11","11-15",25,false,{"$f":"IF('Seed Plan'!$D$54=3,TRUE,FALSE)","v":false},{"$f":"IF('Seed Plan'!$F$54=\"8-11\",TRUE,IF('Seed Plan'!$G$54=\"11-15\",TRUE,FALSE))","v":false},false,null,null,1,"Pasture > 20% Legume",2,"81-120",40,false,{"$f":"IF('Seed Plan'!$D$59=2,TRUE,FALSE)","v":false},{"$f":"IF('Seed Plan'!$F$59=\"81-120\",TRUE,FALSE)","v":false},false]
["16-20",1,"Pasture > 20% Legume",4,"8-11","11-15",30,false,{"$f":"IF('Seed Plan'!$D$54=4,TRUE,FALSE)","v":false},{"$f":"IF('Seed Plan'!$F$54=\"8-11\",TRUE,IF('Seed Plan'!$G$54=\"11-15\",TRUE,FALSE))","v":false},false,null,null,1,"Pasture > 20% Legume",3,"81-120",60,false,{"$f":"IF('Seed Plan'!$D$59=3,TRUE,FALSE)","v":false},{"$f":"IF('Seed Plan'!$F$59=\"81-120\",TRUE,FALSE)","v":false},false]
["21+",1,"Pasture > 20% Legume",5,"8-11","11-15",40,false,{"$f":"IF('Seed Plan'!$D$54=5,TRUE,FALSE)","v":false},{"$f":"IF('Seed Plan'!$F$54=\"8-11\",TRUE,IF('Seed Plan'!$G$54=\"11-15\",TRUE,FALSE))","v":false},false,null,null,1,"Pasture > 20% Legume",4,"81-120",80,false,{"$f":"IF('Seed Plan'!$D$59=4,TRUE,FALSE)","v":false},{"$f":"IF('Seed Plan'!$F$59=\"81-120\",TRUE,FALSE)","v":false},false]
[null,1,"Pasture > 20% Legume",6,"8-11","11-15",40,false,{"$f":"IF('Seed Plan'!$D$54=6,TRUE,FALSE)","v":false},{"$f":"IF('Seed Plan'!$F$54=\"8-11\",TRUE,IF('Seed Plan'!$G$54=\"11-15\",TRUE,FALSE))","v":false},false,null,null,1,"Pasture > 20% Legume",5,"81-120",100,false,{"$f":"IF('Seed Plan'!$D$59=5,TRUE,FALSE)","v":false},{"$f":"IF('Seed Plan'!$F$59=\"81-120\",TRUE,FALSE)","v":false},false]
[null,1,"Pasture > 20% Legume","7+","8-11","11-15",40,false,{"$f":"IF('Seed Plan'!$D$54=\"7+\",TRUE,FALSE)","v":false},{"$f":"IF('Seed Plan'!$F$54=\"8-11\",TRUE,IF('Seed Plan'!$G$54=\"11-15\",TRUE,FALSE))","v":false},false,null,null,1,"Pasture > 20% Legume",6,"81-120",100,false,{"$f":"IF('Seed Plan'!$D$59=6,TRUE,FALSE)","v":false},{"$f":"IF('Seed Plan'!$F$59=\"81-120\",TRUE,FALSE)","v":false},false]
[null,1,"Pasture > 20% Legume",2,"12-15","16-20",0,false,{"$f":"IF('Seed Plan'!$D$54=2,TRUE,FALSE)","v":false},{"$f":"IF('Seed Plan'!$F$54=\"12-15\",TRUE,IF('Seed Plan'!$G$54=\"16-20\",TRUE,FALSE))","v":false},false,null,null,1,"Pasture > 20% Legume","7+","81-120",100,false,{"$f":"IF('Seed Plan'!$D$59=\"7+\",TRUE,FALSE)","v":false},{"$f":"IF('Seed Plan'!$F$59=\"81-120\",TRUE,FALSE)","v":false},false]
[null,1,"Pasture > 20% Legume",3,"12-15","16-20",10,false,{"$f":"IF('Seed Plan'!$D$54=3,TRUE,FALSE)","v":false},{"$f":"IF('Seed Plan'!$F$54=\"12-15\",TRUE,IF('Seed Plan'!$G$54=\"16-20\",TRUE,FALSE))","v":false},false,null,null,1,"Pasture > 20% Legume",2,"121-160",15,false,{"$f":"IF('Seed Plan'!$D$59=2,TRUE,FALSE)","v":false},{"$f":"IF('Seed Plan'!$F$59=\"121-160\",TRUE,FALSE)","v":false},false]
[null,1,"Pasture > 20% Legume",4,"12-15","16-20",10,false,{"$f":"IF('Seed Plan'!$D$54=4,TRUE,FALSE)","v":false},{"$f":"IF('Seed Plan'!$F$54=\"12-15\",TRUE,IF('Seed Plan'!$G$54=\"16-20\",TRUE,FALSE))","v":false},false,null,null,1,"Pasture > 20% Legume",3,"121-160",20,false,{"$f":"IF('Seed Plan'!$D$59=3,TRUE,FALSE)","v":false},{"$f":"IF('Seed Plan'!$F$59=\"121-160\",TRUE,FALSE)","v":false},false]
[null,1,"Pasture > 20% Legume",5,"12-15","16-20",15,false,{"$f":"IF('Seed Plan'!$D$54=5,TRUE,FALSE)","v":false},{"$f":"IF('Seed Plan'!$F$54=\"12-15\",TRUE,IF('Seed Plan'!$G$54=\"16-20\",TRUE,FALSE))","v":false},false,null,null,1,"Pasture > 20% Legume",4,"121-160",25,false,{"$f":"IF('Seed Plan'!$D$59=4,TRUE,FALSE)","v":false},{"$f":"IF('Seed Plan'!$F$59=\"121-160\",TRUE,FALSE)","v":false},false]
[null,1,"Pasture > 20% Legume",6,"12-15","16-20",15,false,{"$f":"IF('Seed Plan'!$D$54=6,TRUE,FALSE)","v":false},{"$f":"IF('Seed Plan'!$F$54=\"12-15\",TRUE,IF('Seed Plan'!$G$54=\"16-20\",TRUE,FALSE))","v":false},false,null,null,1,"Pasture > 20% Legume",5,"121-160",35,false,{"$f":"IF('Seed Plan'!$D$59=5,TRUE,FALSE)","v":false},{"$f":"IF('Seed Plan'!$F$59=\"121-160\",TRUE,FALSE)","v":false},false]
[null,1,"Pasture > 20% Legume","7+","12-15","16-20",15,false,{"$f":"IF('Seed Plan'!$D$54=\"7+\",TRUE,FALSE)","v":false},{"$f":"IF('Seed Plan'!$F$54=\"12-15\",TRUE,IF('Seed Plan'!$G$54=\"16-20\",TRUE,FALSE))","v":false},false,null,null,1,"Pasture > 20% Legume",6,"121-160",35,false,{"$f":"IF('Seed Plan'!$D$59=6,TRUE,FALSE)","v":false},{"$f":"IF('Seed Plan'!$F$59=\"121-160\",TRUE,FALSE)","v":false},false]
[null,1,"Pasture > 20% Legume",2,"16+","21+",0,false,{"$f":"IF('Seed Plan'!$D$54=2,TRUE,FALSE)","v":false},{"$f":"IF('Seed Plan'!$F$54=\"16+\",TRUE,IF('Seed Plan'!$G$54=\"21+\",TRUE,FALSE))","v":false},false,null,null,1,"Pasture > 20% Legume","7+","121-160",35,false,{"$f":"IF('Seed Plan'!$D$59=\"7+\",TRUE,FALSE)","v":false},{"$f":"IF('Seed Plan'!$F$59=\"121-160\",TRUE,FALSE)","v":false},false]
[null,1,"Pasture > 20% Legume",3,"16+","21+",0,false,{"$f":"IF('Seed Plan'!$D$54=3,TRUE,FALSE)","v":false},{"$f":"IF('Seed Plan'!$F$54=\"16+\",TRUE,IF('Seed Plan'!$G$54=\"21+\",TRUE,FALSE))","v":false},false,null,null,1,"Pasture > 20% Legume",2,"160+",0,false,{"$f":"IF('Seed Plan'!$D$59=2,TRUE,FALSE)","v":false},{"$f":"IF('Seed Plan'!$F$59=\"161+\",TRUE,FALSE)","v":false},false]
[null,1,"Pasture > 20% Legume",4,"16+","21+",0,false,{"$f":"IF('Seed Plan'!$D$54=4,TRUE,FALSE)","v":false},{"$f":"IF('Seed Plan'!$F$54=\"16+\",TRUE,IF('Seed Plan'!$G$54=\"21+\",TRUE,FALSE))","v":false},false,null,null,1,"Pasture > 20% Legume",3,"160+",0,false,{"$f":"IF('Seed Plan'!$D$59=3,TRUE,FALSE)","v":false},{"$f":"IF('Seed Plan'!$F$59=\"161+\",TRUE,FALSE)","v":false},false]
[null,1,"Pasture > 20% Legume",5,"16+","21+",0,false,{"$f":"IF('Seed Plan'!$D$54=5,TRUE,FALSE)","v":false},{"$f":"IF('Seed Plan'!$F$54=\"16+\",TRUE,IF('Seed Plan'!$G$54=\"21+\",TRUE,FALSE))","v":false},false,null,null,1,"Pasture > 20% Legume",4,"160+",0,false,{"$f":"IF('Seed Plan'!$D$59=4,TRUE,FALSE)","v":false},{"$f":"IF('Seed Plan'!$F$59=\"161+\",TRUE,FALSE)","v":false},false]
[null,1,"Pasture > 20% Legume",6,"16+","21+",0,false,{"$f":"IF('Seed Plan'!$D$54=6,TRUE,FALSE)","v":false},{"$f":"IF('Seed Plan'!$F$54=\"16+\",TRUE,IF('Seed Plan'!$G$54=\"21+\",TRUE,FALSE))","v":false},false,null,null,1,"Pasture > 20% Legume",5,"160+",0,false,{"$f":"IF('Seed Plan'!$D$59=5,TRUE,FALSE)","v":false},{"$f":"IF('Seed Plan'!$F$59=\"161+\",TRUE,FALSE)","v":false},false]
[null,1,"Pasture > 20% Legume","7+","16+","21+",0,false,{"$f":"IF('Seed Plan'!$D$54=\"7+\",TRUE,FALSE)","v":false},{"$f":"IF('Seed Plan'!$F$54=\"16+\",TRUE,IF('Seed Plan'!$G$54=\"21+\",TRUE,FALSE))","v":false},false,null,null,1,"Pasture > 20% Legume",6,"160+",0,false,{"$f":"IF('Seed Plan'!$D$59=6,TRUE,FALSE)","v":false},{"$f":"IF('Seed Plan'!$F$59=\"161+\",TRUE,FALSE)","v":false},false]
[null,2,"Pasture < 20% Legume",2,"0-3","0-5",40,{"$f":"IF($A$47=2,TRUE,FALSE)","v":false},{"$f":"IF('Seed Plan'!$D$54=2,TRUE,FALSE)","v":false},{"$f":"IF('Seed Plan'!$F$54=\"0-3\",TRUE,IF('Seed Plan'!$G$54=\"0-5\",TRUE,FALSE))","v":false},false,null,null,1,"Pasture > 20% Legume","7+","160+",0,false,{"$f":"IF('Seed Plan'!$D$59=\"7+\",TRUE,FALSE)","v":false},{"$f":"IF('Seed Plan'!$F$59=\"161+\",TRUE,FALSE)","v":false},false]
[null,2,"Pasture < 20% Legume",3,"0-3","0-5",50,{"$f":"IF($A$47=2,TRUE,FALSE)","v":false},{"$f":"IF('Seed Plan'!$D$54=3,TRUE,FALSE)","v":false},{"$f":"IF('Seed Plan'!$F$54=\"0-3\",TRUE,IF('Seed Plan'!$G$54=\"0-5\",TRUE,FALSE))","v":false},false,null,null,2,"Pasture < 20% Legume",2,"0-40",90,{"$f":"IF($M$47=2,TRUE,FALSE)","v":false},{"$f":"IF('Seed Plan'!$D$59=2,TRUE,FALSE)","v":false},{"$f":"IF('Seed Plan'!$F$59=\"0-40\",TRUE,FALSE)","v":false},false]
[null,2,"Pasture < 20% Legume",4,"0-3","0-5",60,false,{"$f":"IF('Seed Plan'!$D$54=4,TRUE,FALSE)","v":false},{"$f":"IF('Seed Plan'!$F$54=\"0-3\",TRUE,IF('Seed Plan'!$G$54=\"0-5\",TRUE,FALSE))","v":false},false,null,null,2,"Pasture < 20% Legume",3,"0-40",100,{"$f":"IF($M$47=2,TRUE,FALSE)","v":false},{"$f":"IF('Seed Plan'!$D$59=3,TRUE,FALSE)","v":false},{"$f":"IF('Seed Plan'!$F$59=\"0-40\",TRUE,FALSE)","v":false},false]
[null,2,"Pasture < 20% Legume",5,"0-3","0-5",70,false,{"$f":"IF('Seed Plan'!$D$54=5,TRUE,FALSE)","v":false},{"$f":"IF('Seed Plan'!$F$54=\"0-3\",TRUE,IF('Seed Plan'!$G$54=\"0-5\",TRUE,FALSE))","v":false},false,null,null,2,"Pasture < 20% Legume",4,"0-40",110,false,{"$f":"IF('Seed Plan'!$D$59=4,TRUE,FALSE)","v":false},{"$f":"IF('Seed Plan'!$F$59=\"0-40\",TRUE,FALSE)","v":false},false]
[null,2,"Pasture < 20% Legume",6,"0-3","0-5",70,false,{"$f":"IF('Seed Plan'!$D$54=6,TRUE,FALSE)","v":false},{"$f":"IF('Seed Plan'!$F$54=\"0-3\",TRUE,IF('Seed Plan'!$G$54=\"0-5\",TRUE,FALSE))","v":false},false,null,null,2,"Pasture < 20% Legume",5,"0-40",120,false,{"$f":"IF('Seed Plan'!$D$59=5,TRUE,FALSE)","v":false},{"$f":"IF('Seed Plan'!$F$59=\"0-40\",TRUE,FALSE)","v":false},false]
[null,2,"Pasture < 20% Legume","7+","0-3","0-5",70,false,{"$f":"IF('Seed Plan'!$D$54=\"7+\",TRUE,FALSE)","v":false},{"$f":"IF('Seed Plan'!$F$54=\"0-3\",TRUE,IF('Seed Plan'!$G$54=\"0-5\",TRUE,FALSE))","v":false},false,null,null,2,"Pasture < 20% Legume",6,"0-40",120,false,{"$f":"IF('Seed Plan'!$D$59=6,TRUE,FALSE)","v":false},{"$f":"IF('Seed Plan'!$F$59=\"0-40\",TRUE,FALSE)","v":false},false]
[null,2,"Pasture < 20% Legume",2,"4-7","6-10",30,false,{"$f":"IF('Seed Plan'!$D$54=2,TRUE,FALSE)","v":false},{"$f":"IF('Seed Plan'!$F$54=\"4-7\",TRUE,IF('Seed Plan'!$G$54=\"6-10\",TRUE,FALSE))","v":false},false,null,null,2,"Pasture < 20% Legume","7+","0-40",120,false,{"$f":"IF('Seed Plan'!$D$59=\"7+\",TRUE,FALSE)","v":false},{"$f":"IF('Seed Plan'!$F$59=\"0-40\",TRUE,FALSE)","v":false},false]
[null,2,"Pasture < 20% Legume",3,"4-7","6-10",40,false,{"$f":"IF('Seed Plan'!$D$54=3,TRUE,FALSE)","v":false},{"$f":"IF('Seed Plan'!$F$54=\"4-7\",TRUE,IF('Seed Plan'!$G$54=\"6-10\",TRUE,FALSE))","v":false},false,null,null,2,"Pasture < 20% Legume",2,"41-80",60,false,{"$f":"IF('Seed Plan'!$D$59=2,TRUE,FALSE)","v":false},{"$f":"IF('Seed Plan'!$F$59=\"41-80\",TRUE,FALSE)","v":false},false]
[null,2,"Pasture < 20% Legume",4,"4-7","6-10",50,false,{"$f":"IF('Seed Plan'!$D$54=4,TRUE,FALSE)","v":false},{"$f":"IF('Seed Plan'!$F$54=\"4-7\",TRUE,IF('Seed Plan'!$G$54=\"6-10\",TRUE,FALSE))","v":false},false,null,null,2,"Pasture < 20% Legume",3,"41-80",70,false,{"$f":"IF('Seed Plan'!$D$59=3,TRUE,FALSE)","v":false},{"$f":"IF('Seed Plan'!$F$59=\"41-80\",TRUE,FALSE)","v":false},false]
[null,2,"Pasture < 20% Legume",5,"4-7","6-10",60,false,{"$f":"IF('Seed Plan'!$D$54=5,TRUE,FALSE)","v":false},{"$f":"IF('Seed Plan'!$F$54=\"4-7\",TRUE,IF('Seed Plan'!$G$54=\"6-10\",TRUE,FALSE))","v":false},false,null,null,2,"Pasture < 20% Legume",4,"41-80",80,false,{"$f":"IF('Seed Plan'!$D$59=4,TRUE,FALSE)","v":false},{"$f":"IF('Seed Plan'!$F$59=\"41-80\",TRUE,FALSE)","v":false},false]
[null,2,"Pasture < 20% Legume",6,"4-7","6-10",60,false,{"$f":"IF('Seed Plan'!$D$54=6,TRUE,FALSE)","v":false},{"$f":"IF('Seed Plan'!$F$54=\"4-7\",TRUE,IF('Seed Plan'!$G$54=\"6-10\",TRUE,FALSE))","v":false},false,null,null,2,"Pasture < 20% Legume",5,"41-80",90,false,{"$f":"IF('Seed Plan'!$D$59=5,TRUE,FALSE)","v":false},{"$f":"IF('Seed Plan'!$F$59=\"41-80\",TRUE,FALSE)","v":false},false]
[null,2,"Pasture < 20% Legume","7+","4-7","6-10",60,false,{"$f":"IF('Seed Plan'!$D$54=\"7+\",TRUE,FALSE)","v":false},{"$f":"IF('Seed Plan'!$F$54=\"4-7\",TRUE,IF('Seed Plan'!$G$54=\"6-10\",TRUE,FALSE))","v":false},false,null,null,2,"Pasture < 20% Legume",6,"41-80",90,false,{"$f":"IF('Seed Plan'!$D$59=6,TRUE,FALSE)","v":false},{"$f":"IF('Seed Plan'!$F$59=\"41-80\",TRUE,FALSE)","v":false},false]
[null,2,"Pasture < 20% Legume",2,"8-11","11-15",20,false,{"$f":"IF('Seed Plan'!$D$54=2,TRUE,FALSE)","v":false},{"$f":"IF('Seed Plan'!$F$54=\"8-11\",TRUE,IF('Seed Plan'!$G$54=\"11-15\",TRUE,FALSE))","v":false},false,null,null,2,"Pasture < 20% Legume","7+","41-80",90,false,{"$f":"IF('Seed Plan'!$D$59=\"7+\",TRUE,FALSE)","v":false},{"$f":"IF('Seed Plan'!$F$59=\"41-80\",TRUE,FALSE)","v":false},false]
[null,2,"Pasture < 20% Legume",3,"8-11","11-15",30,false,{"$f":"IF('Seed Plan'!$D$54=3,TRUE,FALSE)","v":false},{"$f":"IF('Seed Plan'!$F$54=\"8-11\",TRUE,IF('Seed Plan'!$G$54=\"11-15\",TRUE,FALSE))","v":false},false,null,null,2,"Pasture < 20% Legume",2,"81-120",30,false,{"$f":"IF('Seed Plan'!$D$59=2,TRUE,FALSE)","v":false},{"$f":"IF('Seed Plan'!$F$59=\"81-120\",TRUE,FALSE)","v":false},false]
[null,2,"Pasture < 20% Legume",4,"8-11","11-15",40,false,{"$f":"IF('Seed Plan'!$D$54=4,TRUE,FALSE)","v":false},{"$f":"IF('Seed Plan'!$F$54=\"8-11\",TRUE,IF('Seed Plan'!$G$54=\"11-15\",TRUE,FALSE))","v":false},false,null,null,2,"Pasture < 20% Legume",3,"81-120",40,false,{"$f":"IF('Seed Plan'!$D$59=3,TRUE,FALSE)","v":false},{"$f":"IF('Seed Plan'!$F$59=\"81-120\",TRUE,FALSE)","v":false},false]
[null,2,"Pasture < 20% Legume",5,"8-11","11-15",50,false,{"$f":"IF('Seed Plan'!$D$54=5,TRUE,FALSE)","v":false},{"$f":"IF('Seed Plan'!$F$54=\"8-11\",TRUE,IF('Seed Plan'!$G$54=\"11-15\",TRUE,FALSE))","v":false},false,null,null,2,"Pasture < 20% Legume",4,"81-120",50,false,{"$f":"IF('Seed Plan'!$D$59=4,TRUE,FALSE)","v":false},{"$f":"IF('Seed Plan'!$F$59=\"81-120\",TRUE,FALSE)","v":false},false]
[null,2,"Pasture < 20% Legume",6,"8-11","11-15",50,false,{"$f":"IF('Seed Plan'!$D$54=6,TRUE,FALSE)","v":false},{"$f":"IF('Seed Plan'!$F$54=\"8-11\",TRUE,IF('Seed Plan'!$G$54=\"11-15\",TRUE,FALSE))","v":false},false,null,null,2,"Pasture < 20% Legume",5,"81-120",60,false,{"$f":"IF('Seed Plan'!$D$59=5,TRUE,FALSE)","v":false},{"$f":"IF('Seed Plan'!$F$59=\"81-120\",TRUE,FALSE)","v":false},false]
[null,2,"Pasture < 20% Legume","7+","8-11","11-15",50,false,{"$f":"IF('Seed Plan'!$D$54=\"7+\",TRUE,FALSE)","v":false},{"$f":"IF('Seed Plan'!$F$54=\"8-11\",TRUE,IF('Seed Plan'!$G$54=\"11-15\",TRUE,FALSE))","v":false},false,null,null,2,"Pasture < 20% Legume",6,"81-120",60,false,{"$f":"IF('Seed Plan'!$D$59=6,TRUE,FALSE)","v":false},{"$f":"IF('Seed Plan'!$F$59=\"81-120\",TRUE,FALSE)","v":false},false]
[null,2,"Pasture < 20% Legume",2,"12-15","16-20",10,false,{"$f":"IF('Seed Plan'!$D$54=2,TRUE,FALSE)","v":false},{"$f":"IF('Seed Plan'!$F$54=\"12-15\",TRUE,IF('Seed Plan'!$G$54=\"16-20\",TRUE,FALSE))","v":false},false,null,null,2,"Pasture < 20% Legume","7+","81-120",60,false,{"$f":"IF('Seed Plan'!$D$59=\"7+\",TRUE,FALSE)","v":false},{"$f":"IF('Seed Plan'!$F$59=\"81-120\",TRUE,FALSE)","v":false},false]
[null,2,"Pasture < 20% Legume",3,"12-15","16-20",20,false,{"$f":"IF('Seed Plan'!$D$54=3,TRUE,FALSE)","v":false},{"$f":"IF('Seed Plan'!$F$54=\"12-15\",TRUE,IF('Seed Plan'!$G$54=\"16-20\",TRUE,FALSE))","v":false},false,null,null,2,"Pasture < 20% Legume",2,"121-160",0,false,{"$f":"IF('Seed Plan'!$D$59=2,TRUE,FALSE)","v":false},{"$f":"IF('Seed Plan'!$F$59=\"121-160\",TRUE,FALSE)","v":false},false]
[null,2,"Pasture < 20% Legume",4,"12-15","16-20",30,false,{"$f":"IF('Seed Plan'!$D$54=4,TRUE,FALSE)","v":false},{"$f":"IF('Seed Plan'!$F$54=\"12-15\",TRUE,IF('Seed Plan'!$G$54=\"16-20\",TRUE,FALSE))","v":false},false,null,null,2,"Pasture < 20% Legume",3,"121-160",10,false,{"$f":"IF('Seed Plan'!$D$59=3,TRUE,FALSE)","v":false},{"$f":"IF('Seed Plan'!$F$59=\"121-160\",TRUE,FALSE)","v":false},false]
[null,2,"Pasture < 20% Legume",5,"12-15","16-20",40,false,{"$f":"IF('Seed Plan'!$D$54=5,TRUE,FALSE)","v":false},{"$f":"IF('Seed Plan'!$F$54=\"12-15\",TRUE,IF('Seed Plan'!$G$54=\"16-20\",TRUE,FALSE))","v":false},false,null,null,2,"Pasture < 20% Legume",4,"121-160",20,false,{"$f":"IF('Seed Plan'!$D$59=4,TRUE,FALSE)","v":false},{"$f":"IF('Seed Plan'!$F$59=\"121-160\",TRUE,FALSE)","v":false},false]
[null,2,"Pasture < 20% Legume",6,"12-15","16-20",40,false,{"$f":"IF('Seed Plan'!$D$54=6,TRUE,FALSE)","v":false},{"$f":"IF('Seed Plan'!$F$54=\"12-15\",TRUE,IF('Seed Plan'!$G$54=\"16-20\",TRUE,FALSE))","v":false},false,null,null,2,"Pasture < 20% Legume",5,"121-160",30,false,{"$f":"IF('Seed Plan'!$D$59=5,TRUE,FALSE)","v":false},{"$f":"IF('Seed Plan'!$F$59=\"121-160\",TRUE,FALSE)","v":false},false]
[null,2,"Pasture < 20% Legume","7+","12-15","16-20",40,false,{"$f":"IF('Seed Plan'!$D$54=\"7+\",TRUE,FALSE)","v":false},{"$f":"IF('Seed Plan'!$F$54=\"12-15\",TRUE,IF('Seed Plan'!$G$54=\"16-20\",TRUE,FALSE))","v":false},false,null,null,2,"Pasture < 20% Legume",6,"121-160",30,false,{"$f":"IF('Seed Plan'!$D$59=6,TRUE,FALSE)","v":false},{"$f":"IF('Seed Plan'!$F$59=\"121-160\",TRUE,FALSE)","v":false},false]
[null,2,"Pasture < 20% Legume",2,"16+","21+",0,false,{"$f":"IF('Seed Plan'!$D$54=2,TRUE,FALSE)","v":false},{"$f":"IF('Seed Plan'!$F$54=\"16+\",TRUE,IF('Seed Plan'!$G$54=\"21+\",TRUE,FALSE))","v":false},false,null,null,2,"Pasture < 20% Legume","7+","121-160",30,false,{"$f":"IF('Seed Plan'!$D$59=\"7+\",TRUE,FALSE)","v":false},{"$f":"IF('Seed Plan'!$F$59=\"121-160\",TRUE,FALSE)","v":false},false]
[null,2,"Pasture < 20% Legume",3,"16+","21+",0,false,{"$f":"IF('Seed Plan'!$D$54=3,TRUE,FALSE)","v":false},{"$f":"IF('Seed Plan'!$F$54=\"16+\",TRUE,IF('Seed Plan'!$G$54=\"21+\",TRUE,FALSE))","v":false},false,null,null,2,"Pasture < 20% Legume",2,"160+",0,false,{"$f":"IF('Seed Plan'!$D$59=2,TRUE,FALSE)","v":false},{"$f":"IF('Seed Plan'!$F$59=\"161+\",TRUE,FALSE)","v":false},false]
[null,2,"Pasture < 20% Legume",4,"16+","21+",0,false,{"$f":"IF('Seed Plan'!$D$54=4,TRUE,FALSE)","v":false},{"$f":"IF('Seed Plan'!$F$54=\"16+\",TRUE,IF('Seed Plan'!$G$54=\"21+\",TRUE,FALSE))","v":false},false,null,null,2,"Pasture < 20% Legume",3,"160+",0,false,{"$f":"IF('Seed Plan'!$D$59=3,TRUE,FALSE)","v":false},{"$f":"IF('Seed Plan'!$F$59=\"161+\",TRUE,FALSE)","v":false},false]
[null,2,"Pasture < 20% Legume",5,"16+","21+",0,false,{"$f":"IF('Seed Plan'!$D$54=5,TRUE,FALSE)","v":false},{"$f":"IF('Seed Plan'!$F$54=\"16+\",TRUE,IF('Seed Plan'!$G$54=\"21+\",TRUE,FALSE))","v":false},false,null,null,2,"Pasture < 20% Legume",4,"160+",0,false,{"$f":"IF('Seed Plan'!$D$59=4,TRUE,FALSE)","v":false},{"$f":"IF('Seed Plan'!$F$59=\"161+\",TRUE,FALSE)","v":false},false]
[null,2,"Pasture < 20% Legume",6,"16+","21+",0,false,{"$f":"IF('Seed Plan'!$D$54=6,TRUE,FALSE)","v":false},{"$f":"IF('Seed Plan'!$F$54=\"16+\",TRUE,IF('Seed Plan'!$G$54=\"21+\",TRUE,FALSE))","v":false},false,null,null,2,"Pasture < 20% Legume",5,"160+",0,false,{"$f":"IF('Seed Plan'!$D$59=5,TRUE,FALSE)","v":false},{"$f":"IF('Seed Plan'!$F$59=\"161+\",TRUE,FALSE)","v":false},false]
[null,2,"Pasture < 20% Legume","7+","16+","21+",0,false,{"$f":"IF('Seed Plan'!$D$54=\"7+\",TRUE,FALSE)","v":false},{"$f":"IF('Seed Plan'!$F$54=\"16+\",TRUE,IF('Seed Plan'!$G$54=\"21+\",TRUE,FALSE))","v":false},false,null,null,2,"Pasture < 20% Legume",6,"160+",0,false,{"$f":"IF('Seed Plan'!$D$59=6,TRUE,FALSE)","v":false},{"$f":"IF('Seed Plan'!$F$59=\"161+\",TRUE,FALSE)","v":false},false]
[null,3,"Alfalfa Hay",2,"0-3","0-5",45,{"$f":"IF($A$47=3,TRUE,FALSE)","v":false},{"$f":"IF('Seed Plan'!$D$54=2,TRUE,FALSE)","v":false},{"$f":"IF('Seed Plan'!$F$54=\"0-3\",TRUE,IF('Seed Plan'!$G$54=\"0-5\",TRUE,FALSE))","v":false},false,null,null,2,"Pasture < 20% Legume","7+","160+",0,false,{"$f":"IF('Seed Plan'!$D$59=\"7+\",TRUE,FALSE)","v":false},{"$f":"IF('Seed Plan'!$F$59=\"161+\",TRUE,FALSE)","v":false},false]
[null,3,"Alfalfa Hay",3,"0-3","0-5",65,{"$f":"IF($A$47=3,TRUE,FALSE)","v":false},{"$f":"IF('Seed Plan'!$D$54=3,TRUE,FALSE)","v":false},{"$f":"IF('Seed Plan'!$F$54=\"0-3\",TRUE,IF('Seed Plan'!$G$54=\"0-5\",TRUE,FALSE))","v":false},false,null,null,3,"Alfalfa Hay",2,"0-40",145,{"$f":"IF($M$47=3,TRUE,FALSE)","v":false},{"$f":"IF('Seed Plan'!$D$59=2,TRUE,FALSE)","v":false},{"$f":"IF('Seed Plan'!$F$59=\"0-40\",TRUE,FALSE)","v":false},false]
[null,3,"Alfalfa Hay",4,"0-3","0-5",80,false,{"$f":"IF('Seed Plan'!$D$54=4,TRUE,FALSE)","v":false},{"$f":"IF('Seed Plan'!$F$54=\"0-3\",TRUE,IF('Seed Plan'!$G$54=\"0-5\",TRUE,FALSE))","v":false},false,null,null,3,"Alfalfa Hay",3,"0-40",190,{"$f":"IF($M$47=3,TRUE,FALSE)","v":false},{"$f":"IF('Seed Plan'!$D$59=3,TRUE,FALSE)","v":false},{"$f":"IF('Seed Plan'!$F$59=\"0-40\",TRUE,FALSE)","v":false},false]
[null,3,"Alfalfa Hay",5,"0-3","0-5",95,false,{"$f":"IF('Seed Plan'!$D$54=5,TRUE,FALSE)","v":false},{"$f":"IF('Seed Plan'!$F$54=\"0-3\",TRUE,IF('Seed Plan'!$G$54=\"0-5\",TRUE,FALSE))","v":false},false,null,null,3,"Alfalfa Hay",4,"0-40",240,false,{"$f":"IF('Seed Plan'!$D$59=4,TRUE,FALSE)","v":false},{"$f":"IF('Seed Plan'!$F$59=\"0-40\",TRUE,FALSE)","v":false},false]
[null,3,"Alfalfa Hay",6,"0-3","0-5",110,false,{"$f":"IF('Seed Plan'!$D$54=6,TRUE,FALSE)","v":false},{"$f":"IF('Seed Plan'!$F$54=\"0-3\",TRUE,IF('Seed Plan'!$G$54=\"0-5\",TRUE,FALSE))","v":false},false,null,null,3,"Alfalfa Hay",5,"0-40",290,false,{"$f":"IF('Seed Plan'!$D$59=5,TRUE,FALSE)","v":false},{"$f":"IF('Seed Plan'!$F$59=\"0-40\",TRUE,FALSE)","v":false},false]
[null,3,"Alfalfa Hay","7+","0-3","0-5",125,false,{"$f":"IF('Seed Plan'!$D$54=\"7+\",TRUE,FALSE)","v":false},{"$f":"IF('Seed Plan'!$F$54=\"0-3\",TRUE,IF('Seed Plan'!$G$54=\"0-5\",TRUE,FALSE))","v":false},{"$f":"IF(H112=TRUE,IF(I112=TRUE,IF(J112=TRUE,G112,FALSE)))","v":false},null,null,3,"Alfalfa Hay",6,"0-40",335,false,{"$f":"IF('Seed Plan'!$D$59=6,TRUE,FALSE)","v":false},{"$f":"IF('Seed Plan'!$F$59=\"0-40\",TRUE,FALSE)","v":false},false]
[null,3,"Alfalfa Hay",2,"4-7","6-10",35,false,{"$f":"IF('Seed Plan'!$D$54=2,TRUE,FALSE)","v":false},{"$f":"IF('Seed Plan'!$F$54=\"4-7\",TRUE,IF('Seed Plan'!$G$54=\"6-10\",TRUE,FALSE))","v":false},false,null,null,3,"Alfalfa Hay","7+","0-40",380,false,{"$f":"IF('Seed Plan'!$D$59=\"7+\",TRUE,FALSE)","v":false},{"$f":"IF('Seed Plan'!$F$59=\"0-40\",TRUE,FALSE)","v":false},{"$f":"IF(S113=TRUE,IF(T113=TRUE,IF(U113=TRUE,R113,FALSE)))","v":false}]
[null,3,"Alfalfa Hay",3,"4-7","6-10",45,false,{"$f":"IF('Seed Plan'!$D$54=3,TRUE,FALSE)","v":false},{"$f":"IF('Seed Plan'!$F$54=\"4-7\",TRUE,IF('Seed Plan'!$G$54=\"6-10\",TRUE,FALSE))","v":false},false,null,null,3,"Alfalfa Hay",2,"41-80",100,false,{"$f":"IF('Seed Plan'!$D$59=2,TRUE,FALSE)","v":false},{"$f":"IF('Seed Plan'!$F$59=\"41-80\",TRUE,FALSE)","v":false},false]
[null,3,"Alfalfa Hay",4,"4-7","6-10",55,false,{"$f":"IF('Seed Plan'!$D$54=4,TRUE,FALSE)","v":false},{"$f":"IF('Seed Plan'!$F$54=\"4-7\",TRUE,IF('Seed Plan'!$G$54=\"6-10\",TRUE,FALSE))","v":false},false,null,null,3,"Alfalfa Hay",3,"41-80",130,false,{"$f":"IF('Seed Plan'!$D$59=3,TRUE,FALSE)","v":false},{"$f":"IF('Seed Plan'!$F$59=\"41-80\",TRUE,FALSE)","v":false},false]
[null,3,"Alfalfa Hay",5,"4-7","6-10",65,false,{"$f":"IF('Seed Plan'!$D$54=5,TRUE,FALSE)","v":false},{"$f":"IF('Seed Plan'!$F$54=\"4-7\",TRUE,IF('Seed Plan'!$G$54=\"6-10\",TRUE,FALSE))","v":false},false,null,null,3,"Alfalfa Hay",4,"41-80",165,false,{"$f":"IF('Seed Plan'!$D$59=4,TRUE,FALSE)","v":false},{"$f":"IF('Seed Plan'!$F$59=\"41-80\",TRUE,FALSE)","v":false},false]
[null,3,"Alfalfa Hay",6,"4-7","6-10",80,false,{"$f":"IF('Seed Plan'!$D$54=6,TRUE,FALSE)","v":false},{"$f":"IF('Seed Plan'!$F$54=\"4-7\",TRUE,IF('Seed Plan'!$G$54=\"6-10\",TRUE,FALSE))","v":false},false,null,null,3,"Alfalfa Hay",5,"41-80",195,false,{"$f":"IF('Seed Plan'!$D$59=5,TRUE,FALSE)","v":false},{"$f":"IF('Seed Plan'!$F$59=\"41-80\",TRUE,FALSE)","v":false},false]
[null,3,"Alfalfa Hay","7+","4-7","6-10",90,false,{"$f":"IF('Seed Plan'!$D$54=\"7+\",TRUE,FALSE)","v":false},{"$f":"IF('Seed Plan'!$F$54=\"4-7\",TRUE,IF('Seed Plan'!$G$54=\"6-10\",TRUE,FALSE))","v":false},false,null,null,3,"Alfalfa Hay",6,"41-80",230,false,{"$f":"IF('Seed Plan'!$D$59=6,TRUE,FALSE)","v":false},{"$f":"IF('Seed Plan'!$F$59=\"41-80\",TRUE,FALSE)","v":false},false]
[null,3,"Alfalfa Hay",2,"8-11","11-15",20,false,{"$f":"IF('Seed Plan'!$D$54=2,TRUE,FALSE)","v":false},{"$f":"IF('Seed Plan'!$F$54=\"8-11\",TRUE,IF('Seed Plan'!$G$54=\"11-15\",TRUE,FALSE))","v":false},false,null,null,3,"Alfalfa Hay","7+","41-80",265,false,{"$f":"IF('Seed Plan'!$D$59=\"7+\",TRUE,FALSE)","v":false},{"$f":"IF('Seed Plan'!$F$59=\"41-80\",TRUE,FALSE)","v":false},false]
[null,3,"Alfalfa Hay",3,"8-11","11-15",25,false,{"$f":"IF('Seed Plan'!$D$54=3,TRUE,FALSE)","v":false},{"$f":"IF('Seed Plan'!$F$54=\"8-11\",TRUE,IF('Seed Plan'!$G$54=\"11-15\",TRUE,FALSE))","v":false},false,null,null,3,"Alfalfa Hay",2,"81-120",55,false,{"$f":"IF('Seed Plan'!$D$59=2,TRUE,FALSE)","v":false},{"$f":"IF('Seed Plan'!$F$59=\"81-120\",TRUE,FALSE)","v":false},false]
[null,3,"Alfalfa Hay",4,"8-11","11-15",30,false,{"$f":"IF('Seed Plan'!$D$54=4,TRUE,FALSE)","v":false},{"$f":"IF('Seed Plan'!$F$54=\"8-11\",TRUE,IF('Seed Plan'!$G$54=\"11-15\",TRUE,FALSE))","v":false},false,null,null,3,"Alfalfa Hay",3,"81-120",70,false,{"$f":"IF('Seed Plan'!$D$59=3,TRUE,FALSE)","v":false},{"$f":"IF('Seed Plan'!$F$59=\"81-120\",TRUE,FALSE)","v":false},false]
[null,3,"Alfalfa Hay",5,"8-11","11-15",40,false,{"$f":"IF('Seed Plan'!$D$54=5,TRUE,FALSE)","v":false},{"$f":"IF('Seed Plan'!$F$54=\"8-11\",TRUE,IF('Seed Plan'!$G$54=\"11-15\",TRUE,FALSE))","v":false},false,null,null,3,"Alfalfa Hay",4,"81-120",90,false,{"$f":"IF('Seed Plan'!$D$59=4,TRUE,FALSE)","v":false},{"$f":"IF('Seed Plan'!$F$59=\"81-120\",TRUE,FALSE)","v":false},false]
[null,3,"Alfalfa Hay",6,"8-11","11-15",45,false,{"$f":"IF('Seed Plan'!$D$54=6,TRUE,FALSE)","v":false},{"$f":"IF('Seed Plan'!$F$54=\"8-11\",TRUE,IF('Seed Plan'!$G$54=\"11-15\",TRUE,FALSE))","v":false},false,null,null,3,"Alfalfa Hay",5,"81-120",105,false,{"$f":"IF('Seed Plan'!$D$59=5,TRUE,FALSE)","v":false},{"$f":"IF('Seed Plan'!$F$59=\"81-120\",TRUE,FALSE)","v":false},false]
[null,3,"Alfalfa Hay","7+","8-11","11-15",55,false,{"$f":"IF('Seed Plan'!$D$54=\"7+\",TRUE,FALSE)","v":false},{"$f":"IF('Seed Plan'!$F$54=\"8-11\",TRUE,IF('Seed Plan'!$G$54=\"11-15\",TRUE,FALSE))","v":false},false,null,null,3,"Alfalfa Hay",6,"81-120",125,false,{"$f":"IF('Seed Plan'!$D$59=6,TRUE,FALSE)","v":false},{"$f":"IF('Seed Plan'!$F$59=\"81-120\",TRUE,FALSE)","v":false},false]
[null,3,"Alfalfa Hay",2,"12-15","16-20",10,false,{"$f":"IF('Seed Plan'!$D$54=2,TRUE,FALSE)","v":false},{"$f":"IF('Seed Plan'!$F$54=\"12-15\",TRUE,IF('Seed Plan'!$G$54=\"16-20\",TRUE,FALSE))","v":false},false,null,null,3,"Alfalfa Hay","7+","81-120",145,false,{"$f":"IF('Seed Plan'!$D$59=\"7+\",TRUE,FALSE)","v":false},{"$f":"IF('Seed Plan'!$F$59=\"81-120\",TRUE,FALSE)","v":false},false]
[null,3,"Alfalfa Hay",3,"12-15","16-20",10,false,{"$f":"IF('Seed Plan'!$D$54=3,TRUE,FALSE)","v":false},{"$f":"IF('Seed Plan'!$F$54=\"12-15\",TRUE,IF('Seed Plan'!$G$54=\"16-20\",TRUE,FALSE))","v":false},false,null,null,3,"Alfalfa Hay",2,"121-160",10,false,{"$f":"IF('Seed Plan'!$D$59=2,TRUE,FALSE)","v":false},{"$f":"IF('Seed Plan'!$F$59=\"121-160\",TRUE,FALSE)","v":false},false]
[null,3,"Alfalfa Hay",4,"12-15","16-20",15,false,{"$f":"IF('Seed Plan'!$D$54=4,TRUE,FALSE)","v":false},{"$f":"IF('Seed Plan'!$F$54=\"12-15\",TRUE,IF('Seed Plan'!$G$54=\"16-20\",TRUE,FALSE))","v":false},false,null,null,3,"Alfalfa Hay",3,"121-160",10,false,{"$f":"IF('Seed Plan'!$D$59=3,TRUE,FALSE)","v":false},{"$f":"IF('Seed Plan'!$F$59=\"121-160\",TRUE,FALSE)","v":false},false]
[null,3,"Alfalfa Hay",5,"12-15","16-20",15,false,{"$f":"IF('Seed Plan'!$D$54=5,TRUE,FALSE)","v":false},{"$f":"IF('Seed Plan'!$F$54=\"12-15\",TRUE,IF('Seed Plan'!$G$54=\"16-20\",TRUE,FALSE))","v":false},false,null,null,3,"Alfalfa Hay",4,"121-160",15,false,{"$f":"IF('Seed Plan'!$D$59=4,TRUE,FALSE)","v":false},{"$f":"IF('Seed Plan'!$F$59=\"121-160\",TRUE,FALSE)","v":false},false]
[null,3,"Alfalfa Hay",6,"12-15","16-20",20,false,{"$f":"IF('Seed Plan'!$D$54=6,TRUE,FALSE)","v":false},{"$f":"IF('Seed Plan'!$F$54=\"12-15\",TRUE,IF('Seed Plan'!$G$54=\"16-20\",TRUE,FALSE))","v":false},false,null,null,3,"Alfalfa Hay",5,"121-160",15,false,{"$f":"IF('Seed Plan'!$D$59=5,TRUE,FALSE)","v":false},{"$f":"IF('Seed Plan'!$F$59=\"121-160\",TRUE,FALSE)","v":false},false]
[null,3,"Alfalfa Hay","7+","12-15","16-20",25,false,{"$f":"IF('Seed Plan'!$D$54=\"7+\",TRUE,FALSE)","v":false},{"$f":"IF('Seed Plan'!$F$54=\"12-15\",TRUE,IF('Seed Plan'!$G$54=\"16-20\",TRUE,FALSE))","v":false},false,null,null,3,"Alfalfa Hay",6,"121-160",20,false,{"$f":"IF('Seed Plan'!$D$59=6,TRUE,FALSE)","v":false},{"$f":"IF('Seed Plan'!$F$59=\"121-160\",TRUE,FALSE)","v":false},false]
[null,3,"Alfalfa Hay",2,"16+","21+",0,false,{"$f":"IF('Seed Plan'!$D$54=2,TRUE,FALSE)","v":false},{"$f":"IF('Seed Plan'!$F$54=\"16+\",TRUE,IF('Seed Plan'!$G$54=\"21+\",TRUE,FALSE))","v":false},false,null,null,3,"Alfalfa Hay","7+","121-160",20,false,{"$f":"IF('Seed Plan'!$D$59=\"7+\",TRUE,FALSE)","v":false},{"$f":"IF('Seed Plan'!$F$59=\"121-160\",TRUE,FALSE)","v":false},false]
[null,3,"Alfalfa Hay",3,"16+","21+",0,false,{"$f":"IF('Seed Plan'!$D$54=3,TRUE,FALSE)","v":false},{"$f":"IF('Seed Plan'!$F$54=\"16+\",TRUE,IF('Seed Plan'!$G$54=\"21+\",TRUE,FALSE))","v":false},false,null,null,3,"Alfalfa Hay",2,"160+",0,false,{"$f":"IF('Seed Plan'!$D$59=2,TRUE,FALSE)","v":false},{"$f":"IF('Seed Plan'!$F$59=\"161+\",TRUE,FALSE)","v":false},false]
[null,3,"Alfalfa Hay",4,"16+","21+",0,false,{"$f":"IF('Seed Plan'!$D$54=4,TRUE,FALSE)","v":false},{"$f":"IF('Seed Plan'!$F$54=\"16+\",TRUE,IF('Seed Plan'!$G$54=\"21+\",TRUE,FALSE))","v":false},false,null,null,3,"Alfalfa Hay",3,"160+",0,false,{"$f":"IF('Seed Plan'!$D$59=3,TRUE,FALSE)","v":false},{"$f":"IF('Seed Plan'!$F$59=\"161+\",TRUE,FALSE)","v":false},false]
[null,3,"Alfalfa Hay",5,"16+","21+",0,false,{"$f":"IF('Seed Plan'!$D$54=5,TRUE,FALSE)","v":false},{"$f":"IF('Seed Plan'!$F$54=\"16+\",TRUE,IF('Seed Plan'!$G$54=\"21+\",TRUE,FALSE))","v":false},false,null,null,3,"Alfalfa Hay",4,"160+",0,false,{"$f":"IF('Seed Plan'!$D$59=4,TRUE,FALSE)","v":false},{"$f":"IF('Seed Plan'!$F$59=\"161+\",TRUE,FALSE)","v":false},false]
[null,3,"Alfalfa Hay",6,"16+","21+",0,false,{"$f":"IF('Seed Plan'!$D$54=6,TRUE,FALSE)","v":false},{"$f":"IF('Seed Plan'!$F$54=\"16+\",TRUE,IF('Seed Plan'!$G$54=\"21+\",TRUE,FALSE))","v":false},false,null,null,3,"Alfalfa Hay",5,"160+",0,false,{"$f":"IF('Seed Plan'!$D$59=5,TRUE,FALSE)","v":false},{"$f":"IF('Seed Plan'!$F$59=\"161+\",TRUE,FALSE)","v":false},false]
[null,3,"Alfalfa Hay","7+","16+","21+",0,false,{"$f":"IF('Seed Plan'!$D$54=\"7+\",TRUE,FALSE)","v":false},{"$f":"IF('Seed Plan'!$F$54=\"16+\",TRUE,IF('Seed Plan'!$G$54=\"21+\",TRUE,FALSE))","v":false},false,null,null,3,"Alfalfa Hay",6,"160+",0,false,{"$f":"IF('Seed Plan'!$D$59=6,TRUE,FALSE)","v":false},{"$f":"IF('Seed Plan'!$F$59=\"161+\",TRUE,FALSE)","v":false},false]
[null,4,"Hay - Other Legume",2,"0-3","0-5",35,{"$f":"IF($A$47=4,TRUE,FALSE)","v":false},{"$f":"IF('Seed Plan'!$D$54=2,TRUE,FALSE)","v":false},{"$f":"IF('Seed Plan'!$F$54=\"0-3\",TRUE,IF('Seed Plan'!$G$54=\"0-5\",TRUE,FALSE))","v":false},false,null,null,3,"Alfalfa Hay","7+","160+",0,false,{"$f":"IF('Seed Plan'!$D$59=\"7+\",TRUE,FALSE)","v":false},{"$f":"IF('Seed Plan'!$F$59=\"161+\",TRUE,FALSE)","v":false},false]
[null,4,"Hay - Other Legume",3,"0-3","0-5",55,{"$f":"IF($A$47=4,TRUE,FALSE)","v":false},{"$f":"IF('Seed Plan'!$D$54=3,TRUE,FALSE)","v":false},{"$f":"IF('Seed Plan'!$F$54=\"0-3\",TRUE,IF('Seed Plan'!$G$54=\"0-5\",TRUE,FALSE))","v":false},false,null,null,4,"Hay - Other Legume",2,"0-40",95,{"$f":"IF($M$47=4,TRUE,FALSE)","v":false},{"$f":"IF('Seed Plan'!$D$59=2,TRUE,FALSE)","v":false},{"$f":"IF('Seed Plan'!$F$59=\"0-40\",TRUE,FALSE)","v":false},false]
[null,4,"Hay - Other Legume",4,"0-3","0-5",70,false,{"$f":"IF('Seed Plan'!$D$54=4,TRUE,FALSE)","v":false},{"$f":"IF('Seed Plan'!$F$54=\"0-3\",TRUE,IF('Seed Plan'!$G$54=\"0-5\",TRUE,FALSE))","v":false},false,null,null,4,"Hay - Other Legume",3,"0-40",140,{"$f":"IF($M$47=4,TRUE,FALSE)","v":false},{"$f":"IF('Seed Plan'!$D$59=3,TRUE,FALSE)","v":false},{"$f":"IF('Seed Plan'!$F$59=\"0-40\",TRUE,FALSE)","v":false},false]
[null,4,"Hay - Other Legume",5,"0-3","0-5",90,false,{"$f":"IF('Seed Plan'!$D$54=5,TRUE,FALSE)","v":false},{"$f":"IF('Seed Plan'!$F$54=\"0-3\",TRUE,IF('Seed Plan'!$G$54=\"0-5\",TRUE,FALSE))","v":false},false,null,null,4,"Hay - Other Legume",4,"0-40",185,false,{"$f":"IF('Seed Plan'!$D$59=4,TRUE,FALSE)","v":false},{"$f":"IF('Seed Plan'!$F$59=\"0-40\",TRUE,FALSE)","v":false},false]
[null,4,"Hay - Other Legume",6,"0-3","0-5",90,false,{"$f":"IF('Seed Plan'!$D$54=6,TRUE,FALSE)","v":false},{"$f":"IF('Seed Plan'!$F$54=\"0-3\",TRUE,IF('Seed Plan'!$G$54=\"0-5\",TRUE,FALSE))","v":false},false,null,null,4,"Hay - Other Legume",5,"0-40",230,false,{"$f":"IF('Seed Plan'!$D$59=5,TRUE,FALSE)","v":false},{"$f":"IF('Seed Plan'!$F$59=\"0-40\",TRUE,FALSE)","v":false},false]
[null,4,"Hay - Other Legume","7+","0-3","0-5",90,false,{"$f":"IF('Seed Plan'!$D$54=\"7+\",TRUE,FALSE)","v":false},{"$f":"IF('Seed Plan'!$F$54=\"0-3\",TRUE,IF('Seed Plan'!$G$54=\"0-5\",TRUE,FALSE))","v":false},false,null,null,4,"Hay - Other Legume",6,"0-40",230,false,{"$f":"IF('Seed Plan'!$D$59=6,TRUE,FALSE)","v":false},{"$f":"IF('Seed Plan'!$F$59=\"0-40\",TRUE,FALSE)","v":false},false]
[null,4,"Hay - Other Legume",2,"4-7","6-10",25,false,{"$f":"IF('Seed Plan'!$D$54=2,TRUE,FALSE)","v":false},{"$f":"IF('Seed Plan'!$F$54=\"4-7\",TRUE,IF('Seed Plan'!$G$54=\"6-10\",TRUE,FALSE))","v":false},false,null,null,4,"Hay - Other Legume","7+","0-40",230,false,{"$f":"IF('Seed Plan'!$D$59=\"7+\",TRUE,FALSE)","v":false},{"$f":"IF('Seed Plan'!$F$59=\"0-40\",TRUE,FALSE)","v":false},false]
[null,4,"Hay - Other Legume",3,"4-7","6-10",40,false,{"$f":"IF('Seed Plan'!$D$54=3,TRUE,FALSE)","v":false},{"$f":"IF('Seed Plan'!$F$54=\"4-7\",TRUE,IF('Seed Plan'!$G$54=\"6-10\",TRUE,FALSE))","v":false},false,null,null,4,"Hay - Other Legume",2,"41-80",65,false,{"$f":"IF('Seed Plan'!$D$59=2,TRUE,FALSE)","v":false},{"$f":"IF('Seed Plan'!$F$59=\"41-80\",TRUE,FALSE)","v":false},false]
[null,4,"Hay - Other Legume",4,"4-7","6-10",50,false,{"$f":"IF('Seed Plan'!$D$54=4,TRUE,FALSE)","v":false},{"$f":"IF('Seed Plan'!$F$54=\"4-7\",TRUE,IF('Seed Plan'!$G$54=\"6-10\",TRUE,FALSE))","v":false},false,null,null,4,"Hay - Other Legume",3,"41-80",100,false,{"$f":"IF('Seed Plan'!$D$59=3,TRUE,FALSE)","v":false},{"$f":"IF('Seed Plan'!$F$59=\"41-80\",TRUE,FALSE)","v":false},false]
[null,4,"Hay - Other Legume",5,"4-7","6-10",65,false,{"$f":"IF('Seed Plan'!$D$54=5,TRUE,FALSE)","v":false},{"$f":"IF('Seed Plan'!$F$54=\"4-7\",TRUE,IF('Seed Plan'!$G$54=\"6-10\",TRUE,FALSE))","v":false},false,null,null,4,"Hay - Other Legume",4,"41-80",135,false,{"$f":"IF('Seed Plan'!$D$59=4,TRUE,FALSE)","v":false},{"$f":"IF('Seed Plan'!$F$59=\"41-80\",TRUE,FALSE)","v":false},false]
[null,4,"Hay - Other Legume",6,"4-7","6-10",65,false,{"$f":"IF('Seed Plan'!$D$54=6,TRUE,FALSE)","v":false},{"$f":"IF('Seed Plan'!$F$54=\"4-7\",TRUE,IF('Seed Plan'!$G$54=\"6-10\",TRUE,FALSE))","v":false},false,null,null,4,"Hay - Other Legume",5,"41-80",165,false,{"$f":"IF('Seed Plan'!$D$59=5,TRUE,FALSE)","v":false},{"$f":"IF('Seed Plan'!$F$59=\"41-80\",TRUE,FALSE)","v":false},false]
[null,4,"Hay - Other Legume","7+","4-7","6-10",65,false,{"$f":"IF('Seed Plan'!$D$54=\"7+\",TRUE,FALSE)","v":false},{"$f":"IF('Seed Plan'!$F$54=\"4-7\",TRUE,IF('Seed Plan'!$G$54=\"6-10\",TRUE,FALSE))","v":false},false,null,null,4,"Hay - Other Legume",6,"41-80",165,false,{"$f":"IF('Seed Plan'!$D$59=6,TRUE,FALSE)","v":false},{"$f":"IF('Seed Plan'!$F$59=\"41-80\",TRUE,FALSE)","v":false},false]
[null,4,"Hay - Other Legume",2,"8-11","11-15",15,false,{"$f":"IF('Seed Plan'!$D$54=2,TRUE,FALSE)","v":false},{"$f":"IF('Seed Plan'!$F$54=\"8-11\",TRUE,IF('Seed Plan'!$G$54=\"11-15\",TRUE,FALSE))","v":false},false,null,null,4,"Hay - Other Legume","7+","41-80",165,false,{"$f":"IF('Seed Plan'!$D$59=\"7+\",TRUE,FALSE)","v":false},{"$f":"IF('Seed Plan'!$F$59=\"41-80\",TRUE,FALSE)","v":false},false]
[null,4,"Hay - Other Legume",3,"8-11","11-15",25,false,{"$f":"IF('Seed Plan'!$D$54=3,TRUE,FALSE)","v":false},{"$f":"IF('Seed Plan'!$F$54=\"8-11\",TRUE,IF('Seed Plan'!$G$54=\"11-15\",TRUE,FALSE))","v":false},false,null,null,4,"Hay - Other Legume",2,"81-120",40,false,{"$f":"IF('Seed Plan'!$D$59=2,TRUE,FALSE)","v":false},{"$f":"IF('Seed Plan'!$F$59=\"81-120\",TRUE,FALSE)","v":false},false]
[null,4,"Hay - Other Legume",4,"8-11","11-15",30,false,{"$f":"IF('Seed Plan'!$D$54=4,TRUE,FALSE)","v":false},{"$f":"IF('Seed Plan'!$F$54=\"8-11\",TRUE,IF('Seed Plan'!$G$54=\"11-15\",TRUE,FALSE))","v":false},false,null,null,4,"Hay - Other Legume",3,"81-120",60,false,{"$f":"IF('Seed Plan'!$D$59=3,TRUE,FALSE)","v":false},{"$f":"IF('Seed Plan'!$F$59=\"81-120\",TRUE,FALSE)","v":false},false]
[null,4,"Hay - Other Legume",5,"8-11","11-15",40,false,{"$f":"IF('Seed Plan'!$D$54=5,TRUE,FALSE)","v":false},{"$f":"IF('Seed Plan'!$F$54=\"8-11\",TRUE,IF('Seed Plan'!$G$54=\"11-15\",TRUE,FALSE))","v":false},false,null,null,4,"Hay - Other Legume",4,"81-120",80,false,{"$f":"IF('Seed Plan'!$D$59=4,TRUE,FALSE)","v":false},{"$f":"IF('Seed Plan'!$F$59=\"81-120\",TRUE,FALSE)","v":false},false]
[null,4,"Hay - Other Legume",6,"8-11","11-15",40,false,{"$f":"IF('Seed Plan'!$D$54=6,TRUE,FALSE)","v":false},{"$f":"IF('Seed Plan'!$F$54=\"8-11\",TRUE,IF('Seed Plan'!$G$54=\"11-15\",TRUE,FALSE))","v":false},false,null,null,4,"Hay - Other Legume",5,"81-120",100,false,{"$f":"IF('Seed Plan'!$D$59=5,TRUE,FALSE)","v":false},{"$f":"IF('Seed Plan'!$F$59=\"81-120\",TRUE,FALSE)","v":false},false]
[null,4,"Hay - Other Legume","7+","8-11","11-15",40,false,{"$f":"IF('Seed Plan'!$D$54=\"7+\",TRUE,FALSE)","v":false},{"$f":"IF('Seed Plan'!$F$54=\"8-11\",TRUE,IF('Seed Plan'!$G$54=\"11-15\",TRUE,FALSE))","v":false},false,null,null,4,"Hay - Other Legume",6,"81-120",100,false,{"$f":"IF('Seed Plan'!$D$59=6,TRUE,FALSE)","v":false},{"$f":"IF('Seed Plan'!$F$59=\"81-120\",TRUE,FALSE)","v":false},false]
[null,4,"Hay - Other Legume",2,"12-15","16-20",0,false,{"$f":"IF('Seed Plan'!$D$54=2,TRUE,FALSE)","v":false},{"$f":"IF('Seed Plan'!$F$54=\"12-15\",TRUE,IF('Seed Plan'!$G$54=\"16-20\",TRUE,FALSE))","v":false},false,null,null,4,"Hay - Other Legume","7+","81-120",100,false,{"$f":"IF('Seed Plan'!$D$59=\"7+\",TRUE,FALSE)","v":false},{"$f":"IF('Seed Plan'!$F$59=\"81-120\",TRUE,FALSE)","v":false},false]
[null,4,"Hay - Other Legume",3,"12-15","16-20",10,false,{"$f":"IF('Seed Plan'!$D$54=3,TRUE,FALSE)","v":false},{"$f":"IF('Seed Plan'!$F$54=\"12-15\",TRUE,IF('Seed Plan'!$G$54=\"16-20\",TRUE,FALSE))","v":false},false,null,null,4,"Hay - Other Legume",2,"121-160",15,false,{"$f":"IF('Seed Plan'!$D$59=2,TRUE,FALSE)","v":false},{"$f":"IF('Seed Plan'!$F$59=\"121-160\",TRUE,FALSE)","v":false},false]
[null,4,"Hay - Other Legume",4,"12-15","16-20",10,false,{"$f":"IF('Seed Plan'!$D$54=4,TRUE,FALSE)","v":false},{"$f":"IF('Seed Plan'!$F$54=\"12-15\",TRUE,IF('Seed Plan'!$G$54=\"16-20\",TRUE,FALSE))","v":false},false,null,null,4,"Hay - Other Legume",3,"121-160",20,false,{"$f":"IF('Seed Plan'!$D$59=3,TRUE,FALSE)","v":false},{"$f":"IF('Seed Plan'!$F$59=\"121-160\",TRUE,FALSE)","v":false},false]
[null,4,"Hay - Other Legume",5,"12-15","16-20",15,false,{"$f":"IF('Seed Plan'!$D$54=5,TRUE,FALSE)","v":false},{"$f":"IF('Seed Plan'!$F$54=\"12-15\",TRUE,IF('Seed Plan'!$G$54=\"16-20\",TRUE,FALSE))","v":false},false,null,null,4,"Hay - Other Legume",4,"121-160",25,false,{"$f":"IF('Seed Plan'!$D$59=4,TRUE,FALSE)","v":false},{"$f":"IF('Seed Plan'!$F$59=\"121-160\",TRUE,FALSE)","v":false},false]
[null,4,"Hay - Other Legume",6,"12-15","16-20",15,false,{"$f":"IF('Seed Plan'!$D$54=6,TRUE,FALSE)","v":false},{"$f":"IF('Seed Plan'!$F$54=\"12-15\",TRUE,IF('Seed Plan'!$G$54=\"16-20\",TRUE,FALSE))","v":false},false,null,null,4,"Hay - Other Legume",5,"121-160",35,false,{"$f":"IF('Seed Plan'!$D$59=5,TRUE,FALSE)","v":false},{"$f":"IF('Seed Plan'!$F$59=\"121-160\",TRUE,FALSE)","v":false},false]
[null,4,"Hay - Other Legume","7+","12-15","16-20",15,false,{"$f":"IF('Seed Plan'!$D$54=\"7+\",TRUE,FALSE)","v":false},{"$f":"IF('Seed Plan'!$F$54=\"12-15\",TRUE,IF('Seed Plan'!$G$54=\"16-20\",TRUE,FALSE))","v":false},false,null,null,4,"Hay - Other Legume",6,"121-160",35,false,{"$f":"IF('Seed Plan'!$D$59=6,TRUE,FALSE)","v":false},{"$f":"IF('Seed Plan'!$F$59=\"121-160\",TRUE,FALSE)","v":false},false]
[null,4,"Hay - Other Legume",2,"16+","21+",0,false,{"$f":"IF('Seed Plan'!$D$54=2,TRUE,FALSE)","v":false},{"$f":"IF('Seed Plan'!$F$54=\"16+\",TRUE,IF('Seed Plan'!$G$54=\"21+\",TRUE,FALSE))","v":false},false,null,null,4,"Hay - Other Legume","7+","121-160",35,false,{"$f":"IF('Seed Plan'!$D$59=\"7+\",TRUE,FALSE)","v":false},{"$f":"IF('Seed Plan'!$F$59=\"121-160\",TRUE,FALSE)","v":false},false]
[null,4,"Hay - Other Legume",3,"16+","21+",0,false,{"$f":"IF('Seed Plan'!$D$54=3,TRUE,FALSE)","v":false},{"$f":"IF('Seed Plan'!$F$54=\"16+\",TRUE,IF('Seed Plan'!$G$54=\"21+\",TRUE,FALSE))","v":false},false,null,null,4,"Hay - Other Legume",2,"160+",0,false,{"$f":"IF('Seed Plan'!$D$59=2,TRUE,FALSE)","v":false},{"$f":"IF('Seed Plan'!$F$59=\"161+\",TRUE,FALSE)","v":false},false]
[null,4,"Hay - Other Legume",4,"16+","21+",0,false,{"$f":"IF('Seed Plan'!$D$54=4,TRUE,FALSE)","v":false},{"$f":"IF('Seed Plan'!$F$54=\"16+\",TRUE,IF('Seed Plan'!$G$54=\"21+\",TRUE,FALSE))","v":false},false,null,null,4,"Hay - Other Legume",3,"160+",0,false,{"$f":"IF('Seed Plan'!$D$59=3,TRUE,FALSE)","v":false},{"$f":"IF('Seed Plan'!$F$59=\"161+\",TRUE,FALSE)","v":false},false]
[null,4,"Hay - Other Legume",5,"16+","21+",0,false,{"$f":"IF('Seed Plan'!$D$54=5,TRUE,FALSE)","v":false},{"$f":"IF('Seed Plan'!$F$54=\"16+\",TRUE,IF('Seed Plan'!$G$54=\"21+\",TRUE,FALSE))","v":false},false,null,null,4,"Hay - Other Legume",4,"160+",0,false,{"$f":"IF('Seed Plan'!$D$59=4,TRUE,FALSE)","v":false},{"$f":"IF('Seed Plan'!$F$59=\"161+\",TRUE,FALSE)","v":false},false]
[null,4,"Hay - Other Legume",6,"16+","21+",0,false,{"$f":"IF('Seed Plan'!$D$54=6,TRUE,FALSE)","v":false},{"$f":"IF('Seed Plan'!$F$54=\"16+\",TRUE,IF('Seed Plan'!$G$54=\"21+\",TRUE,FALSE))","v":false},false,null,null,4,"Hay - Other Legume",5,"160+",0,false,{"$f":"IF('Seed Plan'!$D$59=5,TRUE,FALSE)","v":false},{"$f":"IF('Seed Plan'!$F$59=\"161+\",TRUE,FALSE)","v":false},false]
[null,4,"Hay - Other Legume","7+","16+","21+",0,false,{"$f":"IF('Seed Plan'!$D$54=\"7+\",TRUE,FALSE)","v":false},{"$f":"IF('Seed Plan'!$F$54=\"16+\",TRUE,IF('Seed Plan'!$G$54=\"21+\",TRUE,FALSE))","v":false},false,null,null,4,"Hay - Other Legume",6,"160+",0,false,{"$f":"IF('Seed Plan'!$D$59=6,TRUE,FALSE)","v":false},{"$f":"IF('Seed Plan'!$F$59=\"161+\",TRUE,FALSE)","v":false},false]
[null,5,"Hay - Grass",2,"0-3","0-5",40,{"$f":"IF($A$47=5,TRUE,FALSE)","v":false},{"$f":"IF('Seed Plan'!$D$54=2,TRUE,FALSE)","v":false},{"$f":"IF('Seed Plan'!$F$54=\"0-3\",TRUE,IF('Seed Plan'!$G$54=\"0-5\",TRUE,FALSE))","v":false},false,null,null,4,"Hay - Other Legume","7+","160+",0,false,{"$f":"IF('Seed Plan'!$D$59=\"7+\",TRUE,FALSE)","v":false},{"$f":"IF('Seed Plan'!$F$59=\"161+\",TRUE,FALSE)","v":false},false]
[null,5,"Hay - Grass",3,"0-3","0-5",50,{"$f":"IF($A$47=5,TRUE,FALSE)","v":false},{"$f":"IF('Seed Plan'!$D$54=3,TRUE,FALSE)","v":false},{"$f":"IF('Seed Plan'!$F$54=\"0-3\",TRUE,IF('Seed Plan'!$G$54=\"0-5\",TRUE,FALSE))","v":false},false,null,null,5,"Hay - Grass",2,"0-40",90,{"$f":"IF($M$47=5,TRUE,FALSE)","v":false},{"$f":"IF('Seed Plan'!$D$59=2,TRUE,FALSE)","v":false},{"$f":"IF('Seed Plan'!$F$59=\"0-40\",TRUE,FALSE)","v":false},false]
[null,5,"Hay - Grass",4,"0-3","0-5",60,false,{"$f":"IF('Seed Plan'!$D$54=4,TRUE,FALSE)","v":false},{"$f":"IF('Seed Plan'!$F$54=\"0-3\",TRUE,IF('Seed Plan'!$G$54=\"0-5\",TRUE,FALSE))","v":false},false,null,null,5,"Hay - Grass",3,"0-40",100,{"$f":"IF($M$47=5,TRUE,FALSE)","v":false},{"$f":"IF('Seed Plan'!$D$59=3,TRUE,FALSE)","v":false},{"$f":"IF('Seed Plan'!$F$59=\"0-40\",TRUE,FALSE)","v":false},false]
[null,5,"Hay - Grass",5,"0-3","0-5",70,false,{"$f":"IF('Seed Plan'!$D$54=5,TRUE,FALSE)","v":false},{"$f":"IF('Seed Plan'!$F$54=\"0-3\",TRUE,IF('Seed Plan'!$G$54=\"0-5\",TRUE,FALSE))","v":false},false,null,null,5,"Hay - Grass",4,"0-40",110,false,{"$f":"IF('Seed Plan'!$D$59=4,TRUE,FALSE)","v":false},{"$f":"IF('Seed Plan'!$F$59=\"0-40\",TRUE,FALSE)","v":false},false]
[null,5,"Hay - Grass",6,"0-3","0-5",70,false,{"$f":"IF('Seed Plan'!$D$54=6,TRUE,FALSE)","v":false},{"$f":"IF('Seed Plan'!$F$54=\"0-3\",TRUE,IF('Seed Plan'!$G$54=\"0-5\",TRUE,FALSE))","v":false},false,null,null,5,"Hay - Grass",5,"0-40",120,false,{"$f":"IF('Seed Plan'!$D$59=5,TRUE,FALSE)","v":false},{"$f":"IF('Seed Plan'!$F$59=\"0-40\",TRUE,FALSE)","v":false},false]
[null,5,"Hay - Grass","7+","0-3","0-5",70,false,{"$f":"IF('Seed Plan'!$D$54=\"7+\",TRUE,FALSE)","v":false},{"$f":"IF('Seed Plan'!$F$54=\"0-3\",TRUE,IF('Seed Plan'!$G$54=\"0-5\",TRUE,FALSE))","v":false},false,null,null,5,"Hay - Grass",6,"0-40",120,false,{"$f":"IF('Seed Plan'!$D$59=6,TRUE,FALSE)","v":false},{"$f":"IF('Seed Plan'!$F$59=\"0-40\",TRUE,FALSE)","v":false},false]
[null,5,"Hay - Grass",2,"4-7","6-10",30,false,{"$f":"IF('Seed Plan'!$D$54=2,TRUE,FALSE)","v":false},{"$f":"IF('Seed Plan'!$F$54=\"4-7\",TRUE,IF('Seed Plan'!$G$54=\"6-10\",TRUE,FALSE))","v":false},false,null,null,5,"Hay - Grass","7+","0-40",120,false,{"$f":"IF('Seed Plan'!$D$59=\"7+\",TRUE,FALSE)","v":false},{"$f":"IF('Seed Plan'!$F$59=\"0-40\",TRUE,FALSE)","v":false},false]
[null,5,"Hay - Grass",3,"4-7","6-10",40,false,{"$f":"IF('Seed Plan'!$D$54=3,TRUE,FALSE)","v":false},{"$f":"IF('Seed Plan'!$F$54=\"4-7\",TRUE,IF('Seed Plan'!$G$54=\"6-10\",TRUE,FALSE))","v":false},false,null,null,5,"Hay - Grass",2,"41-80",60,false,{"$f":"IF('Seed Plan'!$D$59=2,TRUE,FALSE)","v":false},{"$f":"IF('Seed Plan'!$F$59=\"41-80\",TRUE,FALSE)","v":false},false]
[null,5,"Hay - Grass",4,"4-7","6-10",50,false,{"$f":"IF('Seed Plan'!$D$54=4,TRUE,FALSE)","v":false},{"$f":"IF('Seed Plan'!$F$54=\"4-7\",TRUE,IF('Seed Plan'!$G$54=\"6-10\",TRUE,FALSE))","v":false},false,null,null,5,"Hay - Grass",3,"41-80",70,false,{"$f":"IF('Seed Plan'!$D$59=3,TRUE,FALSE)","v":false},{"$f":"IF('Seed Plan'!$F$59=\"41-80\",TRUE,FALSE)","v":false},false]
[null,5,"Hay - Grass",5,"4-7","6-10",60,false,{"$f":"IF('Seed Plan'!$D$54=5,TRUE,FALSE)","v":false},{"$f":"IF('Seed Plan'!$F$54=\"4-7\",TRUE,IF('Seed Plan'!$G$54=\"6-10\",TRUE,FALSE))","v":false},{"$f":"IF(H176=TRUE,IF(I176=TRUE,IF(J176=TRUE,G176,FALSE)))","v":false},null,null,5,"Hay - Grass",4,"41-80",80,false,{"$f":"IF('Seed Plan'!$D$59=4,TRUE,FALSE)","v":false},{"$f":"IF('Seed Plan'!$F$59=\"41-80\",TRUE,FALSE)","v":false},false]
[null,5,"Hay - Grass",6,"4-7","6-10",60,false,{"$f":"IF('Seed Plan'!$D$54=6,TRUE,FALSE)","v":false},{"$f":"IF('Seed Plan'!$F$54=\"4-7\",TRUE,IF('Seed Plan'!$G$54=\"6-10\",TRUE,FALSE))","v":false},false,null,null,5,"Hay - Grass",5,"41-80",90,false,{"$f":"IF('Seed Plan'!$D$59=5,TRUE,FALSE)","v":false},{"$f":"IF('Seed Plan'!$F$59=\"41-80\",TRUE,FALSE)","v":false},{"$f":"IF(S177=TRUE,IF(T177=TRUE,IF(U177=TRUE,R177,FALSE)))","v":false}]
[null,5,"Hay - Grass","7+","4-7","6-10",60,false,{"$f":"IF('Seed Plan'!$D$54=\"7+\",TRUE,FALSE)","v":false},{"$f":"IF('Seed Plan'!$F$54=\"4-7\",TRUE,IF('Seed Plan'!$G$54=\"6-10\",TRUE,FALSE))","v":false},false,null,null,5,"Hay - Grass",6,"41-80",90,false,{"$f":"IF('Seed Plan'!$D$59=6,TRUE,FALSE)","v":false},{"$f":"IF('Seed Plan'!$F$59=\"41-80\",TRUE,FALSE)","v":false},false]
[null,5,"Hay - Grass",2,"8-11","11-15",20,false,{"$f":"IF('Seed Plan'!$D$54=2,TRUE,FALSE)","v":false},{"$f":"IF('Seed Plan'!$F$54=\"8-11\",TRUE,IF('Seed Plan'!$G$54=\"11-15\",TRUE,FALSE))","v":false},false,null,null,5,"Hay - Grass","7+","41-80",90,false,{"$f":"IF('Seed Plan'!$D$59=\"7+\",TRUE,FALSE)","v":false},{"$f":"IF('Seed Plan'!$F$59=\"41-80\",TRUE,FALSE)","v":false},false]
[null,5,"Hay - Grass",3,"8-11","11-15",30,false,{"$f":"IF('Seed Plan'!$D$54=3,TRUE,FALSE)","v":false},{"$f":"IF('Seed Plan'!$F$54=\"8-11\",TRUE,IF('Seed Plan'!$G$54=\"11-15\",TRUE,FALSE))","v":false},false,null,null,5,"Hay - Grass",2,"81-120",30,false,{"$f":"IF('Seed Plan'!$D$59=2,TRUE,FALSE)","v":false},{"$f":"IF('Seed Plan'!$F$59=\"81-120\",TRUE,FALSE)","v":false},false]
[null,5,"Hay - Grass",4,"8-11","11-15",40,false,{"$f":"IF('Seed Plan'!$D$54=4,TRUE,FALSE)","v":false},{"$f":"IF('Seed Plan'!$F$54=\"8-11\",TRUE,IF('Seed Plan'!$G$54=\"11-15\",TRUE,FALSE))","v":false},false,null,null,5,"Hay - Grass",3,"81-120",40,false,{"$f":"IF('Seed Plan'!$D$59=3,TRUE,FALSE)","v":false},{"$f":"IF('Seed Plan'!$F$59=\"81-120\",TRUE,FALSE)","v":false},false]
[null,5,"Hay - Grass",5,"8-11","11-15",50,false,{"$f":"IF('Seed Plan'!$D$54=5,TRUE,FALSE)","v":false},{"$f":"IF('Seed Plan'!$F$54=\"8-11\",TRUE,IF('Seed Plan'!$G$54=\"11-15\",TRUE,FALSE))","v":false},false,null,null,5,"Hay - Grass",4,"81-120",50,false,{"$f":"IF('Seed Plan'!$D$59=4,TRUE,FALSE)","v":false},{"$f":"IF('Seed Plan'!$F$59=\"81-120\",TRUE,FALSE)","v":false},false]
[null,5,"Hay - Grass",6,"8-11","11-15",50,false,{"$f":"IF('Seed Plan'!$D$54=6,TRUE,FALSE)","v":false},{"$f":"IF('Seed Plan'!$F$54=\"8-11\",TRUE,IF('Seed Plan'!$G$54=\"11-15\",TRUE,FALSE))","v":false},false,null,null,5,"Hay - Grass",5,"81-120",60,false,{"$f":"IF('Seed Plan'!$D$59=5,TRUE,FALSE)","v":false},{"$f":"IF('Seed Plan'!$F$59=\"81-120\",TRUE,FALSE)","v":false},false]
[null,5,"Hay - Grass","7+","8-11","11-15",50,false,{"$f":"IF('Seed Plan'!$D$54=\"7+\",TRUE,FALSE)","v":false},{"$f":"IF('Seed Plan'!$F$54=\"8-11\",TRUE,IF('Seed Plan'!$G$54=\"11-15\",TRUE,FALSE))","v":false},false,null,null,5,"Hay - Grass",6,"81-120",60,false,{"$f":"IF('Seed Plan'!$D$59=6,TRUE,FALSE)","v":false},{"$f":"IF('Seed Plan'!$F$59=\"81-120\",TRUE,FALSE)","v":false},false]
[null,5,"Hay - Grass",2,"12-15","16-20",10,false,{"$f":"IF('Seed Plan'!$D$54=2,TRUE,FALSE)","v":false},{"$f":"IF('Seed Plan'!$F$54=\"12-15\",TRUE,IF('Seed Plan'!$G$54=\"16-20\",TRUE,FALSE))","v":false},false,null,null,5,"Hay - Grass","7+","81-120",60,false,{"$f":"IF('Seed Plan'!$D$59=\"7+\",TRUE,FALSE)","v":false},{"$f":"IF('Seed Plan'!$F$59=\"81-120\",TRUE,FALSE)","v":false},false]
[null,5,"Hay - Grass",3,"12-15","16-20",20,false,{"$f":"IF('Seed Plan'!$D$54=3,TRUE,FALSE)","v":false},{"$f":"IF('Seed Plan'!$F$54=\"12-15\",TRUE,IF('Seed Plan'!$G$54=\"16-20\",TRUE,FALSE))","v":false},false,null,null,5,"Hay - Grass",2,"121-160",0,false,{"$f":"IF('Seed Plan'!$D$59=2,TRUE,FALSE)","v":false},{"$f":"IF('Seed Plan'!$F$59=\"121-160\",TRUE,FALSE)","v":false},false]
[null,5,"Hay - Grass",4,"12-15","16-20",30,false,{"$f":"IF('Seed Plan'!$D$54=4,TRUE,FALSE)","v":false},{"$f":"IF('Seed Plan'!$F$54=\"12-15\",TRUE,IF('Seed Plan'!$G$54=\"16-20\",TRUE,FALSE))","v":false},false,null,null,5,"Hay - Grass",3,"121-160",10,false,{"$f":"IF('Seed Plan'!$D$59=3,TRUE,FALSE)","v":false},{"$f":"IF('Seed Plan'!$F$59=\"121-160\",TRUE,FALSE)","v":false},false]
[null,5,"Hay - Grass",5,"12-15","16-20",40,false,{"$f":"IF('Seed Plan'!$D$54=5,TRUE,FALSE)","v":false},{"$f":"IF('Seed Plan'!$F$54=\"12-15\",TRUE,IF('Seed Plan'!$G$54=\"16-20\",TRUE,FALSE))","v":false},false,null,null,5,"Hay - Grass",4,"121-160",20,false,{"$f":"IF('Seed Plan'!$D$59=4,TRUE,FALSE)","v":false},{"$f":"IF('Seed Plan'!$F$59=\"121-160\",TRUE,FALSE)","v":false},false]
[null,5,"Hay - Grass",6,"12-15","16-20",40,false,{"$f":"IF('Seed Plan'!$D$54=6,TRUE,FALSE)","v":false},{"$f":"IF('Seed Plan'!$F$54=\"12-15\",TRUE,IF('Seed Plan'!$G$54=\"16-20\",TRUE,FALSE))","v":false},false,null,null,5,"Hay - Grass",5,"121-160",30,false,{"$f":"IF('Seed Plan'!$D$59=5,TRUE,FALSE)","v":false},{"$f":"IF('Seed Plan'!$F$59=\"121-160\",TRUE,FALSE)","v":false},false]
[null,5,"Hay - Grass","7+","12-15","16-20",40,false,{"$f":"IF('Seed Plan'!$D$54=\"7+\",TRUE,FALSE)","v":false},{"$f":"IF('Seed Plan'!$F$54=\"12-15\",TRUE,IF('Seed Plan'!$G$54=\"16-20\",TRUE,FALSE))","v":false},false,null,null,5,"Hay - Grass",6,"121-160",30,false,{"$f":"IF('Seed Plan'!$D$59=6,TRUE,FALSE)","v":false},{"$f":"IF('Seed Plan'!$F$59=\"121-160\",TRUE,FALSE)","v":false},false]
[null,5,"Hay - Grass",2,"16+","21+",0,false,{"$f":"IF('Seed Plan'!$D$54=2,TRUE,FALSE)","v":false},{"$f":"IF('Seed Plan'!$F$54=\"16+\",TRUE,IF('Seed Plan'!$G$54=\"21+\",TRUE,FALSE))","v":false},false,null,null,5,"Hay - Grass","7+","121-160",30,false,{"$f":"IF('Seed Plan'!$D$59=\"7+\",TRUE,FALSE)","v":false},{"$f":"IF('Seed Plan'!$F$59=\"121-160\",TRUE,FALSE)","v":false},false]
[null,5,"Hay - Grass",3,"16+","21+",0,false,{"$f":"IF('Seed Plan'!$D$54=3,TRUE,FALSE)","v":false},{"$f":"IF('Seed Plan'!$F$54=\"16+\",TRUE,IF('Seed Plan'!$G$54=\"21+\",TRUE,FALSE))","v":false},false,null,null,5,"Hay - Grass",2,"160+",0,false,{"$f":"IF('Seed Plan'!$D$59=2,TRUE,FALSE)","v":false},{"$f":"IF('Seed Plan'!$F$59=\"161+\",TRUE,FALSE)","v":false},false]
[null,5,"Hay - Grass",4,"16+","21+",0,false,{"$f":"IF('Seed Plan'!$D$54=4,TRUE,FALSE)","v":false},{"$f":"IF('Seed Plan'!$F$54=\"16+\",TRUE,IF('Seed Plan'!$G$54=\"21+\",TRUE,FALSE))","v":false},false,null,null,5,"Hay - Grass",3,"160+",0,false,{"$f":"IF('Seed Plan'!$D$59=3,TRUE,FALSE)","v":false},{"$f":"IF('Seed Plan'!$F$59=\"161+\",TRUE,FALSE)","v":false},false]
[null,5,"Hay - Grass",5,"16+","21+",0,false,{"$f":"IF('Seed Plan'!$D$54=5,TRUE,FALSE)","v":false},{"$f":"IF('Seed Plan'!$F$54=\"16+\",TRUE,IF('Seed Plan'!$G$54=\"21+\",TRUE,FALSE))","v":false},false,null,null,5,"Hay - Grass",4,"160+",0,false,{"$f":"IF('Seed Plan'!$D$59=4,TRUE,FALSE)","v":false},{"$f":"IF('Seed Plan'!$F$59=\"161+\",TRUE,FALSE)","v":false},false]
[null,5,"Hay - Grass",6,"16+","21+",0,false,{"$f":"IF('Seed Plan'!$D$54=6,TRUE,FALSE)","v":false},{"$f":"IF('Seed Plan'!$F$54=\"16+\",TRUE,IF('Seed Plan'!$G$54=\"21+\",TRUE,FALSE))","v":false},false,null,null,5,"Hay - Grass",5,"160+",0,false,{"$f":"IF('Seed Plan'!$D$59=5,TRUE,FALSE)","v":false},{"$f":"IF('Seed Plan'!$F$59=\"161+\",TRUE,FALSE)","v":false},false]
[null,5,"Hay - Grass","7+","16+","21+",0,false,{"$f":"IF('Seed Plan'!$D$54=\"7+\",TRUE,FALSE)","v":false},{"$f":"IF('Seed Plan'!$F$54=\"16+\",TRUE,IF('Seed Plan'!$G$54=\"21+\",TRUE,FALSE))","v":false},false,null,null,5,"Hay - Grass",6,"160+",0,false,{"$f":"IF('Seed Plan'!$D$59=6,TRUE,FALSE)","v":false},{"$f":"IF('Seed Plan'!$F$59=\"161+\",TRUE,FALSE)","v":false},false]
[null,null,null,null,null,null,null,null,null,null,{"$f":"SUM(K46:K196)","v":0},null,null,5,"Hay - Grass","7+","160+",0,false,{"$f":"IF('Seed Plan'!$D$59=\"7+\",TRUE,FALSE)","v":false},{"$f":"IF('Seed Plan'!$F$59=\"161+\",TRUE,FALSE)","v":false},false]
[null,null,null,null,null,null,null,null,null,null,null,null,null,null,null,null,null,null,null,null,null,{"$f":"SUM(V48:V197)","v":0}]
[]
[]
[]
[]
[null,"Forage Suitability Tables"]
[]
[null,"Group #"]
[null,"Excessively Drained"]
[null,"Somewhat Excessively Drained"]
[null,"Well Drained"]
[null,"Moderately Well Drained"]
[null,"Somewhat Poorly Drained"]
[null,"Poorly Drained"]
[null,"Very Poorly Drained"]
[]
[]
[]
[]
[]
[]
[]
[]
[]
[]
[]
[]
[]
[]
[]
[]
[]
[]
[]
[]
[null,"Frost Seeding"]
[null,"Cool Season Grasses and Legumes"]
[null,"Warm Season Native Grasses"]
[]
[]
[null,"North: Cool Season Grasses & Legumes - April 1 to June 15 OR July 15 to September 1"]
[null,"South: Cool Season Grasses & Legumes - April 1 to June 1 OR August 1 to September 10"]
[null,"DORMANT-Statewide: Cool Season Grasses & Legumes - November 1 OR Consistent Soil Temperature < 40* F"]
[null,"Statewide: Warm Season Grasses & Legumes - May 15 to June 30"]
[null,"DORMANT-Statewide: Warm Season Grasses & Legumes - November 1 OR Consistent Soil Temperature < 50* F"]
[]
[]
[]
[null,"Conventional or no-till drill into prepared seedbed:  Seedbed should be tilled and clean of all vegetation and weeds, packed and firm enough to make a 1/2' or less boot imprint."]
[]
[null,"No-till drill into existing sod:  Seedbed preparation will vary from site to site.  Most common seedbed preparation methods can included heavy grazing, light tillage, herbicide application, or a combination.  Existing vegetation should be as severly suppresed for grass seeds to germinate and grow without excessive competition."]
[]
[null,"Broadcasting via terrigator or vicon seeder:  Seedbed should be tilled and clean of all vegetation and weeds, packed and firm enough to make a 1/2' or less boot imprint.  Pack or light harrow following application to ensure proper seed to soil contact."]
[]
[null,"Frost seeding:  Seedbed preparation will vary from site to site.  Most common seedbed preparation methods can included heavy grazing, light tillage, herbicide application, or a combination.  Existing vegetation should be as severly suppresed for grass seeds to germinate and grow without excessive competition."]
[]
[null,"Broadcast legumes into existing pasture.  Heavy grazing prior to seeding is recommended and follow seeding with a light harrow to improve seed to soil contact"]
[]
[]
[]
[]
[]
[null,"P and K fertilizer recommendations have been based on a soils test provided to NRCS.  Rates are based on the University of Minnesota Extension Service bulletin #BU-06240-S Revised 2001.  Fertilizer can be applied either before or during the time of seeding with use of a drill or broadcasting.  Liming and fertilizing will be applied in accodinance with MN NRCS Conservation Practice Standard 590 Nutrient Managment."]
[null,null,null,null,null,null,null,"Oats 3/4-1.25 BU/Ac"]
[null,null,null,null,null,null,null,"Barley  1/2 - 1 BU/Ac"]
[null,null,null,null,null,null,null,"Wheat  1/2 BU/Ac"]
[null,null,null,null,null,null,null,"Ryegrass  < 2.5lbs/ac"]
[]
[]
[]
[]
[]
[]
[null,"Hay","Hay Planting - Growth of seedlings or sprigs shall be monitored for water stress. Water stress may require reducing weeds, early harvest of any companion crops, irrigating when possible or replanting failed stands. Invasion by undesirable plants shall be controlled by cutting, using a selective herbicide, prescribed burning, or by grazing management by manipulating livestock stocking rates, density, and duration of stay. Insects and diseases shall be controlled when an infestation exceeds economic injury levels. Please refer to MN NRCS Conservation Practice 511 Forage Harvest Management."]
[null,"Pasture","Pasture Planting - Growth of seedlings or sprigs shall be monitored for water stress. Water stress may require reducing weeds, early harvest of any companion crops, irrigating when possible or replanting failed stands. Invasion by undesirable plants shall be controlled by cutting, using a selective herbicide, prescribed burning, or by grazing management by manipulating livestock stocking rates, density, and duration of stay. Insects and diseases shall be controlled when an infestation exceeds economic injury levels.  Light grazing events, delayed mechanical harvest, or season long rest should be considered during the establishment year to allow the stand to develop. "]
[]
[]
[]
[]
[]
[]
[]
[]
["Species","Seeds/lb","Pure Stand","Grass Mix"]
["Introduced Cool Season Grasses",0,0,0]
["Kentucky Bluegrass",2177000]
["Smooth Bromegrass",136000,16,10]
["Meadow Bromegrass",80000,22,16]
["Timothy",1230000,6,3]
["Orchard grass",654000,4,4]
["Reed Canary Grass",526000,7,5]
["Tall Fescue",227000,10,7]
["Perennial Ryegrass",225000,12,3]
["Creeping Foxtail",900000,4,4]
["Crested Wheatgrass",175500,8,8]
["Intermediate Wheatgrass",88000,20,15]
["Festolium",226000,12,3]
["Meadow Fescue",230000,10,7]
["Tall Wheatgrass",79000]
[]
["Native Cool Season Grasses",0,0,0]
["Canada Wildrye",115000,15,3]
["Western Wheatgrass",112000,15,8]
["Slender Wheatgrass",150000,15,10]
["Green needle grass",180000]
["Needle and thread grass",150000]
[]
[]
["Native Warm Season Grasses",0,0,0]
["Big Bluestem",165000,10,10]
["Little Bluestem",261360,8,8]
["Sideoats Grama",191664,8,8]
["Indiangrass",175000,10,10]
["Switchgrass",260000,6,2]
[]
["Legumes",0,0,0]
["Alfalfa",220000,12,7]
["Red Clover",275000,10,7]
["White Clover",800000,3,1]
["Alsike Clover",700000,5,2]
["Sweet Clover",260000,10,3]
["Kura Clover",800000,5,4]
["Cicer Milkvetch",130000,15,5]
["Ladino Clover",800000,3,1]
["Birdsfoot Trefoil",372000,10,7]

{"sheet":"Seeding Checkout","index":3,"n_rows":192,"n_cols":14,"rows_kept":192,"cut":false,"hidden":false,"merged":[[133,0,133,2],[134,0,134,15],[135,0,135,2],[136,0,136,2],[137,0,137,2],[143,0,143,2],[144,0,150,5],[144,11,149,11],[138,0,138,2],[139,0,139,2],[140,0,140,2],[141,0,141,2],[142,0,142,2],[3,5,3,6],[3,7,3,8],[47,2,47,4],[49,2,49,4],[22,0,23,3],[22,8,23,10],[30,2,30,13],[42,5,42,6],[43,5,43,6],[44,2,44,4],[41,2,41,4],[42,2,42,4],[43,2,43,4],[45,5,45,6],[0,0,0,13],[17,0,18,2],[16,0,16,6],[16,8,16,13],[17,8,18,9],[9,7,10,11],[10,3,10,6],[11,3,11,6],[15,0,15,13],[3,0,3,1],[5,0,5,1],[7,0,7,1],[9,3,9,6],[18,4,18,5],[18,11,18,12],[13,2,13,5],[14,2,14,5],[9,0,10,2],[3,10,3,11],[5,2,5,5],[5,8,5,10],[7,2,7,3],[7,9,7,10],[3,2,3,3],[52,2,52,4],[68,3,68,6],[68,8,68,9],[46,2,46,4],[46,5,46,6],[37,5,37,6],[25,2,25,5],[26,2,28,5],[35,5,35,6],[39,2,39,4],[40,2,40,4],[35,2,35,4],[36,2,36,4],[37,2,37,4],[36,5,36,6],[40,5,40,6],[41,5,41,6],[45,2,45,4],[25,7,25,10],[26,7,28,10],[63,3,63,6],[92,0,92,2],[93,0,93,15],[94,0,94,2],[95,0,95,2],[103,11,108,11],[101,0,101,2],[96,0,96,2],[97,0,97,2],[98,0,98,2],[99,0,99,2],[100,0,100,2],[102,0,102,2],[31,7,34,7],[31,8,34,8],[31,9,34,9],[31,10,34,10],[31,13,34,13],[31,11,34,11],[31,12,34,12],[31,2,34,4],[31,5,34,6],[184,0,184,2],[185,0,191,5],[185,11,190,11],[54,2,54,4],[38,5,38,6],[38,2,38,4],[48,5,48,6],[48,2,48,4],[179,0,179,2],[180,0,180,2],[181,0,181,2],[182,0,182,2],[183,0,183,2],[174,0,174,2],[175,0,175,15],[176,0,176,2],[177,0,177,2],[178,0,178,2],[39,5,39,6],[44,5,44,6],[47,5,47,6],[49,5,49,6],[103,0,109,5],[50,2,50,4]]}
["SEEDING CHECKOUT"]
[]
[]
["Date:",null,{"$f":"TODAY()","v":"2021-09-20"},null,null,"Paddock/Field No:",null,null,null,"Acres:"]
[]
["Cooperator:",null,null,null,null,null,null,"Conservationist:"]
[]
["Program:",null,null,null,null,"Practice No.:",null,null,"Practice Name:"]
[]
["Drainage Class",null,null,null,null,null,null,"Does planting bill include fertilizer?"]
[]
[]
[]
[null,null,"ENTER THE ACTUAL DATE OF SEEDING"]
[]
["FERTILIZER CHECKOUT"]
["Phosphate (P2O5)",null,null,null,null,null,null,null,"Potash"]
["Recommended lbs/acre:",null,null,null,null,"analysis",52,null,"Recommended lbs/acre:",null,null,null,"analysis",60]
[null,null,null,null,"Total lbs applied",null,null,null,null,null,null,"Total lbs applied"]
[null,null,null,null,null,"acres",{"$f":"K$4","v":0},null,null,null,null,null,"acres",{"$f":"K4","v":0}]
[null,null,null,"Net Phosphate Applied lbs/Acre:",{"$f":"(G19*G18/100)/G20","v":{"$error":"#DIV/0!"}},null,null,null,null,null,"Net Potash Applied lbs/Acre:",{"$f":"(N19*N18/100)/N20","v":{"$error":"#DIV/0!"}}]
[]
["Difference of Recommended vs. Applied lbs/acre:",null,null,null,null,null,null,null,"Difference of Recommended vs. Applied lbs/acre:"]
[null,null,null,null,{"$f":"E21-D19","v":{"$error":"#DIV/0!"}},null,null,null,null,null,null,{"$f":"L21-K19","v":{"$error":"#DIV/0!"}}]
[]
[null,null,"ENTER THE PLANNED SEEDS / sq ft:",null,null,null,null,"ENTER THE PLANNED PLS lbs / acre:"]
[]
[]
[]
[]
[null,null,"SEEDING CHECKOUT TABLE"]
[null,null,"Seed Species",null,null,"Variety",null,"Seeds/lbs","Bulk lbs Purchased","Percent Purity","Percent Germ.","Applied Seeds/sq ft PLS","Applied seeding rate PLS Lbs/ac","% of Mixture"]
[]
[]
[]
["",null,null,null,null,null,null,{"$f":"IF(C36=\"\",0,VLOOKUP(C36,Sheet3!$A$282:$D$322,2,FALSE))","v":0},null,null,null,{"$f":"IF(C36=\"\",\"\",(H36*M36)/43560)","v":""},{"$f":"IF(ISNUMBER(I36),(J36*K36*I36)/'Seeding Checkout'!$K$4,\"\")","v":""},{"$f":"IF(ISNUMBER(I36),M36/$M$57,\"\")","v":""}]
[null,null,null,null,null,null,null,{"$f":"IF(C37=\"\",0,VLOOKUP(C37,Sheet3!$A$282:$D$322,2,FALSE))","v":0},null,null,null,{"$f":"IF(C37=\"\",\"\",(H37*M37)/43560)","v":""},{"$f":"IF(ISNUMBER(I37),(J37*K37*I37)/'Seeding Checkout'!$K$4,\"\")","v":""},""]
[null,null,null,null,null,null,null,{"$f":"IF(C38=\"\",0,VLOOKUP(C38,Sheet3!$A$282:$D$322,2,FALSE))","v":0},null,null,null,"",{"$f":"IF(ISNUMBER(I38),(J38*K38*I38)/'Seeding Checkout'!$K$4,\"\")","v":""},""]
[null,null,null,null,null,null,null,{"$f":"IF(C39=\"\",0,VLOOKUP(C39,Sheet3!$A$282:$D$322,2,FALSE))","v":0},null,null,null,"",{"$f":"IF(ISNUMBER(I39),(J39*K39*I39)/'Seeding Checkout'!$K$4,\"\")","v":""},""]
[null,null,null,null,null,null,null,{"$f":"IF(C40=\"\",0,VLOOKUP(C40,Sheet3!$A$282:$D$322,2,FALSE))","v":0},null,null,null,"",{"$f":"IF(ISNUMBER(I40),(J40*K40*I40)/'Seeding Checkout'!$K$4,\"\")","v":""},""]
[null,null,null,null,null,null,null,{"$f":"IF(C41=\"\",0,VLOOKUP(C41,Sheet3!$A$282:$D$322,2,FALSE))","v":0},null,null,null,"",{"$f":"IF(ISNUMBER(I41),(J41*K41*I41)/'Seeding Checkout'!$K$4,\"\")","v":""},""]
[null,null,null,null,null,null,null,{"$f":"IF(C42=\"\",0,VLOOKUP(C42,Sheet3!$A$282:$D$322,2,FALSE))","v":0},null,null,null,"",{"$f":"IF(ISNUMBER(I42),(J42*K42*I42)/'Seeding Checkout'!$K$4,\"\")","v":""},""]
[null,null,null,null,null,null,null,{"$f":"IF(C43=\"\",0,VLOOKUP(C43,Sheet3!$A$282:$D$322,2,FALSE))","v":0},null,null,null,"",{"$f":"IF(ISNUMBER(I43),(J43*K43*I43)/'Seeding Checkout'!$K$4,\"\")","v":""},""]
[null,null,null,null,null,null,null,{"$f":"IF(C44=\"\",0,VLOOKUP(C44,Sheet3!$A$282:$D$322,2,FALSE))","v":0},null,null,null,"",{"$f":"IF(ISNUMBER(I44),(J44*K44*I44)/'Seeding Checkout'!$K$4,\"\")","v":""},""]
[null,null,null,null,null,null,null,{"$f":"IF(C45=\"\",0,VLOOKUP(C45,Sheet3!$A$282:$D$322,2,FALSE))","v":0},null,null,null,"",{"$f":"IF(ISNUMBER(I45),(J45*K45*I45)/'Seeding Checkout'!$K$4,\"\")","v":""},""]
[null,null,null,null,null,null,null,{"$f":"IF(C46=\"\",0,VLOOKUP(C46,Sheet3!$A$282:$D$322,2,FALSE))","v":0},null,null,null,"",{"$f":"IF(ISNUMBER(I46),(J46*K46*I46)/'Seeding Checkout'!$K$4,\"\")","v":""},""]
[null,null,null,null,null,null,null,{"$f":"IF(C47=\"\",0,VLOOKUP(C47,Sheet3!$A$282:$D$322,2,FALSE))","v":0},null,null,null,"",{"$f":"IF(ISNUMBER(I47),(J47*K47*I47)/'Seeding Checkout'!$K$4,\"\")","v":""},""]
[null,null,"OTHER",null,null,null,null,null,null,null,null,{"$f":"IF(C48=\"Other\",\"\",(H48*M48)/43560)","v":""},{"$f":"IF(ISNUMBER(I48),(J48*K48*I48)/'Seeding Checkout'!$K$4,\"\")","v":""},""]
[null,null,"OTHER",null,null,null,null,null,null,null,null,{"$f":"IF(C49=\"Other\",\"\",(H49*M49)/43560)","v":""},{"$f":"IF(ISNUMBER(I49),(J49*K49*I49)/'Seeding Checkout'!$K$4,\"\")","v":""},{"$f":"IF(ISNUMBER(I49),M49/$M$57,\"\")","v":""}]
[null,null,"OTHER",null,null,null,null,null,null,null,null,{"$f":"IF(C50=\"Other\",\"\",(H50*M50)/43560)","v":""},{"$f":"IF(ISNUMBER(I50),(J50*K50*I50)/'Seeding Checkout'!$K$4,\"\")","v":""},{"$f":"IF(ISNUMBER(I50),M50/$M$57,\"\")","v":""}]
[]
[null,null,null,null,null,null,null,null,null,null,"Multi Species Seed Tag #1:",{"$f":"IF(J110=0,\"\",J110)","v":""},{"$f":"IF(K110=0,\"\",K110)","v":""},{"$f":"IF(ISNUMBER(M52),M52/$M$57,\"\")","v":""}]
[]
[null,null,null,null,null,null,null,null,null,null,"Multi Species Seed Tag #2:",{"$f":"IF(J151=0,\"\",J151)","v":""},{"$f":"IF(K151=0,\"\",K151)","v":""},{"$f":"IF(ISNUMBER(M54),M54/$M$57,\"\")","v":""}]
[]
[null,null,null,null,null,null,null,null,null,null,"Multi Species Seed Tag #3:",{"$f":"IF(J192=0,\"\",J192)","v":""},{"$f":"IF(K192=0,\"\",K192)","v":""},{"$f":"IF(ISNUMBER(M56),M56/$M$57,\"\")","v":""}]
[null,null,null,null,null,null,null,null,null,null,"Totals:",{"$f":"SUM(L36:L56)","v":0},{"$f":"SUM(M36:M56)","v":0},{"$f":"SUM(N36:N56)","v":0}]
[]
[null,null,null,null,null,null,null,null,"Applied Seeds / sq ft:",{"$f":"L57","v":0},null,null,"Applied PLS lbs / ac:",{"$f":"M57","v":0}]
[null,null,null,null,null,null,null,null,"Planned Seeds / sq ft:",{"$f":"C27","v":0},null,null,"Planned PLS lbs / ac",{"$f":"H27","v":0}]
[null,null,null,null,null,null,null,null,null,{"$f":"J59-J60","v":0},null,null,null,{"$f":"N59-N60","v":0}]
[]
[]
[]
[]
[]
[null,null,null,"I certify that the above information does/ does not meet NRCS specifications for design and installation."]
[]
[]
[null,null,null,"Conservationist Signature",null,null,null,null,"Date ",null,null,"Job Class"]
[]
[]
[]
[]
[]
[]
[]
[]
[]
[]
[]
[]
[]
[]
[]
[]
[]
[]
[]
[]
[null,null,"Acres",{"$f":"$K$4","v":0}]
[]
["BULK LBS PURCHASED"]
["MIXED SEED TAG #1 REPORT"]
["Species",null,null,"Seeds/Lbs","% Purity","%Germ","% PLS","Bulk Lbs in Mix","Total Lbs PLS Purchased","Applied Seeds/Sq Ft PLS","Applied Seeding Rate PLS Lbs/ac","% of Mix seed/sq ft"]
[null,null,null,{"$f":"IF(A96=\"\",\"\",IF(A96=\"Select\",0,VLOOKUP(A96,Sheet3!$A$282:$D$322,2,FALSE)))","v":""},null,null,{"$f":"E96*F96","v":0},{"$f":"E96*$D$93","v":0},{"$f":"G96*$D$93","v":0},{"$f":"IF(G96=0,0,I96*D96/$D$91/43560)","v":0},{"$f":"IF($D$91=0,\"\",I96/$D$91)","v":""},{"$f":"IF(J96=0,0,J96/$J$110)","v":0}]
[null,null,null,{"$f":"IF(A97=\"\",\"\",IF(A97=\"Select\",0,VLOOKUP(A97,Sheet3!$A$282:$D$322,2,FALSE)))","v":""},null,null,{"$f":"E97*F97","v":0},{"$f":"E97*$D$93","v":0},{"$f":"G97*$D$93","v":0},{"$f":"IF(G97=0,0,I97*D97/$D$91/43560)","v":0},{"$f":"IF($D$91=0,\"\",I97/$D$91)","v":""},0]
[null,null,null,{"$f":"IF(A98=\"\",\"\",IF(A98=\"Select\",0,VLOOKUP(A98,Sheet3!$A$282:$D$322,2,FALSE)))","v":""},null,null,0,0,0,0,"",0]
[null,null,null,{"$f":"IF(A99=\"\",\"\",IF(A99=\"Select\",0,VLOOKUP(A99,Sheet3!$A$282:$D$322,2,FALSE)))","v":""},null,null,0,0,0,0,"",0]
[null,null,null,{"$f":"IF(A100=\"\",\"\",IF(A100=\"Select\",0,VLOOKUP(A100,Sheet3!$A$282:$D$322,2,FALSE)))","v":""},null,null,0,0,0,0,"",0]
[null,null,null,{"$f":"IF(A101=\"\",\"\",IF(A101=\"Select\",0,VLOOKUP(A101,Sheet3!$A$282:$D$322,2,FALSE)))","v":""},null,null,0,0,0,0,"",0]
["OTHER",null,null,null,null,null,0,0,0,0,"",0]
["OTHER",null,null,null,null,null,0,0,{"$f":"G103*$D$93","v":0},0,"",0]
[]
[]
[]
[]
[]
[null,null,null,null,null,null,{"$f":"SUM(G96:G108)","v":0}]
[null,null,null,null,null,null,"Totals",{"$f":"SUM(H96:H109)","v":0},{"$f":"SUM(I96:I109)","v":0},{"$f":"SUM(J96:J109)","v":0},{"$f":"SUM(K96:K109)","v":0},{"$f":"SUM(L96:L109)","v":0}]
[]
[]
[]
[]
[]
[]
[]
[]
[]
[]
[]
[]
[]
[]
[]
[]
[]
[]
[]
[]
[]
[null,null,"Acres",{"$f":"$K$4","v":0}]
[]
["BULK LBS PURCHASED"]
["MIXED SEED TAG #2 REPORT"]
["Species",null,null,"Seeds/Lbs","% Purity","%Germ","% PLS","Bulk Lbs in Mix","Total Lbs PLS Purchased","Applied Seeds/Sq Ft PLS","Applied Seeding Rate PLS Lbs/ac","% of Mix seed/sq ft"]
[null,null,null,{"$f":"IF(A137=\"\",\"\",IF(A137=\"Select\",0,VLOOKUP(A137,Sheet3!$A$282:$D$322,2,FALSE)))","v":""},null,null,{"$f":"E137*F137","v":0},{"$f":"E137*$D$134","v":0},{"$f":"G137*$D$134","v":0},{"$f":"IF(G137=0,0,I137*D137/$D132/43560)","v":0},{"$f":"IF($D$91=0,\"\",I137/$D$91)","v":""},{"$f":"IF(J137=0,0,J137/J151)","v":0}]
[null,null,null,{"$f":"IF(A138=\"\",\"\",IF(A138=\"Select\",0,VLOOKUP(A138,Sheet3!$A$282:$D$322,2,FALSE)))","v":""},null,null,{"$f":"E138*F138","v":0},{"$f":"E138*$D$134","v":0},{"$f":"G138*$D$134","v":0},{"$f":"IF(G138=0,0,I138*D138/$D$132/43560)","v":0},{"$f":"IF($D$91=0,\"\",I138/$D$91)","v":""},{"$f":"IF(J138=0,0,J138/$J$151)","v":0}]
[null,null,null,{"$f":"IF(A139=\"\",\"\",IF(A139=\"Select\",0,VLOOKUP(A139,Sheet3!$A$282:$D$322,2,FALSE)))","v":""},null,null,0,0,0,0,"",0]
[null,null,null,{"$f":"IF(A140=\"\",\"\",IF(A140=\"Select\",0,VLOOKUP(A140,Sheet3!$A$282:$D$322,2,FALSE)))","v":""},null,null,0,0,0,0,"",0]
[null,null,null,{"$f":"IF(A141=\"\",\"\",IF(A141=\"Select\",0,VLOOKUP(A141,Sheet3!$A$282:$D$322,2,FALSE)))","v":""},null,null,0,0,0,0,"",0]
[null,null,null,{"$f":"IF(A142=\"\",\"\",IF(A142=\"Select\",0,VLOOKUP(A142,Sheet3!$A$282:$D$322,2,FALSE)))","v":""},null,null,0,0,0,0,"",0]
["OTHER",null,null,null,null,null,0,0,0,0,"",0]
["OTHER",null,null,null,null,null,0,0,0,0,"",0]
[]
[]
[]
[]
[]
[null,null,null,null,null,null,{"$f":"SUM(G137:G149)","v":0}]
[null,null,null,null,null,null,"Totals",{"$f":"IF(D134=\"\",SUM(H137:H150),IF(SUM(H137:H150)=0,D134,\"\"))","v":0},{"$f":"SUM(I137:I150)","v":0},{"$f":"SUM(J137:J150)","v":0},{"$f":"SUM(K137:K150)","v":0},{"$f":"SUM(L137:L150)","v":0}]
[]
[]
[]
[]
[]
[]
[]
[]
[]
[]
[]
[]
[]
[]
[]
[]
[]
[]
[]
[]
[]
[null,null,"Acres",{"$f":"$K$4","v":0}]
[]
["BULK LBS PURCHASED"]
["MIXED SEED TAG #3 REPORT"]
["Species",null,null,"Seeds/Lbs","% Purity","%Germ","% PLS","Bulk Lbs Purchased","Total Lbs PLS Purchased","Applied Seeds/Sq Ft PLS","Applied Seeding Rate PLS Lbs/ac","% of Mix seed/sq ft"]
[null,null,null,{"$f":"IF(A178=\"\",\"\",IF(A178=\"Select\",0,VLOOKUP(A178,Sheet3!$A$282:$D$322,2,FALSE)))","v":""},null,null,{"$f":"E178*F178","v":0},{"$f":"E178*$D$175","v":0},{"$f":"G178*$D$175","v":0},{"$f":"IF(G178=0,0,I178*D178/$D$173/43560)","v":0},{"$f":"IF($D$91=0,\"\",I178/$D$91)","v":""},{"$f":"IF(J178=0,0,J178/$J$192)","v":0}]
[null,null,null,{"$f":"IF(A179=\"\",\"\",IF(A179=\"Select\",0,VLOOKUP(A179,Sheet3!$A$282:$D$322,2,FALSE)))","v":""},null,null,{"$f":"E179*F179","v":0},{"$f":"E179*$D$175","v":0},{"$f":"G179*$D$175","v":0},{"$f":"IF(G179=0,0,I179*D179/$D$173/43560)","v":0},{"$f":"IF($D$91=0,\"\",I179/$D$91)","v":""},{"$f":"IF(J179=0,0,J179/$J$192)","v":0}]
[null,null,null,{"$f":"IF(A180=\"\",\"\",IF(A180=\"Select\",0,VLOOKUP(A180,Sheet3!$A$282:$D$322,2,FALSE)))","v":""},null,null,0,0,0,0,"",0]
[null,null,null,{"$f":"IF(A181=\"\",\"\",IF(A181=\"Select\",0,VLOOKUP(A181,Sheet3!$A$282:$D$322,2,FALSE)))","v":""},null,null,0,0,0,0,"",0]
[null,null,null,{"$f":"IF(A182=\"\",\"\",IF(A182=\"Select\",0,VLOOKUP(A182,Sheet3!$A$282:$D$322,2,FALSE)))","v":""},null,null,0,0,0,0,"",0]
[null,null,null,{"$f":"IF(A183=\"\",\"\",IF(A183=\"Select\",0,VLOOKUP(A183,Sheet3!$A$282:$D$322,2,FALSE)))","v":""},null,null,0,0,0,0,"",0]
["OTHER",null,null,null,null,null,0,0,0,0,"",0]
["OTHER",null,null,null,null,null,0,0,0,0,"",0]
[]
[]
[]
[]
[]
[null,null,null,null,null,null,{"$f":"SUM(G178:G190)","v":0}]
[null,null,null,null,null,null,"Totals",{"$f":"IF(D175=\"\",SUM(H178:H191),IF(SUM(H178:H191)=0,D175,\"\"))","v":0},{"$f":"SUM(I178:I191)","v":0},{"$f":"SUM(J178:J191)","v":0},{"$f":"SUM(K178:K191)","v":0},{"$f":"SUM(L178:L191)","v":0}]

{"sheet":"Fertilizer","index":4,"n_rows":88,"n_cols":14,"rows_kept":88,"cut":false,"hidden":false,"merged":[[40,5,42,5],[28,5,29,5],[85,6,85,7],[86,6,86,7],[81,5,82,5],[44,6,44,7],[72,6,73,7],[74,6,74,7],[75,6,75,7],[73,5,75,5],[57,5,59,5],[33,6,34,7],[65,5,66,5],[87,6,87,7],[63,6,63,7],[70,6,70,7],[71,6,71,7],[82,6,82,7],[83,6,83,7],[84,6,84,7],[77,6,77,7],[78,6,78,7],[79,6,79,7],[48,11,49,11],[48,12,49,12],[50,6,50,7],[80,6,81,7],[62,6,62,7],[48,6,49,7],[48,8,49,8],[48,9,49,9],[48,10,49,10],[76,6,76,7],[59,6,59,7],[56,5,56,6],[58,6,58,7],[57,6,57,7],[67,6,67,7],[68,6,68,7],[69,6,69,7],[66,6,66,7],[60,6,60,7],[61,6,61,7],[64,6,65,7],[45,10,46,10],[45,11,46,11],[45,12,46,12],[47,6,47,7],[45,6,46,7],[45,8,46,8],[45,9,46,9],[24,12,25,12],[26,6,26,7],[40,6,42,7],[42,8,43,8],[42,9,43,9],[42,10,43,10],[42,11,43,11],[42,12,43,12],[43,6,43,7],[24,8,25,8],[24,9,25,9],[24,10,25,10],[24,11,25,11],[36,12,37,12],[30,12,31,12],[33,12,34,12],[38,6,38,7],[24,6,25,7],[21,11,22,11],[18,10,19,10],[36,9,37,9],[36,10,37,10],[36,11,37,11],[33,8,34,8],[33,9,34,9],[33,10,34,10],[33,11,34,11],[30,9,31,9],[30,10,31,10],[30,11,31,11],[35,6,35,7],[36,8,37,8],[16,6,18,7],[19,6,19,7],[28,6,30,7],[31,6,31,7],[32,6,32,7],[30,8,31,8],[36,6,37,7],[9,12,10,12],[18,11,19,11],[18,12,19,12],[12,10,13,10],[12,11,13,11],[12,12,13,12],[21,10,22,10],[21,12,22,12],[2,5,2,6],[4,5,7,5],[16,5,19,5],[3,6,4,7],[18,8,19,8],[18,9,19,9],[5,10,6,10],[5,12,6,12],[5,11,6,11],[5,9,6,9],[5,6,6,7],[7,6,7,7],[8,6,8,7],[5,8,6,8],[11,6,11,7],[12,6,13,7],[16,0,17,0],[21,6,22,7],[21,8,22,8],[21,9,22,9],[20,6,20,7],[23,6,23,7],[9,9,10,9],[9,10,10,10],[9,11,10,11],[12,8,13,8],[12,9,13,9],[12,0,12,3],[13,0,14,0],[13,1,14,2],[16,3,17,3],[13,3,14,3],[15,0,15,3],[16,1,17,2],[19,1,19,2],[18,0,18,3],[0,0,0,8],[4,0,5,0],[4,1,5,2],[7,0,8,0],[7,1,8,2],[6,0,6,3],[7,3,8,3],[9,6,10,7],[9,8,10,8],[9,0,9,3],[10,0,11,0],[10,1,11,2],[10,3,11,3]]}
["Fertilizer Recommendations"]
[]
["Nitrogen",null,null,null,null,"Phosphorus"]
[null,null,null,"N to Apply",null,null,"Yield Goal Tons/Ac",null,"0--5","6-10","11-15","16-20","21+","Bray"]
[">20% Legume","Nitrogen application is not recommended.",null,null,null,"Pasture >20% Legume",null,null,"0-3","4-7","8-11","12-15","16+","Olson"]
[null,null,null,null,null,null,2,null,35,25,15,0,0]
[]
["<20% Legume","Rotational grazing & adequate rainfall.",null,150,null,null,3,null,55,40,25,10,0]
[null,null,null,null,null,null,4,null,70,50,30,10,0]
[null,null,null,null,null,null,5,null,90,65,40,15,0]
[null,"Continuous grazing & adequate rainfall",null,100]
[null,null,null,null,null,null,6,null,90,65,40,15,0]
[null,null,null,null,null,null,"7+",null,90,65,40,15,0]
[null,"Grazing & moderate rainfall",null,50]
[]
[]
[null,"Sandy soils, steep slopes, low precip areas",null,30,null,"Pasture <20% Legume","Yield Goal Tons/Ac",null,"0--5","6-10","11-15","16-20","21+","Bray"]
[null,null,null,null,null,null,null,null,"0-3","4-7","8-11","12-15","16+","Olson"]
[null,null,null,null,null,null,null,null,40,30,20,10,0]
[null,"Organic Soils",null,50,null,null,2]
[null,null,null,null,null,null,3,null,50,40,30,20,0]
[null,null,null,null,null,null,4,null,60,50,40,30,0]
[]
[null,null,null,null,null,null,5,null,70,60,50,40,0]
[null,null,null,null,null,null,6,null,70,60,50,40,0]
[]
[null,null,null,null,null,null,"7+",null,70,60,50,40,0]
[]
[null,null,null,null,null,"Alfalfa Hay","Yield Goal Tons/Ac",null,"0--5","6-10","11-15","16-20","21+","Bray"]
[null,null,null,null,null,null,null,null,"0-3","4-7","8-11","12-15","16+","Olson"]
[null,null,null,null,null,null,null,null,45,35,20,10,0]
[null,null,null,null,null,null,2]
[null,null,null,null,null,null,3,null,65,45,25,10,0]
[null,null,null,null,null,null,4,null,80,55,30,15,0]
[]
[null,null,null,null,null,null,5,null,95,65,40,15,0]
[null,null,null,null,null,null,6,null,110,80,45,20,0]
[]
[null,null,null,null,null,null,"7+",null,125,90,55,25,0]
[]
[null,null,null,null,null,"Other Legume Hay","Yield Goal Tons/Ac",null,"0--5","6-10","11-15","16-20","21+","Bray"]
[null,null,null,null,null,null,null,null,"0-3","4-7","8-11","12-15","16+","Olson"]
[null,null,null,null,null,null,null,null,40,30,20,10,0]
[null,null,null,null,null,null,2]
[null,null,null,null,null,null,3,null,50,40,30,20,0]
[null,null,null,null,null,null,4,null,60,50,40,30,0]
[]
[null,null,null,null,null,null,5,null,70,60,50,40,0]
[null,null,null,null,null,null,6,null,70,60,50,40,0]
[]
[null,null,null,null,null,null,"7+",null,70,60,50,40,0]
[]
[]
[]
[]
[]
[null,null,null,null,null,"Potassium"]
[null,null,null,null,null,">20% Legume","Yield Goal Tons/Ac",null,"0-40","41-80","81-120","121-160","161+"]
[null,null,null,null,null,null,2,null,95,65,40,15,0]
[null,null,null,null,null,null,3,null,140,100,60,20,0]
[null,null,null,null,null,null,4,null,185,135,80,25,0]
[null,null,null,null,null,null,5,null,230,165,100,35,0]
[null,null,null,null,null,null,6,null,230,165,100,35,0]
[null,null,null,null,null,null,"7+",null,230,165,100,35,0]
[null,null,null,null,null,null,"Yield Goal Tons/Ac"]
[null,null,null,null,null,"<20% Legume",null,null,"0-40","41-80","81-120","121-160","161+"]
[null,null,null,null,null,null,2,null,90,60,30,0,0]
[null,null,null,null,null,null,3,null,100,70,40,10,0]
[null,null,null,null,null,null,4,null,110,80,50,20,0]
[null,null,null,null,null,null,5,null,120,90,60,30,0]
[null,null,null,null,null,null,6,null,120,90,60,30,0]
[null,null,null,null,null,null,"7+",null,120,90,60,30,0]
[null,null,null,null,null,null,"Yield Goal Tons/Ac"]
[null,null,null,null,null,"Alfalfa Hay",null,null,"0-40","41-80","81-120","121-160","161+"]
[null,null,null,null,null,null,2,null,145,100,55,10,0]
[null,null,null,null,null,null,3,null,190,130,70,10,0]
[null,null,null,null,null,null,4,null,240,165,90,15,0]
[null,null,null,null,null,null,5,null,290,195,105,15,0]
[null,null,null,null,null,null,6,null,335,230,125,20,0]
[null,null,null,null,null,null,"7+",null,380,265,145,20,0]
[null,null,null,null,null,null,"Yield Goal Tons/Ac"]
[null,null,null,null,null,"Other Legume Hay",null,null,"0-40","41-80","81-120","121-160","161+"]
[null,null,null,null,null,null,2,null,90,60,30,0,0]
[null,null,null,null,null,null,3,null,100,70,40,10,0]
[null,null,null,null,null,null,4,null,110,80,50,20,0]
[null,null,null,null,null,null,5,null,120,90,60,30,0]
[null,null,null,null,null,null,6,null,120,90,60,30,0]
[null,null,null,null,null,null,"7+",null,120,90,60,30,0]

{"sheet":"Prepared Seed Mixes","index":5,"n_rows":583,"n_cols":35,"rows_kept":583,"cut":false,"hidden":true,"merged":[[407,12,407,14],[407,15,407,16],[482,0,482,2],[482,3,482,4],[494,24,494,34],[491,24,491,34],[523,0,523,10],[519,3,519,4],[519,0,519,2],[423,0,423,2],[422,3,422,4],[503,24,503,26],[502,27,502,28],[502,24,502,26],[501,27,501,28],[501,24,501,26],[500,27,500,28],[500,24,500,26],[499,27,499,28],[499,24,499,26],[495,34,498,34],[495,33,498,33],[495,32,497,32],[495,31,497,31],[495,30,497,30],[495,29,498,29],[495,27,498,28],[495,24,498,26],[509,0,509,10],[510,0,513,2],[510,3,513,4],[510,5,513,5],[510,6,512,6],[510,7,512,7],[510,8,512,8],[510,9,513,9],[408,12,408,14],[409,12,409,14],[410,12,410,14],[411,12,411,14],[408,15,408,16],[409,15,409,16],[410,15,410,16],[411,15,411,16],[412,12,412,14],[412,15,412,16],[413,12,413,14],[414,12,414,14],[413,15,413,16],[414,15,414,16],[510,10,513,10],[412,0,412,10],[413,0,416,2],[413,3,416,4],[413,5,416,5],[413,6,415,6],[413,7,415,7],[413,8,415,8],[413,9,416,9],[413,10,416,10],[504,0,504,2],[504,3,504,4],[451,15,451,16],[452,12,452,14],[499,0,499,2],[499,3,499,4],[500,0,500,2],[500,3,500,4],[501,0,501,2],[501,3,501,4],[502,0,502,2],[385,15,385,16],[386,12,386,14],[386,15,386,16],[373,12,373,14],[373,15,373,16],[377,12,377,22],[378,12,381,14],[378,15,381,16],[378,17,381,17],[378,18,380,18],[378,19,380,19],[378,20,381,20],[378,21,381,21],[378,22,381,22],[490,0,490,34],[502,3,502,4],[440,10,443,10],[477,3,477,4],[478,0,478,2],[478,3,478,4],[479,0,479,2],[479,3,479,4],[480,0,480,2],[480,3,480,4],[472,0,472,10],[368,12,368,14],[368,15,368,16],[369,12,369,14],[369,15,369,16],[370,12,370,14],[370,15,370,16],[371,12,371,14],[371,15,371,16],[372,12,372,14],[372,15,372,16],[358,12,358,14],[358,15,358,16],[363,12,363,22],[364,12,367,14],[364,15,367,16],[364,17,367,17],[364,18,366,18],[364,19,366,19],[364,20,366,20],[364,21,367,21],[364,22,367,22],[353,12,353,14],[353,15,353,16],[354,12,354,14],[354,15,354,16],[355,12,355,14],[355,15,355,16],[356,12,356,14],[356,15,356,16],[357,12,357,14],[357,15,357,16],[339,24,339,26],[339,27,339,28],[345,12,345,22],[348,12,348,22],[349,12,352,14],[349,15,352,16],[349,17,352,17],[349,18,351,18],[349,19,351,19],[349,20,351,20],[349,21,352,21],[349,22,352,22],[339,12,339,14],[339,15,339,16],[340,24,340,26],[334,24,334,26],[334,27,334,28],[335,24,335,26],[335,27,335,28],[336,24,336,26],[336,27,336,28],[337,24,337,26],[337,27,337,28],[338,24,338,26],[338,27,338,28],[334,12,334,14],[334,15,334,16],[335,12,335,14],[335,15,335,16],[336,12,336,14],[336,15,336,16],[337,12,337,14],[337,15,337,16],[338,12,338,14],[338,15,338,16],[325,24,325,26],[325,27,325,28],[329,24,329,34],[330,24,333,26],[330,27,333,28],[330,29,333,29],[330,30,332,30],[330,31,332,31],[330,32,332,32],[330,33,333,33],[330,34,333,34],[326,24,326,26],[320,24,320,26],[320,27,320,28],[321,24,321,26],[321,27,321,28],[322,24,322,26],[322,27,322,28],[323,24,323,26],[323,27,323,28],[324,24,324,26],[324,27,324,28],[315,24,315,34],[316,24,319,26],[316,27,319,28],[316,29,319,29],[316,30,318,30],[316,31,318,31],[316,32,318,32],[316,33,319,33],[316,34,319,34],[297,24,297,34],[300,24,300,34],[301,24,304,26],[301,27,304,28],[301,29,304,29],[301,30,303,30],[301,31,303,31],[301,32,303,32],[301,33,304,33],[301,34,304,34],[305,24,305,26],[305,27,305,28],[306,24,306,26],[306,27,306,28],[307,24,307,26],[307,27,307,28],[308,24,308,26],[308,27,308,28],[309,24,309,26],[309,27,309,28],[310,24,310,26],[310,27,310,28],[325,12,325,14],[325,15,325,16],[329,12,329,22],[330,12,333,14],[330,15,333,16],[330,17,333,17],[330,18,332,18],[330,19,332,19],[330,20,332,20],[330,21,333,21],[330,22,333,22],[320,12,320,14],[320,15,320,16],[321,12,321,14],[321,15,321,16],[322,12,322,14],[322,15,322,16],[323,12,323,14],[323,15,323,16],[324,12,324,14],[324,15,324,16],[276,12,276,14],[276,15,276,16],[280,12,280,22],[281,12,284,14],[281,15,284,16],[281,17,284,17],[281,18,283,18],[281,19,283,19],[281,20,283,20],[281,21,284,21],[281,22,284,22],[310,12,310,14],[310,15,310,16],[315,12,315,22],[316,12,319,14],[316,15,319,16],[316,17,319,17],[316,18,318,18],[316,19,318,19],[316,20,318,20],[316,21,319,21],[316,22,319,22],[305,12,305,14],[305,15,305,16],[306,12,306,14],[306,15,306,16],[307,12,307,14],[307,15,307,16],[308,12,308,14],[308,15,308,16],[309,12,309,14],[309,15,309,16],[271,12,271,14],[271,15,271,16],[272,12,272,14],[272,15,272,16],[273,12,273,14],[273,15,273,16],[274,12,274,14],[274,15,274,16],[275,12,275,14],[275,15,275,16],[261,12,261,14],[261,15,261,16],[266,12,266,22],[267,12,270,14],[267,15,270,16],[267,17,270,17],[267,18,269,18],[267,19,269,19],[267,20,269,20],[267,21,270,21],[267,22,270,22],[262,12,262,14],[256,12,256,14],[256,15,256,16],[257,12,257,14],[257,15,257,16],[258,12,258,14],[258,15,258,16],[259,12,259,14],[259,15,259,16],[260,12,260,14],[260,15,260,16],[242,24,242,26],[242,27,242,28],[248,12,248,22],[251,12,251,22],[252,12,255,14],[252,15,255,16],[252,17,255,17],[252,18,254,18],[252,19,254,19],[252,20,254,20],[252,21,255,21],[252,22,255,22],[242,12,242,14],[242,15,242,16],[243,12,243,14],[239,24,239,26],[239,27,239,28],[240,24,240,26],[240,27,240,28],[241,24,241,26],[241,27,241,28],[228,24,228,26],[228,27,228,28],[232,24,232,34],[233,24,236,26],[233,27,236,28],[233,29,236,29],[233,30,235,30],[233,31,235,31],[233,32,235,32],[233,33,236,33],[233,34,236,34],[226,24,226,26],[226,27,226,28],[227,24,227,26],[227,27,227,28],[218,24,218,34],[219,24,222,26],[219,27,222,28],[219,29,222,29],[219,30,221,30],[219,31,221,31],[219,32,221,32],[219,33,222,33],[219,34,222,34],[237,24,237,26],[237,27,237,28],[238,24,238,26],[238,27,238,28],[208,24,208,26],[208,27,208,28],[209,24,209,26],[209,27,209,28],[210,24,210,26],[210,27,210,28],[211,24,211,26],[211,27,211,28],[223,24,223,26],[223,27,223,28],[224,24,224,26],[224,27,224,28],[212,24,212,26],[212,27,212,28],[213,24,213,26],[213,27,213,28],[225,24,225,26],[225,27,225,28],[237,12,237,14],[237,15,237,16],[238,12,238,14],[238,15,238,16],[239,12,239,14],[239,15,239,16],[240,12,240,14],[240,15,240,16],[241,12,241,14],[241,15,241,16],[228,12,228,14],[228,15,228,16],[232,12,232,22],[233,12,236,14],[233,15,236,16],[233,17,236,17],[233,18,235,18],[233,19,235,19],[233,20,235,20],[233,21,236,21],[233,22,236,22],[223,12,223,14],[223,15,223,16],[224,12,224,14],[224,15,224,16],[225,12,225,14],[225,15,225,16],[226,12,226,14],[226,15,226,16],[227,12,227,14],[227,15,227,16],[213,12,213,14],[213,15,213,16],[218,12,218,22],[219,12,222,14],[219,15,222,16],[219,17,222,17],[219,18,221,18],[219,19,221,19],[219,20,221,20],[219,21,222,21],[219,22,222,22],[208,12,208,14],[208,15,208,16],[209,12,209,14],[209,15,209,16],[210,12,210,14],[210,15,210,16],[211,12,211,14],[211,15,211,16],[212,12,212,14],[212,15,212,16],[178,12,178,14],[178,15,178,16],[200,12,200,22],[203,12,203,22],[204,12,207,14],[204,15,207,16],[204,17,207,17],[204,18,206,18],[204,19,206,19],[204,20,206,20],[204,21,207,21],[204,22,207,22],[193,12,193,14],[193,15,193,16],[194,12,194,14],[194,15,194,16],[188,12,188,14],[188,15,188,16],[189,12,189,14],[189,15,189,16],[190,12,190,14],[190,15,190,16],[203,24,203,34],[204,24,207,26],[204,27,207,28],[204,29,207,29],[136,32,138,32],[164,12,164,14],[164,15,164,16],[169,12,169,22],[170,12,173,14],[170,15,173,16],[170,17,173,17],[170,18,172,18],[170,19,172,19],[170,20,172,20],[170,21,173,21],[170,22,173,22],[159,12,159,14],[159,15,159,16],[160,12,160,14],[160,15,160,16],[161,12,161,14],[161,15,161,16],[162,12,162,14],[162,15,162,16],[163,12,163,14],[163,15,163,16],[204,30,206,30],[204,31,206,31],[204,32,206,32],[204,33,207,33],[204,34,207,34],[145,12,145,14],[145,15,145,16],[122,34,125,34],[145,24,145,26],[145,27,145,28],[102,0,102,34],[151,12,151,22],[154,12,154,22],[155,12,158,14],[155,15,158,16],[155,17,158,17],[155,18,157,18],[155,19,157,19],[155,20,157,20],[155,21,158,21],[155,22,158,22],[140,24,140,26],[140,27,140,28],[141,24,141,26],[141,27,141,28],[142,24,142,26],[142,27,142,28],[143,24,143,26],[143,27,143,28],[144,24,144,26],[144,27,144,28],[131,24,131,26],[131,27,131,28],[135,24,135,34],[136,24,139,26],[136,27,139,28],[136,29,139,29],[136,30,138,30],[136,31,138,31],[115,24,115,26],[115,27,115,28],[116,24,116,26],[116,27,116,28],[140,12,140,14],[140,15,140,16],[141,12,141,14],[141,15,141,16],[142,12,142,14],[142,15,142,16],[130,15,130,16],[116,12,116,14],[116,15,116,16],[121,12,121,22],[122,12,125,14],[136,18,138,18],[136,19,138,19],[136,20,138,20],[136,21,139,21],[136,22,139,22],[143,12,143,14],[143,15,143,16],[136,33,139,33],[136,34,139,34],[126,24,126,26],[126,27,126,28],[127,24,127,26],[127,27,127,28],[128,24,128,26],[128,27,128,28],[129,24,129,26],[129,27,129,28],[130,24,130,26],[130,27,130,28],[121,24,121,34],[122,24,125,26],[122,27,125,28],[122,29,125,29],[122,30,124,30],[122,31,124,31],[122,32,124,32],[122,33,125,33],[122,15,125,16],[122,17,125,17],[122,18,124,18],[122,19,124,19],[122,20,124,20],[122,21,125,21],[122,22,125,22],[129,12,129,14],[129,15,129,16],[130,12,130,14],[103,24,103,34],[106,24,106,34],[107,24,110,26],[107,27,110,28],[107,29,110,29],[107,30,109,30],[107,31,109,31],[107,32,109,32],[107,33,110,33],[107,34,110,34],[111,24,111,26],[111,27,111,28],[112,24,112,26],[112,27,112,28],[113,24,113,26],[113,27,113,28],[114,24,114,26],[114,27,114,28],[179,12,179,14],[179,15,179,16],[183,12,183,22],[184,12,187,14],[184,15,187,16],[184,17,187,17],[184,18,186,18],[184,19,186,19],[184,20,186,20],[184,21,187,21],[184,22,187,22],[315,0,315,10],[316,0,319,2],[316,3,319,4],[316,5,319,5],[316,6,318,6],[316,7,318,7],[316,8,318,8],[316,9,319,9],[316,10,319,10],[305,0,305,2],[305,3,305,4],[306,0,306,2],[306,3,306,4],[307,0,307,2],[307,3,307,4],[191,12,191,14],[191,15,191,16],[192,12,192,14],[192,15,192,16],[199,0,199,34],[200,24,200,34],[174,12,174,14],[174,15,174,16],[175,12,175,14],[175,15,175,16],[176,12,176,14],[176,15,176,16],[177,12,177,14],[177,15,177,16],[111,12,111,14],[111,15,111,16],[112,12,112,14],[112,15,112,16],[113,12,113,14],[113,15,113,16],[114,12,114,14],[114,15,114,16],[115,12,115,14],[115,15,115,16],[144,12,144,14],[144,15,144,16],[131,12,131,14],[131,15,131,16],[135,12,135,22],[136,12,139,14],[136,15,139,16],[136,17,139,17],[126,12,126,14],[126,15,126,16],[127,12,127,14],[127,15,127,16],[128,12,128,14],[128,15,128,16],[503,27,503,28],[562,3,562,4],[563,0,563,2],[563,3,563,4],[103,12,103,22],[106,12,106,22],[107,12,110,14],[107,15,110,16],[107,17,110,17],[107,18,109,18],[107,19,109,19],[107,20,109,20],[107,21,110,21],[107,22,110,22],[310,0,310,2],[310,3,310,4],[358,0,358,2],[358,3,358,4],[116,0,116,2],[116,3,116,4],[164,0,164,2],[164,3,164,4],[194,0,194,2],[194,3,194,4],[213,0,213,2],[213,3,213,4],[261,0,261,2],[261,3,261,4],[353,0,353,2],[353,3,353,4],[354,0,354,2],[533,0,533,2],[581,0,581,2],[581,3,581,4],[576,0,576,2],[576,3,576,4],[577,0,577,2],[577,3,577,4],[578,0,578,2],[578,3,578,4],[579,0,579,2],[579,3,579,4],[580,0,580,2],[580,3,580,4],[567,0,567,2],[567,3,567,4],[571,0,571,10],[572,0,575,2],[572,3,575,4],[572,5,575,5],[572,6,574,6],[572,7,574,7],[572,8,574,8],[572,9,575,9],[572,10,575,10],[564,0,564,2],[564,3,564,4],[565,0,565,2],[565,3,565,4],[566,0,566,2],[566,3,566,4],[557,0,557,10],[558,0,561,2],[558,3,561,4],[558,5,561,5],[558,6,560,6],[558,7,560,7],[558,8,560,8],[558,9,561,9],[558,10,561,10],[547,0,547,2],[547,3,547,4],[548,0,548,2],[548,3,548,4],[549,0,549,2],[549,3,549,4],[550,0,550,2],[550,3,550,4],[551,0,551,2],[551,3,551,4],[552,3,552,4],[552,0,552,2],[553,0,553,2],[562,0,562,2],[533,3,533,4],[539,0,539,10],[542,0,542,10],[543,0,546,2],[543,3,546,4],[543,5,546,5],[543,6,545,6],[543,7,545,7],[543,8,545,8],[543,9,546,9],[543,10,546,10],[528,0,528,2],[528,3,528,4],[529,0,529,2],[529,3,529,4],[530,0,530,2],[530,3,530,4],[531,0,531,2],[531,3,531,4],[532,0,532,2],[532,3,532,4],[534,0,534,2],[524,0,527,2],[524,3,527,4],[524,5,527,5],[524,6,526,6],[524,7,526,7],[524,8,526,8],[524,9,527,9],[524,10,527,10],[514,0,514,2],[514,3,514,4],[515,0,515,2],[515,3,515,4],[516,0,516,2],[516,3,516,4],[517,0,517,2],[517,3,517,4],[518,0,518,2],[518,3,518,4],[520,0,520,2],[503,0,503,2],[503,3,503,4],[451,0,451,2],[451,3,451,4],[491,0,491,10],[494,0,494,10],[495,0,498,2],[495,3,498,4],[495,5,498,5],[495,6,497,6],[495,7,497,7],[495,8,497,8],[495,9,498,9],[495,10,498,10],[505,0,505,2],[444,0,444,2],[444,3,444,4],[445,0,445,2],[445,3,445,4],[446,0,446,2],[446,3,446,4],[447,0,447,2],[447,3,447,4],[448,0,448,2],[448,3,448,4],[483,0,483,2],[483,3,483,4],[481,0,481,2],[481,3,481,4],[465,0,465,2],[465,3,465,4],[477,0,477,2],[473,0,476,2],[473,3,476,4],[473,5,476,5],[473,6,475,6],[473,7,475,7],[473,8,475,8],[473,9,476,9],[473,10,476,10],[462,0,462,2],[462,3,462,4],[463,0,463,2],[463,3,463,4],[464,0,464,2],[464,3,464,4],[449,0,449,2],[450,0,450,2],[449,3,449,4],[450,3,450,4],[466,0,466,2],[466,3,466,4],[467,0,467,2],[467,3,467,4],[436,0,436,2],[436,3,436,4],[454,0,454,10],[457,0,457,10],[458,0,461,2],[458,3,461,4],[458,5,461,5],[458,6,460,6],[458,7,460,7],[458,8,460,8],[458,9,461,9],[458,10,461,10],[431,0,431,2],[431,3,431,4],[432,0,432,2],[432,3,432,4],[433,0,433,2],[433,3,433,4],[434,0,434,2],[434,3,434,4],[435,0,435,2],[435,3,435,4],[439,0,439,10],[440,0,443,2],[440,3,443,4],[440,5,443,5],[440,6,442,6],[440,7,442,7],[440,8,442,8],[440,9,443,9],[422,0,422,2],[423,3,423,4],[426,0,426,10],[427,0,430,2],[427,3,430,4],[427,5,430,5],[427,6,429,6],[427,7,429,7],[427,8,429,8],[427,9,430,9],[427,10,430,10],[424,3,425,4],[417,0,417,2],[417,3,417,4],[418,0,418,2],[418,3,418,4],[419,0,419,2],[419,3,419,4],[420,0,420,2],[420,3,420,4],[421,0,421,2],[421,3,421,4],[402,0,402,2],[402,3,402,4],[403,0,403,2],[403,3,403,4],[404,0,404,2],[404,3,404,4],[405,0,405,2],[405,3,405,4],[406,0,406,2],[406,3,406,4],[407,0,407,2],[407,3,407,4],[387,0,387,2],[387,3,387,4],[394,0,394,10],[397,0,397,10],[398,0,401,2],[398,3,401,4],[398,5,401,5],[398,6,400,6],[398,7,400,7],[398,8,400,8],[398,9,401,9],[398,10,401,10],[382,0,382,2],[382,3,382,4],[383,0,383,2],[383,3,383,4],[384,0,384,2],[384,3,384,4],[385,0,385,2],[385,3,385,4],[386,0,386,2],[386,3,386,4],[393,0,393,34],[387,12,387,14],[387,15,387,16],[382,12,382,14],[382,15,382,16],[383,12,383,14],[383,15,383,16],[384,12,384,14],[384,15,384,16],[385,12,385,14],[373,0,373,2],[373,3,373,4],[377,0,377,10],[378,0,381,2],[378,3,381,4],[378,5,381,5],[378,6,380,6],[378,7,380,7],[378,9,381,9],[378,10,381,10],[378,8,381,8],[368,0,368,2],[368,3,368,4],[369,0,369,2],[369,3,369,4],[370,0,370,2],[370,3,370,4],[371,0,371,2],[371,3,371,4],[372,0,372,2],[372,3,372,4],[363,0,363,10],[364,0,367,2],[364,3,367,4],[364,5,367,5],[364,6,366,6],[364,7,366,7],[364,8,366,8],[364,9,367,9],[364,10,367,10],[339,0,339,2],[339,3,339,4],[345,0,345,10],[348,0,348,10],[349,0,352,2],[349,3,352,4],[349,5,352,5],[349,6,351,6],[349,7,351,7],[349,8,351,8],[349,9,352,9],[349,10,352,10],[356,3,356,4],[357,0,357,2],[357,3,357,4],[354,3,354,4],[355,0,355,2],[355,3,355,4],[356,0,356,2],[338,0,338,2],[338,3,338,4],[325,0,325,2],[325,3,325,4],[329,0,329,10],[330,0,333,2],[330,3,333,4],[330,5,333,5],[330,6,332,6],[330,7,332,7],[330,8,332,8],[330,9,333,9],[330,10,333,10],[320,0,320,2],[320,3,320,4],[321,0,321,2],[321,3,321,4],[322,0,322,2],[322,3,322,4],[323,0,323,2],[323,3,323,4],[324,0,324,2],[324,3,324,4],[337,0,337,2],[337,3,337,4],[334,0,334,2],[334,3,334,4],[335,0,335,2],[335,3,335,4],[336,0,336,2],[336,3,336,4],[308,0,308,2],[308,3,308,4],[309,0,309,2],[309,3,309,4],[290,0,290,2]],"merged_total":2009,"flags":["merged_cut"]}
[]
[]
[]
[]
[]
["Area 1"]
["COOL SEASON INTRODUCED PASTURE MIXES",null,null,null,null,null,null,null,null,null,null,null,"WARM SEASON NATIVE PASTURE MIXES",null,null,null,null,null,null,null,null,null,null,null,"HORSE AND SHEEP PASTURE MIXES"]
[]
["#1",null,null,null,null,null,null,null,null,null,null,null,"#1",null,null,null,null,null,null,null,null,null,null,null,"#1"]
["Forage Suitability Groups 13 & 14 - Very Poorly to Poorly Drained",null,null,null,null,null,null,null,null,null,null,null,"Forage Suitability Groups 13 & 14 - Very Poorly to Poorly Drained"]
["Seed Species",null,null,"Variety or Seed Source",null,"Seeds/lb","PLS Rate Planned","Acres","Seeds/Sqft","Total PLS lbs","% in Mixture",null,"Seed Species",null,null,"Variety or Seed Source",null,"Seeds/lb","PLS Rate Planned","Acres","Seeds/Sqft","Total PLS lbs","% in Mixture",null,"Seed Species",null,null,"Variety or Seed Source",null,"Seeds/lb","PLS Rate Planned","Acres","Seeds/Sqft","Total PLS lbs","% in Mixture"]
[]
[]
[]
["Creeping Foxtail",null,null,"Garison",null,{"$f":"IF(A15=\"\",0,VLOOKUP(A15,Sheet3!$A$282:$D$322,2,FALSE))","v":900000},2,{"$f":"$J$9","v":0},{"$f":"IF(A15=\"\",\"\",(F15*G15)/43560)","v":41.32231404958678},{"$f":"IF(A15 = \"\",\"\",H15*G15)","v":0},{"$f":"IF(A15=\"\",\"\",I15/$I$21)","v":0.34622042700519334},null,"Big Bluestem",null,null,"Bison",null,{"$f":"IF(M15=\"\",0,VLOOKUP(M15,Sheet3!$A$282:$D$322,2,FALSE))","v":165000},8,{"$f":"$J$9","v":0},{"$f":"IF(M15=\"\",\"\",(R15*S15)/43560)","v":30.303030303030305},{"$f":"IF(M15 = \"\",\"\",T15*S15)","v":0},{"$f":"IF(M15=\"\",\"\",U15/$U$21)","v":0.45595854922279799},null,"Meadow Bromegrass",null,null,"Fleet",null,{"$f":"IF(Y15=\"\",0,VLOOKUP(Y15,Sheet3!$A$282:$D$322,2,FALSE))","v":80000},20,{"$f":"$J$9","v":0},{"$f":"IF(Y15=\"\",\"\",(AD15*AE15)/43560)","v":36.73094582185491},{"$f":"IF(Y15 = \"\",\"\",AF15*AE15)","v":0},{"$f":"IF(Y15=\"\",\"\",AG15/$AG$21)","v":0.43126684636118601}]
["Timothy",null,null,"Climax",null,{"$f":"IF(A16=\"\",0,VLOOKUP(A16,Sheet3!$A$282:$D$322,2,FALSE))","v":1230000},0.5,0,14.118457300275482,0,0.11829197922677438,null,"Indiangrass",null,null,"Tomahawk",null,{"$f":"IF(M16=\"\",0,VLOOKUP(M16,Sheet3!$A$282:$D$322,2,FALSE))","v":175000},9,0,36.15702479338843,0,0.54404145077720212,null,"Timothy",null,null,"Climax",null,{"$f":"IF(Y16=\"\",0,VLOOKUP(Y16,Sheet3!$A$282:$D$322,2,FALSE))","v":1230000},1,0,28.236914600550964,0,0.33153638814016173]
["Tall Fescue",null,null,"Bulll",null,{"$f":"IF(A17=\"\",0,VLOOKUP(A17,Sheet3!$A$282:$D$322,2,FALSE))","v":227000},6,0,31.267217630853995,0,0.26197345643392961,null,null,null,null,null,null,{"$f":"IF(M17=\"\",0,VLOOKUP(M17,Sheet3!$A$282:$D$322,2,FALSE))","v":0},null,0,"","","",null,"Alfalfa",null,null,"Grazing Type",null,{"$f":"IF(Y17=\"\",0,VLOOKUP(Y17,Sheet3!$A$282:$D$322,2,FALSE))","v":220000},4,0,20.202020202020201,0,0.23719676549865229]
["Alsike Clover",null,null,"locally adapted",null,{"$f":"IF(A18=\"\",0,VLOOKUP(A18,Sheet3!$A$282:$D$322,2,FALSE))","v":700000},1.5,0,24.104683195592287,0,0.20196191575302944,null,null,null,null,null,null,{"$f":"IF(M18=\"\",0,VLOOKUP(M18,Sheet3!$A$282:$D$322,2,FALSE))","v":0},null,0,"","","",null,null,null,null,null,null,{"$f":"IF(Y18=\"\",0,VLOOKUP(Y18,Sheet3!$A$282:$D$322,2,FALSE))","v":0},null,0,"","",""]
["Birdsfoot Trefoil",null,null,"Norcen",null,{"$f":"IF(A19=\"\",0,VLOOKUP(A19,Sheet3!$A$282:$D$322,2,FALSE))","v":372000},1,0,8.5399449035812669,0,7.1552221581073272E-2,null,null,null,null,null,null,{"$f":"IF(M19=\"\",0,VLOOKUP(M19,Sheet3!$A$282:$D$322,2,FALSE))","v":0},null,0,"","","",null,null,null,null,null,null,{"$f":"IF(Y19=\"\",0,VLOOKUP(Y19,Sheet3!$A$282:$D$322,2,FALSE))","v":0},null,0,"","",""]
[null,null,null,"",null,{"$f":"IF(A20=\"\",0,VLOOKUP(A20,Sheet3!$A$282:$D$322,2,FALSE))","v":0},null,0,"","","",null,null,null,null,null,null,{"$f":"IF(M20=\"\",0,VLOOKUP(M20,Sheet3!$A$282:$D$322,2,FALSE))","v":0},null,0,"","","",null,null,null,null,null,null,{"$f":"IF(Y20=\"\",0,VLOOKUP(Y20,Sheet3!$A$282:$D$322,2,FALSE))","v":0},null,0,"","",""]
["Use Extension Recommended varieties",null,null,null,null,null,null,null,{"$f":"SUM(I15:I20)","v":119.35261707988981},null,{"$f":"SUM(K15:K20)","v":1},null,"Use Extension Recommended varieties",null,null,null,null,null,null,null,{"$f":"SUM(U15:U20)","v":66.460055096418728},null,{"$f":"SUM(W15:W20)","v":1},null,"Use Extension Recommended varieties",null,null,null,null,null,null,null,{"$f":"SUM(AG15:AG20)","v":85.169880624426071},null,{"$f":"SUM(AI15:AI20)","v":1}]
[]
[]
["#2",null,null,null,null,null,null,null,null,null,null,null,"#2",null,null,null,null,null,null,null,null,null,null,null,"#2"]
["Somewhat Poorly to Moderately Well Drained",null,null,null,null,null,null,null,null,null,null,null,"Somewhat Poorly to Moderately Well Drained"]
["Seed Species",null,null,"Variety or Seed Source",null,"Seeds/lb","PLS Rate Planned","Acres","Seeds/Sqft","Total PLS lbs","% in Mixture",null,"Seed Species",null,null,"Variety or Seed Source",null,"Seeds/lb","PLS Rate Planned","Acres","Seeds/Sqft","Total PLS lbs","% in Mixture",null,"Seed Species",null,null,"Variety or Seed Source",null,"Seeds/lb","PLS Rate Planned","Acres","Seeds/Sqft","Total PLS lbs","% in Mixture"]
[]
[]
[]
["Meadow Bromegrass",null,null,"Fleet",null,{"$f":"IF(A30=\"\",0,VLOOKUP(A30,Sheet3!$A$282:$D$322,2,FALSE))","v":80000},10,{"$f":"$J$9","v":0},{"$f":"IF(A30=\"\",\"\",(F30*G30)/43560)","v":18.365472910927455},{"$f":"IF(A30 = \"\",\"\",H30*G30)","v":0},{"$f":"IF(A30=\"\",\"\",I30/$I$36)","v":0.15788434971383461},null,"Big Bluestem",null,null,"Bison",null,{"$f":"IF(M30=\"\",0,VLOOKUP(M30,Sheet3!$A$282:$D$322,2,FALSE))","v":165000},8,{"$f":"$J$9","v":0},{"$f":"IF(M30=\"\",\"\",(R30*S30)/43560)","v":30.303030303030305},{"$f":"IF(M30 = \"\",\"\",T30*S30)","v":0},{"$f":"IF(M30=\"\",\"\",U30/$U$36)","v":0.45595854922279799},null,"Kentucky Bluegrass",null,null,"forage type",null,{"$f":"IF(Y30=\"\",0,VLOOKUP(Y30,Sheet3!$A$282:$D$322,2,FALSE))","v":2177000},0.5,{"$f":"$J$9","v":0},{"$f":"IF(Y30=\"\",\"\",(AD30*AE30)/43560)","v":24.988521579430671},{"$f":"IF(Y30 = \"\",\"\",AF30*AE30)","v":0},{"$f":"IF(Y30=\"\",\"\",AG30/$AG$36)","v":0.306749330703114}]
["Orchard grass",null,null,"Orion",null,{"$f":"IF(A31=\"\",0,VLOOKUP(A31,Sheet3!$A$282:$D$322,2,FALSE))","v":654000},2,0,30.02754820936639,0,0.25814091178211956,null,"Indiangrass",null,null,"Tomahawk",null,{"$f":"IF(M31=\"\",0,VLOOKUP(M31,Sheet3!$A$282:$D$322,2,FALSE))","v":175000},9,0,36.15702479338843,0,0.54404145077720212,null,"Timothy",null,null,"Climax",null,{"$f":"IF(Y31=\"\",0,VLOOKUP(Y31,Sheet3!$A$282:$D$322,2,FALSE))","v":1230000},2,0,56.473829201101928,0,0.69325066929688595]
["Tall Fescue",null,null,"Bull",null,{"$f":"IF(A32=\"\",0,VLOOKUP(A32,Sheet3!$A$282:$D$322,2,FALSE))","v":227000},6,0,31.267217630853995,0,0.26879810538780341,null,null,null,null,null,null,{"$f":"IF(M32=\"\",0,VLOOKUP(M32,Sheet3!$A$282:$D$322,2,FALSE))","v":0},null,0,"","","",null,null,null,null,null,null,{"$f":"IF(Y32=\"\",0,VLOOKUP(Y32,Sheet3!$A$282:$D$322,2,FALSE))","v":0},null,0,"","",""]
["Birdsfoot Trefoil",null,null,"Roseau",null,{"$f":"IF(A33=\"\",0,VLOOKUP(A33,Sheet3!$A$282:$D$322,2,FALSE))","v":372000},1,0,8.5399449035812669,0,7.3416222616933091E-2,null,null,null,null,null,null,{"$f":"IF(M33=\"\",0,VLOOKUP(M33,Sheet3!$A$282:$D$322,2,FALSE))","v":0},null,0,"","","",null,null,null,null,null,null,{"$f":"IF(Y33=\"\",0,VLOOKUP(Y33,Sheet3!$A$282:$D$322,2,FALSE))","v":0},null,0,"","",""]
["White Clover",null,null,"Alice",null,{"$f":"IF(A34=\"\",0,VLOOKUP(A34,Sheet3!$A$282:$D$322,2,FALSE))","v":800000},0.5,0,9.1827364554637274,0,7.8942174856917305E-2,null,null,null,null,null,null,{"$f":"IF(M34=\"\",0,VLOOKUP(M34,Sheet3!$A$282:$D$322,2,FALSE))","v":0},null,0,"","","",null,null,null,null,null,null,{"$f":"IF(Y34=\"\",0,VLOOKUP(Y34,Sheet3!$A$282:$D$322,2,FALSE))","v":0},null,0,"","",""]
["Red Clover",null,null,"Medium",null,{"$f":"IF(A35=\"\",0,VLOOKUP(A35,Sheet3!$A$282:$D$322,2,FALSE))","v":275000},3,0,18.939393939393938,0,0.16281823564239192,null,null,null,null,null,null,{"$f":"IF(M35=\"\",0,VLOOKUP(M35,Sheet3!$A$282:$D$322,2,FALSE))","v":0},null,0,"","","",null,null,null,null,null,null,{"$f":"IF(Y35=\"\",0,VLOOKUP(Y35,Sheet3!$A$282:$D$322,2,FALSE))","v":0},null,0,"","",""]
["Use Extension Recommended varieties",null,null,null,null,null,null,null,{"$f":"SUM(I30:I35)","v":116.32231404958678},null,{"$f":"SUM(K30:K35)","v":0.99999999999999989},null,"Use Extension Recommended varieties",null,null,null,null,null,null,null,{"$f":"SUM(U30:U35)","v":66.460055096418728},null,{"$f":"SUM(W30:W35)","v":1},null,"Use Extension Recommended varieties",null,null,null,null,null,null,null,{"$f":"SUM(AG30:AG35)","v":81.462350780532603},null,{"$f":"SUM(AI30:AI35)","v":1}]
[]
["#3",null,null,null,null,null,null,null,null,null,null,null,"#3",null,null,null,null,null,null,null,null,null,null,null,"#3"]
["Somewhat Excessively to Excessively Drained Soils",null,null,null,null,null,null,null,null,null,null,null,"Somewhat Excessively to Excessively Drained Soils"]
["Seed Species",null,null,"Variety or Seed Source",null,"Seeds/lb","PLS Rate Planned","Acres","Seeds/Sqft","Total PLS lbs","% in Mixture",null,"Seed Species",null,null,"Variety or Seed Source",null,"Seeds/lb","PLS Rate Planned","Acres","Seeds/Sqft","Total PLS lbs","% in Mixture",null,"Seed Species",null,null,"Variety or Seed Source",null,"Seeds/lb","PLS Rate Planned","Acres","Seeds/Sqft","Total PLS lbs","% in Mixture"]
[]
[]
[]
["Intermediate Wheatgrass",null,null,"Revenue",null,{"$f":"IF(A44=\"\",0,VLOOKUP(A44,Sheet3!$A$282:$D$322,2,FALSE))","v":88000},10,{"$f":"$J$9","v":0},{"$f":"IF(A44=\"\",\"\",(F44*G44)/43560)","v":20.202020202020201},{"$f":"IF(A44 = \"\",\"\",H44*G44)","v":0},{"$f":"IF(A44=\"\",\"\",I44/I50)","v":0.18612521150592215},null,"Big Bluestem",null,null,"Bison",null,{"$f":"IF(M44=\"\",0,VLOOKUP(M44,Sheet3!$A$282:$D$322,2,FALSE))","v":165000},6,{"$f":"$J$9","v":0},{"$f":"IF(M44=\"\",\"\",(R44*S44)/43560)","v":22.727272727272727},{"$f":"IF(M44 = \"\",\"\",T44*S44)","v":0},{"$f":"IF(M44=\"\",\"\",U44/U50)","v":0.35512994168694612},null,null,null,null,null,null,{"$f":"IF(Y44=\"\",0,VLOOKUP(Y44,Sheet3!$A$282:$D$322,2,FALSE))","v":0},null,{"$f":"$J$9","v":0},{"$f":"IF(Y44=\"\",\"\",(AD44*AE44)/43560)","v":""},{"$f":"IF(Y44 = \"\",\"\",AF44*AE44)","v":""},{"$f":"IF(Y44=\"\",\"\",AG44/AG50)","v":""}]
["Meadow Bromegrass",null,null,"Fleet",null,{"$f":"IF(A45=\"\",0,VLOOKUP(A45,Sheet3!$A$282:$D$322,2,FALSE))","v":80000},12,0,22.038567493112946,0,{"$f":"IF(A45=\"\",\"\",I45/I50)","v":0.20304568527918779},null,"Little Bluestem",null,null,"Itasca Germplasm",null,{"$f":"IF(M45=\"\",0,VLOOKUP(M45,Sheet3!$A$282:$D$322,2,FALSE))","v":261360},2,0,12,0,{"$f":"IF(M45=\"\",\"\",U45/U50)","v":0.18750860921070756},null,null,null,null,null,null,{"$f":"IF(Y45=\"\",0,VLOOKUP(Y45,Sheet3!$A$282:$D$322,2,FALSE))","v":0},null,0,"","",{"$f":"IF(Y45=\"\",\"\",AG45/AG50)","v":""}]
["Tall Fescue",null,null,"Fawn",null,{"$f":"IF(A46=\"\",0,VLOOKUP(A46,Sheet3!$A$282:$D$322,2,FALSE))","v":227000},4,0,20.844811753902665,0,{"$f":"IF(A46=\"\",\"\",I46/I50)","v":0.19204737732656516},null,"Indiangrass",null,null,"Tomahawk",null,{"$f":"IF(M46=\"\",0,VLOOKUP(M46,Sheet3!$A$282:$D$322,2,FALSE))","v":175000},4,0,16.069788797061523,0,{"$f":"IF(M46=\"\",\"\",U46/U50)","v":0.25110197897056796},null,null,null,null,null,null,{"$f":"IF(Y46=\"\",0,VLOOKUP(Y46,Sheet3!$A$282:$D$322,2,FALSE))","v":0},null,0,"","",{"$f":"IF(Y46=\"\",\"\",AG46/AG50)","v":""}]
["Red Clover",null,null,"Alice",null,{"$f":"IF(A47=\"\",0,VLOOKUP(A47,Sheet3!$A$282:$D$322,2,FALSE))","v":275000},4,0,25.252525252525253,0,{"$f":"IF(A47=\"\",\"\",I47/I50)","v":0.2326565143824027},null,"Sideoats Grama",null,null,"Killdeer",null,{"$f":"IF(M47=\"\",0,VLOOKUP(M47,Sheet3!$A$282:$D$322,2,FALSE))","v":191664},3,0,13.2,0,{"$f":"IF(M47=\"\",\"\",U47/U50)","v":0.20625947013177828},null,null,null,null,null,null,{"$f":"IF(Y47=\"\",0,VLOOKUP(Y47,Sheet3!$A$282:$D$322,2,FALSE))","v":0},null,0,"","",{"$f":"IF(Y47=\"\",\"\",AG47/AG50)","v":""}]
["Alfalfa",null,null,"Graze Type",null,{"$f":"IF(A48=\"\",0,VLOOKUP(A48,Sheet3!$A$282:$D$322,2,FALSE))","v":220000},4,0,20.202020202020201,0,{"$f":"IF(A48=\"\",\"\",I48/I50)","v":0.18612521150592215},null,null,null,null,null,null,{"$f":"IF(M48=\"\",0,VLOOKUP(M48,Sheet3!$A$282:$D$322,2,FALSE))","v":0},null,0,"","",{"$f":"IF(M48=\"\",\"\",U48/U50)","v":""},null,null,null,null,null,null,{"$f":"IF(Y48=\"\",0,VLOOKUP(Y48,Sheet3!$A$282:$D$322,2,FALSE))","v":0},null,0,"","",{"$f":"IF(Y48=\"\",\"\",AG48/AG50)","v":""}]
[null,null,null,null,null,{"$f":"IF(A49=\"\",0,VLOOKUP(A49,Sheet3!$A$282:$D$322,2,FALSE))","v":0},null,0,"","",{"$f":"IF(A49=\"\",\"\",I49/$I$50)","v":""},null,null,null,null,null,null,{"$f":"IF(M49=\"\",0,VLOOKUP(M49,Sheet3!$A$282:$D$322,2,FALSE))","v":0},null,0,"","",{"$f":"IF(M49=\"\",\"\",U49/$I$50)","v":""},null,null,null,null,null,null,{"$f":"IF(Y49=\"\",0,VLOOKUP(Y49,Sheet3!$A$282:$D$322,2,FALSE))","v":0},null,0,"","",{"$f":"IF(Y49=\"\",\"\",AG49/$I$50)","v":""}]
["Use Extension Recommended varieties",null,null,null,null,null,null,null,{"$f":"SUM(I44:I49)","v":108.53994490358127},null,{"$f":"SUM(K44:K49)","v":1},null,"Use Extension Recommended varieties",null,null,null,null,null,null,null,{"$f":"SUM(U44:U49)","v":63.997061524334256},null,{"$f":"SUM(W44:W49)","v":0.99999999999999989},null,"Use Extension Recommended varieties",null,null,null,null,null,null,null,{"$f":"SUM(AG44:AG49)","v":0},null,{"$f":"SUM(AI44:AI49)","v":0}]
[]
[]
[]
[]
["COOL SEASON INTRODUCED HAY MIXES",null,null,null,null,null,null,null,null,null,null,null,"WARM SEASON NATIVE HAY MIXES"]
[]
["#1",null,null,null,null,null,null,null,null,null,null,null,"#1"]
["Forage Suitability Groups 13 & 14 - Very Poorly to Poorly Drained",null,null,null,null,null,null,null,null,null,null,null,"Forage Suitability Groups 13 & 14 - Very Poorly to Poorly Drained"]
["Seed Species",null,null,"Variety or Seed Source",null,"Seeds/lb","PLS Rate Planned","Acres","Seeds/Sqft","Total PLS lbs","% in Mixture",null,"Seed Species",null,null,"Variety or Seed Source",null,"Seeds/lb","PLS Rate Planned","Acres","Seeds/Sqft","Total PLS lbs","% in Mixture"]
[]
[]
[]
["Timothy",null,null,"Climax",null,{"$f":"IF(A63=\"\",0,VLOOKUP(A63,Sheet3!$A$282:$D$322,2,FALSE))","v":1230000},1,{"$f":"$J$9","v":0},{"$f":"IF(A63=\"\",\"\",(F63*G63)/43560)","v":28.236914600550964},{"$f":"IF(A63 = \"\",\"\",H63*G63)","v":0},{"$f":"IF(A63=\"\",\"\",I63/$I$69)","v":0.32081377151799684},null,"Big Bluestem",null,null,"Bison",null,{"$f":"IF(M63=\"\",0,VLOOKUP(M63,Sheet3!$A$282:$D$322,2,FALSE))","v":165000},17,{"$f":"$J$9","v":0},{"$f":"IF(M63=\"\",\"\",(R63*S63)/43560)","v":64.393939393939391},{"$f":"IF(M63 = \"\",\"\",T63*S63)","v":0},{"$f":"IF(M63=\"\",\"\",U63/$U$69)","v":1}]
["Birdsfoot Trefoil",null,null,"Roseau",null,{"$f":"IF(A64=\"\",0,VLOOKUP(A64,Sheet3!$A$282:$D$322,2,FALSE))","v":372000},7,0,59.77961432506887,0,0.67918622848200305,null,null,null,null,null,null,{"$f":"IF(M64=\"\",0,VLOOKUP(M64,Sheet3!$A$282:$D$322,2,FALSE))","v":0},null,0,"","",""]
[null,null,null,null,null,{"$f":"IF(A65=\"\",0,VLOOKUP(A65,Sheet3!$A$282:$D$322,2,FALSE))","v":0},null,0,"","","",null,null,null,null,null,null,{"$f":"IF(M65=\"\",0,VLOOKUP(M65,Sheet3!$A$282:$D$322,2,FALSE))","v":0},null,0,"","",""]
[null,null,null,null,null,{"$f":"IF(A66=\"\",0,VLOOKUP(A66,Sheet3!$A$282:$D$322,2,FALSE))","v":0},null,0,"","","",null,null,null,null,null,null,{"$f":"IF(M66=\"\",0,VLOOKUP(M66,Sheet3!$A$282:$D$322,2,FALSE))","v":0},null,0,"","",""]
[null,null,null,null,null,{"$f":"IF(A67=\"\",0,VLOOKUP(A67,Sheet3!$A$282:$D$322,2,FALSE))","v":0},null,0,"","","",null,null,null,null,null,null,{"$f":"IF(M67=\"\",0,VLOOKUP(M67,Sheet3!$A$282:$D$322,2,FALSE))","v":0},null,0,"","",""]
[null,null,null,null,null,{"$f":"IF(A68=\"\",0,VLOOKUP(A68,Sheet3!$A$282:$D$322,2,FALSE))","v":0},null,0,"","","",null,null,null,null,null,null,{"$f":"IF(M68=\"\",0,VLOOKUP(M68,Sheet3!$A$282:$D$322,2,FALSE))","v":0},null,0,"","",""]
["Use Extension Recommended varieties",null,null,"For Very Poorly Drained Sites Substitute 2#/ac alsike clover for birdsfoot trefoil, or substitute alsike clover for birdsfoot trefoils where it is considered invasive.",null,null,null,null,{"$f":"SUM(I63:I68)","v":88.016528925619838},null,{"$f":"SUM(K63:K68)","v":0.99999999999999989},null,"Use Extension Recommended varieties",null,null,null,null,null,null,null,{"$f":"SUM(U63:U68)","v":64.393939393939391},null,{"$f":"SUM(W63:W68)","v":1}]
[]
[]
["#2",null,null,null,null,null,null,null,null,null,null,null,"#2"]
["Somewhat Poorly to Moderately Well Drained",null,null,null,null,null,null,null,null,null,null,null,"Somewhat Poorly to Moderately Well Drained"]
["Seed Species",null,null,"Variety or Seed Source",null,"Seeds/lb","PLS Rate Planned","Acres","Seeds/Sqft","Total PLS lbs","% in Mixture",null,"Seed Species",null,null,"Variety or Seed Source",null,"Seeds/lb","PLS Rate Planned","Acres","Seeds/Sqft","Total PLS lbs","% in Mixture"]
[]
[]
[]
["Timothy",null,null,"Climax",null,{"$f":"IF(A78=\"\",0,VLOOKUP(A78,Sheet3!$A$282:$D$322,2,FALSE))","v":1230000},0.5,{"$f":"$J$9","v":0},{"$f":"IF(A78=\"\",\"\",(F78*G78)/43560)","v":14.118457300275482},{"$f":"IF(A78 = \"\",\"\",H78*G78)","v":0},{"$f":"IF(A78=\"\",\"\",I78/$I$84)","v":0.13477975016436552},null,"Big Bluestem",null,null,"Bison",null,{"$f":"IF(M78=\"\",0,VLOOKUP(M78,Sheet3!$A$282:$D$322,2,FALSE))","v":165000},17,{"$f":"$J$9","v":0},{"$f":"IF(M78=\"\",\"\",(R78*S78)/43560)","v":64.393939393939391},{"$f":"IF(M78 = \"\",\"\",T78*S78)","v":0},{"$f":"IF(M78=\"\",\"\",U78/U84)","v":1}]
["Orchard grass",null,null,"Late Maturing",null,{"$f":"IF(A79=\"\",0,VLOOKUP(A79,Sheet3!$A$282:$D$322,2,FALSE))","v":654000},2,0,30.02754820936639,0,0.28665351742274814,null,null,null,null,null,null,{"$f":"IF(M79=\"\",0,VLOOKUP(M79,Sheet3!$A$282:$D$322,2,FALSE))","v":0},null,0,"","",""]
["Alfalfa",null,null,"Recommended",null,{"$f":"IF(A80=\"\",0,VLOOKUP(A80,Sheet3!$A$282:$D$322,2,FALSE))","v":220000},12,0,60.606060606060609,0,0.57856673241288625,null,null,null,null,null,null,{"$f":"IF(M80=\"\",0,VLOOKUP(M80,Sheet3!$A$282:$D$322,2,FALSE))","v":0},null,0,"","",""]
[null,null,null,null,null,{"$f":"IF(A81=\"\",0,VLOOKUP(A81,Sheet3!$A$282:$D$322,2,FALSE))","v":0},null,0,"","","",null,null,null,null,null,null,{"$f":"IF(M81=\"\",0,VLOOKUP(M81,Sheet3!$A$282:$D$322,2,FALSE))","v":0},null,0,"","",""]
[null,null,null,null,null,{"$f":"IF(A82=\"\",0,VLOOKUP(A82,Sheet3!$A$282:$D$322,2,FALSE))","v":0},null,0,"","","",null,null,null,null,null,null,{"$f":"IF(M82=\"\",0,VLOOKUP(M82,Sheet3!$A$282:$D$322,2,FALSE))","v":0},null,0,"","",""]
[null,null,null,null,null,{"$f":"IF(A83=\"\",0,VLOOKUP(A83,Sheet3!$A$282:$D$322,2,FALSE))","v":0},null,0,"","","",null,null,null,null,null,null,{"$f":"IF(M83=\"\",0,VLOOKUP(M83,Sheet3!$A$282:$D$322,2,FALSE))","v":0},null,0,"","",""]
["Use Extension Recommended varieties",null,null,null,null,null,null,null,{"$f":"SUM(I78:I83)","v":104.75206611570249},null,{"$f":"SUM(K78:K83)","v":0.99999999999999989},null,"Use Extension Recommended varieties",null,null,null,null,null,null,null,{"$f":"SUM(U78:U83)","v":64.393939393939391},null,{"$f":"SUM(W78:W83)","v":1}]
[]
["#3",null,null,null,null,null,null,null,null,null,null,null,"#3"]
["Somewhat Excessively to Excessively Drained Soils",null,null,null,null,null,null,null,null,null,null,null,"Somewhat Excessively to Excessively Drained Soils"]
["Seed Species",null,null,"Variety or Seed Source",null,"Seeds/lb","PLS Rate Planned","Acres","Seeds/Sqft","Total PLS lbs","% in Mixture",null,"Seed Species",null,null,"Variety or Seed Source",null,"Seeds/lb","PLS Rate Planned","Acres","Seeds/Sqft","Total PLS lbs","% in Mixture"]
[]
[]
[]
["Intermediate Wheatgrass",null,null,"Revenue",null,{"$f":"IF(A92=\"\",0,VLOOKUP(A92,Sheet3!$A$282:$D$322,2,FALSE))","v":88000},10,{"$f":"$J$9","v":0},{"$f":"IF(A92=\"\",\"\",(F92*G92)/43560)","v":20.202020202020201},{"$f":"IF(A92 = \"\",\"\",H92*G92)","v":0},{"$f":"IF(A92=\"\",\"\",I92/$I$98)","v":0.22222222222222221},null,"Big Bluestem",null,null,"Bison",null,{"$f":"IF(M92=\"\",0,VLOOKUP(M92,Sheet3!$A$282:$D$322,2,FALSE))","v":165000},17,{"$f":"$J$9","v":0},{"$f":"IF(M92=\"\",\"\",(R92*S92)/43560)","v":64.393939393939391},{"$f":"IF(M92 = \"\",\"\",T92*S92)","v":0},{"$f":"IF(M92=\"\",\"\",U92/$U$98)","v":1}]
["Alfalfa",null,null,"Recommended",null,{"$f":"IF(A93=\"\",0,VLOOKUP(A93,Sheet3!$A$282:$D$322,2,FALSE))","v":220000},14,0,70.707070707070713,0,0.7777777777777779,null,null,null,null,null,null,{"$f":"IF(M93=\"\",0,VLOOKUP(M93,Sheet3!$A$282:$D$322,2,FALSE))","v":0},null,0,"","",""]
[null,null,null,null,null,{"$f":"IF(A94=\"\",0,VLOOKUP(A94,Sheet3!$A$282:$D$322,2,FALSE))","v":0},null,0,"","","",null,null,null,null,null,null,{"$f":"IF(M94=\"\",0,VLOOKUP(M94,Sheet3!$A$282:$D$322,2,FALSE))","v":0},null,0,"","",""]
[null,null,null,null,null,{"$f":"IF(A95=\"\",0,VLOOKUP(A95,Sheet3!$A$282:$D$322,2,FALSE))","v":0},null,0,"","","",null,null,null,null,null,null,{"$f":"IF(M95=\"\",0,VLOOKUP(M95,Sheet3!$A$282:$D$322,2,FALSE))","v":0},null,0,"","",""]
[null,null,null,null,null,{"$f":"IF(A96=\"\",0,VLOOKUP(A96,Sheet3!$A$282:$D$322,2,FALSE))","v":0},null,0,"","","",null,null,null,null,null,null,{"$f":"IF(M96=\"\",0,VLOOKUP(M96,Sheet3!$A$282:$D$322,2,FALSE))","v":0},null,0,"","",""]
[null,null,null,null,null,{"$f":"IF(A97=\"\",0,VLOOKUP(A97,Sheet3!$A$282:$D$322,2,FALSE))","v":0},null,0,"","","",null,null,null,null,null,null,{"$f":"IF(M97=\"\",0,VLOOKUP(M97,Sheet3!$A$282:$D$322,2,FALSE))","v":0},null,0,"","",""]
["Use Extension Recommended varieties",null,null,null,null,null,null,null,{"$f":"SUM(I92:I97)","v":90.909090909090907},null,{"$f":"SUM(K92:K97)","v":1},null,"Use Extension Recommended varieties",null,null,null,null,null,null,null,{"$f":"SUM(U92:U97)","v":64.393939393939391},null,{"$f":"SUM(W92:W97)","v":1}]
[]
[]
[]
[]
["Area 2"]
["COOL SEASON INTRODUCED PASTURE MIXES",null,null,null,null,null,null,null,null,null,null,null,"WARM SEASON NATIVE PASTURE MIXES",null,null,null,null,null,null,null,null,null,null,null,"HORSE AND SHEEP PASTURE MIXES"]
[]
["#1",null,null,null,null,null,null,null,null,null,null,null,"#1",null,null,null,null,null,null,null,null,null,null,null,"#1"]
["Forage Suitability Groups 13 & 14 - Very Poorly to Poorly Drained",null,null,null,null,null,null,null,null,null,null,null,"Forage Suitability Groups 13 & 14 - Very Poorly to Poorly Drained",null,null,null,null,null,null,null,null,null,null,null,"Forage Suitability Groups 13 & 14 - Very Poorly to Poorly Drained"]
["Seed Species",null,null,"Variety or Seed Source",null,"Seeds/lb","PLS Rate Planned","Acres","Seeds/Sqft","Total PLS lbs","% in Mixture",null,"Seed Species",null,null,"Variety or Seed Source",null,"Seeds/lb","PLS Rate Planned","Acres","Seeds/Sqft","Total PLS lbs","% in Mixture",null,"Seed Species",null,null,"Variety or Seed Source",null,"Seeds/lb","PLS Rate Planned","Acres","Seeds/Sqft","Total PLS lbs","% in Mixture"]
[]
[]
[]
["Creeping Foxtail",null,null,"Garrison",null,{"$f":"IF(A112=\"\",0,VLOOKUP(A112,Sheet3!$A$282:$D$322,2,FALSE))","v":900000},2,{"$f":"$J$9","v":0},{"$f":"IF(A112=\"\",\"\",(F112*G112)/43560)","v":41.32231404958678},{"$f":"IF(A112 = \"\",\"\",H112*G112)","v":0},{"$f":"IF(A112=\"\",\"\",I112/$I$118)","v":0.40567951318458412},null,"Big Bluestem",null,null,"Bison",null,{"$f":"IF(M112=\"\",0,VLOOKUP(M112,Sheet3!$A$282:$D$322,2,FALSE))","v":165000},8,{"$f":"$J$9","v":0},{"$f":"IF(M112=\"\",\"\",(R112*S112)/43560)","v":30.303030303030305},{"$f":"IF(M112 = \"\",\"\",T112*S112)","v":0},{"$f":"IF(M112=\"\",\"\",U112/$U$118)","v":0.45595854922279799},null,null,null,null,null,null,{"$f":"IF(Y112=\"\",0,VLOOKUP(Y112,Sheet3!$A$282:$D$322,2,FALSE))","v":0},null,{"$f":"$J$9","v":0},{"$f":"IF(Y112=\"\",\"\",(AD112*AE112)/43560)","v":""},{"$f":"IF(Y112 = \"\",\"\",AF112*AE112)","v":""},{"$f":"IF(Y112=\"\",\"\",AG112/$AG$118)","v":""}]
["Timothy",null,null,"Climax",null,{"$f":"IF(A113=\"\",0,VLOOKUP(A113,Sheet3!$A$282:$D$322,2,FALSE))","v":1230000},0.5,0,14.118457300275482,0,0.13860716700473291,null,"Indiangrass",null,null,"Tomahawk",null,{"$f":"IF(M113=\"\",0,VLOOKUP(M113,Sheet3!$A$282:$D$322,2,FALSE))","v":175000},9,0,36.15702479338843,0,0.54404145077720212,null,null,null,null,null,null,{"$f":"IF(Y113=\"\",0,VLOOKUP(Y113,Sheet3!$A$282:$D$322,2,FALSE))","v":0},null,0,"","",""]
["Meadow Fescue",null,null,"Pradel",null,{"$f":"IF(A114=\"\",0,VLOOKUP(A114,Sheet3!$A$282:$D$322,2,FALSE))","v":230000},2,0,10.560146923783288,0,0.10367365336939371,null,null,null,null,null,null,{"$f":"IF(M114=\"\",0,VLOOKUP(M114,Sheet3!$A$282:$D$322,2,FALSE))","v":0},null,0,"","","",null,null,null,null,null,null,{"$f":"IF(Y114=\"\",0,VLOOKUP(Y114,Sheet3!$A$282:$D$322,2,FALSE))","v":0},null,0,"","",""]
["Alsike Clover",null,null,"locally adapted",null,{"$f":"IF(A115=\"\",0,VLOOKUP(A115,Sheet3!$A$282:$D$322,2,FALSE))","v":700000},1.7,0,27.318640955004593,0,0.26819923371647508,null,null,null,null,null,null,{"$f":"IF(M115=\"\",0,VLOOKUP(M115,Sheet3!$A$282:$D$322,2,FALSE))","v":0},null,0,"","","",null,null,null,null,null,null,{"$f":"IF(Y115=\"\",0,VLOOKUP(Y115,Sheet3!$A$282:$D$322,2,FALSE))","v":0},null,0,"","",""]
["Birdsfoot Trefoil",null,null,"Roseau",null,{"$f":"IF(A116=\"\",0,VLOOKUP(A116,Sheet3!$A$282:$D$322,2,FALSE))","v":372000},1,0,8.5399449035812669,0,8.3840432724814049E-2,null,null,null,null,null,null,{"$f":"IF(M116=\"\",0,VLOOKUP(M116,Sheet3!$A$282:$D$322,2,FALSE))","v":0},null,0,"","","",null,null,null,null,null,null,{"$f":"IF(Y116=\"\",0,VLOOKUP(Y116,Sheet3!$A$282:$D$322,2,FALSE))","v":0},null,0,"","",""]
[null,null,null,null,null,{"$f":"IF(A117=\"\",0,VLOOKUP(A117,Sheet3!$A$282:$D$322,2,FALSE))","v":0},null,0,"","","",null,null,null,null,null,null,{"$f":"IF(M117=\"\",0,VLOOKUP(M117,Sheet3!$A$282:$D$322,2,FALSE))","v":0},null,0,"","","",null,null,null,null,null,null,{"$f":"IF(Y117=\"\",0,VLOOKUP(Y117,Sheet3!$A$282:$D$322,2,FALSE))","v":0},null,0,"","",""]
["Use Extension Recommended varieties",null,null,"For Very Poorly Drained Sites Substitute 2#/ac alsike clover for birdsfoot trefoil, or substitute alsike clover for birdsfoot trefoils where it is considered invasive.",null,null,null,null,{"$f":"SUM(I112:I117)","v":101.85950413223142},null,{"$f":"SUM(K112:K117)","v":0.99999999999999989},null,"Use Extension Recommended varieties",null,null,null,null,null,null,null,{"$f":"SUM(U112:U117)","v":66.460055096418728},null,{"$f":"SUM(W112:W117)","v":1},null,"Use Extension Recommended varieties",null,null,null,null,null,null,null,{"$f":"SUM(AG112:AG117)","v":0},null,{"$f":"SUM(AI112:AI117)","v":0}]
[]
[]
["#2",null,null,null,null,null,null,null,null,null,null,null,"#2",null,null,null,null,null,null,null,null,null,null,null,"#2"]
["Somewhat Poorly to Moderately Well Drained",null,null,null,null,null,null,null,null,null,null,null,"Somewhat Poorly to Moderately Well Drained",null,null,null,null,null,null,null,null,null,null,null,"Somewhat Poorly to Moderately Well Drained"]
["Seed Species",null,null,"Variety or Seed Source",null,"Seeds/lb","PLS Rate Planned","Acres","Seeds/Sqft","Total PLS lbs","% in Mixture",null,"Seed Species",null,null,"Variety or Seed Source",null,"Seeds/lb","PLS Rate Planned","Acres","Seeds/Sqft","Total PLS lbs","% in Mixture",null,"Seed Species",null,null,"Variety or Seed Source",null,"Seeds/lb","PLS Rate Planned","Acres","Seeds/Sqft","Total PLS lbs","% in Mixture"]
[]
[]
[]
["Meadow Bromegrass",null,null,"Fleet",null,{"$f":"IF(A127=\"\",0,VLOOKUP(A127,Sheet3!$A$282:$D$322,2,FALSE))","v":80000},15,{"$f":"$J$9","v":0},{"$f":"IF(A127=\"\",\"\",(F127*G127)/43560)","v":27.548209366391184},{"$f":"IF(A127 = \"\",\"\",H127*G127)","v":0},{"$f":"IF(A127=\"\",\"\",I127/$I$134)","v":0.24356580336120809},null,"Big Bluestem",null,null,"Bison",null,{"$f":"IF(M127=\"\",0,VLOOKUP(M127,Sheet3!$A$282:$D$322,2,FALSE))","v":165000},8,{"$f":"$J$9","v":0},{"$f":"IF(M127=\"\",\"\",(R127*S127)/43560)","v":30.303030303030305},{"$f":"IF(M127 = \"\",\"\",T127*S127)","v":0},{"$f":"IF(M127=\"\",\"\",U127/$U$133)","v":0.45595854922279799},null,null,null,null,null,null,{"$f":"IF(Y127=\"\",0,VLOOKUP(Y127,Sheet3!$A$282:$D$322,2,FALSE))","v":0},null,{"$f":"$J$9","v":0},{"$f":"IF(Y127=\"\",\"\",(AD127*AE127)/43560)","v":""},{"$f":"IF(Y127 = \"\",\"\",AF127*AE127)","v":""},{"$f":"IF(Y127=\"\",\"\",AG127/$AG$133)","v":""}]
["Timothy",null,null,"Climax",null,{"$f":"IF(A128=\"\",0,VLOOKUP(A128,Sheet3!$A$282:$D$322,2,FALSE))","v":1230000},0.5,{"$f":"$J$9","v":0},{"$f":"IF(A128=\"\",\"\",(F128*G128)/43560)","v":14.118457300275482},{"$f":"IF(A128 = \"\",\"\",H128*G128)","v":0},{"$f":"IF(A128=\"\",\"\",I128/$I$134)","v":0.12482747422261915},null,"Indiangrass",null,null,"Tomahawk",null,{"$f":"IF(M128=\"\",0,VLOOKUP(M128,Sheet3!$A$282:$D$322,2,FALSE))","v":175000},9,0,36.15702479338843,0,0.54404145077720212,null,null,null,null,null,null,{"$f":"IF(Y128=\"\",0,VLOOKUP(Y128,Sheet3!$A$282:$D$322,2,FALSE))","v":0},null,0,"","",""]
["Orchard grass",null,null,"Orion",null,{"$f":"IF(A129=\"\",0,VLOOKUP(A129,Sheet3!$A$282:$D$322,2,FALSE))","v":654000},0.7,0,10.509641873278238,0,9.2920353982300891E-2,null,null,null,null,null,null,{"$f":"IF(M129=\"\",0,VLOOKUP(M129,Sheet3!$A$282:$D$322,2,FALSE))","v":0},null,0,"","","",null,null,null,null,null,null,{"$f":"IF(Y129=\"\",0,VLOOKUP(Y129,Sheet3!$A$282:$D$322,2,FALSE))","v":0},null,0,"","",""]
["Meadow Fescue",null,null,"Pradel",null,{"$f":"IF(A130=\"\",0,VLOOKUP(A130,Sheet3!$A$282:$D$322,2,FALSE))","v":230000},2,0,10.560146923783288,0,9.3366891288463108E-2,null,null,null,null,null,null,{"$f":"IF(M130=\"\",0,VLOOKUP(M130,Sheet3!$A$282:$D$322,2,FALSE))","v":0},null,0,"","","",null,null,null,null,null,null,{"$f":"IF(Y130=\"\",0,VLOOKUP(Y130,Sheet3!$A$282:$D$322,2,FALSE))","v":0},null,0,"","",""]
["Red Clover",null,null,"Medium",null,{"$f":"IF(A131=\"\",0,VLOOKUP(A131,Sheet3!$A$282:$D$322,2,FALSE))","v":275000},4,0,25.252525252525253,0,0.22326865308110744,null,null,null,null,null,null,{"$f":"IF(M131=\"\",0,VLOOKUP(M131,Sheet3!$A$282:$D$322,2,FALSE))","v":0},null,0,"","","",null,null,null,null,null,null,{"$f":"IF(Y131=\"\",0,VLOOKUP(Y131,Sheet3!$A$282:$D$322,2,FALSE))","v":0},null,0,"","",""]
["Alsike Clover",null,null,"locally adapted",null,{"$f":"IF(A132=\"\",0,VLOOKUP(A132,Sheet3!$A$282:$D$322,2,FALSE))","v":700000},0.5,0,8.0348943985307617,0,7.1040025980352361E-2,null,null,null,null,null,null,{"$f":"IF(M132=\"\",0,VLOOKUP(M132,Sheet3!$A$282:$D$322,2,FALSE))","v":0},null,0,"","","",null,null,null,null,null,null,{"$f":"IF(Y132=\"\",0,VLOOKUP(Y132,Sheet3!$A$282:$D$322,2,FALSE))","v":0},null,0,"","",""]
["Birdsfoot Trefoil",null,null,"Roseau",null,{"$f":"IF(A133=\"\",0,VLOOKUP(A133,Sheet3!$A$282:$D$322,2,FALSE))","v":372000},2,0,17.079889807162534,0,0.15101079808394902,null,"Use Extension Recommended varieties",null,null,null,null,null,null,null,{"$f":"SUM(U127:U132)","v":66.460055096418728},null,{"$f":"SUM(W127:W132)","v":1},null,"Use Extension Recommended varieties",null,null,null,null,null,null,null,{"$f":"SUM(AG127:AG132)","v":0},null,{"$f":"SUM(AI127:AI132)","v":0}]
["Use Extension Recommended varieties",null,null,null,null,null,null,null,{"$f":"SUM(I127:I133)","v":113.10376492194673},null,{"$f":"SUM(K127:K133)","v":1}]
["#3",null,null,null,null,null,null,null,null,null,null,null,"#3",null,null,null,null,null,null,null,null,null,null,null,"#3"]
["Somewhat Excessively to Excessively Drained Soils",null,null,null,null,null,null,null,null,null,null,null,"Somewhat Excessively to Excessively Drained Soils",null,null,null,null,null,null,null,null,null,null,null,"Somewhat Excessively to Excessively Drained Soils"]
["Seed Species",null,null,"Variety or Seed Source",null,"Seeds/lb","PLS Rate Planned","Acres","Seeds/Sqft","Total PLS lbs","% in Mixture",null,"Seed Species",null,null,"Variety or Seed Source",null,"Seeds/lb","PLS Rate Planned","Acres","Seeds/Sqft","Total PLS lbs","% in Mixture",null,"Seed Species",null,null,"Variety or Seed Source",null,"Seeds/lb","PLS Rate Planned","Acres","Seeds/Sqft","Total PLS lbs","% in Mixture"]
[]
[]
[]
["Meadow Bromegrass",null,null,"Fleet",null,{"$f":"IF(A141=\"\",0,VLOOKUP(A141,Sheet3!$A$282:$D$322,2,FALSE))","v":80000},17,{"$f":"$J$9","v":0},{"$f":"IF(A141=\"\",\"\",(F141*G141)/43560)","v":31.221303948576676},{"$f":"IF(A141 = \"\",\"\",H141*G141)","v":0},{"$f":"IF(A141=\"\",\"\",I141/$I$148)","v":0.27676027676027676},null,"Big Bluestem",null,null,"Bison",null,{"$f":"IF(M141=\"\",0,VLOOKUP(M141,Sheet3!$A$282:$D$322,2,FALSE))","v":165000},6,{"$f":"$J$9","v":0},{"$f":"IF(M141=\"\",\"\",(R141*S141)/43560)","v":22.727272727272727},{"$f":"IF(M141 = \"\",\"\",T141*S141)","v":0},{"$f":"IF(M141=\"\",\"\",U141/$U$147)","v":0.35512994168694612},null,null,null,null,null,null,{"$f":"IF(Y141=\"\",0,VLOOKUP(Y141,Sheet3!$A$282:$D$322,2,FALSE))","v":0},null,{"$f":"$J$9","v":0},{"$f":"IF(Y141=\"\",\"\",(AD141*AE141)/43560)","v":""},{"$f":"IF(Y141 = \"\",\"\",AF141*AE141)","v":""},{"$f":"IF(Y141=\"\",\"\",AG141/$AG$147)","v":""}]
["Intermediate Wheatgrass",null,null,"Reliant",null,{"$f":"IF(A142=\"\",0,VLOOKUP(A142,Sheet3!$A$282:$D$322,2,FALSE))","v":88000},5,{"$f":"$J$9","v":0},{"$f":"IF(A142=\"\",\"\",(F142*G142)/43560)","v":10.1010101010101},{"$f":"IF(A142 = \"\",\"\",H142*G142)","v":0},{"$f":"IF(A142=\"\",\"\",I142/$I$148)","v":8.9540089540089532E-2},null,"Indiangrass",null,null,"Tomahawk",null,{"$f":"IF(M142=\"\",0,VLOOKUP(M142,Sheet3!$A$282:$D$322,2,FALSE))","v":175000},4,0,16.069788797061523,0,0.25110197897056796,null,null,null,null,null,null,{"$f":"IF(Y142=\"\",0,VLOOKUP(Y142,Sheet3!$A$282:$D$322,2,FALSE))","v":0},null,0,"","",""]
["Orchard grass",null,null,"Orion",null,{"$f":"IF(A143=\"\",0,VLOOKUP(A143,Sheet3!$A$282:$D$322,2,FALSE))","v":654000},0.5,0,7.5068870523415976,0,6.6544566544566544E-2,null,"Little Bluestem",null,null,"Itasca germplasm",null,{"$f":"IF(M143=\"\",0,VLOOKUP(M143,Sheet3!$A$282:$D$322,2,FALSE))","v":261360},2,0,12,0,0.18750860921070756,null,null,null,null,null,null,{"$f":"IF(Y143=\"\",0,VLOOKUP(Y143,Sheet3!$A$282:$D$322,2,FALSE))","v":0},null,0,"","",""]
["Tall Fescue",null,null,"Fawn",null,{"$f":"IF(A144=\"\",0,VLOOKUP(A144,Sheet3!$A$282:$D$322,2,FALSE))","v":227000},3,0,15.633608815426998,0,0.13858363858363859,null,"Sideoats Grama",null,null,"Killdeer",null,{"$f":"IF(M144=\"\",0,VLOOKUP(M144,Sheet3!$A$282:$D$322,2,FALSE))","v":191664},3,0,13.2,0,0.20625947013177828,null,null,null,null,null,null,{"$f":"IF(Y144=\"\",0,VLOOKUP(Y144,Sheet3!$A$282:$D$322,2,FALSE))","v":0},null,0,"","",""]
["Birdsfoot Trefoil",null,null,"Roseau",null,{"$f":"IF(A145=\"\",0,VLOOKUP(A145,Sheet3!$A$282:$D$322,2,FALSE))","v":372000},3,0,25.619834710743802,0,0.2271062271062271,null,null,null,null,null,null,{"$f":"IF(M145=\"\",0,VLOOKUP(M145,Sheet3!$A$282:$D$322,2,FALSE))","v":0},null,0,"","","",null,null,null,null,null,null,{"$f":"IF(Y145=\"\",0,VLOOKUP(Y145,Sheet3!$A$282:$D$322,2,FALSE))","v":0},null,0,"","",""]
["Alfalfa",null,null,"grazing type",null,{"$f":"IF(A146=\"\",0,VLOOKUP(A146,Sheet3!$A$282:$D$322,2,FALSE))","v":220000},2,0,10.1010101010101,0,8.9540089540089532E-2,null,null,null,null,null,null,{"$f":"IF(M146=\"\",0,VLOOKUP(M146,Sheet3!$A$282:$D$322,2,FALSE))","v":0},null,0,"","","",null,null,null,null,null,null,{"$f":"IF(Y146=\"\",0,VLOOKUP(Y146,Sheet3!$A$282:$D$322,2,FALSE))","v":0},null,0,"","",""]
["Red Clover",null,null,"Medium",null,{"$f":"IF(A147=\"\",0,VLOOKUP(A147,Sheet3!$A$282:$D$322,2,FALSE))","v":275000},2,0,12.626262626262626,0,0.11192511192511191,null,"Use Extension Recommended varieties",null,null,null,null,null,null,null,{"$f":"SUM(U141:U146)","v":63.997061524334256},null,{"$f":"SUM(W141:W146)","v":0.99999999999999989},null,"Use Extension Recommended varieties",null,null,null,null,null,null,null,{"$f":"SUM(AG141:AG146)","v":0},null,{"$f":"SUM(AI141:AI146)","v":0}]
["Use Extension Recommended varieties",null,null,null,null,null,null,null,{"$f":"SUM(I141:I147)","v":112.80991735537191},null,{"$f":"SUM(K141:K147)","v":0.99999999999999989}]
[]
[]
[]
["COOL SEASON INTRODUCED HAY MIXES",null,null,null,null,null,null,null,null,null,null,null,"WARM SEASON NATIVE HAY MIXES"]
[]
["#1",null,null,null,null,null,null,null,null,null,null,null,"#1"]
["Forage Suitability Groups 13 & 14 - Very Poorly to Poorly Drained",null,null,null,null,null,null,null,null,null,null,null,"Forage Suitability Groups 13 & 14 - Very Poorly to Poorly Drained"]
["Seed Species",null,null,"Variety or Seed Source",null,"Seeds/lb","PLS Rate Planned","Acres","Seeds/Sqft","Total PLS lbs","% in Mixture",null,"Seed Species",null,null,"Variety or Seed Source",null,"Seeds/lb","PLS Rate Planned","Acres","Seeds/Sqft","Total PLS lbs","% in Mixture"]
[]
[]
[]
["Creeping Foxtail",null,null,"Garrison",null,{"$f":"IF(A160=\"\",0,VLOOKUP(A160,Sheet3!$A$282:$D$322,2,FALSE))","v":900000},1,{"$f":"$J$9","v":0},{"$f":"IF(A160=\"\",\"\",(F160*G160)/43560)","v":20.66115702479339},{"$f":"IF(A160 = \"\",\"\",H160*G160)","v":0},{"$f":"IF(A160=\"\",\"\",I160/$I$166)","v":0.24324324324324328},null,"Big Bluestem",null,null,"Bison",null,{"$f":"IF(M160=\"\",0,VLOOKUP(M160,Sheet3!$A$282:$D$322,2,FALSE))","v":165000},17,{"$f":"$J$9","v":0},{"$f":"IF(M160=\"\",\"\",(R160*S160)/43560)","v":64.393939393939391},{"$f":"IF(M160 = \"\",\"\",T160*S160)","v":0},{"$f":"IF(M160=\"\",\"\",U160/$U$166)","v":1}]
["Alsike Clover",null,null,"medium",null,{"$f":"IF(A161=\"\",0,VLOOKUP(A161,Sheet3!$A$282:$D$322,2,FALSE))","v":700000},4,0,64.279155188246094,0,0.7567567567567568,null,null,null,null,null,null,{"$f":"IF(M161=\"\",0,VLOOKUP(M161,Sheet3!$A$282:$D$322,2,FALSE))","v":0},null,0,"","",""]
[null,null,null,null,null,{"$f":"IF(A162=\"\",0,VLOOKUP(A162,Sheet3!$A$282:$D$322,2,FALSE))","v":0},null,0,"","","",null,null,null,null,null,null,{"$f":"IF(M162=\"\",0,VLOOKUP(M162,Sheet3!$A$282:$D$322,2,FALSE))","v":0},null,0,"","",""]
[null,null,null,null,null,{"$f":"IF(A163=\"\",0,VLOOKUP(A163,Sheet3!$A$282:$D$322,2,FALSE))","v":0},null,0,"","","",null,null,null,null,null,null,{"$f":"IF(M163=\"\",0,VLOOKUP(M163,Sheet3!$A$282:$D$322,2,FALSE))","v":0},null,0,"","",""]
[null,null,null,null,null,{"$f":"IF(A164=\"\",0,VLOOKUP(A164,Sheet3!$A$282:$D$322,2,FALSE))","v":0},null,0,"","","",null,null,null,null,null,null,{"$f":"IF(M164=\"\",0,VLOOKUP(M164,Sheet3!$A$282:$D$322,2,FALSE))","v":0},null,0,"","",""]
[null,null,null,null,null,{"$f":"IF(A165=\"\",0,VLOOKUP(A165,Sheet3!$A$282:$D$322,2,FALSE))","v":0},null,0,"","","",null,null,null,null,null,null,{"$f":"IF(M165=\"\",0,VLOOKUP(M165,Sheet3!$A$282:$D$322,2,FALSE))","v":0},null,0,"","",""]
["Use Extension Recommended varieties",null,null,"For Very Poorly Drained Sites Substitute 2#/ac alsike clover for birdsfoot trefoil, or substitute alsike clover for birdsfoot trefoils where it is considered invasive.",null,null,null,null,{"$f":"SUM(I160:I165)","v":84.940312213039476},null,{"$f":"SUM(K160:K165)","v":1},null,"Use Extension Recommended varieties",null,null,null,null,null,null,null,{"$f":"SUM(U160:U165)","v":64.393939393939391},null,{"$f":"SUM(W160:W165)","v":1}]
[]
[]
["#2",null,null,null,null,null,null,null,null,null,null,null,"#2"]
["Somewhat Poorly to Moderately Well Drained",null,null,null,null,null,null,null,null,null,null,null,"Somewhat Poorly to Moderately Well Drained"]
["Seed Species",null,null,"Variety or Seed Source",null,"Seeds/lb","PLS Rate Planned","Acres","Seeds/Sqft","Total PLS lbs","% in Mixture",null,"Seed Species",null,null,"Variety or Seed Source",null,"Seeds/lb","PLS Rate Planned","Acres","Seeds/Sqft","Total PLS lbs","% in Mixture"]
[]
[]
[]
["Smooth Bromegrass",null,null,"locally adapted",null,{"$f":"IF(A175=\"\",0,VLOOKUP(A175,Sheet3!$A$282:$D$322,2,FALSE))","v":136000},4,{"$f":"$J$9","v":0},{"$f":"IF(A175=\"\",\"\",(F175*G175)/43560)","v":12.488521579430671},{"$f":"IF(A175 = \"\",\"\",H175*G175)","v":0},{"$f":"IF(A175=\"\",\"\",I175/$I$181)","v":0.13579630554168748},null,"Big Bluestem",null,null,"Bison",null,{"$f":"IF(M175=\"\",0,VLOOKUP(M175,Sheet3!$A$282:$D$322,2,FALSE))","v":165000},17,{"$f":"$J$9","v":0},{"$f":"IF(M175=\"\",\"\",(R175*S175)/43560)","v":64.393939393939391},{"$f":"IF(M175 = \"\",\"\",T175*S175)","v":0},{"$f":"IF(M175=\"\",\"\",U175/$U$181)","v":1}]
["Orchard grass",null,null,"Late maturing",null,{"$f":"IF(A176=\"\",0,VLOOKUP(A176,Sheet3!$A$282:$D$322,2,FALSE))","v":654000},0.5,0,7.5068870523415976,0,8.1627558662006994E-2,null,null,null,null,null,null,{"$f":"IF(M176=\"\",0,VLOOKUP(M176,Sheet3!$A$282:$D$322,2,FALSE))","v":0},null,0,"","",""]
["Alfalfa",null,null,"recommended",null,{"$f":"IF(A177=\"\",0,VLOOKUP(A177,Sheet3!$A$282:$D$322,2,FALSE))","v":220000},8,0,40.404040404040401,0,0.43934098851722414,null,null,null,null,null,null,{"$f":"IF(M177=\"\",0,VLOOKUP(M177,Sheet3!$A$282:$D$322,2,FALSE))","v":0},null,0,"","",""]
["Red Clover",null,null,"mamoth",null,{"$f":"IF(A178=\"\",0,VLOOKUP(A178,Sheet3!$A$282:$D$322,2,FALSE))","v":275000},5,0,31.565656565656564,0,0.34323514727908139,null,null,null,null,null,null,{"$f":"IF(M178=\"\",0,VLOOKUP(M178,Sheet3!$A$282:$D$322,2,FALSE))","v":0},null,0,"","",""]
[null,null,null,null,null,{"$f":"IF(A179=\"\",0,VLOOKUP(A179,Sheet3!$A$282:$D$322,2,FALSE))","v":0},null,0,"","","",null,null,null,null,null,null,{"$f":"IF(M179=\"\",0,VLOOKUP(M179,Sheet3!$A$282:$D$322,2,FALSE))","v":0},null,0,"","",""]
[null,null,null,null,null,{"$f":"IF(A180=\"\",0,VLOOKUP(A180,Sheet3!$A$282:$D$322,2,FALSE))","v":0},null,0,"","","",null,null,null,null,null,null,{"$f":"IF(M180=\"\",0,VLOOKUP(M180,Sheet3!$A$282:$D$322,2,FALSE))","v":0},null,0,"","",""]
["Use Extension Recommended varieties",null,null,null,null,null,null,null,{"$f":"SUM(I175:I180)","v":91.965105601469233},null,{"$f":"SUM(K175:K180)","v":1},null,"Use Extension Recommended varieties",null,null,null,null,null,null,null,{"$f":"SUM(U175:U180)","v":64.393939393939391},null,{"$f":"SUM(W175:W180)","v":1}]
[]
["#3",null,null,null,null,null,null,null,null,null,null,null,"#3"]
["Somewhat Excessively to Excessively Drained Soils",null,null,null,null,null,null,null,null,null,null,null,"Somewhat Excessively to Excessively Drained Soils"]
["Seed Species",null,null,"Variety or Seed Source",null,"Seeds/lb","PLS Rate Planned","Acres","Seeds/Sqft","Total PLS lbs","% in Mixture",null,"Seed Species",null,null,"Variety or Seed Source",null,"Seeds/lb","PLS Rate Planned","Acres","Seeds/Sqft","Total PLS lbs","% in Mixture"]
[]
[]
[]
["Intermediate Wheatgrass",null,null,"Reliant",null,{"$f":"IF(A189=\"\",0,VLOOKUP(A189,Sheet3!$A$282:$D$322,2,FALSE))","v":88000},8,{"$f":"$J$9","v":0},{"$f":"IF(A189=\"\",\"\",(F189*G189)/43560)","v":16.161616161616163},{"$f":"IF(A189 = \"\",\"\",H189*G189)","v":0},{"$f":"IF(A189=\"\",\"\",I189/$I$196)","v":0.19753086419753085},null,"Big Bluestem",null,null,"Bison",null,{"$f":"IF(M189=\"\",0,VLOOKUP(M189,Sheet3!$A$282:$D$322,2,FALSE))","v":165000},17,{"$f":"$J$9","v":0},{"$f":"IF(M189=\"\",\"\",(R189*S189)/43560)","v":64.393939393939391},{"$f":"IF(M189 = \"\",\"\",T189*S189)","v":0},{"$f":"IF(M189=\"\",\"\",U189/$U$196)","v":1}]
["Alfalfa",null,null,"Recommended",null,{"$f":"IF(A190=\"\",0,VLOOKUP(A190,Sheet3!$A$282:$D$322,2,FALSE))","v":220000},13,{"$f":"$J$9","v":0},{"$f":"IF(A190=\"\",\"\",(F190*G190)/43560)","v":65.656565656565661},{"$f":"IF(A190 = \"\",\"\",H190*G190)","v":0},{"$f":"IF(A190=\"\",\"\",I190/$I$196)","v":0.80246913580246915},null,null,null,null,null,null,{"$f":"IF(M190=\"\",0,VLOOKUP(M190,Sheet3!$A$282:$D$322,2,FALSE))","v":0},null,{"$f":"$J$9","v":0},{"$f":"IF(M190=\"\",\"\",(R190*S190)/43560)","v":""},{"$f":"IF(M190 = \"\",\"\",T190*S190)","v":""},{"$f":"IF(M190=\"\",\"\",U190/$U$196)","v":""}]
[null,null,null,null,null,{"$f":"IF(A191=\"\",0,VLOOKUP(A191,Sheet3!$A$282:$D$322,2,FALSE))","v":0},null,0,"","","",null,null,null,null,null,null,{"$f":"IF(M191=\"\",0,VLOOKUP(M191,Sheet3!$A$282:$D$322,2,FALSE))","v":0},null,0,"","",""]
[null,null,null,null,null,{"$f":"IF(A192=\"\",0,VLOOKUP(A192,Sheet3!$A$282:$D$322,2,FALSE))","v":0},null,0,"","","",null,null,null,null,null,null,{"$f":"IF(M192=\"\",0,VLOOKUP(M192,Sheet3!$A$282:$D$322,2,FALSE))","v":0},null,0,"","",""]
[null,null,null,null,null,{"$f":"IF(A193=\"\",0,VLOOKUP(A193,Sheet3!$A$282:$D$322,2,FALSE))","v":0},null,0,"","","",null,null,null,null,null,null,{"$f":"IF(M193=\"\",0,VLOOKUP(M193,Sheet3!$A$282:$D$322,2,FALSE))","v":0},null,0,"","",""]
[null,null,null,null,null,{"$f":"IF(A194=\"\",0,VLOOKUP(A194,Sheet3!$A$282:$D$322,2,FALSE))","v":0},null,0,"","","",null,null,null,null,null,null,{"$f":"IF(M194=\"\",0,VLOOKUP(M194,Sheet3!$A$282:$D$322,2,FALSE))","v":0},null,0,"","",""]
[null,null,null,null,null,{"$f":"IF(A195=\"\",0,VLOOKUP(A195,Sheet3!$A$282:$D$322,2,FALSE))","v":0},null,0,"","","",null,null,null,null,null,null,{"$f":"IF(M195=\"\",0,VLOOKUP(M195,Sheet3!$A$282:$D$322,2,FALSE))","v":0},null,0,"","",""]
["Use Extension Recommended varieties",null,null,null,null,null,null,null,{"$f":"SUM(I189:I195)","v":81.818181818181827},null,{"$f":"SUM(K190:K195)","v":0.80246913580246915},null,"Use Extension Recommended varieties",null,null,null,null,null,null,null,{"$f":"SUM(U189:U195)","v":64.393939393939391},null,{"$f":"SUM(W190:W195)","v":0}]
[]
[]
[]
["Area 3"]
["COOL SEASON INTRODUCED PASTURE MIXES",null,null,null,null,null,null,null,null,null,null,null,"WARM SEASON NATIVE PASTURE MIXES",null,null,null,null,null,null,null,null,null,null,null,"HORSE AND SHEEP PASTURE MIXES"]
[]
["#1",null,null,null,null,null,null,null,null,null,null,null,"#1",null,null,null,null,null,null,null,null,null,null,null,"#1"]
["Forage Suitability Groups 13 & 14 - Very Poorly to Poorly Drained",null,null,null,null,null,null,null,null,null,null,null,"Forage Suitability Groups 13 & 14 - Very Poorly to Poorly Drained",null,null,null,null,null,null,null,null,null,null,null,"Forage Suitability Groups 13 & 14 - Very Poorly to Poorly Drained"]
["Seed Species",null,null,"Variety or Seed Source",null,"Seeds/lb","PLS Rate Planned","Acres","Seeds/Sqft","Total PLS lbs","% in Mixture",null,"Seed Species",null,null,"Variety or Seed Source",null,"Seeds/lb","PLS Rate Planned","Acres","Seeds/Sqft","Total PLS lbs","% in Mixture",null,"Seed Species",null,null,"Variety or Seed Source",null,"Seeds/lb","PLS Rate Planned","Acres","Seeds/Sqft","Total PLS lbs","% in Mixture"]
[]
[]
[]
["Creeping Foxtail",null,null,"Garrison",null,{"$f":"IF(A209=\"\",0,VLOOKUP(A209,Sheet3!$A$282:$D$322,2,FALSE))","v":900000},1.5,{"$f":"$J$9","v":0},{"$f":"IF(A209=\"\",\"\",(F209*G209)/43560)","v":30.991735537190081},{"$f":"IF(A209 = \"\",\"\",H209*G209)","v":0},{"$f":"IF(A209=\"\",\"\",I209/$I$215)","v":0.34695451040863534},null,"Big Bluestem",null,null,"Bison",null,{"$f":"IF(M209=\"\",0,VLOOKUP(M209,Sheet3!$A$282:$D$322,2,FALSE))","v":165000},8,{"$f":"$J$9","v":0},{"$f":"IF(M209=\"\",\"\",(R209*S209)/43560)","v":30.303030303030305},{"$f":"IF(M209 = \"\",\"\",T209*S209)","v":0},{"$f":"IF(M209=\"\",\"\",U209/$U$215)","v":0.45595854922279799},null,"Meadow Bromegrass",null,null,"Fleet",null,{"$f":"IF(Y209=\"\",0,VLOOKUP(Y209,Sheet3!$A$282:$D$322,2,FALSE))","v":80000},20,{"$f":"$J$9","v":0},{"$f":"IF(Y209=\"\",\"\",(AD209*AE209)/43560)","v":36.73094582185491},{"$f":"IF(Y209 = \"\",\"\",AF209*AE209)","v":0},{"$f":"IF(Y209=\"\",\"\",AG209/$AG$215)","v":0.43126684636118601}]
["Timothy",null,null,"Climax",null,{"$f":"IF(A210=\"\",0,VLOOKUP(A210,Sheet3!$A$282:$D$322,2,FALSE))","v":1230000},0.5,0,14.118457300275482,0,0.15805705474171167,null,"Indiangrass",null,null,"Tomahawk",null,{"$f":"IF(M210=\"\",0,VLOOKUP(M210,Sheet3!$A$282:$D$322,2,FALSE))","v":175000},9,0,36.15702479338843,0,0.54404145077720212,null,"Timothy",null,null,"Climax",null,{"$f":"IF(Y210=\"\",0,VLOOKUP(Y210,Sheet3!$A$282:$D$322,2,FALSE))","v":1230000},1,0,28.236914600550964,0,0.33153638814016173]
["Reed Canary Grass",null,null,"low alkaloid",null,{"$f":"IF(A211=\"\",0,VLOOKUP(A211,Sheet3!$A$282:$D$322,2,FALSE))","v":526000},1,0,12.075298438934803,0,0.13518375738884608,null,null,null,null,null,null,{"$f":"IF(M211=\"\",0,VLOOKUP(M211,Sheet3!$A$282:$D$322,2,FALSE))","v":0},null,0,"","","",null,"Alfalfa",null,null,"grazing type",null,{"$f":"IF(Y211=\"\",0,VLOOKUP(Y211,Sheet3!$A$282:$D$322,2,FALSE))","v":220000},4,0,20.202020202020201,0,0.23719676549865229]
["Alsike Clover",null,null,"locally adapted",null,{"$f":"IF(A212=\"\",0,VLOOKUP(A212,Sheet3!$A$282:$D$322,2,FALSE))","v":700000},2,0,32.139577594123047,0,0.35980467746080702,null,null,null,null,null,null,{"$f":"IF(M212=\"\",0,VLOOKUP(M212,Sheet3!$A$282:$D$322,2,FALSE))","v":0},null,0,"","","",null,null,null,null,null,null,{"$f":"IF(Y212=\"\",0,VLOOKUP(Y212,Sheet3!$A$282:$D$322,2,FALSE))","v":0},null,0,"","",""]
[null,null,null,null,null,{"$f":"IF(A213=\"\",0,VLOOKUP(A213,Sheet3!$A$282:$D$322,2,FALSE))","v":0},null,0,"","","",null,null,null,null,null,null,{"$f":"IF(M213=\"\",0,VLOOKUP(M213,Sheet3!$A$282:$D$322,2,FALSE))","v":0},null,0,"","","",null,null,null,null,null,null,{"$f":"IF(Y213=\"\",0,VLOOKUP(Y213,Sheet3!$A$282:$D$322,2,FALSE))","v":0},null,0,"","",""]
[null,null,null,null,null,{"$f":"IF(A214=\"\",0,VLOOKUP(A214,Sheet3!$A$282:$D$322,2,FALSE))","v":0},null,0,"","","",null,null,null,null,null,null,{"$f":"IF(M214=\"\",0,VLOOKUP(M214,Sheet3!$A$282:$D$322,2,FALSE))","v":0},null,0,"","","",null,null,null,null,null,null,{"$f":"IF(Y214=\"\",0,VLOOKUP(Y214,Sheet3!$A$282:$D$322,2,FALSE))","v":0},null,0,"","",""]
["Use Extension Recommended varieties",null,null,null,null,null,null,null,{"$f":"SUM(I209:I214)","v":89.32506887052341},null,{"$f":"SUM(K209:K214)","v":1.0000000000000002},null,"Use Extension Recommended varieties",null,null,null,null,null,null,null,{"$f":"SUM(U209:U214)","v":66.460055096418728},null,{"$f":"SUM(W209:W214)","v":1},null,null,null,null,null,null,null,null,null,{"$f":"SUM(AG209:AG214)","v":85.169880624426071},null,{"$f":"SUM(AI209:AI214)","v":1}]
[]
[]
["#2",null,null,null,null,null,null,null,null,null,null,null,"#2",null,null,null,null,null,null,null,null,null,null,null,"#2"]
["Somewhat Poorly to Moderately Well Drained",null,null,null,null,null,null,null,null,null,null,null,"Somewhat Poorly to Moderately Well Drained",null,null,null,null,null,null,null,null,null,null,null,"Somewhat Poorly to Moderately Well Drained"]
["Seed Species",null,null,"Variety or Seed Source",null,"Seeds/lb","PLS Rate Planned","Acres","Seeds/Sqft","Total PLS lbs","% in Mixture",null,"Seed Species",null,null,"Variety or Seed Source",null,"Seeds/lb","PLS Rate Planned","Acres","Seeds/Sqft","Total PLS lbs","% in Mixture",null,"Seed Species",null,null,"Variety or Seed Source",null,"Seeds/lb","PLS Rate Planned","Acres","Seeds/Sqft","Total PLS lbs","% in Mixture"]
[]
[]
[]
["Orchard grass",null,null,"Orion",null,{"$f":"IF(A224=\"\",0,VLOOKUP(A224,Sheet3!$A$282:$D$322,2,FALSE))","v":654000},2,{"$f":"$J$9","v":0},{"$f":"IF(A224=\"\",\"\",(F224*G224)/43560)","v":30.02754820936639},{"$f":"IF(A224 = \"\",\"\",H224*G224)","v":0},{"$f":"IF(A224=\"\",\"\",I224/$I$230)","v":0.27647431832593533},null,"Big Bluestem",null,null,"Bison",null,{"$f":"IF(M224=\"\",0,VLOOKUP(M224,Sheet3!$A$282:$D$322,2,FALSE))","v":165000},8,{"$f":"$J$9","v":0},{"$f":"IF(M224=\"\",\"\",(R224*S224)/43560)","v":30.303030303030305},{"$f":"IF(M224 = \"\",\"\",T224*S224)","v":0},{"$f":"IF(M224=\"\",\"\",U224/$U$230)","v":0.45595854922279799},null,"Kentucky Bluegrass",null,null,"forage type",null,{"$f":"IF(Y224=\"\",0,VLOOKUP(Y224,Sheet3!$A$282:$D$322,2,FALSE))","v":2177000},0.5,{"$f":"$J$9","v":0},{"$f":"IF(Y224=\"\",\"\",(AD224*AE224)/43560)","v":24.988521579430671},{"$f":"IF(Y224 = \"\",\"\",AF224*AE224)","v":0},{"$f":"IF(Y224=\"\",\"\",AG224/$AG$230)","v":0.306749330703114}]
["Timothy",null,null,"Climax",null,{"$f":"IF(A225=\"\",0,VLOOKUP(A225,Sheet3!$A$282:$D$322,2,FALSE))","v":1230000},0.5,0,14.118457300275482,0,0.12999365884590997,null,"Indiangrass",null,null,"Tomahawk",null,{"$f":"IF(M225=\"\",0,VLOOKUP(M225,Sheet3!$A$282:$D$322,2,FALSE))","v":175000},9,0,36.15702479338843,0,0.54404145077720212,null,"Timothy",null,null,"Climax",null,{"$f":"IF(Y225=\"\",0,VLOOKUP(Y225,Sheet3!$A$282:$D$322,2,FALSE))","v":1230000},2,0,56.473829201101928,0,0.69325066929688595]
["Tall Fescue",null,null,"Fawn",null,{"$f":"IF(A226=\"\",0,VLOOKUP(A226,Sheet3!$A$282:$D$322,2,FALSE))","v":227000},4,0,20.844811753902665,0,0.19192559712534352,null,null,null,null,null,null,{"$f":"IF(M226=\"\",0,VLOOKUP(M226,Sheet3!$A$282:$D$322,2,FALSE))","v":0},null,0,"","","",null,null,null,null,null,null,{"$f":"IF(Y226=\"\",0,VLOOKUP(Y226,Sheet3!$A$282:$D$322,2,FALSE))","v":0},null,0,"","",""]
["Red Clover",null,null,"medium",null,{"$f":"IF(A227=\"\",0,VLOOKUP(A227,Sheet3!$A$282:$D$322,2,FALSE))","v":275000},4,0,25.252525252525253,0,0.23250898330162759,null,null,null,null,null,null,{"$f":"IF(M227=\"\",0,VLOOKUP(M227,Sheet3!$A$282:$D$322,2,FALSE))","v":0},null,0,"","","",null,null,null,null,null,null,{"$f":"IF(Y227=\"\",0,VLOOKUP(Y227,Sheet3!$A$282:$D$322,2,FALSE))","v":0},null,0,"","",""]
["White Clover",null,null,"alice",null,{"$f":"IF(A228=\"\",0,VLOOKUP(A228,Sheet3!$A$282:$D$322,2,FALSE))","v":800000},1,0,18.365472910927455,0,0.16909744240118368,null,null,null,null,null,null,{"$f":"IF(M228=\"\",0,VLOOKUP(M228,Sheet3!$A$282:$D$322,2,FALSE))","v":0},null,0,"","","",null,null,null,null,null,null,{"$f":"IF(Y228=\"\",0,VLOOKUP(Y228,Sheet3!$A$282:$D$322,2,FALSE))","v":0},null,0,"","",""]
[null,null,null,null,null,{"$f":"IF(A229=\"\",0,VLOOKUP(A229,Sheet3!$A$282:$D$322,2,FALSE))","v":0},null,0,"","","",null,null,null,null,null,null,{"$f":"IF(M229=\"\",0,VLOOKUP(M229,Sheet3!$A$282:$D$322,2,FALSE))","v":0},null,0,"","","",null,null,null,null,null,null,{"$f":"IF(Y229=\"\",0,VLOOKUP(Y229,Sheet3!$A$282:$D$322,2,FALSE))","v":0},null,0,"","",""]
["Use Extension Recommended varieties",null,null,null,null,null,null,null,{"$f":"SUM(I224:I229)","v":108.60881542699724},null,{"$f":"SUM(K224:K229)","v":1.0000000000000002},null,"Use Extension Recommended varieties",null,null,null,null,null,null,null,{"$f":"SUM(U224:U229)","v":66.460055096418728},null,{"$f":"SUM(W224:W229)","v":1},null,null,null,null,null,null,null,null,null,{"$f":"SUM(AG224:AG229)","v":81.462350780532603},null,{"$f":"SUM(AI224:AI229)","v":1}]
[]
["#3",null,null,null,null,null,null,null,null,null,null,null,"#3",null,null,null,null,null,null,null,null,null,null,null,"#3"]
["Somewhat Excessively to Excessively Drained Soils",null,null,null,null,null,null,null,null,null,null,null,"Somewhat Excessively to Excessively Drained Soils",null,null,null,null,null,null,null,null,null,null,null,"Somewhat Excessively to Excessively Drained Soils"]
["Seed Species",null,null,"Variety or Seed Source",null,"Seeds/lb","PLS Rate Planned","Acres","Seeds/Sqft","Total PLS lbs","% in Mixture",null,"Seed Species",null,null,"Variety or Seed Source",null,"Seeds/lb","PLS Rate Planned","Acres","Seeds/Sqft","Total PLS lbs","% in Mixture",null,"Seed Species",null,null,"Variety or Seed Source",null,"Seeds/lb","PLS Rate Planned","Acres","Seeds/Sqft","Total PLS lbs","% in Mixture"]
[]
[]
[]
["Tall Fescue",null,null,"Fawn",null,{"$f":"IF(A238=\"\",0,VLOOKUP(A238,Sheet3!$A$282:$D$322,2,FALSE))","v":227000},8,{"$f":"$J$9","v":0},{"$f":"IF(A238=\"\",\"\",(F238*G238)/43560)","v":41.689623507805329},{"$f":"IF(A238 = \"\",\"\",H238*G238)","v":0},{"$f":"IF(A238=\"\",\"\",I238/$I$244)","v":0.47940865892291445},null,"Big Bluestem",null,null,"Bison",null,{"$f":"IF(M238=\"\",0,VLOOKUP(M238,Sheet3!$A$282:$D$322,2,FALSE))","v":165000},6,{"$f":"$J$9","v":0},{"$f":"IF(M238=\"\",\"\",(R238*S238)/43560)","v":22.727272727272727},{"$f":"IF(M238 = \"\",\"\",T238*S238)","v":0},{"$f":"IF(M238=\"\",\"\",U238/$U$244)","v":0.35512994168694612},null,null,null,null,null,null,{"$f":"IF(Y238=\"\",0,VLOOKUP(Y238,Sheet3!$A$282:$D$322,2,FALSE))","v":0},null,{"$f":"$J$9","v":0},{"$f":"IF(Y238=\"\",\"\",(AD238*AE238)/43560)","v":""},{"$f":"IF(Y238 = \"\",\"\",AF238*AE238)","v":""},{"$f":"IF(Y238=\"\",\"\",AG238/$AG$244)","v":""}]
["Meadow Bromegrass",null,null,"Fleet",null,{"$f":"IF(A239=\"\",0,VLOOKUP(A239,Sheet3!$A$282:$D$322,2,FALSE))","v":80000},9,0,16.528925619834709,0,0.19007391763463566,null,"Indiangrass",null,null,"Tomahawk",null,{"$f":"IF(M239=\"\",0,VLOOKUP(M239,Sheet3!$A$282:$D$322,2,FALSE))","v":175000},4,0,16.069788797061523,0,0.25110197897056796,null,null,null,null,null,null,{"$f":"IF(Y239=\"\",0,VLOOKUP(Y239,Sheet3!$A$282:$D$322,2,FALSE))","v":0},null,0,"","",""]
["Alfalfa",null,null,"grazing type",null,{"$f":"IF(A240=\"\",0,VLOOKUP(A240,Sheet3!$A$282:$D$322,2,FALSE))","v":220000},4,0,20.202020202020201,0,0.23231256599788805,null,"Little Bluestem",null,null,"Itasca germplasm",null,{"$f":"IF(M240=\"\",0,VLOOKUP(M240,Sheet3!$A$282:$D$322,2,FALSE))","v":261360},2,0,12,0,0.18750860921070756,null,null,null,null,null,null,{"$f":"IF(Y240=\"\",0,VLOOKUP(Y240,Sheet3!$A$282:$D$322,2,FALSE))","v":0},null,0,"","",""]
["Birdsfoot Trefoil",null,null,"Roseau",null,{"$f":"IF(A241=\"\",0,VLOOKUP(A241,Sheet3!$A$282:$D$322,2,FALSE))","v":372000},1,0,8.5399449035812669,0,9.8204857444561769E-2,null,"Sideoats Grama",null,null,"Killdeer",null,{"$f":"IF(M241=\"\",0,VLOOKUP(M241,Sheet3!$A$282:$D$322,2,FALSE))","v":191664},3,0,13.2,0,0.20625947013177828,null,null,null,null,null,null,{"$f":"IF(Y241=\"\",0,VLOOKUP(Y241,Sheet3!$A$282:$D$322,2,FALSE))","v":0},null,0,"","",""]
[null,null,null,null,null,{"$f":"IF(A242=\"\",0,VLOOKUP(A242,Sheet3!$A$282:$D$322,2,FALSE))","v":0},null,0,"","","",null,null,null,null,null,null,{"$f":"IF(M242=\"\",0,VLOOKUP(M242,Sheet3!$A$282:$D$322,2,FALSE))","v":0},null,0,"","","",null,null,null,null,null,null,{"$f":"IF(Y242=\"\",0,VLOOKUP(Y242,Sheet3!$A$282:$D$322,2,FALSE))","v":0},null,0,"","",""]
[null,null,null,null,null,{"$f":"IF(A243=\"\",0,VLOOKUP(A243,Sheet3!$A$282:$D$322,2,FALSE))","v":0},null,0,"","","",null,null,null,null,null,null,{"$f":"IF(M243=\"\",0,VLOOKUP(M243,Sheet3!$A$282:$D$322,2,FALSE))","v":0},null,0,"","","",null,null,null,null,null,null,{"$f":"IF(Y243=\"\",0,VLOOKUP(Y243,Sheet3!$A$282:$D$322,2,FALSE))","v":0},null,0,"","",""]
["Use Extension Recommended varieties",null,null,null,null,null,null,null,{"$f":"SUM(I238:I243)","v":86.960514233241511},null,{"$f":"SUM(K238:K243)","v":0.99999999999999989},null,"Use Extension Recommended varieties",null,null,null,null,null,null,null,{"$f":"SUM(U238:U243)","v":63.997061524334256},null,{"$f":"SUM(W238:W243)","v":0.99999999999999989},null,null,null,null,null,null,null,null,null,{"$f":"SUM(AG238:AG243)","v":0},null,{"$f":"SUM(AI238:AI243)","v":0}]
[]
[]
[]
[]
["COOL SEASON INTRODUCED HAY MIXES",null,null,null,null,null,null,null,null,null,null,null,"WARM SEASON NATIVE HAY MIXES"]
[]
["#1",null,null,null,null,null,null,null,null,null,null,null,"#1"]
["Forage Suitability Groups 13 & 14 - Very Poorly to Poorly Drained",null,null,null,null,null,null,null,null,null,null,null,"Forage Suitability Groups 13 & 14 - Very Poorly to Poorly Drained"]
["Seed Species",null,null,"Variety or Seed Source",null,"Seeds/lb","PLS Rate Planned","Acres","Seeds/Sqft","Total PLS lbs","% in Mixture",null,"Seed Species",null,null,"Variety or Seed Source",null,"Seeds/lb","PLS Rate Planned","Acres","Seeds/Sqft","Total PLS lbs","% in Mixture"]
[]
[]
[]
["Timothy",null,null,"Climax",null,{"$f":"IF(A257=\"\",0,VLOOKUP(A257,Sheet3!$A$282:$D$322,2,FALSE))","v":1230000},2.5,{"$f":"$J$9","v":0},{"$f":"IF(A257=\"\",\"\",(F257*G257)/43560)","v":70.592286501377416},{"$f":"IF(A257 = \"\",\"\",H257*G257)","v":0},{"$f":"IF(A257=\"\",\"\",I257/$I$263)","v":0.68715083798882681},null,"Big Bluestem",null,null,"Bison",null,{"$f":"IF(M257=\"\",0,VLOOKUP(M257,Sheet3!$A$282:$D$322,2,FALSE))","v":165000},17,{"$f":"$J$9","v":0},{"$f":"IF(M257=\"\",\"\",(R257*S257)/43560)","v":64.393939393939391},{"$f":"IF(M257 = \"\",\"\",T257*S257)","v":0},{"$f":"IF(M257=\"\",\"\",U257/$U$263)","v":1}]
["Alsike Clover",null,null,"locally adapted",null,{"$f":"IF(A258=\"\",0,VLOOKUP(A258,Sheet3!$A$282:$D$322,2,FALSE))","v":700000},2,0,32.139577594123047,0,0.31284916201117313,null,null,null,null,null,null,{"$f":"IF(M258=\"\",0,VLOOKUP(M258,Sheet3!$A$282:$D$322,2,FALSE))","v":0},null,0,"","",""]
[null,null,null,null,null,{"$f":"IF(A259=\"\",0,VLOOKUP(A259,Sheet3!$A$282:$D$322,2,FALSE))","v":0},null,0,"","","",null,null,null,null,null,null,{"$f":"IF(M259=\"\",0,VLOOKUP(M259,Sheet3!$A$282:$D$322,2,FALSE))","v":0},null,0,"","",""]
[null,null,null,null,null,{"$f":"IF(A260=\"\",0,VLOOKUP(A260,Sheet3!$A$282:$D$322,2,FALSE))","v":0},null,0,"","","",null,null,null,null,null,null,{"$f":"IF(M260=\"\",0,VLOOKUP(M260,Sheet3!$A$282:$D$322,2,FALSE))","v":0},null,0,"","",""]
[null,null,null,null,null,{"$f":"IF(A261=\"\",0,VLOOKUP(A261,Sheet3!$A$282:$D$322,2,FALSE))","v":0},null,0,"","","",null,null,null,null,null,null,{"$f":"IF(M261=\"\",0,VLOOKUP(M261,Sheet3!$A$282:$D$322,2,FALSE))","v":0},null,0,"","",""]
[null,null,null,null,null,{"$f":"IF(A262=\"\",0,VLOOKUP(A262,Sheet3!$A$282:$D$322,2,FALSE))","v":0},null,0,"","","",null,null,null,null,null,null,{"$f":"IF(M262=\"\",0,VLOOKUP(M262,Sheet3!$A$282:$D$322,2,FALSE))","v":0},null,0,"","",""]
["Use Extension Recommended varieties",null,null,null,null,null,null,null,{"$f":"SUM(I257:I262)","v":102.73186409550047},null,{"$f":"SUM(K257:K262)","v":1},null,"Use Extension Recommended varieties",null,null,null,null,null,null,null,{"$f":"SUM(U257:U262)","v":64.393939393939391},null,{"$f":"SUM(W257:W262)","v":1}]
[]
[]
["#2",null,null,null,null,null,null,null,null,null,null,null,"#2"]
["Somewhat Poorly to Moderately Well Drained",null,null,null,null,null,null,null,null,null,null,null,"Somewhat Poorly to Moderately Well Drained"]
["Seed Species",null,null,"Variety or Seed Source",null,"Seeds/lb","PLS Rate Planned","Acres","Seeds/Sqft","Total PLS lbs","% in Mixture",null,"Seed Species",null,null,"Variety or Seed Source",null,"Seeds/lb","PLS Rate Planned","Acres","Seeds/Sqft","Total PLS lbs","% in Mixture"]
[]
[]
[]
["Orchard grass",null,null,"late maturing",null,{"$f":"IF(A272=\"\",0,VLOOKUP(A272,Sheet3!$A$282:$D$322,2,FALSE))","v":654000},3,{"$f":"$J$9","v":0},{"$f":"IF(A272=\"\",\"\",(F272*G272)/43560)","v":45.041322314049587},{"$f":"IF(A272 = \"\",\"\",H272*G272)","v":0},{"$f":"IF(A272=\"\",\"\",I272/$I$278)","v":0.47140797693416625},null,"Big Bluestem",null,null,"Bison",null,{"$f":"IF(M272=\"\",0,VLOOKUP(M272,Sheet3!$A$282:$D$322,2,FALSE))","v":165000},17,{"$f":"$J$9","v":0},{"$f":"IF(M272=\"\",\"\",(R272*S272)/43560)","v":64.393939393939391},{"$f":"IF(M272 = \"\",\"\",T272*S272)","v":0},{"$f":"IF(M272=\"\",\"\",U272/$U$278)","v":1}]
["Alfalfa",null,null,"recommended",null,{"$f":"IF(A273=\"\",0,VLOOKUP(A273,Sheet3!$A$282:$D$322,2,FALSE))","v":220000},10,0,50.505050505050505,0,0.52859202306583364,null,null,null,null,null,null,{"$f":"IF(M273=\"\",0,VLOOKUP(M273,Sheet3!$A$282:$D$322,2,FALSE))","v":0},null,0,"","",""]
[null,null,null,null,null,{"$f":"IF(A274=\"\",0,VLOOKUP(A274,Sheet3!$A$282:$D$322,2,FALSE))","v":0},null,0,"","","",null,null,null,null,null,null,{"$f":"IF(M274=\"\",0,VLOOKUP(M274,Sheet3!$A$282:$D$322,2,FALSE))","v":0},null,0,"","",""]
[null,null,null,null,null,{"$f":"IF(A275=\"\",0,VLOOKUP(A275,Sheet3!$A$282:$D$322,2,FALSE))","v":0},null,0,"","","",null,null,null,null,null,null,{"$f":"IF(M275=\"\",0,VLOOKUP(M275,Sheet3!$A$282:$D$322,2,FALSE))","v":0},null,0,"","",""]
[null,null,null,null,null,{"$f":"IF(A276=\"\",0,VLOOKUP(A276,Sheet3!$A$282:$D$322,2,FALSE))","v":0},null,0,"","","",null,null,null,null,null,null,{"$f":"IF(M276=\"\",0,VLOOKUP(M276,Sheet3!$A$282:$D$322,2,FALSE))","v":0},null,0,"","",""]
[null,null,null,null,null,{"$f":"IF(A277=\"\",0,VLOOKUP(A277,Sheet3!$A$282:$D$322,2,FALSE))","v":0},null,0,"","","",null,null,null,null,null,null,{"$f":"IF(M277=\"\",0,VLOOKUP(M277,Sheet3!$A$282:$D$322,2,FALSE))","v":0},null,0,"","",""]
["Use Extension Recommended varieties",null,null,null,null,null,null,null,{"$f":"SUM(I272:I277)","v":95.5463728191001},null,{"$f":"SUM(K272:K277)","v":0.99999999999999989},null,"Use Extension Recommended varieties",null,null,null,null,null,null,null,{"$f":"SUM(U272:U277)","v":64.393939393939391},null,{"$f":"SUM(W272:W277)","v":1}]
[]
["#3",null,null,null,null,null,null,null,null,null,null,null,"#3"]
["Somewhat Excessively to Excessively Drained Soils",null,null,null,null,null,null,null,null,null,null,null,"Somewhat Excessively to Excessively Drained Soils"]
["Seed Species",null,null,"Variety or Seed Source",null,"Seeds/lb","PLS Rate Planned","Acres","Seeds/Sqft","Total PLS lbs","% in Mixture",null,"Seed Species",null,null,"Variety or Seed Source",null,"Seeds/lb","PLS Rate Planned","Acres","Seeds/Sqft","Total PLS lbs","% in Mixture"]
[]
[]
[]
["Tall Fescue",null,null,"Fawn",null,{"$f":"IF(A286=\"\",0,VLOOKUP(A286,Sheet3!$A$282:$D$322,2,FALSE))","v":227000},9,{"$f":"$J$9","v":0},{"$f":"IF(A286=\"\",\"\",(F286*G286)/43560)","v":46.900826446280995},{"$f":"IF(A286 = \"\",\"\",H286*G286)","v":0},{"$f":"IF(A286=\"\",\"\",I286/$I$292)","v":0.50782997762863535},null,"Big Bluestem",null,null,"Bison",null,{"$f":"IF(M286=\"\",0,VLOOKUP(M286,Sheet3!$A$282:$D$322,2,FALSE))","v":165000},17,{"$f":"$J$9","v":0},{"$f":"IF(M286=\"\",\"\",(R286*S286)/43560)","v":64.393939393939391},{"$f":"IF(M286 = \"\",\"\",T286*S286)","v":0},{"$f":"IF(M286=\"\",\"\",U286/$U$292)","v":1}]
["Alfalfa",null,null,"recommended",null,{"$f":"IF(A287=\"\",0,VLOOKUP(A287,Sheet3!$A$282:$D$322,2,FALSE))","v":220000},9,0,45.454545454545453,0,0.49217002237136465,null,null,null,null,null,null,{"$f":"IF(M287=\"\",0,VLOOKUP(M287,Sheet3!$A$282:$D$322,2,FALSE))","v":0},null,0,"","",""]
[null,null,null,null,null,{"$f":"IF(A288=\"\",0,VLOOKUP(A288,Sheet3!$A$282:$D$322,2,FALSE))","v":0},null,0,"","","",null,null,null,null,null,null,{"$f":"IF(M288=\"\",0,VLOOKUP(M288,Sheet3!$A$282:$D$322,2,FALSE))","v":0},null,0,"","",""]
[null,null,null,null,null,{"$f":"IF(A289=\"\",0,VLOOKUP(A289,Sheet3!$A$282:$D$322,2,FALSE))","v":0},null,0,"","","",null,null,null,null,null,null,{"$f":"IF(M289=\"\",0,VLOOKUP(M289,Sheet3!$A$282:$D$322,2,FALSE))","v":0},null,0,"","",""]
[null,null,null,null,null,{"$f":"IF(A290=\"\",0,VLOOKUP(A290,Sheet3!$A$282:$D$322,2,FALSE))","v":0},null,0,"","","",null,null,null,null,null,null,{"$f":"IF(M290=\"\",0,VLOOKUP(M290,Sheet3!$A$282:$D$322,2,FALSE))","v":0},null,0,"","",""]
[null,null,null,null,null,{"$f":"IF(A291=\"\",0,VLOOKUP(A291,Sheet3!$A$282:$D$322,2,FALSE))","v":0},null,0,"","","",null,null,null,null,null,null,{"$f":"IF(M291=\"\",0,VLOOKUP(M291,Sheet3!$A$282:$D$322,2,FALSE))","v":0},null,0,"","",""]
["Use Extension Recommended varieties",null,null,null,null,null,null,null,{"$f":"SUM(I286:I291)","v":92.355371900826441},null,{"$f":"SUM(K286:K291)","v":1},null,"Use Extension Recommended varieties",null,null,null,null,null,null,null,{"$f":"SUM(U286:U291)","v":64.393939393939391},null,{"$f":"SUM(W286:W291)","v":1}]
[]
[]
[]
[]
["Area 4"]
["COOL SEASON INTRODUCED PASTURE MIXES",null,null,null,null,null,null,null,null,null,null,null,"WARM SEASON NATIVE PASTURE MIXES",null,null,null,null,null,null,null,null,null,null,null,"HORSE AND SHEEP PASTURE MIXES"]
[]
["#1",null,null,null,null,null,null,null,null,null,null,null,"#1",null,null,null,null,null,null,null,null,null,null,null,"#1"]
["Forage Suitability Groups 13 & 14 - Very Poorly to Poorly Drained",null,null,null,null,null,null,null,null,null,null,null,"Forage Suitability Groups 13 & 14 - Very Poorly to Poorly Drained",null,null,null,null,null,null,null,null,null,null,null,"Forage Suitability Groups 13 & 14 - Very Poorly to Poorly Drained"]
["Seed Species",null,null,"Variety or Seed Source",null,"Seeds/lb","PLS Rate Planned","Acres","Seeds/Sqft","Total PLS lbs","% in Mixture",null,"Seed Species",null,null,"Variety or Seed Source",null,"Seeds/lb","PLS Rate Planned","Acres","Seeds/Sqft","Total PLS lbs","% in Mixture",null,"Seed Species",null,null,"Variety or Seed Source",null,"Seeds/lb","PLS Rate Planned","Acres","Seeds/Sqft","Total PLS lbs","% in Mixture"]
[]
[]
[]
["Creeping Foxtail",null,null,"Garrison",null,{"$f":"IF(A306=\"\",0,VLOOKUP(A306,Sheet3!$A$282:$D$322,2,FALSE))","v":900000},2,{"$f":"$J$9","v":0},{"$f":"IF(A306=\"\",\"\",(F306*G306)/43560)","v":41.32231404958678},{"$f":"IF(A306 = \"\",\"\",H306*G306)","v":0},{"$f":"IF(A306=\"\",\"\",I306/$I$312)","v":0.42543134010872136},null,"Big Bluestem",null,null,"Bison",null,{"$f":"IF(M306=\"\",0,VLOOKUP(M306,Sheet3!$A$282:$D$322,2,FALSE))","v":165000},8,{"$f":"$J$9","v":0},{"$f":"IF(M306=\"\",\"\",(R306*S306)/43560)","v":30.303030303030305},{"$f":"IF(M306 = \"\",\"\",T306*S306)","v":0},{"$f":"IF(M306=\"\",\"\",U306/$U$312)","v":0.45595854922279799},null,"Creeping Foxtail",null,null,"Garrison",null,{"$f":"IF(Y306=\"\",0,VLOOKUP(Y306,Sheet3!$A$282:$D$322,2,FALSE))","v":900000},1,{"$f":"$J$9","v":0},{"$f":"IF(Y306=\"\",\"\",(AD306*AE306)/43560)","v":20.66115702479339},{"$f":"IF(Y306 = \"\",\"\",AF306*AE306)","v":0},{"$f":"IF(Y306=\"\",\"\",AG306/$AG$312)","v":0.19715224534501646}]
["Timothy",null,null,"Climax",null,{"$f":"IF(A307=\"\",0,VLOOKUP(A307,Sheet3!$A$282:$D$322,2,FALSE))","v":1230000},0.5,0,14.118457300275482,0,0.1453557078704798,null,"Indiangrass",null,null,"Tomahawk",null,{"$f":"IF(M307=\"\",0,VLOOKUP(M307,Sheet3!$A$282:$D$322,2,FALSE))","v":175000},9,0,36.15702479338843,0,0.54404145077720212,null,"Kentucky Bluegrass",null,null,"Adapted",null,{"$f":"IF(Y307=\"\",0,VLOOKUP(Y307,Sheet3!$A$282:$D$322,2,FALSE))","v":2177000},1,0,49.977043158861342,0,0.47688937568455647]
["Alsike Clover",null,null,"locally adapted",null,{"$f":"IF(A308=\"\",0,VLOOKUP(A308,Sheet3!$A$282:$D$322,2,FALSE))","v":700000},1,0,16.069788797061523,0,0.16544552115339162,null,null,null,null,null,null,{"$f":"IF(M308=\"\",0,VLOOKUP(M308,Sheet3!$A$282:$D$322,2,FALSE))","v":0},null,0,"","","",null,"Birdsfoot Trefoil",null,null,"Norcen",null,{"$f":"IF(Y308=\"\",0,VLOOKUP(Y308,Sheet3!$A$282:$D$322,2,FALSE))","v":372000},4,0,34.159779614325068,0,0.32595837897042718]
["Birdsfoot Trefoil",null,null,"Norcen",null,{"$f":"IF(A309=\"\",0,VLOOKUP(A309,Sheet3!$A$282:$D$322,2,FALSE))","v":372000},3,0,25.619834710743802,0,0.26376743086740723,null,null,null,null,null,null,{"$f":"IF(M309=\"\",0,VLOOKUP(M309,Sheet3!$A$282:$D$322,2,FALSE))","v":0},null,0,"","","",null,null,null,null,null,null,{"$f":"IF(Y309=\"\",0,VLOOKUP(Y309,Sheet3!$A$282:$D$322,2,FALSE))","v":0},null,0,"","",""]
[null,null,null,null,null,{"$f":"IF(A310=\"\",0,VLOOKUP(A310,Sheet3!$A$282:$D$322,2,FALSE))","v":0},null,0,"","","",null,null,null,null,null,null,{"$f":"IF(M310=\"\",0,VLOOKUP(M310,Sheet3!$A$282:$D$322,2,FALSE))","v":0},null,0,"","","",null,null,null,null,null,null,{"$f":"IF(Y310=\"\",0,VLOOKUP(Y310,Sheet3!$A$282:$D$322,2,FALSE))","v":0},null,0,"","",""]
[null,null,null,null,null,{"$f":"IF(A311=\"\",0,VLOOKUP(A311,Sheet3!$A$282:$D$322,2,FALSE))","v":0},null,0,"","","",null,null,null,null,null,null,{"$f":"IF(M311=\"\",0,VLOOKUP(M311,Sheet3!$A$282:$D$322,2,FALSE))","v":0},null,0,"","","",null,null,null,null,null,null,{"$f":"IF(Y311=\"\",0,VLOOKUP(Y311,Sheet3!$A$282:$D$322,2,FALSE))","v":0},null,0,"","",""]
["Use Extension Recommended varieties",null,null,"For Very Poorly Drained Sites Substitute 2#/ac alsike clover for birdsfoot trefoil, or substitute alsike clover for birdsfoot trefoils where it is considered invasive.",null,null,null,null,{"$f":"SUM(I306:I311)","v":97.130394857667582},null,{"$f":"SUM(K306:K311)","v":1},null,"Use Extension Recommended varieties",null,null,null,null,null,null,null,{"$f":"SUM(U306:U311)","v":66.460055096418728},null,{"$f":"SUM(W306:W311)","v":1},null,"Use Extension Recommended varieties",null,null,null,null,null,null,null,{"$f":"SUM(AG306:AG311)","v":104.79797979797979},null,{"$f":"SUM(AI306:AI311)","v":1.0000000000000002}]
[]
[]
["#2",null,null,null,null,null,null,null,null,null,null,null,"#2",null,null,null,null,null,null,null,null,null,null,null,"#2"]
["Somewhat Poorly to Moderately Well Drained",null,null,null,null,null,null,null,null,null,null,null,"Somewhat Poorly to Moderately Well Drained",null,null,null,null,null,null,null,null,null,null,null,"Somewhat Poorly to Moderately Well Drained"]
["Seed Species",null,null,"Variety or Seed Source",null,"Seeds/lb","PLS Rate Planned","Acres","Seeds/Sqft","Total PLS lbs","% in Mixture",null,"Seed Species",null,null,"Variety or Seed Source",null,"Seeds/lb","PLS Rate Planned","Acres","Seeds/Sqft","Total PLS lbs","% in Mixture",null,"Seed Species",null,null,"Variety or Seed Source",null,"Seeds/lb","PLS Rate Planned","Acres","Seeds/Sqft","Total PLS lbs","% in Mixture"]
[]
[]
[]
["Meadow Bromegrass",null,null,"Fleet",null,{"$f":"IF(A321=\"\",0,VLOOKUP(A321,Sheet3!$A$282:$D$322,2,FALSE))","v":80000},10,{"$f":"$J$9","v":0},{"$f":"IF(A321=\"\",\"\",(F321*G321)/43560)","v":18.365472910927455},{"$f":"IF(A321 = \"\",\"\",H321*G321)","v":0},{"$f":"IF(A321=\"\",\"\",I321/$I$327)","v":0.22535211267605632},null,"Big Bluestem",null,null,"Bison",null,{"$f":"IF(M321=\"\",0,VLOOKUP(M321,Sheet3!$A$282:$D$322,2,FALSE))","v":165000},8,{"$f":"$J$9","v":0},{"$f":"IF(M321=\"\",\"\",(R321*S321)/43560)","v":30.303030303030305},{"$f":"IF(M321 = \"\",\"\",T321*S321)","v":0},{"$f":"IF(M321=\"\",\"\",U321/$U$327)","v":0.45595854922279799},null,"Meadow Fescue",null,null,"Pradel",null,{"$f":"IF(Y321=\"\",0,VLOOKUP(Y321,Sheet3!$A$282:$D$322,2,FALSE))","v":230000},8,{"$f":"$J$9","v":0},{"$f":"IF(Y321=\"\",\"\",(AD321*AE321)/43560)","v":42.240587695133151},{"$f":"IF(Y321 = \"\",\"\",AF321*AE321)","v":0},{"$f":"IF(Y321=\"\",\"\",AG321/$AG$327)","v":0.34476297545437512}]
["Meadow Fescue",null,null,"Pradel",null,{"$f":"IF(A322=\"\",0,VLOOKUP(A322,Sheet3!$A$282:$D$322,2,FALSE))","v":230000},5,0,26.400367309458218,0,0.323943661971831,null,"Indiangrass",null,null,"Tomahawk",null,{"$f":"IF(M322=\"\",0,VLOOKUP(M322,Sheet3!$A$282:$D$322,2,FALSE))","v":175000},9,0,36.15702479338843,0,0.54404145077720212,null,"Kentucky Bluegrass",null,null,"Adapted",null,{"$f":"IF(Y322=\"\",0,VLOOKUP(Y322,Sheet3!$A$282:$D$322,2,FALSE))","v":2177000},1,0,49.977043158861342,0,0.40790706389357317]
["White Clover",null,null,"Alice",null,{"$f":"IF(A323=\"\",0,VLOOKUP(A323,Sheet3!$A$282:$D$322,2,FALSE))","v":800000},2,0,36.73094582185491,0,0.45070422535211263,null,null,null,null,null,null,{"$f":"IF(M323=\"\",0,VLOOKUP(M323,Sheet3!$A$282:$D$322,2,FALSE))","v":0},null,0,"","","",null,"Alfalfa",null,null,"Grazing type",null,{"$f":"IF(Y323=\"\",0,VLOOKUP(Y323,Sheet3!$A$282:$D$322,2,FALSE))","v":220000},6,0,30.303030303030305,0,0.24732996065205173]
[null,null,null,null,null,{"$f":"IF(A324=\"\",0,VLOOKUP(A324,Sheet3!$A$282:$D$322,2,FALSE))","v":0},null,0,"","","",null,null,null,null,null,null,{"$f":"IF(M324=\"\",0,VLOOKUP(M324,Sheet3!$A$282:$D$322,2,FALSE))","v":0},null,0,"","","",null,null,null,null,null,null,{"$f":"IF(Y324=\"\",0,VLOOKUP(Y324,Sheet3!$A$282:$D$322,2,FALSE))","v":0},null,0,"","",""]
[null,null,null,null,null,{"$f":"IF(A325=\"\",0,VLOOKUP(A325,Sheet3!$A$282:$D$322,2,FALSE))","v":0},null,0,"","","",null,null,null,null,null,null,{"$f":"IF(M325=\"\",0,VLOOKUP(M325,Sheet3!$A$282:$D$322,2,FALSE))","v":0},null,0,"","","",null,null,null,null,null,null,{"$f":"IF(Y325=\"\",0,VLOOKUP(Y325,Sheet3!$A$282:$D$322,2,FALSE))","v":0},null,0,"","",""]
[null,null,null,null,null,{"$f":"IF(A326=\"\",0,VLOOKUP(A326,Sheet3!$A$282:$D$322,2,FALSE))","v":0},null,0,"","","",null,null,null,null,null,null,{"$f":"IF(M326=\"\",0,VLOOKUP(M326,Sheet3!$A$282:$D$322,2,FALSE))","v":0},null,0,"","","",null,null,null,null,null,null,{"$f":"IF(Y326=\"\",0,VLOOKUP(Y326,Sheet3!$A$282:$D$322,2,FALSE))","v":0},null,0,"","",""]
["Use Extension Recommended varieties",null,null,null,null,null,null,null,{"$f":"SUM(I321:I326)","v":81.496786042240586},null,{"$f":"SUM(K321:K326)","v":0.99999999999999989},null,"Use Extension Recommended varieties",null,null,null,null,null,null,null,{"$f":"SUM(U321:U326)","v":66.460055096418728},null,{"$f":"SUM(W321:W326)","v":1},null,"Use Extension Recommended varieties",null,null,null,null,null,null,null,{"$f":"SUM(AG321:AG326)","v":122.52066115702479},null,{"$f":"SUM(AI321:AI326)","v":1}]
[]
["#3",null,null,null,null,null,null,null,null,null,null,null,"#3",null,null,null,null,null,null,null,null,null,null,null,"#3"]
["Somewhat Excessively to Excessively Drained Soils",null,null,null,null,null,null,null,null,null,null,null,"Somewhat Excessively to Excessively Drained Soils",null,null,null,null,null,null,null,null,null,null,null,"Somewhat Excessively to Excessively Drained Soils"]
["Seed Species",null,null,"Variety or Seed Source",null,"Seeds/lb","PLS Rate Planned","Acres","Seeds/Sqft","Total PLS lbs","% in Mixture",null,"Seed Species",null,null,"Variety or Seed Source",null,"Seeds/lb","PLS Rate Planned","Acres","Seeds/Sqft","Total PLS lbs","% in Mixture",null,"Seed Species",null,null,"Variety or Seed Source",null,"Seeds/lb","PLS Rate Planned","Acres","Seeds/Sqft","Total PLS lbs","% in Mixture"]
[]
[]
[]
["Meadow Fescue",null,null,"Pradel",null,{"$f":"IF(A335=\"\",0,VLOOKUP(A335,Sheet3!$A$282:$D$322,2,FALSE))","v":230000},5,{"$f":"$J$9","v":0},{"$f":"IF(A335=\"\",\"\",(F335*G335)/43560)","v":26.400367309458218},{"$f":"IF(A335 = \"\",\"\",H335*G335)","v":0},{"$f":"IF(A335=\"\",\"\",I335/$I$341)","v":0.31335149863760225},null,"Big Bluestem",null,null,"Bison",null,{"$f":"IF(M335=\"\",0,VLOOKUP(M335,Sheet3!$A$282:$D$322,2,FALSE))","v":165000},6,{"$f":"$J$9","v":0},{"$f":"IF(M335=\"\",\"\",(R335*S335)/43560)","v":22.727272727272727},{"$f":"IF(M335 = \"\",\"\",T335*S335)","v":0},{"$f":"IF(M335=\"\",\"\",U335/$U$341)","v":0.35512994168694612},null,"Orchard grass",null,null,"Potomac",null,{"$f":"IF(Y335=\"\",0,VLOOKUP(Y335,Sheet3!$A$282:$D$322,2,FALSE))","v":654000},3,{"$f":"$J$9","v":0},{"$f":"IF(Y335=\"\",\"\",(AD335*AE335)/43560)","v":45.041322314049587},{"$f":"IF(Y335 = \"\",\"\",AF335*AE335)","v":0},{"$f":"IF(Y335=\"\",\"\",AG335/$AG$341)","v":0.35940648470415831}]
["Meadow Bromegrass",null,null,"Fleet",null,{"$f":"IF(A336=\"\",0,VLOOKUP(A336,Sheet3!$A$282:$D$322,2,FALSE))","v":80000},10,0,18.365472910927455,0,0.21798365122615806,null,"Indiangrass",null,null,"Tomahawk",null,{"$f":"IF(M336=\"\",0,VLOOKUP(M336,Sheet3!$A$282:$D$322,2,FALSE))","v":175000},4,0,16.069788797061523,0,0.25110197897056796,null,"Kentucky Bluegrass",null,null,"Adapted",null,{"$f":"IF(Y336=\"\",0,VLOOKUP(Y336,Sheet3!$A$282:$D$322,2,FALSE))","v":2177000},1,0,49.977043158861342,0,0.39879098736032242]
["White Clover",null,null,"Alice",null,{"$f":"IF(A337=\"\",0,VLOOKUP(A337,Sheet3!$A$282:$D$322,2,FALSE))","v":800000},0.5,0,9.1827364554637274,0,0.10899182561307903,null,"Little Bluestem",null,null,"Itasca germplasm",null,{"$f":"IF(M337=\"\",0,VLOOKUP(M337,Sheet3!$A$282:$D$322,2,FALSE))","v":261360},2,0,12,0,0.18750860921070756,null,"Alfalfa",null,null,"Grazing Type",null,{"$f":"IF(Y337=\"\",0,VLOOKUP(Y337,Sheet3!$A$282:$D$322,2,FALSE))","v":220000},6,0,30.303030303030305,0,0.24180252793551935]
["Alfalfa",null,null,"grazing type",null,{"$f":"IF(A338=\"\",0,VLOOKUP(A338,Sheet3!$A$282:$D$322,2,FALSE))","v":220000},6,0,30.303030303030305,0,0.35967302452316086,null,"Sideoats Grama",null,null,"Killdeer",null,{"$f":"IF(M338=\"\",0,VLOOKUP(M338,Sheet3!$A$282:$D$322,2,FALSE))","v":191664},3,0,13.2,0,0.20625947013177828,null,null,null,null,null,null,{"$f":"IF(Y338=\"\",0,VLOOKUP(Y338,Sheet3!$A$282:$D$322,2,FALSE))","v":0},null,0,"","",""]
[null,null,null,null,null,{"$f":"IF(A339=\"\",0,VLOOKUP(A339,Sheet3!$A$282:$D$322,2,FALSE))","v":0},null,0,"","","",null,null,null,null,null,null,{"$f":"IF(M339=\"\",0,VLOOKUP(M339,Sheet3!$A$282:$D$322,2,FALSE))","v":0},null,0,"","","",null,null,null,null,null,null,{"$f":"IF(Y339=\"\",0,VLOOKUP(Y339,Sheet3!$A$282:$D$322,2,FALSE))","v":0},null,0,"","",""]
[null,null,null,null,null,{"$f":"IF(A340=\"\",0,VLOOKUP(A340,Sheet3!$A$282:$D$322,2,FALSE))","v":0},null,0,"","","",null,null,null,null,null,null,{"$f":"IF(M340=\"\",0,VLOOKUP(M340,Sheet3!$A$282:$D$322,2,FALSE))","v":0},null,0,"","","",null,null,null,null,null,null,{"$f":"IF(Y340=\"\",0,VLOOKUP(Y340,Sheet3!$A$282:$D$322,2,FALSE))","v":0},null,0,"","",""]
["Use Extension Recommended varieties",null,null,null,null,null,null,null,{"$f":"SUM(I335:I340)","v":84.251606978879693},null,{"$f":"SUM(K335:K340)","v":1.0000000000000002},null,"Use Extension Recommended varieties",null,null,null,null,null,null,null,{"$f":"SUM(U335:U340)","v":63.997061524334256},null,{"$f":"SUM(W335:W340)","v":0.99999999999999989},null,"Use Extension Recommended varieties",null,null,null,null,null,null,null,{"$f":"SUM(AG335:AG340)","v":125.32139577594123},null,{"$f":"SUM(AI335:AI340)","v":1}]
[]
[]
[]
[]
["COOL SEASON INTRODUCED HAY MIXES",null,null,null,null,null,null,null,null,null,null,null,"WARM SEASON HAY MIXES"]
[]
["#1",null,null,null,null,null,null,null,null,null,null,null,"#1"]
["Forage Suitability Groups 13 & 14 - Very Poorly to Poorly Drained",null,null,null,null,null,null,null,null,null,null,null,"Forage Suitability Groups 13 & 14 - Very Poorly to Poorly Drained"]
["Seed Species",null,null,"Variety or Seed Source",null,"Seeds/lb","PLS Rate Planned","Acres","Seeds/Sqft","Total PLS lbs","% in Mixture",null,"Seed Species",null,null,"Variety or Seed Source",null,"Seeds/lb","PLS Rate Planned","Acres","Seeds/Sqft","Total PLS lbs","% in Mixture"]
[]
[]
[]
["Timothy",null,null,"Climax",null,{"$f":"IF(A354=\"\",0,VLOOKUP(A354,Sheet3!$A$282:$D$322,2,FALSE))","v":1230000},2,{"$f":"$J$9","v":0},{"$f":"IF(A354=\"\",\"\",(F354*G354)/43560)","v":56.473829201101928},{"$f":"IF(A354 = \"\",\"\",H354*G354)","v":0},{"$f":"IF(A354=\"\",\"\",I354/$I$360)","v":0.56944444444444453},null,"Big Bluestem",null,null,"Bison",null,{"$f":"IF(M354=\"\",0,VLOOKUP(M354,Sheet3!$A$282:$D$322,2,FALSE))","v":165000},17,{"$f":"$J$9","v":0},{"$f":"IF(M354=\"\",\"\",(R354*S354)/43560)","v":64.393939393939391},{"$f":"IF(M354 = \"\",\"\",T354*S354)","v":0},{"$f":"IF(M354=\"\",\"\",U354/$U$360)","v":1}]
["Birdsfoot Trefoil",null,null,"Norcen",null,{"$f":"IF(A355=\"\",0,VLOOKUP(A355,Sheet3!$A$282:$D$322,2,FALSE))","v":372000},5,0,42.699724517906333,0,0.43055555555555558,null,null,null,null,null,null,{"$f":"IF(M355=\"\",0,VLOOKUP(M355,Sheet3!$A$282:$D$322,2,FALSE))","v":0},null,0,"","",""]
[null,null,null,null,null,{"$f":"IF(A356=\"\",0,VLOOKUP(A356,Sheet3!$A$282:$D$322,2,FALSE))","v":0},null,0,"","","",null,null,null,null,null,null,{"$f":"IF(M356=\"\",0,VLOOKUP(M356,Sheet3!$A$282:$D$322,2,FALSE))","v":0},null,0,"","",""]
[null,null,null,null,null,{"$f":"IF(A357=\"\",0,VLOOKUP(A357,Sheet3!$A$282:$D$322,2,FALSE))","v":0},null,0,"","","",null,null,null,null,null,null,{"$f":"IF(M357=\"\",0,VLOOKUP(M357,Sheet3!$A$282:$D$322,2,FALSE))","v":0},null,0,"","",""]
[null,null,null,null,null,{"$f":"IF(A358=\"\",0,VLOOKUP(A358,Sheet3!$A$282:$D$322,2,FALSE))","v":0},null,0,"","","",null,null,null,null,null,null,{"$f":"IF(M358=\"\",0,VLOOKUP(M358,Sheet3!$A$282:$D$322,2,FALSE))","v":0},null,0,"","",""]
[null,null,null,null,null,{"$f":"IF(A359=\"\",0,VLOOKUP(A359,Sheet3!$A$282:$D$322,2,FALSE))","v":0},null,0,"","","",null,null,null,null,null,null,{"$f":"IF(M359=\"\",0,VLOOKUP(M359,Sheet3!$A$282:$D$322,2,FALSE))","v":0},null,0,"","",""]
["Use Extension Recommended varieties",null,null,"For Very Poorly Drained Sites Substitute 2#/ac alsike clover for birdsfoot trefoil, or substitute alsike clover for birdsfoot trefoils where it is considered invasive.",null,null,null,null,{"$f":"SUM(I354:I359)","v":99.173553719008254},null,{"$f":"SUM(K354:K359)","v":1},null,"Use Extension Recommended varieties",null,null,null,null,null,null,null,{"$f":"SUM(U354:U359)","v":64.393939393939391},null,{"$f":"SUM(W354:W359)","v":1}]
[]
[]
["#2",null,null,null,null,null,null,null,null,null,null,null,"#2"]
["Somewhat Poorly to Moderately Well Drained",null,null,null,null,null,null,null,null,null,null,null,"Somewhat Poorly to Moderately Well Drained"]
["Seed Species",null,null,"Variety or Seed Source",null,"Seeds/lb","PLS Rate Planned","Acres","Seeds/Sqft","Total PLS lbs","% in Mixture",null,"Seed Species",null,null,"Variety or Seed Source",null,"Seeds/lb","PLS Rate Planned","Acres","Seeds/Sqft","Total PLS lbs","% in Mixture"]
[]
[]
[]
["Meadow Bromegrass",null,null,"Fleet",null,{"$f":"IF(A369=\"\",0,VLOOKUP(A369,Sheet3!$A$282:$D$322,2,FALSE))","v":80000},3,{"$f":"$J$9","v":0},{"$f":"IF(A369=\"\",\"\",(F369*G369)/43560)","v":5.5096418732782366},{"$f":"IF(A369 = \"\",\"\",H369*G369)","v":0},{"$f":"IF(A369=\"\",\"\",I369/$I$375)","v":5.6523787093735275E-2},null,"Big Bluestem",null,null,"Bison",null,{"$f":"IF(M369=\"\",0,VLOOKUP(M369,Sheet3!$A$282:$D$322,2,FALSE))","v":165000},17,{"$f":"$J$9","v":0},{"$f":"IF(M369=\"\",\"\",(R369*S369)/43560)","v":64.393939393939391},{"$f":"IF(M369 = \"\",\"\",T369*S369)","v":0},{"$f":"IF(M369=\"\",\"\",U369/$U$375)","v":1}]
["Meadow Fescue",null,null,"Pradel",null,{"$f":"IF(A370=\"\",0,VLOOKUP(A370,Sheet3!$A$282:$D$322,2,FALSE))","v":230000},3,0,15.840220385674931,0,{"$f":"IF(A370=\"\",\"\",I370/$I$375)","v":0.16250588789448892},null,null,null,null,null,null,{"$f":"IF(M370=\"\",0,VLOOKUP(M370,Sheet3!$A$282:$D$322,2,FALSE))","v":0},null,0,"","",""]
["Alfalfa",null,null,"recommended ",null,{"$f":"IF(A371=\"\",0,VLOOKUP(A371,Sheet3!$A$282:$D$322,2,FALSE))","v":220000},10,0,50.505050505050505,0,{"$f":"IF(A371=\"\",\"\",I371/$I$375)","v":0.51813471502590669},null,null,null,null,null,null,{"$f":"IF(M371=\"\",0,VLOOKUP(M371,Sheet3!$A$282:$D$322,2,FALSE))","v":0},null,0,"","",""]
["Birdsfoot Trefoil",null,null,"Norcen",null,{"$f":"IF(A372=\"\",0,VLOOKUP(A372,Sheet3!$A$282:$D$322,2,FALSE))","v":372000},3,0,25.619834710743802,0,{"$f":"IF(A372=\"\",\"\",I372/$I$84)","v":0.24457593688362916},null,null,null,null,null,null,{"$f":"IF(M372=\"\",0,VLOOKUP(M372,Sheet3!$A$282:$D$322,2,FALSE))","v":0},null,0,"","",""]
[null,null,null,null,null,{"$f":"IF(A373=\"\",0,VLOOKUP(A373,Sheet3!$A$282:$D$322,2,FALSE))","v":0},null,0,"","",{"$f":"IF(A373=\"\",\"\",I373/$I$84)","v":""},null,null,null,null,null,null,{"$f":"IF(M373=\"\",0,VLOOKUP(M373,Sheet3!$A$282:$D$322,2,FALSE))","v":0},null,0,"","",""]
[null,null,null,null,null,{"$f":"IF(A374=\"\",0,VLOOKUP(A374,Sheet3!$A$282:$D$322,2,FALSE))","v":0},null,0,"","",{"$f":"IF(A374=\"\",\"\",I374/$I$84)","v":""},null,null,null,null,null,null,{"$f":"IF(M374=\"\",0,VLOOKUP(M374,Sheet3!$A$282:$D$322,2,FALSE))","v":0},null,0,"","",""]
["Use Extension Recommended varieties",null,null,"For Very Poorly Drained Sites Substitute 2#/ac alsike clover for birdsfoot trefoil, or substitute alsike clover for birdsfoot trefoils where it is considered invasive.",null,null,null,null,{"$f":"SUM(I369:I374)","v":97.474747474747474},null,{"$f":"SUM(K369:K374)","v":0.98174032689776003},null,"Use Extension Recommended varieties",null,null,null,null,null,null,null,{"$f":"SUM(U369:U374)","v":64.393939393939391},null,{"$f":"SUM(W369:W374)","v":1}]
[]
["#3",null,null,null,null,null,null,null,null,null,null,null,"#3"]
["Somewhat Excessively to Excessively Drained Soils",null,null,null,null,null,null,null,null,null,null,null,"Somewhat Excessively to Excessively Drained Soils"]
["Seed Species",null,null,"Variety or Seed Source",null,"Seeds/lb","PLS Rate Planned","Acres","Seeds/Sqft","Total PLS lbs","% in Mixture",null,"Seed Species",null,null,"Variety or Seed Source",null,"Seeds/lb","PLS Rate Planned","Acres","Seeds/Sqft","Total PLS lbs","% in Mixture"]
[]
[]
[]
["Intermediate Wheatgrass",null,null,"Revenue",null,{"$f":"IF(A383=\"\",0,VLOOKUP(A383,Sheet3!$A$282:$D$322,2,FALSE))","v":88000},10,{"$f":"$J$9","v":0},{"$f":"IF(A383=\"\",\"\",(F383*G383)/43560)","v":20.202020202020201},{"$f":"IF(A383 = \"\",\"\",H383*G383)","v":0},{"$f":"IF(A383=\"\",\"\",I383/$I$389)","v":0.22222222222222221},null,"Big Bluestem",null,null,"Bison",null,{"$f":"IF(M383=\"\",0,VLOOKUP(M383,Sheet3!$A$282:$D$322,2,FALSE))","v":165000},17,{"$f":"$J$9","v":0},{"$f":"IF(M383=\"\",\"\",(R383*S383)/43560)","v":64.393939393939391},{"$f":"IF(M383 = \"\",\"\",T383*S383)","v":0},{"$f":"IF(M383=\"\",\"\",U383/$U$389)","v":1}]
["Alfalfa",null,null,"Recommended",null,{"$f":"IF(A384=\"\",0,VLOOKUP(A384,Sheet3!$A$282:$D$322,2,FALSE))","v":220000},14,0,70.707070707070713,0,0.7777777777777779,null,null,null,null,null,null,{"$f":"IF(M384=\"\",0,VLOOKUP(M384,Sheet3!$A$282:$D$322,2,FALSE))","v":0},null,0,"","",""]
[null,null,null,null,null,{"$f":"IF(A385=\"\",0,VLOOKUP(A385,Sheet3!$A$282:$D$322,2,FALSE))","v":0},null,0,"","","",null,null,null,null,null,null,{"$f":"IF(M385=\"\",0,VLOOKUP(M385,Sheet3!$A$282:$D$322,2,FALSE))","v":0},null,0,"","",""]
[null,null,null,null,null,{"$f":"IF(A386=\"\",0,VLOOKUP(A386,Sheet3!$A$282:$D$322,2,FALSE))","v":0},null,0,"","","",null,null,null,null,null,null,{"$f":"IF(M386=\"\",0,VLOOKUP(M386,Sheet3!$A$282:$D$322,2,FALSE))","v":0},null,0,"","",""]
[null,null,null,null,null,{"$f":"IF(A387=\"\",0,VLOOKUP(A387,Sheet3!$A$282:$D$322,2,FALSE))","v":0},null,0,"","","",null,null,null,null,null,null,{"$f":"IF(M387=\"\",0,VLOOKUP(M387,Sheet3!$A$282:$D$322,2,FALSE))","v":0},null,0,"","",""]
[null,null,null,null,null,{"$f":"IF(A388=\"\",0,VLOOKUP(A388,Sheet3!$A$282:$D$322,2,FALSE))","v":0},null,0,"","","",null,null,null,null,null,null,{"$f":"IF(M388=\"\",0,VLOOKUP(M388,Sheet3!$A$282:$D$322,2,FALSE))","v":0},null,0,"","",""]
["Use Extension Recommended varieties",null,null,null,null,null,null,null,{"$f":"SUM(I383:I388)","v":90.909090909090907},null,{"$f":"SUM(K383:K388)","v":1},null,"Use Extension Recommended varieties",null,null,null,null,null,null,null,{"$f":"SUM(U383:U388)","v":64.393939393939391},null,{"$f":"SUM(W383:W388)","v":1}]
[]
[]
[]
[]
["Area 5"]
["COOL SEASON INTRODUCED PASTURE MIXES",null,null,null,null,null,null,null,null,null,null,null,"WARM/COOL SEASON NATIVE PASTURE MIX",null,null,null,null,null,null,null,null,null,null,null,"HORSE AND SHEEP PASTURE MIXES"]
[]
["#1",null,null,null,null,null,null,null,null,null,null,null,"#1",null,null,null,null,null,null,null,null,null,null,null,"#1"]
["INTRODUCED COOL SEASON W/O LEGUME",null,null,null,null,null,null,null,null,null,null,null,null,null,null,null,null,null,null,null,null,null,null,null,"Forage Suitability Groups 13 & 14 - Very Poorly to Poorly Drained"]
["Seed Species",null,null,"Variety or Seed Source",null,"Seeds/lb","PLS Rate Planned","Acres","Seeds/Sqft","Total PLS lbs","% in Mixture",null,"Seed Species",null,null,"Variety or Seed Source",null,"Seeds/lb","PLS Rate Planned","Acres","Seeds/Sqft","Total PLS lbs","% in Mixture",null,"Seed Species",null,null,"Variety or Seed Source",null,"Seeds/lb","PLS Rate Planned","Acres","Seeds/Sqft","Total PLS lbs","% in Mixture"]
[]
[]
[]
["Timothy",null,null,"Named Variety",null,{"$f":"IF(A403=\"\",0,VLOOKUP(A403,Sheet3!$A$282:$D$322,2,FALSE))","v":1230000},0.5,{"$f":"$J$9","v":0},{"$f":"IF(A403=\"\",\"\",(F403*G403)/43560)","v":14.118457300275482},{"$f":"IF(A403 = \"\",\"\",H403*G403)","v":0},{"$f":"IF(A403=\"\",\"\",I403/$I$409)","v":0.20577164366373898},null,"Big Bluestem",null,null,"locally adapted",null,{"$f":"IF(M403=\"\",0,VLOOKUP(M403,Sheet3!$A$282:$D$322,2,FALSE))","v":165000},2,{"$f":"$J$9","v":0},{"$f":"IF(M403=\"\",\"\",(R403*S403)/43560)","v":7.5757575757575761},{"$f":"IF(M403 = \"\",\"\",T403*S403)","v":0},{"$f":"IF(M403=\"\",\"\",U403/$U$416)","v":0.10931293178608058},null,null,null,null,null,null,{"$f":"IF(Y403=\"\",0,VLOOKUP(Y403,Sheet3!$A$282:$D$322,2,FALSE))","v":0},null,{"$f":"$J$9","v":0},{"$f":"IF(Y403=\"\",\"\",(AD403*AE403)/43560)","v":""},{"$f":"IF(Y403 = \"\",\"\",AF403*AE403)","v":""},{"$f":"IF(Y403=\"\",\"\",AG403/$AG$409)","v":""}]
["Orchard grass",null,null,"Named Variety",null,{"$f":"IF(A404=\"\",0,VLOOKUP(A404,Sheet3!$A$282:$D$322,2,FALSE))","v":654000},0.5,0,7.5068870523415976,0,0.10941028858218317,null,"Little Bluestem",null,null,"locally adapted",null,{"$f":"IF(M404=\"\",0,VLOOKUP(M404,Sheet3!$A$282:$D$322,2,FALSE))","v":261360},1,{"$f":"$J$9","v":0},{"$f":"IF(M404=\"\",\"\",(R404*S404)/43560)","v":6},0,8.657584197457581E-2,null,null,null,null,null,null,{"$f":"IF(Y404=\"\",0,VLOOKUP(Y404,Sheet3!$A$282:$D$322,2,FALSE))","v":0},null,0,"","",{"$f":"IF(Y404=\"\",\"\",AG404/$AG$409)","v":""}]
["Intermediate Wheatgrass",null,null,"Named Variety",null,{"$f":"IF(A405=\"\",0,VLOOKUP(A405,Sheet3!$A$282:$D$322,2,FALSE))","v":88000},6.5,0,13.131313131313131,0,0.19138435800920114,null,"Sideoats Grama",null,null,"locally adapted",null,{"$f":"IF(M405=\"\",0,VLOOKUP(M405,Sheet3!$A$282:$D$322,2,FALSE))","v":191664},1.5,0,6.6,0,9.5233426172033384E-2,null,null,null,null,null,null,{"$f":"IF(Y405=\"\",0,VLOOKUP(Y405,Sheet3!$A$282:$D$322,2,FALSE))","v":0},null,0,"","",{"$f":"IF(Y405=\"\",\"\",AG405/$AG$409)","v":""}]
["Crested Wheatgrass",null,null,"Named Variety",null,{"$f":"IF(A406=\"\",0,VLOOKUP(A406,Sheet3!$A$282:$D$322,2,FALSE))","v":175500},2.5,0,10.072314049586776,0,0.14680050188205768,null,"Indiangrass",null,null,"locally adapted",null,{"$f":"IF(M406=\"\",0,VLOOKUP(M406,Sheet3!$A$282:$D$322,2,FALSE))","v":175000},1.5,0,6.0261707988980717,0,8.6953468466200459E-2,null,null,null,null,null,null,{"$f":"IF(Y406=\"\",0,VLOOKUP(Y406,Sheet3!$A$282:$D$322,2,FALSE))","v":0},null,0,"","",{"$f":"IF(Y406=\"\",\"\",AG406/$AG$409)","v":""}]
["Smooth Bromegrass",null,null,"Named Variety",null,{"$f":"IF(A407=\"\",0,VLOOKUP(A407,Sheet3!$A$282:$D$322,2,FALSE))","v":136000},3.5,0,10.927456382001836,0,0.1592639063153492,null,"Switchgrass",null,null,"locally adapted",null,{"$f":"IF(M407=\"\",0,VLOOKUP(M407,Sheet3!$A$282:$D$322,2,FALSE))","v":260000},1,0,5.9687786960514231,0,8.6125340195093783E-2,null,null,null,null,null,null,{"$f":"IF(Y407=\"\",0,VLOOKUP(Y407,Sheet3!$A$282:$D$322,2,FALSE))","v":0},null,0,"","",{"$f":"IF(Y407=\"\",\"\",AG407/$AG$409)","v":""}]
["Meadow Bromegrass",null,null,"Named Variety",null,{"$f":"IF(A408=\"\",0,VLOOKUP(A408,Sheet3!$A$282:$D$322,2,FALSE))","v":80000},7,0,12.855831037649219,0,0.18736930154746964,null,"Green needle grass",null,null,"locally adapted",null,{"$f":"IF(M408=\"\",0,VLOOKUP(M408,Sheet3!$A$282:$D$322,2,FALSE))","v":180000},1.5,0,6.1983471074380168,0,8.9437853279520474E-2]
["Use Extension Recommended varieties",null,null,null,null,null,null,null,{"$f":"SUM(I403:I408)","v":68.612258953168052},null,{"$f":"SUM(K403:K408)","v":0.99999999999999989},null,"Western Wheatgrass",null,null,"locally adapted",null,{"$f":"IF(M409=\"\",0,VLOOKUP(M409,Sheet3!$A$282:$D$322,2,FALSE))","v":112000},2.5,0,6.4279155188246095,{"$f":"IF(M409 = \"\",\"\",T409*S409)","v":0},9.2750366363947151E-2,null,"Use Extension Recommended varieties",null,null,null,null,null,null,null,{"$f":"SUM(AG403:AG408)","v":0},null,{"$f":"SUM(AI403:AI408)","v":0}]
[null,null,null,null,null,null,null,null,null,null,null,null,"Slender Wheatgrass",null,null,"locally adapted",null,{"$f":"IF(M410=\"\",0,VLOOKUP(M410,Sheet3!$A$282:$D$322,2,FALSE))","v":150000},1.5,0,5.1652892561983474,0,7.45315443996004E-2]
[null,null,null,null,null,null,null,null,null,null,null,null,"Canada Wildrye",null,null,"locally adapted",null,{"$f":"IF(M411=\"\",0,VLOOKUP(M411,Sheet3!$A$282:$D$322,2,FALSE))","v":115000},2.5,0,6.6000918273645546,0,9.5234751177267166E-2]
["#2",null,null,null,null,null,null,null,null,null,null,null,"Needle and thread grass",null,null,"locally adapted",null,{"$f":"IF(M412=\"\",0,VLOOKUP(M412,Sheet3!$A$282:$D$322,2,FALSE))","v":150000},2.5,0,8.6088154269972446,0,0.12421924066600064,null,"#2"]
["INTRODUCED COOL SEASON W/LEGUME",null,null,null,null,null,null,null,null,null,null,null,null,null,null,null,null,{"$f":"IF(M413=\"\",0,VLOOKUP(M413,Sheet3!$A$282:$D$322,2,FALSE))","v":0},null,0,"","","",null,"Somewhat Poorly to Moderately Well Drained"]
["Seed Species",null,null,"Variety or Seed Source",null,"Seeds/lb","PLS Rate Planned","Acres","Seeds/Sqft","Total PLS lbs","% in Mixture",null,null,null,null,null,null,{"$f":"IF(M414=\"\",0,VLOOKUP(M414,Sheet3!$A$282:$D$322,2,FALSE))","v":0},null,0,"","","",null,"Seed Species",null,null,"Variety or Seed Source",null,"Seeds/lb","PLS Rate Planned","Acres","Seeds/Sqft","Total PLS lbs","% in Mixture"]
[null,null,null,null,null,null,null,null,null,null,null,null,"PLUS 1LB OF NATIVE FORBS",null,null,"locally adapted",null,180000,1,0,4.1322314049586772,0,5.9625235519680304E-2]
[null,null,null,null,null,null,null,null,null,null,null,null,"*If exact seeds/lbs of native forb mix is known plaese input in the provided area.",null,null,null,null,null,{"$f":"SUM(S403:S415)","v":18.5},null,{"$f":"SUM(U403:U415)","v":69.30339761248851},null,{"$f":"SUM(W403:W415)","v":1.0000000000000002}]
[]
["Timothy",null,null,"Named Variety",null,{"$f":"IF(A418=\"\",0,VLOOKUP(A418,Sheet3!$A$282:$D$322,2,FALSE))","v":1230000},0.5,{"$f":"$J$9","v":0},{"$f":"IF(A418=\"\",\"\",(F418*G418)/43560)","v":14.118457300275482},{"$f":"IF(A418 = \"\",\"\",H418*G418)","v":0},{"$f":"IF(A418=\"\",\"\",I418/$I$425)","v":0.20984389661349481},null,null,null,null,null,null,null,null,null,null,null,null,null,null,null,null,null,null,{"$f":"IF(Y418=\"\",0,VLOOKUP(Y418,Sheet3!$A$282:$D$322,2,FALSE))","v":0},null,{"$f":"$J$9","v":0},{"$f":"IF(Y418=\"\",\"\",(AD418*AE418)/43560)","v":""},{"$f":"IF(Y418 = \"\",\"\",AF418*AE418)","v":""},{"$f":"IF(Y418=\"\",\"\",AG418/$AG$424)","v":""}]
["Orchard grass",null,null,"Named Variety",null,{"$f":"IF(A419=\"\",0,VLOOKUP(A419,Sheet3!$A$282:$D$322,2,FALSE))","v":654000},0.5,{"$f":"$J$9","v":0},{"$f":"IF(A419=\"\",\"\",(F419*G419)/43560)","v":7.5068870523415976},{"$f":"IF(A419 = \"\",\"\",H419*G419)","v":0},{"$f":"IF(A419=\"\",\"\",I419/$I$425)","v":0.11157553527254113},null,null,null,null,null,null,null,null,null,null,null,null,null,null,null,null,null,null,{"$f":"IF(Y419=\"\",0,VLOOKUP(Y419,Sheet3!$A$282:$D$322,2,FALSE))","v":0},null,0,"","",""]
["Intermediate Wheatgrass",null,null,"Named Variety",null,{"$f":"IF(A420=\"\",0,VLOOKUP(A420,Sheet3!$A$282:$D$322,2,FALSE))","v":88000},5,0,10.1010101010101,0,0.15013221871534588,null,null,null,null,null,null,null,null,null,null,null,null,null,null,null,null,null,null,{"$f":"IF(Y420=\"\",0,VLOOKUP(Y420,Sheet3!$A$282:$D$322,2,FALSE))","v":0},null,0,"","",""]
["Crested Wheatgrass",null,null,"Named Variety",null,{"$f":"IF(A421=\"\",0,VLOOKUP(A421,Sheet3!$A$282:$D$322,2,FALSE))","v":175500},2.5,0,10.072314049586776,0,0.14970570673035907,null,null,null,null,null,null,null,null,null,null,null,null,null,null,null,null,null,null,{"$f":"IF(Y421=\"\",0,VLOOKUP(Y421,Sheet3!$A$282:$D$322,2,FALSE))","v":0},null,0,"","",""]
["Meadow Bromegrass",null,null,"Named Variety",null,{"$f":"IF(A422=\"\",0,VLOOKUP(A422,Sheet3!$A$282:$D$322,2,FALSE))","v":80000},5.5,0,10.1010101010101,0,0.15013221871534588,null,null,null,null,null,null,null,null,null,null,null,null,null,null,null,null,null,null,{"$f":"IF(Y422=\"\",0,VLOOKUP(Y422,Sheet3!$A$282:$D$322,2,FALSE))","v":0},null,0,"","",""]
["Smooth Bromegrass",null,null,"Named Variety",null,{"$f":"IF(A423=\"\",0,VLOOKUP(A423,Sheet3!$A$282:$D$322,2,FALSE))","v":136000},2.5,0,7.8053259871441689,0,0.11601125991640363,null,null,null,null,null,null,null,null,null,null,null,null,null,null,null,null,null,null,{"$f":"IF(Y423=\"\",0,VLOOKUP(Y423,Sheet3!$A$282:$D$322,2,FALSE))","v":0},null,0,"","",""]
["Alfalfa",null,null,"Grazing Type",null,{"$f":"IF(A424=\"\",0,VLOOKUP(A424,Sheet3!$A$282:$D$322,2,FALSE))","v":220000},1.5,0,7.5757575757575761,0,0.11259916403650941,null,null,null,null,null,null,null,null,null,null,null,null,null,null,null,null,null,null,null,null,null,{"$f":"SUM(AG418:AG423)","v":0},null,{"$f":"SUM(AI418:AI423)","v":0}]
["Use Extension Recommended varieties",null,null,"Other legumes can be substituted for alfalfa.",null,null,null,null,{"$f":"SUM(I418:I424)","v":67.280762167125815},null,{"$f":"SUM(K418:K424)","v":0.99999999999999978},null,null,null,null,null,null,null,null,null,null,null,null,null,"Use Extension Recommended varieties"]
["#3",null,null,null,null,null,null,null,null,null,null,null,null,null,null,null,null,null,null,null,null,null,null,null,"#3"]
["INTRODUCED COOL SEASON HEAVY USE",null,null,null,null,null,null,null,null,null,null,null,"WARM SEASON NATIVE PASTURE MIXES",null,null,null,null,null,null,null,null,null,null,null,"Somewhat Excessively to Excessively Drained Soils"]
["Seed Species",null,null,"Variety or Seed Source",null,"Seeds/lb","PLS Rate Planned","Acres","Seeds/Sqft","Total PLS lbs","% in Mixture",null,null,null,null,null,null,null,null,null,null,null,null,null,"Seed Species",null,null,"Variety or Seed Source",null,"Seeds/lb","PLS Rate Planned","Acres","Seeds/Sqft","Total PLS lbs","% in Mixture"]
[null,null,null,null,null,null,null,null,null,null,null,null,"#1"]
[null,null,null,null,null,null,null,null,null,null,null,null,"Forage Suitability Groups 13 & 14 - Very Poorly to Poorly Drained"]
[null,null,null,null,null,null,null,null,null,null,null,null,"Seed Species",null,null,"Variety or Seed Source",null,"Seeds/lb","PLS Rate Planned","Acres","Seeds/Sqft","Total PLS lbs","% in Mixture"]
["Crested Wheatgrass",null,null,"Named Variety",null,{"$f":"IF(A432=\"\",0,VLOOKUP(A432,Sheet3!$A$282:$D$322,2,FALSE))","v":175500},6.5,{"$f":"$J$9","v":0},{"$f":"IF(A432=\"\",\"\",(F432*G432)/43560)","v":26.188016528925619},{"$f":"IF(A432 = \"\",\"\",H432*G432)","v":0},{"$f":"IF(A432=\"\",\"\",I432/$I$438)","v":0.33638039071138959},null,null,null,null,null,null,null,null,null,null,null,null,null,null,null,null,null,null,{"$f":"IF(Y432=\"\",0,VLOOKUP(Y432,Sheet3!$A$282:$D$322,2,FALSE))","v":0},null,{"$f":"$J$9","v":0},{"$f":"IF(Y432=\"\",\"\",(AD432*AE432)/43560)","v":""},{"$f":"IF(Y432 = \"\",\"\",AF432*AE432)","v":""},{"$f":"IF(Y432=\"\",\"\",AG432/$AG$438)","v":""}]
["Smooth Bromegrass",null,null,"Named Variety",null,{"$f":"IF(A433=\"\",0,VLOOKUP(A433,Sheet3!$A$282:$D$322,2,FALSE))","v":136000},4.5,0,14.049586776859504,0,0.18046443051971986,null,null,null,null,null,null,null,null,null,null,null,null,null,null,null,null,null,null,{"$f":"IF(Y433=\"\",0,VLOOKUP(Y433,Sheet3!$A$282:$D$322,2,FALSE))","v":0},null,0,"","",""]
["Kentucky Bluegrass",null,null,"Named Variety",null,{"$f":"IF(A434=\"\",0,VLOOKUP(A434,Sheet3!$A$282:$D$322,2,FALSE))","v":2177000},0.5,0,24.988521579430671,0,0.32097309251750827,null,null,null,null,null,null,null,null,null,null,null,null,null,null,null,null,null,null,{"$f":"IF(Y434=\"\",0,VLOOKUP(Y434,Sheet3!$A$282:$D$322,2,FALSE))","v":0},null,0,"","",""]
["Alfalfa",null,null,"Grazing Type",null,{"$f":"IF(A435=\"\",0,VLOOKUP(A435,Sheet3!$A$282:$D$322,2,FALSE))","v":220000},2.5,0,12.626262626262626,0,0.16218208625138222,null,"Big Bluestem",null,null,"Bison",null,{"$f":"IF(M435=\"\",0,VLOOKUP(M435,Sheet3!$A$282:$D$322,2,FALSE))","v":165000},17,{"$f":"$J$9","v":0},{"$f":"IF(M435=\"\",\"\",(R435*S435)/43560)","v":64.393939393939391},{"$f":"IF(M435 = \"\",\"\",T435*S435)","v":0},{"$f":"IF(M435=\"\",\"\",U435/$U$441)","v":1},null,null,null,null,null,null,{"$f":"IF(Y435=\"\",0,VLOOKUP(Y435,Sheet3!$A$282:$D$322,2,FALSE))","v":0},null,0,"","",""]
[null,null,null,null,null,{"$f":"IF(A436=\"\",0,VLOOKUP(A436,Sheet3!$A$282:$D$322,2,FALSE))","v":0},null,0,"","","",null,null,null,null,null,null,{"$f":"IF(M436=\"\",0,VLOOKUP(M436,Sheet3!$A$282:$D$322,2,FALSE))","v":0},null,0,"","","",null,null,null,null,null,null,{"$f":"IF(Y436=\"\",0,VLOOKUP(Y436,Sheet3!$A$282:$D$322,2,FALSE))","v":0},null,0,"","",""]
[null,null,null,null,null,{"$f":"IF(A437=\"\",0,VLOOKUP(A437,Sheet3!$A$282:$D$322,2,FALSE))","v":0},null,0,"","","",null,null,null,null,null,null,{"$f":"IF(M437=\"\",0,VLOOKUP(M437,Sheet3!$A$282:$D$322,2,FALSE))","v":0},null,0,"","","",null,null,null,null,null,null,{"$f":"IF(Y437=\"\",0,VLOOKUP(Y437,Sheet3!$A$282:$D$322,2,FALSE))","v":0},null,0,"","",""]
["Use Extension Recommended varieties",null,null,null,null,null,null,null,{"$f":"SUM(I432:I437)","v":77.852387511478426},null,{"$f":"SUM(K432:K437)","v":0.99999999999999989},null,null,null,null,null,null,{"$f":"IF(M438=\"\",0,VLOOKUP(M438,Sheet3!$A$282:$D$322,2,FALSE))","v":0},null,0,"","","",null,"Use Extension Recommended varieties",null,null,null,null,null,null,null,{"$f":"SUM(AG432:AG437)","v":0},null,{"$f":"SUM(AI432:AI437)","v":0}]
["#4",null,null,null,null,null,null,null,null,null,null,null,null,null,null,null,null,{"$f":"IF(M439=\"\",0,VLOOKUP(M439,Sheet3!$A$282:$D$322,2,FALSE))","v":0},null,0,"","",""]
["INTRODUCED & NATIVE COOL SEASON POORLY DRAINED",null,null,null,null,null,null,null,null,null,null,null,null,null,null,null,null,{"$f":"IF(M440=\"\",0,VLOOKUP(M440,Sheet3!$A$282:$D$322,2,FALSE))","v":0},null,0,"","",""]
["Seed Species",null,null,"Variety or Seed Source",null,"Seeds/lb","PLS Rate Planned","Acres","Seeds/Sqft","Total PLS lbs","% in Mixture",null,"Use Extension Recommended varieties",null,null,null,null,null,null,null,{"$f":"SUM(U435:U440)","v":64.393939393939391},null,{"$f":"SUM(W435:W440)","v":1}]
[]
[]
[null,null,null,null,null,null,null,null,null,null,null,null,"#2"]
["Reed Canary Grass",null,null,"Named Variety",null,{"$f":"IF(A445=\"\",0,VLOOKUP(A445,Sheet3!$A$282:$D$322,2,FALSE))","v":526000},0.5,{"$f":"$J$9","v":0},{"$f":"IF(A445=\"\",\"\",(F445*G445)/43560)","v":6.0376492194674016},{"$f":"IF(A445 = \"\",\"\",H445*G445)","v":0},{"$f":"IF(A445=\"\",\"\",I445/$I$453)","v":9.2054602730136506E-2},null,"Somewhat Poorly to Moderately Well Drained"]
["Canada Wildrye",null,null,"Named Variety",null,{"$f":"IF(A446=\"\",0,VLOOKUP(A446,Sheet3!$A$282:$D$322,2,FALSE))","v":115000},3.5,0,9.2401285583103761,0,{"$f":"IF(A446=\"\",\"\",I446/$I$453)","v":0.14088204410220509},null,"Seed Species",null,null,"Variety or Seed Source",null,"Seeds/lb","PLS Rate Planned","Acres","Seeds/Sqft","Total PLS lbs","% in Mixture"]
["Western Wheatgrass",null,null,"Named Variety",null,{"$f":"IF(A447=\"\",0,VLOOKUP(A447,Sheet3!$A$282:$D$322,2,FALSE))","v":112000},3.5,0,8.9990817263544542,0,0.13720686034301716]
["Tall Wheatgrass",null,null,"Named Variety",null,{"$f":"IF(A448=\"\",0,VLOOKUP(A448,Sheet3!$A$282:$D$322,2,FALSE))","v":79000},5.5,0,9.974747474747474,0,0.15208260413020649]
["Creeping Foxtail",null,null,"Named Variety",null,{"$f":"IF(A449=\"\",0,VLOOKUP(A449,Sheet3!$A$282:$D$322,2,FALSE))","v":900000},0.5,0,10.330578512396695,0,0.1575078753937697]
["Timothy",null,null,"Named Variety",null,{"$f":"IF(A450=\"\",0,VLOOKUP(A450,Sheet3!$A$282:$D$322,2,FALSE))","v":1230000},0.5,0,14.118457300275482,0,0.21526076303815189,null,"Big Bluestem",null,null,"Bison",null,{"$f":"IF(M450=\"\",0,VLOOKUP(M450,Sheet3!$A$282:$D$322,2,FALSE))","v":165000},17,{"$f":"$J$9","v":0},{"$f":"IF(M450=\"\",\"\",(R450*S450)/43560)","v":64.393939393939391},{"$f":"IF(M450 = \"\",\"\",T450*S450)","v":0},{"$f":"IF(M450=\"\",\"\",U450/$U$456)","v":1}]
["Alsike Clover",null,null,"Named Variety",null,{"$f":"IF(A451=\"\",0,VLOOKUP(A451,Sheet3!$A$282:$D$322,2,FALSE))","v":700000},0.2,0,3.2139577594123048,0,4.9002450122506126E-2,null,null,null,null,null,null,{"$f":"IF(M451=\"\",0,VLOOKUP(M451,Sheet3!$A$282:$D$322,2,FALSE))","v":0},null,0,"","",""]
["Ladino Clover",null,null,"Named Variety",null,{"$f":"IF(A452=\"\",0,VLOOKUP(A452,Sheet3!$A$282:$D$322,2,FALSE))","v":800000},0.2,0,3.6730945821854912,0,5.6002800140006997E-2,null,null,null,null,null,null,{"$f":"IF(M452=\"\",0,VLOOKUP(M452,Sheet3!$A$282:$D$322,2,FALSE))","v":0},null,0,"","",""]
["Use Extension Recommended varieties",null,null,null,null,null,null,null,{"$f":"SUM(I445:I452)","v":65.58769513314968},null,{"$f":"SUM(K445:K452)","v":1},null,null,null,null,null,null,{"$f":"IF(M453=\"\",0,VLOOKUP(M453,Sheet3!$A$282:$D$322,2,FALSE))","v":0},null,0,"","",""]
[null,null,null,null,null,null,null,null,null,null,null,null,null,null,null,null,null,{"$f":"IF(M454=\"\",0,VLOOKUP(M454,Sheet3!$A$282:$D$322,2,FALSE))","v":0},null,0,"","",""]
["COOL SEASON INTRODUCED HAY MIXES",null,null,null,null,null,null,null,null,null,null,null,null,null,null,null,null,{"$f":"IF(M455=\"\",0,VLOOKUP(M455,Sheet3!$A$282:$D$322,2,FALSE))","v":0},null,0,"","",""]
[null,null,null,null,null,null,null,null,null,null,null,null,"Use Extension Recommended varieties",null,null,null,null,null,null,null,{"$f":"SUM(U450:U455)","v":64.393939393939391},null,{"$f":"SUM(W450:W455)","v":1}]
["#1"]
["INTRODUCED COOL SEASON HAYLAND 1",null,null,null,null,null,null,null,null,null,null,null,"#3"]
["Seed Species",null,null,"Variety or Seed Source",null,"Seeds/lb","PLS Rate Planned","Acres","Seeds/Sqft","Total PLS lbs","% in Mixture",null,"Somewhat Excessively to Excessively Drained Soils"]
[null,null,null,null,null,null,null,null,null,null,null,null,"Seed Species",null,null,"Variety or Seed Source",null,"Seeds/lb","PLS Rate Planned","Acres","Seeds/Sqft","Total PLS lbs","% in Mixture"]
[]
[]
["Intermediate Wheatgrass",null,null,"Named Variety",null,{"$f":"IF(A463=\"\",0,VLOOKUP(A463,Sheet3!$A$282:$D$322,2,FALSE))","v":88000},8.5,{"$f":"$J$9","v":0},{"$f":"IF(A463=\"\",\"\",(F463*G463)/43560)","v":17.171717171717173},{"$f":"IF(A463 = \"\",\"\",H463*G463)","v":0},{"$f":"IF(A463=\"\",\"\",I463/$I$469)","v":0.23029556650246305}]
["Meadow Bromegrass",null,null,"Named Variety",null,{"$f":"IF(A464=\"\",0,VLOOKUP(A464,Sheet3!$A$282:$D$322,2,FALSE))","v":80000},6.5,0,11.937557392102846,0,0.16009852216748768,null,"Big Bluestem",null,null,"Bison",null,{"$f":"IF(M464=\"\",0,VLOOKUP(M464,Sheet3!$A$282:$D$322,2,FALSE))","v":165000},17,{"$f":"$J$9","v":0},{"$f":"IF(M464=\"\",\"\",(R464*S464)/43560)","v":64.393939393939391},{"$f":"IF(M464 = \"\",\"\",T464*S464)","v":0},{"$f":"IF(M464=\"\",\"\",U464/$U$470)","v":1}]
["Alfalfa",null,null,"Hay Type",null,{"$f":"IF(A465=\"\",0,VLOOKUP(A465,Sheet3!$A$282:$D$322,2,FALSE))","v":220000},9,0,45.454545454545453,0,0.60960591133004927,null,null,null,null,null,null,{"$f":"IF(M465=\"\",0,VLOOKUP(M465,Sheet3!$A$282:$D$322,2,FALSE))","v":0},null,0,"","",""]
[null,null,null,null,null,{"$f":"IF(A466=\"\",0,VLOOKUP(A466,Sheet3!$A$282:$D$322,2,FALSE))","v":0},null,0,"","","",null,null,null,null,null,null,{"$f":"IF(M466=\"\",0,VLOOKUP(M466,Sheet3!$A$282:$D$322,2,FALSE))","v":0},null,0,"","",""]
[null,null,null,null,null,{"$f":"IF(A467=\"\",0,VLOOKUP(A467,Sheet3!$A$282:$D$322,2,FALSE))","v":0},null,0,"","","",null,null,null,null,null,null,{"$f":"IF(M467=\"\",0,VLOOKUP(M467,Sheet3!$A$282:$D$322,2,FALSE))","v":0},null,0,"","",""]
[null,null,null,null,null,{"$f":"IF(A468=\"\",0,VLOOKUP(A468,Sheet3!$A$282:$D$322,2,FALSE))","v":0},null,0,"","","",null,null,null,null,null,null,{"$f":"IF(M468=\"\",0,VLOOKUP(M468,Sheet3!$A$282:$D$322,2,FALSE))","v":0},null,0,"","",""]
["Use Extension Recommended varieties",null,null,null,null,null,null,null,{"$f":"SUM(I463:I468)","v":74.563820018365476},null,{"$f":"SUM(K463:K468)","v":1},null,null,null,null,null,null,{"$f":"IF(M469=\"\",0,VLOOKUP(M469,Sheet3!$A$282:$D$322,2,FALSE))","v":0},null,0,"","",""]
[null,null,null,null,null,null,null,null,null,null,null,null,"Use Extension Recommended varieties",null,null,null,null,null,null,null,{"$f":"SUM(U464:U469)","v":64.393939393939391},null,{"$f":"SUM(W464:W469)","v":1}]
[]
["#2"]
["INTRODUCED COOL SEASON HAYLAND 2"]
["Seed Species",null,null,"Variety or Seed Source",null,"Seeds/lb","PLS Rate Planned","Acres","Seeds/Sqft","Total PLS lbs","% in Mixture"]
[]
[]
[]
["Timothy",null,null,"Named Variety",null,{"$f":"IF(A478=\"\",0,VLOOKUP(A478,Sheet3!$A$282:$D$322,2,FALSE))","v":1230000},0.5,{"$f":"$J$9","v":0},{"$f":"IF(A478=\"\",\"\",(F478*G478)/43560)","v":14.118457300275482},{"$f":"IF(A478 = \"\",\"\",H478*G478)","v":0},{"$f":"IF(A478=\"\",\"\",I478/$I$485)","v":0.19021108791463698}]
["Orchard grass",null,null,"Named Variety",null,{"$f":"IF(A479=\"\",0,VLOOKUP(A479,Sheet3!$A$282:$D$322,2,FALSE))","v":654000},0.5,0,7.5068870523415976,0,0.10113662723266063]
["Intermediate Wheatgrass",null,null,"Named Variety",null,{"$f":"IF(A480=\"\",0,VLOOKUP(A480,Sheet3!$A$282:$D$322,2,FALSE))","v":88000},3,0,6.0606060606060606,0,8.1651588958478322E-2]
["Crested Wheatgrass",null,null,"Named Variety",null,{"$f":"IF(A481=\"\",0,VLOOKUP(A481,Sheet3!$A$282:$D$322,2,FALSE))","v":175500},1.5,0,6.0433884297520661,0,8.1419624217118999E-2]
["Meadow Bromegrass",null,null,"Named Variety",null,{"$f":"IF(A482=\"\",0,VLOOKUP(A482,Sheet3!$A$282:$D$322,2,FALSE))","v":80000},3,0,5.5096418732782366,0,7.4228717234980285E-2]
["Smooth Bromegrass",null,null,"Named Variety",null,{"$f":"IF(A483=\"\",0,VLOOKUP(A483,Sheet3!$A$282:$D$322,2,FALSE))","v":136000},1.5,0,4.6831955922865012,0,6.3094409649733244E-2]
["Alfalfa",null,null,"Hay Type",null,{"$f":"IF(A484=\"\",0,VLOOKUP(A484,Sheet3!$A$282:$D$322,2,FALSE))","v":220000},6,0,30.303030303030305,0,0.40825794479239158]
["Use Extension Recommended varieties",null,null,null,null,null,null,null,{"$f":"SUM(I478:I484)","v":74.225206611570243},null,{"$f":"SUM(K478:K484)","v":1}]
[]
[]
[]
[]
[]
["Area 6"]
["COOL SEASON INTRODUCED PASTURE MIXES",null,null,null,null,null,null,null,null,null,null,null,"WARM SEASON NATIVE PASTURE MIXES",null,null,null,null,null,null,null,null,null,null,null,"HORSE AND SHEEP PASTURE MIXES"]
[]
["#1",null,null,null,null,null,null,null,null,null,null,null,"#1",null,null,null,null,null,null,null,null,null,null,null,"#1"]
["Forage Suitability Groups 13 & 14 - Very Poorly to Poorly Drained",null,null,null,null,null,null,null,null,null,null,null,"Forage Suitability Groups 13 & 14 - Very Poorly to Poorly Drained",null,null,null,null,null,null,null,null,null,null,null,"Forage Suitability Groups 13 & 14 - Very Poorly to Poorly Drained"]
["Seed Species",null,null,"Variety or Seed Source",null,"Seeds/lb","PLS Rate Planned","Acres","Seeds/Sqft","Total PLS lbs","% in Mixture",null,"Seed Species",null,null,"Variety or Seed Source",null,"Seeds/lb","PLS Rate Planned","Acres","Seeds/Sqft","Total PLS lbs","% in Mixture",null,"Seed Species",null,null,"Variety or Seed Source",null,"Seeds/lb","PLS Rate Planned","Acres","Seeds/Sqft","Total PLS lbs","% in Mixture"]
[]
[]
[]
["Creeping Foxtail",null,null,"Named Variety",null,{"$f":"IF(A500=\"\",0,VLOOKUP(A500,Sheet3!$A$282:$D$322,2,FALSE))","v":900000},2,{"$f":"$J$9","v":0},{"$f":"IF(A500=\"\",\"\",(F500*G500)/43560)","v":41.32231404958678},{"$f":"IF(A500 = \"\",\"\",H500*G500)","v":0},{"$f":"IF(A500=\"\",\"\",I500/$I$506)","v":0.42543134010872136},null,"Big Bluestem",null,null,"Bison",null,{"$f":"IF(M500=\"\",0,VLOOKUP(M500,Sheet3!$A$282:$D$322,2,FALSE))","v":165000},8,{"$f":"$J$9","v":0},{"$f":"IF(M500=\"\",\"\",(R500*S500)/43560)","v":30.303030303030305},{"$f":"IF(M500 = \"\",\"\",T500*S500)","v":0},{"$f":"IF(M500=\"\",\"\",U500/$U$506)","v":0.45595854922279799},null,"Creeping Foxtail",null,null,"Garrison",null,{"$f":"IF(Y500=\"\",0,VLOOKUP(Y500,Sheet3!$A$282:$D$322,2,FALSE))","v":900000},1,{"$f":"$J$9","v":0},{"$f":"IF(Y500=\"\",\"\",(AD500*AE500)/43560)","v":20.66115702479339},{"$f":"IF(Y500 = \"\",\"\",AF500*AE500)","v":0},{"$f":"IF(Y500=\"\",\"\",AG500/$AG$506)","v":0.19715224534501646}]
["Timothy",null,null,"Named Variety",null,{"$f":"IF(A501=\"\",0,VLOOKUP(A501,Sheet3!$A$282:$D$322,2,FALSE))","v":1230000},0.5,0,14.118457300275482,0,0.1453557078704798,null,"Indiangrass",null,null,"Tomahawk",null,{"$f":"IF(M501=\"\",0,VLOOKUP(M501,Sheet3!$A$282:$D$322,2,FALSE))","v":175000},9,0,36.15702479338843,0,0.54404145077720212,null,"Kentucky Bluegrass",null,null,"Adapted",null,{"$f":"IF(Y501=\"\",0,VLOOKUP(Y501,Sheet3!$A$282:$D$322,2,FALSE))","v":2177000},1,0,49.977043158861342,0,0.47688937568455647]
["Alsike Clover",null,null,"Named Variety",null,{"$f":"IF(A502=\"\",0,VLOOKUP(A502,Sheet3!$A$282:$D$322,2,FALSE))","v":700000},1,0,16.069788797061523,0,0.16544552115339162,null,null,null,null,null,null,{"$f":"IF(M502=\"\",0,VLOOKUP(M502,Sheet3!$A$282:$D$322,2,FALSE))","v":0},null,0,"","","",null,"Birdsfoot Trefoil",null,null,"Norcen",null,{"$f":"IF(Y502=\"\",0,VLOOKUP(Y502,Sheet3!$A$282:$D$322,2,FALSE))","v":372000},4,0,34.159779614325068,0,0.32595837897042718]
["Birdsfoot Trefoil",null,null,"Named Variety",null,{"$f":"IF(A503=\"\",0,VLOOKUP(A503,Sheet3!$A$282:$D$322,2,FALSE))","v":372000},3,0,25.619834710743802,0,0.26376743086740723,null,null,null,null,null,null,{"$f":"IF(M503=\"\",0,VLOOKUP(M503,Sheet3!$A$282:$D$322,2,FALSE))","v":0},null,0,"","","",null,null,null,null,null,null,{"$f":"IF(Y503=\"\",0,VLOOKUP(Y503,Sheet3!$A$282:$D$322,2,FALSE))","v":0},null,0,"","",""]
[null,null,null,null,null,{"$f":"IF(A504=\"\",0,VLOOKUP(A504,Sheet3!$A$282:$D$322,2,FALSE))","v":0},null,0,"","","",null,null,null,null,null,null,{"$f":"IF(M504=\"\",0,VLOOKUP(M504,Sheet3!$A$282:$D$322,2,FALSE))","v":0},null,0,"","","",null,null,null,null,null,null,{"$f":"IF(Y504=\"\",0,VLOOKUP(Y504,Sheet3!$A$282:$D$322,2,FALSE))","v":0},null,0,"","",""]
[null,null,null,null,null,{"$f":"IF(A505=\"\",0,VLOOKUP(A505,Sheet3!$A$282:$D$322,2,FALSE))","v":0},null,0,"","","",null,null,null,null,null,null,{"$f":"IF(M505=\"\",0,VLOOKUP(M505,Sheet3!$A$282:$D$322,2,FALSE))","v":0},null,0,"","","",null,null,null,null,null,null,{"$f":"IF(Y505=\"\",0,VLOOKUP(Y505,Sheet3!$A$282:$D$322,2,FALSE))","v":0},null,0,"","",""]
["Use Extension Recommended varieties",null,null,"For Very Poorly Drained Sites Substitute 2#/ac alsike clover for birdsfoot trefoil, or substitute alsike clover for birdsfoot trefoils where it is considered invasive.",null,null,null,null,{"$f":"SUM(I500:I505)","v":97.130394857667582},null,{"$f":"SUM(K500:K505)","v":1},null,"Use Extension Recommended varieties",null,null,null,null,null,null,null,{"$f":"SUM(U500:U505)","v":66.460055096418728},null,{"$f":"SUM(W500:W505)","v":1},null,"Use Extension Recommended varieties",null,null,null,null,null,null,null,{"$f":"SUM(AG500:AG505)","v":104.79797979797979},null,{"$f":"SUM(AI500:AI505)","v":1.0000000000000002}]
[]
[]
["#2",null,null,null,null,null,null,null,null,null,null,null,"#2",null,null,null,null,null,null,null,null,null,null,null,"#2"]
["Somewhat Poorly to Moderately Well Drained",null,null,null,null,null,null,null,null,null,null,null,"Somewhat Poorly to Moderately Well Drained",null,null,null,null,null,null,null,null,null,null,null,"Somewhat Poorly to Moderately Well Drained"]
["Seed Species",null,null,"Variety or Seed Source",null,"Seeds/lb","PLS Rate Planned","Acres","Seeds/Sqft","Total PLS lbs","% in Mixture",null,"Seed Species",null,null,"Variety or Seed Source",null,"Seeds/lb","PLS Rate Planned","Acres","Seeds/Sqft","Total PLS lbs","% in Mixture",null,"Seed Species",null,null,"Variety or Seed Source",null,"Seeds/lb","PLS Rate Planned","Acres","Seeds/Sqft","Total PLS lbs","% in Mixture"]
[]
[]
[]
["Meadow Bromegrass",null,null,"Named Variety",null,{"$f":"IF(A515=\"\",0,VLOOKUP(A515,Sheet3!$A$282:$D$322,2,FALSE))","v":80000},14,{"$f":"$J$9","v":0},{"$f":"IF(A515=\"\",\"\",(F515*G515)/43560)","v":25.711662075298438},{"$f":"IF(A515 = \"\",\"\",H515*G515)","v":0},{"$f":"IF(A515=\"\",\"\",I515/$I$521)","v":0.30939226519337015},null,"Big Bluestem",null,null,"Bison",null,{"$f":"IF(M515=\"\",0,VLOOKUP(M515,Sheet3!$A$282:$D$322,2,FALSE))","v":165000},8,{"$f":"$J$9","v":0},{"$f":"IF(M515=\"\",\"\",(R515*S515)/43560)","v":30.303030303030305},{"$f":"IF(M515 = \"\",\"\",T515*S515)","v":0},{"$f":"IF(M515=\"\",\"\",U515/$U$521)","v":0.45595854922279799},null,"Meadow Fescue",null,null,"Pradel",null,{"$f":"IF(Y515=\"\",0,VLOOKUP(Y515,Sheet3!$A$282:$D$322,2,FALSE))","v":230000},8,{"$f":"$J$9","v":0},{"$f":"IF(Y515=\"\",\"\",(AD515*AE515)/43560)","v":42.240587695133151},{"$f":"IF(Y515 = \"\",\"\",AF515*AE515)","v":0},{"$f":"IF(Y515=\"\",\"\",AG515/$AG$521)","v":0.34476297545437512}]
["Meadow Fescue",null,null,"Named Variety",null,{"$f":"IF(A516=\"\",0,VLOOKUP(A516,Sheet3!$A$282:$D$322,2,FALSE))","v":230000},5,0,26.400367309458218,0,0.31767955801104975,null,"Indiangrass",null,null,"Tomahawk",null,{"$f":"IF(M516=\"\",0,VLOOKUP(M516,Sheet3!$A$282:$D$322,2,FALSE))","v":175000},9,0,36.15702479338843,0,0.54404145077720212,null,"Kentucky Bluegrass",null,null,"forage type",null,{"$f":"IF(Y516=\"\",0,VLOOKUP(Y516,Sheet3!$A$282:$D$322,2,FALSE))","v":2177000},1,0,49.977043158861342,0,0.40790706389357317]
["Red Clover",null,null,"Named Variety",null,{"$f":"IF(A517=\"\",0,VLOOKUP(A517,Sheet3!$A$282:$D$322,2,FALSE))","v":275000},2,0,12.626262626262626,0,0.15193370165745856,null,null,null,null,null,null,{"$f":"IF(M517=\"\",0,VLOOKUP(M517,Sheet3!$A$282:$D$322,2,FALSE))","v":0},null,0,"","","",null,"Alfalfa",null,null,"Grazing Type",null,{"$f":"IF(Y517=\"\",0,VLOOKUP(Y517,Sheet3!$A$282:$D$322,2,FALSE))","v":220000},6,0,30.303030303030305,0,0.24732996065205173]
["White Clover",null,null,"Named Variety",null,{"$f":"IF(A518=\"\",0,VLOOKUP(A518,Sheet3!$A$282:$D$322,2,FALSE))","v":800000},1,0,18.365472910927455,0,0.22099447513812154,null,null,null,null,null,null,{"$f":"IF(M518=\"\",0,VLOOKUP(M518,Sheet3!$A$282:$D$322,2,FALSE))","v":0},null,0,"","","",null,null,null,null,null,null,{"$f":"IF(Y518=\"\",0,VLOOKUP(Y518,Sheet3!$A$282:$D$322,2,FALSE))","v":0},null,0,"","",""]
[null,null,null,null,null,{"$f":"IF(A519=\"\",0,VLOOKUP(A519,Sheet3!$A$282:$D$322,2,FALSE))","v":0},null,0,"","","",null,null,null,null,null,null,{"$f":"IF(M519=\"\",0,VLOOKUP(M519,Sheet3!$A$282:$D$322,2,FALSE))","v":0},null,0,"","","",null,null,null,null,null,null,{"$f":"IF(Y519=\"\",0,VLOOKUP(Y519,Sheet3!$A$282:$D$322,2,FALSE))","v":0},null,0,"","",""]
[null,null,null,null,null,{"$f":"IF(A520=\"\",0,VLOOKUP(A520,Sheet3!$A$282:$D$322,2,FALSE))","v":0},null,0,"","","",null,null,null,null,null,null,{"$f":"IF(M520=\"\",0,VLOOKUP(M520,Sheet3!$A$282:$D$322,2,FALSE))","v":0},null,0,"","","",null,null,null,null,null,null,{"$f":"IF(Y520=\"\",0,VLOOKUP(Y520,Sheet3!$A$282:$D$322,2,FALSE))","v":0},null,0,"","",""]
["Use Extension Recommended varieties",null,null,null,null,null,null,null,{"$f":"SUM(I515:I520)","v":83.103764921946734},null,{"$f":"SUM(K515:K520)","v":1},null,"Use Extension Recommended varieties",null,null,null,null,null,null,null,{"$f":"SUM(U515:U520)","v":66.460055096418728},null,{"$f":"SUM(W515:W520)","v":1},null,"Use Extension Recommended varieties",null,null,null,null,null,null,null,{"$f":"SUM(AG515:AG520)","v":122.52066115702479},null,{"$f":"SUM(AI515:AI520)","v":1}]
[]
["#3",null,null,null,null,null,null,null,null,null,null,null,"#3",null,null,null,null,null,null,null,null,null,null,null,"#3"]
["Somewhat Excessively to Excessively Drained Soils",null,null,null,null,null,null,null,null,null,null,null,"Somewhat Excessively to Excessively Drained Soils",null,null,null,null,null,null,null,null,null,null,null,"Somewhat Excessively to Excessively Drained Soils"]
["Seed Species",null,null,"Variety or Seed Source",null,"Seeds/lb","PLS Rate Planned","Acres","Seeds/Sqft","Total PLS lbs","% in Mixture",null,"Seed Species",null,null,"Variety or Seed Source",null,"Seeds/lb","PLS Rate Planned","Acres","Seeds/Sqft","Total PLS lbs","% in Mixture",null,"Seed Species",null,null,"Variety or Seed Source",null,"Seeds/lb","PLS Rate Planned","Acres","Seeds/Sqft","Total PLS lbs","% in Mixture"]
[]
[]
[]
["Reed Canary Grass",null,null,"Named Variety",null,{"$f":"IF(A529=\"\",0,VLOOKUP(A529,Sheet3!$A$282:$D$322,2,FALSE))","v":526000},3,{"$f":"$J$9","v":0},{"$f":"IF(A529=\"\",\"\",(F529*G529)/43560)","v":36.225895316804404},{"$f":"IF(A529 = \"\",\"\",H529*G529)","v":0},{"$f":"IF(A529=\"\",\"\",I529/$I$535)","v":0.3905940594059405},null,"Big Bluestem",null,null,"Bison",null,{"$f":"IF(M529=\"\",0,VLOOKUP(M529,Sheet3!$A$282:$D$322,2,FALSE))","v":165000},6,{"$f":"$J$9","v":0},{"$f":"IF(M529=\"\",\"\",(R529*S529)/43560)","v":22.727272727272727},{"$f":"IF(M529 = \"\",\"\",T529*S529)","v":0},{"$f":"IF(M529=\"\",\"\",U529/$U$535)","v":0.35512994168694612},null,"Orchard grass",null,null,"Potomac",null,{"$f":"IF(Y529=\"\",0,VLOOKUP(Y529,Sheet3!$A$282:$D$322,2,FALSE))","v":654000},3,{"$f":"$J$9","v":0},{"$f":"IF(Y529=\"\",\"\",(AD529*AE529)/43560)","v":45.041322314049587},{"$f":"IF(Y529 = \"\",\"\",AF529*AE529)","v":0},{"$f":"IF(Y529=\"\",\"\",AG529/$AG$535)","v":0.35940648470415831}]
["Tall Fescue",null,null,"Named Variety",null,{"$f":"IF(A530=\"\",0,VLOOKUP(A530,Sheet3!$A$282:$D$322,2,FALSE))","v":227000},6,0,31.267217630853995,0,0.3371287128712871,null,"Indiangrass",null,null,"Tomahawk",null,{"$f":"IF(M530=\"\",0,VLOOKUP(M530,Sheet3!$A$282:$D$322,2,FALSE))","v":175000},4,0,16.069788797061523,0,0.25110197897056796,null,"Kentucky Bluegrass",null,null,"Forage type",null,{"$f":"IF(Y530=\"\",0,VLOOKUP(Y530,Sheet3!$A$282:$D$322,2,FALSE))","v":2177000},1,0,49.977043158861342,0,0.39879098736032242]
["Alfalfa",null,null,"Graze Type",null,{"$f":"IF(A531=\"\",0,VLOOKUP(A531,Sheet3!$A$282:$D$322,2,FALSE))","v":220000},5,0,25.252525252525253,0,0.27227722772277224,null,"Little Bluestem",null,null,"Itasca germplasm",null,{"$f":"IF(M531=\"\",0,VLOOKUP(M531,Sheet3!$A$282:$D$322,2,FALSE))","v":261360},2,0,12,0,0.18750860921070756,null,"Alfalfa",null,null,"Grazing Type",null,{"$f":"IF(Y531=\"\",0,VLOOKUP(Y531,Sheet3!$A$282:$D$322,2,FALSE))","v":220000},6,0,30.303030303030305,0,0.24180252793551935]
[null,null,null,null,null,{"$f":"IF(A532=\"\",0,VLOOKUP(A532,Sheet3!$A$282:$D$322,2,FALSE))","v":0},null,0,"","","",null,"Sideoats Grama",null,null,"Killdeer",null,{"$f":"IF(M532=\"\",0,VLOOKUP(M532,Sheet3!$A$282:$D$322,2,FALSE))","v":191664},3,0,13.2,0,0.20625947013177828,null,null,null,null,null,null,{"$f":"IF(Y532=\"\",0,VLOOKUP(Y532,Sheet3!$A$282:$D$322,2,FALSE))","v":0},null,0,"","",""]
[null,null,null,null,null,{"$f":"IF(A533=\"\",0,VLOOKUP(A533,Sheet3!$A$282:$D$322,2,FALSE))","v":0},null,0,"","","",null,null,null,null,null,null,{"$f":"IF(M533=\"\",0,VLOOKUP(M533,Sheet3!$A$282:$D$322,2,FALSE))","v":0},null,0,"","","",null,null,null,null,null,null,{"$f":"IF(Y533=\"\",0,VLOOKUP(Y533,Sheet3!$A$282:$D$322,2,FALSE))","v":0},null,0,"","",""]
[null,null,null,null,null,{"$f":"IF(A534=\"\",0,VLOOKUP(A534,Sheet3!$A$282:$D$322,2,FALSE))","v":0},null,0,"","","",null,null,null,null,null,null,{"$f":"IF(M534=\"\",0,VLOOKUP(M534,Sheet3!$A$282:$D$322,2,FALSE))","v":0},null,0,"","","",null,null,null,null,null,null,{"$f":"IF(Y534=\"\",0,VLOOKUP(Y534,Sheet3!$A$282:$D$322,2,FALSE))","v":0},null,0,"","",""]
["Use Extension Recommended varieties",null,null,null,null,null,null,null,{"$f":"SUM(I529:I534)","v":92.745638200183663},null,{"$f":"SUM(K529:K534)","v":0.99999999999999978},null,"Use Extension Recommended varieties",null,null,null,null,null,null,null,{"$f":"SUM(U529:U534)","v":63.997061524334256},null,{"$f":"SUM(W529:W534)","v":0.99999999999999989},null,"Use Extension Recommended varieties",null,null,null,null,null,null,null,{"$f":"SUM(AG529:AG534)","v":125.32139577594123},null,{"$f":"SUM(AI529:AI534)","v":1}]
[]
[]
[]
[]
["COOL SEASON INTRODUCED HAY MIXES",null,null,null,null,null,null,null,null,null,null,null,"WARM SEASON NATIVEHAY MIXES"]
[]
["#1",null,null,null,null,null,null,null,null,null,null,null,"#1"]
["Forage Suitability Groups 13 & 14 - Very Poorly to Poorly Drained",null,null,null,null,null,null,null,null,null,null,null,"Forage Suitability Groups 13 & 14 - Very Poorly to Poorly Drained"]
["Seed Species",null,null,"Variety or Seed Source",null,"Seeds/lb","PLS Rate Planned","Acres","Seeds/Sqft","Total PLS lbs","% in Mixture",null,"Seed Species",null,null,"Variety or Seed Source",null,"Seeds/lb","PLS Rate Planned","Acres","Seeds/Sqft","Total PLS lbs","% in Mixture"]
[]
[]
[]
["Timothy",null,null,"Climax",null,{"$f":"IF(A548=\"\",0,VLOOKUP(A548,Sheet3!$A$282:$D$322,2,FALSE))","v":1230000},2,{"$f":"$J$9","v":0},{"$f":"IF(A548=\"\",\"\",(F548*G548)/43560)","v":56.473829201101928},{"$f":"IF(A548 = \"\",\"\",H548*G548)","v":0},{"$f":"IF(A548=\"\",\"\",I548/$I$554)","v":0.56944444444444453},null,"Big Bluestem",null,null,"Bison",null,{"$f":"IF(M548=\"\",0,VLOOKUP(M548,Sheet3!$A$282:$D$322,2,FALSE))","v":165000},17,{"$f":"$J$9","v":0},{"$f":"IF(M548=\"\",\"\",(R548*S548)/43560)","v":64.393939393939391},{"$f":"IF(M548 = \"\",\"\",T548*S548)","v":0},{"$f":"IF(M548=\"\",\"\",U548/$U$554)","v":1}]
["Birdsfoot Trefoil",null,null,"Norcen",null,{"$f":"IF(A549=\"\",0,VLOOKUP(A549,Sheet3!$A$282:$D$322,2,FALSE))","v":372000},5,0,42.699724517906333,0,0.43055555555555558,null,null,null,null,null,null,{"$f":"IF(M549=\"\",0,VLOOKUP(M549,Sheet3!$A$282:$D$322,2,FALSE))","v":0},null,0,"","",""]
[null,null,null,null,null,{"$f":"IF(A550=\"\",0,VLOOKUP(A550,Sheet3!$A$282:$D$322,2,FALSE))","v":0},null,0,"","","",null,null,null,null,null,null,{"$f":"IF(M550=\"\",0,VLOOKUP(M550,Sheet3!$A$282:$D$322,2,FALSE))","v":0},null,0,"","",""]
[null,null,null,null,null,{"$f":"IF(A551=\"\",0,VLOOKUP(A551,Sheet3!$A$282:$D$322,2,FALSE))","v":0},null,0,"","","",null,null,null,null,null,null,{"$f":"IF(M551=\"\",0,VLOOKUP(M551,Sheet3!$A$282:$D$322,2,FALSE))","v":0},null,0,"","",""]
[null,null,null,null,null,{"$f":"IF(A552=\"\",0,VLOOKUP(A552,Sheet3!$A$282:$D$322,2,FALSE))","v":0},null,0,"","","",null,null,null,null,null,null,{"$f":"IF(M552=\"\",0,VLOOKUP(M552,Sheet3!$A$282:$D$322,2,FALSE))","v":0},null,0,"","",""]
[null,null,null,null,null,{"$f":"IF(A553=\"\",0,VLOOKUP(A553,Sheet3!$A$282:$D$322,2,FALSE))","v":0},null,0,"","","",null,null,null,null,null,null,{"$f":"IF(M553=\"\",0,VLOOKUP(M553,Sheet3!$A$282:$D$322,2,FALSE))","v":0},null,0,"","",""]
["Use Extension Recommended varieties",null,null,null,null,null,null,null,{"$f":"SUM(I548:I553)","v":99.173553719008254},null,{"$f":"SUM(K548:K553)","v":1},null,"Use Extension Recommended varieties",null,null,null,null,null,null,null,{"$f":"SUM(U548:U553)","v":64.393939393939391},null,{"$f":"SUM(W548:W553)","v":1}]
[]
[]
["#2",null,null,null,null,null,null,null,null,null,null,null,"#2"]
["Somewhat Poorly to Moderately Well Drained",null,null,null,null,null,null,null,null,null,null,null,"Somewhat Poorly to Moderately Well Drained"]
["Seed Species",null,null,"Variety or Seed Source",null,"Seeds/lb","PLS Rate Planned","Acres","Seeds/Sqft","Total PLS lbs","% in Mixture",null,"Seed Species",null,null,"Variety or Seed Source",null,"Seeds/lb","PLS Rate Planned","Acres","Seeds/Sqft","Total PLS lbs","% in Mixture"]
[]
[]
[]
["Meadow Bromegrass",null,null,"Fleet",null,{"$f":"IF(A563=\"\",0,VLOOKUP(A563,Sheet3!$A$282:$D$322,2,FALSE))","v":80000},3,{"$f":"$J$9","v":0},{"$f":"IF(A563=\"\",\"\",(F563*G563)/43560)","v":5.5096418732782366},{"$f":"IF(A563 = \"\",\"\",H563*G563)","v":0},{"$f":"IF(A563=\"\",\"\",I563/$I$569)","v":5.6523787093735275E-2},null,"Big Bluestem",null,null,"Bison",null,{"$f":"IF(M563=\"\",0,VLOOKUP(M563,Sheet3!$A$282:$D$322,2,FALSE))","v":165000},17,{"$f":"$J$9","v":0},{"$f":"IF(M563=\"\",\"\",(R563*S563)/43560)","v":64.393939393939391},{"$f":"IF(M563 = \"\",\"\",T563*S563)","v":0},{"$f":"IF(M563=\"\",\"\",U563/$U$569)","v":1}]
["Meadow Fescue",null,null,"Pradel",null,{"$f":"IF(A564=\"\",0,VLOOKUP(A564,Sheet3!$A$282:$D$322,2,FALSE))","v":230000},3,0,15.840220385674931,0,0.16250588789448892,null,null,null,null,null,null,{"$f":"IF(M564=\"\",0,VLOOKUP(M564,Sheet3!$A$282:$D$322,2,FALSE))","v":0},null,0,"","",""]
["Alfalfa",null,null,"Recommended",null,{"$f":"IF(A565=\"\",0,VLOOKUP(A565,Sheet3!$A$282:$D$322,2,FALSE))","v":220000},10,0,50.505050505050505,0,0.51813471502590669,null,null,null,null,null,null,{"$f":"IF(M565=\"\",0,VLOOKUP(M565,Sheet3!$A$282:$D$322,2,FALSE))","v":0},null,0,"","",""]
["Birdsfoot Trefoil",null,null,"Norcen",null,{"$f":"IF(A566=\"\",0,VLOOKUP(A566,Sheet3!$A$282:$D$322,2,FALSE))","v":372000},3,0,25.619834710743802,0,0.26283560998586908,null,null,null,null,null,null,{"$f":"IF(M566=\"\",0,VLOOKUP(M566,Sheet3!$A$282:$D$322,2,FALSE))","v":0},null,0,"","",""]
[null,null,null,null,null,{"$f":"IF(A567=\"\",0,VLOOKUP(A567,Sheet3!$A$282:$D$322,2,FALSE))","v":0},null,0,"","","",null,null,null,null,null,null,{"$f":"IF(M567=\"\",0,VLOOKUP(M567,Sheet3!$A$282:$D$322,2,FALSE))","v":0},null,0,"","",""]
[null,null,null,null,null,{"$f":"IF(A568=\"\",0,VLOOKUP(A568,Sheet3!$A$282:$D$322,2,FALSE))","v":0},null,0,"","","",null,null,null,null,null,null,{"$f":"IF(M568=\"\",0,VLOOKUP(M568,Sheet3!$A$282:$D$322,2,FALSE))","v":0},null,0,"","",""]
["Use Extension Recommended varieties",null,null,"For Very Poorly Drained Sites Substitute 2#/ac alsike clover for birdsfoot trefoil, or substitute alsike clover for birdsfoot trefoils where it is considered invasive.",null,null,null,null,{"$f":"SUM(I563:I568)","v":97.474747474747474},null,{"$f":"SUM(K563:K568)","v":1},null,"Use Extension Recommended varieties",null,null,null,null,null,null,null,{"$f":"SUM(U563:U568)","v":64.393939393939391},null,{"$f":"SUM(W563:W568)","v":1}]
[]
["#3",null,null,null,null,null,null,null,null,null,null,null,"#3"]
["Somewhat Excessively to Excessively Drained Soils",null,null,null,null,null,null,null,null,null,null,null,"Somewhat Excessively to Excessively Drained Soils"]
["Seed Species",null,null,"Variety or Seed Source",null,"Seeds/lb","PLS Rate Planned","Acres","Seeds/Sqft","Total PLS lbs","% in Mixture",null,"Seed Species",null,null,"Variety or Seed Source",null,"Seeds/lb","PLS Rate Planned","Acres","Seeds/Sqft","Total PLS lbs","% in Mixture"]
[]
[]
[]
["Intermediate Wheatgrass",null,null,"Revenue",null,{"$f":"IF(A577=\"\",0,VLOOKUP(A577,Sheet3!$A$282:$D$322,2,FALSE))","v":88000},10,{"$f":"$J$9","v":0},{"$f":"IF(A577=\"\",\"\",(F577*G577)/43560)","v":20.202020202020201},{"$f":"IF(A577 = \"\",\"\",H577*G577)","v":0},{"$f":"IF(A577=\"\",\"\",I577/$I$583)","v":0.22222222222222221},null,"Big Bluestem",null,null,"Bison",null,{"$f":"IF(M577=\"\",0,VLOOKUP(M577,Sheet3!$A$282:$D$322,2,FALSE))","v":165000},17,{"$f":"$J$9","v":0},{"$f":"IF(M577=\"\",\"\",(R577*S577)/43560)","v":64.393939393939391},{"$f":"IF(M577 = \"\",\"\",T577*S577)","v":0},{"$f":"IF(M577=\"\",\"\",U577/$U$583)","v":1}]
["Alfalfa",null,null,"Recommended",null,{"$f":"IF(A578=\"\",0,VLOOKUP(A578,Sheet3!$A$282:$D$322,2,FALSE))","v":220000},14,0,70.707070707070713,0,0.7777777777777779,null,null,null,null,null,null,{"$f":"IF(M578=\"\",0,VLOOKUP(M578,Sheet3!$A$282:$D$322,2,FALSE))","v":0},null,0,"","",""]
[null,null,null,null,null,{"$f":"IF(A579=\"\",0,VLOOKUP(A579,Sheet3!$A$282:$D$322,2,FALSE))","v":0},null,0,"","","",null,null,null,null,null,null,{"$f":"IF(M579=\"\",0,VLOOKUP(M579,Sheet3!$A$282:$D$322,2,FALSE))","v":0},null,0,"","",""]
[null,null,null,null,null,{"$f":"IF(A580=\"\",0,VLOOKUP(A580,Sheet3!$A$282:$D$322,2,FALSE))","v":0},null,0,"","","",null,null,null,null,null,null,{"$f":"IF(M580=\"\",0,VLOOKUP(M580,Sheet3!$A$282:$D$322,2,FALSE))","v":0},null,0,"","",""]
[null,null,null,null,null,{"$f":"IF(A581=\"\",0,VLOOKUP(A581,Sheet3!$A$282:$D$322,2,FALSE))","v":0},null,0,"","","",null,null,null,null,null,null,{"$f":"IF(M581=\"\",0,VLOOKUP(M581,Sheet3!$A$282:$D$322,2,FALSE))","v":0},null,0,"","",""]
[null,null,null,null,null,{"$f":"IF(A582=\"\",0,VLOOKUP(A582,Sheet3!$A$282:$D$322,2,FALSE))","v":0},null,0,"","","",null,null,null,null,null,null,{"$f":"IF(M582=\"\",0,VLOOKUP(M582,Sheet3!$A$282:$D$322,2,FALSE))","v":0},null,0,"","",""]
["Use Extension Recommended varieties",null,null,null,null,null,null,null,{"$f":"SUM(I577:I582)","v":90.909090909090907},null,{"$f":"SUM(K577:K582)","v":1},null,"Use Extension Recommended varieties",null,null,null,null,null,null,null,{"$f":"SUM(U577:U582)","v":64.393939393939391},null,{"$f":"SUM(W577:W582)","v":1}]

{"sheet":"Mixed Seed Tags","index":6,"n_rows":48,"n_cols":29,"rows_kept":48,"cut":false,"hidden":true,"merged":[[101,1,103,1],[26,2,29,4],[10,1,11,3],[57,22,58,23],[56,1,58,1],[22,20,24,23],[36,23,36,24],[46,20,46,28],[50,22,50,24],[51,22,51,24],[52,22,52,24],[53,22,53,24],[54,22,54,24],[55,22,55,24],[57,24,60,26],[62,24,62,25],[0,0,0,13],[23,1,25,3],[48,23,48,25],[15,3,15,4],[36,1,39,1]]}
[]
[null,"Example of a seed tag tested as individual lot."]
[]
[]
[]
[]
[]
[]
[]
[]
[]
[]
[]
[]
[]
[]
[]
[]
[]
[]
[]
[]
[null,null,null,null,null,null,null,null,null,null,null,null,null,null,null,null,null,null,null,null,"Everyone Co-Op",null,null,null,"Pasture"]
[]
[null,null,null,null,null,null,null,null,null,null,null,null,null,null,null,null,null,null,null,null,null,null,null,null,null,null,"Invoice #",111]
[null,null,null,null,null,null,null,null,null,null,null,null,null,null,null,null,null,null,null,null,"000 St.",null,null,null,null,null,"Date shipped","2009-05-30"]
[null,null,"Anyone Seed Co.  ",null,null,null,null,null,null,null,null,null,null,null,null,null,null,null,null,null,"Near you, MN 0000"]
[null,null,null,null,null,null,null,null,null,null,null,null,null,null,null,null,null,null,null,null,null,null,null,null,null,null,"Page 1 of 1"]
[]
[null,null,null,null,null,null,null,null,null,null,null,null,null,null,null,null,null,null,null,null,"BILL TO:"]
[null,null,"0000 St ",null,null,null,null,null,null,null,null,null,null,null,null,null,null,null,null,null,"John Q. Farmer"]
[null,null,"Anywhere, US 11111"]
[null,null,null,null,null,null,null,null,null,null,null,null,null,null,null,null,null,null,null,null,"------------------------------------------------------------------------------------------------------------------------------------"]
[null,null,"Date ","2009-03-19",null,null,null,null,null,null,null,null,null,null,null,null,null,null,null,null,"CUSTOMER",null,null,null,"PO NUMBER"]
[null,null,null,null,null,null,null,null,null,null,null,null,null,null,null,null,null,null,null,null,"JFARMER"]
[null,"Item","Qty ","Price",null,"Total",null,null,null,null,null,null,null,null,null,null,null,null,null,null,"======================================================================="]
[null,"Hungry Hiefer Pasture Mix",24,120,null,{"$f":"C37*D37","v":2880},null,null,null,null,null,null,null,null,null,null,null,null,null,null,"QUANTITY",null,"ITEM #","DESCRIPTION",null,"REF#","PRICE","PREPAID","TOTAL"]
[null,null,null,null,null,{"$f":"C38*D38","v":0},null,null,null,null,null,null,null,null,null,null,null,null,null,null,"======================================================================="]
[null,null,null,null,null,{"$f":"C39*D39","v":0},null,null,null,null,null,null,null,null,null,null,null,null,null,null,1,"TONS","F3","UREA 46-0-0",null,null,476.26080000000002,0,{"$f":"AA39*U39-AB39","v":476.26080000000002}]
[null,null,null,null,null,{"$f":"C40*D40","v":0},null,null,null,null,null,null,null,null,null,null,null,null,null,null,1.3,"TONS","F8","MAP 11-52-0",null,null,516.30430000000001,0,{"$f":"AA40*U40-AB40","v":671.19559000000004}]
[null,null,null,null,null,{"$f":"C41*D41","v":0},null,null,null,null,null,null,null,null,null,null,null,null,null,null,0.375,"TONS","M2","POTASH",null,null,282.61,0,{"$f":"AA41*U41-AB41","v":105.97875000000001}]
[null,null,null,null,null,null,null,null,null,null,null,null,null,null,null,null,null,null,null,null,30,"EACH","S1","APPLICATION",null,null,6.52,0,{"$f":"AA42*U42-AB42","v":195.6}]
[null,null,null,null,"Tax",{"$f":"SUM(F37:F41)*0.065","v":187.20000000000002}]
[]
[null,null,null,null,"Total",{"$f":"SUM(F37:F43)","v":3067.2}]
[]
[null,null,null,null,null,null,null,null,null,null,null,null,null,null,null,null,null,null,null,null,"======================================================================="]
[null,null,null,null,null,null,null,null,null,null,null,null,null,null,null,null,null,null,null,null,null,null,null,null,null,null,"INVOICE AMOUNT",null,{"$f":"SUM(AC39:AC46)","v":1449.03514}]