{"text_format":"1","workbook":"xlsx","n_sheets":7,"sheets":["Instructions","Cons. Planning Worksheet","Loss Pathways","595 Impl. Req. - Mitigation","595 Impl. Req. - Prevention","Practices & Techniques","Credits"],"not_rendered":{"charts":0,"images":37,"macros":1,"external_links":0,"defined_names":19,"comments":0,"pivot_tables":0},"unopened":[],"bounds":{"document_bytes":16777216,"sheet_cells":100000,"rows_first":2000,"rows_last":500,"rows_between":2000,"halvings":0,"cell_chars":16384,"cell_head_chars":4096},"cells_cut":0,"cells_raw":0,"read":"whole","date_system":"1900"}

{"sheet":"Instructions","index":0,"n_rows":0,"n_cols":0,"rows_kept":0,"cut":false,"hidden":false,"merged":[]}

{"sheet":"Cons. Planning Worksheet","index":1,"n_rows":190,"n_cols":104,"rows_kept":190,"cut":false,"hidden":false,"merged":[[155,0,156,0],[85,3,89,3],[115,0,116,0],[117,0,119,0],[120,0,121,0],[122,0,124,0],[125,0,126,0],[127,0,129,0],[130,0,131,0],[132,0,134,0],[135,0,136,0],[137,0,139,0],[140,0,141,0],[142,0,144,0],[145,0,146,0],[147,0,149,0],[150,0,151,0],[152,0,154,0],[102,0,104,0],[120,1,124,1],[120,2,124,2],[120,3,124,3],[155,3,159,3],[52,24,53,24],[105,0,106,0],[107,0,109,0],[87,25,88,25],[97,6,98,6],[97,7,98,7],[97,8,98,8],[95,1,99,1],[95,2,99,2],[95,3,99,3],[95,5,99,5],[95,6,96,6],[95,4,99,4],[92,11,93,11],[90,13,94,13],[90,7,91,7],[90,8,91,8],[90,9,91,9],[97,11,98,11],[95,13,99,13],[95,14,99,14],[95,7,96,7],[95,8,96,8],[102,24,103,24],[95,9,96,9],[95,10,96,10],[95,11,96,11],[95,12,99,12],[97,9,98,9],[97,10,98,10],[85,1,89,1],[85,2,89,2],[82,0,84,0],[57,25,58,25],[60,25,61,25],[125,22,126,22],[55,23,56,23],[57,23,58,23],[77,22,78,22],[77,23,78,23],[72,24,73,24],[32,25,33,25],[35,25,36,25],[37,24,38,24],[37,25,38,25],[34,22,34,24],[60,22,61,22],[60,23,61,23],[102,25,103,25],[92,24,93,24],[92,25,93,25],[95,25,96,25],[97,24,98,24],[65,25,66,25],[67,24,68,24],[67,25,68,25],[70,25,71,25],[72,25,73,25],[75,25,76,25],[77,25,78,25],[80,25,81,25],[97,25,98,25],[100,25,101,25],[50,25,51,25],[185,0,185,4],[186,0,186,4],[187,0,187,4],[25,22,26,22],[25,23,26,23],[27,22,28,22],[27,23,28,23],[25,12,29,12],[25,13,29,13],[27,11,28,11],[29,22,29,24],[25,15,26,15],[27,15,28,15],[105,22,106,22],[105,23,106,23],[107,22,108,22],[107,23,108,23],[110,22,111,22],[57,24,58,24],[62,24,63,24],[117,24,118,24],[122,24,123,24],[82,24,83,24],[87,24,88,24],[77,24,78,24],[127,24,128,24],[75,22,76,22],[75,23,76,23],[50,22,51,22],[70,22,71,22],[80,0,81,0],[130,11,131,11],[82,25,83,25],[85,25,86,25],[132,15,133,15],[125,6,126,6],[127,6,128,6],[127,7,128,7],[127,8,128,8],[137,25,138,25],[165,0,166,0],[167,0,169,0],[137,6,138,6],[137,7,138,7],[137,8,138,8],[137,9,138,9],[137,10,138,10],[140,8,141,8],[145,1,149,1],[145,2,149,2],[145,3,149,3],[145,4,149,4],[122,25,123,25],[125,25,126,25],[127,25,128,25],[90,25,91,25],[85,0,86,0],[87,0,89,0],[90,0,91,0],[92,0,94,0],[95,0,96,0],[97,0,99,0],[100,0,101,0],[135,10,136,10],[172,25,172,26],[130,25,131,25],[132,24,133,24],[132,25,133,25],[125,1,129,1],[125,2,129,2],[125,3,129,3],[125,5,129,5],[137,24,138,24],[135,25,136,25],[110,25,111,25],[112,24,113,24],[105,25,106,25],[107,24,108,24],[107,25,108,25],[112,25,113,25],[115,25,116,25],[117,25,118,25],[120,25,121,25],[137,11,138,11],[135,13,139,13],[135,7,136,7],[132,11,133,11],[130,13,134,13],[130,14,134,14],[130,7,131,7],[130,8,131,8],[130,9,131,9],[130,10,131,10],[145,5,149,5],[182,0,182,4],[183,0,183,4],[184,0,184,4],[171,0,174,15],[176,0,176,4],[170,0,170,15],[135,14,139,14],[130,1,134,1],[130,2,134,2],[130,3,134,3],[130,5,134,5],[130,6,131,6],[135,22,136,22],[137,22,138,22],[135,1,139,1],[135,2,139,2],[135,3,139,3],[135,5,139,5],[135,6,136,6],[135,4,139,4],[140,1,144,1],[140,2,144,2],[140,3,144,3],[140,4,144,4],[140,5,144,5],[140,6,141,6],[140,7,141,7],[177,0,177,4],[178,0,178,4],[135,8,136,8],[135,9,136,9],[140,15,141,15],[130,12,134,12],[130,22,131,22],[130,23,131,23],[179,0,179,4],[180,0,180,4],[181,0,181,4],[135,23,136,23],[137,23,138,23],[135,11,136,11],[135,12,139,12],[137,15,138,15],[132,22,133,22],[132,23,133,23],[132,6,133,6],[132,7,133,7],[132,8,133,8],[132,9,133,9],[132,10,133,10],[157,0,159,0],[160,0,161,0],[162,0,164,0],[145,7,146,7],[145,8,146,8],[150,1,154,1],[150,2,154,2],[150,3,154,3],[150,4,154,4],[150,5,154,5],[150,6,151,6],[150,7,151,7],[170,16,170,26],[171,25,171,26],[120,13,124,13],[120,14,124,14],[120,7,121,7],[120,8,121,8],[120,9,121,9],[120,10,121,10],[120,11,121,11],[115,4,119,4],[120,4,124,4],[120,12,124,12],[127,9,128,9],[127,10,128,10],[127,11,128,11],[125,13,129,13],[125,14,129,14],[125,7,126,7],[125,8,126,8],[125,9,126,9],[125,10,126,10],[125,11,126,11],[125,12,129,12],[117,9,118,9],[117,10,118,10],[117,11,118,11],[115,13,119,13],[115,14,119,14],[115,7,116,7],[115,8,116,8],[115,9,116,9],[115,10,116,10],[115,11,116,11],[115,12,119,12],[120,5,124,5],[120,6,121,6],[117,6,118,6],[117,7,118,7],[117,8,118,8],[115,1,119,1],[115,2,119,2],[115,3,119,3],[115,5,119,5],[115,6,116,6],[122,6,123,6],[122,7,123,7],[122,8,123,8],[122,9,123,9],[107,9,108,9],[107,10,108,10],[107,11,108,11],[110,6,111,6],[107,6,108,6],[107,7,108,7],[107,8,108,8],[112,6,113,6],[112,7,113,7],[112,8,113,8],[112,9,113,9],[112,10,113,10],[112,11,113,11],[110,1,114,1],[105,1,109,1],[122,10,123,10],[122,11,123,11],[110,14,114,14],[110,7,111,7],[110,8,111,8],[110,9,111,9],[110,10,111,10],[110,11,111,11],[110,12,114,12],[110,13,114,13],[100,2,104,2],[100,3,104,3],[100,5,104,5],[100,6,101,6],[100,4,104,4],[102,6,103,6],[102,7,103,7],[102,8,103,8],[105,4,109,4],[110,4,114,4],[110,2,114,2],[110,3,114,3],[110,5,114,5],[105,2,109,2],[105,3,109,3],[105,5,109,5],[105,6,106,6],[90,5,94,5],[90,6,91,6],[87,6,88,6],[87,7,88,7],[87,8,88,8],[92,6,93,6],[92,7,93,7],[92,8,93,8],[92,9,93,9],[92,10,93,10],[110,0,111,0],[112,0,114,0],[102,9,103,9],[102,10,103,10],[102,11,103,11],[100,13,104,13],[100,14,104,14],[100,7,101,7],[100,8,101,8],[100,9,101,9],[100,10,101,10],[100,11,101,11],[100,12,104,12],[105,14,109,14],[105,7,106,7],[105,8,106,8],[105,9,106,9],[105,10,106,10],[105,11,106,11],[105,12,109,12],[105,13,109,13],[100,1,104,1],[80,1,84,1],[80,2,84,2],[80,3,84,3],[80,5,84,5],[80,6,81,6],[82,6,83,6],[82,7,83,7],[77,7,78,7],[77,8,78,8],[82,8,83,8],[90,10,91,10],[87,11,88,11],[85,13,89,13],[85,14,89,14],[85,11,86,11],[85,12,89,12],[80,7,81,7],[75,12,79,12],[75,11,76,11],[75,13,79,13],[85,5,89,5],[85,6,86,6],[90,4,94,4],[87,9,88,9],[87,10,88,10],[85,7,86,7],[85,8,86,8],[85,9,86,9],[85,10,86,10],[90,1,94,1],[90,2,94,2],[90,3,94,3],[90,23,91,23],[80,22,81,22],[80,23,81,23],[82,22,83,22],[82,23,83,23],[85,23,86,23],[87,22,88,22],[87,23,88,23],[82,11,83,11],[80,14,84,14],[80,12,84,12],[82,9,83,9],[82,10,83,10],[90,14,94,14],[80,10,81,10],[80,11,81,11],[90,12,94,12],[80,9,81,9],[90,11,91,11],[85,22,86,22],[35,15,36,15],[80,13,84,13],[75,8,76,8],[75,9,76,9],[75,10,76,10],[70,9,71,9],[77,10,78,10],[77,11,78,11],[32,9,33,9],[70,12,74,12],[62,11,63,11],[55,10,56,10],[55,11,56,11],[65,13,69,13],[30,12,34,12],[45,12,49,12],[40,12,44,12],[50,13,54,13],[50,12,54,12],[30,9,31,9],[32,8,33,8],[65,15,66,15],[67,15,68,15],[80,8,81,8],[75,14,79,14],[32,10,33,10],[18,14,19,14],[18,13,19,13],[25,11,26,11],[19,10,19,11],[13,10,13,16],[14,10,14,16],[15,10,15,16],[20,12,24,12],[25,14,29,14],[25,9,26,9],[9,22,10,23],[11,22,11,23],[12,22,12,23],[13,22,13,23],[15,22,15,23],[22,15,23,15],[14,22,14,23],[20,14,24,14],[30,15,31,15],[32,15,33,15],[25,2,29,2],[27,9,28,9],[25,6,26,6],[25,7,26,7],[22,10,23,10],[22,11,23,11],[25,8,26,8],[27,7,28,7],[27,8,28,8],[25,5,29,5],[47,0,49,0],[50,0,51,0],[52,0,54,0],[55,0,56,0],[57,0,59,0],[60,0,61,0],[0,3,0,25],[3,10,3,11],[3,6,3,7],[18,17,18,20],[20,7,21,7],[20,8,21,8],[22,6,23,6],[22,7,23,7],[22,8,23,8],[18,16,19,16],[18,6,18,11],[18,12,19,12],[13,6,13,9],[19,6,19,7],[20,9,21,9],[7,11,7,23],[1,3,1,26],[20,26,21,26],[18,22,18,26],[14,1,14,4],[18,0,19,0],[18,1,19,1],[27,6,28,6],[20,6,21,6],[20,4,24,4],[25,3,29,3],[18,2,19,2],[60,1,64,1],[37,8,38,8],[60,6,61,6],[55,6,56,6],[50,5,54,5],[57,7,58,7],[60,7,61,7],[35,6,36,6],[35,7,36,7],[47,7,48,7],[55,2,59,2],[60,3,64,3],[62,0,64,0],[60,2,64,2],[50,4,54,4],[50,3,54,3],[62,7,63,7],[60,5,64,5],[57,6,58,6],[55,3,59,3],[50,14,54,14],[35,3,39,3],[37,11,38,11],[35,5,39,5],[67,7,68,7],[70,5,74,5],[65,7,66,7],[35,14,39,14],[45,13,49,13],[35,8,36,8],[35,9,36,9],[35,10,36,10],[35,11,36,11],[45,5,49,5],[50,11,51,11],[52,11,53,11],[45,11,46,11],[47,11,48,11],[42,11,43,11],[47,6,48,6],[47,9,48,9],[65,3,69,3],[72,7,73,7],[72,8,73,8],[72,9,73,9],[72,10,73,10],[70,10,71,10],[72,11,73,11],[35,12,39,12],[35,13,39,13],[40,9,41,9],[60,9,61,9],[45,14,49,14],[75,5,79,5],[75,6,76,6],[52,8,53,8],[75,7,76,7],[55,8,56,8],[52,6,53,6],[77,9,78,9],[77,6,78,6],[62,8,63,8],[62,9,63,9],[37,6,38,6],[72,6,73,6],[67,6,68,6],[65,5,69,5],[55,5,59,5],[62,6,63,6],[30,6,31,6],[40,6,41,6],[32,6,33,6],[32,7,33,7],[30,7,31,7],[30,8,31,8],[30,10,31,10],[18,15,19,15],[20,15,21,15],[37,10,38,10],[45,10,46,10],[50,8,51,8],[70,14,74,14],[70,13,74,13],[45,8,46,8],[50,10,51,10],[52,10,53,10],[52,9,53,9],[50,9,51,9],[50,7,51,7],[50,6,51,6],[45,9,46,9],[42,8,43,8],[42,9,43,9],[42,10,43,10],[47,10,48,10],[65,8,66,8],[65,6,66,6],[55,9,56,9],[57,8,58,8],[57,9,58,9],[55,7,56,7],[60,8,61,8],[70,7,71,7],[65,9,66,9],[37,7,38,7],[60,14,64,14],[60,13,64,13],[20,10,21,10],[4,6,4,7],[20,25,21,25],[22,25,23,25],[16,1,16,4],[2,10,2,11],[2,6,2,7],[57,10,58,10],[67,11,68,11],[70,6,71,6],[52,7,53,7],[37,9,38,9],[40,8,41,8],[47,8,48,8],[40,10,41,10],[45,6,46,6],[45,7,46,7],[40,5,44,5],[40,11,41,11],[70,11,71,11],[27,10,28,10],[25,10,26,10],[70,8,71,8],[67,8,68,8],[67,9,68,9],[67,10,68,10],[6,11,6,23],[19,8,19,9],[20,22,21,22],[20,23,21,23],[22,22,23,22],[22,23,23,23],[40,4,44,4],[45,4,49,4],[60,4,64,4],[65,1,69,1],[70,1,74,1],[70,2,74,2],[65,2,69,2],[70,3,74,3],[20,3,24,3],[20,5,24,5],[12,10,12,16],[17,8,17,25],[20,11,21,11],[20,13,24,13],[4,3,4,4],[18,3,19,3],[11,6,11,9],[10,6,10,9],[9,6,9,16],[22,9,23,9],[15,1,15,4],[12,6,12,9],[18,5,19,5],[7,5,7,6],[6,5,6,6],[6,1,6,4],[7,1,7,4],[8,1,8,4],[14,6,14,9],[15,6,15,9],[11,10,11,16],[10,10,10,16],[40,0,41,0],[42,0,44,0],[45,0,46,0],[30,3,34,3],[30,2,34,2],[40,2,44,2],[20,2,24,2],[30,5,34,5],[65,4,69,4],[70,4,74,4],[75,4,79,4],[80,4,84,4],[18,4,19,4],[125,4,129,4],[130,4,134,4],[25,4,29,4],[30,4,34,4],[35,4,39,4],[85,4,89,4],[20,1,24,1],[55,4,59,4],[45,2,49,2],[35,2,39,2],[30,1,34,1],[40,1,44,1],[35,1,39,1],[45,3,49,3],[50,2,54,2],[75,3,79,3],[75,2,79,2],[75,1,79,1],[40,3,44,3],[60,10,61,10],[57,22,58,22],[55,14,59,14],[62,10,63,10],[65,10,66,10],[65,12,69,12],[65,14,69,14],[22,24,23,24],[1,0,1,2],[2,0,2,2],[50,1,54,1],[55,1,59,1],[45,1,49,1],[3,0,3,2],[4,0,4,2],[2,3,2,4],[3,3,3,4],[11,1,11,4],[42,6,43,6],[42,7,43,7],[40,7,41,7],[20,0,21,0],[25,0,26,0],[25,1,29,1],[12,1,12,4],[13,1,13,4],[22,0,24,0],[27,0,29,0],[30,0,31,0],[32,0,34,0],[35,0,36,0],[37,0,39,0],[47,22,48,22],[47,23,48,23],[30,23,31,23],[32,23,33,23],[35,23,36,23],[70,23,71,23],[67,22,68,22],[67,23,68,23],[62,23,63,23],[65,22,66,22],[65,23,66,23],[57,11,58,11],[65,11,66,11],[62,22,63,22],[55,15,56,15],[57,15,58,15],[60,15,61,15],[62,15,63,15],[55,22,56,22],[60,11,61,11],[30,14,34,14],[30,13,34,13],[55,13,59,13],[60,12,64,12],[55,12,59,12],[30,11,31,11],[32,11,33,11],[40,14,44,14],[40,13,44,13],[37,15,38,15],[40,15,41,15],[42,15,43,15],[24,22,24,24],[27,24,28,24],[32,24,33,24],[62,25,63,25],[55,25,56,25],[45,15,46,15],[47,15,48,15],[50,15,51,15],[110,15,111,15],[37,23,38,23],[35,22,36,22],[37,22,38,22],[95,23,96,23],[97,22,98,22],[97,23,98,23],[52,23,53,23],[52,15,53,15],[40,23,41,23],[42,22,43,22],[42,23,43,23],[70,15,71,15],[52,22,53,22],[50,23,51,23],[92,22,93,22],[92,23,93,23],[40,25,41,25],[42,24,43,24],[42,25,43,25],[45,25,46,25],[47,24,48,24],[47,25,48,25],[45,22,46,22],[100,22,101,22],[100,23,101,23],[102,22,103,22],[102,23,103,23],[90,15,91,15],[95,22,96,22],[110,23,111,23],[90,22,91,22],[92,15,93,15],[72,22,73,22],[72,23,73,23],[25,26,26,26],[30,26,31,26],[35,26,36,26],[40,26,41,26],[45,26,46,26],[50,26,51,26],[55,26,56,26],[60,26,61,26],[65,26,66,26],[70,26,71,26],[75,26,76,26],[80,26,81,26],[85,26,86,26],[25,25,26,25],[27,25,28,25],[30,25,31,25],[30,22,31,22],[32,22,33,22],[40,22,41,22],[52,25,53,25],[45,23,46,23],[135,26,136,26],[90,26,91,26],[95,26,96,26],[95,15,96,15],[97,15,98,15],[100,15,101,15],[102,15,103,15],[105,15,106,15],[107,15,108,15],[100,26,101,26],[112,15,113,15],[115,15,116,15],[72,15,73,15],[75,15,76,15],[77,15,78,15],[80,15,81,15],[82,15,83,15],[85,15,86,15],[87,15,88,15],[105,26,106,26],[110,26,111,26],[115,26,116,26],[120,26,121,26],[125,26,126,26],[130,26,131,26],[117,15,118,15],[120,15,121,15],[122,15,123,15],[125,15,126,15],[127,15,128,15],[130,15,131,15],[135,15,136,15],[120,22,121,22],[120,23,121,23],[122,22,123,22],[122,23,123,23],[115,22,116,22],[115,23,116,23],[117,22,118,22],[117,23,118,23],[112,22,113,22],[112,23,113,23],[125,23,126,23],[127,22,128,22],[127,23,128,23],[140,25,141,25],[140,26,141,26],[142,6,143,6],[142,7,143,7],[142,8,143,8],[142,9,143,9],[142,10,143,10],[142,11,143,11],[142,15,143,15],[142,22,143,22],[142,23,143,23],[142,24,143,24],[142,25,143,25],[140,9,141,9],[140,10,141,10],[140,11,141,11],[140,12,144,12],[140,13,144,13],[140,14,144,14],[140,22,141,22],[140,23,141,23],[145,25,146,25],[145,26,146,26],[147,6,148,6],[147,7,148,7],[147,8,148,8],[147,9,148,9],[147,10,148,10],[147,11,148,11],[147,15,148,15],[147,22,148,22],[147,23,148,23],[147,24,148,24],[147,25,148,25],[145,9,146,9],[145,10,146,10],[145,11,146,11],[145,12,149,12],[145,13,149,13],[145,14,149,14],[145,15,146,15],[145,22,146,22],[145,23,146,23],[145,6,146,6],[155,4,159,4],[155,5,159,5],[155,6,156,6],[155,7,156,7],[155,8,156,8],[150,25,151,25],[150,26,151,26],[152,6,153,6],[152,7,153,7],[152,8,153,8],[152,9,153,9],[152,10,153,10],[152,11,153,11],[152,15,153,15],[152,22,153,22],[152,23,153,23],[152,24,153,24],[152,25,153,25],[150,9,151,9],[150,10,151,10],[150,11,151,11],[150,12,154,12],[150,13,154,13],[150,14,154,14],[150,15,151,15],[150,22,151,22],[150,23,151,23],[150,8,151,8],[160,1,164,1],[160,2,164,2],[160,3,164,3],[160,4,164,4],[160,5,164,5],[160,6,161,6],[160,7,161,7],[160,8,161,8],[155,25,156,25],[155,26,156,26],[157,6,158,6],[157,7,158,7],[157,8,158,8],[157,9,158,9],[157,10,158,10],[157,11,158,11],[157,15,158,15],[157,22,158,22],[157,23,158,23],[157,24,158,24],[157,25,158,25],[155,9,156,9],[155,10,156,10],[155,11,156,11],[155,12,159,12],[155,13,159,13],[155,14,159,14],[155,15,156,15],[155,22,156,22],[155,23,156,23],[155,1,159,1],[155,2,159,2],[165,7,166,7],[165,8,166,8],[165,25,166,25],[160,25,161,25],[160,26,161,26],[162,6,163,6],[162,7,163,7],[162,8,163,8],[162,9,163,9],[162,10,163,10],[162,11,163,11],[162,15,163,15],[162,22,163,22],[162,23,163,23]],"merged_total":1075,"flags":["merged_cut"]}
[null,null,null,"Pest Management Considerations in Conservation Planning Worksheet",null,null,null,null,null,null,null,null,null,null,null,null,null,null,null,null,null,null,null,null,null,null,null,null,null,false,"Hayland",null,"Existing/ Planned"]
["NRCS",null,null,"Version 3.0               October, 2015    ",null,null,null,null,null,null,null,null,null,null,null,null,null,null,null,null,null,null,null,null,null,null,null,null,null,false,"Cropland",null,"Existing"]
["Client:",null,null,null,null,"Tract:",null,null,null,"Field No.:",null,null,null,null,null,null,null,null,null,null,null,null,null,null,null,null,null,null,null,false,"Range",null,"Planned"]
["Planner:",null,null,null,null,"Date:",null,null,null,"Acres:",null,null,null,null,null,null,null,null,null,null,null,null,null,null,null,null,null,null,null,false,"Forest"]
["Consultant:",null,null,null,null,"Crop:",null,null,null,null,null,null,null,null,null,null,null,null,null,null,null,null,null,null,null,null,null,null,null,false,"Other"]
["Pesticide-Related Resource Concerns (from cons. plan):",null,null,null,null,null,null,null,null,null,null,null,null,null,null,null,null,null,null,null,null,null,null,null,null,null,null,null,null,null,"Resources/Pathways","Human","Fish","Pollinator"]
[null,"    Pesticides leaching to groundwater:",null,null,null,"Humans/Fish",null,null,null,null,"Crop Rotation:",null,null,null,null,null,null,null,null,null,null,null,null,null,null,null,null,null,null,false,"Pesticides leaching to groundwater",false,false,false]
[null,"    Pesticides in runoff water:",null,null,null,"Humans/Fish",null,null,null,null,"Landuse:",null,null,null,null,null,null,null,null,null,null,null,null,null,null,null,null,null,null,false,"Pesticides in runoff water",false,false,false]
[null,"    Pesticide-laden sediment:",null,null,null,null,null,null,null,null,null,null,null,null,null,null,null,null,null,null,null,null,null,null,null,null,null,null,null,false,"Pesticide-laden sediment",null,1,2,3,4,5,6,7,8,9,10,11,12,13,14,15,16,17,18,19,20,21,22,{"$f":"+BB9+1","v":23},24,25,26,27,28,29,30,31,32,33,34,35,36,37,38,39,40,41,42,43,44,45,46,47,48,49,50,51,52,53,54,55,56,57,58,59,60,61,62,63,64,65]
[null,null,null,null,null,null,"Existing or Planned Conservation Practices in or around the field:",null,null,null,null,null,null,null,null,null,null,null,null,null,null,null,"Existing/ Planned",null,null,null,null,null,null,false,"Pesticide drift from field",null,"Alt #","SSAID","SSANAME","MUSYM","SEQNUM","COMP_NAME","TEXTURE","PERCENT","HYDRO","KFACT","USER_DEPTH","USER_OM","SLOPEGR15","CRACKSGR24","HWTLT24","SLP","SSRP","SARP","Product","RegNum","PC_Pct","Name","PC_CODE","PH","SOL","KOC","HL","HUMANTOX","HUMANTOXTYPE","MATC","STV","APPAREA","APPMETH","APPRATE","PLP","PSRP","PARP","EATHuman","EATMATC","EATSTV","Timestamp","jobname","Category1","Category2","Category3","Name","Pesticide","Soil","IARP","ILP","ISRP","FishIARP","FishILP","FishISRP","HumanILP","HumanISRP","symbolFishIARP","symbolFishILP","symbolFishISRP","symbolHumanILP","symbolHumanISRP","symbolIARP","symbolILP","symbolISRP","MUKEY"]
["Purposes (from the 595 practice standard):",null,null,null,null,null,"Conservation Practice(s)",null,null,null,"Description(s)",null,null,null,null,null,null,"L","SR","AR","D","P-DC",null,null,null,null,null,null,null,false,"Pesticide volatilization from field"]
[null,"Mitigate off-site pesticide risks to water quality from leaching, solution runoff and adsorbed runoff losses.",null,null,null,null,null,null,null,null,{"$f":"IF(G12=\"\",\"\",VLOOKUP($G12,'Practices & Techniques'!$A$5:$B$114,2,FALSE))","v":""},null,null,null,null,null,null,{"$f":"IF($G12=\"\",\"\",VLOOKUP($G12,'Practices & Techniques'!$A$5:$F$114,3,FALSE))","v":""},{"$f":"IF($G12=\"\",\"\",VLOOKUP($G12,'Practices & Techniques'!$A$5:$F$114,4,FALSE))","v":""},{"$f":"IF($G12=\"\",\"\",VLOOKUP($G12,'Practices & Techniques'!$A$5:$F$114,5,FALSE))","v":""},{"$f":"IF($G12=\"\",\"\",VLOOKUP($G12,'Practices & Techniques'!$A$5:$F$114,6,FALSE))","v":""},null,null,null,null,null,null,null,null,false,"Purposes"]
[null,"Mitigate off-site pesticide risks to soil, water, air, plants, animals and humans from drift and volatilization losses.",null,null,null,null,null,null,null,null,{"$f":"IF(G13=\"\",\"\",VLOOKUP($G13,'Practices & Techniques'!$A$5:$B$114,2,FALSE))","v":""},null,null,null,null,null,null,{"$f":"IF($G13=\"\",\"\",VLOOKUP($G13,'Practices & Techniques'!$A$5:$F$114,3,FALSE))","v":""},{"$f":"IF($G13=\"\",\"\",VLOOKUP($G13,'Practices & Techniques'!$A$5:$F$114,4,FALSE))","v":""},{"$f":"IF($G13=\"\",\"\",VLOOKUP($G13,'Practices & Techniques'!$A$5:$F$114,5,FALSE))","v":""},{"$f":"IF($G13=\"\",\"\",VLOOKUP($G13,'Practices & Techniques'!$A$5:$F$114,6,FALSE))","v":""},null,null,null,null,null,null,null,null,false,"Mitigate off-site pesticide risks to water quality from leaching, solution runoff and adsorbed runoff losses."]
[null,"Mitigate on-site pesticide risks to pollinators and other beneficial species through direct contact.",null,null,null,null,null,null,null,null,{"$f":"IF(G14=\"\",\"\",VLOOKUP($G14,'Practices & Techniques'!$A$5:$B$114,2,FALSE))","v":""},null,null,null,null,null,null,{"$f":"IF($G14=\"\",\"\",VLOOKUP($G14,'Practices & Techniques'!$A$5:$F$114,3,FALSE))","v":""},{"$f":"IF($G14=\"\",\"\",VLOOKUP($G14,'Practices & Techniques'!$A$5:$F$114,4,FALSE))","v":""},{"$f":"IF($G14=\"\",\"\",VLOOKUP($G14,'Practices & Techniques'!$A$5:$F$114,5,FALSE))","v":""},{"$f":"IF($G14=\"\",\"\",VLOOKUP($G14,'Practices & Techniques'!$A$5:$F$114,6,FALSE))","v":""},null,null,null,null,null,null,null,null,false,"Mitigate off-site pesticide risks to soil, water, air, plants, animals and humans from drift and volatilization losses."]
[null,"Prevent off-site pesticide risks to water quality from leaching, solution runoff and adsorbed runoff losses.",null,null,null,null,null,null,null,null,{"$f":"IF(G15=\"\",\"\",VLOOKUP($G15,'Practices & Techniques'!$A$5:$B$114,2,FALSE))","v":""},null,null,null,null,null,null,{"$f":"IF($G15=\"\",\"\",VLOOKUP($G15,'Practices & Techniques'!$A$5:$F$114,3,FALSE))","v":""},{"$f":"IF($G15=\"\",\"\",VLOOKUP($G15,'Practices & Techniques'!$A$5:$F$114,4,FALSE))","v":""},{"$f":"IF($G15=\"\",\"\",VLOOKUP($G15,'Practices & Techniques'!$A$5:$F$114,5,FALSE))","v":""},{"$f":"IF($G15=\"\",\"\",VLOOKUP($G15,'Practices & Techniques'!$A$5:$F$114,6,FALSE))","v":""},null,null,null,null,null,null,null,null,false,"Mitigate on-site pesticide risks to pollinators and other beneficial species through direct contact."]
[null,"Prevent off-site pesticide risks to soil, water, air, plants, animals and humans from drift and volatilization losses.",null,null,null,null,null,null,null,null,{"$f":"IF(G16=\"\",\"\",VLOOKUP($G16,'Practices & Techniques'!$A$5:$B$114,2,FALSE))","v":""},null,null,null,null,null,null,{"$f":"IF($G16=\"\",\"\",VLOOKUP($G16,'Practices & Techniques'!$A$5:$F$114,3,FALSE))","v":""},{"$f":"IF($G16=\"\",\"\",VLOOKUP($G16,'Practices & Techniques'!$A$5:$F$114,4,FALSE))","v":""},{"$f":"IF($G16=\"\",\"\",VLOOKUP($G16,'Practices & Techniques'!$A$5:$F$114,5,FALSE))","v":""},{"$f":"IF($G16=\"\",\"\",VLOOKUP($G16,'Practices & Techniques'!$A$5:$F$114,6,FALSE))","v":""},null,null,null,null,null,null,null,null,false,"Prevent off-site pesticide risks to water quality from leaching, solution runoff and adsorbed runoff losses."]
[null,"Prevent on-site pesticide risks to pollinators and other beneficial species through direct contact.",null,null,null,null,null,null,null,null,null,null,null,null,null,null,null,null,null,null,null,null,null,null,null,null,null,null,null,false,"Prevent off-site pesticide risks to soil, water, air, plants, animals and humans from drift and volatilization losses."]
[null,null,null,null,null,null,null,"Describe any waters of concern (river, irrigation ditch, stream, pond, etc.):",null,null,null,null,null,null,null,null,null,null,null,null,null,null,null,null,null,null,null,null,null,false,"Prevent  on-site pesticide risks to pollinators and other beneficial species through direct contact."]
["Send to Impl. Req.","Soil Map Unit","Soil Name","Target Pest Name(s)","Product Name","Active Ingredient (a.i.)","WIN-PST Hazard Ratings",null,null,null,null,null,"Area","Ap. Method","Rate","Pesticide-Specific Resource  Concern","Existing IPM Techniques","Mitigation Index Value",null,null,null,null,"Mitigation Index Score",null,null,null,null,null,null,false]
[null,null,null,null,null,null,"Leaching          (ILP)",null,"Solution Runoff (ISRP)",null,"Adsorbed Runoff (IARP)",null,null,null,null,null,null,"Leaching","Solution Runoff","Adsorbed Runoff","Drift and volatiliza-tion","Pollinator Direct Contact","Leaching","Solution Runoff","Adsorbed Runoff","Drift and Volatilization","Pollinator - Direct Contact",null,null,"Incl. in JS, Volatil. Pollin. Drift ","CP&T"]
["M",{"$f":"IF(AJ11=\"\",\"\",(AJ11))","v":""},{"$f":"IF(AL11=\"\",\"\", (AL11))","v":""},null,{"$f":"IF(AY11=\"\",\"\", (AY11))","v":""},{"$f":"IF(BB11=\"\",\"\", (BB11))","v":""},"Human",{"$f":"IF(CN11=\"\",\"\",(CN11))","v":""},"Human",{"$f":"IF(CO11=\"\",\"\",(CO11))","v":""},null,null,{"$f":"IF(BL11=\"\",\"\", (BL11))","v":""},{"$f":"IF(BM11=\"\",\"\", (BM11))","v":""},{"$f":"IF(BN11=\"\",\"\", (BN11))","v":""},"Volatilization",null,{"$f":"IF($Q21=\"\",\"\",VLOOKUP($Q21,'Practices & Techniques'!$A$6:$F$114,3,FALSE))","v":""},{"$f":"IF($Q21=\"\",\"\",VLOOKUP($Q21,'Practices & Techniques'!$A$6:$F$114,4,FALSE))","v":""},{"$f":"IF($Q21=\"\",\"\",VLOOKUP($Q21,'Practices & Techniques'!$A$6:$F$114,5,FALSE))","v":""},{"$f":"IF($Q21=\"\",\"\",VLOOKUP($Q21,'Practices & Techniques'!$A$6:$F$114,6,FALSE))","v":""},{"$f":"IF($Q21=\"\",\"\",VLOOKUP($Q21,'Practices & Techniques'!$A$6:$G$114,7,FALSE))","v":""},{"$f":"IF(OR(Q21='Practices & Techniques'!A$80,Q22='Practices & Techniques'!A$80,Q23='Practices & Techniques'!A$80,Q24='Practices & Techniques'!A$80,Q25='Practices & Techniques'!A$80),\"N/A\",SUM(R$12:R$16)+SUM(R21:R25))","v":0},{"$f":"IF(OR(Q21='Practices & Techniques'!A$80,Q22='Practices & Techniques'!A$80,Q23='Practices & Techniques'!A$80,Q24='Practices & Techniques'!A$80,Q25='Practices & Techniques'!A$80),\"N/A\",SUM(S$12:S$16)+SUM(S21:S25))","v":0},null,{"$f":"IF(OR(Q21='Practices & Techniques'!A$80,Q22='Practices & Techniques'!A$80,Q23='Practices & Techniques'!A$80,Q24='Practices & Techniques'!A$80,Q25='Practices & Techniques'!A$80),\"N/A\",SUM(U$12:U$16)+SUM(U21:U25))","v":0},{"$f":"IF(OR(Q21='Practices & Techniques'!A$80,Q22='Practices & Techniques'!A$80,Q23='Practices & Techniques'!A$80,Q24='Practices & Techniques'!A$80,Q25='Practices & Techniques'!A$80),\"N/A\",SUM(V$12:V$16)+SUM(V21:V25))","v":0},null,{"$f":"IF(B21=\"\",\"\",1)","v":""},false]
[null,null,null,null,null,null,null,null,null,null,null,null,null,null,null,null,null,{"$f":"IF($Q22=\"\",\"\",VLOOKUP($Q22,'Practices & Techniques'!$A$6:$F$114,3,FALSE))","v":""},{"$f":"IF($Q22=\"\",\"\",VLOOKUP($Q22,'Practices & Techniques'!$A$6:$F$114,4,FALSE))","v":""},{"$f":"IF($Q22=\"\",\"\",VLOOKUP($Q22,'Practices & Techniques'!$A$6:$F$114,5,FALSE))","v":""},{"$f":"IF($Q22=\"\",\"\",VLOOKUP($Q22,'Practices & Techniques'!$A$6:$F$114,6,FALSE))","v":""},{"$f":"IF($Q22=\"\",\"\",VLOOKUP($Q22,'Practices & Techniques'!$A$6:$G$114,7,FALSE))","v":""},null,null,null,null,null,null,{"$f":"IF(B21=\"\",\"\",1)","v":""},false,{"$f":"'Practices & Techniques'!A5","v":"Alley Cropping (311)"}]
["P",null,null,null,null,null,"Fish",{"$f":"IF(CL11=\"\",\"\",(CL11))","v":""},"Fish",{"$f":"IF(CM11=\"\",\"\",( CM11))","v":""},"Fish",{"$f":"IF(CK11=\"\",\"\",(CK11))","v":""},null,null,null,"Pollinators-Direct Contact",null,{"$f":"IF($Q23=\"\",\"\",VLOOKUP($Q23,'Practices & Techniques'!$A$6:$F$114,3,FALSE))","v":""},{"$f":"IF($Q23=\"\",\"\",VLOOKUP($Q23,'Practices & Techniques'!$A$6:$F$114,4,FALSE))","v":""},{"$f":"IF($Q23=\"\",\"\",VLOOKUP($Q23,'Practices & Techniques'!$A$6:$F$114,5,FALSE))","v":""},{"$f":"IF($Q23=\"\",\"\",VLOOKUP($Q23,'Practices & Techniques'!$A$6:$F$114,6,FALSE))","v":""},{"$f":"IF($Q23=\"\",\"\",VLOOKUP($Q23,'Practices & Techniques'!$A$6:$G$114,7,FALSE))","v":""},{"$f":"IF(OR(Q21='Practices & Techniques'!A$80,Q22='Practices & Techniques'!A$80,Q23='Practices & Techniques'!A$80,Q24='Practices & Techniques'!A$80,Q25='Practices & Techniques'!A$80),\"N/A\",SUM(R$12:R$16)+SUM(R21:R25))","v":0},{"$f":"IF(OR(Q21='Practices & Techniques'!A$80,Q22='Practices & Techniques'!A$80,Q23='Practices & Techniques'!A$80,Q24='Practices & Techniques'!A$80,Q25='Practices & Techniques'!A$80),\"N/A\",SUM(S$12:S$16)+SUM(S21:S25))","v":0},{"$f":"IF(OR(Q21='Practices & Techniques'!A$80,Q22='Practices & Techniques'!A$80,Q23='Practices & Techniques'!A$80,Q24='Practices & Techniques'!A$80,Q25='Practices & Techniques'!A$80),\"N/A\",SUM(T$12:T$16)+SUM(T21:T25))","v":0},{"$f":"IF(OR(Q21='Practices & Techniques'!A$80,Q22='Practices & Techniques'!A$80,Q23='Practices & Techniques'!A$80,Q24='Practices & Techniques'!A$80,Q25='Practices & Techniques'!A$80),\"N/A\",SUM(U$12:U$16)+SUM(U21:U25))","v":0},null,null,{"$f":"IF(B21=\"\",\"\",1)","v":""},false,{"$f":"'Practices & Techniques'!A6","v":"Anionic Polyacrylamide (PAM) Erosion Control (450)"}]
[null,null,null,null,null,null,null,null,null,null,null,null,null,null,null,null,null,{"$f":"IF($Q24=\"\",\"\",VLOOKUP($Q24,'Practices & Techniques'!$A$6:$F$114,3,FALSE))","v":""},{"$f":"IF($Q24=\"\",\"\",VLOOKUP($Q24,'Practices & Techniques'!$A$6:$F$114,4,FALSE))","v":""},{"$f":"IF($Q24=\"\",\"\",VLOOKUP($Q24,'Practices & Techniques'!$A$6:$F$114,5,FALSE))","v":""},{"$f":"IF($Q24=\"\",\"\",VLOOKUP($Q24,'Practices & Techniques'!$A$6:$F$114,6,FALSE))","v":""},{"$f":"IF($Q24=\"\",\"\",VLOOKUP($Q24,'Practices & Techniques'!$A$6:$G$114,7,FALSE))","v":""},null,null,null,null,null,null,{"$f":"IF(B21=\"\",\"\",1)","v":""},false,{"$f":"'Practices & Techniques'!A7","v":"Bedding (310)"}]
[null,null,null,null,null,null,null,null,null,null,null,null,null,null,null,"  Drift",null,{"$f":"IF($Q25=\"\",\"\",VLOOKUP($Q25,'Practices & Techniques'!$A$6:$F$114,3,FALSE))","v":""},{"$f":"IF($Q25=\"\",\"\",VLOOKUP($Q25,'Practices & Techniques'!$A$6:$F$114,4,FALSE))","v":""},{"$f":"IF($Q25=\"\",\"\",VLOOKUP($Q25,'Practices & Techniques'!$A$6:$F$114,5,FALSE))","v":""},{"$f":"IF($Q25=\"\",\"\",VLOOKUP($Q25,'Practices & Techniques'!$A$6:$F$114,6,FALSE))","v":""},{"$f":"IF($Q25=\"\",\"\",VLOOKUP($Q25,'Practices & Techniques'!$A$6:$G$114,7,FALSE))","v":""},null,null,null,null,null,null,{"$f":"IF(B21=\"\",\"\",1)","v":""},false,{"$f":"'Practices & Techniques'!A8","v":"Conservation Cover (327)"}]
["M",{"$f":"IF(AJ12=\"\",\"\",(AJ12))","v":""},{"$f":"IF(AL12=\"\",\"\", (AL12))","v":""},null,{"$f":"IF(AY12=\"\",\"\", (AY12))","v":""},{"$f":"IF(BB12=\"\",\"\", (BB12))","v":""},"Human",{"$f":"IF(CN12=\"\",\"\",(CN12))","v":""},"Human",{"$f":"IF(CO12=\"\",\"\",(CO12))","v":""},null,null,{"$f":"IF(BL12=\"\",\"\", (BL12))","v":""},{"$f":"IF(BM12=\"\",\"\", (BM12))","v":""},{"$f":"IF(BN12=\"\",\"\", (BN12))","v":""},"Volatilization",null,{"$f":"IF($Q26=\"\",\"\",VLOOKUP($Q26,'Practices & Techniques'!$A$6:$F$114,3,FALSE))","v":""},{"$f":"IF($Q26=\"\",\"\",VLOOKUP($Q26,'Practices & Techniques'!$A$6:$F$114,4,FALSE))","v":""},{"$f":"IF($Q26=\"\",\"\",VLOOKUP($Q26,'Practices & Techniques'!$A$6:$F$114,5,FALSE))","v":""},{"$f":"IF($Q26=\"\",\"\",VLOOKUP($Q26,'Practices & Techniques'!$A$6:$F$114,6,FALSE))","v":""},{"$f":"IF($Q26=\"\",\"\",VLOOKUP($Q26,'Practices & Techniques'!$A$6:$G$114,7,FALSE))","v":""},{"$f":"IF(OR(Q26='Practices & Techniques'!A$80,Q27='Practices & Techniques'!A$80,Q28='Practices & Techniques'!A$80,Q29='Practices & Techniques'!A$80,Q30='Practices & Techniques'!A$80),\"N/A\",SUM(R$12:R$16)+SUM(R26:R30))","v":0},{"$f":"IF(OR(Q26='Practices & Techniques'!A$80,Q27='Practices & Techniques'!A$80,Q28='Practices & Techniques'!A$80,Q29='Practices & Techniques'!A$80,Q30='Practices & Techniques'!A$80),\"N/A\",SUM(S$12:S$16)+SUM(S26:S30))","v":0},null,{"$f":"IF(OR(Q26='Practices & Techniques'!A$80,Q27='Practices & Techniques'!A$80,Q28='Practices & Techniques'!A$80,Q29='Practices & Techniques'!A$80,Q30='Practices & Techniques'!A$80),\"N/A\",SUM(U$12:U$16)+SUM(U26:U30))","v":0},{"$f":"IF(OR(Q26='Practices & Techniques'!A$80,Q27='Practices & Techniques'!A$80,Q28='Practices & Techniques'!A$80,Q29='Practices & Techniques'!A$80,Q30='Practices & Techniques'!A$80),\"N/A\",SUM(V$12:V$16)+SUM(V26:V30))","v":0},null,{"$f":"IF(B26=\"\",\"\",1)","v":""},false,{"$f":"'Practices & Techniques'!A9","v":"Conservation Cover (327) - Pollinators"}]
[null,null,null,null,null,null,null,null,null,null,null,null,null,null,null,null,null,{"$f":"IF($Q27=\"\",\"\",VLOOKUP($Q27,'Practices & Techniques'!$A$6:$F$114,3,FALSE))","v":""},{"$f":"IF($Q27=\"\",\"\",VLOOKUP($Q27,'Practices & Techniques'!$A$6:$F$114,4,FALSE))","v":""},{"$f":"IF($Q27=\"\",\"\",VLOOKUP($Q27,'Practices & Techniques'!$A$6:$F$114,5,FALSE))","v":""},{"$f":"IF($Q27=\"\",\"\",VLOOKUP($Q27,'Practices & Techniques'!$A$6:$F$114,6,FALSE))","v":""},{"$f":"IF($Q27=\"\",\"\",VLOOKUP($Q27,'Practices & Techniques'!$A$6:$G$114,7,FALSE))","v":""},null,null,null,null,null,null,{"$f":"IF(B26=\"\",\"\",1)","v":""},false,{"$f":"'Practices & Techniques'!A10","v":"Conservation Crop Rotation (328)"}]
["P",null,null,null,null,null,"Fish",{"$f":"IF(CL12=\"\",\"\",(CL12))","v":""},"Fish",{"$f":"IF(CM12=\"\",\"\",(CM12))","v":""},"Fish",{"$f":"IF(CK12=\"\",\"\",(CK12))","v":""},null,null,null,"Pollinators-Direct Contact",null,{"$f":"IF($Q28=\"\",\"\",VLOOKUP($Q28,'Practices & Techniques'!$A$6:$F$114,3,FALSE))","v":""},{"$f":"IF($Q28=\"\",\"\",VLOOKUP($Q28,'Practices & Techniques'!$A$6:$F$114,4,FALSE))","v":""},{"$f":"IF($Q28=\"\",\"\",VLOOKUP($Q28,'Practices & Techniques'!$A$6:$F$114,5,FALSE))","v":""},{"$f":"IF($Q28=\"\",\"\",VLOOKUP($Q28,'Practices & Techniques'!$A$6:$F$114,6,FALSE))","v":""},{"$f":"IF($Q28=\"\",\"\",VLOOKUP($Q28,'Practices & Techniques'!$A$6:$G$114,7,FALSE))","v":""},{"$f":"IF(OR(Q26='Practices & Techniques'!A$80,Q27='Practices & Techniques'!A$80,Q28='Practices & Techniques'!A$80,Q29='Practices & Techniques'!A$80,Q30='Practices & Techniques'!A$80),\"N/A\",SUM(R$12:R$16)+SUM(R26:R30))","v":0},{"$f":"IF(OR(Q26='Practices & Techniques'!A$80,Q27='Practices & Techniques'!A$80,Q28='Practices & Techniques'!A$80,Q29='Practices & Techniques'!A$80,Q30='Practices & Techniques'!A$80),\"N/A\",SUM(S$12:S$16)+SUM(S26:S30))","v":0},{"$f":"IF(OR(Q26='Practices & Techniques'!A$80,Q27='Practices & Techniques'!A$80,Q28='Practices & Techniques'!A$80,Q29='Practices & Techniques'!A$80,Q30='Practices & Techniques'!A$80),\"N/A\",SUM(T$12:T$16)+SUM(T26:T30))","v":0},{"$f":"IF(OR(Q26='Practices & Techniques'!A$80,Q27='Practices & Techniques'!A$80,Q28='Practices & Techniques'!A$80,Q29='Practices & Techniques'!A$80,Q30='Practices & Techniques'!A$80),\"N/A\",SUM(U$12:U$16)+SUM(U26:U30))","v":0},null,null,{"$f":"IF(B26=\"\",\"\",1)","v":""},false,{"$f":"'Practices & Techniques'!A11","v":"Constructed Wetland (656)"}]
[null,null,null,null,null,null,null,null,null,null,null,null,null,null,null,null,null,{"$f":"IF($Q29=\"\",\"\",VLOOKUP($Q29,'Practices & Techniques'!$A$6:$F$114,3,FALSE))","v":""},{"$f":"IF($Q29=\"\",\"\",VLOOKUP($Q29,'Practices & Techniques'!$A$6:$F$114,4,FALSE))","v":""},{"$f":"IF($Q29=\"\",\"\",VLOOKUP($Q29,'Practices & Techniques'!$A$6:$F$114,5,FALSE))","v":""},{"$f":"IF($Q29=\"\",\"\",VLOOKUP($Q29,'Practices & Techniques'!$A$6:$F$114,6,FALSE))","v":""},{"$f":"IF($Q29=\"\",\"\",VLOOKUP($Q29,'Practices & Techniques'!$A$6:$G$114,7,FALSE))","v":""},null,null,null,null,null,null,{"$f":"IF(B26=\"\",\"\",1)","v":""},false,{"$f":"'Practices & Techniques'!A12","v":"Contour Buffer Strips (332)"}]
[null,null,null,null,null,null,null,null,null,null,null,null,null,null,null,"  Drift",null,{"$f":"IF($Q30=\"\",\"\",VLOOKUP($Q30,'Practices & Techniques'!$A$6:$F$114,3,FALSE))","v":""},{"$f":"IF($Q30=\"\",\"\",VLOOKUP($Q30,'Practices & Techniques'!$A$6:$F$114,4,FALSE))","v":""},{"$f":"IF($Q30=\"\",\"\",VLOOKUP($Q30,'Practices & Techniques'!$A$6:$F$114,5,FALSE))","v":""},{"$f":"IF($Q30=\"\",\"\",VLOOKUP($Q30,'Practices & Techniques'!$A$6:$F$114,6,FALSE))","v":""},{"$f":"IF($Q30=\"\",\"\",VLOOKUP($Q30,'Practices & Techniques'!$A$6:$G$114,7,FALSE))","v":""},null,null,null,null,null,null,{"$f":"IF(B26=\"\",\"\",1)","v":""},false,{"$f":"'Practices & Techniques'!A13","v":"Contour Farming (330)"}]
["M",{"$f":"IF(AJ13=\"\",\"\",(AJ13))","v":""},{"$f":"IF(AL13=\"\",\"\", (AL13))","v":""},null,{"$f":"IF(AY13=\"\",\"\", (AY13))","v":""},{"$f":"IF(BB13=\"\",\"\", (BB13))","v":""},"Human",{"$f":"IF(CN13=\"\",\"\",(CN13))","v":""},"Human",{"$f":"IF(CO13=\"\",\"\",(CO13))","v":""},null,null,{"$f":"IF(BL13=\"\",\"\", (BL13))","v":""},{"$f":"IF(BM13=\"\",\"\", (BM13))","v":""},{"$f":"IF(BN13=\"\",\"\", (BN13))","v":""},"Volatilization",null,{"$f":"IF($Q31=\"\",\"\",VLOOKUP($Q31,'Practices & Techniques'!$A$6:$F$114,3,FALSE))","v":""},{"$f":"IF($Q31=\"\",\"\",VLOOKUP($Q31,'Practices & Techniques'!$A$6:$F$114,4,FALSE))","v":""},{"$f":"IF($Q31=\"\",\"\",VLOOKUP($Q31,'Practices & Techniques'!$A$6:$F$114,5,FALSE))","v":""},{"$f":"IF($Q31=\"\",\"\",VLOOKUP($Q31,'Practices & Techniques'!$A$6:$F$114,6,FALSE))","v":""},{"$f":"IF($Q31=\"\",\"\",VLOOKUP($Q31,'Practices & Techniques'!$A$6:$G$114,7,FALSE))","v":""},{"$f":"IF(OR(Q31='Practices & Techniques'!A$80,Q32='Practices & Techniques'!A$80,Q33='Practices & Techniques'!A$80,Q34='Practices & Techniques'!A$80,Q35='Practices & Techniques'!A$80),\"N/A\",SUM(R$12:R$16)+SUM(R31:R35))","v":0},{"$f":"IF(OR(Q31='Practices & Techniques'!A$80,Q32='Practices & Techniques'!A$80,Q33='Practices & Techniques'!A$80,Q34='Practices & Techniques'!A$80,Q35='Practices & Techniques'!A$80),\"N/A\",SUM(S$12:S$16)+SUM(S31:S35))","v":0},null,{"$f":"IF(OR(Q31='Practices & Techniques'!A$80,Q32='Practices & Techniques'!A$80,Q33='Practices & Techniques'!A$80,Q34='Practices & Techniques'!A$80,Q35='Practices & Techniques'!A$80),\"N/A\",SUM(U$12:U$16)+SUM(U31:U35))","v":0},{"$f":"IF(OR(Q31='Practices & Techniques'!A$80,Q32='Practices & Techniques'!A$80,Q33='Practices & Techniques'!A$80,Q34='Practices & Techniques'!A$80,Q35='Practices & Techniques'!A$80),\"N/A\",SUM(V$12:V$16)+SUM(V31:V35))","v":0},null,{"$f":"IF(B31=\"\",\"\",1)","v":""},false,{"$f":"'Practices & Techniques'!A14","v":"Contour Orchard and Other Fruit Area (331)"}]
[null,null,null,null,null,null,null,null,null,null,null,null,null,null,null,null,null,{"$f":"IF($Q32=\"\",\"\",VLOOKUP($Q32,'Practices & Techniques'!$A$6:$F$114,3,FALSE))","v":""},{"$f":"IF($Q32=\"\",\"\",VLOOKUP($Q32,'Practices & Techniques'!$A$6:$F$114,4,FALSE))","v":""},{"$f":"IF($Q32=\"\",\"\",VLOOKUP($Q32,'Practices & Techniques'!$A$6:$F$114,5,FALSE))","v":""},{"$f":"IF($Q32=\"\",\"\",VLOOKUP($Q32,'Practices & Techniques'!$A$6:$F$114,6,FALSE))","v":""},{"$f":"IF($Q32=\"\",\"\",VLOOKUP($Q32,'Practices & Techniques'!$A$6:$G$114,7,FALSE))","v":""},null,null,null,null,null,null,{"$f":"IF(B31=\"\",\"\",1)","v":""},false,{"$f":"'Practices & Techniques'!A15","v":"Cover Crop (340) (green manure)"}]
["P",null,null,null,null,null,"Fish",{"$f":"IF(CL13=\"\",\"\",(CL13))","v":""},"Fish",{"$f":"IF(CM13=\"\",\"\",(CM13))","v":""},"Fish",{"$f":"IF(CK13=\"\",\"\",(CK13))","v":""},null,null,null,"Pollinators-Direct Contact",null,{"$f":"IF($Q33=\"\",\"\",VLOOKUP($Q33,'Practices & Techniques'!$A$6:$F$114,3,FALSE))","v":""},{"$f":"IF($Q33=\"\",\"\",VLOOKUP($Q33,'Practices & Techniques'!$A$6:$F$114,4,FALSE))","v":""},{"$f":"IF($Q33=\"\",\"\",VLOOKUP($Q33,'Practices & Techniques'!$A$6:$F$114,5,FALSE))","v":""},{"$f":"IF($Q33=\"\",\"\",VLOOKUP($Q33,'Practices & Techniques'!$A$6:$F$114,6,FALSE))","v":""},{"$f":"IF($Q33=\"\",\"\",VLOOKUP($Q33,'Practices & Techniques'!$A$6:$G$114,7,FALSE))","v":""},{"$f":"IF(OR(Q31='Practices & Techniques'!A$80,Q32='Practices & Techniques'!A$80,Q33='Practices & Techniques'!A$80,Q34='Practices & Techniques'!A$80,Q35='Practices & Techniques'!A$80),\"N/A\",SUM(R$12:R$16)+SUM(R31:R35))","v":0},{"$f":"IF(OR(Q31='Practices & Techniques'!A$80,Q32='Practices & Techniques'!A$80,Q33='Practices & Techniques'!A$80,Q34='Practices & Techniques'!A$80,Q35='Practices & Techniques'!A$80),\"N/A\",SUM(S$12:S$16)+SUM(S31:S35))","v":0},{"$f":"IF(OR(Q31='Practices & Techniques'!A$80,Q32='Practices & Techniques'!A$80,Q33='Practices & Techniques'!A$80,Q34='Practices & Techniques'!A$80,Q35='Practices & Techniques'!A$80),\"N/A\",SUM(T$12:T$16)+SUM(T31:T35))","v":0},{"$f":"IF(OR(Q31='Practices & Techniques'!A$80,Q32='Practices & Techniques'!A$80,Q33='Practices & Techniques'!A$80,Q34='Practices & Techniques'!A$80,Q35='Practices & Techniques'!A$80),\"N/A\",SUM(U$12:U$16)+SUM(U31:U35))","v":0},null,null,{"$f":"IF(B31=\"\",\"\",1)","v":""},false,{"$f":"'Practices & Techniques'!A16","v":"Cover Crop (340) for weed suppression that is mulch tilled or no-tilled into for the next crop."}]
[null,null,null,null,null,null,null,null,null,null,null,null,null,null,null,null,null,{"$f":"IF($Q34=\"\",\"\",VLOOKUP($Q34,'Practices & Techniques'!$A$6:$F$114,3,FALSE))","v":""},{"$f":"IF($Q34=\"\",\"\",VLOOKUP($Q34,'Practices & Techniques'!$A$6:$F$114,4,FALSE))","v":""},{"$f":"IF($Q34=\"\",\"\",VLOOKUP($Q34,'Practices & Techniques'!$A$6:$F$114,5,FALSE))","v":""},{"$f":"IF($Q34=\"\",\"\",VLOOKUP($Q34,'Practices & Techniques'!$A$6:$F$114,6,FALSE))","v":""},{"$f":"IF($Q34=\"\",\"\",VLOOKUP($Q34,'Practices & Techniques'!$A$6:$G$114,7,FALSE))","v":""},null,null,null,null,null,null,{"$f":"IF(B31=\"\",\"\",1)","v":""},false,{"$f":"'Practices & Techniques'!A17","v":"Cross Wind Ridges (588)"}]
[null,null,null,null,null,null,null,null,null,null,null,null,null,null,null,"  Drift",null,{"$f":"IF($Q35=\"\",\"\",VLOOKUP($Q35,'Practices & Techniques'!$A$6:$F$114,3,FALSE))","v":""},{"$f":"IF($Q35=\"\",\"\",VLOOKUP($Q35,'Practices & Techniques'!$A$6:$F$114,4,FALSE))","v":""},{"$f":"IF($Q35=\"\",\"\",VLOOKUP($Q35,'Practices & Techniques'!$A$6:$F$114,5,FALSE))","v":""},{"$f":"IF($Q35=\"\",\"\",VLOOKUP($Q35,'Practices & Techniques'!$A$6:$F$114,6,FALSE))","v":""},{"$f":"IF($Q35=\"\",\"\",VLOOKUP($Q35,'Practices & Techniques'!$A$6:$G$114,7,FALSE))","v":""},null,null,null,null,null,null,{"$f":"IF(B31=\"\",\"\",1)","v":""},false,{"$f":"'Practices & Techniques'!A18","v":"Cross Wind Trap Strips (589)"}]
["M",{"$f":"IF(AJ14=\"\",\"\",(AJ14))","v":""},{"$f":"IF(AL14=\"\",\"\", (AL14))","v":""},null,{"$f":"IF(AY14=\"\",\"\", (AY14))","v":""},{"$f":"IF(BB14=\"\",\"\",(BB14))","v":""},"Human",{"$f":"IF(CN14=\"\",\"\",(CN14))","v":""},"Human",{"$f":"IF(CO14=\"\",\"\",(CO14))","v":""},null,null,{"$f":"IF(BL14=\"\",\"\", (BL14))","v":""},{"$f":"IF(BM14=\"\",\"\", (BM14))","v":""},{"$f":"IF(BN14=\"\",\"\", (BN14))","v":""},"Volatilization",null,{"$f":"IF($Q36=\"\",\"\",VLOOKUP($Q36,'Practices & Techniques'!$A$6:$F$114,3,FALSE))","v":""},{"$f":"IF($Q36=\"\",\"\",VLOOKUP($Q36,'Practices & Techniques'!$A$6:$F$114,4,FALSE))","v":""},{"$f":"IF($Q36=\"\",\"\",VLOOKUP($Q36,'Practices & Techniques'!$A$6:$F$114,5,FALSE))","v":""},{"$f":"IF($Q36=\"\",\"\",VLOOKUP($Q36,'Practices & Techniques'!$A$6:$F$114,6,FALSE))","v":""},{"$f":"IF($Q36=\"\",\"\",VLOOKUP($Q36,'Practices & Techniques'!$A$6:$G$114,7,FALSE))","v":""},{"$f":"IF(OR(Q36='Practices & Techniques'!A$80,Q37='Practices & Techniques'!A$80,Q38='Practices & Techniques'!A$80,Q39='Practices & Techniques'!A$80,Q40='Practices & Techniques'!A$80),\"N/A\",SUM(R$12:R$16)+SUM(R36:R40))","v":0},{"$f":"IF(OR(Q36='Practices & Techniques'!A$80,Q37='Practices & Techniques'!A$80,Q38='Practices & Techniques'!A$80,Q39='Practices & Techniques'!A$80,Q40='Practices & Techniques'!A$80),\"N/A\",SUM(S$12:S$16)+SUM(S36:S40))","v":0},null,{"$f":"IF(OR(Q36='Practices & Techniques'!A$80,Q37='Practices & Techniques'!A$80,Q38='Practices & Techniques'!A$80,Q39='Practices & Techniques'!A$80,Q40='Practices & Techniques'!A$80),\"N/A\",SUM(U$12:U$16)+SUM(U36:U40))","v":0},{"$f":"IF(OR(Q36='Practices & Techniques'!A$80,Q37='Practices & Techniques'!A$80,Q38='Practices & Techniques'!A$80,Q39='Practices & Techniques'!A$80,Q40='Practices & Techniques'!A$80),\"N/A\",SUM(V$12:V$16)+SUM(V36:V40))","v":0},null,{"$f":"IF(B36=\"\",\"\",1)","v":""},false,{"$f":"'Practices & Techniques'!A19","v":"Deep Tillage  (324)"}]
[null,null,null,null,null,null,null,null,null,null,null,null,null,null,null,null,null,{"$f":"IF($Q37=\"\",\"\",VLOOKUP($Q37,'Practices & Techniques'!$A$6:$F$114,3,FALSE))","v":""},{"$f":"IF($Q37=\"\",\"\",VLOOKUP($Q37,'Practices & Techniques'!$A$6:$F$114,4,FALSE))","v":""},{"$f":"IF($Q37=\"\",\"\",VLOOKUP($Q37,'Practices & Techniques'!$A$6:$F$114,5,FALSE))","v":""},{"$f":"IF($Q37=\"\",\"\",VLOOKUP($Q37,'Practices & Techniques'!$A$6:$F$114,6,FALSE))","v":""},{"$f":"IF($Q37=\"\",\"\",VLOOKUP($Q37,'Practices & Techniques'!$A$6:$G$114,7,FALSE))","v":""},null,null,null,null,null,null,{"$f":"IF(B36=\"\",\"\",1)","v":""},false,{"$f":"'Practices & Techniques'!A20","v":"Dike (356)"}]
["P",null,null,null,null,null,"Fish",{"$f":"IF(CL14=\"\",\"\",(CL14))","v":""},"Fish",{"$f":"IF(CM14=\"\",\"\",(CM14))","v":""},"Fish",{"$f":"IF(CK14=\"\",\"\",(CK14))","v":""},null,null,null,"Pollinators-Direct Contact",null,{"$f":"IF($Q38=\"\",\"\",VLOOKUP($Q38,'Practices & Techniques'!$A$6:$F$114,3,FALSE))","v":""},{"$f":"IF($Q38=\"\",\"\",VLOOKUP($Q38,'Practices & Techniques'!$A$6:$F$114,4,FALSE))","v":""},{"$f":"IF($Q38=\"\",\"\",VLOOKUP($Q38,'Practices & Techniques'!$A$6:$F$114,5,FALSE))","v":""},{"$f":"IF($Q38=\"\",\"\",VLOOKUP($Q38,'Practices & Techniques'!$A$6:$F$114,6,FALSE))","v":""},{"$f":"IF($Q38=\"\",\"\",VLOOKUP($Q38,'Practices & Techniques'!$A$6:$G$114,7,FALSE))","v":""},{"$f":"IF(OR(Q36='Practices & Techniques'!A$80,Q37='Practices & Techniques'!A$80,Q38='Practices & Techniques'!A$80,Q39='Practices & Techniques'!A$80,Q40='Practices & Techniques'!A$80),\"N/A\",SUM(R$12:R$16)+SUM(R36:R40))","v":0},{"$f":"IF(OR(Q36='Practices & Techniques'!A$80,Q37='Practices & Techniques'!A$80,Q38='Practices & Techniques'!A$80,Q39='Practices & Techniques'!A$80,Q40='Practices & Techniques'!A$80),\"N/A\",SUM(S$12:S$16)+SUM(S36:S40))","v":0},{"$f":"IF(OR(Q36='Practices & Techniques'!A$80,Q37='Practices & Techniques'!A$80,Q38='Practices & Techniques'!A$80,Q39='Practices & Techniques'!A$80,Q40='Practices & Techniques'!A$80),\"N/A\",SUM(T$12:T$16)+SUM(T36:T40))","v":0},{"$f":"IF(OR(Q36='Practices & Techniques'!A$80,Q37='Practices & Techniques'!A$80,Q38='Practices & Techniques'!A$80,Q39='Practices & Techniques'!A$80,Q40='Practices & Techniques'!A$80),\"N/A\",SUM(U$12:U$16)+SUM(U36:U40))","v":0},null,null,{"$f":"IF(B36=\"\",\"\",1)","v":""},false,{"$f":"'Practices & Techniques'!A21","v":"Drainage Water Management (554)"}]
[null,null,null,null,null,null,null,null,null,null,null,null,null,null,null,null,null,{"$f":"IF($Q39=\"\",\"\",VLOOKUP($Q39,'Practices & Techniques'!$A$6:$F$114,3,FALSE))","v":""},{"$f":"IF($Q39=\"\",\"\",VLOOKUP($Q39,'Practices & Techniques'!$A$6:$F$114,4,FALSE))","v":""},{"$f":"IF($Q39=\"\",\"\",VLOOKUP($Q39,'Practices & Techniques'!$A$6:$F$114,5,FALSE))","v":""},{"$f":"IF($Q39=\"\",\"\",VLOOKUP($Q39,'Practices & Techniques'!$A$6:$F$114,6,FALSE))","v":""},{"$f":"IF($Q39=\"\",\"\",VLOOKUP($Q39,'Practices & Techniques'!$A$6:$G$114,7,FALSE))","v":""},null,null,null,null,null,null,{"$f":"IF(B36=\"\",\"\",1)","v":""},false,{"$f":"'Practices & Techniques'!A22","v":"Field Border (386)"}]
[null,null,null,null,null,null,null,null,null,null,null,null,null,null,null,"  Drift",null,{"$f":"IF($Q40=\"\",\"\",VLOOKUP($Q40,'Practices & Techniques'!$A$6:$F$114,3,FALSE))","v":""},{"$f":"IF($Q40=\"\",\"\",VLOOKUP($Q40,'Practices & Techniques'!$A$6:$F$114,4,FALSE))","v":""},{"$f":"IF($Q40=\"\",\"\",VLOOKUP($Q40,'Practices & Techniques'!$A$6:$F$114,5,FALSE))","v":""},{"$f":"IF($Q40=\"\",\"\",VLOOKUP($Q40,'Practices & Techniques'!$A$6:$F$114,6,FALSE))","v":""},{"$f":"IF($Q40=\"\",\"\",VLOOKUP($Q40,'Practices & Techniques'!$A$6:$G$114,7,FALSE))","v":""},null,null,null,null,null,null,{"$f":"IF(B36=\"\",\"\",1)","v":""},false,{"$f":"'Practices & Techniques'!A23","v":"Filter Strip,< 30ft (393)"}]
["M",{"$f":"IF(AJ15=\"\",\"\",(AJ15))","v":""},{"$f":"IF(AL15=\"\",\"\", (AL15))","v":""},null,{"$f":"IF(AY15=\"\",\"\", (AY15))","v":""},{"$f":"IF(BB15=\"\",\"\",(BB15))","v":""},"Human",{"$f":"IF(CN15=\"\",\"\",(CN15))","v":""},"Human",{"$f":"IF(CO15=\"\",\"\",(CO15))","v":""},null,null,{"$f":"IF(BL15=\"\",\"\", (BL15))","v":""},{"$f":"IF(BM15=\"\",\"\", (BM15))","v":""},{"$f":"IF(BN15=\"\",\"\", (BN15))","v":""},"Volatilization",null,{"$f":"IF($Q41=\"\",\"\",VLOOKUP($Q41,'Practices & Techniques'!$A$6:$F$114,3,FALSE))","v":""},{"$f":"IF($Q41=\"\",\"\",VLOOKUP($Q41,'Practices & Techniques'!$A$6:$F$114,4,FALSE))","v":""},{"$f":"IF($Q41=\"\",\"\",VLOOKUP($Q41,'Practices & Techniques'!$A$6:$F$114,5,FALSE))","v":""},{"$f":"IF($Q41=\"\",\"\",VLOOKUP($Q41,'Practices & Techniques'!$A$6:$F$114,6,FALSE))","v":""},{"$f":"IF($Q41=\"\",\"\",VLOOKUP($Q41,'Practices & Techniques'!$A$6:$G$114,7,FALSE))","v":""},{"$f":"IF(OR(Q41='Practices & Techniques'!A$80,Q42='Practices & Techniques'!A$80,Q43='Practices & Techniques'!A$80,Q44='Practices & Techniques'!A$80,Q45='Practices & Techniques'!A$80),\"N/A\",SUM(R$12:R$16)+SUM(R41:R45))","v":0},{"$f":"IF(OR(Q41='Practices & Techniques'!A$80,Q42='Practices & Techniques'!A$80,Q43='Practices & Techniques'!A$80,Q44='Practices & Techniques'!A$80,Q45='Practices & Techniques'!A$80),\"N/A\",SUM(S$12:S$16)+SUM(S41:S45))","v":0},null,{"$f":"IF(OR(Q41='Practices & Techniques'!A$80,Q42='Practices & Techniques'!A$80,Q43='Practices & Techniques'!A$80,Q44='Practices & Techniques'!A$80,Q45='Practices & Techniques'!A$80),\"N/A\",SUM(U$12:U$16)+SUM(U41:U45))","v":0},{"$f":"IF(OR(Q41='Practices & Techniques'!A$80,Q42='Practices & Techniques'!A$80,Q43='Practices & Techniques'!A$80,Q44='Practices & Techniques'!A$80,Q45='Practices & Techniques'!A$80),\"N/A\",SUM(V$12:V$16)+SUM(V41:V45))","v":0},null,{"$f":"IF(B41=\"\",\"\",1)","v":""},false,{"$f":"'Practices & Techniques'!A24","v":"Filter Strip, ≥ 30ft (393)"}]
[null,null,null,null,null,null,null,null,null,null,null,null,null,null,null,null,null,{"$f":"IF($Q42=\"\",\"\",VLOOKUP($Q42,'Practices & Techniques'!$A$6:$F$114,3,FALSE))","v":""},{"$f":"IF($Q42=\"\",\"\",VLOOKUP($Q42,'Practices & Techniques'!$A$6:$F$114,4,FALSE))","v":""},{"$f":"IF($Q42=\"\",\"\",VLOOKUP($Q42,'Practices & Techniques'!$A$6:$F$114,5,FALSE))","v":""},{"$f":"IF($Q42=\"\",\"\",VLOOKUP($Q42,'Practices & Techniques'!$A$6:$F$114,6,FALSE))","v":""},{"$f":"IF($Q42=\"\",\"\",VLOOKUP($Q42,'Practices & Techniques'!$A$6:$G$114,7,FALSE))","v":""},null,null,null,null,null,null,{"$f":"IF(B41=\"\",\"\",1)","v":""},false,{"$f":"'Practices & Techniques'!A25","v":"Forage Harvest Management (511)"}]
["P",null,null,null,null,null,"Fish",{"$f":"IF(CL15=\"\",\"\",(CL15))","v":""},"Fish",{"$f":"IF(CM15=\"\",\"\",(CM15))","v":""},"Fish",{"$f":"IF(CK15=\"\",\"\",(CK15))","v":""},null,null,null,"Pollinators-Direct Contact",null,{"$f":"IF($Q43=\"\",\"\",VLOOKUP($Q43,'Practices & Techniques'!$A$6:$F$114,3,FALSE))","v":""},{"$f":"IF($Q43=\"\",\"\",VLOOKUP($Q43,'Practices & Techniques'!$A$6:$F$114,4,FALSE))","v":""},{"$f":"IF($Q43=\"\",\"\",VLOOKUP($Q43,'Practices & Techniques'!$A$6:$F$114,5,FALSE))","v":""},{"$f":"IF($Q43=\"\",\"\",VLOOKUP($Q43,'Practices & Techniques'!$A$6:$F$114,6,FALSE))","v":""},{"$f":"IF($Q43=\"\",\"\",VLOOKUP($Q43,'Practices & Techniques'!$A$6:$G$114,7,FALSE))","v":""},{"$f":"IF(OR(Q41='Practices & Techniques'!A$80,Q42='Practices & Techniques'!A$80,Q43='Practices & Techniques'!A$80,Q44='Practices & Techniques'!A$80,Q45='Practices & Techniques'!A$80),\"N/A\",SUM(R$12:R$16)+SUM(R41:R45))","v":0},{"$f":"IF(OR(Q41='Practices & Techniques'!A$80,Q42='Practices & Techniques'!A$80,Q43='Practices & Techniques'!A$80,Q44='Practices & Techniques'!A$80,Q45='Practices & Techniques'!A$80),\"N/A\",SUM(S$12:S$16)+SUM(S41:S45))","v":0},{"$f":"IF(OR(Q41='Practices & Techniques'!A$80,Q42='Practices & Techniques'!A$80,Q43='Practices & Techniques'!A$80,Q44='Practices & Techniques'!A$80,Q45='Practices & Techniques'!A$80),\"N/A\",SUM(T$12:T$16)+SUM(T41:T45))","v":0},{"$f":"IF(OR(Q41='Practices & Techniques'!A$80,Q42='Practices & Techniques'!A$80,Q43='Practices & Techniques'!A$80,Q44='Practices & Techniques'!A$80,Q45='Practices & Techniques'!A$80),\"N/A\",SUM(U$12:U$16)+SUM(U41:U45))","v":0},null,null,{"$f":"IF(B41=\"\",\"\",1)","v":""},false,{"$f":"'Practices & Techniques'!A26","v":"Hedgerow Planting (442)"}]
[null,null,null,null,null,null,null,null,null,null,null,null,null,null,null,null,null,{"$f":"IF($Q44=\"\",\"\",VLOOKUP($Q44,'Practices & Techniques'!$A$6:$F$114,3,FALSE))","v":""},{"$f":"IF($Q44=\"\",\"\",VLOOKUP($Q44,'Practices & Techniques'!$A$6:$F$114,4,FALSE))","v":""},{"$f":"IF($Q44=\"\",\"\",VLOOKUP($Q44,'Practices & Techniques'!$A$6:$F$114,5,FALSE))","v":""},{"$f":"IF($Q44=\"\",\"\",VLOOKUP($Q44,'Practices & Techniques'!$A$6:$F$114,6,FALSE))","v":""},{"$f":"IF($Q44=\"\",\"\",VLOOKUP($Q44,'Practices & Techniques'!$A$6:$G$114,7,FALSE))","v":""},null,null,null,null,null,null,{"$f":"IF(B41=\"\",\"\",1)","v":""},false,{"$f":"'Practices & Techniques'!A27","v":"Herbaceous Wind Barriers (603)"}]
[null,null,null,null,null,null,null,null,null,null,null,null,null,null,null,"  Drift",null,{"$f":"IF($Q45=\"\",\"\",VLOOKUP($Q45,'Practices & Techniques'!$A$6:$F$114,3,FALSE))","v":""},{"$f":"IF($Q45=\"\",\"\",VLOOKUP($Q45,'Practices & Techniques'!$A$6:$F$114,4,FALSE))","v":""},{"$f":"IF($Q45=\"\",\"\",VLOOKUP($Q45,'Practices & Techniques'!$A$6:$F$114,5,FALSE))","v":""},{"$f":"IF($Q45=\"\",\"\",VLOOKUP($Q45,'Practices & Techniques'!$A$6:$F$114,6,FALSE))","v":""},{"$f":"IF($Q45=\"\",\"\",VLOOKUP($Q45,'Practices & Techniques'!$A$6:$G$114,7,FALSE))","v":""},null,null,null,null,null,null,{"$f":"IF(B41=\"\",\"\",1)","v":""},false,{"$f":"'Practices & Techniques'!A28","v":"Irrigation System, Microirrigation (441)"}]
["M",{"$f":"IF(AJ16=\"\",\"\",(AJ16))","v":""},{"$f":"IF(AL16=\"\",\"\", (AL16))","v":""},null,{"$f":"IF(AY16=\"\",\"\", (AY16))","v":""},{"$f":"IF(BB16=\"\",\"\",(BB16))","v":""},"Human",{"$f":"IF(CN16=\"\",\"\",(CN16))","v":""},"Human",{"$f":"IF(CO16=\"\",\"\",(CO16))","v":""},null,null,{"$f":"IF(BL16=\"\",\"\", (BL16))","v":""},{"$f":"IF(BM16=\"\",\"\", (BM16))","v":""},{"$f":"IF(BN16=\"\",\"\", (BN16))","v":""},"Volatilization",null,{"$f":"IF($Q46=\"\",\"\",VLOOKUP($Q46,'Practices & Techniques'!$A$6:$F$114,3,FALSE))","v":""},{"$f":"IF($Q46=\"\",\"\",VLOOKUP($Q46,'Practices & Techniques'!$A$6:$F$114,4,FALSE))","v":""},{"$f":"IF($Q46=\"\",\"\",VLOOKUP($Q46,'Practices & Techniques'!$A$6:$F$114,5,FALSE))","v":""},{"$f":"IF($Q46=\"\",\"\",VLOOKUP($Q46,'Practices & Techniques'!$A$6:$F$114,6,FALSE))","v":""},{"$f":"IF($Q46=\"\",\"\",VLOOKUP($Q46,'Practices & Techniques'!$A$6:$G$114,7,FALSE))","v":""},{"$f":"IF(OR(Q46='Practices & Techniques'!A$80,Q47='Practices & Techniques'!A$80,Q48='Practices & Techniques'!A$80,Q49='Practices & Techniques'!A$80,Q50='Practices & Techniques'!A$80),\"N/A\",SUM(R$12:R$16)+SUM(R46:R50))","v":0},{"$f":"IF(OR(Q46='Practices & Techniques'!A$80,Q47='Practices & Techniques'!A$80,Q48='Practices & Techniques'!A$80,Q49='Practices & Techniques'!A$80,Q50='Practices & Techniques'!A$80),\"N/A\",SUM(S$12:S$16)+SUM(S46:S50))","v":0},null,{"$f":"IF(OR(Q46='Practices & Techniques'!A$80,Q47='Practices & Techniques'!A$80,Q48='Practices & Techniques'!A$80,Q49='Practices & Techniques'!A$80,Q50='Practices & Techniques'!A$80),\"N/A\",SUM(U$12:U$16)+SUM(U46:U50))","v":0},{"$f":"IF(OR(Q46='Practices & Techniques'!A$80,Q47='Practices & Techniques'!A$80,Q48='Practices & Techniques'!A$80,Q49='Practices & Techniques'!A$80,Q50='Practices & Techniques'!A$80),\"N/A\",SUM(V$12:V$16)+SUM(V46:V50))","v":0},null,{"$f":"IF(B46=\"\",\"\",1)","v":""},false,{"$f":"'Practices & Techniques'!A29","v":"Irrigation System, Sprinkler (442)"}]
[null,null,null,null,null,null,null,null,null,null,null,null,null,null,null,null,null,{"$f":"IF($Q47=\"\",\"\",VLOOKUP($Q47,'Practices & Techniques'!$A$6:$F$114,3,FALSE))","v":""},{"$f":"IF($Q47=\"\",\"\",VLOOKUP($Q47,'Practices & Techniques'!$A$6:$F$114,4,FALSE))","v":""},{"$f":"IF($Q47=\"\",\"\",VLOOKUP($Q47,'Practices & Techniques'!$A$6:$F$114,5,FALSE))","v":""},{"$f":"IF($Q47=\"\",\"\",VLOOKUP($Q47,'Practices & Techniques'!$A$6:$F$114,6,FALSE))","v":""},{"$f":"IF($Q47=\"\",\"\",VLOOKUP($Q47,'Practices & Techniques'!$A$6:$G$114,7,FALSE))","v":""},null,null,null,null,null,null,{"$f":"IF(B46=\"\",\"\",1)","v":""},false,{"$f":"'Practices & Techniques'!A30","v":"Irrigation System, Surface and Subsurface (443)"}]
["P",null,null,null,null,null,"Fish",{"$f":"IF(CL16=\"\",\"\",(CL16))","v":""},"Fish",{"$f":"IF(CM16=\"\",\"\",(CM16))","v":""},"Fish",{"$f":"IF(CK16=\"\",\"\",(CK16))","v":""},null,null,null,"Pollinators-Direct Contact",null,{"$f":"IF($Q48=\"\",\"\",VLOOKUP($Q48,'Practices & Techniques'!$A$6:$F$114,3,FALSE))","v":""},{"$f":"IF($Q48=\"\",\"\",VLOOKUP($Q48,'Practices & Techniques'!$A$6:$F$114,4,FALSE))","v":""},{"$f":"IF($Q48=\"\",\"\",VLOOKUP($Q48,'Practices & Techniques'!$A$6:$F$114,5,FALSE))","v":""},{"$f":"IF($Q48=\"\",\"\",VLOOKUP($Q48,'Practices & Techniques'!$A$6:$F$114,6,FALSE))","v":""},{"$f":"IF($Q48=\"\",\"\",VLOOKUP($Q48,'Practices & Techniques'!$A$6:$G$114,7,FALSE))","v":""},{"$f":"IF(OR(Q46='Practices & Techniques'!A$80,Q47='Practices & Techniques'!A$80,Q48='Practices & Techniques'!A$80,Q49='Practices & Techniques'!A$80,Q50='Practices & Techniques'!A$80),\"N/A\",SUM(R$12:R$16)+SUM(R46:R50))","v":0},{"$f":"IF(OR(Q46='Practices & Techniques'!A$80,Q47='Practices & Techniques'!A$80,Q48='Practices & Techniques'!A$80,Q49='Practices & Techniques'!A$80,Q50='Practices & Techniques'!A$80),\"N/A\",SUM(S$12:S$16)+SUM(S46:S50))","v":0},{"$f":"IF(OR(Q46='Practices & Techniques'!A$80,Q47='Practices & Techniques'!A$80,Q48='Practices & Techniques'!A$80,Q49='Practices & Techniques'!A$80,Q50='Practices & Techniques'!A$80),\"N/A\",SUM(T$12:T$16)+SUM(T46:T50))","v":0},{"$f":"IF(OR(Q46='Practices & Techniques'!A$80,Q47='Practices & Techniques'!A$80,Q48='Practices & Techniques'!A$80,Q49='Practices & Techniques'!A$80,Q50='Practices & Techniques'!A$80),\"N/A\",SUM(U$12:U$16)+SUM(U46:U50))","v":0},null,null,{"$f":"IF(B46=\"\",\"\",1)","v":""},false,{"$f":"'Practices & Techniques'!A31","v":"Irrigation System, Tail Water Recovery (447)"},null,null,null,null,null,null,null,null,null,null,null,null,null,null,null,null,null,null,null,null,null,null,null,null,null,null,null,null,null,null,null,null,null,null,null,null,null,null,null,null,null,null,null,null,null,null,null,null,null,null,null,null,null,null,null,null,null,null,null,null,null,null,null,null,null,null,null,null,null,null,null,null,-8]
[null,null,null,null,null,null,null,null,null,null,null,null,null,null,null,null,null,{"$f":"IF($Q49=\"\",\"\",VLOOKUP($Q49,'Practices & Techniques'!$A$6:$F$114,3,FALSE))","v":""},{"$f":"IF($Q49=\"\",\"\",VLOOKUP($Q49,'Practices & Techniques'!$A$6:$F$114,4,FALSE))","v":""},{"$f":"IF($Q49=\"\",\"\",VLOOKUP($Q49,'Practices & Techniques'!$A$6:$F$114,5,FALSE))","v":""},{"$f":"IF($Q49=\"\",\"\",VLOOKUP($Q49,'Practices & Techniques'!$A$6:$F$114,6,FALSE))","v":""},{"$f":"IF($Q49=\"\",\"\",VLOOKUP($Q49,'Practices & Techniques'!$A$6:$G$114,7,FALSE))","v":""},null,null,null,null,null,null,{"$f":"IF(B46=\"\",\"\",1)","v":""},false,{"$f":"'Practices & Techniques'!A32","v":"Irrigation Water Management (449)"}]
[null,null,null,null,null,null,null,null,null,null,null,null,null,null,null,"  Drift",null,{"$f":"IF($Q50=\"\",\"\",VLOOKUP($Q50,'Practices & Techniques'!$A$6:$F$114,3,FALSE))","v":""},{"$f":"IF($Q50=\"\",\"\",VLOOKUP($Q50,'Practices & Techniques'!$A$6:$F$114,4,FALSE))","v":""},{"$f":"IF($Q50=\"\",\"\",VLOOKUP($Q50,'Practices & Techniques'!$A$6:$F$114,5,FALSE))","v":""},{"$f":"IF($Q50=\"\",\"\",VLOOKUP($Q50,'Practices & Techniques'!$A$6:$F$114,6,FALSE))","v":""},{"$f":"IF($Q50=\"\",\"\",VLOOKUP($Q50,'Practices & Techniques'!$A$6:$G$114,7,FALSE))","v":""},null,null,null,null,null,null,{"$f":"IF(B46=\"\",\"\",1)","v":""},false,{"$f":"'Practices & Techniques'!A33","v":"Mulching (484) with natural materials"}]
["M",{"$f":"IF(AJ17=\"\",\"\",(AJ17))","v":""},{"$f":"IF(AL17=\"\",\"\", (AL17))","v":""},null,{"$f":"IF(AY17=\"\",\"\", (AY17))","v":""},{"$f":"IF(BB17=\"\",\"\",(BB17))","v":""},"Human",{"$f":"IF(CN17=\"\",\"\",(CN17))","v":""},"Human",{"$f":"IF(CO17=\"\",\"\",(CO17))","v":""},null,null,{"$f":"IF(BL17=\"\",\"\", (BL17))","v":""},{"$f":"IF(BM17=\"\",\"\", (BM17))","v":""},{"$f":"IF(BN17=\"\",\"\", (BN17))","v":""},"Volatilization",null,{"$f":"IF($Q51=\"\",\"\",VLOOKUP($Q51,'Practices & Techniques'!$A$6:$F$114,3,FALSE))","v":""},{"$f":"IF($Q51=\"\",\"\",VLOOKUP($Q51,'Practices & Techniques'!$A$6:$F$114,4,FALSE))","v":""},{"$f":"IF($Q51=\"\",\"\",VLOOKUP($Q51,'Practices & Techniques'!$A$6:$F$114,5,FALSE))","v":""},{"$f":"IF($Q51=\"\",\"\",VLOOKUP($Q51,'Practices & Techniques'!$A$6:$F$114,6,FALSE))","v":""},{"$f":"IF($Q51=\"\",\"\",VLOOKUP($Q51,'Practices & Techniques'!$A$6:$G$114,7,FALSE))","v":""},{"$f":"IF(OR(Q51='Practices & Techniques'!A$80,Q52='Practices & Techniques'!A$80,Q53='Practices & Techniques'!A$80,Q54='Practices & Techniques'!A$80,Q55='Practices & Techniques'!A$80),\"N/A\",SUM(R$12:R$16)+SUM(R51:R55))","v":0},{"$f":"IF(OR(Q51='Practices & Techniques'!A$80,Q52='Practices & Techniques'!A$80,Q53='Practices & Techniques'!A$80,Q54='Practices & Techniques'!A$80,Q55='Practices & Techniques'!A$80),\"N/A\",SUM(S$12:S$16)+SUM(S51:S55))","v":0},null,{"$f":"IF(OR(Q51='Practices & Techniques'!A$80,Q52='Practices & Techniques'!A$80,Q53='Practices & Techniques'!A$80,Q54='Practices & Techniques'!A$80,Q55='Practices & Techniques'!A$80),\"N/A\",SUM(U$12:U$16)+SUM(U51:U55))","v":0},{"$f":"IF(OR(Q51='Practices & Techniques'!A$80,Q52='Practices & Techniques'!A$80,Q53='Practices & Techniques'!A$80,Q54='Practices & Techniques'!A$80,Q55='Practices & Techniques'!A$80),\"N/A\",SUM(V$12:V$16)+SUM(V51:V55))","v":0},null,{"$f":"IF(B51=\"\",\"\",1)","v":""},false,{"$f":"'Practices & Techniques'!A34","v":"Mulching (484) with plastic"}]
[null,null,null,null,null,null,null,null,null,null,null,null,null,null,null,null,null,{"$f":"IF($Q52=\"\",\"\",VLOOKUP($Q52,'Practices & Techniques'!$A$6:$F$114,3,FALSE))","v":""},{"$f":"IF($Q52=\"\",\"\",VLOOKUP($Q52,'Practices & Techniques'!$A$6:$F$114,4,FALSE))","v":""},{"$f":"IF($Q52=\"\",\"\",VLOOKUP($Q52,'Practices & Techniques'!$A$6:$F$114,5,FALSE))","v":""},{"$f":"IF($Q52=\"\",\"\",VLOOKUP($Q52,'Practices & Techniques'!$A$6:$F$114,6,FALSE))","v":""},{"$f":"IF($Q52=\"\",\"\",VLOOKUP($Q52,'Practices & Techniques'!$A$6:$G$114,7,FALSE))","v":""},null,null,null,null,null,null,{"$f":"IF(B51=\"\",\"\",1)","v":""},false,{"$f":"'Practices & Techniques'!A35","v":"Residue and Tillage Management, No-Till (329)"}]
["P",null,null,null,null,null,"Fish",{"$f":"IF(CL17=\"\",\"\",(CL17))","v":""},"Fish",{"$f":"IF(CM17=\"\",\"\",(CM17))","v":""},"Fish",{"$f":"IF(CK17=\"\",\"\",(CK17))","v":""},null,null,null,"Pollinators-Direct Contact",null,{"$f":"IF($Q53=\"\",\"\",VLOOKUP($Q53,'Practices & Techniques'!$A$6:$F$114,3,FALSE))","v":""},{"$f":"IF($Q53=\"\",\"\",VLOOKUP($Q53,'Practices & Techniques'!$A$6:$F$114,4,FALSE))","v":""},{"$f":"IF($Q53=\"\",\"\",VLOOKUP($Q53,'Practices & Techniques'!$A$6:$F$114,5,FALSE))","v":""},{"$f":"IF($Q53=\"\",\"\",VLOOKUP($Q53,'Practices & Techniques'!$A$6:$F$114,6,FALSE))","v":""},{"$f":"IF($Q53=\"\",\"\",VLOOKUP($Q53,'Practices & Techniques'!$A$6:$G$114,7,FALSE))","v":""},{"$f":"IF(OR(Q51='Practices & Techniques'!A$80,Q52='Practices & Techniques'!A$80,Q53='Practices & Techniques'!A$80,Q54='Practices & Techniques'!A$80,Q55='Practices & Techniques'!A$80),\"N/A\",SUM(R$12:R$16)+SUM(R51:R55))","v":0},{"$f":"IF(OR(Q51='Practices & Techniques'!A$80,Q52='Practices & Techniques'!A$80,Q53='Practices & Techniques'!A$80,Q54='Practices & Techniques'!A$80,Q55='Practices & Techniques'!A$80),\"N/A\",SUM(S$12:S$16)+SUM(S51:S55))","v":0},{"$f":"IF(OR(Q51='Practices & Techniques'!A$80,Q52='Practices & Techniques'!A$80,Q53='Practices & Techniques'!A$80,Q54='Practices & Techniques'!A$80,Q55='Practices & Techniques'!A$80),\"N/A\",SUM(T$12:T$16)+SUM(T51:T55))","v":0},{"$f":"IF(OR(Q51='Practices & Techniques'!A$80,Q52='Practices & Techniques'!A$80,Q53='Practices & Techniques'!A$80,Q54='Practices & Techniques'!A$80,Q55='Practices & Techniques'!A$80),\"N/A\",SUM(U$12:U$16)+SUM(U51:U55))","v":0},null,null,{"$f":"IF(B51=\"\",\"\",1)","v":""},false,{"$f":"'Practices & Techniques'!A36","v":"Residue and Tillage Management, Reduced Till (345) "},null,null,null,null,null,null,null,null,null,null,null,null,null,null,null,null,null,null,null,null,null,null,null,null,null,null,null,null,null,null,null,null,null,null,null,null,null,null,null,null,null,null,null,null,null,null,null,null,null,null,null,null,null,null,null,null,null,null,null,null,null,null,null,null,null,null,null,null,null,null,null,null,-8]
[null,null,null,null,null,null,null,null,null,null,null,null,null,null,null,null,null,{"$f":"IF($Q54=\"\",\"\",VLOOKUP($Q54,'Practices & Techniques'!$A$6:$F$114,3,FALSE))","v":""},{"$f":"IF($Q54=\"\",\"\",VLOOKUP($Q54,'Practices & Techniques'!$A$6:$F$114,4,FALSE))","v":""},{"$f":"IF($Q54=\"\",\"\",VLOOKUP($Q54,'Practices & Techniques'!$A$6:$F$114,5,FALSE))","v":""},{"$f":"IF($Q54=\"\",\"\",VLOOKUP($Q54,'Practices & Techniques'!$A$6:$F$114,6,FALSE))","v":""},{"$f":"IF($Q54=\"\",\"\",VLOOKUP($Q54,'Practices & Techniques'!$A$6:$G$114,7,FALSE))","v":""},null,null,null,null,null,null,{"$f":"IF(B51=\"\",\"\",1)","v":""},false,{"$f":"'Practices & Techniques'!A37","v":"Riparian Forest Buffer (391)"}]
[null,null,null,null,null,null,null,null,null,null,null,null,null,null,null,"  Drift",null,{"$f":"IF($Q55=\"\",\"\",VLOOKUP($Q55,'Practices & Techniques'!$A$6:$F$114,3,FALSE))","v":""},{"$f":"IF($Q55=\"\",\"\",VLOOKUP($Q55,'Practices & Techniques'!$A$6:$F$114,4,FALSE))","v":""},{"$f":"IF($Q55=\"\",\"\",VLOOKUP($Q55,'Practices & Techniques'!$A$6:$F$114,5,FALSE))","v":""},{"$f":"IF($Q55=\"\",\"\",VLOOKUP($Q55,'Practices & Techniques'!$A$6:$F$114,6,FALSE))","v":""},{"$f":"IF($Q55=\"\",\"\",VLOOKUP($Q55,'Practices & Techniques'!$A$6:$G$114,7,FALSE))","v":""},null,null,null,null,null,null,{"$f":"IF(B51=\"\",\"\",1)","v":""},false,{"$f":"'Practices & Techniques'!A38","v":"Riparian Herbaceous Cover (390)"}]
["M",{"$f":"IF(AJ18=\"\",\"\",(AJ18))","v":""},{"$f":"IF(AL18=\"\",\"\", (AL18))","v":""},null,{"$f":"IF(AY18=\"\",\"\", (AY18))","v":""},{"$f":"IF(BB18=\"\",\"\",(BB18))","v":""},"Human",{"$f":"IF(CN18=\"\",\"\",(CN18))","v":""},"Human",{"$f":"IF(CO18=\"\",\"\",(CO18))","v":""},null,null,{"$f":"IF(BL18=\"\",\"\", (BL18))","v":""},{"$f":"IF(BM18=\"\",\"\", (BM18))","v":""},{"$f":"IF(BN18=\"\",\"\", (BN18))","v":""},"Volatilization",null,{"$f":"IF($Q56=\"\",\"\",VLOOKUP($Q56,'Practices & Techniques'!$A$6:$F$114,3,FALSE))","v":""},{"$f":"IF($Q56=\"\",\"\",VLOOKUP($Q56,'Practices & Techniques'!$A$6:$F$114,4,FALSE))","v":""},{"$f":"IF($Q56=\"\",\"\",VLOOKUP($Q56,'Practices & Techniques'!$A$6:$F$114,5,FALSE))","v":""},{"$f":"IF($Q56=\"\",\"\",VLOOKUP($Q56,'Practices & Techniques'!$A$6:$F$114,6,FALSE))","v":""},{"$f":"IF($Q56=\"\",\"\",VLOOKUP($Q56,'Practices & Techniques'!$A$6:$G$114,7,FALSE))","v":""},{"$f":"IF(OR(Q56='Practices & Techniques'!A$80,Q57='Practices & Techniques'!A$80,Q58='Practices & Techniques'!A$80,Q59='Practices & Techniques'!A$80,Q60='Practices & Techniques'!A$80),\"N/A\",SUM(R$12:R$16)+SUM(R56:R60))","v":0},{"$f":"IF(OR(Q56='Practices & Techniques'!A$80,Q57='Practices & Techniques'!A$80,Q58='Practices & Techniques'!A$80,Q59='Practices & Techniques'!A$80,Q60='Practices & Techniques'!A$80),\"N/A\",SUM(S$12:S$16)+SUM(S56:S60))","v":0},null,{"$f":"IF(OR(Q56='Practices & Techniques'!A$80,Q57='Practices & Techniques'!A$80,Q58='Practices & Techniques'!A$80,Q59='Practices & Techniques'!A$80,Q60='Practices & Techniques'!A$80),\"N/A\",SUM(U$12:U$16)+SUM(U56:U60))","v":0},{"$f":"IF(OR(Q56='Practices & Techniques'!A$80,Q57='Practices & Techniques'!A$80,Q58='Practices & Techniques'!A$80,Q59='Practices & Techniques'!A$80,Q60='Practices & Techniques'!A$80),\"N/A\",SUM(V$12:V$16)+SUM(V56:V60))","v":0},null,{"$f":"IF(B56=\"\",\"\",1)","v":""},false,{"$f":"'Practices & Techniques'!A39","v":"Sediment Basin (350)"}]
[null,null,null,null,null,null,null,null,null,null,null,null,null,null,null,null,null,{"$f":"IF($Q57=\"\",\"\",VLOOKUP($Q57,'Practices & Techniques'!$A$6:$F$114,3,FALSE))","v":""},{"$f":"IF($Q57=\"\",\"\",VLOOKUP($Q57,'Practices & Techniques'!$A$6:$F$114,4,FALSE))","v":""},{"$f":"IF($Q57=\"\",\"\",VLOOKUP($Q57,'Practices & Techniques'!$A$6:$F$114,5,FALSE))","v":""},{"$f":"IF($Q57=\"\",\"\",VLOOKUP($Q57,'Practices & Techniques'!$A$6:$F$114,6,FALSE))","v":""},{"$f":"IF($Q57=\"\",\"\",VLOOKUP($Q57,'Practices & Techniques'!$A$6:$G$114,7,FALSE))","v":""},null,null,null,null,null,null,{"$f":"IF(B56=\"\",\"\",1)","v":""},false,{"$f":"'Practices & Techniques'!A40","v":"Stripcropping (585)"}]
["P",null,null,null,null,null,"Fish",{"$f":"IF(CL18=\"\",\"\",(CL18))","v":""},"Fish",{"$f":"IF(CM18=\"\",\"\",(CM18))","v":""},"Fish",{"$f":"IF(CK18=\"\",\"\",(CK18))","v":""},null,null,null,"Pollinators-Direct Contact",null,{"$f":"IF($Q58=\"\",\"\",VLOOKUP($Q58,'Practices & Techniques'!$A$6:$F$114,3,FALSE))","v":""},{"$f":"IF($Q58=\"\",\"\",VLOOKUP($Q58,'Practices & Techniques'!$A$6:$F$114,4,FALSE))","v":""},{"$f":"IF($Q58=\"\",\"\",VLOOKUP($Q58,'Practices & Techniques'!$A$6:$F$114,5,FALSE))","v":""},{"$f":"IF($Q58=\"\",\"\",VLOOKUP($Q58,'Practices & Techniques'!$A$6:$F$114,6,FALSE))","v":""},{"$f":"IF($Q58=\"\",\"\",VLOOKUP($Q58,'Practices & Techniques'!$A$6:$G$114,7,FALSE))","v":""},{"$f":"IF(OR(Q56='Practices & Techniques'!A$80,Q57='Practices & Techniques'!A$80,Q58='Practices & Techniques'!A$80,Q59='Practices & Techniques'!A$80,Q60='Practices & Techniques'!A$80),\"N/A\",SUM(R$12:R$16)+SUM(R56:R60))","v":0},{"$f":"IF(OR(Q56='Practices & Techniques'!A$80,Q57='Practices & Techniques'!A$80,Q58='Practices & Techniques'!A$80,Q59='Practices & Techniques'!A$80,Q60='Practices & Techniques'!A$80),\"N/A\",SUM(S$12:S$16)+SUM(S56:S60))","v":0},{"$f":"IF(OR(Q56='Practices & Techniques'!A$80,Q57='Practices & Techniques'!A$80,Q58='Practices & Techniques'!A$80,Q59='Practices & Techniques'!A$80,Q60='Practices & Techniques'!A$80),\"N/A\",SUM(T$12:T$16)+SUM(T56:T60))","v":0},{"$f":"IF(OR(Q56='Practices & Techniques'!A$80,Q57='Practices & Techniques'!A$80,Q58='Practices & Techniques'!A$80,Q59='Practices & Techniques'!A$80,Q60='Practices & Techniques'!A$80),\"N/A\",SUM(U$12:U$16)+SUM(U56:U60))","v":0},null,null,{"$f":"IF(B56=\"\",\"\",1)","v":""},false,{"$f":"'Practices & Techniques'!A41","v":"Subsurface Drainage (606)"},null,null,null,null,null,null,null,null,null,null,null,null,null,null,null,null,null,null,null,null,null,null,null,null,null,null,null,null,null,null,null,null,null,null,null,null,null,null,null,null,null,null,null,null,null,null,null,null,null,null,null,null,null,null,null,null,null,null,null,null,null,null,null,null,null,null,null,null,null,null,null,null,-8]
[null,null,null,null,null,null,null,null,null,null,null,null,null,null,null,null,null,{"$f":"IF($Q59=\"\",\"\",VLOOKUP($Q59,'Practices & Techniques'!$A$6:$F$114,3,FALSE))","v":""},{"$f":"IF($Q59=\"\",\"\",VLOOKUP($Q59,'Practices & Techniques'!$A$6:$F$114,4,FALSE))","v":""},{"$f":"IF($Q59=\"\",\"\",VLOOKUP($Q59,'Practices & Techniques'!$A$6:$F$114,5,FALSE))","v":""},{"$f":"IF($Q59=\"\",\"\",VLOOKUP($Q59,'Practices & Techniques'!$A$6:$F$114,6,FALSE))","v":""},{"$f":"IF($Q59=\"\",\"\",VLOOKUP($Q59,'Practices & Techniques'!$A$6:$G$114,7,FALSE))","v":""},null,null,null,null,null,null,{"$f":"IF(B56=\"\",\"\",1)","v":""},false,{"$f":"'Practices & Techniques'!A42","v":"Surface Roughening (609)"}]
[null,null,null,null,null,null,null,null,null,null,null,null,null,null,null,"  Drift",null,{"$f":"IF($Q60=\"\",\"\",VLOOKUP($Q60,'Practices & Techniques'!$A$6:$F$114,3,FALSE))","v":""},{"$f":"IF($Q60=\"\",\"\",VLOOKUP($Q60,'Practices & Techniques'!$A$6:$F$114,4,FALSE))","v":""},{"$f":"IF($Q60=\"\",\"\",VLOOKUP($Q60,'Practices & Techniques'!$A$6:$F$114,5,FALSE))","v":""},{"$f":"IF($Q60=\"\",\"\",VLOOKUP($Q60,'Practices & Techniques'!$A$6:$F$114,6,FALSE))","v":""},{"$f":"IF($Q60=\"\",\"\",VLOOKUP($Q60,'Practices & Techniques'!$A$6:$G$114,7,FALSE))","v":""},null,null,null,null,null,null,{"$f":"IF(B56=\"\",\"\",1)","v":""},false,{"$f":"'Practices & Techniques'!A43","v":"Terrace (600)"}]
["M",{"$f":"IF(AJ19=\"\",\"\",(AJ19))","v":""},{"$f":"IF(AL19=\"\",\"\", (AL19))","v":""},null,{"$f":"IF(AY19=\"\",\"\", (AY19))","v":""},{"$f":"IF(BB19=\"\",\"\",(BB19))","v":""},"Human",{"$f":"IF(CN19=\"\",\"\",(CN19))","v":""},"Human",{"$f":"IF(CO19=\"\",\"\",(CO19))","v":""},null,null,{"$f":"IF(BL19=\"\",\"\", (BL19))","v":""},{"$f":"IF(BM19=\"\",\"\", (BM19))","v":""},{"$f":"IF(BN19=\"\",\"\", (BN19))","v":""},"Volatilization",null,{"$f":"IF($Q61=\"\",\"\",VLOOKUP($Q61,'Practices & Techniques'!$A$6:$F$114,3,FALSE))","v":""},{"$f":"IF($Q61=\"\",\"\",VLOOKUP($Q61,'Practices & Techniques'!$A$6:$F$114,4,FALSE))","v":""},{"$f":"IF($Q61=\"\",\"\",VLOOKUP($Q61,'Practices & Techniques'!$A$6:$F$114,5,FALSE))","v":""},{"$f":"IF($Q61=\"\",\"\",VLOOKUP($Q61,'Practices & Techniques'!$A$6:$F$114,6,FALSE))","v":""},{"$f":"IF($Q61=\"\",\"\",VLOOKUP($Q61,'Practices & Techniques'!$A$6:$G$114,7,FALSE))","v":""},{"$f":"IF(OR(Q61='Practices & Techniques'!A$80,Q62='Practices & Techniques'!A$80,Q63='Practices & Techniques'!A$80,Q64='Practices & Techniques'!A$80,Q65='Practices & Techniques'!A$80),\"N/A\",SUM(R$12:R$16)+SUM(R61:R65))","v":0},{"$f":"IF(OR(Q61='Practices & Techniques'!A$80,Q62='Practices & Techniques'!A$80,Q63='Practices & Techniques'!A$80,Q64='Practices & Techniques'!A$80,Q65='Practices & Techniques'!A$80),\"N/A\",SUM(S$12:S$16)+SUM(S61:S65))","v":0},null,{"$f":"IF(OR(Q61='Practices & Techniques'!A$80,Q62='Practices & Techniques'!A$80,Q63='Practices & Techniques'!A$80,Q64='Practices & Techniques'!A$80,Q65='Practices & Techniques'!A$80),\"N/A\",SUM(U$12:U$16)+SUM(U61:U65))","v":0},{"$f":"IF(OR(Q61='Practices & Techniques'!A$80,Q62='Practices & Techniques'!A$80,Q63='Practices & Techniques'!A$80,Q64='Practices & Techniques'!A$80,Q65='Practices & Techniques'!A$80),\"N/A\",SUM(V$12:V$16)+SUM(V61:V65))","v":0},null,{"$f":"IF(B61=\"\",\"\",1)","v":""},false,{"$f":"'Practices & Techniques'!A44","v":"Vegetative Barriers (601)"}]
[null,null,null,null,null,null,null,null,null,null,null,null,null,null,null,null,null,{"$f":"IF($Q62=\"\",\"\",VLOOKUP($Q62,'Practices & Techniques'!$A$6:$F$114,3,FALSE))","v":""},{"$f":"IF($Q62=\"\",\"\",VLOOKUP($Q62,'Practices & Techniques'!$A$6:$F$114,4,FALSE))","v":""},{"$f":"IF($Q62=\"\",\"\",VLOOKUP($Q62,'Practices & Techniques'!$A$6:$F$114,5,FALSE))","v":""},{"$f":"IF($Q62=\"\",\"\",VLOOKUP($Q62,'Practices & Techniques'!$A$6:$F$114,6,FALSE))","v":""},{"$f":"IF($Q62=\"\",\"\",VLOOKUP($Q62,'Practices & Techniques'!$A$6:$G$114,7,FALSE))","v":""},null,null,null,null,null,null,{"$f":"IF(B61=\"\",\"\",1)","v":""},false,{"$f":"'Practices & Techniques'!A45","v":"Water and Sediment Control Basin (638)"}]
["P",null,null,null,null,null,"Fish",{"$f":"IF(CL19=\"\",\"\",(CL19))","v":""},"Fish",{"$f":"IF(CM19=\"\",\"\",(CM19))","v":""},"Fish",{"$f":"IF(CK19=\"\",\"\",(CK19))","v":""},null,null,null,"Pollinators-Direct Contact",null,{"$f":"IF($Q63=\"\",\"\",VLOOKUP($Q63,'Practices & Techniques'!$A$6:$F$114,3,FALSE))","v":""},{"$f":"IF($Q63=\"\",\"\",VLOOKUP($Q63,'Practices & Techniques'!$A$6:$F$114,4,FALSE))","v":""},{"$f":"IF($Q63=\"\",\"\",VLOOKUP($Q63,'Practices & Techniques'!$A$6:$F$114,5,FALSE))","v":""},{"$f":"IF($Q63=\"\",\"\",VLOOKUP($Q63,'Practices & Techniques'!$A$6:$F$114,6,FALSE))","v":""},{"$f":"IF($Q63=\"\",\"\",VLOOKUP($Q63,'Practices & Techniques'!$A$6:$G$114,7,FALSE))","v":""},{"$f":"IF(OR(Q61='Practices & Techniques'!A$80,Q62='Practices & Techniques'!A$80,Q63='Practices & Techniques'!A$80,Q64='Practices & Techniques'!A$80,Q65='Practices & Techniques'!A$80),\"N/A\",SUM(R$12:R$16)+SUM(R61:R65))","v":0},{"$f":"IF(OR(Q61='Practices & Techniques'!A$80,Q62='Practices & Techniques'!A$80,Q63='Practices & Techniques'!A$80,Q64='Practices & Techniques'!A$80,Q65='Practices & Techniques'!A$80),\"N/A\",SUM(S$12:S$16)+SUM(S61:S65))","v":0},{"$f":"IF(OR(Q61='Practices & Techniques'!A$80,Q62='Practices & Techniques'!A$80,Q63='Practices & Techniques'!A$80,Q64='Practices & Techniques'!A$80,Q65='Practices & Techniques'!A$80),\"N/A\",SUM(T$12:T$16)+SUM(T61:T65))","v":0},{"$f":"IF(OR(Q61='Practices & Techniques'!A$80,Q62='Practices & Techniques'!A$80,Q63='Practices & Techniques'!A$80,Q64='Practices & Techniques'!A$80,Q65='Practices & Techniques'!A$80),\"N/A\",SUM(U$12:U$16)+SUM(U61:U65))","v":0},null,null,{"$f":"IF(B61=\"\",\"\",1)","v":""},false,{"$f":"'Practices & Techniques'!A46","v":"Windbreak/Shelterbelt Establishment (380)"}]
[null,null,null,null,null,null,null,null,null,null,null,null,null,null,null,null,null,{"$f":"IF($Q64=\"\",\"\",VLOOKUP($Q64,'Practices & Techniques'!$A$6:$F$114,3,FALSE))","v":""},{"$f":"IF($Q64=\"\",\"\",VLOOKUP($Q64,'Practices & Techniques'!$A$6:$F$114,4,FALSE))","v":""},{"$f":"IF($Q64=\"\",\"\",VLOOKUP($Q64,'Practices & Techniques'!$A$6:$F$114,5,FALSE))","v":""},{"$f":"IF($Q64=\"\",\"\",VLOOKUP($Q64,'Practices & Techniques'!$A$6:$F$114,6,FALSE))","v":""},{"$f":"IF($Q64=\"\",\"\",VLOOKUP($Q64,'Practices & Techniques'!$A$6:$G$114,7,FALSE))","v":""},null,null,null,null,null,null,{"$f":"IF(B61=\"\",\"\",1)","v":""},false,{"$f":"'Practices & Techniques'!A47","v":0}]
[null,null,null,null,null,null,null,null,null,null,null,null,null,null,null,"  Drift",null,{"$f":"IF($Q65=\"\",\"\",VLOOKUP($Q65,'Practices & Techniques'!$A$6:$F$114,3,FALSE))","v":""},{"$f":"IF($Q65=\"\",\"\",VLOOKUP($Q65,'Practices & Techniques'!$A$6:$F$114,4,FALSE))","v":""},{"$f":"IF($Q65=\"\",\"\",VLOOKUP($Q65,'Practices & Techniques'!$A$6:$F$114,5,FALSE))","v":""},{"$f":"IF($Q65=\"\",\"\",VLOOKUP($Q65,'Practices & Techniques'!$A$6:$F$114,6,FALSE))","v":""},{"$f":"IF($Q65=\"\",\"\",VLOOKUP($Q65,'Practices & Techniques'!$A$6:$G$114,7,FALSE))","v":""},null,null,null,null,null,null,{"$f":"IF(B61=\"\",\"\",1)","v":""},false,{"$f":"'Practices & Techniques'!A48","v":0}]
["M",{"$f":"IF(AJ20=\"\",\"\",(AJ20))","v":""},{"$f":"IF(AL20=\"\",\"\", (AL20))","v":""},null,{"$f":"IF(AY20=\"\",\"\", (AY20))","v":""},{"$f":"IF(BB20=\"\",\"\",(BB20))","v":""},"Human",{"$f":"IF(CN20=\"\",\"\",(CN20))","v":""},"Human",{"$f":"IF(CO20=\"\",\"\",(CO20))","v":""},null,null,{"$f":"IF(BL20=\"\",\"\", (BL20))","v":""},{"$f":"IF(BM20=\"\",\"\", (BM20))","v":""},{"$f":"IF(BN20=\"\",\"\", (BN20))","v":""},"Volatilization",null,{"$f":"IF($Q66=\"\",\"\",VLOOKUP($Q66,'Practices & Techniques'!$A$6:$F$114,3,FALSE))","v":""},{"$f":"IF($Q66=\"\",\"\",VLOOKUP($Q66,'Practices & Techniques'!$A$6:$F$114,4,FALSE))","v":""},{"$f":"IF($Q66=\"\",\"\",VLOOKUP($Q66,'Practices & Techniques'!$A$6:$F$114,5,FALSE))","v":""},{"$f":"IF($Q66=\"\",\"\",VLOOKUP($Q66,'Practices & Techniques'!$A$6:$F$114,6,FALSE))","v":""},{"$f":"IF($Q66=\"\",\"\",VLOOKUP($Q66,'Practices & Techniques'!$A$6:$G$114,7,FALSE))","v":""},{"$f":"IF(OR(Q66='Practices & Techniques'!A$80,Q67='Practices & Techniques'!A$80,Q68='Practices & Techniques'!A$80,Q69='Practices & Techniques'!A$80,Q70='Practices & Techniques'!A$80),\"N/A\",SUM(R$12:R$16)+SUM(R66:R70))","v":0},{"$f":"IF(OR(Q66='Practices & Techniques'!A$80,Q67='Practices & Techniques'!A$80,Q68='Practices & Techniques'!A$80,Q69='Practices & Techniques'!A$80,Q70='Practices & Techniques'!A$80),\"N/A\",SUM(S$12:S$16)+SUM(S66:S70))","v":0},null,{"$f":"IF(OR(Q66='Practices & Techniques'!A$80,Q67='Practices & Techniques'!A$80,Q68='Practices & Techniques'!A$80,Q69='Practices & Techniques'!A$80,Q70='Practices & Techniques'!A$80),\"N/A\",SUM(U$12:U$16)+SUM(U66:U70))","v":0},{"$f":"IF(OR(Q66='Practices & Techniques'!A$80,Q67='Practices & Techniques'!A$80,Q68='Practices & Techniques'!A$80,Q69='Practices & Techniques'!A$80,Q70='Practices & Techniques'!A$80),\"N/A\",SUM(V$12:V$16)+SUM(V66:V70))","v":0},null,{"$f":"IF(B66=\"\",\"\",1)","v":""},false,{"$f":"'Practices & Techniques'!A49","v":0}]
[null,null,null,null,null,null,null,null,null,null,null,null,null,null,null,null,null,{"$f":"IF($Q67=\"\",\"\",VLOOKUP($Q67,'Practices & Techniques'!$A$6:$F$114,3,FALSE))","v":""},{"$f":"IF($Q67=\"\",\"\",VLOOKUP($Q67,'Practices & Techniques'!$A$6:$F$114,4,FALSE))","v":""},{"$f":"IF($Q67=\"\",\"\",VLOOKUP($Q67,'Practices & Techniques'!$A$6:$F$114,5,FALSE))","v":""},{"$f":"IF($Q67=\"\",\"\",VLOOKUP($Q67,'Practices & Techniques'!$A$6:$F$114,6,FALSE))","v":""},{"$f":"IF($Q67=\"\",\"\",VLOOKUP($Q67,'Practices & Techniques'!$A$6:$G$114,7,FALSE))","v":""},null,null,null,null,null,null,{"$f":"IF(B66=\"\",\"\",1)","v":""},false,{"$f":"'Practices & Techniques'!A50","v":0}]
["P",null,null,null,null,null,"Fish",{"$f":"IF(CL20=\"\",\"\",(CL20))","v":""},"Fish",{"$f":"IF(CM20=\"\",\"\",(CM20))","v":""},"Fish",{"$f":"IF(CK20=\"\",\"\",(CK20))","v":""},null,null,null,"Pollinators-Direct Contact",null,{"$f":"IF($Q68=\"\",\"\",VLOOKUP($Q68,'Practices & Techniques'!$A$6:$F$114,3,FALSE))","v":""},{"$f":"IF($Q68=\"\",\"\",VLOOKUP($Q68,'Practices & Techniques'!$A$6:$F$114,4,FALSE))","v":""},{"$f":"IF($Q68=\"\",\"\",VLOOKUP($Q68,'Practices & Techniques'!$A$6:$F$114,5,FALSE))","v":""},{"$f":"IF($Q68=\"\",\"\",VLOOKUP($Q68,'Practices & Techniques'!$A$6:$F$114,6,FALSE))","v":""},{"$f":"IF($Q68=\"\",\"\",VLOOKUP($Q68,'Practices & Techniques'!$A$6:$G$114,7,FALSE))","v":""},{"$f":"IF(OR(Q66='Practices & Techniques'!A$80,Q67='Practices & Techniques'!A$80,Q68='Practices & Techniques'!A$80,Q69='Practices & Techniques'!A$80,Q70='Practices & Techniques'!A$80),\"N/A\",SUM(R$12:R$16)+SUM(R66:R70))","v":0},{"$f":"IF(OR(Q66='Practices & Techniques'!A$80,Q67='Practices & Techniques'!A$80,Q68='Practices & Techniques'!A$80,Q69='Practices & Techniques'!A$80,Q70='Practices & Techniques'!A$80),\"N/A\",SUM(S$12:S$16)+SUM(S66:S70))","v":0},{"$f":"IF(OR(Q66='Practices & Techniques'!A$80,Q67='Practices & Techniques'!A$80,Q68='Practices & Techniques'!A$80,Q69='Practices & Techniques'!A$80,Q70='Practices & Techniques'!A$80),\"N/A\",SUM(T$12:T$16)+SUM(T66:T70))","v":0},{"$f":"IF(OR(Q66='Practices & Techniques'!A$80,Q67='Practices & Techniques'!A$80,Q68='Practices & Techniques'!A$80,Q69='Practices & Techniques'!A$80,Q70='Practices & Techniques'!A$80),\"N/A\",SUM(U$12:U$16)+SUM(U66:U70))","v":0},null,null,{"$f":"IF(B66=\"\",\"\",1)","v":""},false,{"$f":"'Practices & Techniques'!A51","v":0},null,null,null,null,null,null,null,null,null,null,null,null,null,null,null,null,null,null,null,null,null,null,null,null,null,null,null,null,null,null,null,null,null,null,null,null,null,null,null,null,null,null,null,null,null,null,null,null,null,null,null,null,null,null,null,null,null,null,null,null,null,null,null,null,null,null,null,null,null,null,null,null,-8]
[null,null,null,null,null,null,null,null,null,null,null,null,null,null,null,null,null,{"$f":"IF($Q69=\"\",\"\",VLOOKUP($Q69,'Practices & Techniques'!$A$6:$F$114,3,FALSE))","v":""},{"$f":"IF($Q69=\"\",\"\",VLOOKUP($Q69,'Practices & Techniques'!$A$6:$F$114,4,FALSE))","v":""},{"$f":"IF($Q69=\"\",\"\",VLOOKUP($Q69,'Practices & Techniques'!$A$6:$F$114,5,FALSE))","v":""},{"$f":"IF($Q69=\"\",\"\",VLOOKUP($Q69,'Practices & Techniques'!$A$6:$F$114,6,FALSE))","v":""},{"$f":"IF($Q69=\"\",\"\",VLOOKUP($Q69,'Practices & Techniques'!$A$6:$G$114,7,FALSE))","v":""},null,null,null,null,null,null,{"$f":"IF(B66=\"\",\"\",1)","v":""},false,{"$f":"'Practices & Techniques'!A52","v":"NO ADDITIONAL MITIGATION NEEDED"}]
[null,null,null,null,null,null,null,null,null,null,null,null,null,null,null,"  Drift",null,{"$f":"IF($Q70=\"\",\"\",VLOOKUP($Q70,'Practices & Techniques'!$A$6:$F$114,3,FALSE))","v":""},{"$f":"IF($Q70=\"\",\"\",VLOOKUP($Q70,'Practices & Techniques'!$A$6:$F$114,4,FALSE))","v":""},{"$f":"IF($Q70=\"\",\"\",VLOOKUP($Q70,'Practices & Techniques'!$A$6:$F$114,5,FALSE))","v":""},{"$f":"IF($Q70=\"\",\"\",VLOOKUP($Q70,'Practices & Techniques'!$A$6:$F$114,6,FALSE))","v":""},{"$f":"IF($Q70=\"\",\"\",VLOOKUP($Q70,'Practices & Techniques'!$A$6:$G$114,7,FALSE))","v":""},null,null,null,null,null,null,{"$f":"IF(B66=\"\",\"\",1)","v":""},false,{"$f":"'Practices & Techniques'!A53","v":"NO MITIGATION NEEDED"}]
["M",{"$f":"IF(AJ21=\"\",\"\",(AJ21))","v":""},{"$f":"IF(AL21=\"\",\"\", (AL21))","v":""},null,{"$f":"IF(AY21=\"\",\"\", (AY21))","v":""},{"$f":"IF(BB21=\"\",\"\",(BB21))","v":""},"Human",{"$f":"IF(CN21=\"\",\"\",(CN21))","v":""},"Human",{"$f":"IF(CO21=\"\",\"\",(CO21))","v":""},null,null,{"$f":"IF(BL21=\"\",\"\", (BL21))","v":""},{"$f":"IF(BM21=\"\",\"\", (BM21))","v":""},{"$f":"IF(BN21=\"\",\"\", (BN21))","v":""},"Volatilization",null,{"$f":"IF($Q71=\"\",\"\",VLOOKUP($Q71,'Practices & Techniques'!$A$6:$F$114,3,FALSE))","v":""},{"$f":"IF($Q71=\"\",\"\",VLOOKUP($Q71,'Practices & Techniques'!$A$6:$F$114,4,FALSE))","v":""},{"$f":"IF($Q71=\"\",\"\",VLOOKUP($Q71,'Practices & Techniques'!$A$6:$F$114,5,FALSE))","v":""},{"$f":"IF($Q71=\"\",\"\",VLOOKUP($Q71,'Practices & Techniques'!$A$6:$F$114,6,FALSE))","v":""},{"$f":"IF($Q71=\"\",\"\",VLOOKUP($Q71,'Practices & Techniques'!$A$6:$G$114,7,FALSE))","v":""},{"$f":"IF(OR(Q71='Practices & Techniques'!A$80,Q72='Practices & Techniques'!A$80,Q73='Practices & Techniques'!A$80,Q74='Practices & Techniques'!A$80,Q75='Practices & Techniques'!A$80),\"N/A\",SUM(R$12:R$16)+SUM(R71:R75))","v":0},{"$f":"IF(OR(Q71='Practices & Techniques'!A$80,Q72='Practices & Techniques'!A$80,Q73='Practices & Techniques'!A$80,Q74='Practices & Techniques'!A$80,Q75='Practices & Techniques'!A$80),\"N/A\",SUM(S$12:S$16)+SUM(S71:S75))","v":0},null,{"$f":"IF(OR(Q71='Practices & Techniques'!A$80,Q72='Practices & Techniques'!A$80,Q73='Practices & Techniques'!A$80,Q74='Practices & Techniques'!A$80,Q75='Practices & Techniques'!A$80),\"N/A\",SUM(U$12:U$16)+SUM(U71:U75))","v":0},{"$f":"IF(OR(Q71='Practices & Techniques'!A$80,Q72='Practices & Techniques'!A$80,Q73='Practices & Techniques'!A$80,Q74='Practices & Techniques'!A$80,Q75='Practices & Techniques'!A$80),\"N/A\",SUM(V$12:V$16)+SUM(V71:V75))","v":0},null,{"$f":"IF(B71=\"\",\"\",1)","v":""},false,{"$f":"'Practices & Techniques'!A54","v":"Application Timing - Ambient Temperature"}]
[null,null,null,null,null,null,null,null,null,null,null,null,null,null,null,null,null,{"$f":"IF($Q72=\"\",\"\",VLOOKUP($Q72,'Practices & Techniques'!$A$6:$F$114,3,FALSE))","v":""},{"$f":"IF($Q72=\"\",\"\",VLOOKUP($Q72,'Practices & Techniques'!$A$6:$F$114,4,FALSE))","v":""},{"$f":"IF($Q72=\"\",\"\",VLOOKUP($Q72,'Practices & Techniques'!$A$6:$F$114,5,FALSE))","v":""},{"$f":"IF($Q72=\"\",\"\",VLOOKUP($Q72,'Practices & Techniques'!$A$6:$F$114,6,FALSE))","v":""},{"$f":"IF($Q72=\"\",\"\",VLOOKUP($Q72,'Practices & Techniques'!$A$6:$G$114,7,FALSE))","v":""},null,null,null,null,null,null,{"$f":"IF(B71=\"\",\"\",1)","v":""},false,{"$f":"'Practices & Techniques'!A55","v":"Application Timing - Rain"}]
["P",null,null,null,null,null,"Fish",{"$f":"IF(CL21=\"\",\"\",(CL21))","v":""},"Fish",{"$f":"IF(CM21=\"\",\"\",(CM21))","v":""},"Fish",{"$f":"IF(CK21=\"\",\"\",(CK21))","v":""},null,null,null,"Pollinators-Direct Contact",null,{"$f":"IF($Q73=\"\",\"\",VLOOKUP($Q73,'Practices & Techniques'!$A$6:$F$114,3,FALSE))","v":""},{"$f":"IF($Q73=\"\",\"\",VLOOKUP($Q73,'Practices & Techniques'!$A$6:$F$114,4,FALSE))","v":""},{"$f":"IF($Q73=\"\",\"\",VLOOKUP($Q73,'Practices & Techniques'!$A$6:$F$114,5,FALSE))","v":""},{"$f":"IF($Q73=\"\",\"\",VLOOKUP($Q73,'Practices & Techniques'!$A$6:$F$114,6,FALSE))","v":""},{"$f":"IF($Q73=\"\",\"\",VLOOKUP($Q73,'Practices & Techniques'!$A$6:$G$114,7,FALSE))","v":""},{"$f":"IF(OR(Q71='Practices & Techniques'!A$80,Q72='Practices & Techniques'!A$80,Q73='Practices & Techniques'!A$80,Q74='Practices & Techniques'!A$80,Q75='Practices & Techniques'!A$80),\"N/A\",SUM(R$12:R$16)+SUM(R71:R75))","v":0},{"$f":"IF(OR(Q71='Practices & Techniques'!A$80,Q72='Practices & Techniques'!A$80,Q73='Practices & Techniques'!A$80,Q74='Practices & Techniques'!A$80,Q75='Practices & Techniques'!A$80),\"N/A\",SUM(S$12:S$16)+SUM(S71:S75))","v":0},{"$f":"IF(OR(Q71='Practices & Techniques'!A$80,Q72='Practices & Techniques'!A$80,Q73='Practices & Techniques'!A$80,Q74='Practices & Techniques'!A$80,Q75='Practices & Techniques'!A$80),\"N/A\",SUM(T$12:T$16)+SUM(T71:T75))","v":0},{"$f":"IF(OR(Q71='Practices & Techniques'!A$80,Q72='Practices & Techniques'!A$80,Q73='Practices & Techniques'!A$80,Q74='Practices & Techniques'!A$80,Q75='Practices & Techniques'!A$80),\"N/A\",SUM(U$12:U$16)+SUM(U71:U75))","v":0},null,null,{"$f":"IF(B71=\"\",\"\",1)","v":""},false,{"$f":"'Practices & Techniques'!A56","v":"Application Timing - Relative Humidity"},null,null,null,null,null,null,null,null,null,null,null,null,null,null,null,null,null,null,null,null,null,null,null,null,null,null,null,null,null,null,null,null,null,null,null,null,null,null,null,null,null,null,null,null,null,null,null,null,null,null,null,null,null,null,null,null,null,null,null,null,null,null,null,null,null,null,null,null,null,null,null,null,-8]
[null,null,null,null,null,null,null,null,null,null,null,null,null,null,null,null,null,{"$f":"IF($Q74=\"\",\"\",VLOOKUP($Q74,'Practices & Techniques'!$A$6:$F$114,3,FALSE))","v":""},{"$f":"IF($Q74=\"\",\"\",VLOOKUP($Q74,'Practices & Techniques'!$A$6:$F$114,4,FALSE))","v":""},{"$f":"IF($Q74=\"\",\"\",VLOOKUP($Q74,'Practices & Techniques'!$A$6:$F$114,5,FALSE))","v":""},{"$f":"IF($Q74=\"\",\"\",VLOOKUP($Q74,'Practices & Techniques'!$A$6:$F$114,6,FALSE))","v":""},{"$f":"IF($Q74=\"\",\"\",VLOOKUP($Q74,'Practices & Techniques'!$A$6:$G$114,7,FALSE))","v":""},null,null,null,null,null,null,{"$f":"IF(B71=\"\",\"\",1)","v":""},false,{"$f":"'Practices & Techniques'!A57","v":"Application Timing - Wind    "}]
[null,null,null,null,null,null,null,null,null,null,null,null,null,null,null,"  Drift",null,{"$f":"IF($Q75=\"\",\"\",VLOOKUP($Q75,'Practices & Techniques'!$A$6:$F$114,3,FALSE))","v":""},{"$f":"IF($Q75=\"\",\"\",VLOOKUP($Q75,'Practices & Techniques'!$A$6:$F$114,4,FALSE))","v":""},{"$f":"IF($Q75=\"\",\"\",VLOOKUP($Q75,'Practices & Techniques'!$A$6:$F$114,5,FALSE))","v":""},{"$f":"IF($Q75=\"\",\"\",VLOOKUP($Q75,'Practices & Techniques'!$A$6:$F$114,6,FALSE))","v":""},{"$f":"IF($Q75=\"\",\"\",VLOOKUP($Q75,'Practices & Techniques'!$A$6:$G$114,7,FALSE))","v":""},null,null,null,null,null,null,{"$f":"IF(B71=\"\",\"\",1)","v":""},false,{"$f":"'Practices & Techniques'!A58","v":"Formulations and Adjuvants"}]
["M",{"$f":"IF(AJ22=\"\",\"\",(AJ22))","v":""},{"$f":"IF(AL22=\"\",\"\", (AL22))","v":""},null,{"$f":"IF(AY22=\"\",\"\", (AY22))","v":""},{"$f":"IF(BB22=\"\",\"\",(BB22))","v":""},"Human",{"$f":"IF(CN22=\"\",\"\",(CN22))","v":""},"Human",{"$f":"IF(CO22=\"\",\"\",(CO22))","v":""},null,null,{"$f":"IF(BL22=\"\",\"\", (BL22))","v":""},{"$f":"IF(BM22=\"\",\"\", (BM22))","v":""},{"$f":"IF(BN22=\"\",\"\", (BN22))","v":""},"Volatilization",null,{"$f":"IF($Q76=\"\",\"\",VLOOKUP($Q76,'Practices & Techniques'!$A$6:$F$114,3,FALSE))","v":""},{"$f":"IF($Q76=\"\",\"\",VLOOKUP($Q76,'Practices & Techniques'!$A$6:$F$114,4,FALSE))","v":""},{"$f":"IF($Q76=\"\",\"\",VLOOKUP($Q76,'Practices & Techniques'!$A$6:$F$114,5,FALSE))","v":""},{"$f":"IF($Q76=\"\",\"\",VLOOKUP($Q76,'Practices & Techniques'!$A$6:$F$114,6,FALSE))","v":""},{"$f":"IF($Q76=\"\",\"\",VLOOKUP($Q76,'Practices & Techniques'!$A$6:$G$114,7,FALSE))","v":""},{"$f":"IF(OR(Q76='Practices & Techniques'!A$80,Q77='Practices & Techniques'!A$80,Q78='Practices & Techniques'!A$80,Q79='Practices & Techniques'!A$80,Q80='Practices & Techniques'!A$80),\"N/A\",SUM(R$12:R$16)+SUM(R76:R80))","v":0},{"$f":"IF(OR(Q76='Practices & Techniques'!A$80,Q77='Practices & Techniques'!A$80,Q78='Practices & Techniques'!A$80,Q79='Practices & Techniques'!A$80,Q80='Practices & Techniques'!A$80),\"N/A\",SUM(S$12:S$16)+SUM(S76:S80))","v":0},null,{"$f":"IF(OR(Q76='Practices & Techniques'!A$80,Q77='Practices & Techniques'!A$80,Q78='Practices & Techniques'!A$80,Q79='Practices & Techniques'!A$80,Q80='Practices & Techniques'!A$80),\"N/A\",SUM(U$12:U$16)+SUM(U76:U80))","v":0},{"$f":"IF(OR(Q76='Practices & Techniques'!A$80,Q77='Practices & Techniques'!A$80,Q78='Practices & Techniques'!A$80,Q79='Practices & Techniques'!A$80,Q80='Practices & Techniques'!A$80),\"N/A\",SUM(V$12:V$16)+SUM(V76:V80))","v":0},null,{"$f":"IF(B76=\"\",\"\",1)","v":""},false,{"$f":"'Practices & Techniques'!A59","v":"Monitoring & Economic Pest Thresholds."}]
[null,null,null,null,null,null,null,null,null,null,null,null,null,null,null,null,null,{"$f":"IF($Q77=\"\",\"\",VLOOKUP($Q77,'Practices & Techniques'!$A$6:$F$114,3,FALSE))","v":""},{"$f":"IF($Q77=\"\",\"\",VLOOKUP($Q77,'Practices & Techniques'!$A$6:$F$114,4,FALSE))","v":""},{"$f":"IF($Q77=\"\",\"\",VLOOKUP($Q77,'Practices & Techniques'!$A$6:$F$114,5,FALSE))","v":""},{"$f":"IF($Q77=\"\",\"\",VLOOKUP($Q77,'Practices & Techniques'!$A$6:$F$114,6,FALSE))","v":""},{"$f":"IF($Q77=\"\",\"\",VLOOKUP($Q77,'Practices & Techniques'!$A$6:$G$114,7,FALSE))","v":""},null,null,null,null,null,null,{"$f":"IF(B76=\"\",\"\",1)","v":""},false,{"$f":"'Practices & Techniques'!A60","v":"Partial Substitution"}]
["P",null,null,null,null,null,"Fish",{"$f":"IF(CL22=\"\",\"\",(CL22))","v":""},"Fish",{"$f":"IF(CM22=\"\",\"\",(CM22))","v":""},"Fish",{"$f":"IF(CK22=\"\",\"\",(CK22))","v":""},null,null,null,"Pollinators-Direct Contact",null,{"$f":"IF($Q78=\"\",\"\",VLOOKUP($Q78,'Practices & Techniques'!$A$6:$F$114,3,FALSE))","v":""},{"$f":"IF($Q78=\"\",\"\",VLOOKUP($Q78,'Practices & Techniques'!$A$6:$F$114,4,FALSE))","v":""},{"$f":"IF($Q78=\"\",\"\",VLOOKUP($Q78,'Practices & Techniques'!$A$6:$F$114,5,FALSE))","v":""},{"$f":"IF($Q78=\"\",\"\",VLOOKUP($Q78,'Practices & Techniques'!$A$6:$F$114,6,FALSE))","v":""},{"$f":"IF($Q78=\"\",\"\",VLOOKUP($Q78,'Practices & Techniques'!$A$6:$G$114,7,FALSE))","v":""},{"$f":"IF(OR(Q76='Practices & Techniques'!A$80,Q77='Practices & Techniques'!A$80,Q78='Practices & Techniques'!A$80,Q79='Practices & Techniques'!A$80,Q80='Practices & Techniques'!A$80),\"N/A\",SUM(R$12:R$16)+SUM(R76:R80))","v":0},{"$f":"IF(OR(Q76='Practices & Techniques'!A$80,Q77='Practices & Techniques'!A$80,Q78='Practices & Techniques'!A$80,Q79='Practices & Techniques'!A$80,Q80='Practices & Techniques'!A$80),\"N/A\",SUM(S$12:S$16)+SUM(S76:S80))","v":0},{"$f":"IF(OR(Q76='Practices & Techniques'!A$80,Q77='Practices & Techniques'!A$80,Q78='Practices & Techniques'!A$80,Q79='Practices & Techniques'!A$80,Q80='Practices & Techniques'!A$80),\"N/A\",SUM(T$12:T$16)+SUM(T76:T80))","v":0},{"$f":"IF(OR(Q76='Practices & Techniques'!A$80,Q77='Practices & Techniques'!A$80,Q78='Practices & Techniques'!A$80,Q79='Practices & Techniques'!A$80,Q80='Practices & Techniques'!A$80),\"N/A\",SUM(U$12:U$16)+SUM(U76:U80))","v":0},null,null,{"$f":"IF(B76=\"\",\"\",1)","v":""},false,{"$f":"'Practices & Techniques'!A61","v":"Setback (100') "},null,null,null,null,null,null,null,null,null,null,null,null,null,null,null,null,null,null,null,null,null,null,null,null,null,null,null,null,null,null,null,null,null,null,null,null,null,null,null,null,null,null,null,null,null,null,null,null,null,null,null,null,null,null,null,null,null,null,null,null,null,null,null,null,null,null,null,null,null,null,null,null,-8]
[null,null,null,null,null,null,null,null,null,null,null,null,null,null,null,null,null,{"$f":"IF($Q79=\"\",\"\",VLOOKUP($Q79,'Practices & Techniques'!$A$6:$F$114,3,FALSE))","v":""},{"$f":"IF($Q79=\"\",\"\",VLOOKUP($Q79,'Practices & Techniques'!$A$6:$F$114,4,FALSE))","v":""},{"$f":"IF($Q79=\"\",\"\",VLOOKUP($Q79,'Practices & Techniques'!$A$6:$F$114,5,FALSE))","v":""},{"$f":"IF($Q79=\"\",\"\",VLOOKUP($Q79,'Practices & Techniques'!$A$6:$F$114,6,FALSE))","v":""},{"$f":"IF($Q79=\"\",\"\",VLOOKUP($Q79,'Practices & Techniques'!$A$6:$G$114,7,FALSE))","v":""},null,null,null,null,null,null,{"$f":"IF(B76=\"\",\"\",1)","v":""},false,{"$f":"'Practices & Techniques'!A62","v":"Setback (30') "}]
[null,null,null,null,null,null,null,null,null,null,null,null,null,null,null,"  Drift",null,{"$f":"IF($Q80=\"\",\"\",VLOOKUP($Q80,'Practices & Techniques'!$A$6:$F$114,3,FALSE))","v":""},{"$f":"IF($Q80=\"\",\"\",VLOOKUP($Q80,'Practices & Techniques'!$A$6:$F$114,4,FALSE))","v":""},{"$f":"IF($Q80=\"\",\"\",VLOOKUP($Q80,'Practices & Techniques'!$A$6:$F$114,5,FALSE))","v":""},{"$f":"IF($Q80=\"\",\"\",VLOOKUP($Q80,'Practices & Techniques'!$A$6:$F$114,6,FALSE))","v":""},{"$f":"IF($Q80=\"\",\"\",VLOOKUP($Q80,'Practices & Techniques'!$A$6:$G$114,7,FALSE))","v":""},null,null,null,null,null,null,{"$f":"IF(B76=\"\",\"\",1)","v":""},false,{"$f":"'Practices & Techniques'!A63","v":"Spray Nozzle Selection, Maintenance and Operation."}]
["M",{"$f":"IF(AJ23=\"\",\"\",(AJ23))","v":""},{"$f":"IF(AL23=\"\",\"\", (AL23))","v":""},null,{"$f":"IF(AY23=\"\",\"\", (AY23))","v":""},{"$f":"IF(BB23=\"\",\"\",(BB23))","v":""},"Human",{"$f":"IF(CN23=\"\",\"\",(CN23))","v":""},"Human",{"$f":"IF(CO23=\"\",\"\",(CO23))","v":""},null,null,{"$f":"IF(BL23=\"\",\"\", (BL23))","v":""},{"$f":"IF(BM23=\"\",\"\", (BM23))","v":""},{"$f":"IF(BN23=\"\",\"\", (BN23))","v":""},"Volatilization",null,{"$f":"IF($Q81=\"\",\"\",VLOOKUP($Q81,'Practices & Techniques'!$A$6:$F$114,3,FALSE))","v":""},{"$f":"IF($Q81=\"\",\"\",VLOOKUP($Q81,'Practices & Techniques'!$A$6:$F$114,4,FALSE))","v":""},{"$f":"IF($Q81=\"\",\"\",VLOOKUP($Q81,'Practices & Techniques'!$A$6:$F$114,5,FALSE))","v":""},{"$f":"IF($Q81=\"\",\"\",VLOOKUP($Q81,'Practices & Techniques'!$A$6:$F$114,6,FALSE))","v":""},{"$f":"IF($Q81=\"\",\"\",VLOOKUP($Q81,'Practices & Techniques'!$A$6:$G$114,7,FALSE))","v":""},{"$f":"IF(OR(Q81='Practices & Techniques'!A$80,Q82='Practices & Techniques'!A$80,Q83='Practices & Techniques'!A$80,Q84='Practices & Techniques'!A$80,Q85='Practices & Techniques'!A$80),\"N/A\",SUM(R$12:R$16)+SUM(R81:R85))","v":0},{"$f":"IF(OR(Q81='Practices & Techniques'!A$80,Q82='Practices & Techniques'!A$80,Q83='Practices & Techniques'!A$80,Q84='Practices & Techniques'!A$80,Q85='Practices & Techniques'!A$80),\"N/A\",SUM(S$12:S$16)+SUM(S81:S85))","v":0},null,{"$f":"IF(OR(Q81='Practices & Techniques'!A$80,Q82='Practices & Techniques'!A$80,Q83='Practices & Techniques'!A$80,Q84='Practices & Techniques'!A$80,Q85='Practices & Techniques'!A$80),\"N/A\",SUM(U$12:U$16)+SUM(U81:U85))","v":0},{"$f":"IF(OR(Q81='Practices & Techniques'!A$80,Q82='Practices & Techniques'!A$80,Q83='Practices & Techniques'!A$80,Q84='Practices & Techniques'!A$80,Q85='Practices & Techniques'!A$80),\"N/A\",SUM(V$12:V$16)+SUM(V81:V85))","v":0},null,{"$f":"IF(B81=\"\",\"\",1)","v":""},false,{"$f":"'Practices & Techniques'!A64","v":"Application at Night: High to Mod. Toxicity and Long Residual Toxicity"}]
[null,null,null,null,null,null,null,null,null,null,null,null,null,null,null,null,null,{"$f":"IF($Q82=\"\",\"\",VLOOKUP($Q82,'Practices & Techniques'!$A$6:$F$114,3,FALSE))","v":""},{"$f":"IF($Q82=\"\",\"\",VLOOKUP($Q82,'Practices & Techniques'!$A$6:$F$114,4,FALSE))","v":""},{"$f":"IF($Q82=\"\",\"\",VLOOKUP($Q82,'Practices & Techniques'!$A$6:$F$114,5,FALSE))","v":""},{"$f":"IF($Q82=\"\",\"\",VLOOKUP($Q82,'Practices & Techniques'!$A$6:$F$114,6,FALSE))","v":""},{"$f":"IF($Q82=\"\",\"\",VLOOKUP($Q82,'Practices & Techniques'!$A$6:$G$114,7,FALSE))","v":""},null,null,null,null,null,null,{"$f":"IF(B81=\"\",\"\",1)","v":""},false,{"$f":"'Practices & Techniques'!A65","v":"Application at Night: High Toxicity and Short Residual Toxicity"}]
["P",null,null,null,null,null,"Fish",{"$f":"IF(CL23=\"\",\"\",(CL23))","v":""},"Fish",{"$f":"IF(CM23=\"\",\"\",(CM23))","v":""},"Fish",{"$f":"IF(CK23=\"\",\"\",(CK23))","v":""},null,null,null,"Pollinators-Direct Contact",null,{"$f":"IF($Q83=\"\",\"\",VLOOKUP($Q83,'Practices & Techniques'!$A$6:$F$114,3,FALSE))","v":""},{"$f":"IF($Q83=\"\",\"\",VLOOKUP($Q83,'Practices & Techniques'!$A$6:$F$114,4,FALSE))","v":""},{"$f":"IF($Q83=\"\",\"\",VLOOKUP($Q83,'Practices & Techniques'!$A$6:$F$114,5,FALSE))","v":""},{"$f":"IF($Q83=\"\",\"\",VLOOKUP($Q83,'Practices & Techniques'!$A$6:$F$114,6,FALSE))","v":""},{"$f":"IF($Q83=\"\",\"\",VLOOKUP($Q83,'Practices & Techniques'!$A$6:$G$114,7,FALSE))","v":""},{"$f":"IF(OR(Q81='Practices & Techniques'!A$80,Q82='Practices & Techniques'!A$80,Q83='Practices & Techniques'!A$80,Q84='Practices & Techniques'!A$80,Q85='Practices & Techniques'!A$80),\"N/A\",SUM(R$12:R$16)+SUM(R81:R85))","v":0},{"$f":"IF(OR(Q81='Practices & Techniques'!A$80,Q82='Practices & Techniques'!A$80,Q83='Practices & Techniques'!A$80,Q84='Practices & Techniques'!A$80,Q85='Practices & Techniques'!A$80),\"N/A\",SUM(S$12:S$16)+SUM(S81:S85))","v":0},{"$f":"IF(OR(Q81='Practices & Techniques'!A$80,Q82='Practices & Techniques'!A$80,Q83='Practices & Techniques'!A$80,Q84='Practices & Techniques'!A$80,Q85='Practices & Techniques'!A$80),\"N/A\",SUM(T$12:T$16)+SUM(T81:T85))","v":0},{"$f":"IF(OR(Q81='Practices & Techniques'!A$80,Q82='Practices & Techniques'!A$80,Q83='Practices & Techniques'!A$80,Q84='Practices & Techniques'!A$80,Q85='Practices & Techniques'!A$80),\"N/A\",SUM(U$12:U$16)+SUM(U81:U85))","v":0},null,null,{"$f":"IF(B81=\"\",\"\",1)","v":""},false,{"$f":"'Practices & Techniques'!A66","v":"Application at Night: Mod. To Low Toxicity and Short Residual Toxicity"},null,null,null,null,null,null,null,null,null,null,null,null,null,null,null,null,null,null,null,null,null,null,null,null,null,null,null,null,null,null,null,null,null,null,null,null,null,null,null,null,null,null,null,null,null,null,null,null,null,null,null,null,null,null,null,null,null,null,null,null,null,null,null,null,null,null,null,null,null,null,null,null,-8]
[null,null,null,null,null,null,null,null,null,null,null,null,null,null,null,null,null,{"$f":"IF($Q84=\"\",\"\",VLOOKUP($Q84,'Practices & Techniques'!$A$6:$F$114,3,FALSE))","v":""},{"$f":"IF($Q84=\"\",\"\",VLOOKUP($Q84,'Practices & Techniques'!$A$6:$F$114,4,FALSE))","v":""},{"$f":"IF($Q84=\"\",\"\",VLOOKUP($Q84,'Practices & Techniques'!$A$6:$F$114,5,FALSE))","v":""},{"$f":"IF($Q84=\"\",\"\",VLOOKUP($Q84,'Practices & Techniques'!$A$6:$F$114,6,FALSE))","v":""},{"$f":"IF($Q84=\"\",\"\",VLOOKUP($Q84,'Practices & Techniques'!$A$6:$G$114,7,FALSE))","v":""},null,null,null,null,null,null,{"$f":"IF(B81=\"\",\"\",1)","v":""},false,{"$f":"'Practices & Techniques'!A67","v":"Application of Non-Systemic Insecticide When Perennial Crop is Not in Bloom"}]
[null,null,null,null,null,null,null,null,null,null,null,null,null,null,null,"  Drift",null,{"$f":"IF($Q85=\"\",\"\",VLOOKUP($Q85,'Practices & Techniques'!$A$6:$F$114,3,FALSE))","v":""},{"$f":"IF($Q85=\"\",\"\",VLOOKUP($Q85,'Practices & Techniques'!$A$6:$F$114,4,FALSE))","v":""},{"$f":"IF($Q85=\"\",\"\",VLOOKUP($Q85,'Practices & Techniques'!$A$6:$F$114,5,FALSE))","v":""},{"$f":"IF($Q85=\"\",\"\",VLOOKUP($Q85,'Practices & Techniques'!$A$6:$F$114,6,FALSE))","v":""},{"$f":"IF($Q85=\"\",\"\",VLOOKUP($Q85,'Practices & Techniques'!$A$6:$G$114,7,FALSE))","v":""},null,null,null,null,null,null,{"$f":"IF(B81=\"\",\"\",1)","v":""},false,{"$f":"'Practices & Techniques'!A68","v":"Application of Non-Systemic Insecticide When Annual Crop is  Not in Bloom"}]
["M",{"$f":"IF(AJ24=\"\",\"\",(AJ24))","v":""},{"$f":"IF(AL24=\"\",\"\", (AL24))","v":""},null,{"$f":"IF(AY24=\"\",\"\", (AY24))","v":""},{"$f":"IF(BB24=\"\",\"\",(BB24))","v":""},"Human",{"$f":"IF(CN24=\"\",\"\",(CN24))","v":""},"Human",{"$f":"IF(CO24=\"\",\"\",(CO24))","v":""},null,null,{"$f":"IF(BL24=\"\",\"\", (BL24))","v":""},{"$f":"IF(BM24=\"\",\"\", (BM24))","v":""},{"$f":"IF(BN24=\"\",\"\", (BN24))","v":""},"Volatilization",null,{"$f":"IF($Q86=\"\",\"\",VLOOKUP($Q86,'Practices & Techniques'!$A$6:$F$114,3,FALSE))","v":""},{"$f":"IF($Q86=\"\",\"\",VLOOKUP($Q86,'Practices & Techniques'!$A$6:$F$114,4,FALSE))","v":""},{"$f":"IF($Q86=\"\",\"\",VLOOKUP($Q86,'Practices & Techniques'!$A$6:$F$114,5,FALSE))","v":""},{"$f":"IF($Q86=\"\",\"\",VLOOKUP($Q86,'Practices & Techniques'!$A$6:$F$114,6,FALSE))","v":""},{"$f":"IF($Q86=\"\",\"\",VLOOKUP($Q86,'Practices & Techniques'!$A$6:$G$114,7,FALSE))","v":""},{"$f":"IF(OR(Q86='Practices & Techniques'!A$80,Q87='Practices & Techniques'!A$80,Q88='Practices & Techniques'!A$80,Q89='Practices & Techniques'!A$80,Q90='Practices & Techniques'!A$80),\"N/A\",SUM(R$12:R$16)+SUM(R86:R90))","v":0},{"$f":"IF(OR(Q86='Practices & Techniques'!A$80,Q87='Practices & Techniques'!A$80,Q88='Practices & Techniques'!A$80,Q89='Practices & Techniques'!A$80,Q90='Practices & Techniques'!A$80),\"N/A\",SUM(S$12:S$16)+SUM(S86:S90))","v":0},null,{"$f":"IF(OR(Q86='Practices & Techniques'!A$80,Q87='Practices & Techniques'!A$80,Q88='Practices & Techniques'!A$80,Q89='Practices & Techniques'!A$80,Q90='Practices & Techniques'!A$80),\"N/A\",SUM(U$12:U$16)+SUM(U86:U90))","v":0},{"$f":"IF(OR(Q86='Practices & Techniques'!A$80,Q87='Practices & Techniques'!A$80,Q88='Practices & Techniques'!A$80,Q89='Practices & Techniques'!A$80,Q90='Practices & Techniques'!A$80),\"N/A\",SUM(V$12:V$16)+SUM(V86:V90))","v":0},null,{"$f":"IF(B86=\"\",\"\",1)","v":""},false,{"$f":"'Practices & Techniques'!A69","v":"Application of Highly Toxic Systemic Insecticide After Perennial Crop Bloom"}]
[null,null,null,null,null,null,null,null,null,null,null,null,null,null,null,null,null,{"$f":"IF($Q87=\"\",\"\",VLOOKUP($Q87,'Practices & Techniques'!$A$6:$F$114,3,FALSE))","v":""},{"$f":"IF($Q87=\"\",\"\",VLOOKUP($Q87,'Practices & Techniques'!$A$6:$F$114,4,FALSE))","v":""},{"$f":"IF($Q87=\"\",\"\",VLOOKUP($Q87,'Practices & Techniques'!$A$6:$F$114,5,FALSE))","v":""},{"$f":"IF($Q87=\"\",\"\",VLOOKUP($Q87,'Practices & Techniques'!$A$6:$F$114,6,FALSE))","v":""},{"$f":"IF($Q87=\"\",\"\",VLOOKUP($Q87,'Practices & Techniques'!$A$6:$G$114,7,FALSE))","v":""},null,null,null,null,null,null,{"$f":"IF(B86=\"\",\"\",1)","v":""},false,{"$f":"'Practices & Techniques'!A70","v":"Application of Mod. Toxic Systemic Insecticide After Perennial Crop Bloom"}]
["P",null,null,null,null,null,"Fish",{"$f":"IF(CL24=\"\",\"\",(CL24))","v":""},"Fish",{"$f":"IF(CM24=\"\",\"\",(CM24))","v":""},"Fish",{"$f":"IF(CK24=\"\",\"\",(CK24))","v":""},null,null,null,"Pollinators-Direct Contact",null,{"$f":"IF($Q88=\"\",\"\",VLOOKUP($Q88,'Practices & Techniques'!$A$6:$F$114,3,FALSE))","v":""},{"$f":"IF($Q88=\"\",\"\",VLOOKUP($Q88,'Practices & Techniques'!$A$6:$F$114,4,FALSE))","v":""},{"$f":"IF($Q88=\"\",\"\",VLOOKUP($Q88,'Practices & Techniques'!$A$6:$F$114,5,FALSE))","v":""},{"$f":"IF($Q88=\"\",\"\",VLOOKUP($Q88,'Practices & Techniques'!$A$6:$F$114,6,FALSE))","v":""},{"$f":"IF($Q88=\"\",\"\",VLOOKUP($Q88,'Practices & Techniques'!$A$6:$G$114,7,FALSE))","v":""},{"$f":"IF(OR(Q86='Practices & Techniques'!A$80,Q87='Practices & Techniques'!A$80,Q88='Practices & Techniques'!A$80,Q89='Practices & Techniques'!A$80,Q90='Practices & Techniques'!A$80),\"N/A\",SUM(R$12:R$16)+SUM(R86:R90))","v":0},{"$f":"IF(OR(Q86='Practices & Techniques'!A$80,Q87='Practices & Techniques'!A$80,Q88='Practices & Techniques'!A$80,Q89='Practices & Techniques'!A$80,Q90='Practices & Techniques'!A$80),\"N/A\",SUM(S$12:S$16)+SUM(S86:S90))","v":0},{"$f":"IF(OR(Q86='Practices & Techniques'!A$80,Q87='Practices & Techniques'!A$80,Q88='Practices & Techniques'!A$80,Q89='Practices & Techniques'!A$80,Q90='Practices & Techniques'!A$80),\"N/A\",SUM(T$12:T$16)+SUM(T86:T90))","v":0},{"$f":"IF(OR(Q86='Practices & Techniques'!A$80,Q87='Practices & Techniques'!A$80,Q88='Practices & Techniques'!A$80,Q89='Practices & Techniques'!A$80,Q90='Practices & Techniques'!A$80),\"N/A\",SUM(U$12:U$16)+SUM(U86:U90))","v":0},null,null,{"$f":"IF(B86=\"\",\"\",1)","v":""},false,{"$f":"'Practices & Techniques'!A71","v":"Application of Highly Toxic Systemic Insecticide with Relatively Long Soil Half-Life After Annual Crop Bloom"},null,null,null,null,null,null,null,null,null,null,null,null,null,null,null,null,null,null,null,null,null,null,null,null,null,null,null,null,null,null,null,null,null,null,null,null,null,null,null,null,null,null,null,null,null,null,null,null,null,null,null,null,null,null,null,null,null,null,null,null,null,null,null,null,null,null,null,null,null,null,null,null,-8]
[null,null,null,null,null,null,null,null,null,null,null,null,null,null,null,null,null,{"$f":"IF($Q89=\"\",\"\",VLOOKUP($Q89,'Practices & Techniques'!$A$6:$F$114,3,FALSE))","v":""},{"$f":"IF($Q89=\"\",\"\",VLOOKUP($Q89,'Practices & Techniques'!$A$6:$F$114,4,FALSE))","v":""},{"$f":"IF($Q89=\"\",\"\",VLOOKUP($Q89,'Practices & Techniques'!$A$6:$F$114,5,FALSE))","v":""},{"$f":"IF($Q89=\"\",\"\",VLOOKUP($Q89,'Practices & Techniques'!$A$6:$F$114,6,FALSE))","v":""},{"$f":"IF($Q89=\"\",\"\",VLOOKUP($Q89,'Practices & Techniques'!$A$6:$G$114,7,FALSE))","v":""},null,null,null,null,null,null,{"$f":"IF(B86=\"\",\"\",1)","v":""},false,{"$f":"'Practices & Techniques'!A72","v":"Application of Mod. Toxic Systemic Insecticide with Relatively Short Soil Half-Life After Annual Crop Bloom"}]
[null,null,null,null,null,null,null,null,null,null,null,null,null,null,null,"  Drift",null,{"$f":"IF($Q90=\"\",\"\",VLOOKUP($Q90,'Practices & Techniques'!$A$6:$F$114,3,FALSE))","v":""},{"$f":"IF($Q90=\"\",\"\",VLOOKUP($Q90,'Practices & Techniques'!$A$6:$F$114,4,FALSE))","v":""},{"$f":"IF($Q90=\"\",\"\",VLOOKUP($Q90,'Practices & Techniques'!$A$6:$F$114,5,FALSE))","v":""},{"$f":"IF($Q90=\"\",\"\",VLOOKUP($Q90,'Practices & Techniques'!$A$6:$F$114,6,FALSE))","v":""},{"$f":"IF($Q90=\"\",\"\",VLOOKUP($Q90,'Practices & Techniques'!$A$6:$G$114,7,FALSE))","v":""},null,null,null,null,null,null,{"$f":"IF(B86=\"\",\"\",1)","v":""},false,{"$f":"'Practices & Techniques'!A73","v":"In-field Bloom Removal Prior to Application of Non-Systemic Mod. to Highly Toxic Insecticide in Perennial Crop"}]
["M",{"$f":"IF(AJ25=\"\",\"\",(AJ25))","v":""},{"$f":"IF(AL25=\"\",\"\", (AL25))","v":""},null,{"$f":"IF(AY25=\"\",\"\", (AY25))","v":""},{"$f":"IF(BB25=\"\",\"\",(BB25))","v":""},"Human",{"$f":"IF(CN25=\"\",\"\",(CN25))","v":""},"Human",{"$f":"IF(CO25=\"\",\"\",(CO25))","v":""},null,null,{"$f":"IF(BL25=\"\",\"\", (BL25))","v":""},{"$f":"IF(BM25=\"\",\"\", (BM25))","v":""},{"$f":"IF(BN25=\"\",\"\", (BN25))","v":""},"Volatilization",null,{"$f":"IF($Q91=\"\",\"\",VLOOKUP($Q91,'Practices & Techniques'!$A$6:$F$114,3,FALSE))","v":""},{"$f":"IF($Q91=\"\",\"\",VLOOKUP($Q91,'Practices & Techniques'!$A$6:$F$114,4,FALSE))","v":""},{"$f":"IF($Q91=\"\",\"\",VLOOKUP($Q91,'Practices & Techniques'!$A$6:$F$114,5,FALSE))","v":""},{"$f":"IF($Q91=\"\",\"\",VLOOKUP($Q91,'Practices & Techniques'!$A$6:$F$114,6,FALSE))","v":""},{"$f":"IF($Q91=\"\",\"\",VLOOKUP($Q91,'Practices & Techniques'!$A$6:$G$114,7,FALSE))","v":""},{"$f":"IF(OR(Q91='Practices & Techniques'!A$80,Q92='Practices & Techniques'!A$80,Q93='Practices & Techniques'!A$80,Q94='Practices & Techniques'!A$80,Q95='Practices & Techniques'!A$80),\"N/A\",SUM(R$12:R$16)+SUM(R91:R95))","v":0},{"$f":"IF(OR(Q91='Practices & Techniques'!A$80,Q92='Practices & Techniques'!A$80,Q93='Practices & Techniques'!A$80,Q94='Practices & Techniques'!A$80,Q95='Practices & Techniques'!A$80),\"N/A\",SUM(S$12:S$16)+SUM(S91:S95))","v":0},null,{"$f":"IF(OR(Q91='Practices & Techniques'!A$80,Q92='Practices & Techniques'!A$80,Q93='Practices & Techniques'!A$80,Q94='Practices & Techniques'!A$80,Q95='Practices & Techniques'!A$80),\"N/A\",SUM(U$12:U$16)+SUM(U91:U95))","v":0},{"$f":"IF(OR(Q91='Practices & Techniques'!A$80,Q92='Practices & Techniques'!A$80,Q93='Practices & Techniques'!A$80,Q94='Practices & Techniques'!A$80,Q95='Practices & Techniques'!A$80),\"N/A\",SUM(V$12:V$16)+SUM(V91:V95))","v":0},null,{"$f":"IF(B91=\"\",\"\",1)","v":""},false,{"$f":"'Practices & Techniques'!A74","v":"In-field Bloom Removal Prior to Application of Highly Toxic Systemic Insecticides"}]
[null,null,null,null,null,null,null,null,null,null,null,null,null,null,null,null,null,{"$f":"IF($Q92=\"\",\"\",VLOOKUP($Q92,'Practices & Techniques'!$A$6:$F$114,3,FALSE))","v":""},{"$f":"IF($Q92=\"\",\"\",VLOOKUP($Q92,'Practices & Techniques'!$A$6:$F$114,4,FALSE))","v":""},{"$f":"IF($Q92=\"\",\"\",VLOOKUP($Q92,'Practices & Techniques'!$A$6:$F$114,5,FALSE))","v":""},{"$f":"IF($Q92=\"\",\"\",VLOOKUP($Q92,'Practices & Techniques'!$A$6:$F$114,6,FALSE))","v":""},{"$f":"IF($Q92=\"\",\"\",VLOOKUP($Q92,'Practices & Techniques'!$A$6:$G$114,7,FALSE))","v":""},null,null,null,null,null,null,{"$f":"IF(B91=\"\",\"\",1)","v":""},false,{"$f":"'Practices & Techniques'!A75","v":"In-field Bloom Removal Prior to Application of Mod. Toxic Systemic Insecticides"}]
["P",null,null,null,null,null,"Fish",{"$f":"IF(CL25=\"\",\"\",(CL25))","v":""},"Fish",{"$f":"IF(CM25=\"\",\"\",(CM25))","v":""},"Fish",{"$f":"IF(CK25=\"\",\"\",(CK25))","v":""},null,null,null,"Pollinators-Direct Contact",null,{"$f":"IF($Q93=\"\",\"\",VLOOKUP($Q93,'Practices & Techniques'!$A$6:$F$114,3,FALSE))","v":""},{"$f":"IF($Q93=\"\",\"\",VLOOKUP($Q93,'Practices & Techniques'!$A$6:$F$114,4,FALSE))","v":""},{"$f":"IF($Q93=\"\",\"\",VLOOKUP($Q93,'Practices & Techniques'!$A$6:$F$114,5,FALSE))","v":""},{"$f":"IF($Q93=\"\",\"\",VLOOKUP($Q93,'Practices & Techniques'!$A$6:$F$114,6,FALSE))","v":""},{"$f":"IF($Q93=\"\",\"\",VLOOKUP($Q93,'Practices & Techniques'!$A$6:$G$114,7,FALSE))","v":""},{"$f":"IF(OR(Q91='Practices & Techniques'!A$80,Q92='Practices & Techniques'!A$80,Q93='Practices & Techniques'!A$80,Q94='Practices & Techniques'!A$80,Q95='Practices & Techniques'!A$80),\"N/A\",SUM(R$12:R$16)+SUM(R91:R95))","v":0},{"$f":"IF(OR(Q91='Practices & Techniques'!A$80,Q92='Practices & Techniques'!A$80,Q93='Practices & Techniques'!A$80,Q94='Practices & Techniques'!A$80,Q95='Practices & Techniques'!A$80),\"N/A\",SUM(S$12:S$16)+SUM(S91:S95))","v":0},{"$f":"IF(OR(Q91='Practices & Techniques'!A$80,Q92='Practices & Techniques'!A$80,Q93='Practices & Techniques'!A$80,Q94='Practices & Techniques'!A$80,Q95='Practices & Techniques'!A$80),\"N/A\",SUM(T$12:T$16)+SUM(T91:T95))","v":0},{"$f":"IF(OR(Q91='Practices & Techniques'!A$80,Q92='Practices & Techniques'!A$80,Q93='Practices & Techniques'!A$80,Q94='Practices & Techniques'!A$80,Q95='Practices & Techniques'!A$80),\"N/A\",SUM(U$12:U$16)+SUM(U91:U95))","v":0},null,null,{"$f":"IF(B91=\"\",\"\",1)","v":""},false,{"$f":"'Practices & Techniques'!A76","v":"Electrostatic or Image-Responsive Sprayer Technology"},null,null,null,null,null,null,null,null,null,null,null,null,null,null,null,null,null,null,null,null,null,null,null,null,null,null,null,null,null,null,null,null,null,null,null,null,null,null,null,null,null,null,null,null,null,null,null,null,null,null,null,null,null,null,null,null,null,null,null,null,null,null,null,null,null,null,null,null,null,null,null,null,-8]
[null,null,null,null,null,null,null,null,null,null,null,null,null,null,null,null,null,{"$f":"IF($Q94=\"\",\"\",VLOOKUP($Q94,'Practices & Techniques'!$A$6:$F$114,3,FALSE))","v":""},{"$f":"IF($Q94=\"\",\"\",VLOOKUP($Q94,'Practices & Techniques'!$A$6:$F$114,4,FALSE))","v":""},{"$f":"IF($Q94=\"\",\"\",VLOOKUP($Q94,'Practices & Techniques'!$A$6:$F$114,5,FALSE))","v":""},{"$f":"IF($Q94=\"\",\"\",VLOOKUP($Q94,'Practices & Techniques'!$A$6:$F$114,6,FALSE))","v":""},{"$f":"IF($Q94=\"\",\"\",VLOOKUP($Q94,'Practices & Techniques'!$A$6:$G$114,7,FALSE))","v":""},null,null,null,null,null,null,{"$f":"IF(B91=\"\",\"\",1)","v":""},false,{"$f":"'Practices & Techniques'!A77","v":"Formulation Substitution for Non-Systemic Pesticide (e.g. Dust or Liquid to Granular)"}]
[null,null,null,null,null,null,null,null,null,null,null,null,null,null,null,"  Drift",null,{"$f":"IF($Q95=\"\",\"\",VLOOKUP($Q95,'Practices & Techniques'!$A$6:$F$114,3,FALSE))","v":""},{"$f":"IF($Q95=\"\",\"\",VLOOKUP($Q95,'Practices & Techniques'!$A$6:$F$114,4,FALSE))","v":""},{"$f":"IF($Q95=\"\",\"\",VLOOKUP($Q95,'Practices & Techniques'!$A$6:$F$114,5,FALSE))","v":""},{"$f":"IF($Q95=\"\",\"\",VLOOKUP($Q95,'Practices & Techniques'!$A$6:$F$114,6,FALSE))","v":""},{"$f":"IF($Q95=\"\",\"\",VLOOKUP($Q95,'Practices & Techniques'!$A$6:$G$114,7,FALSE))","v":""},null,null,null,null,null,null,{"$f":"IF(B91=\"\",\"\",1)","v":""},false,{"$f":"'Practices & Techniques'!A78","v":"Monitoring and Economic Pest Thresholds: Pesticide with Long Residual Toxicity"}]
["M",{"$f":"IF(AJ26=\"\",\"\",(AJ26))","v":""},{"$f":"IF(AL26=\"\",\"\", (AL26))","v":""},null,{"$f":"IF(AY26=\"\",\"\", (AY26))","v":""},{"$f":"IF(BB26=\"\",\"\",(BB26))","v":""},"Human",{"$f":"IF(CN26=\"\",\"\",(CN26))","v":""},"Human",{"$f":"IF(CO26=\"\",\"\",(CO26))","v":""},null,null,{"$f":"IF(BL26=\"\",\"\", (BL26))","v":""},{"$f":"IF(BM26=\"\",\"\", (BM26))","v":""},{"$f":"IF(BN26=\"\",\"\", (BN26))","v":""},"Volatilization",null,{"$f":"IF($Q96=\"\",\"\",VLOOKUP($Q96,'Practices & Techniques'!$A$6:$F$114,3,FALSE))","v":""},{"$f":"IF($Q96=\"\",\"\",VLOOKUP($Q96,'Practices & Techniques'!$A$6:$F$114,4,FALSE))","v":""},{"$f":"IF($Q96=\"\",\"\",VLOOKUP($Q96,'Practices & Techniques'!$A$6:$F$114,5,FALSE))","v":""},{"$f":"IF($Q96=\"\",\"\",VLOOKUP($Q96,'Practices & Techniques'!$A$6:$F$114,6,FALSE))","v":""},{"$f":"IF($Q96=\"\",\"\",VLOOKUP($Q96,'Practices & Techniques'!$A$6:$G$114,7,FALSE))","v":""},{"$f":"IF(OR(Q96='Practices & Techniques'!A$80,Q97='Practices & Techniques'!A$80,Q98='Practices & Techniques'!A$80,Q99='Practices & Techniques'!A$80,Q100='Practices & Techniques'!A$80),\"N/A\",SUM(R$12:R$16)+SUM(R96:R100))","v":0},{"$f":"IF(OR(Q96='Practices & Techniques'!A$80,Q97='Practices & Techniques'!A$80,Q98='Practices & Techniques'!A$80,Q99='Practices & Techniques'!A$80,Q100='Practices & Techniques'!A$80),\"N/A\",SUM(S$12:S$16)+SUM(S96:S100))","v":0},null,{"$f":"IF(OR(Q96='Practices & Techniques'!A$80,Q97='Practices & Techniques'!A$80,Q98='Practices & Techniques'!A$80,Q99='Practices & Techniques'!A$80,Q100='Practices & Techniques'!A$80),\"N/A\",SUM(U$12:U$16)+SUM(U96:U100))","v":0},{"$f":"IF(OR(Q96='Practices & Techniques'!A$80,Q97='Practices & Techniques'!A$80,Q98='Practices & Techniques'!A$80,Q99='Practices & Techniques'!A$80,Q100='Practices & Techniques'!A$80),\"N/A\",SUM(V$12:V$16)+SUM(V96:V100))","v":0},null,{"$f":"IF(B96=\"\",\"\",1)","v":""},false,{"$f":"'Practices & Techniques'!A79","v":"Monitoring and Economic Pest Thresholds: Pesticide with Short Residual Toxicity"}]
[null,null,null,null,null,null,null,null,null,null,null,null,null,null,null,null,null,{"$f":"IF($Q97=\"\",\"\",VLOOKUP($Q97,'Practices & Techniques'!$A$6:$F$114,3,FALSE))","v":""},{"$f":"IF($Q97=\"\",\"\",VLOOKUP($Q97,'Practices & Techniques'!$A$6:$F$114,4,FALSE))","v":""},{"$f":"IF($Q97=\"\",\"\",VLOOKUP($Q97,'Practices & Techniques'!$A$6:$F$114,5,FALSE))","v":""},{"$f":"IF($Q97=\"\",\"\",VLOOKUP($Q97,'Practices & Techniques'!$A$6:$F$114,6,FALSE))","v":""},{"$f":"IF($Q97=\"\",\"\",VLOOKUP($Q97,'Practices & Techniques'!$A$6:$G$114,7,FALSE))","v":""},null,null,null,null,null,null,{"$f":"IF(B96=\"\",\"\",1)","v":""},false,{"$f":"'Practices & Techniques'!A80","v":"CLIENT NO LONGER USES THIS PRODUCT "}]
["P",null,null,null,null,null,"Fish",{"$f":"IF(CL26=\"\",\"\",(CL26))","v":""},"Fish",{"$f":"IF(CM26=\"\",\"\",(CM26))","v":""},"Fish",{"$f":"IF(CK26=\"\",\"\",(CK26))","v":""},null,null,null,"Pollinators-Direct Contact",null,{"$f":"IF($Q98=\"\",\"\",VLOOKUP($Q98,'Practices & Techniques'!$A$6:$F$114,3,FALSE))","v":""},{"$f":"IF($Q98=\"\",\"\",VLOOKUP($Q98,'Practices & Techniques'!$A$6:$F$114,4,FALSE))","v":""},{"$f":"IF($Q98=\"\",\"\",VLOOKUP($Q98,'Practices & Techniques'!$A$6:$F$114,5,FALSE))","v":""},{"$f":"IF($Q98=\"\",\"\",VLOOKUP($Q98,'Practices & Techniques'!$A$6:$F$114,6,FALSE))","v":""},{"$f":"IF($Q98=\"\",\"\",VLOOKUP($Q98,'Practices & Techniques'!$A$6:$G$114,7,FALSE))","v":""},{"$f":"IF(OR(Q96='Practices & Techniques'!A$80,Q97='Practices & Techniques'!A$80,Q98='Practices & Techniques'!A$80,Q99='Practices & Techniques'!A$80,Q100='Practices & Techniques'!A$80),\"N/A\",SUM(R$12:R$16)+SUM(R96:R100))","v":0},{"$f":"IF(OR(Q96='Practices & Techniques'!A$80,Q97='Practices & Techniques'!A$80,Q98='Practices & Techniques'!A$80,Q99='Practices & Techniques'!A$80,Q100='Practices & Techniques'!A$80),\"N/A\",SUM(S$12:S$16)+SUM(S96:S100))","v":0},{"$f":"IF(OR(Q96='Practices & Techniques'!A$80,Q97='Practices & Techniques'!A$80,Q98='Practices & Techniques'!A$80,Q99='Practices & Techniques'!A$80,Q100='Practices & Techniques'!A$80),\"N/A\",SUM(T$12:T$16)+SUM(T96:T100))","v":0},{"$f":"IF(OR(Q96='Practices & Techniques'!A$80,Q97='Practices & Techniques'!A$80,Q98='Practices & Techniques'!A$80,Q99='Practices & Techniques'!A$80,Q100='Practices & Techniques'!A$80),\"N/A\",SUM(U$12:U$16)+SUM(U96:U100))","v":0},null,null,{"$f":"IF(B96=\"\",\"\",1)","v":""},false,{"$f":"'Practices & Techniques'!A81","v":0},null,null,null,null,null,null,null,null,null,null,null,null,null,null,null,null,null,null,null,null,null,null,null,null,null,null,null,null,null,null,null,null,null,null,null,null,null,null,null,null,null,null,null,null,null,null,null,null,null,null,null,null,null,null,null,null,null,null,null,null,null,null,null,null,null,null,null,null,null,null,null,null,-8]
[null,null,null,null,null,null,null,null,null,null,null,null,null,null,null,null,null,{"$f":"IF($Q99=\"\",\"\",VLOOKUP($Q99,'Practices & Techniques'!$A$6:$F$114,3,FALSE))","v":""},{"$f":"IF($Q99=\"\",\"\",VLOOKUP($Q99,'Practices & Techniques'!$A$6:$F$114,4,FALSE))","v":""},{"$f":"IF($Q99=\"\",\"\",VLOOKUP($Q99,'Practices & Techniques'!$A$6:$F$114,5,FALSE))","v":""},{"$f":"IF($Q99=\"\",\"\",VLOOKUP($Q99,'Practices & Techniques'!$A$6:$F$114,6,FALSE))","v":""},{"$f":"IF($Q99=\"\",\"\",VLOOKUP($Q99,'Practices & Techniques'!$A$6:$G$114,7,FALSE))","v":""},null,null,null,null,null,null,{"$f":"IF(B96=\"\",\"\",1)","v":""},false,{"$f":"'Practices & Techniques'!A82","v":0}]
[null,null,null,null,null,null,null,null,null,null,null,null,null,null,null,"  Drift",null,{"$f":"IF($Q100=\"\",\"\",VLOOKUP($Q100,'Practices & Techniques'!$A$6:$F$114,3,FALSE))","v":""},{"$f":"IF($Q100=\"\",\"\",VLOOKUP($Q100,'Practices & Techniques'!$A$6:$F$114,4,FALSE))","v":""},{"$f":"IF($Q100=\"\",\"\",VLOOKUP($Q100,'Practices & Techniques'!$A$6:$F$114,5,FALSE))","v":""},{"$f":"IF($Q100=\"\",\"\",VLOOKUP($Q100,'Practices & Techniques'!$A$6:$F$114,6,FALSE))","v":""},{"$f":"IF($Q100=\"\",\"\",VLOOKUP($Q100,'Practices & Techniques'!$A$6:$G$114,7,FALSE))","v":""},null,null,null,null,null,null,{"$f":"IF(B96=\"\",\"\",1)","v":""},false,{"$f":"'Practices & Techniques'!A83","v":0}]
["M",{"$f":"IF(AJ27=\"\",\"\",(AJ27))","v":""},{"$f":"IF(AL27=\"\",\"\", (AL27))","v":""},null,{"$f":"IF(AY27=\"\",\"\", (AY27))","v":""},{"$f":"IF(BB27=\"\",\"\",(BB27))","v":""},"Human",{"$f":"IF(CN27=\"\",\"\",(CN27))","v":""},"Human",{"$f":"IF(CO27=\"\",\"\",(CO27))","v":""},null,null,{"$f":"IF(BL27=\"\",\"\", (BL27))","v":""},{"$f":"IF(BM27=\"\",\"\", (BM27))","v":""},{"$f":"IF(BN27=\"\",\"\", (BN27))","v":""},"Volatilization",null,{"$f":"IF($Q101=\"\",\"\",VLOOKUP($Q101,'Practices & Techniques'!$A$6:$F$114,3,FALSE))","v":""},{"$f":"IF($Q101=\"\",\"\",VLOOKUP($Q101,'Practices & Techniques'!$A$6:$F$114,4,FALSE))","v":""},{"$f":"IF($Q101=\"\",\"\",VLOOKUP($Q101,'Practices & Techniques'!$A$6:$F$114,5,FALSE))","v":""},{"$f":"IF($Q101=\"\",\"\",VLOOKUP($Q101,'Practices & Techniques'!$A$6:$F$114,6,FALSE))","v":""},{"$f":"IF($Q101=\"\",\"\",VLOOKUP($Q101,'Practices & Techniques'!$A$6:$G$114,7,FALSE))","v":""},{"$f":"IF(OR(Q101='Practices & Techniques'!A$80,Q102='Practices & Techniques'!A$80,Q103='Practices & Techniques'!A$80,Q104='Practices & Techniques'!A$80,Q105='Practices & Techniques'!A$80),\"N/A\",SUM(R$12:R$16)+SUM(R101:R105))","v":0},{"$f":"IF(OR(Q101='Practices & Techniques'!A$80,Q102='Practices & Techniques'!A$80,Q103='Practices & Techniques'!A$80,Q104='Practices & Techniques'!A$80,Q105='Practices & Techniques'!A$80),\"N/A\",SUM(S$12:S$16)+SUM(S101:S105))","v":0},null,{"$f":"IF(OR(Q101='Practices & Techniques'!A$80,Q102='Practices & Techniques'!A$80,Q103='Practices & Techniques'!A$80,Q104='Practices & Techniques'!A$80,Q105='Practices & Techniques'!A$80),\"N/A\",SUM(U$12:U$16)+SUM(U101:U105))","v":0},{"$f":"IF(OR(Q101='Practices & Techniques'!A$80,Q102='Practices & Techniques'!A$80,Q103='Practices & Techniques'!A$80,Q104='Practices & Techniques'!A$80,Q105='Practices & Techniques'!A$80),\"N/A\",SUM(V$12:V$16)+SUM(V101:V105))","v":0},null,{"$f":"IF(B101=\"\",\"\",1)","v":""},false,{"$f":"'Practices & Techniques'!A84","v":0}]
[null,null,null,null,null,null,null,null,null,null,null,null,null,null,null,null,null,{"$f":"IF($Q102=\"\",\"\",VLOOKUP($Q102,'Practices & Techniques'!$A$6:$F$114,3,FALSE))","v":""},{"$f":"IF($Q102=\"\",\"\",VLOOKUP($Q102,'Practices & Techniques'!$A$6:$F$114,4,FALSE))","v":""},{"$f":"IF($Q102=\"\",\"\",VLOOKUP($Q102,'Practices & Techniques'!$A$6:$F$114,5,FALSE))","v":""},{"$f":"IF($Q102=\"\",\"\",VLOOKUP($Q102,'Practices & Techniques'!$A$6:$F$114,6,FALSE))","v":""},{"$f":"IF($Q102=\"\",\"\",VLOOKUP($Q102,'Practices & Techniques'!$A$6:$G$114,7,FALSE))","v":""},null,null,null,null,null,null,{"$f":"IF(B101=\"\",\"\",1)","v":""},false,{"$f":"'Practices & Techniques'!A85","v":0}]
["P",null,null,null,null,null,"Fish",{"$f":"IF(CL27=\"\",\"\",(CL27))","v":""},"Fish",{"$f":"IF(CM27=\"\",\"\",(CM27))","v":""},"Fish",{"$f":"IF(CK27=\"\",\"\",(CK27))","v":""},null,null,null,"Pollinators-Direct Contact",null,{"$f":"IF($Q103=\"\",\"\",VLOOKUP($Q103,'Practices & Techniques'!$A$6:$F$114,3,FALSE))","v":""},{"$f":"IF($Q103=\"\",\"\",VLOOKUP($Q103,'Practices & Techniques'!$A$6:$F$114,4,FALSE))","v":""},{"$f":"IF($Q103=\"\",\"\",VLOOKUP($Q103,'Practices & Techniques'!$A$6:$F$114,5,FALSE))","v":""},{"$f":"IF($Q103=\"\",\"\",VLOOKUP($Q103,'Practices & Techniques'!$A$6:$F$114,6,FALSE))","v":""},{"$f":"IF($Q103=\"\",\"\",VLOOKUP($Q103,'Practices & Techniques'!$A$6:$G$114,7,FALSE))","v":""},{"$f":"IF(OR(Q101='Practices & Techniques'!A$80,Q102='Practices & Techniques'!A$80,Q103='Practices & Techniques'!A$80,Q104='Practices & Techniques'!A$80,Q105='Practices & Techniques'!A$80),\"N/A\",SUM(R$12:R$16)+SUM(R101:R105))","v":0},{"$f":"IF(OR(Q101='Practices & Techniques'!A$80,Q102='Practices & Techniques'!A$80,Q103='Practices & Techniques'!A$80,Q104='Practices & Techniques'!A$80,Q105='Practices & Techniques'!A$80),\"N/A\",SUM(S$12:S$16)+SUM(S101:S105))","v":0},{"$f":"IF(OR(Q101='Practices & Techniques'!A$80,Q102='Practices & Techniques'!A$80,Q103='Practices & Techniques'!A$80,Q104='Practices & Techniques'!A$80,Q105='Practices & Techniques'!A$80),\"N/A\",SUM(T$12:T$16)+SUM(T101:T105))","v":0},{"$f":"IF(OR(Q101='Practices & Techniques'!A$80,Q102='Practices & Techniques'!A$80,Q103='Practices & Techniques'!A$80,Q104='Practices & Techniques'!A$80,Q105='Practices & Techniques'!A$80),\"N/A\",SUM(U$12:U$16)+SUM(U101:U105))","v":0},null,null,{"$f":"IF(B101=\"\",\"\",1)","v":""},false,{"$f":"'Practices & Techniques'!A86","v":0},null,null,null,null,null,null,null,null,null,null,null,null,null,null,null,null,null,null,null,null,null,null,null,null,null,null,null,null,null,null,null,null,null,null,null,null,null,null,null,null,null,null,null,null,null,null,null,null,null,null,null,null,null,null,null,null,null,null,null,null,null,null,null,null,null,null,null,null,null,null,null,null,-8]
[null,null,null,null,null,null,null,null,null,null,null,null,null,null,null,null,null,{"$f":"IF($Q104=\"\",\"\",VLOOKUP($Q104,'Practices & Techniques'!$A$6:$F$114,3,FALSE))","v":""},{"$f":"IF($Q104=\"\",\"\",VLOOKUP($Q104,'Practices & Techniques'!$A$6:$F$114,4,FALSE))","v":""},{"$f":"IF($Q104=\"\",\"\",VLOOKUP($Q104,'Practices & Techniques'!$A$6:$F$114,5,FALSE))","v":""},{"$f":"IF($Q104=\"\",\"\",VLOOKUP($Q104,'Practices & Techniques'!$A$6:$F$114,6,FALSE))","v":""},{"$f":"IF($Q104=\"\",\"\",VLOOKUP($Q104,'Practices & Techniques'!$A$6:$G$114,7,FALSE))","v":""},null,null,null,null,null,null,{"$f":"IF(B101=\"\",\"\",1)","v":""},false,{"$f":"'Practices & Techniques'!A87","v":0}]
[null,null,null,null,null,null,null,null,null,null,null,null,null,null,null,"  Drift",null,{"$f":"IF($Q105=\"\",\"\",VLOOKUP($Q105,'Practices & Techniques'!$A$6:$F$114,3,FALSE))","v":""},{"$f":"IF($Q105=\"\",\"\",VLOOKUP($Q105,'Practices & Techniques'!$A$6:$F$114,4,FALSE))","v":""},{"$f":"IF($Q105=\"\",\"\",VLOOKUP($Q105,'Practices & Techniques'!$A$6:$F$114,5,FALSE))","v":""},{"$f":"IF($Q105=\"\",\"\",VLOOKUP($Q105,'Practices & Techniques'!$A$6:$F$114,6,FALSE))","v":""},{"$f":"IF($Q105=\"\",\"\",VLOOKUP($Q105,'Practices & Techniques'!$A$6:$G$114,7,FALSE))","v":""},null,null,null,null,null,null,{"$f":"IF(B101=\"\",\"\",1)","v":""},false,{"$f":"'Practices & Techniques'!A88","v":0}]
["M",{"$f":"IF(AJ28=\"\",\"\",(AJ28))","v":""},{"$f":"IF(AL28=\"\",\"\", (AL28))","v":""},null,{"$f":"IF(AY28=\"\",\"\", (AY28))","v":""},{"$f":"IF(BB28=\"\",\"\",(BB28))","v":""},"Human",{"$f":"IF(CN28=\"\",\"\",(CN28))","v":""},"Human",{"$f":"IF(CO28=\"\",\"\",(CO28))","v":""},null,null,{"$f":"IF(BL28=\"\",\"\", (BL28))","v":""},{"$f":"IF(BM28=\"\",\"\", (BM28))","v":""},{"$f":"IF(BN28=\"\",\"\", (BN28))","v":""},"Volatilization",null,{"$f":"IF($Q106=\"\",\"\",VLOOKUP($Q106,'Practices & Techniques'!$A$6:$F$114,3,FALSE))","v":""},{"$f":"IF($Q106=\"\",\"\",VLOOKUP($Q106,'Practices & Techniques'!$A$6:$F$114,4,FALSE))","v":""},{"$f":"IF($Q106=\"\",\"\",VLOOKUP($Q106,'Practices & Techniques'!$A$6:$F$114,5,FALSE))","v":""},{"$f":"IF($Q106=\"\",\"\",VLOOKUP($Q106,'Practices & Techniques'!$A$6:$F$114,6,FALSE))","v":""},{"$f":"IF($Q106=\"\",\"\",VLOOKUP($Q106,'Practices & Techniques'!$A$6:$G$114,7,FALSE))","v":""},{"$f":"IF(OR(Q106='Practices & Techniques'!A$80,Q107='Practices & Techniques'!A$80,Q108='Practices & Techniques'!A$80,Q109='Practices & Techniques'!A$80,Q110='Practices & Techniques'!A$80),\"N/A\",SUM(R$12:R$16)+SUM(R106:R110))","v":0},{"$f":"IF(OR(Q106='Practices & Techniques'!A$80,Q107='Practices & Techniques'!A$80,Q108='Practices & Techniques'!A$80,Q109='Practices & Techniques'!A$80,Q110='Practices & Techniques'!A$80),\"N/A\",SUM(S$12:S$16)+SUM(S106:S110))","v":0},null,{"$f":"IF(OR(Q106='Practices & Techniques'!A$80,Q107='Practices & Techniques'!A$80,Q108='Practices & Techniques'!A$80,Q109='Practices & Techniques'!A$80,Q110='Practices & Techniques'!A$80),\"N/A\",SUM(U$12:U$16)+SUM(U106:U110))","v":0},{"$f":"IF(OR(Q106='Practices & Techniques'!A$80,Q107='Practices & Techniques'!A$80,Q108='Practices & Techniques'!A$80,Q109='Practices & Techniques'!A$80,Q110='Practices & Techniques'!A$80),\"N/A\",SUM(V$12:V$16)+SUM(V106:V110))","v":0},null,{"$f":"IF(B106=\"\",\"\",1)","v":""},false,{"$f":"'Practices & Techniques'!A89","v":0}]
[null,null,null,null,null,null,null,null,null,null,null,null,null,null,null,null,null,{"$f":"IF($Q107=\"\",\"\",VLOOKUP($Q107,'Practices & Techniques'!$A$6:$F$114,3,FALSE))","v":""},{"$f":"IF($Q107=\"\",\"\",VLOOKUP($Q107,'Practices & Techniques'!$A$6:$F$114,4,FALSE))","v":""},{"$f":"IF($Q107=\"\",\"\",VLOOKUP($Q107,'Practices & Techniques'!$A$6:$F$114,5,FALSE))","v":""},{"$f":"IF($Q107=\"\",\"\",VLOOKUP($Q107,'Practices & Techniques'!$A$6:$F$114,6,FALSE))","v":""},{"$f":"IF($Q107=\"\",\"\",VLOOKUP($Q107,'Practices & Techniques'!$A$6:$G$114,7,FALSE))","v":""},null,null,null,null,null,null,{"$f":"IF(B106=\"\",\"\",1)","v":""},false,{"$f":"'Practices & Techniques'!A90","v":0}]
["P",null,null,null,null,null,"Fish",{"$f":"IF(CL28=\"\",\"\",(CL28))","v":""},"Fish",{"$f":"IF(CM28=\"\",\"\",(CM28))","v":""},"Fish",{"$f":"IF(CK28=\"\",\"\",(CK28))","v":""},null,null,null,"Pollinators-Direct Contact",null,{"$f":"IF($Q108=\"\",\"\",VLOOKUP($Q108,'Practices & Techniques'!$A$6:$F$114,3,FALSE))","v":""},{"$f":"IF($Q108=\"\",\"\",VLOOKUP($Q108,'Practices & Techniques'!$A$6:$F$114,4,FALSE))","v":""},{"$f":"IF($Q108=\"\",\"\",VLOOKUP($Q108,'Practices & Techniques'!$A$6:$F$114,5,FALSE))","v":""},{"$f":"IF($Q108=\"\",\"\",VLOOKUP($Q108,'Practices & Techniques'!$A$6:$F$114,6,FALSE))","v":""},{"$f":"IF($Q108=\"\",\"\",VLOOKUP($Q108,'Practices & Techniques'!$A$6:$G$114,7,FALSE))","v":""},{"$f":"IF(OR(Q106='Practices & Techniques'!A$80,Q107='Practices & Techniques'!A$80,Q108='Practices & Techniques'!A$80,Q109='Practices & Techniques'!A$80,Q110='Practices & Techniques'!A$80),\"N/A\",SUM(R$12:R$16)+SUM(R106:R110))","v":0},{"$f":"IF(OR(Q106='Practices & Techniques'!A$80,Q107='Practices & Techniques'!A$80,Q108='Practices & Techniques'!A$80,Q109='Practices & Techniques'!A$80,Q110='Practices & Techniques'!A$80),\"N/A\",SUM(S$12:S$16)+SUM(S106:S110))","v":0},{"$f":"IF(OR(Q106='Practices & Techniques'!A$80,Q107='Practices & Techniques'!A$80,Q108='Practices & Techniques'!A$80,Q109='Practices & Techniques'!A$80,Q110='Practices & Techniques'!A$80),\"N/A\",SUM(T$12:T$16)+SUM(T106:T110))","v":0},{"$f":"IF(OR(Q106='Practices & Techniques'!A$80,Q107='Practices & Techniques'!A$80,Q108='Practices & Techniques'!A$80,Q109='Practices & Techniques'!A$80,Q110='Practices & Techniques'!A$80),\"N/A\",SUM(U$12:U$16)+SUM(U106:U110))","v":0},null,null,{"$f":"IF(B106=\"\",\"\",1)","v":""},false,{"$f":"'Practices & Techniques'!A91","v":0}]
[null,null,null,null,null,null,null,null,null,null,null,null,null,null,null,null,null,{"$f":"IF($Q109=\"\",\"\",VLOOKUP($Q109,'Practices & Techniques'!$A$6:$F$114,3,FALSE))","v":""},{"$f":"IF($Q109=\"\",\"\",VLOOKUP($Q109,'Practices & Techniques'!$A$6:$F$114,4,FALSE))","v":""},{"$f":"IF($Q109=\"\",\"\",VLOOKUP($Q109,'Practices & Techniques'!$A$6:$F$114,5,FALSE))","v":""},{"$f":"IF($Q109=\"\",\"\",VLOOKUP($Q109,'Practices & Techniques'!$A$6:$F$114,6,FALSE))","v":""},{"$f":"IF($Q109=\"\",\"\",VLOOKUP($Q109,'Practices & Techniques'!$A$6:$G$114,7,FALSE))","v":""},null,null,null,null,null,null,{"$f":"IF(B106=\"\",\"\",1)","v":""},false,{"$f":"'Practices & Techniques'!A92","v":0}]
[null,null,null,null,null,null,null,null,null,null,null,null,null,null,null,"  Drift",null,{"$f":"IF($Q110=\"\",\"\",VLOOKUP($Q110,'Practices & Techniques'!$A$6:$F$114,3,FALSE))","v":""},{"$f":"IF($Q110=\"\",\"\",VLOOKUP($Q110,'Practices & Techniques'!$A$6:$F$114,4,FALSE))","v":""},{"$f":"IF($Q110=\"\",\"\",VLOOKUP($Q110,'Practices & Techniques'!$A$6:$F$114,5,FALSE))","v":""},{"$f":"IF($Q110=\"\",\"\",VLOOKUP($Q110,'Practices & Techniques'!$A$6:$F$114,6,FALSE))","v":""},{"$f":"IF($Q110=\"\",\"\",VLOOKUP($Q110,'Practices & Techniques'!$A$6:$G$114,7,FALSE))","v":""},null,null,null,null,null,null,{"$f":"IF(B106=\"\",\"\",1)","v":""},false,{"$f":"'Practices & Techniques'!A93","v":0}]
["M",{"$f":"IF(AJ29=\"\",\"\",(AJ29))","v":""},{"$f":"IF(AL29=\"\",\"\", (AL29))","v":""},null,{"$f":"IF(AY29=\"\",\"\", (AY29))","v":""},{"$f":"IF(BB29=\"\",\"\",(BB29))","v":""},"Human",{"$f":"IF(CN29=\"\",\"\",(CN29))","v":""},"Human",{"$f":"IF(CO29=\"\",\"\",(CO29))","v":""},null,null,{"$f":"IF(BL29=\"\",\"\", (BL29))","v":""},{"$f":"IF(BM29=\"\",\"\", (BM29))","v":""},{"$f":"IF(BN29=\"\",\"\", (BN29))","v":""},"Volatilization",null,{"$f":"IF($Q111=\"\",\"\",VLOOKUP($Q111,'Practices & Techniques'!$A$6:$F$114,3,FALSE))","v":""},{"$f":"IF($Q111=\"\",\"\",VLOOKUP($Q111,'Practices & Techniques'!$A$6:$F$114,4,FALSE))","v":""},{"$f":"IF($Q111=\"\",\"\",VLOOKUP($Q111,'Practices & Techniques'!$A$6:$F$114,5,FALSE))","v":""},{"$f":"IF($Q111=\"\",\"\",VLOOKUP($Q111,'Practices & Techniques'!$A$6:$F$114,6,FALSE))","v":""},{"$f":"IF($Q111=\"\",\"\",VLOOKUP($Q111,'Practices & Techniques'!$A$6:$G$114,7,FALSE))","v":""},{"$f":"IF(OR(Q111='Practices & Techniques'!A$80,Q112='Practices & Techniques'!A$80,Q113='Practices & Techniques'!A$80,Q114='Practices & Techniques'!A$80,Q115='Practices & Techniques'!A$80),\"N/A\",SUM(R$12:R$16)+SUM(R111:R115))","v":0},{"$f":"IF(OR(Q111='Practices & Techniques'!A$80,Q112='Practices & Techniques'!A$80,Q113='Practices & Techniques'!A$80,Q114='Practices & Techniques'!A$80,Q115='Practices & Techniques'!A$80),\"N/A\",SUM(S$12:S$16)+SUM(S111:S115))","v":0},null,{"$f":"IF(OR(Q111='Practices & Techniques'!A$80,Q112='Practices & Techniques'!A$80,Q113='Practices & Techniques'!A$80,Q114='Practices & Techniques'!A$80,Q115='Practices & Techniques'!A$80),\"N/A\",SUM(U$12:U$16)+SUM(U111:U115))","v":0},{"$f":"IF(OR(Q111='Practices & Techniques'!A$80,Q112='Practices & Techniques'!A$80,Q113='Practices & Techniques'!A$80,Q114='Practices & Techniques'!A$80,Q115='Practices & Techniques'!A$80),\"N/A\",SUM(V$12:V$16)+SUM(V111:V115))","v":0},null,{"$f":"IF(B111=\"\",\"\",1)","v":""},false,{"$f":"'Practices & Techniques'!A94","v":0}]
[null,null,null,null,null,null,null,null,null,null,null,null,null,null,null,null,null,{"$f":"IF($Q112=\"\",\"\",VLOOKUP($Q112,'Practices & Techniques'!$A$6:$F$114,3,FALSE))","v":""},{"$f":"IF($Q112=\"\",\"\",VLOOKUP($Q112,'Practices & Techniques'!$A$6:$F$114,4,FALSE))","v":""},{"$f":"IF($Q112=\"\",\"\",VLOOKUP($Q112,'Practices & Techniques'!$A$6:$F$114,5,FALSE))","v":""},{"$f":"IF($Q112=\"\",\"\",VLOOKUP($Q112,'Practices & Techniques'!$A$6:$F$114,6,FALSE))","v":""},{"$f":"IF($Q112=\"\",\"\",VLOOKUP($Q112,'Practices & Techniques'!$A$6:$G$114,7,FALSE))","v":""},null,null,null,null,null,null,{"$f":"IF(B111=\"\",\"\",1)","v":""},false,{"$f":"'Practices & Techniques'!A95","v":0}]
["P",null,null,null,null,null,"Fish",{"$f":"IF(CL29=\"\",\"\",(CL29))","v":""},"Fish",{"$f":"IF(CM29=\"\",\"\",(CM29))","v":""},"Fish",{"$f":"IF(CK29=\"\",\"\",(CK29))","v":""},null,null,null,"Pollinators-Direct Contact",null,{"$f":"IF($Q113=\"\",\"\",VLOOKUP($Q113,'Practices & Techniques'!$A$6:$F$114,3,FALSE))","v":""},{"$f":"IF($Q113=\"\",\"\",VLOOKUP($Q113,'Practices & Techniques'!$A$6:$F$114,4,FALSE))","v":""},{"$f":"IF($Q113=\"\",\"\",VLOOKUP($Q113,'Practices & Techniques'!$A$6:$F$114,5,FALSE))","v":""},{"$f":"IF($Q113=\"\",\"\",VLOOKUP($Q113,'Practices & Techniques'!$A$6:$F$114,6,FALSE))","v":""},{"$f":"IF($Q113=\"\",\"\",VLOOKUP($Q113,'Practices & Techniques'!$A$6:$G$114,7,FALSE))","v":""},{"$f":"IF(OR(Q111='Practices & Techniques'!A$80,Q112='Practices & Techniques'!A$80,Q113='Practices & Techniques'!A$80,Q114='Practices & Techniques'!A$80,Q115='Practices & Techniques'!A$80),\"N/A\",SUM(R$12:R$16)+SUM(R111:R115))","v":0},{"$f":"IF(OR(Q111='Practices & Techniques'!A$80,Q112='Practices & Techniques'!A$80,Q113='Practices & Techniques'!A$80,Q114='Practices & Techniques'!A$80,Q115='Practices & Techniques'!A$80),\"N/A\",SUM(S$12:S$16)+SUM(S111:S115))","v":0},{"$f":"IF(OR(Q111='Practices & Techniques'!A$80,Q112='Practices & Techniques'!A$80,Q113='Practices & Techniques'!A$80,Q114='Practices & Techniques'!A$80,Q115='Practices & Techniques'!A$80),\"N/A\",SUM(T$12:T$16)+SUM(T111:T115))","v":0},{"$f":"IF(OR(Q111='Practices & Techniques'!A$80,Q112='Practices & Techniques'!A$80,Q113='Practices & Techniques'!A$80,Q114='Practices & Techniques'!A$80,Q115='Practices & Techniques'!A$80),\"N/A\",SUM(U$12:U$16)+SUM(U111:U115))","v":0},null,null,{"$f":"IF(B111=\"\",\"\",1)","v":""},false,null,null,null,null,null,null,null,null,null,null,null,null,null,null,null,null,null,null,null,null,null,null,null,null,null,null,null,null,null,null,null,null,null,null,null,null,null,null,null,null,null,null,null,null,null,null,null,null,null,null,null,null,null,null,null,null,null,null,null,null,null,null,null,null,null,null,null,null,null,null,null,null,null,-8]
[null,null,null,null,null,null,null,null,null,null,null,null,null,null,null,null,null,{"$f":"IF($Q114=\"\",\"\",VLOOKUP($Q114,'Practices & Techniques'!$A$6:$F$114,3,FALSE))","v":""},{"$f":"IF($Q114=\"\",\"\",VLOOKUP($Q114,'Practices & Techniques'!$A$6:$F$114,4,FALSE))","v":""},{"$f":"IF($Q114=\"\",\"\",VLOOKUP($Q114,'Practices & Techniques'!$A$6:$F$114,5,FALSE))","v":""},{"$f":"IF($Q114=\"\",\"\",VLOOKUP($Q114,'Practices & Techniques'!$A$6:$F$114,6,FALSE))","v":""},{"$f":"IF($Q114=\"\",\"\",VLOOKUP($Q114,'Practices & Techniques'!$A$6:$G$114,7,FALSE))","v":""},null,null,null,null,null,null,{"$f":"IF(B111=\"\",\"\",1)","v":""},false]
[null,null,null,null,null,null,null,null,null,null,null,null,null,null,null,"  Drift",null,{"$f":"IF($Q115=\"\",\"\",VLOOKUP($Q115,'Practices & Techniques'!$A$6:$F$114,3,FALSE))","v":""},{"$f":"IF($Q115=\"\",\"\",VLOOKUP($Q115,'Practices & Techniques'!$A$6:$F$114,4,FALSE))","v":""},{"$f":"IF($Q115=\"\",\"\",VLOOKUP($Q115,'Practices & Techniques'!$A$6:$F$114,5,FALSE))","v":""},{"$f":"IF($Q115=\"\",\"\",VLOOKUP($Q115,'Practices & Techniques'!$A$6:$F$114,6,FALSE))","v":""},{"$f":"IF($Q115=\"\",\"\",VLOOKUP($Q115,'Practices & Techniques'!$A$6:$G$114,7,FALSE))","v":""},null,null,null,null,null,null,{"$f":"IF(B111=\"\",\"\",1)","v":""},false]
["M",{"$f":"IF(AJ30=\"\",\"\",(AJ30))","v":""},{"$f":"IF(AL30=\"\",\"\", (AL30))","v":""},null,{"$f":"IF(AY30=\"\",\"\", (AY30))","v":""},{"$f":"IF(BB30=\"\",\"\",(BB30))","v":""},"Human",{"$f":"IF(CN30=\"\",\"\",(CN30))","v":""},"Human",{"$f":"IF(CO30=\"\",\"\",(CO30))","v":""},null,null,{"$f":"IF(BL30=\"\",\"\", (BL30))","v":""},{"$f":"IF(BM30=\"\",\"\", (BM30))","v":""},{"$f":"IF(BN30=\"\",\"\", (BN30))","v":""},"Volatilization",null,{"$f":"IF($Q116=\"\",\"\",VLOOKUP($Q116,'Practices & Techniques'!$A$6:$F$114,3,FALSE))","v":""},{"$f":"IF($Q116=\"\",\"\",VLOOKUP($Q116,'Practices & Techniques'!$A$6:$F$114,4,FALSE))","v":""},{"$f":"IF($Q116=\"\",\"\",VLOOKUP($Q116,'Practices & Techniques'!$A$6:$F$114,5,FALSE))","v":""},{"$f":"IF($Q116=\"\",\"\",VLOOKUP($Q116,'Practices & Techniques'!$A$6:$F$114,6,FALSE))","v":""},{"$f":"IF($Q116=\"\",\"\",VLOOKUP($Q116,'Practices & Techniques'!$A$6:$G$114,7,FALSE))","v":""},{"$f":"IF(OR(Q116='Practices & Techniques'!A$80,Q117='Practices & Techniques'!A$80,Q118='Practices & Techniques'!A$80,Q119='Practices & Techniques'!A$80,Q120='Practices & Techniques'!A$80),\"N/A\",SUM(R$12:R$16)+SUM(R116:R120))","v":0},{"$f":"IF(OR(Q116='Practices & Techniques'!A$80,Q117='Practices & Techniques'!A$80,Q118='Practices & Techniques'!A$80,Q119='Practices & Techniques'!A$80,Q120='Practices & Techniques'!A$80),\"N/A\",SUM(S$12:S$16)+SUM(S116:S120))","v":0},null,{"$f":"IF(OR(Q116='Practices & Techniques'!A$80,Q117='Practices & Techniques'!A$80,Q118='Practices & Techniques'!A$80,Q119='Practices & Techniques'!A$80,Q120='Practices & Techniques'!A$80),\"N/A\",SUM(U$12:U$16)+SUM(U116:U120))","v":0},{"$f":"IF(OR(Q116='Practices & Techniques'!A$80,Q117='Practices & Techniques'!A$80,Q118='Practices & Techniques'!A$80,Q119='Practices & Techniques'!A$80,Q120='Practices & Techniques'!A$80),\"N/A\",SUM(V$12:V$16)+SUM(V116:V120))","v":0},null,{"$f":"IF(B116=\"\",\"\",1)","v":""},false]
[null,null,null,null,null,null,null,null,null,null,null,null,null,null,null,null,null,{"$f":"IF($Q117=\"\",\"\",VLOOKUP($Q117,'Practices & Techniques'!$A$6:$F$114,3,FALSE))","v":""},{"$f":"IF($Q117=\"\",\"\",VLOOKUP($Q117,'Practices & Techniques'!$A$6:$F$114,4,FALSE))","v":""},{"$f":"IF($Q117=\"\",\"\",VLOOKUP($Q117,'Practices & Techniques'!$A$6:$F$114,5,FALSE))","v":""},{"$f":"IF($Q117=\"\",\"\",VLOOKUP($Q117,'Practices & Techniques'!$A$6:$F$114,6,FALSE))","v":""},{"$f":"IF($Q117=\"\",\"\",VLOOKUP($Q117,'Practices & Techniques'!$A$6:$G$114,7,FALSE))","v":""},null,null,null,null,null,null,{"$f":"IF(B116=\"\",\"\",1)","v":""},false]
["P",null,null,null,null,null,"Fish",{"$f":"IF(CL30=\"\",\"\",(CL30))","v":""},"Fish",{"$f":"IF(CM30=\"\",\"\",(CM30))","v":""},"Fish",{"$f":"IF(CK30=\"\",\"\",(CK30))","v":""},null,null,null,"Pollinators-Direct Contact",null,{"$f":"IF($Q118=\"\",\"\",VLOOKUP($Q118,'Practices & Techniques'!$A$6:$F$114,3,FALSE))","v":""},{"$f":"IF($Q118=\"\",\"\",VLOOKUP($Q118,'Practices & Techniques'!$A$6:$F$114,4,FALSE))","v":""},{"$f":"IF($Q118=\"\",\"\",VLOOKUP($Q118,'Practices & Techniques'!$A$6:$F$114,5,FALSE))","v":""},{"$f":"IF($Q118=\"\",\"\",VLOOKUP($Q118,'Practices & Techniques'!$A$6:$F$114,6,FALSE))","v":""},{"$f":"IF($Q118=\"\",\"\",VLOOKUP($Q118,'Practices & Techniques'!$A$6:$G$114,7,FALSE))","v":""},{"$f":"IF(OR(Q116='Practices & Techniques'!A$80,Q117='Practices & Techniques'!A$80,Q118='Practices & Techniques'!A$80,Q119='Practices & Techniques'!A$80,Q120='Practices & Techniques'!A$80),\"N/A\",SUM(R$12:R$16)+SUM(R116:R120))","v":0},{"$f":"IF(OR(Q116='Practices & Techniques'!A$80,Q117='Practices & Techniques'!A$80,Q118='Practices & Techniques'!A$80,Q119='Practices & Techniques'!A$80,Q120='Practices & Techniques'!A$80),\"N/A\",SUM(S$12:S$16)+SUM(S116:S120))","v":0},{"$f":"IF(OR(Q116='Practices & Techniques'!A$80,Q117='Practices & Techniques'!A$80,Q118='Practices & Techniques'!A$80,Q119='Practices & Techniques'!A$80,Q120='Practices & Techniques'!A$80),\"N/A\",SUM(T$12:T$16)+SUM(T116:T120))","v":0},{"$f":"IF(OR(Q116='Practices & Techniques'!A$80,Q117='Practices & Techniques'!A$80,Q118='Practices & Techniques'!A$80,Q119='Practices & Techniques'!A$80,Q120='Practices & Techniques'!A$80),\"N/A\",SUM(U$12:U$16)+SUM(U116:U120))","v":0},null,null,{"$f":"IF(B116=\"\",\"\",1)","v":""},false,null,null,null,null,null,null,null,null,null,null,null,null,null,null,null,null,null,null,null,null,null,null,null,null,null,null,null,null,null,null,null,null,null,null,null,null,null,null,null,null,null,null,null,null,null,null,null,null,null,null,null,null,null,null,null,null,null,null,null,null,null,null,null,null,null,null,null,null,null,null,null,null,null,-8]
[null,null,null,null,null,null,null,null,null,null,null,null,null,null,null,null,null,{"$f":"IF($Q119=\"\",\"\",VLOOKUP($Q119,'Practices & Techniques'!$A$6:$F$114,3,FALSE))","v":""},{"$f":"IF($Q119=\"\",\"\",VLOOKUP($Q119,'Practices & Techniques'!$A$6:$F$114,4,FALSE))","v":""},{"$f":"IF($Q119=\"\",\"\",VLOOKUP($Q119,'Practices & Techniques'!$A$6:$F$114,5,FALSE))","v":""},{"$f":"IF($Q119=\"\",\"\",VLOOKUP($Q119,'Practices & Techniques'!$A$6:$F$114,6,FALSE))","v":""},{"$f":"IF($Q119=\"\",\"\",VLOOKUP($Q119,'Practices & Techniques'!$A$6:$G$114,7,FALSE))","v":""},null,null,null,null,null,null,{"$f":"IF(B116=\"\",\"\",1)","v":""},false]
[null,null,null,null,null,null,null,null,null,null,null,null,null,null,null,"  Drift",null,{"$f":"IF($Q120=\"\",\"\",VLOOKUP($Q120,'Practices & Techniques'!$A$6:$F$114,3,FALSE))","v":""},{"$f":"IF($Q120=\"\",\"\",VLOOKUP($Q120,'Practices & Techniques'!$A$6:$F$114,4,FALSE))","v":""},{"$f":"IF($Q120=\"\",\"\",VLOOKUP($Q120,'Practices & Techniques'!$A$6:$F$114,5,FALSE))","v":""},{"$f":"IF($Q120=\"\",\"\",VLOOKUP($Q120,'Practices & Techniques'!$A$6:$F$114,6,FALSE))","v":""},{"$f":"IF($Q120=\"\",\"\",VLOOKUP($Q120,'Practices & Techniques'!$A$6:$G$114,7,FALSE))","v":""},null,null,null,null,null,null,{"$f":"IF(B116=\"\",\"\",1)","v":""},false]
["M",{"$f":"IF(AJ31=\"\",\"\",(AJ31))","v":""},{"$f":"IF(AL31=\"\",\"\", (AL31))","v":""},null,{"$f":"IF(AY31=\"\",\"\", (AY31))","v":""},{"$f":"IF(BB31=\"\",\"\",(BB31))","v":""},"Human",{"$f":"IF(CN31=\"\",\"\",(CN31))","v":""},"Human",{"$f":"IF(CO31=\"\",\"\",(CO31))","v":""},null,null,{"$f":"IF(BL31=\"\",\"\", (BL31))","v":""},{"$f":"IF(BM31=\"\",\"\", (BM31))","v":""},{"$f":"IF(BN31=\"\",\"\", (BN31))","v":""},"Volatilization",null,{"$f":"IF($Q121=\"\",\"\",VLOOKUP($Q121,'Practices & Techniques'!$A$6:$F$114,3,FALSE))","v":""},{"$f":"IF($Q121=\"\",\"\",VLOOKUP($Q121,'Practices & Techniques'!$A$6:$F$114,4,FALSE))","v":""},{"$f":"IF($Q121=\"\",\"\",VLOOKUP($Q121,'Practices & Techniques'!$A$6:$F$114,5,FALSE))","v":""},{"$f":"IF($Q121=\"\",\"\",VLOOKUP($Q121,'Practices & Techniques'!$A$6:$F$114,6,FALSE))","v":""},{"$f":"IF($Q121=\"\",\"\",VLOOKUP($Q121,'Practices & Techniques'!$A$6:$G$114,7,FALSE))","v":""},{"$f":"IF(OR(Q121='Practices & Techniques'!A$80,Q122='Practices & Techniques'!A$80,Q123='Practices & Techniques'!A$80,Q124='Practices & Techniques'!A$80,Q125='Practices & Techniques'!A$80),\"N/A\",SUM(R$12:R$16)+SUM(R121:R125))","v":0},{"$f":"IF(OR(Q121='Practices & Techniques'!A$80,Q122='Practices & Techniques'!A$80,Q123='Practices & Techniques'!A$80,Q124='Practices & Techniques'!A$80,Q125='Practices & Techniques'!A$80),\"N/A\",SUM(S$12:S$16)+SUM(S121:S125))","v":0},null,{"$f":"IF(OR(Q121='Practices & Techniques'!A$80,Q122='Practices & Techniques'!A$80,Q123='Practices & Techniques'!A$80,Q124='Practices & Techniques'!A$80,Q125='Practices & Techniques'!A$80),\"N/A\",SUM(U$12:U$16)+SUM(U121:U125))","v":0},{"$f":"IF(OR(Q121='Practices & Techniques'!A$80,Q122='Practices & Techniques'!A$80,Q123='Practices & Techniques'!A$80,Q124='Practices & Techniques'!A$80,Q125='Practices & Techniques'!A$80),\"N/A\",SUM(V$12:V$16)+SUM(V121:V125))","v":0},null,{"$f":"IF(B121=\"\",\"\",1)","v":""},false]
[null,null,null,null,null,null,null,null,null,null,null,null,null,null,null,null,null,{"$f":"IF($Q122=\"\",\"\",VLOOKUP($Q122,'Practices & Techniques'!$A$6:$F$114,3,FALSE))","v":""},{"$f":"IF($Q122=\"\",\"\",VLOOKUP($Q122,'Practices & Techniques'!$A$6:$F$114,4,FALSE))","v":""},{"$f":"IF($Q122=\"\",\"\",VLOOKUP($Q122,'Practices & Techniques'!$A$6:$F$114,5,FALSE))","v":""},{"$f":"IF($Q122=\"\",\"\",VLOOKUP($Q122,'Practices & Techniques'!$A$6:$F$114,6,FALSE))","v":""},{"$f":"IF($Q122=\"\",\"\",VLOOKUP($Q122,'Practices & Techniques'!$A$6:$G$114,7,FALSE))","v":""},null,null,null,null,null,null,{"$f":"IF(B121=\"\",\"\",1)","v":""},false]
["P",null,null,null,null,null,"Fish",{"$f":"IF(CL31=\"\",\"\",(CL31))","v":""},"Fish",{"$f":"IF(CM31=\"\",\"\",(CM31))","v":""},"Fish",{"$f":"IF(CK31=\"\",\"\",(CK31))","v":""},null,null,null,"Pollinators-Direct Contact",null,{"$f":"IF($Q123=\"\",\"\",VLOOKUP($Q123,'Practices & Techniques'!$A$6:$F$114,3,FALSE))","v":""},{"$f":"IF($Q123=\"\",\"\",VLOOKUP($Q123,'Practices & Techniques'!$A$6:$F$114,4,FALSE))","v":""},{"$f":"IF($Q123=\"\",\"\",VLOOKUP($Q123,'Practices & Techniques'!$A$6:$F$114,5,FALSE))","v":""},{"$f":"IF($Q123=\"\",\"\",VLOOKUP($Q123,'Practices & Techniques'!$A$6:$F$114,6,FALSE))","v":""},{"$f":"IF($Q123=\"\",\"\",VLOOKUP($Q123,'Practices & Techniques'!$A$6:$G$114,7,FALSE))","v":""},{"$f":"IF(OR(Q121='Practices & Techniques'!A$80,Q122='Practices & Techniques'!A$80,Q123='Practices & Techniques'!A$80,Q124='Practices & Techniques'!A$80,Q125='Practices & Techniques'!A$80),\"N/A\",SUM(R$12:R$16)+SUM(R121:R125))","v":0},{"$f":"IF(OR(Q121='Practices & Techniques'!A$80,Q122='Practices & Techniques'!A$80,Q123='Practices & Techniques'!A$80,Q124='Practices & Techniques'!A$80,Q125='Practices & Techniques'!A$80),\"N/A\",SUM(S$12:S$16)+SUM(S121:S125))","v":0},{"$f":"IF(OR(Q121='Practices & Techniques'!A$80,Q122='Practices & Techniques'!A$80,Q123='Practices & Techniques'!A$80,Q124='Practices & Techniques'!A$80,Q125='Practices & Techniques'!A$80),\"N/A\",SUM(T$12:T$16)+SUM(T121:T125))","v":0},{"$f":"IF(OR(Q121='Practices & Techniques'!A$80,Q122='Practices & Techniques'!A$80,Q123='Practices & Techniques'!A$80,Q124='Practices & Techniques'!A$80,Q125='Practices & Techniques'!A$80),\"N/A\",SUM(U$12:U$16)+SUM(U121:U125))","v":0},null,null,{"$f":"IF(B121=\"\",\"\",1)","v":""},false]
[null,null,null,null,null,null,null,null,null,null,null,null,null,null,null,null,null,{"$f":"IF($Q124=\"\",\"\",VLOOKUP($Q124,'Practices & Techniques'!$A$6:$F$114,3,FALSE))","v":""},{"$f":"IF($Q124=\"\",\"\",VLOOKUP($Q124,'Practices & Techniques'!$A$6:$F$114,4,FALSE))","v":""},{"$f":"IF($Q124=\"\",\"\",VLOOKUP($Q124,'Practices & Techniques'!$A$6:$F$114,5,FALSE))","v":""},{"$f":"IF($Q124=\"\",\"\",VLOOKUP($Q124,'Practices & Techniques'!$A$6:$F$114,6,FALSE))","v":""},{"$f":"IF($Q124=\"\",\"\",VLOOKUP($Q124,'Practices & Techniques'!$A$6:$G$114,7,FALSE))","v":""},null,null,null,null,null,null,{"$f":"IF(B121=\"\",\"\",1)","v":""},false]
[null,null,null,null,null,null,null,null,null,null,null,null,null,null,null,"  Drift",null,{"$f":"IF($Q125=\"\",\"\",VLOOKUP($Q125,'Practices & Techniques'!$A$6:$F$114,3,FALSE))","v":""},{"$f":"IF($Q125=\"\",\"\",VLOOKUP($Q125,'Practices & Techniques'!$A$6:$F$114,4,FALSE))","v":""},{"$f":"IF($Q125=\"\",\"\",VLOOKUP($Q125,'Practices & Techniques'!$A$6:$F$114,5,FALSE))","v":""},{"$f":"IF($Q125=\"\",\"\",VLOOKUP($Q125,'Practices & Techniques'!$A$6:$F$114,6,FALSE))","v":""},{"$f":"IF($Q125=\"\",\"\",VLOOKUP($Q125,'Practices & Techniques'!$A$6:$G$114,7,FALSE))","v":""},null,null,null,null,null,null,{"$f":"IF(B121=\"\",\"\",1)","v":""},false]
["M",{"$f":"IF(AJ32=\"\",\"\",(AJ32))","v":""},{"$f":"IF(AL32=\"\",\"\", (AL32))","v":""},null,{"$f":"IF(AY32=\"\",\"\", (AY32))","v":""},{"$f":"IF(BB32=\"\",\"\",(BB32))","v":""},"Human",{"$f":"IF(CN32=\"\",\"\",(CN32))","v":""},"Human",{"$f":"IF(CO32=\"\",\"\",(CO32))","v":""},null,null,{"$f":"IF(BL32=\"\",\"\", (BL32))","v":""},{"$f":"IF(BM32=\"\",\"\", (BM32))","v":""},{"$f":"IF(BN32=\"\",\"\", (BN32))","v":""},"Volatilization",null,{"$f":"IF($Q126=\"\",\"\",VLOOKUP($Q126,'Practices & Techniques'!$A$6:$F$114,3,FALSE))","v":""},{"$f":"IF($Q126=\"\",\"\",VLOOKUP($Q126,'Practices & Techniques'!$A$6:$F$114,4,FALSE))","v":""},{"$f":"IF($Q126=\"\",\"\",VLOOKUP($Q126,'Practices & Techniques'!$A$6:$F$114,5,FALSE))","v":""},{"$f":"IF($Q126=\"\",\"\",VLOOKUP($Q126,'Practices & Techniques'!$A$6:$F$114,6,FALSE))","v":""},{"$f":"IF($Q126=\"\",\"\",VLOOKUP($Q126,'Practices & Techniques'!$A$6:$G$114,7,FALSE))","v":""},{"$f":"IF(OR(Q126='Practices & Techniques'!A$80,Q127='Practices & Techniques'!A$80,Q128='Practices & Techniques'!A$80,Q129='Practices & Techniques'!A$80,Q130='Practices & Techniques'!A$80),\"N/A\",SUM(R$12:R$16)+SUM(R126:R130))","v":0},{"$f":"IF(OR(Q126='Practices & Techniques'!A$80,Q127='Practices & Techniques'!A$80,Q128='Practices & Techniques'!A$80,Q129='Practices & Techniques'!A$80,Q130='Practices & Techniques'!A$80),\"N/A\",SUM(S$12:S$16)+SUM(S126:S130))","v":0},null,{"$f":"IF(OR(Q126='Practices & Techniques'!A$80,Q127='Practices & Techniques'!A$80,Q128='Practices & Techniques'!A$80,Q129='Practices & Techniques'!A$80,Q130='Practices & Techniques'!A$80),\"N/A\",SUM(U$12:U$16)+SUM(U126:U130))","v":0},{"$f":"IF(OR(Q126='Practices & Techniques'!A$80,Q127='Practices & Techniques'!A$80,Q128='Practices & Techniques'!A$80,Q129='Practices & Techniques'!A$80,Q130='Practices & Techniques'!A$80),\"N/A\",SUM(V$12:V$16)+SUM(V126:V130))","v":0},null,{"$f":"IF(B126=\"\",\"\",1)","v":""},false]
[null,null,null,null,null,null,null,null,null,null,null,null,null,null,null,null,null,{"$f":"IF($Q127=\"\",\"\",VLOOKUP($Q127,'Practices & Techniques'!$A$6:$F$114,3,FALSE))","v":""},{"$f":"IF($Q127=\"\",\"\",VLOOKUP($Q127,'Practices & Techniques'!$A$6:$F$114,4,FALSE))","v":""},{"$f":"IF($Q127=\"\",\"\",VLOOKUP($Q127,'Practices & Techniques'!$A$6:$F$114,5,FALSE))","v":""},{"$f":"IF($Q127=\"\",\"\",VLOOKUP($Q127,'Practices & Techniques'!$A$6:$F$114,6,FALSE))","v":""},{"$f":"IF($Q127=\"\",\"\",VLOOKUP($Q127,'Practices & Techniques'!$A$6:$G$114,7,FALSE))","v":""},null,null,null,null,null,null,{"$f":"IF(B126=\"\",\"\",1)","v":""},false]
["P",null,null,null,null,null,"Fish",{"$f":"IF(CL32=\"\",\"\",(CL32))","v":""},"Fish",{"$f":"IF(CM32=\"\",\"\",(CM32))","v":""},"Fish",{"$f":"IF(CK32=\"\",\"\",(CK32))","v":""},null,null,null,"Pollinators-Direct Contact",null,{"$f":"IF($Q128=\"\",\"\",VLOOKUP($Q128,'Practices & Techniques'!$A$6:$F$114,3,FALSE))","v":""},{"$f":"IF($Q128=\"\",\"\",VLOOKUP($Q128,'Practices & Techniques'!$A$6:$F$114,4,FALSE))","v":""},{"$f":"IF($Q128=\"\",\"\",VLOOKUP($Q128,'Practices & Techniques'!$A$6:$F$114,5,FALSE))","v":""},{"$f":"IF($Q128=\"\",\"\",VLOOKUP($Q128,'Practices & Techniques'!$A$6:$F$114,6,FALSE))","v":""},{"$f":"IF($Q128=\"\",\"\",VLOOKUP($Q128,'Practices & Techniques'!$A$6:$G$114,7,FALSE))","v":""},{"$f":"IF(OR(Q126='Practices & Techniques'!A$80,Q127='Practices & Techniques'!A$80,Q128='Practices & Techniques'!A$80,Q129='Practices & Techniques'!A$80,Q130='Practices & Techniques'!A$80),\"N/A\",SUM(R$12:R$16)+SUM(R126:R130))","v":0},{"$f":"IF(OR(Q126='Practices & Techniques'!A$80,Q127='Practices & Techniques'!A$80,Q128='Practices & Techniques'!A$80,Q129='Practices & Techniques'!A$80,Q130='Practices & Techniques'!A$80),\"N/A\",SUM(S$12:S$16)+SUM(S126:S130))","v":0},{"$f":"IF(OR(Q126='Practices & Techniques'!A$80,Q127='Practices & Techniques'!A$80,Q128='Practices & Techniques'!A$80,Q129='Practices & Techniques'!A$80,Q130='Practices & Techniques'!A$80),\"N/A\",SUM(T$12:T$16)+SUM(T126:T130))","v":0},{"$f":"IF(OR(Q126='Practices & Techniques'!A$80,Q127='Practices & Techniques'!A$80,Q128='Practices & Techniques'!A$80,Q129='Practices & Techniques'!A$80,Q130='Practices & Techniques'!A$80),\"N/A\",SUM(U$12:U$16)+SUM(U126:U130))","v":0},null,null,{"$f":"IF(B126=\"\",\"\",1)","v":""},false,null,null,null,null,null,null,null,null,null,null,null,null,null,null,null,null,null,null,null,null,null,null,null,null,null,null,null,null,null,null,null,null,null,null,null,null,null,null,null,null,null,null,null,null,null,null,null,null,null,null,null,null,null,null,null,null,null,null,null,null,null,null,null,null,null,null,null,null,null,null,null,null,null,-8]
[null,null,null,null,null,null,null,null,null,null,null,null,null,null,null,null,null,{"$f":"IF($Q129=\"\",\"\",VLOOKUP($Q129,'Practices & Techniques'!$A$6:$F$114,3,FALSE))","v":""},{"$f":"IF($Q129=\"\",\"\",VLOOKUP($Q129,'Practices & Techniques'!$A$6:$F$114,4,FALSE))","v":""},{"$f":"IF($Q129=\"\",\"\",VLOOKUP($Q129,'Practices & Techniques'!$A$6:$F$114,5,FALSE))","v":""},{"$f":"IF($Q129=\"\",\"\",VLOOKUP($Q129,'Practices & Techniques'!$A$6:$F$114,6,FALSE))","v":""},{"$f":"IF($Q129=\"\",\"\",VLOOKUP($Q129,'Practices & Techniques'!$A$6:$G$114,7,FALSE))","v":""},null,null,null,null,null,null,{"$f":"IF(B126=\"\",\"\",1)","v":""},false]
[null,null,null,null,null,null,null,null,null,null,null,null,null,null,null,"  Drift",null,{"$f":"IF($Q130=\"\",\"\",VLOOKUP($Q130,'Practices & Techniques'!$A$6:$F$114,3,FALSE))","v":""},{"$f":"IF($Q130=\"\",\"\",VLOOKUP($Q130,'Practices & Techniques'!$A$6:$F$114,4,FALSE))","v":""},{"$f":"IF($Q130=\"\",\"\",VLOOKUP($Q130,'Practices & Techniques'!$A$6:$F$114,5,FALSE))","v":""},{"$f":"IF($Q130=\"\",\"\",VLOOKUP($Q130,'Practices & Techniques'!$A$6:$F$114,6,FALSE))","v":""},{"$f":"IF($Q130=\"\",\"\",VLOOKUP($Q130,'Practices & Techniques'!$A$6:$G$114,7,FALSE))","v":""},null,null,null,null,null,null,{"$f":"IF(B126=\"\",\"\",1)","v":""},false]
["M",{"$f":"IF(AJ33=\"\",\"\",(AJ33))","v":""},{"$f":"IF(AL33=\"\",\"\", (AL33))","v":""},null,{"$f":"IF(AY33=\"\",\"\", (AY33))","v":""},{"$f":"IF(BB33=\"\",\"\",(BB33))","v":""},"Human",{"$f":"IF(CN33=\"\",\"\",(CN33))","v":""},"Human",{"$f":"IF(CO33=\"\",\"\",(CO33))","v":""},null,null,{"$f":"IF(BL33=\"\",\"\", (BL33))","v":""},{"$f":"IF(BM33=\"\",\"\", (BM33))","v":""},{"$f":"IF(BN33=\"\",\"\", (BN33))","v":""},"Volatilization",null,{"$f":"IF($Q131=\"\",\"\",VLOOKUP($Q131,'Practices & Techniques'!$A$6:$F$114,3,FALSE))","v":""},{"$f":"IF($Q131=\"\",\"\",VLOOKUP($Q131,'Practices & Techniques'!$A$6:$F$114,4,FALSE))","v":""},{"$f":"IF($Q131=\"\",\"\",VLOOKUP($Q131,'Practices & Techniques'!$A$6:$F$114,5,FALSE))","v":""},{"$f":"IF($Q131=\"\",\"\",VLOOKUP($Q131,'Practices & Techniques'!$A$6:$F$114,6,FALSE))","v":""},{"$f":"IF($Q131=\"\",\"\",VLOOKUP($Q131,'Practices & Techniques'!$A$6:$G$114,7,FALSE))","v":""},{"$f":"IF(OR(Q131='Practices & Techniques'!A$80,Q132='Practices & Techniques'!A$80,Q133='Practices & Techniques'!A$80,Q134='Practices & Techniques'!A$80,Q135='Practices & Techniques'!A$80),\"N/A\",SUM(R$12:R$16)+SUM(R131:R135))","v":0},{"$f":"IF(OR(Q131='Practices & Techniques'!A$80,Q132='Practices & Techniques'!A$80,Q133='Practices & Techniques'!A$80,Q134='Practices & Techniques'!A$80,Q135='Practices & Techniques'!A$80),\"N/A\",SUM(S$12:S$16)+SUM(S131:S135))","v":0},null,{"$f":"IF(OR(Q131='Practices & Techniques'!A$80,Q132='Practices & Techniques'!A$80,Q133='Practices & Techniques'!A$80,Q134='Practices & Techniques'!A$80,Q135='Practices & Techniques'!A$80),\"N/A\",SUM(U$12:U$16)+SUM(U131:U135))","v":0},{"$f":"IF(OR(Q131='Practices & Techniques'!A$80,Q132='Practices & Techniques'!A$80,Q133='Practices & Techniques'!A$80,Q134='Practices & Techniques'!A$80,Q135='Practices & Techniques'!A$80),\"N/A\",SUM(V$12:V$16)+SUM(V131:V135))","v":0},null,{"$f":"IF(B131=\"\",\"\",1)","v":""},false]
[null,null,null,null,null,null,null,null,null,null,null,null,null,null,null,null,null,{"$f":"IF($Q132=\"\",\"\",VLOOKUP($Q132,'Practices & Techniques'!$A$6:$F$114,3,FALSE))","v":""},{"$f":"IF($Q132=\"\",\"\",VLOOKUP($Q132,'Practices & Techniques'!$A$6:$F$114,4,FALSE))","v":""},{"$f":"IF($Q132=\"\",\"\",VLOOKUP($Q132,'Practices & Techniques'!$A$6:$F$114,5,FALSE))","v":""},{"$f":"IF($Q132=\"\",\"\",VLOOKUP($Q132,'Practices & Techniques'!$A$6:$F$114,6,FALSE))","v":""},{"$f":"IF($Q132=\"\",\"\",VLOOKUP($Q132,'Practices & Techniques'!$A$6:$G$114,7,FALSE))","v":""},null,null,null,null,null,null,{"$f":"IF(B131=\"\",\"\",1)","v":""},false]
["P",null,null,null,null,null,"Fish",{"$f":"IF(CL33=\"\",\"\",(CL33))","v":""},"Fish",{"$f":"IF(CM33=\"\",\"\",(CM33))","v":""},"Fish",{"$f":"IF(CK33=\"\",\"\",(CK33))","v":""},null,null,null,"Pollinators-Direct Contact",null,{"$f":"IF($Q133=\"\",\"\",VLOOKUP($Q133,'Practices & Techniques'!$A$6:$F$114,3,FALSE))","v":""},{"$f":"IF($Q133=\"\",\"\",VLOOKUP($Q133,'Practices & Techniques'!$A$6:$F$114,4,FALSE))","v":""},{"$f":"IF($Q133=\"\",\"\",VLOOKUP($Q133,'Practices & Techniques'!$A$6:$F$114,5,FALSE))","v":""},{"$f":"IF($Q133=\"\",\"\",VLOOKUP($Q133,'Practices & Techniques'!$A$6:$F$114,6,FALSE))","v":""},{"$f":"IF($Q133=\"\",\"\",VLOOKUP($Q133,'Practices & Techniques'!$A$6:$G$114,7,FALSE))","v":""},{"$f":"IF(OR(Q131='Practices & Techniques'!A$80,Q132='Practices & Techniques'!A$80,Q133='Practices & Techniques'!A$80,Q134='Practices & Techniques'!A$80,Q135='Practices & Techniques'!A$80),\"N/A\",SUM(R$12:R$16)+SUM(R131:R135))","v":0},{"$f":"IF(OR(Q131='Practices & Techniques'!A$80,Q132='Practices & Techniques'!A$80,Q133='Practices & Techniques'!A$80,Q134='Practices & Techniques'!A$80,Q135='Practices & Techniques'!A$80),\"N/A\",SUM(S$12:S$16)+SUM(S131:S135))","v":0},{"$f":"IF(OR(Q131='Practices & Techniques'!A$80,Q132='Practices & Techniques'!A$80,Q133='Practices & Techniques'!A$80,Q134='Practices & Techniques'!A$80,Q135='Practices & Techniques'!A$80),\"N/A\",SUM(T$12:T$16)+SUM(T131:T135))","v":0},{"$f":"IF(OR(Q131='Practices & Techniques'!A$80,Q132='Practices & Techniques'!A$80,Q133='Practices & Techniques'!A$80,Q134='Practices & Techniques'!A$80,Q135='Practices & Techniques'!A$80),\"N/A\",SUM(U$12:U$16)+SUM(U131:U135))","v":0},null,null,{"$f":"IF(B131=\"\",\"\",1)","v":""},false,null,null,null,null,null,null,null,null,null,null,null,null,null,null,null,null,null,null,null,null,null,null,null,null,null,null,null,null,null,null,null,null,null,null,null,null,null,null,null,null,null,null,null,null,null,null,null,null,null,null,null,null,null,null,null,null,null,null,null,null,null,null,null,null,null,null,null,null,null,null,null,null,null,-8]
[null,null,null,null,null,null,null,null,null,null,null,null,null,null,null,null,null,{"$f":"IF($Q134=\"\",\"\",VLOOKUP($Q134,'Practices & Techniques'!$A$6:$F$114,3,FALSE))","v":""},{"$f":"IF($Q134=\"\",\"\",VLOOKUP($Q134,'Practices & Techniques'!$A$6:$F$114,4,FALSE))","v":""},{"$f":"IF($Q134=\"\",\"\",VLOOKUP($Q134,'Practices & Techniques'!$A$6:$F$114,5,FALSE))","v":""},{"$f":"IF($Q134=\"\",\"\",VLOOKUP($Q134,'Practices & Techniques'!$A$6:$F$114,6,FALSE))","v":""},{"$f":"IF($Q134=\"\",\"\",VLOOKUP($Q134,'Practices & Techniques'!$A$6:$G$114,7,FALSE))","v":""},null,null,null,null,null,null,{"$f":"IF(B131=\"\",\"\",1)","v":""},false]
[null,null,null,null,null,null,null,null,null,null,null,null,null,null,null,"  Drift",null,{"$f":"IF($Q135=\"\",\"\",VLOOKUP($Q135,'Practices & Techniques'!$A$6:$F$114,3,FALSE))","v":""},{"$f":"IF($Q135=\"\",\"\",VLOOKUP($Q135,'Practices & Techniques'!$A$6:$F$114,4,FALSE))","v":""},{"$f":"IF($Q135=\"\",\"\",VLOOKUP($Q135,'Practices & Techniques'!$A$6:$F$114,5,FALSE))","v":""},{"$f":"IF($Q135=\"\",\"\",VLOOKUP($Q135,'Practices & Techniques'!$A$6:$F$114,6,FALSE))","v":""},{"$f":"IF($Q135=\"\",\"\",VLOOKUP($Q135,'Practices & Techniques'!$A$6:$G$114,7,FALSE))","v":""},null,null,null,null,null,null,{"$f":"IF(B131=\"\",\"\",1)","v":""},false]
["M",{"$f":"IF(AJ34=\"\",\"\",(AJ34))","v":""},{"$f":"IF(AL34=\"\",\"\", (AL34))","v":""},null,{"$f":"IF(AY34=\"\",\"\", (AY34))","v":""},{"$f":"IF(BB34=\"\",\"\",(BB34))","v":""},"Human",{"$f":"IF(CN34=\"\",\"\",(CN34))","v":""},"Human",{"$f":"IF(CO34=\"\",\"\",(CO34))","v":""},null,null,{"$f":"IF(BL34=\"\",\"\", (BL34))","v":""},{"$f":"IF(BM34=\"\",\"\", (BM34))","v":""},{"$f":"IF(BN34=\"\",\"\", (BN34))","v":""},"Volatilization",null,{"$f":"IF($Q136=\"\",\"\",VLOOKUP($Q136,'Practices & Techniques'!$A$6:$F$114,3,FALSE))","v":""},{"$f":"IF($Q136=\"\",\"\",VLOOKUP($Q136,'Practices & Techniques'!$A$6:$F$114,4,FALSE))","v":""},{"$f":"IF($Q136=\"\",\"\",VLOOKUP($Q136,'Practices & Techniques'!$A$6:$F$114,5,FALSE))","v":""},{"$f":"IF($Q136=\"\",\"\",VLOOKUP($Q136,'Practices & Techniques'!$A$6:$F$114,6,FALSE))","v":""},{"$f":"IF($Q136=\"\",\"\",VLOOKUP($Q136,'Practices & Techniques'!$A$6:$G$114,7,FALSE))","v":""},{"$f":"IF(OR(Q136='Practices & Techniques'!A$80,Q137='Practices & Techniques'!A$80,Q138='Practices & Techniques'!A$80,Q139='Practices & Techniques'!A$80,Q140='Practices & Techniques'!A$80),\"N/A\",SUM(R$12:R$16)+SUM(R136:R140))","v":0},{"$f":"IF(OR(Q136='Practices & Techniques'!A$80,Q137='Practices & Techniques'!A$80,Q138='Practices & Techniques'!A$80,Q139='Practices & Techniques'!A$80,Q140='Practices & Techniques'!A$80),\"N/A\",SUM(S$12:S$16)+SUM(S136:S140))","v":0},null,{"$f":"IF(OR(Q136='Practices & Techniques'!A$80,Q137='Practices & Techniques'!A$80,Q138='Practices & Techniques'!A$80,Q139='Practices & Techniques'!A$80,Q140='Practices & Techniques'!A$80),\"N/A\",SUM(U$12:U$16)+SUM(U136:U140))","v":0},{"$f":"IF(OR(Q136='Practices & Techniques'!A$80,Q137='Practices & Techniques'!A$80,Q138='Practices & Techniques'!A$80,Q139='Practices & Techniques'!A$80,Q140='Practices & Techniques'!A$80),\"N/A\",SUM(V$12:V$16)+SUM(V136:V140))","v":0},null,{"$f":"IF(B136=\"\",\"\",1)","v":""},false]
[null,null,null,null,null,null,null,null,null,null,null,null,null,null,null,null,null,{"$f":"IF($Q137=\"\",\"\",VLOOKUP($Q137,'Practices & Techniques'!$A$6:$F$114,3,FALSE))","v":""},{"$f":"IF($Q137=\"\",\"\",VLOOKUP($Q137,'Practices & Techniques'!$A$6:$F$114,4,FALSE))","v":""},{"$f":"IF($Q137=\"\",\"\",VLOOKUP($Q137,'Practices & Techniques'!$A$6:$F$114,5,FALSE))","v":""},{"$f":"IF($Q137=\"\",\"\",VLOOKUP($Q137,'Practices & Techniques'!$A$6:$F$114,6,FALSE))","v":""},{"$f":"IF($Q137=\"\",\"\",VLOOKUP($Q137,'Practices & Techniques'!$A$6:$G$114,7,FALSE))","v":""},null,null,null,null,null,null,{"$f":"IF(B136=\"\",\"\",1)","v":""},false]
["P",null,null,null,null,null,"Fish",{"$f":"IF(CL34=\"\",\"\",(CL34))","v":""},"Fish",{"$f":"IF(CM34=\"\",\"\",(CM34))","v":""},"Fish",{"$f":"IF(CK34=\"\",\"\",(CK34))","v":""},null,null,null,"Pollinators-Direct Contact",null,{"$f":"IF($Q138=\"\",\"\",VLOOKUP($Q138,'Practices & Techniques'!$A$6:$F$114,3,FALSE))","v":""},{"$f":"IF($Q138=\"\",\"\",VLOOKUP($Q138,'Practices & Techniques'!$A$6:$F$114,4,FALSE))","v":""},{"$f":"IF($Q138=\"\",\"\",VLOOKUP($Q138,'Practices & Techniques'!$A$6:$F$114,5,FALSE))","v":""},{"$f":"IF($Q138=\"\",\"\",VLOOKUP($Q138,'Practices & Techniques'!$A$6:$F$114,6,FALSE))","v":""},{"$f":"IF($Q138=\"\",\"\",VLOOKUP($Q138,'Practices & Techniques'!$A$6:$G$114,7,FALSE))","v":""},{"$f":"IF(OR(Q136='Practices & Techniques'!A$80,Q137='Practices & Techniques'!A$80,Q138='Practices & Techniques'!A$80,Q139='Practices & Techniques'!A$80,Q140='Practices & Techniques'!A$80),\"N/A\",SUM(R$12:R$16)+SUM(R136:R140))","v":0},{"$f":"IF(OR(Q136='Practices & Techniques'!A$80,Q137='Practices & Techniques'!A$80,Q138='Practices & Techniques'!A$80,Q139='Practices & Techniques'!A$80,Q140='Practices & Techniques'!A$80),\"N/A\",SUM(S$12:S$16)+SUM(S136:S140))","v":0},{"$f":"IF(OR(Q136='Practices & Techniques'!A$80,Q137='Practices & Techniques'!A$80,Q138='Practices & Techniques'!A$80,Q139='Practices & Techniques'!A$80,Q140='Practices & Techniques'!A$80),\"N/A\",SUM(T$12:T$16)+SUM(T136:T140))","v":0},{"$f":"IF(OR(Q136='Practices & Techniques'!A$80,Q137='Practices & Techniques'!A$80,Q138='Practices & Techniques'!A$80,Q139='Practices & Techniques'!A$80,Q140='Practices & Techniques'!A$80),\"N/A\",SUM(U$12:U$16)+SUM(U136:U140))","v":0},null,null,{"$f":"IF(B136=\"\",\"\",1)","v":""},false,null,null,null,null,null,null,null,null,null,null,null,null,null,null,null,null,null,null,null,null,null,null,null,null,null,null,null,null,null,null,null,null,null,null,null,null,null,null,null,null,null,null,null,null,null,null,null,null,null,null,null,null,null,null,null,null,null,null,null,null,null,null,null,null,null,null,null,null,null,null,null,null,null,-8]
[null,null,null,null,null,null,null,null,null,null,null,null,null,null,null,null,null,{"$f":"IF($Q139=\"\",\"\",VLOOKUP($Q139,'Practices & Techniques'!$A$6:$F$114,3,FALSE))","v":""},{"$f":"IF($Q139=\"\",\"\",VLOOKUP($Q139,'Practices & Techniques'!$A$6:$F$114,4,FALSE))","v":""},{"$f":"IF($Q139=\"\",\"\",VLOOKUP($Q139,'Practices & Techniques'!$A$6:$F$114,5,FALSE))","v":""},{"$f":"IF($Q139=\"\",\"\",VLOOKUP($Q139,'Practices & Techniques'!$A$6:$F$114,6,FALSE))","v":""},{"$f":"IF($Q139=\"\",\"\",VLOOKUP($Q139,'Practices & Techniques'!$A$6:$G$114,7,FALSE))","v":""},null,null,null,null,null,null,{"$f":"IF(B136=\"\",\"\",1)","v":""},false]
[null,null,null,null,null,null,null,null,null,null,null,null,null,null,null,"  Drift",null,{"$f":"IF($Q140=\"\",\"\",VLOOKUP($Q140,'Practices & Techniques'!$A$6:$F$114,3,FALSE))","v":""},{"$f":"IF($Q140=\"\",\"\",VLOOKUP($Q140,'Practices & Techniques'!$A$6:$F$114,4,FALSE))","v":""},{"$f":"IF($Q140=\"\",\"\",VLOOKUP($Q140,'Practices & Techniques'!$A$6:$F$114,5,FALSE))","v":""},{"$f":"IF($Q140=\"\",\"\",VLOOKUP($Q140,'Practices & Techniques'!$A$6:$F$114,6,FALSE))","v":""},{"$f":"IF($Q140=\"\",\"\",VLOOKUP($Q140,'Practices & Techniques'!$A$6:$G$114,7,FALSE))","v":""},null,null,null,null,null,null,{"$f":"IF(B136=\"\",\"\",1)","v":""},false]
["M",{"$f":"IF(AJ35=\"\",\"\",(AJ35))","v":""},{"$f":"IF(AL35=\"\",\"\", (AL35))","v":""},null,{"$f":"IF(AY35=\"\",\"\", (AY35))","v":""},{"$f":"IF(BB35=\"\",\"\",(BB35))","v":""},"Human",{"$f":"IF(CN35=\"\",\"\",(CN35))","v":""},"Human",{"$f":"IF(CO35=\"\",\"\",(CO35))","v":""},null,null,{"$f":"IF(BL39=\"\",\"\", (BL39))","v":""},{"$f":"IF(BM39=\"\",\"\", (BM39))","v":""},{"$f":"IF(BN39=\"\",\"\", (BN39))","v":""},"Volatilization",null,{"$f":"IF($Q141=\"\",\"\",VLOOKUP($Q141,'Practices & Techniques'!$A$6:$F$114,3,FALSE))","v":""},{"$f":"IF($Q141=\"\",\"\",VLOOKUP($Q141,'Practices & Techniques'!$A$6:$F$114,4,FALSE))","v":""},{"$f":"IF($Q141=\"\",\"\",VLOOKUP($Q141,'Practices & Techniques'!$A$6:$F$114,5,FALSE))","v":""},{"$f":"IF($Q141=\"\",\"\",VLOOKUP($Q141,'Practices & Techniques'!$A$6:$F$114,6,FALSE))","v":""},{"$f":"IF($Q141=\"\",\"\",VLOOKUP($Q141,'Practices & Techniques'!$A$6:$G$114,7,FALSE))","v":""},{"$f":"IF(OR(Q141='Practices & Techniques'!A$80,Q142='Practices & Techniques'!A$80,Q143='Practices & Techniques'!A$80,Q144='Practices & Techniques'!A$80,Q145='Practices & Techniques'!A$80),\"N/A\",SUM(R$12:R$16)+SUM(R141:R145))","v":0},{"$f":"IF(OR(Q141='Practices & Techniques'!A$80,Q142='Practices & Techniques'!A$80,Q143='Practices & Techniques'!A$80,Q144='Practices & Techniques'!A$80,Q145='Practices & Techniques'!A$80),\"N/A\",SUM(S$12:S$16)+SUM(S141:S145))","v":0},null,{"$f":"IF(OR(Q141='Practices & Techniques'!A$80,Q142='Practices & Techniques'!A$80,Q143='Practices & Techniques'!A$80,Q144='Practices & Techniques'!A$80,Q145='Practices & Techniques'!A$80),\"N/A\",SUM(U$12:U$16)+SUM(U141:U145))","v":0},{"$f":"IF(OR(Q141='Practices & Techniques'!A$80,Q142='Practices & Techniques'!A$80,Q143='Practices & Techniques'!A$80,Q144='Practices & Techniques'!A$80,Q145='Practices & Techniques'!A$80),\"N/A\",SUM(V$12:V$16)+SUM(V141:V145))","v":0},null,{"$f":"IF(B141=\"\",\"\",1)","v":""},false,{"$f":"'Practices & Techniques'!A124","v":0}]
[null,null,null,null,null,null,null,null,null,null,null,null,null,null,null,null,null,{"$f":"IF($Q142=\"\",\"\",VLOOKUP($Q142,'Practices & Techniques'!$A$6:$F$114,3,FALSE))","v":""},{"$f":"IF($Q142=\"\",\"\",VLOOKUP($Q142,'Practices & Techniques'!$A$6:$F$114,4,FALSE))","v":""},{"$f":"IF($Q142=\"\",\"\",VLOOKUP($Q142,'Practices & Techniques'!$A$6:$F$114,5,FALSE))","v":""},{"$f":"IF($Q142=\"\",\"\",VLOOKUP($Q142,'Practices & Techniques'!$A$6:$F$114,6,FALSE))","v":""},{"$f":"IF($Q142=\"\",\"\",VLOOKUP($Q142,'Practices & Techniques'!$A$6:$G$114,7,FALSE))","v":""},null,null,null,null,null,null,{"$f":"IF(B141=\"\",\"\",1)","v":""},false,{"$f":"'Practices & Techniques'!A125","v":0}]
["P",null,null,null,null,null,"Fish",{"$f":"IF(CL35=\"\",\"\",(CL35))","v":""},"Fish",{"$f":"IF(CM35=\"\",\"\",(CM35))","v":""},"Fish",{"$f":"IF(CK35=\"\",\"\",(CK35))","v":""},null,null,null,"Pollinators-Direct Contact",null,{"$f":"IF($Q143=\"\",\"\",VLOOKUP($Q143,'Practices & Techniques'!$A$6:$F$114,3,FALSE))","v":""},{"$f":"IF($Q143=\"\",\"\",VLOOKUP($Q143,'Practices & Techniques'!$A$6:$F$114,4,FALSE))","v":""},{"$f":"IF($Q143=\"\",\"\",VLOOKUP($Q143,'Practices & Techniques'!$A$6:$F$114,5,FALSE))","v":""},{"$f":"IF($Q143=\"\",\"\",VLOOKUP($Q143,'Practices & Techniques'!$A$6:$F$114,6,FALSE))","v":""},{"$f":"IF($Q143=\"\",\"\",VLOOKUP($Q143,'Practices & Techniques'!$A$6:$G$114,7,FALSE))","v":""},{"$f":"IF(OR(Q141='Practices & Techniques'!A$80,Q142='Practices & Techniques'!A$80,Q143='Practices & Techniques'!A$80,Q144='Practices & Techniques'!A$80,Q145='Practices & Techniques'!A$80),\"N/A\",SUM(R$12:R$16)+SUM(R141:R145))","v":0},{"$f":"IF(OR(Q141='Practices & Techniques'!A$80,Q142='Practices & Techniques'!A$80,Q143='Practices & Techniques'!A$80,Q144='Practices & Techniques'!A$80,Q145='Practices & Techniques'!A$80),\"N/A\",SUM(S$12:S$16)+SUM(S141:S145))","v":0},{"$f":"IF(OR(Q141='Practices & Techniques'!A$80,Q142='Practices & Techniques'!A$80,Q143='Practices & Techniques'!A$80,Q144='Practices & Techniques'!A$80,Q145='Practices & Techniques'!A$80),\"N/A\",SUM(T$12:T$16)+SUM(T141:T145))","v":0},{"$f":"IF(OR(Q141='Practices & Techniques'!A$80,Q142='Practices & Techniques'!A$80,Q143='Practices & Techniques'!A$80,Q144='Practices & Techniques'!A$80,Q145='Practices & Techniques'!A$80),\"N/A\",SUM(U$12:U$16)+SUM(U141:U145))","v":0},null,null,{"$f":"IF(B141=\"\",\"\",1)","v":""},false,null,null,null,null,null,null,null,null,null,null,null,null,null,null,null,null,null,null,null,null,null,null,null,null,null,null,null,null,null,null,null,null,null,null,null,null,null,null,null,null,null,null,null,null,null,null,null,null,null,null,null,null,null,null,null,null,null,null,null,null,null,null,null,null,null,null,null,null,null,null,null,null,null,-8]
[null,null,null,null,null,null,null,null,null,null,null,null,null,null,null,null,null,{"$f":"IF($Q144=\"\",\"\",VLOOKUP($Q144,'Practices & Techniques'!$A$6:$F$114,3,FALSE))","v":""},{"$f":"IF($Q144=\"\",\"\",VLOOKUP($Q144,'Practices & Techniques'!$A$6:$F$114,4,FALSE))","v":""},{"$f":"IF($Q144=\"\",\"\",VLOOKUP($Q144,'Practices & Techniques'!$A$6:$F$114,5,FALSE))","v":""},{"$f":"IF($Q144=\"\",\"\",VLOOKUP($Q144,'Practices & Techniques'!$A$6:$F$114,6,FALSE))","v":""},{"$f":"IF($Q144=\"\",\"\",VLOOKUP($Q144,'Practices & Techniques'!$A$6:$G$114,7,FALSE))","v":""},null,null,null,null,null,null,{"$f":"IF(B141=\"\",\"\",1)","v":""},false]
[null,null,null,null,null,null,null,null,null,null,null,null,null,null,null,"  Drift",null,{"$f":"IF($Q145=\"\",\"\",VLOOKUP($Q145,'Practices & Techniques'!$A$6:$F$114,3,FALSE))","v":""},{"$f":"IF($Q145=\"\",\"\",VLOOKUP($Q145,'Practices & Techniques'!$A$6:$F$114,4,FALSE))","v":""},{"$f":"IF($Q145=\"\",\"\",VLOOKUP($Q145,'Practices & Techniques'!$A$6:$F$114,5,FALSE))","v":""},{"$f":"IF($Q145=\"\",\"\",VLOOKUP($Q145,'Practices & Techniques'!$A$6:$F$114,6,FALSE))","v":""},{"$f":"IF($Q145=\"\",\"\",VLOOKUP($Q145,'Practices & Techniques'!$A$6:$G$114,7,FALSE))","v":""},null,null,null,null,null,null,{"$f":"IF(B141=\"\",\"\",1)","v":""},false]
["M",{"$f":"IF(AJ36=\"\",\"\",(AJ36))","v":""},{"$f":"IF(AL36=\"\",\"\", (AL36))","v":""},null,{"$f":"IF(AY36=\"\",\"\", (AY36))","v":""},{"$f":"IF(BB36=\"\",\"\",(BB36))","v":""},"Human",{"$f":"IF(CN36=\"\",\"\",(CN36))","v":""},"Human",{"$f":"IF(CO36=\"\",\"\",(CO36))","v":""},null,null,{"$f":"IF(BL36=\"\",\"\", (BL36))","v":""},{"$f":"IF(BM36=\"\",\"\", (BM36))","v":""},{"$f":"IF(BN36=\"\",\"\", (BN36))","v":""},"Volatilization",null,{"$f":"IF($Q146=\"\",\"\",VLOOKUP($Q146,'Practices & Techniques'!$A$6:$F$114,3,FALSE))","v":""},{"$f":"IF($Q146=\"\",\"\",VLOOKUP($Q146,'Practices & Techniques'!$A$6:$F$114,4,FALSE))","v":""},{"$f":"IF($Q146=\"\",\"\",VLOOKUP($Q146,'Practices & Techniques'!$A$6:$F$114,5,FALSE))","v":""},{"$f":"IF($Q146=\"\",\"\",VLOOKUP($Q146,'Practices & Techniques'!$A$6:$F$114,6,FALSE))","v":""},{"$f":"IF($Q146=\"\",\"\",VLOOKUP($Q146,'Practices & Techniques'!$A$6:$G$114,7,FALSE))","v":""},{"$f":"IF(OR(Q146='Practices & Techniques'!A$80,Q147='Practices & Techniques'!A$80,Q148='Practices & Techniques'!A$80,Q149='Practices & Techniques'!A$80,Q150='Practices & Techniques'!A$80),\"N/A\",SUM(R$12:R$16)+SUM(R146:R150))","v":0},{"$f":"IF(OR(Q146='Practices & Techniques'!A$80,Q147='Practices & Techniques'!A$80,Q148='Practices & Techniques'!A$80,Q149='Practices & Techniques'!A$80,Q150='Practices & Techniques'!A$80),\"N/A\",SUM(S$12:S$16)+SUM(S146:S150))","v":0},null,{"$f":"IF(OR(Q146='Practices & Techniques'!A$80,Q147='Practices & Techniques'!A$80,Q148='Practices & Techniques'!A$80,Q149='Practices & Techniques'!A$80,Q150='Practices & Techniques'!A$80),\"N/A\",SUM(U$12:U$16)+SUM(U146:U150))","v":0},{"$f":"IF(OR(Q146='Practices & Techniques'!A$80,Q147='Practices & Techniques'!A$80,Q148='Practices & Techniques'!A$80,Q149='Practices & Techniques'!A$80,Q150='Practices & Techniques'!A$80),\"N/A\",SUM(V$12:V$16)+SUM(V146:V150))","v":0},null,{"$f":"IF(B146=\"\",\"\",1)","v":""},false]
[null,null,null,null,null,null,null,null,null,null,null,null,null,null,null,null,null,{"$f":"IF($Q147=\"\",\"\",VLOOKUP($Q147,'Practices & Techniques'!$A$6:$F$114,3,FALSE))","v":""},{"$f":"IF($Q147=\"\",\"\",VLOOKUP($Q147,'Practices & Techniques'!$A$6:$F$114,4,FALSE))","v":""},{"$f":"IF($Q147=\"\",\"\",VLOOKUP($Q147,'Practices & Techniques'!$A$6:$F$114,5,FALSE))","v":""},{"$f":"IF($Q147=\"\",\"\",VLOOKUP($Q147,'Practices & Techniques'!$A$6:$F$114,6,FALSE))","v":""},{"$f":"IF($Q147=\"\",\"\",VLOOKUP($Q147,'Practices & Techniques'!$A$6:$G$114,7,FALSE))","v":""},null,null,null,null,null,null,{"$f":"IF(B146=\"\",\"\",1)","v":""},false]
["P",null,null,null,null,null,"Fish",{"$f":"IF(CL36=\"\",\"\",(CL36))","v":""},"Fish",{"$f":"IF(CM36=\"\",\"\",(CM36))","v":""},"Fish",{"$f":"IF(CK36=\"\",\"\",(CK36))","v":""},null,null,null,"Pollinators-Direct Contact",null,{"$f":"IF($Q148=\"\",\"\",VLOOKUP($Q148,'Practices & Techniques'!$A$6:$F$114,3,FALSE))","v":""},{"$f":"IF($Q148=\"\",\"\",VLOOKUP($Q148,'Practices & Techniques'!$A$6:$F$114,4,FALSE))","v":""},{"$f":"IF($Q148=\"\",\"\",VLOOKUP($Q148,'Practices & Techniques'!$A$6:$F$114,5,FALSE))","v":""},{"$f":"IF($Q148=\"\",\"\",VLOOKUP($Q148,'Practices & Techniques'!$A$6:$F$114,6,FALSE))","v":""},{"$f":"IF($Q148=\"\",\"\",VLOOKUP($Q148,'Practices & Techniques'!$A$6:$G$114,7,FALSE))","v":""},{"$f":"IF(OR(Q146='Practices & Techniques'!A$80,Q147='Practices & Techniques'!A$80,Q148='Practices & Techniques'!A$80,Q149='Practices & Techniques'!A$80,Q150='Practices & Techniques'!A$80),\"N/A\",SUM(R$12:R$16)+SUM(R146:R150))","v":0},{"$f":"IF(OR(Q146='Practices & Techniques'!A$80,Q147='Practices & Techniques'!A$80,Q148='Practices & Techniques'!A$80,Q149='Practices & Techniques'!A$80,Q150='Practices & Techniques'!A$80),\"N/A\",SUM(S$12:S$16)+SUM(S146:S150))","v":0},{"$f":"IF(OR(Q146='Practices & Techniques'!A$80,Q147='Practices & Techniques'!A$80,Q148='Practices & Techniques'!A$80,Q149='Practices & Techniques'!A$80,Q150='Practices & Techniques'!A$80),\"N/A\",SUM(T$12:T$16)+SUM(T146:T150))","v":0},{"$f":"IF(OR(Q146='Practices & Techniques'!A$80,Q147='Practices & Techniques'!A$80,Q148='Practices & Techniques'!A$80,Q149='Practices & Techniques'!A$80,Q150='Practices & Techniques'!A$80),\"N/A\",SUM(U$12:U$16)+SUM(U146:U150))","v":0},null,null,{"$f":"IF(B146=\"\",\"\",1)","v":""},false,null,null,null,null,null,null,null,null,null,null,null,null,null,null,null,null,null,null,null,null,null,null,null,null,null,null,null,null,null,null,null,null,null,null,null,null,null,null,null,null,null,null,null,null,null,null,null,null,null,null,null,null,null,null,null,null,null,null,null,null,null,null,null,null,null,null,null,null,null,null,null,null,null,-8]
[null,null,null,null,null,null,null,null,null,null,null,null,null,null,null,null,null,{"$f":"IF($Q149=\"\",\"\",VLOOKUP($Q149,'Practices & Techniques'!$A$6:$F$114,3,FALSE))","v":""},{"$f":"IF($Q149=\"\",\"\",VLOOKUP($Q149,'Practices & Techniques'!$A$6:$F$114,4,FALSE))","v":""},{"$f":"IF($Q149=\"\",\"\",VLOOKUP($Q149,'Practices & Techniques'!$A$6:$F$114,5,FALSE))","v":""},{"$f":"IF($Q149=\"\",\"\",VLOOKUP($Q149,'Practices & Techniques'!$A$6:$F$114,6,FALSE))","v":""},{"$f":"IF($Q149=\"\",\"\",VLOOKUP($Q149,'Practices & Techniques'!$A$6:$G$114,7,FALSE))","v":""},null,null,null,null,null,null,{"$f":"IF(B146=\"\",\"\",1)","v":""},false]
[null,null,null,null,null,null,null,null,null,null,null,null,null,null,null,"  Drift",null,{"$f":"IF($Q150=\"\",\"\",VLOOKUP($Q150,'Practices & Techniques'!$A$6:$F$114,3,FALSE))","v":""},{"$f":"IF($Q150=\"\",\"\",VLOOKUP($Q150,'Practices & Techniques'!$A$6:$F$114,4,FALSE))","v":""},{"$f":"IF($Q150=\"\",\"\",VLOOKUP($Q150,'Practices & Techniques'!$A$6:$F$114,5,FALSE))","v":""},{"$f":"IF($Q150=\"\",\"\",VLOOKUP($Q150,'Practices & Techniques'!$A$6:$F$114,6,FALSE))","v":""},{"$f":"IF($Q150=\"\",\"\",VLOOKUP($Q150,'Practices & Techniques'!$A$6:$G$114,7,FALSE))","v":""},null,null,null,null,null,null,{"$f":"IF(B146=\"\",\"\",1)","v":""},false]
["M",{"$f":"IF(AJ37=\"\",\"\",(AJ37))","v":""},{"$f":"IF(AL37=\"\",\"\", (AL37))","v":""},null,{"$f":"IF(AY37=\"\",\"\", (AY37))","v":""},{"$f":"IF(BB37=\"\",\"\",(BB37))","v":""},"Human",{"$f":"IF(CN37=\"\",\"\",(CN37))","v":""},"Human",{"$f":"IF(CO37=\"\",\"\",(CO37))","v":""},null,null,{"$f":"IF(BL37=\"\",\"\", (BL37))","v":""},{"$f":"IF(BM37=\"\",\"\", (BM37))","v":""},{"$f":"IF(BN37=\"\",\"\", (BN37))","v":""},"Volatilization",null,{"$f":"IF($Q151=\"\",\"\",VLOOKUP($Q151,'Practices & Techniques'!$A$6:$F$114,3,FALSE))","v":""},{"$f":"IF($Q151=\"\",\"\",VLOOKUP($Q151,'Practices & Techniques'!$A$6:$F$114,4,FALSE))","v":""},{"$f":"IF($Q151=\"\",\"\",VLOOKUP($Q151,'Practices & Techniques'!$A$6:$F$114,5,FALSE))","v":""},{"$f":"IF($Q151=\"\",\"\",VLOOKUP($Q151,'Practices & Techniques'!$A$6:$F$114,6,FALSE))","v":""},{"$f":"IF($Q151=\"\",\"\",VLOOKUP($Q151,'Practices & Techniques'!$A$6:$G$114,7,FALSE))","v":""},{"$f":"IF(OR(Q151='Practices & Techniques'!A$80,Q152='Practices & Techniques'!A$80,Q153='Practices & Techniques'!A$80,Q154='Practices & Techniques'!A$80,Q155='Practices & Techniques'!A$80),\"N/A\",SUM(R$12:R$16)+SUM(R151:R155))","v":0},{"$f":"IF(OR(Q151='Practices & Techniques'!A$80,Q152='Practices & Techniques'!A$80,Q153='Practices & Techniques'!A$80,Q154='Practices & Techniques'!A$80,Q155='Practices & Techniques'!A$80),\"N/A\",SUM(S$12:S$16)+SUM(S151:S155))","v":0},null,{"$f":"IF(OR(Q151='Practices & Techniques'!A$80,Q152='Practices & Techniques'!A$80,Q153='Practices & Techniques'!A$80,Q154='Practices & Techniques'!A$80,Q155='Practices & Techniques'!A$80),\"N/A\",SUM(U$12:U$16)+SUM(U151:U155))","v":0},{"$f":"IF(OR(Q151='Practices & Techniques'!A$80,Q152='Practices & Techniques'!A$80,Q153='Practices & Techniques'!A$80,Q154='Practices & Techniques'!A$80,Q155='Practices & Techniques'!A$80),\"N/A\",SUM(V$12:V$16)+SUM(V151:V155))","v":0},null,{"$f":"IF(B151=\"\",\"\",1)","v":""},false]
[null,null,null,null,null,null,null,null,null,null,null,null,null,null,null,null,null,{"$f":"IF($Q152=\"\",\"\",VLOOKUP($Q152,'Practices & Techniques'!$A$6:$F$114,3,FALSE))","v":""},{"$f":"IF($Q152=\"\",\"\",VLOOKUP($Q152,'Practices & Techniques'!$A$6:$F$114,4,FALSE))","v":""},{"$f":"IF($Q152=\"\",\"\",VLOOKUP($Q152,'Practices & Techniques'!$A$6:$F$114,5,FALSE))","v":""},{"$f":"IF($Q152=\"\",\"\",VLOOKUP($Q152,'Practices & Techniques'!$A$6:$F$114,6,FALSE))","v":""},{"$f":"IF($Q152=\"\",\"\",VLOOKUP($Q152,'Practices & Techniques'!$A$6:$G$114,7,FALSE))","v":""},null,null,null,null,null,null,{"$f":"IF(B151=\"\",\"\",1)","v":""},false]
["P",null,null,null,null,null,"Fish",{"$f":"IF(CL37=\"\",\"\",(CL37))","v":""},"Fish",{"$f":"IF(CM37=\"\",\"\",(CM37))","v":""},"Fish",{"$f":"IF(CK37=\"\",\"\",(CK37))","v":""},null,null,null,"Pollinators-Direct Contact",null,{"$f":"IF($Q153=\"\",\"\",VLOOKUP($Q153,'Practices & Techniques'!$A$6:$F$114,3,FALSE))","v":""},{"$f":"IF($Q153=\"\",\"\",VLOOKUP($Q153,'Practices & Techniques'!$A$6:$F$114,4,FALSE))","v":""},{"$f":"IF($Q153=\"\",\"\",VLOOKUP($Q153,'Practices & Techniques'!$A$6:$F$114,5,FALSE))","v":""},{"$f":"IF($Q153=\"\",\"\",VLOOKUP($Q153,'Practices & Techniques'!$A$6:$F$114,6,FALSE))","v":""},{"$f":"IF($Q153=\"\",\"\",VLOOKUP($Q153,'Practices & Techniques'!$A$6:$G$114,7,FALSE))","v":""},{"$f":"IF(OR(Q151='Practices & Techniques'!A$80,Q152='Practices & Techniques'!A$80,Q153='Practices & Techniques'!A$80,Q154='Practices & Techniques'!A$80,Q155='Practices & Techniques'!A$80),\"N/A\",SUM(R$12:R$16)+SUM(R151:R155))","v":0},{"$f":"IF(OR(Q151='Practices & Techniques'!A$80,Q152='Practices & Techniques'!A$80,Q153='Practices & Techniques'!A$80,Q154='Practices & Techniques'!A$80,Q155='Practices & Techniques'!A$80),\"N/A\",SUM(S$12:S$16)+SUM(S151:S155))","v":0},{"$f":"IF(OR(Q151='Practices & Techniques'!A$80,Q152='Practices & Techniques'!A$80,Q153='Practices & Techniques'!A$80,Q154='Practices & Techniques'!A$80,Q155='Practices & Techniques'!A$80),\"N/A\",SUM(T$12:T$16)+SUM(T151:T155))","v":0},{"$f":"IF(OR(Q151='Practices & Techniques'!A$80,Q152='Practices & Techniques'!A$80,Q153='Practices & Techniques'!A$80,Q154='Practices & Techniques'!A$80,Q155='Practices & Techniques'!A$80),\"N/A\",SUM(U$12:U$16)+SUM(U151:U155))","v":0},null,null,{"$f":"IF(B151=\"\",\"\",1)","v":""},false,null,null,null,null,null,null,null,null,null,null,null,null,null,null,null,null,null,null,null,null,null,null,null,null,null,null,null,null,null,null,null,null,null,null,null,null,null,null,null,null,null,null,null,null,null,null,null,null,null,null,null,null,null,null,null,null,null,null,null,null,null,null,null,null,null,null,null,null,null,null,null,null,null,-8]
[null,null,null,null,null,null,null,null,null,null,null,null,null,null,null,null,null,{"$f":"IF($Q154=\"\",\"\",VLOOKUP($Q154,'Practices & Techniques'!$A$6:$F$114,3,FALSE))","v":""},{"$f":"IF($Q154=\"\",\"\",VLOOKUP($Q154,'Practices & Techniques'!$A$6:$F$114,4,FALSE))","v":""},{"$f":"IF($Q154=\"\",\"\",VLOOKUP($Q154,'Practices & Techniques'!$A$6:$F$114,5,FALSE))","v":""},{"$f":"IF($Q154=\"\",\"\",VLOOKUP($Q154,'Practices & Techniques'!$A$6:$F$114,6,FALSE))","v":""},{"$f":"IF($Q154=\"\",\"\",VLOOKUP($Q154,'Practices & Techniques'!$A$6:$G$114,7,FALSE))","v":""},null,null,null,null,null,null,{"$f":"IF(B151=\"\",\"\",1)","v":""},false]
[null,null,null,null,null,null,null,null,null,null,null,null,null,null,null,"  Drift",null,{"$f":"IF($Q155=\"\",\"\",VLOOKUP($Q155,'Practices & Techniques'!$A$6:$F$114,3,FALSE))","v":""},{"$f":"IF($Q155=\"\",\"\",VLOOKUP($Q155,'Practices & Techniques'!$A$6:$F$114,4,FALSE))","v":""},{"$f":"IF($Q155=\"\",\"\",VLOOKUP($Q155,'Practices & Techniques'!$A$6:$F$114,5,FALSE))","v":""},{"$f":"IF($Q155=\"\",\"\",VLOOKUP($Q155,'Practices & Techniques'!$A$6:$F$114,6,FALSE))","v":""},{"$f":"IF($Q155=\"\",\"\",VLOOKUP($Q155,'Practices & Techniques'!$A$6:$G$114,7,FALSE))","v":""},null,null,null,null,null,null,{"$f":"IF(B151=\"\",\"\",1)","v":""},false]
["M",{"$f":"IF(AJ38=\"\",\"\",(AJ38))","v":""},{"$f":"IF(AL38=\"\",\"\", (AL38))","v":""},null,{"$f":"IF(AY38=\"\",\"\", (AY38))","v":""},{"$f":"IF(BB38=\"\",\"\",(BB38))","v":""},"Human",{"$f":"IF(CN38=\"\",\"\",(CN38))","v":""},"Human",{"$f":"IF(CO38=\"\",\"\",(CO38))","v":""},null,null,{"$f":"IF(BL38=\"\",\"\", (BL38))","v":""},{"$f":"IF(BM38=\"\",\"\", (BM38))","v":""},{"$f":"IF(BN38=\"\",\"\", (BN38))","v":""},"Volatilization",null,{"$f":"IF($Q156=\"\",\"\",VLOOKUP($Q156,'Practices & Techniques'!$A$6:$F$114,3,FALSE))","v":""},{"$f":"IF($Q156=\"\",\"\",VLOOKUP($Q156,'Practices & Techniques'!$A$6:$F$114,4,FALSE))","v":""},{"$f":"IF($Q156=\"\",\"\",VLOOKUP($Q156,'Practices & Techniques'!$A$6:$F$114,5,FALSE))","v":""},{"$f":"IF($Q156=\"\",\"\",VLOOKUP($Q156,'Practices & Techniques'!$A$6:$F$114,6,FALSE))","v":""},{"$f":"IF($Q156=\"\",\"\",VLOOKUP($Q156,'Practices & Techniques'!$A$6:$G$114,7,FALSE))","v":""},{"$f":"IF(OR(Q156='Practices & Techniques'!A$80,Q157='Practices & Techniques'!A$80,Q158='Practices & Techniques'!A$80,Q159='Practices & Techniques'!A$80,Q160='Practices & Techniques'!A$80),\"N/A\",SUM(R$12:R$16)+SUM(R156:R160))","v":0},{"$f":"IF(OR(Q156='Practices & Techniques'!A$80,Q157='Practices & Techniques'!A$80,Q158='Practices & Techniques'!A$80,Q159='Practices & Techniques'!A$80,Q160='Practices & Techniques'!A$80),\"N/A\",SUM(S$12:S$16)+SUM(S156:S160))","v":0},null,{"$f":"IF(OR(Q156='Practices & Techniques'!A$80,Q157='Practices & Techniques'!A$80,Q158='Practices & Techniques'!A$80,Q159='Practices & Techniques'!A$80,Q160='Practices & Techniques'!A$80),\"N/A\",SUM(U$12:U$16)+SUM(U156:U160))","v":0},{"$f":"IF(OR(Q156='Practices & Techniques'!A$80,Q157='Practices & Techniques'!A$80,Q158='Practices & Techniques'!A$80,Q159='Practices & Techniques'!A$80,Q160='Practices & Techniques'!A$80),\"N/A\",SUM(V$12:V$16)+SUM(V156:V160))","v":0},null,{"$f":"IF(B156=\"\",\"\",1)","v":""},false]
[null,null,null,null,null,null,null,null,null,null,null,null,null,null,null,null,null,{"$f":"IF($Q157=\"\",\"\",VLOOKUP($Q157,'Practices & Techniques'!$A$6:$F$114,3,FALSE))","v":""},{"$f":"IF($Q157=\"\",\"\",VLOOKUP($Q157,'Practices & Techniques'!$A$6:$F$114,4,FALSE))","v":""},{"$f":"IF($Q157=\"\",\"\",VLOOKUP($Q157,'Practices & Techniques'!$A$6:$F$114,5,FALSE))","v":""},{"$f":"IF($Q157=\"\",\"\",VLOOKUP($Q157,'Practices & Techniques'!$A$6:$F$114,6,FALSE))","v":""},{"$f":"IF($Q157=\"\",\"\",VLOOKUP($Q157,'Practices & Techniques'!$A$6:$G$114,7,FALSE))","v":""},null,null,null,null,null,null,{"$f":"IF(B156=\"\",\"\",1)","v":""},false]
["P",null,null,null,null,null,"Fish",{"$f":"IF(CL38=\"\",\"\",(CL38))","v":""},"Fish",{"$f":"IF(CM38=\"\",\"\",(CM38))","v":""},"Fish",{"$f":"IF(CK38=\"\",\"\",(CK38))","v":""},null,null,null,"Pollinators-Direct Contact",null,{"$f":"IF($Q158=\"\",\"\",VLOOKUP($Q158,'Practices & Techniques'!$A$6:$F$114,3,FALSE))","v":""},{"$f":"IF($Q158=\"\",\"\",VLOOKUP($Q158,'Practices & Techniques'!$A$6:$F$114,4,FALSE))","v":""},{"$f":"IF($Q158=\"\",\"\",VLOOKUP($Q158,'Practices & Techniques'!$A$6:$F$114,5,FALSE))","v":""},{"$f":"IF($Q158=\"\",\"\",VLOOKUP($Q158,'Practices & Techniques'!$A$6:$F$114,6,FALSE))","v":""},{"$f":"IF($Q158=\"\",\"\",VLOOKUP($Q158,'Practices & Techniques'!$A$6:$G$114,7,FALSE))","v":""},{"$f":"IF(OR(Q156='Practices & Techniques'!A$80,Q157='Practices & Techniques'!A$80,Q158='Practices & Techniques'!A$80,Q159='Practices & Techniques'!A$80,Q160='Practices & Techniques'!A$80),\"N/A\",SUM(R$12:R$16)+SUM(R156:R160))","v":0},{"$f":"IF(OR(Q156='Practices & Techniques'!A$80,Q157='Practices & Techniques'!A$80,Q158='Practices & Techniques'!A$80,Q159='Practices & Techniques'!A$80,Q160='Practices & Techniques'!A$80),\"N/A\",SUM(S$12:S$16)+SUM(S156:S160))","v":0},{"$f":"IF(OR(Q156='Practices & Techniques'!A$80,Q157='Practices & Techniques'!A$80,Q158='Practices & Techniques'!A$80,Q159='Practices & Techniques'!A$80,Q160='Practices & Techniques'!A$80),\"N/A\",SUM(T$12:T$16)+SUM(T156:T160))","v":0},{"$f":"IF(OR(Q156='Practices & Techniques'!A$80,Q157='Practices & Techniques'!A$80,Q158='Practices & Techniques'!A$80,Q159='Practices & Techniques'!A$80,Q160='Practices & Techniques'!A$80),\"N/A\",SUM(U$12:U$16)+SUM(U156:U160))","v":0},null,null,{"$f":"IF(B156=\"\",\"\",1)","v":""},false,null,null,null,null,null,null,null,null,null,null,null,null,null,null,null,null,null,null,null,null,null,null,null,null,null,null,null,null,null,null,null,null,null,null,null,null,null,null,null,null,null,null,null,null,null,null,null,null,null,null,null,null,null,null,null,null,null,null,null,null,null,null,null,null,null,null,null,null,null,null,null,null,null,-8]
[null,null,null,null,null,null,null,null,null,null,null,null,null,null,null,null,null,{"$f":"IF($Q159=\"\",\"\",VLOOKUP($Q159,'Practices & Techniques'!$A$6:$F$114,3,FALSE))","v":""},{"$f":"IF($Q159=\"\",\"\",VLOOKUP($Q159,'Practices & Techniques'!$A$6:$F$114,4,FALSE))","v":""},{"$f":"IF($Q159=\"\",\"\",VLOOKUP($Q159,'Practices & Techniques'!$A$6:$F$114,5,FALSE))","v":""},{"$f":"IF($Q159=\"\",\"\",VLOOKUP($Q159,'Practices & Techniques'!$A$6:$F$114,6,FALSE))","v":""},{"$f":"IF($Q159=\"\",\"\",VLOOKUP($Q159,'Practices & Techniques'!$A$6:$G$114,7,FALSE))","v":""},null,null,null,null,null,null,{"$f":"IF(B156=\"\",\"\",1)","v":""},false]
[null,null,null,null,null,null,null,null,null,null,null,null,null,null,null,"  Drift",null,{"$f":"IF($Q160=\"\",\"\",VLOOKUP($Q160,'Practices & Techniques'!$A$6:$F$114,3,FALSE))","v":""},{"$f":"IF($Q160=\"\",\"\",VLOOKUP($Q160,'Practices & Techniques'!$A$6:$F$114,4,FALSE))","v":""},{"$f":"IF($Q160=\"\",\"\",VLOOKUP($Q160,'Practices & Techniques'!$A$6:$F$114,5,FALSE))","v":""},{"$f":"IF($Q160=\"\",\"\",VLOOKUP($Q160,'Practices & Techniques'!$A$6:$F$114,6,FALSE))","v":""},{"$f":"IF($Q160=\"\",\"\",VLOOKUP($Q160,'Practices & Techniques'!$A$6:$G$114,7,FALSE))","v":""},null,null,null,null,null,null,{"$f":"IF(B156=\"\",\"\",1)","v":""},false]
["M",{"$f":"IF(AJ39=\"\",\"\",(AJ39))","v":""},{"$f":"IF(AL39=\"\",\"\", (AL39))","v":""},null,{"$f":"IF(AY39=\"\",\"\", (AY39))","v":""},{"$f":"IF(BB39=\"\",\"\",(BB39))","v":""},"Human",{"$f":"IF(CN39=\"\",\"\",(CN39))","v":""},"Human",{"$f":"IF(CO39=\"\",\"\",(CO39))","v":""},null,null,{"$f":"IF(BL39=\"\",\"\", (BL39))","v":""},{"$f":"IF(BM39=\"\",\"\", (BM39))","v":""},{"$f":"IF(BN39=\"\",\"\", (BN39))","v":""},"Volatilization",null,{"$f":"IF($Q161=\"\",\"\",VLOOKUP($Q161,'Practices & Techniques'!$A$6:$F$114,3,FALSE))","v":""},{"$f":"IF($Q161=\"\",\"\",VLOOKUP($Q161,'Practices & Techniques'!$A$6:$F$114,4,FALSE))","v":""},{"$f":"IF($Q161=\"\",\"\",VLOOKUP($Q161,'Practices & Techniques'!$A$6:$F$114,5,FALSE))","v":""},{"$f":"IF($Q161=\"\",\"\",VLOOKUP($Q161,'Practices & Techniques'!$A$6:$F$114,6,FALSE))","v":""},{"$f":"IF($Q161=\"\",\"\",VLOOKUP($Q161,'Practices & Techniques'!$A$6:$G$114,7,FALSE))","v":""},{"$f":"IF(OR(Q161='Practices & Techniques'!A$80,Q162='Practices & Techniques'!A$80,Q163='Practices & Techniques'!A$80,Q164='Practices & Techniques'!A$80,Q165='Practices & Techniques'!A$80),\"N/A\",SUM(R$12:R$16)+SUM(R161:R165))","v":0},{"$f":"IF(OR(Q161='Practices & Techniques'!A$80,Q162='Practices & Techniques'!A$80,Q163='Practices & Techniques'!A$80,Q164='Practices & Techniques'!A$80,Q165='Practices & Techniques'!A$80),\"N/A\",SUM(S$12:S$16)+SUM(S161:S165))","v":0},null,{"$f":"IF(OR(Q161='Practices & Techniques'!A$80,Q162='Practices & Techniques'!A$80,Q163='Practices & Techniques'!A$80,Q164='Practices & Techniques'!A$80,Q165='Practices & Techniques'!A$80),\"N/A\",SUM(U$12:U$16)+SUM(U161:U165))","v":0},{"$f":"IF(OR(Q161='Practices & Techniques'!A$80,Q162='Practices & Techniques'!A$80,Q163='Practices & Techniques'!A$80,Q164='Practices & Techniques'!A$80,Q165='Practices & Techniques'!A$80),\"N/A\",SUM(V$12:V$16)+SUM(V161:V165))","v":0},null,{"$f":"IF(B161=\"\",\"\",1)","v":""},false]
[null,null,null,null,null,null,null,null,null,null,null,null,null,null,null,null,null,{"$f":"IF($Q162=\"\",\"\",VLOOKUP($Q162,'Practices & Techniques'!$A$6:$F$114,3,FALSE))","v":""},{"$f":"IF($Q162=\"\",\"\",VLOOKUP($Q162,'Practices & Techniques'!$A$6:$F$114,4,FALSE))","v":""},{"$f":"IF($Q162=\"\",\"\",VLOOKUP($Q162,'Practices & Techniques'!$A$6:$F$114,5,FALSE))","v":""},{"$f":"IF($Q162=\"\",\"\",VLOOKUP($Q162,'Practices & Techniques'!$A$6:$F$114,6,FALSE))","v":""},{"$f":"IF($Q162=\"\",\"\",VLOOKUP($Q162,'Practices & Techniques'!$A$6:$G$114,7,FALSE))","v":""},null,null,null,null,null,null,{"$f":"IF(B161=\"\",\"\",1)","v":""},false]
["P",null,null,null,null,null,"Fish",{"$f":"IF(CL39=\"\",\"\",(CL39))","v":""},"Fish",{"$f":"IF(CM39=\"\",\"\",(CM39))","v":""},"Fish",{"$f":"IF(CK39=\"\",\"\",(CK39))","v":""},null,null,null,"Pollinators-Direct Contact",null,{"$f":"IF($Q163=\"\",\"\",VLOOKUP($Q163,'Practices & Techniques'!$A$6:$F$114,3,FALSE))","v":""},{"$f":"IF($Q163=\"\",\"\",VLOOKUP($Q163,'Practices & Techniques'!$A$6:$F$114,4,FALSE))","v":""},{"$f":"IF($Q163=\"\",\"\",VLOOKUP($Q163,'Practices & Techniques'!$A$6:$F$114,5,FALSE))","v":""},{"$f":"IF($Q163=\"\",\"\",VLOOKUP($Q163,'Practices & Techniques'!$A$6:$F$114,6,FALSE))","v":""},{"$f":"IF($Q163=\"\",\"\",VLOOKUP($Q163,'Practices & Techniques'!$A$6:$G$114,7,FALSE))","v":""},{"$f":"IF(OR(Q161='Practices & Techniques'!A$80,Q162='Practices & Techniques'!A$80,Q163='Practices & Techniques'!A$80,Q164='Practices & Techniques'!A$80,Q165='Practices & Techniques'!A$80),\"N/A\",SUM(R$12:R$16)+SUM(R161:R165))","v":0},{"$f":"IF(OR(Q161='Practices & Techniques'!A$80,Q162='Practices & Techniques'!A$80,Q163='Practices & Techniques'!A$80,Q164='Practices & Techniques'!A$80,Q165='Practices & Techniques'!A$80),\"N/A\",SUM(S$12:S$16)+SUM(S161:S165))","v":0},{"$f":"IF(OR(Q161='Practices & Techniques'!A$80,Q162='Practices & Techniques'!A$80,Q163='Practices & Techniques'!A$80,Q164='Practices & Techniques'!A$80,Q165='Practices & Techniques'!A$80),\"N/A\",SUM(T$12:T$16)+SUM(T161:T165))","v":0},{"$f":"IF(OR(Q161='Practices & Techniques'!A$80,Q162='Practices & Techniques'!A$80,Q163='Practices & Techniques'!A$80,Q164='Practices & Techniques'!A$80,Q165='Practices & Techniques'!A$80),\"N/A\",SUM(U$12:U$16)+SUM(U161:U165))","v":0},null,null,{"$f":"IF(B161=\"\",\"\",1)","v":""},false,null,null,null,null,null,null,null,null,null,null,null,null,null,null,null,null,null,null,null,null,null,null,null,null,null,null,null,null,null,null,null,null,null,null,null,null,null,null,null,null,null,null,null,null,null,null,null,null,null,null,null,null,null,null,null,null,null,null,null,null,null,null,null,null,null,null,null,null,null,null,null,null,null,-8]
[null,null,null,null,null,null,null,null,null,null,null,null,null,null,null,null,null,{"$f":"IF($Q164=\"\",\"\",VLOOKUP($Q164,'Practices & Techniques'!$A$6:$F$114,3,FALSE))","v":""},{"$f":"IF($Q164=\"\",\"\",VLOOKUP($Q164,'Practices & Techniques'!$A$6:$F$114,4,FALSE))","v":""},{"$f":"IF($Q164=\"\",\"\",VLOOKUP($Q164,'Practices & Techniques'!$A$6:$F$114,5,FALSE))","v":""},{"$f":"IF($Q164=\"\",\"\",VLOOKUP($Q164,'Practices & Techniques'!$A$6:$F$114,6,FALSE))","v":""},{"$f":"IF($Q164=\"\",\"\",VLOOKUP($Q164,'Practices & Techniques'!$A$6:$G$114,7,FALSE))","v":""},null,null,null,null,null,null,{"$f":"IF(B161=\"\",\"\",1)","v":""},false]
[null,null,null,null,null,null,null,null,null,null,null,null,null,null,null,"  Drift",null,{"$f":"IF($Q165=\"\",\"\",VLOOKUP($Q165,'Practices & Techniques'!$A$6:$F$114,3,FALSE))","v":""},{"$f":"IF($Q165=\"\",\"\",VLOOKUP($Q165,'Practices & Techniques'!$A$6:$F$114,4,FALSE))","v":""},{"$f":"IF($Q165=\"\",\"\",VLOOKUP($Q165,'Practices & Techniques'!$A$6:$F$114,5,FALSE))","v":""},{"$f":"IF($Q165=\"\",\"\",VLOOKUP($Q165,'Practices & Techniques'!$A$6:$F$114,6,FALSE))","v":""},{"$f":"IF($Q165=\"\",\"\",VLOOKUP($Q165,'Practices & Techniques'!$A$6:$G$114,7,FALSE))","v":""},null,null,null,null,null,null,{"$f":"IF(B161=\"\",\"\",1)","v":""},false]
["M",{"$f":"IF(AJ40=\"\",\"\",(AJ40))","v":""},{"$f":"IF(AL40=\"\",\"\", (AL40))","v":""},null,{"$f":"IF(AY40=\"\",\"\", (AY40))","v":""},{"$f":"IF(BB40=\"\",\"\",(BB40))","v":""},"Human",{"$f":"IF(CN40=\"\",\"\",(CN40))","v":""},"Human",{"$f":"IF(CO40=\"\",\"\",(CO40))","v":""},null,null,{"$f":"IF(BL40=\"\",\"\", (BL40))","v":""},{"$f":"IF(BM40=\"\",\"\", (BM40))","v":""},{"$f":"IF(BN40=\"\",\"\", (BN40))","v":""},"Volatilization",null,{"$f":"IF($Q166=\"\",\"\",VLOOKUP($Q166,'Practices & Techniques'!$A$6:$F$114,3,FALSE))","v":""},{"$f":"IF($Q166=\"\",\"\",VLOOKUP($Q166,'Practices & Techniques'!$A$6:$F$114,4,FALSE))","v":""},{"$f":"IF($Q166=\"\",\"\",VLOOKUP($Q166,'Practices & Techniques'!$A$6:$F$114,5,FALSE))","v":""},{"$f":"IF($Q166=\"\",\"\",VLOOKUP($Q166,'Practices & Techniques'!$A$6:$F$114,6,FALSE))","v":""},{"$f":"IF($Q166=\"\",\"\",VLOOKUP($Q166,'Practices & Techniques'!$A$6:$G$114,7,FALSE))","v":""},{"$f":"IF(OR(Q166='Practices & Techniques'!A$80,Q167='Practices & Techniques'!A$80,Q168='Practices & Techniques'!A$80,Q169='Practices & Techniques'!A$80,Q170='Practices & Techniques'!A$80),\"N/A\",SUM(R$12:R$16)+SUM(R166:R170))","v":0},{"$f":"IF(OR(Q166='Practices & Techniques'!A$80,Q167='Practices & Techniques'!A$80,Q168='Practices & Techniques'!A$80,Q169='Practices & Techniques'!A$80,Q170='Practices & Techniques'!A$80),\"N/A\",SUM(S$12:S$16)+SUM(S166:S170))","v":0},null,{"$f":"IF(OR(Q166='Practices & Techniques'!A$80,Q167='Practices & Techniques'!A$80,Q168='Practices & Techniques'!A$80,Q169='Practices & Techniques'!A$80,Q170='Practices & Techniques'!A$80),\"N/A\",SUM(U$12:U$16)+SUM(U166:U170))","v":0},{"$f":"IF(OR(Q166='Practices & Techniques'!A$80,Q167='Practices & Techniques'!A$80,Q168='Practices & Techniques'!A$80,Q169='Practices & Techniques'!A$80,Q170='Practices & Techniques'!A$80),\"N/A\",SUM(V$12:V$16)+SUM(V166:V170))","v":0},null,{"$f":"IF(B166=\"\",\"\",1)","v":""},false]
[null,null,null,null,null,null,null,null,null,null,null,null,null,null,null,null,null,{"$f":"IF($Q167=\"\",\"\",VLOOKUP($Q167,'Practices & Techniques'!$A$6:$F$114,3,FALSE))","v":""},{"$f":"IF($Q167=\"\",\"\",VLOOKUP($Q167,'Practices & Techniques'!$A$6:$F$114,4,FALSE))","v":""},{"$f":"IF($Q167=\"\",\"\",VLOOKUP($Q167,'Practices & Techniques'!$A$6:$F$114,5,FALSE))","v":""},{"$f":"IF($Q167=\"\",\"\",VLOOKUP($Q167,'Practices & Techniques'!$A$6:$F$114,6,FALSE))","v":""},{"$f":"IF($Q167=\"\",\"\",VLOOKUP($Q167,'Practices & Techniques'!$A$6:$G$114,7,FALSE))","v":""},null,null,null,null,null,null,{"$f":"IF(B166=\"\",\"\",1)","v":""},false]
["P",null,null,null,null,null,"Fish",{"$f":"IF(CL40=\"\",\"\",(CL40))","v":""},"Fish",{"$f":"IF(CM40=\"\",\"\",(CM40))","v":""},"Fish",{"$f":"IF(CK40=\"\",\"\",(CK40))","v":""},null,null,null,"Pollinators-Direct Contact",null,{"$f":"IF($Q168=\"\",\"\",VLOOKUP($Q168,'Practices & Techniques'!$A$6:$F$114,3,FALSE))","v":""},{"$f":"IF($Q168=\"\",\"\",VLOOKUP($Q168,'Practices & Techniques'!$A$6:$F$114,4,FALSE))","v":""},{"$f":"IF($Q168=\"\",\"\",VLOOKUP($Q168,'Practices & Techniques'!$A$6:$F$114,5,FALSE))","v":""},{"$f":"IF($Q168=\"\",\"\",VLOOKUP($Q168,'Practices & Techniques'!$A$6:$F$114,6,FALSE))","v":""},{"$f":"IF($Q168=\"\",\"\",VLOOKUP($Q168,'Practices & Techniques'!$A$6:$G$114,7,FALSE))","v":""},{"$f":"IF(OR(Q166='Practices & Techniques'!A$80,Q167='Practices & Techniques'!A$80,Q168='Practices & Techniques'!A$80,Q169='Practices & Techniques'!A$80,Q170='Practices & Techniques'!A$80),\"N/A\",SUM(R$12:R$16)+SUM(R166:R170))","v":0},{"$f":"IF(OR(Q166='Practices & Techniques'!A$80,Q167='Practices & Techniques'!A$80,Q168='Practices & Techniques'!A$80,Q169='Practices & Techniques'!A$80,Q170='Practices & Techniques'!A$80),\"N/A\",SUM(S$12:S$16)+SUM(S166:S170))","v":0},{"$f":"IF(OR(Q166='Practices & Techniques'!A$80,Q167='Practices & Techniques'!A$80,Q168='Practices & Techniques'!A$80,Q169='Practices & Techniques'!A$80,Q170='Practices & Techniques'!A$80),\"N/A\",SUM(T$12:T$16)+SUM(T166:T170))","v":0},{"$f":"IF(OR(Q166='Practices & Techniques'!A$80,Q167='Practices & Techniques'!A$80,Q168='Practices & Techniques'!A$80,Q169='Practices & Techniques'!A$80,Q170='Practices & Techniques'!A$80),\"N/A\",SUM(U$12:U$16)+SUM(U166:U170))","v":0},null,null,{"$f":"IF(B166=\"\",\"\",1)","v":""},false,null,null,null,null,null,null,null,null,null,null,null,null,null,null,null,null,null,null,null,null,null,null,null,null,null,null,null,null,null,null,null,null,null,null,null,null,null,null,null,null,null,null,null,null,null,null,null,null,null,null,null,null,null,null,null,null,null,null,null,null,null,null,null,null,null,null,null,null,null,null,null,null,null,-8]
[null,null,null,null,null,null,null,null,null,null,null,null,null,null,null,null,null,{"$f":"IF($Q169=\"\",\"\",VLOOKUP($Q169,'Practices & Techniques'!$A$6:$F$114,3,FALSE))","v":""},{"$f":"IF($Q169=\"\",\"\",VLOOKUP($Q169,'Practices & Techniques'!$A$6:$F$114,4,FALSE))","v":""},{"$f":"IF($Q169=\"\",\"\",VLOOKUP($Q169,'Practices & Techniques'!$A$6:$F$114,5,FALSE))","v":""},{"$f":"IF($Q169=\"\",\"\",VLOOKUP($Q169,'Practices & Techniques'!$A$6:$F$114,6,FALSE))","v":""},{"$f":"IF($Q169=\"\",\"\",VLOOKUP($Q169,'Practices & Techniques'!$A$6:$G$114,7,FALSE))","v":""},null,null,null,null,null,null,{"$f":"IF(B166=\"\",\"\",1)","v":""},false]
[null,null,null,null,null,null,null,null,null,null,null,null,null,null,null,"  Drift",null,{"$f":"IF($Q170=\"\",\"\",VLOOKUP($Q170,'Practices & Techniques'!$A$6:$F$114,3,FALSE))","v":""},{"$f":"IF($Q170=\"\",\"\",VLOOKUP($Q170,'Practices & Techniques'!$A$6:$F$114,4,FALSE))","v":""},{"$f":"IF($Q170=\"\",\"\",VLOOKUP($Q170,'Practices & Techniques'!$A$6:$F$114,5,FALSE))","v":""},{"$f":"IF($Q170=\"\",\"\",VLOOKUP($Q170,'Practices & Techniques'!$A$6:$F$114,6,FALSE))","v":""},{"$f":"IF($Q170=\"\",\"\",VLOOKUP($Q170,'Practices & Techniques'!$A$6:$G$114,7,FALSE))","v":""},null,null,null,null,null,null,{"$f":"IF(B166=\"\",\"\",1)","v":""},false]
["Notes:",null,null,null,null,null,null,null,null,null,null,null,null,null,null,null," Mitigation Index Legend"]
[null,null,null,null,null,null,null,null,null,null,null,null,null,null,null,null,"Meaning",null,null,null,null,null,null,null,null,"Shading"]
[null,null,null,null,null,null,null,null,null,null,null,null,null,null,null,null,"Not an identified resource concern/pesticide loss pathway combination."]
[null,null,null,null,null,null,null,null,null,null,null,null,null,null,null,null,"Resource concern/pesticde loss pathway combination exists and minimum mitigation criteria HAS been satisfied."]
[null,null,null,null,null,null,null,null,null,null,null,null,null,null,null,null,"Resource concern/pesticde loss pathway combination exists and minimum mitigation criteria has NOT been satisfied."]
["Summary of EXISTING IPM techniques currently implemented (from above)"]
["IPM Techniques",null,null,null,null,"Description",null,null,null,null,null,null,null,null,null,null,null,null,null,null,null,null,"Applies to these Pesticides "]
[null,null,null,null,null,{"$f":"IF(A178=\"\",\"\",VLOOKUP(A178,'Practices & Techniques'!$A$6:$B$114,2,FALSE))","v":""},null,null,null,null,null,null,null,null,null,null,null,"RoundUp"]
[null,null,null,null,null,{"$f":"IF(A179=\"\",\"\",VLOOKUP(A179,'Practices & Techniques'!$A$6:$B$114,2,FALSE))","v":""},null,null,null,null,null,null,null,null,null,null,null,"RoundUp"]
[null,null,null,null,null,{"$f":"IF(A180=\"\",\"\",VLOOKUP(A180,'Practices & Techniques'!$A$6:$B$114,2,FALSE))","v":""}]
[null,null,null,null,null,{"$f":"IF(A181=\"\",\"\",VLOOKUP(A181,'Practices & Techniques'!$A$6:$B$114,2,FALSE))","v":""}]
[null,null,null,null,null,{"$f":"IF(A182=\"\",\"\",VLOOKUP(A182,'Practices & Techniques'!$A$6:$B$114,2,FALSE))","v":""}]
[null,null,null,null,null,{"$f":"IF(A183=\"\",\"\",VLOOKUP(A183,'Practices & Techniques'!$A$6:$B$114,2,FALSE))","v":""}]
[null,null,null,null,null,{"$f":"IF(A184=\"\",\"\",VLOOKUP(A184,'Practices & Techniques'!$A$6:$B$114,2,FALSE))","v":""}]
[null,null,null,null,null,{"$f":"IF(A185=\"\",\"\",VLOOKUP(A185,'Practices & Techniques'!$A$6:$B$114,2,FALSE))","v":""}]
[null,null,null,null,null,{"$f":"IF(A186=\"\",\"\",VLOOKUP(A186,'Practices & Techniques'!$A$6:$B$114,2,FALSE))","v":""}]
[null,null,null,null,null,{"$f":"IF(A187=\"\",\"\",VLOOKUP(A187,'Practices & Techniques'!$A$6:$B$114,2,FALSE))","v":""}]
[null,null,null,null,null,{"$f":"IF(A188=\"\",\"\",VLOOKUP(A188,'Practices & Techniques'!$A$6:$B$114,2,FALSE))","v":""}]
[]
["No data entry beyond this point.",null,null,null,null,null,null,"No data entry beyond this point.",null,null,null,null,null,null,null,null,"No data entry beyond this point.",null,null,null,null,null,"No data entry beyond this point."]

{"sheet":"Loss Pathways","index":2,"n_rows":135,"n_cols":91,"rows_kept":135,"cut":false,"hidden":true,"merged":[[7,8,7,19],[135,9,136,10],[135,11,139,12],[135,13,139,14],[135,15,139,16],[135,17,139,17],[135,18,139,18],[135,19,139,19],[75,3,79,3],[65,3,69,3],[70,5,74,5],[70,4,74,4],[70,3,74,3],[65,5,69,5],[65,4,69,4],[90,5,94,5],[90,4,94,4],[90,3,94,3],[100,3,104,3],[100,4,104,4],[100,5,104,5],[130,5,134,5],[130,4,134,4],[130,3,134,3],[135,0,139,0],[135,1,139,1],[135,2,139,2],[135,3,139,3],[135,4,139,4],[135,5,139,5],[135,6,139,6],[135,7,139,7],[135,8,139,8],[115,2,119,2],[115,1,119,1],[115,0,119,0],[120,2,124,2],[120,1,124,1],[120,0,124,0],[125,2,129,2],[125,1,129,1],[125,0,129,0],[100,2,104,2],[100,1,104,1],[100,0,104,0],[105,2,109,2],[105,1,109,1],[105,0,109,0],[110,2,114,2],[110,1,114,1],[110,0,114,0],[2,3,2,4],[2,5,2,6],[3,3,3,4],[3,5,3,6],[4,3,4,4],[4,5,4,6],[100,18,104,18],[50,13,54,14],[50,17,54,17],[45,3,49,3],[40,3,44,3],[40,4,44,4],[25,5,29,5],[30,3,34,3],[25,11,29,12],[20,9,21,10],[45,9,46,10],[40,9,41,10],[35,9,36,10],[40,13,44,14],[30,13,34,14],[35,11,39,12],[35,13,39,14],[30,11,34,12],[130,0,134,0],[130,1,134,1],[130,2,134,2],[130,6,134,6],[130,17,134,17],[130,18,134,18],[50,6,54,6],[45,6,49,6],[50,11,54,12],[60,15,64,16],[65,13,69,14],[60,11,64,12],[55,13,59,14],[50,15,54,16],[80,9,81,10],[80,11,84,12],[80,13,84,14],[80,15,84,16],[95,13,99,14],[95,15,99,16],[105,3,109,3],[100,15,104,16],[100,17,104,17],[55,9,56,10],[130,19,134,19],[125,9,126,10],[125,11,129,12],[125,13,129,14],[125,15,129,16],[130,9,131,10],[130,11,134,12],[130,13,134,14],[130,15,134,16],[125,17,129,17],[125,18,129,18],[120,19,124,19],[125,6,129,6],[125,3,129,3],[120,6,124,6],[120,9,121,10],[120,11,124,12],[120,3,124,3],[120,4,124,4],[125,19,129,19],[120,13,124,14],[120,15,124,16],[120,17,124,17],[120,18,124,18],[120,5,124,5],[125,5,129,5],[125,4,129,4],[105,18,109,18],[115,19,119,19],[110,18,114,18],[110,19,114,19],[115,6,119,6],[115,5,119,5],[115,3,119,3],[115,4,119,4],[115,9,116,10],[115,11,119,12],[115,13,119,14],[115,15,119,16],[115,17,119,17],[115,18,119,18],[110,3,114,3],[110,4,114,4],[110,5,114,5],[110,6,114,6],[110,9,111,10],[110,11,114,12],[110,13,114,14],[110,15,114,16],[110,17,114,17],[105,9,106,10],[105,11,109,12],[105,13,109,14],[105,15,109,16],[105,17,109,17],[80,17,84,17],[70,15,74,16],[100,19,104,19],[105,6,109,6],[105,4,109,4],[105,5,109,5],[95,17,99,17],[95,18,99,18],[95,19,99,19],[100,6,104,6],[100,9,101,10],[100,11,104,12],[100,13,104,14],[95,4,99,4],[95,5,99,5],[95,9,96,10],[95,11,99,12],[80,18,84,18],[80,19,84,19],[85,19,89,19],[85,18,89,18],[85,11,89,12],[85,13,89,14],[105,19,109,19],[55,19,59,19],[50,9,51,10],[55,18,59,18],[55,17,59,17],[65,19,69,19],[65,18,69,18],[50,19,54,19],[60,17,64,17],[75,11,79,12],[75,13,79,14],[65,11,69,12],[65,15,69,16],[60,13,64,14],[70,19,74,19],[70,18,74,18],[75,9,76,10],[70,13,74,14],[65,17,69,17],[70,17,74,17],[75,19,79,19],[95,0,99,0],[95,1,99,1],[95,2,99,2],[95,6,99,6],[95,3,99,3],[55,11,59,12],[90,18,94,18],[90,19,94,19],[90,15,94,16],[90,17,94,17],[75,15,79,16],[75,17,79,17],[60,19,64,19],[65,9,66,10],[60,9,61,10],[60,2,64,2],[75,18,79,18],[65,6,69,6],[55,6,59,6],[70,6,74,6],[55,15,59,16],[60,18,64,18],[55,0,59,0],[60,0,64,0],[1,0,1,2],[2,0,2,2],[2,11,2,12],[15,9,16,10],[5,11,5,15],[2,15,2,18],[50,18,54,18],[25,19,29,19],[25,17,29,17],[35,19,39,19],[30,17,34,17],[35,18,39,18],[30,19,34,19],[50,0,54,0],[40,0,44,0],[45,2,49,2],[50,2,54,2],[20,1,24,1],[35,1,39,1],[40,1,44,1],[30,2,34,2],[25,3,29,3],[25,4,29,4],[45,0,49,0],[55,4,59,4],[55,3,59,3],[50,3,54,3],[45,4,49,4],[25,2,29,2],[70,0,74,0],[70,1,74,1],[75,1,79,1],[75,2,79,2],[45,1,49,1],[50,1,54,1],[60,1,64,1],[55,1,59,1],[55,2,59,2],[80,6,84,6],[85,6,89,6],[85,9,86,10],[20,0,24,0],[35,6,39,6],[30,0,34,0],[25,6,29,6],[30,6,34,6],[30,1,34,1],[35,0,39,0],[35,3,39,3],[35,4,39,4],[25,0,29,0],[25,1,29,1],[20,6,24,6],[35,2,39,2],[40,2,44,2],[20,2,24,2],[55,5,59,5],[50,4,54,4],[50,5,54,5],[35,5,39,5],[40,5,44,5],[45,5,49,5],[60,5,64,5],[75,5,79,5],[85,3,89,3],[85,4,89,4],[85,5,89,5],[75,0,79,0],[80,0,84,0],[80,1,84,1],[80,2,84,2],[80,3,84,3],[80,4,84,4],[70,2,74,2],[65,0,69,0],[65,1,69,1],[65,2,69,2],[75,4,79,4],[80,5,84,5],[60,4,64,4],[60,3,64,3],[25,13,29,14],[70,11,74,12],[75,6,79,6],[70,9,71,10],[45,13,49,14],[45,15,49,16],[45,11,49,12],[60,6,64,6],[40,11,44,12],[40,6,44,6],[15,19,19,19],[15,17,19,17],[15,18,19,18],[45,19,49,19],[40,19,44,19],[40,18,44,18],[45,17,49,17],[35,17,39,17],[20,15,24,16],[35,15,39,16],[25,15,29,16],[15,15,19,16],[20,17,24,17],[20,18,24,18],[20,19,24,19],[25,18,29,18],[30,18,34,18],[40,17,44,17],[45,18,49,18],[30,15,34,16],[40,15,44,16],[20,13,24,14],[20,11,24,12],[20,3,24,3],[15,1,19,1],[15,2,19,2],[20,5,24,5],[20,4,24,4],[15,3,19,3],[15,4,19,4],[15,5,19,5],[15,11,19,12],[15,13,19,14],[9,15,9,16],[10,3,14,3],[10,4,14,4],[10,5,14,5],[10,17,14,17],[10,18,14,18],[10,0,14,0],[10,15,14,16],[15,0,19,0],[15,6,19,6],[10,6,14,6],[10,2,14,2],[10,1,14,1],[5,17,5,19],[90,0,94,0],[90,1,94,1],[90,2,94,2],[90,6,94,6],[90,9,91,10],[90,11,94,12],[90,13,94,14],[85,17,89,17],[85,15,89,16],[85,0,89,0],[85,1,89,1],[85,2,89,2],[10,19,14,19],[8,0,9,0],[8,1,9,1],[10,9,11,10],[8,9,9,10],[8,8,9,8],[8,6,9,6],[10,11,14,12],[8,7,9,7],[10,13,14,14],[8,2,9,2],[0,3,0,19],[1,3,1,19],[8,3,9,3],[25,9,26,10],[30,9,31,10],[30,4,34,4],[30,5,34,5],[3,0,3,2],[4,0,4,2],[5,0,5,2],[8,11,8,16],[8,17,9,17],[8,19,9,19],[8,18,9,18],[6,17,6,19],[3,11,3,12],[4,11,4,12],[5,3,5,7],[9,11,9,12],[9,13,9,14],[8,4,9,4],[8,5,9,5],[3,15,3,18],[4,17,4,19]]}
[null,null,null,"Pesticide Loss Pathway Worksheet",null,null,null,null,null,null,null,null,null,null,null,null,null,null,null,null,null,null,null,false,"Hayland"]
["Natural Resources Conservation Service",null,null,"Version 1.8                      February, 2011",null,null,null,null,null,null,null,null,null,null,null,null,null,null,null,null,null,null,null,false,"Cropland"]
["Client:",null,null,{"$f":"IF('Cons. Planning Worksheet'!D3=\"\",\"\",('Cons. Planning Worksheet'!D3))","v":""},null,null,null,null,null,null,"Tract:",{"$f":"IF('Cons. Planning Worksheet'!G3=\"\",\"\",(+'Cons. Planning Worksheet'!G3))","v":""},null,null,"Field No.(s):",{"$f":"IF('Cons. Planning Worksheet'!K3=\"\",\"\",(+'Cons. Planning Worksheet'!K3))","v":""},null,null,null,null,null,null,null,false,"Range"]
["Planner:",null,null,{"$f":"IF('Cons. Planning Worksheet'!D4=\"\",\"\",('Cons. Planning Worksheet'!D4))","v":""},null,null,null,null,null,null,"Date:",{"$f":"IF('Cons. Planning Worksheet'!G4=\"\",\"\",(+'Cons. Planning Worksheet'!G4))","v":""},null,null,"Acres:",{"$f":"IF('Cons. Planning Worksheet'!K4=\"\",\"\",(+'Cons. Planning Worksheet'!K4))","v":""},null,null,null,null,null,null,null,false,"Forest"]
["Consultant:",null,null,{"$f":"IF('Cons. Planning Worksheet'!D5=\"\",\"\",('Cons. Planning Worksheet'!D5))","v":""},null,null,null,null,null,null,"Crop:",{"$f":"IF('Cons. Planning Worksheet'!G5=\"\",\"\",(+'Cons. Planning Worksheet'!G5))","v":""},null,null,null,null,null,null,null,null,null,null,null,false,"Other"]
["Landuse:",null,null,{"$f":"IF('Cons. Planning Worksheet'!AD1=TRUE,\"Hayland\",IF('Cons. Planning Worksheet'!AD2=TRUE,\"Cropland\",IF('Cons. Planning Worksheet'!AD3=TRUE,\"Range\",IF('Cons. Planning Worksheet'!AD4=TRUE,\"Forest\",IF('Cons. Planning Worksheet'!AD5=TRUE,\"Other\",\"\")))))","v":""},{"$f":"IF('Cons. Planning Worksheet'!AK1=TRUE,\"Hayland\",IF('Cons. Planning Worksheet'!AK2=TRUE,\"Cropland\",IF('Cons. Planning Worksheet'!AK3=TRUE,\"Range\",IF('Cons. Planning Worksheet'!AK4=TRUE,\"Forest\",IF('Cons. Planning Worksheet'!AK5=TRUE,\"Other\",\"\")))))","v":""},{"$f":"IF('Cons. Planning Worksheet'!AL1=TRUE,\"Hayland\",IF('Cons. Planning Worksheet'!AL2=TRUE,\"Cropland\",IF('Cons. Planning Worksheet'!AL3=TRUE,\"Range\",IF('Cons. Planning Worksheet'!AL4=TRUE,\"Forest\",IF('Cons. Planning Worksheet'!AL5=TRUE,\"Other\",\"\")))))","v":""},{"$f":"IF('Cons. Planning Worksheet'!AM1=TRUE,\"Hayland\",IF('Cons. Planning Worksheet'!AM2=TRUE,\"Cropland\",IF('Cons. Planning Worksheet'!AM3=TRUE,\"Range\",IF('Cons. Planning Worksheet'!AM4=TRUE,\"Forest\",IF('Cons. Planning Worksheet'!AM5=TRUE,\"Other\",\"\")))))","v":""},{"$f":"IF('Cons. Planning Worksheet'!AN1=TRUE,\"Hayland\",IF('Cons. Planning Worksheet'!AN2=TRUE,\"Cropland\",IF('Cons. Planning Worksheet'!AN3=TRUE,\"Range\",IF('Cons. Planning Worksheet'!AN4=TRUE,\"Forest\",IF('Cons. Planning Worksheet'!AN5=TRUE,\"Other\",\"\")))))","v":""},null,null,"Crop Rotation:",{"$f":"IF('Cons. Planning Worksheet'!L7=\"\",\"\",(+'Cons. Planning Worksheet'!L7))","v":""}]
[null,null,null,null,null,null,null,null,null,null,null,null,null,null,null,null,null,null,null,null,null,null,null,false]
["Describe any waters of concern (river, irrigation ditch, stream, pond, etc.):",null,null,null,null,null,null,null,{"$f":"IF('Cons. Planning Worksheet'!I18=\"\",\"\",(+'Cons. Planning Worksheet'!I18))","v":""},null,null,null,null,null,null,null,null,null,null,null,null,null,null,true]
["No.","Soil Map Unit","Soil Name","Slope >15%","Macropores to depths of > 2'","High Water Table within 2' of soil surface during growing season","Pesticide Product Name","Soil Loss Potential","Pesticide Loss Potential","Acitve Ingredient (a.i.) and properties",null,"Windows Pesticide Tool Loss Ratings",null,null,null,null,null,"Area","Ap. Method","Rate"]
[null,null,null,null,null,null,null,null,null,null,null,"Interaction Leaching Potential          (ILP)",null,"Interaction Solution Runoff Potential (ISRP)",null,"Interaction Adsorbed Runoff Potential (IARP)"]
[1,{"$f":"IF('Cons. Planning Worksheet'!B21=\"\",\"\",(+'Cons. Planning Worksheet'!B21))","v":""},{"$f":"IF('Cons. Planning Worksheet'!C21=\"\",\"\",(+'Cons. Planning Worksheet'!C21))","v":""},{"$f":"IF('Cons. Planning Worksheet'!AS11=\"\",\"\", ('Cons. Planning Worksheet'!AS11))","v":""},{"$f":"IF('Cons. Planning Worksheet'!AT11=\"\",\"\", ('Cons. Planning Worksheet'!AT11))","v":""},{"$f":"IF('Cons. Planning Worksheet'!AU11=\"\",\"\", ('Cons. Planning Worksheet'!AU11))","v":""},{"$f":"IF('Cons. Planning Worksheet'!E21=\"\",\"\",(+'Cons. Planning Worksheet'!E21))","v":""},null,null,{"$f":"IF('Cons. Planning Worksheet'!F21=\"\",\"\",(+'Cons. Planning Worksheet'!F21))","v":""},null,{"$f":"IF('Cons. Planning Worksheet'!CQ11=\"\",\"\",('Cons. Planning Worksheet'!CQ11))","v":""},{"$f":"IF('Cons. Planning Worksheet'!H21=\"\",\"\",(+'Cons. Planning Worksheet'!H21))","v":""},{"$f":"IF('Cons. Planning Worksheet'!CR11=\"\",\"\",('Cons. Planning Worksheet'!CR11))","v":""},{"$f":"IF('Cons. Planning Worksheet'!J21=\"\",\"\",(+'Cons. Planning Worksheet'!J21))","v":""},{"$f":"IF('Cons. Planning Worksheet'!CP11=\"\",\"\",('Cons. Planning Worksheet'!CP11))","v":""},{"$f":"IF('Cons. Planning Worksheet'!L21=\"\",\"\",(+'Cons. Planning Worksheet'!L21))","v":""},{"$f":"IF('Cons. Planning Worksheet'!M21=\"\",\"\",(+'Cons. Planning Worksheet'!M21))","v":""},{"$f":"IF('Cons. Planning Worksheet'!N21=\"\",\"\",(+'Cons. Planning Worksheet'!N21))","v":""},{"$f":"IF('Cons. Planning Worksheet'!O21=\"\",\"\",(+'Cons. Planning Worksheet'!O21))","v":""},null,null,null,null,null,null,null,"990","Island of Oahu, Hawaii: HI990","WzA","1","Waipahu","SIC","100","C","0.24","12","3","False","False","False","LOW                                                                             ","HIGH                                                                            ","HIGH                                                                            ","ROUNDUP HERBICIDE","00052400445","41","Glyphosate, isopropylamine salt","103601",null,"900000","24000","47","700","MCL","168","4032000","Broadcast","Foliar","Standard","VERY LOW (Foliar Application: -1)                                               ","INTERMEDIATE  (Foliar Application: -1)                                          ","INTERMEDIATE  (Foliar Application: -1)                                          ","VERY LOW    ","LOW         ","VERY LOW    ","9/15/2010 11:21:46 AM","Aiea",null,null,null,"ROUNDUP HERBICIDE EPA Reg No:[00052400445] ; Glyphosate, isopropylamine salt PC Code: [103601]  -> WzA Waipahu","Glyphosate, isopropylamine salt","WaipahuWzAHI9901SIC1000","HIGH (Evaluate Further) (Foliar Application: -1)                                ","VERY LOW (Pass) Foliar Application: -1)                                         ","HIGH (Evaluate Further) (Foliar Application: -1)                                ","LOW         ","VERY LOW    ","LOW         ","VERY LOW    ","LOW         ","L","V","L","V","L","H (f)","V (f)","H (f)","468526"]
[null,{"$f":"IF('Cons. Planning Worksheet'!B21=\"\",\"\",(+'Cons. Planning Worksheet'!B21))","v":""},{"$f":"IF('Cons. Planning Worksheet'!C21=\"\",\"\",(+'Cons. Planning Worksheet'!C21))","v":""},null,null,null,null,{"$f":"IF('Cons. Planning Worksheet'!AV11=\"\",\"\",\"PLP-\"&LEFT('Cons. Planning Worksheet'!AV11,MIN(FIND(\" \",'Cons. Planning Worksheet'!AV11),5)))","v":""},{"$f":"IF('Cons. Planning Worksheet'!BO11=\"\",\"\",\"SLP-\"&LEFT('Cons. Planning Worksheet'!BO11,MIN(FIND(\" \",'Cons. Planning Worksheet'!BO11),5)))","v":""},null,null,{"$f":"IF('Cons. Planning Worksheet'!L21=\"\",\"\",(+'Cons. Planning Worksheet'!L21))","v":""},{"$f":"IF('Cons. Planning Worksheet'!M21=\"\",\"\",(+'Cons. Planning Worksheet'!M21))","v":""},{"$f":"IF('Cons. Planning Worksheet'!N21=\"\",\"\",(+'Cons. Planning Worksheet'!N21))","v":""},{"$f":"IF('Cons. Planning Worksheet'!O21=\"\",\"\",(+'Cons. Planning Worksheet'!O21))","v":""},{"$f":"IF('Cons. Planning Worksheet'!Q21=\"\",\"\",(+'Cons. Planning Worksheet'!Q21))","v":""},{"$f":"IF('Cons. Planning Worksheet'!R21=\"\",\"\",(+'Cons. Planning Worksheet'!R21))","v":""},{"$f":"IF('Cons. Planning Worksheet'!S21=\"\",\"\",(+'Cons. Planning Worksheet'!S21))","v":""},{"$f":"IF('Cons. Planning Worksheet'!T21=\"\",\"\",(+'Cons. Planning Worksheet'!T21))","v":""},{"$f":"IF('Cons. Planning Worksheet'!U21=\"\",\"\",(+'Cons. Planning Worksheet'!U21))","v":""},null,null,null,null,null,null,null,"990","Island of Oahu, Hawaii: HI990","WzA","1","Waipahu","SIC","100","C","0.24","12","3","False","False","False","LOW                                                                             ","HIGH                                                                            ","HIGH                                                                            ","ATRAZINE 4L HERBICIDE","00010000497","42.6","Atrazine","080803",null,"33","100","60","3","MCL","30","3000","Banded","Soil Incorporated","Standard","INTERMEDIATE  (Banded: -1)                                                      ","INTERMEDIATE  (Banded: -1)  (Soil Incorporated: -1)                             ","LOW  (Banded: -1)  (Soil Incorporated: -1)                                      ","HIGH        ","INTERMEDIATE","VERY LOW    ","9/15/2010 11:21:46 AM","Aiea",null,null,null,"ATRAZINE 4L HERBICIDE EPA Reg No:[00010000497] ; Atrazine PC Code: [080803]  -> WzA Waipahu","Atrazine","WaipahuWzAHI9901SIC1000","INTERMEDIATE (Evaluate Further) (Banded: -1)  (Soil Incorporated: -1)           ","LOW (Pass)   (Banded: -1)                                                       ","HIGH (Evaluate Further) (Banded: -1)  (Soil Incorporated: -1)                   ","VERY LOW    ","LOW         ","INTERMEDIATE","INTERMEDIATE","HIGH        ","V","L","I","I","H","I (bi)","L (b)","H (bi)","468526"]
[null,{"$f":"IF('Cons. Planning Worksheet'!B22=\"\",\"\",(+'Cons. Planning Worksheet'!B22))","v":""},{"$f":"IF('Cons. Planning Worksheet'!C22=\"\",\"\",(+'Cons. Planning Worksheet'!C22))","v":""},null,null,null,null,{"$f":"IF('Cons. Planning Worksheet'!AW11=\"\",\"\",\"SSRP-\"&LEFT('Cons. Planning Worksheet'!AW11,MIN(FIND(\" \",'Cons. Planning Worksheet'!AW11),5)))","v":""},{"$f":"IF('Cons. Planning Worksheet'!BP11=\"\",\"\",\"PSRP-\"&LEFT('Cons. Planning Worksheet'!BP11,MIN(FIND(\" \",'Cons. Planning Worksheet'!BP11),5)))","v":""},"Solubility =",{"$f":"IF('Cons. Planning Worksheet'!BE11=\"\",\"\",('Cons. Planning Worksheet'!BE11))","v":""},{"$f":"IF('Cons. Planning Worksheet'!L22=\"\",\"\",(+'Cons. Planning Worksheet'!L22))","v":""},{"$f":"IF('Cons. Planning Worksheet'!M22=\"\",\"\",(+'Cons. Planning Worksheet'!M22))","v":""},{"$f":"IF('Cons. Planning Worksheet'!N22=\"\",\"\",(+'Cons. Planning Worksheet'!N22))","v":""},{"$f":"IF('Cons. Planning Worksheet'!O22=\"\",\"\",(+'Cons. Planning Worksheet'!O22))","v":""},{"$f":"IF('Cons. Planning Worksheet'!Q22=\"\",\"\",(+'Cons. Planning Worksheet'!Q22))","v":""},{"$f":"IF('Cons. Planning Worksheet'!R22=\"\",\"\",(+'Cons. Planning Worksheet'!R22))","v":""},{"$f":"IF('Cons. Planning Worksheet'!S22=\"\",\"\",(+'Cons. Planning Worksheet'!S22))","v":""},{"$f":"IF('Cons. Planning Worksheet'!T22=\"\",\"\",(+'Cons. Planning Worksheet'!T22))","v":""},{"$f":"IF('Cons. Planning Worksheet'!U22=\"\",\"\",(+'Cons. Planning Worksheet'!U22))","v":""},null,null,null,null,null,null,null,"990","Island of Oahu, Hawaii: HI990","WzA","1","Waipahu","SIC","100","C","0.24","12","3","False","False","False","LOW                                                                             ","HIGH                                                                            ","HIGH                                                                            ","SEVIN 80W","00026400316","80","Carbaryl","056801",null,"120","300","10","70","HA*","27","8100","Broadcast","Foliar","Standard","VERY LOW  (Foliar Application: -1)                                              ","LOW  (Foliar Application: -1)                                                   ","LOW  (Foliar Application: -1)                                                   ","LOW         ","INTERMEDIATE","VERY LOW    ","9/15/2010 11:21:46 AM","Aiea",null,null,null,"SEVIN 80W EPA Reg No:[00026400316] ; Carbaryl PC Code: [056801]  -> WzA Waipahu","Carbaryl","WaipahuWzAHI9901SIC1000","INTERMEDIATE (Evaluate Further) (Foliar Application: -1)                        ","VERY LOW (Pass) (Foliar Application: -1)                                        ","INTERMEDIATE (Evaluate Further) (Foliar Application: -1)                        ","VERY LOW    ","VERY LOW    ","INTERMEDIATE","VERY LOW    ","LOW         ","V","V","I","V","L","I (f)","V (f)","I (f)","468526"]
[null,{"$f":"IF('Cons. Planning Worksheet'!B23=\"\",\"\",(+'Cons. Planning Worksheet'!B23))","v":""},{"$f":"IF('Cons. Planning Worksheet'!C23=\"\",\"\",(+'Cons. Planning Worksheet'!C23))","v":""},null,null,null,null,{"$f":"IF('Cons. Planning Worksheet'!AX11=\"\",\"\",\"SARP-\"&LEFT('Cons. Planning Worksheet'!AX11,MIN(FIND(\" \",'Cons. Planning Worksheet'!AX11),5)))","v":""},{"$f":"IF('Cons. Planning Worksheet'!BQ11=\"\",\"\",\"PARP-\"&LEFT('Cons. Planning Worksheet'!BQ11,MIN(FIND(\" \",'Cons. Planning Worksheet'!BQ11),5)))","v":""},"Koc =",{"$f":"IF('Cons. Planning Worksheet'!BF11=\"\",\"\",('Cons. Planning Worksheet'!BF11))","v":""},{"$f":"IF('Cons. Planning Worksheet'!L23=\"\",\"\",(+'Cons. Planning Worksheet'!L23))","v":""},{"$f":"IF('Cons. Planning Worksheet'!M23=\"\",\"\",(+'Cons. Planning Worksheet'!M23))","v":""},{"$f":"IF('Cons. Planning Worksheet'!N23=\"\",\"\",(+'Cons. Planning Worksheet'!N23))","v":""},{"$f":"IF('Cons. Planning Worksheet'!O23=\"\",\"\",(+'Cons. Planning Worksheet'!O23))","v":""},{"$f":"IF('Cons. Planning Worksheet'!Q23=\"\",\"\",(+'Cons. Planning Worksheet'!Q23))","v":""},{"$f":"IF('Cons. Planning Worksheet'!R23=\"\",\"\",(+'Cons. Planning Worksheet'!R23))","v":""},{"$f":"IF('Cons. Planning Worksheet'!S23=\"\",\"\",(+'Cons. Planning Worksheet'!S23))","v":""},{"$f":"IF('Cons. Planning Worksheet'!T23=\"\",\"\",(+'Cons. Planning Worksheet'!T23))","v":""},{"$f":"IF('Cons. Planning Worksheet'!U23=\"\",\"\",(+'Cons. Planning Worksheet'!U23))","v":""},null,null,null,null,null,null,null,"990","Island of Oahu, Hawaii: HI990","WzA","1","Waipahu","SIC","100","C","0.24","12","3","False","False","False","LOW                                                                             ","HIGH                                                                            ","HIGH                                                                            ","SUCCESS","06271900292","22.8","Spinosyn A","110003",null,"89.4","16420","0.4","188","HA*","692","11362640","Broadcast","Foliar","Ultra Low","VERY LOW  (Foliar Application: -1)  (Ultra Low Rate of Application: -2)         ","LOW  (Foliar Application: -1)  (Ultra Low Rate of Application: -2)              ","LOW  (Foliar Application: -1)  (Ultra Low Rate of Application: -2)              ","VERY LOW    ","VERY LOW    ","VERY LOW    ","9/15/2010 11:21:46 AM","Aiea",null,null,null,"SUCCESS EPA Reg No:[06271900292] ; Spinosyn A PC Code: [110003]  -> WzA Waipahu","Spinosyn A","WaipahuWzAHI9901SIC1000","INTERMEDIATE (Evaluate Further) (Foliar Application: -1)  (Ultra Low Rate of Application: -2)  ","VERY LOW (Pass) (Foliar Application: -1)  (Ultra Low Rate of Application: -2)   ","INTERMEDIATE (Evaluate Further) (Foliar Application: -1)  (Ultra Low Rate of Application: -2)","VERY LOW    ","VERY LOW    ","VERY LOW    ","VERY LOW    ","VERY LOW    ","V","V","V","V","V","I (f<ul>)","V (f<ul>)","I (f<ul>)","468526"]
[null,{"$f":"IF('Cons. Planning Worksheet'!B24=\"\",\"\",(+'Cons. Planning Worksheet'!B24))","v":""},{"$f":"IF('Cons. Planning Worksheet'!C24=\"\",\"\",(+'Cons. Planning Worksheet'!C24))","v":""},null,null,null,null,null,null,"Half Life =",{"$f":"IF('Cons. Planning Worksheet'!BG11=\"\",\"\",('Cons. Planning Worksheet'!BG11))","v":""},{"$f":"IF('Cons. Planning Worksheet'!L24=\"\",\"\",(+'Cons. Planning Worksheet'!L24))","v":""},{"$f":"IF('Cons. Planning Worksheet'!M24=\"\",\"\",(+'Cons. Planning Worksheet'!M24))","v":""},{"$f":"IF('Cons. Planning Worksheet'!N24=\"\",\"\",(+'Cons. Planning Worksheet'!N24))","v":""},{"$f":"IF('Cons. Planning Worksheet'!O24=\"\",\"\",(+'Cons. Planning Worksheet'!O24))","v":""},{"$f":"IF('Cons. Planning Worksheet'!Q24=\"\",\"\",(+'Cons. Planning Worksheet'!Q24))","v":""},{"$f":"IF('Cons. Planning Worksheet'!R24=\"\",\"\",(+'Cons. Planning Worksheet'!R24))","v":""},{"$f":"IF('Cons. Planning Worksheet'!S24=\"\",\"\",(+'Cons. Planning Worksheet'!S24))","v":""},{"$f":"IF('Cons. Planning Worksheet'!T24=\"\",\"\",(+'Cons. Planning Worksheet'!T24))","v":""},{"$f":"IF('Cons. Planning Worksheet'!U24=\"\",\"\",(+'Cons. Planning Worksheet'!U24))","v":""},null,null,null,null,null,null,null,"990","Island of Oahu, Hawaii: HI990","WzA","1","Waipahu","SIC","100","C","0.24","12","3","False","False","False","LOW                                                                             ","HIGH                                                                            ","HIGH                                                                            ","DITHANE DF RAINSHIELD","06271900402","75","Mancozeb","014504",null,"6","2000","70","5.8","CHCL","3.2","6400","Broadcast","Foliar","Standard","VERY LOW  (Foliar Application: -1)                                              ","INTERMEDIATE  (Foliar Application: -1)                                          ","INTERMEDIATE  (Foliar Application: -1)                                          ","HIGH        ","HIGH        ","VERY LOW    ","9/15/2010 11:21:46 AM","Aiea",null,null,null,"DITHANE DF RAINSHIELD EPA Reg No:[06271900402] ; Mancozeb PC Code: [014504]  -> WzA Waipahu","Mancozeb","WaipahuWzAHI9901SIC1000","HIGH (Evaluate Further) (Foliar Application: -1)                                ","VERY LOW (Pass) (Foliar Application: -1)                                        ","HIGH (Evaluate Further) (Foliar Application: -1)                                ","LOW         ","LOW         ","HIGH        ","LOW         ","HIGH        ","L","L","H","L","H","H (f)","V (f)","H (f)","468526"]
[2,{"$f":"IF('Cons. Planning Worksheet'!B26=\"\",\"\",(+'Cons. Planning Worksheet'!B26))","v":""},{"$f":"IF('Cons. Planning Worksheet'!C26=\"\",\"\",(+'Cons. Planning Worksheet'!C26))","v":""},{"$f":"IF('Cons. Planning Worksheet'!AS12=\"\",\"\", ('Cons. Planning Worksheet'!AS12))","v":""},{"$f":"IF('Cons. Planning Worksheet'!AT12=\"\",\"\", ('Cons. Planning Worksheet'!AT12))","v":""},{"$f":"IF('Cons. Planning Worksheet'!AU12=\"\",\"\", ('Cons. Planning Worksheet'!AU12))","v":""},{"$f":"IF('Cons. Planning Worksheet'!E26=\"\",\"\",(+'Cons. Planning Worksheet'!E26))","v":""},null,null,{"$f":"IF('Cons. Planning Worksheet'!F26=\"\",\"\",(+'Cons. Planning Worksheet'!F26))","v":""},null,{"$f":"IF('Cons. Planning Worksheet'!CQ12=\"\",\"\",('Cons. Planning Worksheet'!CQ12))","v":""},{"$f":"IF('Cons. Planning Worksheet'!H26=\"\",\"\",(+'Cons. Planning Worksheet'!H26))","v":""},{"$f":"IF('Cons. Planning Worksheet'!CR12=\"\",\"\",('Cons. Planning Worksheet'!CR12))","v":""},{"$f":"IF('Cons. Planning Worksheet'!J26=\"\",\"\",(+'Cons. Planning Worksheet'!J26))","v":""},{"$f":"IF('Cons. Planning Worksheet'!CP12=\"\",\"\",('Cons. Planning Worksheet'!CP12))","v":""},{"$f":"IF('Cons. Planning Worksheet'!L26=\"\",\"\",(+'Cons. Planning Worksheet'!L26))","v":""},{"$f":"IF('Cons. Planning Worksheet'!M26=\"\",\"\",(+'Cons. Planning Worksheet'!M26))","v":""},{"$f":"IF('Cons. Planning Worksheet'!N26=\"\",\"\",(+'Cons. Planning Worksheet'!N26))","v":""},{"$f":"IF('Cons. Planning Worksheet'!O26=\"\",\"\",(+'Cons. Planning Worksheet'!O26))","v":""}]
[null,{"$f":"IF('Cons. Planning Worksheet'!B26=\"\",\"\",(+'Cons. Planning Worksheet'!B26))","v":""},{"$f":"IF('Cons. Planning Worksheet'!C26=\"\",\"\",(+'Cons. Planning Worksheet'!C26))","v":""},null,null,null,null,{"$f":"IF('Cons. Planning Worksheet'!AV12=\"\",\"\",\"PLP-\"&LEFT('Cons. Planning Worksheet'!AV12,MIN(FIND(\" \",'Cons. Planning Worksheet'!AV12),5)))","v":""},{"$f":"IF('Cons. Planning Worksheet'!BO12=\"\",\"\",\"SLP-\"&LEFT('Cons. Planning Worksheet'!BO12,MIN(FIND(\" \",'Cons. Planning Worksheet'!BO12),5)))","v":""},null,null,{"$f":"IF('Cons. Planning Worksheet'!L26=\"\",\"\",(+'Cons. Planning Worksheet'!L26))","v":""},{"$f":"IF('Cons. Planning Worksheet'!M26=\"\",\"\",(+'Cons. Planning Worksheet'!M26))","v":""},{"$f":"IF('Cons. Planning Worksheet'!N26=\"\",\"\",(+'Cons. Planning Worksheet'!N26))","v":""},{"$f":"IF('Cons. Planning Worksheet'!O26=\"\",\"\",(+'Cons. Planning Worksheet'!O26))","v":""},{"$f":"IF('Cons. Planning Worksheet'!Q26=\"\",\"\",(+'Cons. Planning Worksheet'!Q26))","v":""},{"$f":"IF('Cons. Planning Worksheet'!R26=\"\",\"\",(+'Cons. Planning Worksheet'!R26))","v":""},{"$f":"IF('Cons. Planning Worksheet'!S26=\"\",\"\",(+'Cons. Planning Worksheet'!S26))","v":""},{"$f":"IF('Cons. Planning Worksheet'!T26=\"\",\"\",(+'Cons. Planning Worksheet'!T26))","v":""},{"$f":"IF('Cons. Planning Worksheet'!U26=\"\",\"\",(+'Cons. Planning Worksheet'!U26))","v":""}]
[null,{"$f":"IF('Cons. Planning Worksheet'!B27=\"\",\"\",(+'Cons. Planning Worksheet'!B27))","v":""},{"$f":"IF('Cons. Planning Worksheet'!C27=\"\",\"\",(+'Cons. Planning Worksheet'!C27))","v":""},null,null,null,null,{"$f":"IF('Cons. Planning Worksheet'!AW12=\"\",\"\",\"SSRP-\"&LEFT('Cons. Planning Worksheet'!AW12,MIN(FIND(\" \",'Cons. Planning Worksheet'!AW12),5)))","v":""},{"$f":"IF('Cons. Planning Worksheet'!BP12=\"\",\"\",\"PSRP-\"&LEFT('Cons. Planning Worksheet'!BP12,MIN(FIND(\" \",'Cons. Planning Worksheet'!BP12),5)))","v":""},"Solubility =",{"$f":"IF('Cons. Planning Worksheet'!BE12=\"\",\"\",('Cons. Planning Worksheet'!BE12))","v":""},{"$f":"IF('Cons. Planning Worksheet'!L27=\"\",\"\",(+'Cons. Planning Worksheet'!L27))","v":""},{"$f":"IF('Cons. Planning Worksheet'!M27=\"\",\"\",(+'Cons. Planning Worksheet'!M27))","v":""},{"$f":"IF('Cons. Planning Worksheet'!N27=\"\",\"\",(+'Cons. Planning Worksheet'!N27))","v":""},{"$f":"IF('Cons. Planning Worksheet'!O27=\"\",\"\",(+'Cons. Planning Worksheet'!O27))","v":""},{"$f":"IF('Cons. Planning Worksheet'!Q27=\"\",\"\",(+'Cons. Planning Worksheet'!Q27))","v":""},{"$f":"IF('Cons. Planning Worksheet'!R27=\"\",\"\",(+'Cons. Planning Worksheet'!R27))","v":""},{"$f":"IF('Cons. Planning Worksheet'!S27=\"\",\"\",(+'Cons. Planning Worksheet'!S27))","v":""},{"$f":"IF('Cons. Planning Worksheet'!T27=\"\",\"\",(+'Cons. Planning Worksheet'!T27))","v":""},{"$f":"IF('Cons. Planning Worksheet'!U27=\"\",\"\",(+'Cons. Planning Worksheet'!U27))","v":""}]
[null,{"$f":"IF('Cons. Planning Worksheet'!B28=\"\",\"\",(+'Cons. Planning Worksheet'!B28))","v":""},{"$f":"IF('Cons. Planning Worksheet'!C28=\"\",\"\",(+'Cons. Planning Worksheet'!C28))","v":""},null,null,null,null,{"$f":"IF('Cons. Planning Worksheet'!AX12=\"\",\"\",\"SARP-\"&LEFT('Cons. Planning Worksheet'!AX12,MIN(FIND(\" \",'Cons. Planning Worksheet'!AX12),5)))","v":""},{"$f":"IF('Cons. Planning Worksheet'!BQ12=\"\",\"\",\"PARP-\"&LEFT('Cons. Planning Worksheet'!BQ12,MIN(FIND(\" \",'Cons. Planning Worksheet'!BQ12),5)))","v":""},"Koc =",{"$f":"IF('Cons. Planning Worksheet'!BF12=\"\",\"\",('Cons. Planning Worksheet'!BF12))","v":""},{"$f":"IF('Cons. Planning Worksheet'!L28=\"\",\"\",(+'Cons. Planning Worksheet'!L28))","v":""},{"$f":"IF('Cons. Planning Worksheet'!M28=\"\",\"\",(+'Cons. Planning Worksheet'!M28))","v":""},{"$f":"IF('Cons. Planning Worksheet'!N28=\"\",\"\",(+'Cons. Planning Worksheet'!N28))","v":""},{"$f":"IF('Cons. Planning Worksheet'!O28=\"\",\"\",(+'Cons. Planning Worksheet'!O28))","v":""},{"$f":"IF('Cons. Planning Worksheet'!Q28=\"\",\"\",(+'Cons. Planning Worksheet'!Q28))","v":""},{"$f":"IF('Cons. Planning Worksheet'!R28=\"\",\"\",(+'Cons. Planning Worksheet'!R28))","v":""},{"$f":"IF('Cons. Planning Worksheet'!S28=\"\",\"\",(+'Cons. Planning Worksheet'!S28))","v":""},{"$f":"IF('Cons. Planning Worksheet'!T28=\"\",\"\",(+'Cons. Planning Worksheet'!T28))","v":""},{"$f":"IF('Cons. Planning Worksheet'!U28=\"\",\"\",(+'Cons. Planning Worksheet'!U28))","v":""}]
[null,{"$f":"IF('Cons. Planning Worksheet'!B29=\"\",\"\",(+'Cons. Planning Worksheet'!B29))","v":""},{"$f":"IF('Cons. Planning Worksheet'!C29=\"\",\"\",(+'Cons. Planning Worksheet'!C29))","v":""},null,null,null,null,null,null,"Half Life =",{"$f":"IF('Cons. Planning Worksheet'!BG12=\"\",\"\",('Cons. Planning Worksheet'!BG12))","v":""},{"$f":"IF('Cons. Planning Worksheet'!L29=\"\",\"\",(+'Cons. Planning Worksheet'!L29))","v":""},{"$f":"IF('Cons. Planning Worksheet'!M29=\"\",\"\",(+'Cons. Planning Worksheet'!M29))","v":""},{"$f":"IF('Cons. Planning Worksheet'!N29=\"\",\"\",(+'Cons. Planning Worksheet'!N29))","v":""},{"$f":"IF('Cons. Planning Worksheet'!O29=\"\",\"\",(+'Cons. Planning Worksheet'!O29))","v":""},{"$f":"IF('Cons. Planning Worksheet'!Q29=\"\",\"\",(+'Cons. Planning Worksheet'!Q29))","v":""},{"$f":"IF('Cons. Planning Worksheet'!R29=\"\",\"\",(+'Cons. Planning Worksheet'!R29))","v":""},{"$f":"IF('Cons. Planning Worksheet'!S29=\"\",\"\",(+'Cons. Planning Worksheet'!S29))","v":""},{"$f":"IF('Cons. Planning Worksheet'!T29=\"\",\"\",(+'Cons. Planning Worksheet'!T29))","v":""},{"$f":"IF('Cons. Planning Worksheet'!U29=\"\",\"\",(+'Cons. Planning Worksheet'!U29))","v":""}]
[3,{"$f":"IF('Cons. Planning Worksheet'!B31=\"\",\"\",(+'Cons. Planning Worksheet'!B31))","v":""},{"$f":"IF('Cons. Planning Worksheet'!C31=\"\",\"\",(+'Cons. Planning Worksheet'!C31))","v":""},{"$f":"IF('Cons. Planning Worksheet'!AS13=\"\",\"\", ('Cons. Planning Worksheet'!AS13))","v":""},{"$f":"IF('Cons. Planning Worksheet'!AT13=\"\",\"\", ('Cons. Planning Worksheet'!AT13))","v":""},{"$f":"IF('Cons. Planning Worksheet'!AU13=\"\",\"\", ('Cons. Planning Worksheet'!AU13))","v":""},{"$f":"IF('Cons. Planning Worksheet'!E31=\"\",\"\",(+'Cons. Planning Worksheet'!E31))","v":""},null,null,{"$f":"IF('Cons. Planning Worksheet'!F31=\"\",\"\",(+'Cons. Planning Worksheet'!F31))","v":""},null,{"$f":"IF('Cons. Planning Worksheet'!CQ13=\"\",\"\",('Cons. Planning Worksheet'!CQ13))","v":""},{"$f":"IF('Cons. Planning Worksheet'!H26=\"\",\"\",(+'Cons. Planning Worksheet'!H26))","v":""},{"$f":"IF('Cons. Planning Worksheet'!CR13=\"\",\"\",('Cons. Planning Worksheet'!CR13))","v":""},{"$f":"IF('Cons. Planning Worksheet'!J26=\"\",\"\",(+'Cons. Planning Worksheet'!J26))","v":""},{"$f":"IF('Cons. Planning Worksheet'!CP13=\"\",\"\",('Cons. Planning Worksheet'!CP13))","v":""},{"$f":"IF('Cons. Planning Worksheet'!L26=\"\",\"\",(+'Cons. Planning Worksheet'!L26))","v":""},{"$f":"IF('Cons. Planning Worksheet'!M31=\"\",\"\",(+'Cons. Planning Worksheet'!M31))","v":""},{"$f":"IF('Cons. Planning Worksheet'!N31=\"\",\"\",(+'Cons. Planning Worksheet'!N31))","v":""},{"$f":"IF('Cons. Planning Worksheet'!O31=\"\",\"\",(+'Cons. Planning Worksheet'!O31))","v":""},null,null,null,null,null,null,null,"990","Island of Oahu, Hawaii: HI990","MuB","1","Molokai","SICL","100","B","0.2","15","2.5","False","False","False","INTERMEDIATE                                                                    ","INTERMEDIATE                                                                    ","INTERMEDIATE                                                                    ","ROUNDUP HERBICIDE","00052400445","41","Glyphosate, isopropylamine salt","103601",null,"900000","24000","47","700","MCL","168","4032000","Broadcast","Foliar","Standard","VERY LOW (Foliar Application: -1)                                               ","INTERMEDIATE  (Foliar Application: -1)                                          ","INTERMEDIATE  (Foliar Application: -1)                                          ","VERY LOW    ","LOW         ","VERY LOW    ","9/15/2010 11:21:46 AM","Aiea",null,null,null,"ROUNDUP HERBICIDE EPA Reg No:[00052400445] ; Glyphosate, isopropylamine salt PC Code: [103601]  -> MuB Molokai","Glyphosate, isopropylamine salt","MolokaiMuBHI9901SICL1000","INTERMEDIATE2 (Evaluate Further) (Foliar Application: -1)                       ","VERY LOW (Pass) Foliar Application: -1)                                         ","INTERMEDIATE (Evaluate Further) (Foliar Application: -1)                        ","VERY LOW    ","VERY LOW    ","LOW         ","VERY LOW    ","VERY LOW    ","V","V","L","V","V","I (f)","V (f)","I (f)","468483"]
[null,{"$f":"IF('Cons. Planning Worksheet'!B31=\"\",\"\",(+'Cons. Planning Worksheet'!B31))","v":""},{"$f":"IF('Cons. Planning Worksheet'!C31=\"\",\"\",(+'Cons. Planning Worksheet'!C31))","v":""},null,null,null,null,{"$f":"IF('Cons. Planning Worksheet'!AV13=\"\",\"\",\"PLP-\"&LEFT('Cons. Planning Worksheet'!AV13,MIN(FIND(\" \",'Cons. Planning Worksheet'!AV13),5)))","v":""},{"$f":"IF('Cons. Planning Worksheet'!BO13=\"\",\"\",\"PLP-\"&LEFT('Cons. Planning Worksheet'!BO13,MIN(FIND(\" \",'Cons. Planning Worksheet'!BO13),5)))","v":""},null,null,{"$f":"IF('Cons. Planning Worksheet'!L26=\"\",\"\",(+'Cons. Planning Worksheet'!L26))","v":""},{"$f":"IF('Cons. Planning Worksheet'!M26=\"\",\"\",(+'Cons. Planning Worksheet'!M26))","v":""},{"$f":"IF('Cons. Planning Worksheet'!N26=\"\",\"\",(+'Cons. Planning Worksheet'!N26))","v":""},{"$f":"IF('Cons. Planning Worksheet'!O26=\"\",\"\",(+'Cons. Planning Worksheet'!O26))","v":""},{"$f":"IF('Cons. Planning Worksheet'!Q26=\"\",\"\",(+'Cons. Planning Worksheet'!Q26))","v":""},{"$f":"IF('Cons. Planning Worksheet'!R26=\"\",\"\",(+'Cons. Planning Worksheet'!R26))","v":""},{"$f":"IF('Cons. Planning Worksheet'!S31=\"\",\"\",(+'Cons. Planning Worksheet'!S31))","v":""},{"$f":"IF('Cons. Planning Worksheet'!T31=\"\",\"\",(+'Cons. Planning Worksheet'!T31))","v":""},{"$f":"IF('Cons. Planning Worksheet'!U31=\"\",\"\",(+'Cons. Planning Worksheet'!U31))","v":""},null,null,null,null,null,null,null,"990","Island of Oahu, Hawaii: HI990","MuB","1","Molokai","SICL","100","B","0.2","15","2.5","False","False","False","INTERMEDIATE                                                                    ","INTERMEDIATE                                                                    ","INTERMEDIATE                                                                    ","ATRAZINE 4L HERBICIDE","00010000497","42.6","Atrazine","080803",null,"33","100","60","3","MCL","30","3000","Banded","Soil Incorporated","Standard","INTERMEDIATE  (Banded: -1)                                                      ","INTERMEDIATE  (Banded: -1)  (Soil Incorporated: -1)                             ","LOW  (Banded: -1)  (Soil Incorporated: -1)                                      ","HIGH        ","INTERMEDIATE","VERY LOW    ","9/15/2010 11:21:46 AM","Aiea",null,null,null,"ATRAZINE 4L HERBICIDE EPA Reg No:[00010000497] ; Atrazine PC Code: [080803]  -> MuB Molokai","Atrazine","MolokaiMuBHI9901SICL1000","LOW (Pass)   (Banded: -1)  (Soil Incorporated: -1)                              ","INTERMEDIATE (Evaluate Further) (Banded: -1)                                    ","INTERMEDIATE (Evaluate Further) (Banded: -1)  (Soil Incorporated: -1)           ","VERY LOW    ","INTERMEDIATE","INTERMEDIATE","HIGH        ","HIGH        ","V","I","I","H","H","L (bi)","I (b)","I (bi)","468483"]
[null,{"$f":"IF('Cons. Planning Worksheet'!B32=\"\",\"\",(+'Cons. Planning Worksheet'!B32))","v":""},{"$f":"IF('Cons. Planning Worksheet'!C32=\"\",\"\",(+'Cons. Planning Worksheet'!C32))","v":""},null,null,null,null,{"$f":"IF('Cons. Planning Worksheet'!AW13=\"\",\"\",\"SSRP-\"&LEFT('Cons. Planning Worksheet'!AW13,MIN(FIND(\" \",'Cons. Planning Worksheet'!AW13),5)))","v":""},{"$f":"IF('Cons. Planning Worksheet'!BP13=\"\",\"\",\"PSRP-\"&LEFT('Cons. Planning Worksheet'!BP13,MIN(FIND(\" \",'Cons. Planning Worksheet'!BP13),5)))","v":""},"Solubility =",{"$f":"IF('Cons. Planning Worksheet'!BE13=\"\",\"\",('Cons. Planning Worksheet'!BE13))","v":""},{"$f":"IF('Cons. Planning Worksheet'!L27=\"\",\"\",(+'Cons. Planning Worksheet'!L27))","v":""},{"$f":"IF('Cons. Planning Worksheet'!M27=\"\",\"\",(+'Cons. Planning Worksheet'!M27))","v":""},{"$f":"IF('Cons. Planning Worksheet'!N27=\"\",\"\",(+'Cons. Planning Worksheet'!N27))","v":""},{"$f":"IF('Cons. Planning Worksheet'!O27=\"\",\"\",(+'Cons. Planning Worksheet'!O27))","v":""},{"$f":"IF('Cons. Planning Worksheet'!Q27=\"\",\"\",(+'Cons. Planning Worksheet'!Q27))","v":""},{"$f":"IF('Cons. Planning Worksheet'!R27=\"\",\"\",(+'Cons. Planning Worksheet'!R27))","v":""},{"$f":"IF('Cons. Planning Worksheet'!S32=\"\",\"\",(+'Cons. Planning Worksheet'!S32))","v":""},{"$f":"IF('Cons. Planning Worksheet'!T32=\"\",\"\",(+'Cons. Planning Worksheet'!T32))","v":""},{"$f":"IF('Cons. Planning Worksheet'!U32=\"\",\"\",(+'Cons. Planning Worksheet'!U32))","v":""},null,null,null,null,null,null,null,"990","Island of Oahu, Hawaii: HI990","MuB","1","Molokai","SICL","100","B","0.2","15","2.5","False","False","False","INTERMEDIATE                                                                    ","INTERMEDIATE                                                                    ","INTERMEDIATE                                                                    ","SEVIN 80W","00026400316","80","Carbaryl","056801",null,"120","300","10","70","HA*","27","8100","Broadcast","Foliar","Standard","VERY LOW  (Foliar Application: -1)                                              ","LOW  (Foliar Application: -1)                                                   ","LOW  (Foliar Application: -1)                                                   ","LOW         ","INTERMEDIATE","VERY LOW    ","9/15/2010 11:21:46 AM","Aiea",null,null,null,"SEVIN 80W EPA Reg No:[00026400316] ; Carbaryl PC Code: [056801]  -> MuB Molokai","Carbaryl","MolokaiMuBHI9901SICL1000","LOW (Pass)   (Foliar Application: -1)                                           ","VERY LOW (Pass) (Foliar Application: -1)                                        ","LOW (Pass)   (Foliar Application: -1)                                           ","VERY LOW    ","VERY LOW    ","LOW         ","VERY LOW    ","LOW         ","V","V","L","V","L","L (f)","V (f)","L (f)","468483"]
[null,{"$f":"IF('Cons. Planning Worksheet'!B33=\"\",\"\",(+'Cons. Planning Worksheet'!B33))","v":""},{"$f":"IF('Cons. Planning Worksheet'!C33=\"\",\"\",(+'Cons. Planning Worksheet'!C33))","v":""},null,null,null,null,{"$f":"IF('Cons. Planning Worksheet'!AX13=\"\",\"\",\"SARP-\"&LEFT('Cons. Planning Worksheet'!AX13,MIN(FIND(\" \",'Cons. Planning Worksheet'!AX13),5)))","v":""},{"$f":"IF('Cons. Planning Worksheet'!BQ13=\"\",\"\",\"PARP-\"&LEFT('Cons. Planning Worksheet'!BQ13,MIN(FIND(\" \",'Cons. Planning Worksheet'!BQ13),5)))","v":""},"Koc =",{"$f":"IF('Cons. Planning Worksheet'!BF13=\"\",\"\",('Cons. Planning Worksheet'!BF13))","v":""},{"$f":"IF('Cons. Planning Worksheet'!L28=\"\",\"\",(+'Cons. Planning Worksheet'!L28))","v":""},{"$f":"IF('Cons. Planning Worksheet'!M28=\"\",\"\",(+'Cons. Planning Worksheet'!M28))","v":""},{"$f":"IF('Cons. Planning Worksheet'!N28=\"\",\"\",(+'Cons. Planning Worksheet'!N28))","v":""},{"$f":"IF('Cons. Planning Worksheet'!O28=\"\",\"\",(+'Cons. Planning Worksheet'!O28))","v":""},{"$f":"IF('Cons. Planning Worksheet'!Q28=\"\",\"\",(+'Cons. Planning Worksheet'!Q28))","v":""},{"$f":"IF('Cons. Planning Worksheet'!R28=\"\",\"\",(+'Cons. Planning Worksheet'!R28))","v":""},{"$f":"IF('Cons. Planning Worksheet'!S33=\"\",\"\",(+'Cons. Planning Worksheet'!S33))","v":""},{"$f":"IF('Cons. Planning Worksheet'!T33=\"\",\"\",(+'Cons. Planning Worksheet'!T33))","v":""},{"$f":"IF('Cons. Planning Worksheet'!U33=\"\",\"\",(+'Cons. Planning Worksheet'!U33))","v":""},null,null,null,null,null,null,null,"990","Island of Oahu, Hawaii: HI990","MuB","1","Molokai","SICL","100","B","0.2","15","2.5","False","False","False","INTERMEDIATE                                                                    ","INTERMEDIATE                                                                    ","INTERMEDIATE                                                                    ","SUCCESS","06271900292","22.8","Spinosyn A","110003",null,"89.4","16420","0.4","188","HA*","692","11362640","Broadcast","Foliar","Ultra Low","VERY LOW  (Foliar Application: -1)  (Ultra Low Rate of Application: -2)         ","LOW  (Foliar Application: -1)  (Ultra Low Rate of Application: -2)              ","LOW  (Foliar Application: -1)  (Ultra Low Rate of Application: -2)              ","VERY LOW    ","VERY LOW    ","VERY LOW    ","9/15/2010 11:21:46 AM","Aiea",null,null,null,"SUCCESS EPA Reg No:[06271900292] ; Spinosyn A PC Code: [110003]  -> MuB Molokai","Spinosyn A","MolokaiMuBHI9901SICL1000","LOW (Pass)   (Foliar Application: -1)  (Ultra Low Rate of Application: -2)      ","VERY LOW (Pass) (Foliar Application: -1)  (Ultra Low Rate of Application: -2)   ","LOW (Pass)   (Foliar Application: -1)  (Ultra Low Rate of Application: -2)      ","VERY LOW    ","VERY LOW    ","VERY LOW    ","VERY LOW    ","VERY LOW    ","V","V","V","V","V","L (f<ul>)","V (f<ul>)","L (f<ul>)","468483"]
[null,{"$f":"IF('Cons. Planning Worksheet'!B34=\"\",\"\",(+'Cons. Planning Worksheet'!B34))","v":""},{"$f":"IF('Cons. Planning Worksheet'!C34=\"\",\"\",(+'Cons. Planning Worksheet'!C34))","v":""},null,null,null,null,null,null,"Half Life =",{"$f":"IF('Cons. Planning Worksheet'!BG13=\"\",\"\",('Cons. Planning Worksheet'!BG13))","v":""},{"$f":"IF('Cons. Planning Worksheet'!L29=\"\",\"\",(+'Cons. Planning Worksheet'!L29))","v":""},{"$f":"IF('Cons. Planning Worksheet'!M29=\"\",\"\",(+'Cons. Planning Worksheet'!M29))","v":""},{"$f":"IF('Cons. Planning Worksheet'!N29=\"\",\"\",(+'Cons. Planning Worksheet'!N29))","v":""},{"$f":"IF('Cons. Planning Worksheet'!O29=\"\",\"\",(+'Cons. Planning Worksheet'!O29))","v":""},{"$f":"IF('Cons. Planning Worksheet'!Q29=\"\",\"\",(+'Cons. Planning Worksheet'!Q29))","v":""},{"$f":"IF('Cons. Planning Worksheet'!R29=\"\",\"\",(+'Cons. Planning Worksheet'!R29))","v":""},{"$f":"IF('Cons. Planning Worksheet'!S34=\"\",\"\",(+'Cons. Planning Worksheet'!S34))","v":""},{"$f":"IF('Cons. Planning Worksheet'!T34=\"\",\"\",(+'Cons. Planning Worksheet'!T34))","v":""},{"$f":"IF('Cons. Planning Worksheet'!U34=\"\",\"\",(+'Cons. Planning Worksheet'!U34))","v":""},null,null,null,null,null,null,null,"990","Island of Oahu, Hawaii: HI990","MuB","1","Molokai","SICL","100","B","0.2","15","2.5","False","False","False","INTERMEDIATE                                                                    ","INTERMEDIATE                                                                    ","INTERMEDIATE                                                                    ","DITHANE DF RAINSHIELD","06271900402","75","Mancozeb","014504",null,"6","2000","70","5.8","CHCL","3.2","6400","Broadcast","Foliar","Standard","VERY LOW  (Foliar Application: -1)                                              ","INTERMEDIATE  (Foliar Application: -1)                                          ","INTERMEDIATE  (Foliar Application: -1)                                          ","HIGH        ","HIGH        ","VERY LOW    ","9/15/2010 11:21:46 AM","Aiea",null,null,null,"DITHANE DF RAINSHIELD EPA Reg No:[06271900402] ; Mancozeb PC Code: [014504]  -> MuB Molokai","Mancozeb","MolokaiMuBHI9901SICL1000","INTERMEDIATE2 (Evaluate Further) (Foliar Application: -1)                       ","VERY LOW (Pass) (Foliar Application: -1)                                        ","INTERMEDIATE (Evaluate Further) (Foliar Application: -1)                        ","VERY LOW    ","LOW         ","HIGH        ","LOW         ","HIGH        ","V","L","H","L","H","I (f)","V (f)","I (f)","468483"]
[4,{"$f":"IF('Cons. Planning Worksheet'!B36=\"\",\"\",(+'Cons. Planning Worksheet'!B36))","v":""},{"$f":"IF('Cons. Planning Worksheet'!C36=\"\",\"\",(+'Cons. Planning Worksheet'!C36))","v":""},{"$f":"IF('Cons. Planning Worksheet'!AS14=\"\",\"\", ('Cons. Planning Worksheet'!AS14))","v":""},{"$f":"IF('Cons. Planning Worksheet'!AT14=\"\",\"\", ('Cons. Planning Worksheet'!AT14))","v":""},{"$f":"IF('Cons. Planning Worksheet'!AU14=\"\",\"\", ('Cons. Planning Worksheet'!AU14))","v":""},{"$f":"IF('Cons. Planning Worksheet'!E36=\"\",\"\",(+'Cons. Planning Worksheet'!E36))","v":""},null,null,{"$f":"IF('Cons. Planning Worksheet'!F36=\"\",\"\",(+'Cons. Planning Worksheet'!F36))","v":""},null,{"$f":"IF('Cons. Planning Worksheet'!CQ14=\"\",\"\",('Cons. Planning Worksheet'!CQ14))","v":""},{"$f":"IF('Cons. Planning Worksheet'!H31=\"\",\"\",(+'Cons. Planning Worksheet'!H31))","v":""},{"$f":"IF('Cons. Planning Worksheet'!CR14=\"\",\"\",('Cons. Planning Worksheet'!CR14))","v":""},{"$f":"IF('Cons. Planning Worksheet'!J31=\"\",\"\",(+'Cons. Planning Worksheet'!J31))","v":""},{"$f":"IF('Cons. Planning Worksheet'!CP14=\"\",\"\",('Cons. Planning Worksheet'!CP14))","v":""},{"$f":"IF('Cons. Planning Worksheet'!L31=\"\",\"\",(+'Cons. Planning Worksheet'!L31))","v":""},{"$f":"IF('Cons. Planning Worksheet'!M36=\"\",\"\",(+'Cons. Planning Worksheet'!M36))","v":""},{"$f":"IF('Cons. Planning Worksheet'!N36=\"\",\"\",(+'Cons. Planning Worksheet'!N36))","v":""},{"$f":"IF('Cons. Planning Worksheet'!O36=\"\",\"\",(+'Cons. Planning Worksheet'!O36))","v":""},null,null,null,null,null,null,null,"990","Island of Oahu, Hawaii: HI990","KyA","1","Kunia","SIC","100","B","0.17","22","2.5","False","False","False","INTERMEDIATE                                                                    ","INTERMEDIATE                                                                    ","INTERMEDIATE                                                                    ","ROUNDUP HERBICIDE","00052400445","41","Glyphosate, isopropylamine salt","103601",null,"900000","24000","47","700","MCL","168","4032000","Broadcast","Foliar","Standard","VERY LOW (Foliar Application: -1)                                               ","INTERMEDIATE  (Foliar Application: -1)                                          ","INTERMEDIATE  (Foliar Application: -1)                                          ","VERY LOW    ","LOW         ","VERY LOW    ","9/15/2010 11:21:46 AM","Aiea",null,null,null,"ROUNDUP HERBICIDE EPA Reg No:[00052400445] ; Glyphosate, isopropylamine salt PC Code: [103601]  -> KyA Kunia","Glyphosate, isopropylamine salt","KuniaKyAHI9901SIC1000","INTERMEDIATE2 (Evaluate Further) (Foliar Application: -1)                       ","VERY LOW (Pass) Foliar Application: -1)                                         ","INTERMEDIATE (Evaluate Further) (Foliar Application: -1)                        ","VERY LOW    ","VERY LOW    ","LOW         ","VERY LOW    ","VERY LOW    ","V","V","L","V","V","I (f)","V (f)","I (f)","468441"]
[null,{"$f":"IF('Cons. Planning Worksheet'!B36=\"\",\"\",(+'Cons. Planning Worksheet'!B36))","v":""},{"$f":"IF('Cons. Planning Worksheet'!C36=\"\",\"\",(+'Cons. Planning Worksheet'!C36))","v":""},null,null,null,null,{"$f":"IF('Cons. Planning Worksheet'!AV14=\"\",\"\",\"PLP-\"&LEFT('Cons. Planning Worksheet'!AV14,MIN(FIND(\" \",'Cons. Planning Worksheet'!AV14),5)))","v":""},{"$f":"IF('Cons. Planning Worksheet'!BO14=\"\",\"\",\"SLP-\"&LEFT('Cons. Planning Worksheet'!BO14,MIN(FIND(\" \",'Cons. Planning Worksheet'!BO14),5)))","v":""},null,null,{"$f":"IF('Cons. Planning Worksheet'!L31=\"\",\"\",(+'Cons. Planning Worksheet'!L31))","v":""},{"$f":"IF('Cons. Planning Worksheet'!M31=\"\",\"\",(+'Cons. Planning Worksheet'!M31))","v":""},{"$f":"IF('Cons. Planning Worksheet'!N31=\"\",\"\",(+'Cons. Planning Worksheet'!N31))","v":""},{"$f":"IF('Cons. Planning Worksheet'!O31=\"\",\"\",(+'Cons. Planning Worksheet'!O31))","v":""},{"$f":"IF('Cons. Planning Worksheet'!Q31=\"\",\"\",(+'Cons. Planning Worksheet'!Q31))","v":""},{"$f":"IF('Cons. Planning Worksheet'!R31=\"\",\"\",(+'Cons. Planning Worksheet'!R31))","v":""},{"$f":"IF('Cons. Planning Worksheet'!S36=\"\",\"\",(+'Cons. Planning Worksheet'!S36))","v":""},{"$f":"IF('Cons. Planning Worksheet'!T36=\"\",\"\",(+'Cons. Planning Worksheet'!T36))","v":""},{"$f":"IF('Cons. Planning Worksheet'!U36=\"\",\"\",(+'Cons. Planning Worksheet'!U36))","v":""},null,null,null,null,null,null,null,"990","Island of Oahu, Hawaii: HI990","KyA","1","Kunia","SIC","100","B","0.17","22","2.5","False","False","False","INTERMEDIATE                                                                    ","INTERMEDIATE                                                                    ","INTERMEDIATE                                                                    ","ATRAZINE 4L HERBICIDE","00010000497","42.6","Atrazine","080803",null,"33","100","60","3","MCL","30","3000","Banded","Soil Incorporated","Standard","INTERMEDIATE  (Banded: -1)                                                      ","INTERMEDIATE  (Banded: -1)  (Soil Incorporated: -1)                             ","LOW  (Banded: -1)  (Soil Incorporated: -1)                                      ","HIGH        ","INTERMEDIATE","VERY LOW    ","9/15/2010 11:21:46 AM","Aiea",null,null,null,"ATRAZINE 4L HERBICIDE EPA Reg No:[00010000497] ; Atrazine PC Code: [080803]  -> KyA Kunia","Atrazine","KuniaKyAHI9901SIC1000","LOW (Pass)   (Banded: -1)  (Soil Incorporated: -1)                              ","INTERMEDIATE (Evaluate Further) (Banded: -1)                                    ","INTERMEDIATE (Evaluate Further) (Banded: -1)  (Soil Incorporated: -1)           ","VERY LOW    ","INTERMEDIATE","INTERMEDIATE","HIGH        ","HIGH        ","V","I","I","H","H","L (bi)","I (b)","I (bi)","468441"]
[null,{"$f":"IF('Cons. Planning Worksheet'!B37=\"\",\"\",(+'Cons. Planning Worksheet'!B37))","v":""},{"$f":"IF('Cons. Planning Worksheet'!C37=\"\",\"\",(+'Cons. Planning Worksheet'!C37))","v":""},null,null,null,null,{"$f":"IF('Cons. Planning Worksheet'!AW14=\"\",\"\",\"SSRP-\"&LEFT('Cons. Planning Worksheet'!AW14,MIN(FIND(\" \",'Cons. Planning Worksheet'!AW14),5)))","v":""},{"$f":"IF('Cons. Planning Worksheet'!BP14=\"\",\"\",\"PSRP-\"&LEFT('Cons. Planning Worksheet'!BP14,MIN(FIND(\" \",'Cons. Planning Worksheet'!BP14),5)))","v":""},"Solubility =",{"$f":"IF('Cons. Planning Worksheet'!BE14=\"\",\"\",('Cons. Planning Worksheet'!BE14))","v":""},{"$f":"IF('Cons. Planning Worksheet'!L32=\"\",\"\",(+'Cons. Planning Worksheet'!L32))","v":""},{"$f":"IF('Cons. Planning Worksheet'!M32=\"\",\"\",(+'Cons. Planning Worksheet'!M32))","v":""},{"$f":"IF('Cons. Planning Worksheet'!N32=\"\",\"\",(+'Cons. Planning Worksheet'!N32))","v":""},{"$f":"IF('Cons. Planning Worksheet'!O32=\"\",\"\",(+'Cons. Planning Worksheet'!O32))","v":""},{"$f":"IF('Cons. Planning Worksheet'!Q32=\"\",\"\",(+'Cons. Planning Worksheet'!Q32))","v":""},{"$f":"IF('Cons. Planning Worksheet'!R32=\"\",\"\",(+'Cons. Planning Worksheet'!R32))","v":""},{"$f":"IF('Cons. Planning Worksheet'!S37=\"\",\"\",(+'Cons. Planning Worksheet'!S37))","v":""},{"$f":"IF('Cons. Planning Worksheet'!T37=\"\",\"\",(+'Cons. Planning Worksheet'!T37))","v":""},{"$f":"IF('Cons. Planning Worksheet'!U37=\"\",\"\",(+'Cons. Planning Worksheet'!U37))","v":""},null,null,null,null,null,null,null,"990","Island of Oahu, Hawaii: HI990","KyA","1","Kunia","SIC","100","B","0.17","22","2.5","False","False","False","INTERMEDIATE                                                                    ","INTERMEDIATE                                                                    ","INTERMEDIATE                                                                    ","SEVIN 80W","00026400316","80","Carbaryl","056801",null,"120","300","10","70","HA*","27","8100","Broadcast","Foliar","Standard","VERY LOW  (Foliar Application: -1)                                              ","LOW  (Foliar Application: -1)                                                   ","LOW  (Foliar Application: -1)                                                   ","LOW         ","INTERMEDIATE","VERY LOW    ","9/15/2010 11:21:46 AM","Aiea",null,null,null,"SEVIN 80W EPA Reg No:[00026400316] ; Carbaryl PC Code: [056801]  -> KyA Kunia","Carbaryl","KuniaKyAHI9901SIC1000","LOW (Pass)   (Foliar Application: -1)                                           ","VERY LOW (Pass) (Foliar Application: -1)                                        ","LOW (Pass)   (Foliar Application: -1)                                           ","VERY LOW    ","VERY LOW    ","LOW         ","VERY LOW    ","LOW         ","V","V","L","V","L","L (f)","V (f)","L (f)","468441"]
[null,{"$f":"IF('Cons. Planning Worksheet'!B38=\"\",\"\",(+'Cons. Planning Worksheet'!B38))","v":""},{"$f":"IF('Cons. Planning Worksheet'!C38=\"\",\"\",(+'Cons. Planning Worksheet'!C38))","v":""},null,null,null,null,{"$f":"IF('Cons. Planning Worksheet'!AX14=\"\",\"\",\"SARP-\"&LEFT('Cons. Planning Worksheet'!AX14,MIN(FIND(\" \",'Cons. Planning Worksheet'!AX14),5)))","v":""},{"$f":"IF('Cons. Planning Worksheet'!BQ14=\"\",\"\",\"PARP-\"&LEFT('Cons. Planning Worksheet'!BQ14,MIN(FIND(\" \",'Cons. Planning Worksheet'!BQ14),5)))","v":""},"Koc =",{"$f":"IF('Cons. Planning Worksheet'!BF14=\"\",\"\",('Cons. Planning Worksheet'!BF14))","v":""},{"$f":"IF('Cons. Planning Worksheet'!L33=\"\",\"\",(+'Cons. Planning Worksheet'!L33))","v":""},{"$f":"IF('Cons. Planning Worksheet'!M33=\"\",\"\",(+'Cons. Planning Worksheet'!M33))","v":""},{"$f":"IF('Cons. Planning Worksheet'!N33=\"\",\"\",(+'Cons. Planning Worksheet'!N33))","v":""},{"$f":"IF('Cons. Planning Worksheet'!O33=\"\",\"\",(+'Cons. Planning Worksheet'!O33))","v":""},{"$f":"IF('Cons. Planning Worksheet'!Q33=\"\",\"\",(+'Cons. Planning Worksheet'!Q33))","v":""},{"$f":"IF('Cons. Planning Worksheet'!R33=\"\",\"\",(+'Cons. Planning Worksheet'!R33))","v":""},{"$f":"IF('Cons. Planning Worksheet'!S38=\"\",\"\",(+'Cons. Planning Worksheet'!S38))","v":""},{"$f":"IF('Cons. Planning Worksheet'!T38=\"\",\"\",(+'Cons. Planning Worksheet'!T38))","v":""},{"$f":"IF('Cons. Planning Worksheet'!U38=\"\",\"\",(+'Cons. Planning Worksheet'!U38))","v":""},null,null,null,null,null,null,null,"990","Island of Oahu, Hawaii: HI990","KyA","1","Kunia","SIC","100","B","0.17","22","2.5","False","False","False","INTERMEDIATE                                                                    ","INTERMEDIATE                                                                    ","INTERMEDIATE                                                                    ","SUCCESS","06271900292","22.8","Spinosyn A","110003",null,"89.4","16420","0.4","188","HA*","692","11362640","Broadcast","Foliar","Ultra Low","VERY LOW  (Foliar Application: -1)  (Ultra Low Rate of Application: -2)         ","LOW  (Foliar Application: -1)  (Ultra Low Rate of Application: -2)              ","LOW  (Foliar Application: -1)  (Ultra Low Rate of Application: -2)              ","VERY LOW    ","VERY LOW    ","VERY LOW    ","9/15/2010 11:21:46 AM","Aiea",null,null,null,"SUCCESS EPA Reg No:[06271900292] ; Spinosyn A PC Code: [110003]  -> KyA Kunia","Spinosyn A","KuniaKyAHI9901SIC1000","LOW (Pass)   (Foliar Application: -1)  (Ultra Low Rate of Application: -2)      ","VERY LOW (Pass) (Foliar Application: -1)  (Ultra Low Rate of Application: -2)   ","LOW (Pass)   (Foliar Application: -1)  (Ultra Low Rate of Application: -2)      ","VERY LOW    ","VERY LOW    ","VERY LOW    ","VERY LOW    ","VERY LOW    ","V","V","V","V","V","L (f<ul>)","V (f<ul>)","L (f<ul>)","468441"]
[null,{"$f":"IF('Cons. Planning Worksheet'!B39=\"\",\"\",(+'Cons. Planning Worksheet'!B39))","v":""},{"$f":"IF('Cons. Planning Worksheet'!C39=\"\",\"\",(+'Cons. Planning Worksheet'!C39))","v":""},null,null,null,null,null,null,"Half Life =",{"$f":"IF('Cons. Planning Worksheet'!BG14=\"\",\"\",('Cons. Planning Worksheet'!BG14))","v":""},{"$f":"IF('Cons. Planning Worksheet'!L34=\"\",\"\",(+'Cons. Planning Worksheet'!L34))","v":""},{"$f":"IF('Cons. Planning Worksheet'!M34=\"\",\"\",(+'Cons. Planning Worksheet'!M34))","v":""},{"$f":"IF('Cons. Planning Worksheet'!N34=\"\",\"\",(+'Cons. Planning Worksheet'!N34))","v":""},{"$f":"IF('Cons. Planning Worksheet'!O34=\"\",\"\",(+'Cons. Planning Worksheet'!O34))","v":""},{"$f":"IF('Cons. Planning Worksheet'!Q34=\"\",\"\",(+'Cons. Planning Worksheet'!Q34))","v":""},{"$f":"IF('Cons. Planning Worksheet'!R34=\"\",\"\",(+'Cons. Planning Worksheet'!R34))","v":""},{"$f":"IF('Cons. Planning Worksheet'!S39=\"\",\"\",(+'Cons. Planning Worksheet'!S39))","v":""},{"$f":"IF('Cons. Planning Worksheet'!T39=\"\",\"\",(+'Cons. Planning Worksheet'!T39))","v":""},{"$f":"IF('Cons. Planning Worksheet'!U39=\"\",\"\",(+'Cons. Planning Worksheet'!U39))","v":""},null,null,null,null,null,null,null,"990","Island of Oahu, Hawaii: HI990","KyA","1","Kunia","SIC","100","B","0.17","22","2.5","False","False","False","INTERMEDIATE                                                                    ","INTERMEDIATE                                                                    ","INTERMEDIATE                                                                    ","DITHANE DF RAINSHIELD","06271900402","75","Mancozeb","014504",null,"6","2000","70","5.8","CHCL","3.2","6400","Broadcast","Foliar","Standard","VERY LOW  (Foliar Application: -1)                                              ","INTERMEDIATE  (Foliar Application: -1)                                          ","INTERMEDIATE  (Foliar Application: -1)                                          ","HIGH        ","HIGH        ","VERY LOW    ","9/15/2010 11:21:46 AM","Aiea",null,null,null,"DITHANE DF RAINSHIELD EPA Reg No:[06271900402] ; Mancozeb PC Code: [014504]  -> KyA Kunia","Mancozeb","KuniaKyAHI9901SIC1000","INTERMEDIATE2 (Evaluate Further) (Foliar Application: -1)                       ","VERY LOW (Pass) (Foliar Application: -1)                                        ","INTERMEDIATE (Evaluate Further) (Foliar Application: -1)                        ","VERY LOW    ","LOW         ","HIGH        ","LOW         ","HIGH        ","V","L","H","L","H","I (f)","V (f)","I (f)","468441"]
[5,{"$f":"IF('Cons. Planning Worksheet'!B41=\"\",\"\",(+'Cons. Planning Worksheet'!B41))","v":""},{"$f":"IF('Cons. Planning Worksheet'!C41=\"\",\"\",(+'Cons. Planning Worksheet'!C41))","v":""},{"$f":"IF('Cons. Planning Worksheet'!AS15=\"\",\"\", ('Cons. Planning Worksheet'!AS15))","v":""},{"$f":"IF('Cons. Planning Worksheet'!AT15=\"\",\"\", ('Cons. Planning Worksheet'!AT15))","v":""},{"$f":"IF('Cons. Planning Worksheet'!AU15=\"\",\"\", ('Cons. Planning Worksheet'!AU15))","v":""},{"$f":"IF('Cons. Planning Worksheet'!E41=\"\",\"\",(+'Cons. Planning Worksheet'!E41))","v":""},null,null,{"$f":"IF('Cons. Planning Worksheet'!F41=\"\",\"\",(+'Cons. Planning Worksheet'!F41))","v":""},null,{"$f":"IF('Cons. Planning Worksheet'!CQ15=\"\",\"\",('Cons. Planning Worksheet'!CQ15))","v":""},{"$f":"IF('Cons. Planning Worksheet'!H36=\"\",\"\",(+'Cons. Planning Worksheet'!H36))","v":""},{"$f":"IF('Cons. Planning Worksheet'!CR15=\"\",\"\",('Cons. Planning Worksheet'!CR15))","v":""},{"$f":"IF('Cons. Planning Worksheet'!J36=\"\",\"\",(+'Cons. Planning Worksheet'!J36))","v":""},{"$f":"IF('Cons. Planning Worksheet'!CP15=\"\",\"\",('Cons. Planning Worksheet'!CP15))","v":""},{"$f":"IF('Cons. Planning Worksheet'!L36=\"\",\"\",(+'Cons. Planning Worksheet'!L36))","v":""},{"$f":"IF('Cons. Planning Worksheet'!M41=\"\",\"\",(+'Cons. Planning Worksheet'!M41))","v":""},{"$f":"IF('Cons. Planning Worksheet'!N41=\"\",\"\",(+'Cons. Planning Worksheet'!N41))","v":""},{"$f":"IF('Cons. Planning Worksheet'!O41=\"\",\"\",(+'Cons. Planning Worksheet'!O41))","v":""}]
[null,{"$f":"IF('Cons. Planning Worksheet'!B41=\"\",\"\",(+'Cons. Planning Worksheet'!B41))","v":""},{"$f":"IF('Cons. Planning Worksheet'!C41=\"\",\"\",(+'Cons. Planning Worksheet'!C41))","v":""},null,null,null,null,{"$f":"IF('Cons. Planning Worksheet'!AV15=\"\",\"\",\"PLP-\"&LEFT('Cons. Planning Worksheet'!AV15,MIN(FIND(\" \",'Cons. Planning Worksheet'!AV15),5)))","v":""},{"$f":"IF('Cons. Planning Worksheet'!BO15=\"\",\"\",\"SLP-\"&LEFT('Cons. Planning Worksheet'!BO15,MIN(FIND(\" \",'Cons. Planning Worksheet'!BO15),5)))","v":""},null,null,{"$f":"IF('Cons. Planning Worksheet'!L36=\"\",\"\",(+'Cons. Planning Worksheet'!L36))","v":""},{"$f":"IF('Cons. Planning Worksheet'!M36=\"\",\"\",(+'Cons. Planning Worksheet'!M36))","v":""},{"$f":"IF('Cons. Planning Worksheet'!N36=\"\",\"\",(+'Cons. Planning Worksheet'!N36))","v":""},{"$f":"IF('Cons. Planning Worksheet'!O36=\"\",\"\",(+'Cons. Planning Worksheet'!O36))","v":""},{"$f":"IF('Cons. Planning Worksheet'!Q36=\"\",\"\",(+'Cons. Planning Worksheet'!Q36))","v":""},{"$f":"IF('Cons. Planning Worksheet'!R36=\"\",\"\",(+'Cons. Planning Worksheet'!R36))","v":""},{"$f":"IF('Cons. Planning Worksheet'!S41=\"\",\"\",(+'Cons. Planning Worksheet'!S41))","v":""},{"$f":"IF('Cons. Planning Worksheet'!T41=\"\",\"\",(+'Cons. Planning Worksheet'!T41))","v":""},{"$f":"IF('Cons. Planning Worksheet'!U41=\"\",\"\",(+'Cons. Planning Worksheet'!U41))","v":""}]
[null,{"$f":"IF('Cons. Planning Worksheet'!B42=\"\",\"\",(+'Cons. Planning Worksheet'!B42))","v":""},{"$f":"IF('Cons. Planning Worksheet'!C42=\"\",\"\",(+'Cons. Planning Worksheet'!C42))","v":""},null,null,null,null,{"$f":"IF('Cons. Planning Worksheet'!AW15=\"\",\"\",\"SSRP-\"&LEFT('Cons. Planning Worksheet'!AW15,MIN(FIND(\" \",'Cons. Planning Worksheet'!AW15),5)))","v":""},{"$f":"IF('Cons. Planning Worksheet'!BP15=\"\",\"\",\"PSRP-\"&LEFT('Cons. Planning Worksheet'!BP15,MIN(FIND(\" \",'Cons. Planning Worksheet'!BP15),5)))","v":""},"Solubility =",{"$f":"IF('Cons. Planning Worksheet'!BE15=\"\",\"\",('Cons. Planning Worksheet'!BE15))","v":""},{"$f":"IF('Cons. Planning Worksheet'!L37=\"\",\"\",(+'Cons. Planning Worksheet'!L37))","v":""},{"$f":"IF('Cons. Planning Worksheet'!M37=\"\",\"\",(+'Cons. Planning Worksheet'!M37))","v":""},{"$f":"IF('Cons. Planning Worksheet'!N37=\"\",\"\",(+'Cons. Planning Worksheet'!N37))","v":""},{"$f":"IF('Cons. Planning Worksheet'!O37=\"\",\"\",(+'Cons. Planning Worksheet'!O37))","v":""},{"$f":"IF('Cons. Planning Worksheet'!Q37=\"\",\"\",(+'Cons. Planning Worksheet'!Q37))","v":""},{"$f":"IF('Cons. Planning Worksheet'!R37=\"\",\"\",(+'Cons. Planning Worksheet'!R37))","v":""},{"$f":"IF('Cons. Planning Worksheet'!S42=\"\",\"\",(+'Cons. Planning Worksheet'!S42))","v":""},{"$f":"IF('Cons. Planning Worksheet'!T42=\"\",\"\",(+'Cons. Planning Worksheet'!T42))","v":""},{"$f":"IF('Cons. Planning Worksheet'!U42=\"\",\"\",(+'Cons. Planning Worksheet'!U42))","v":""}]
[null,{"$f":"IF('Cons. Planning Worksheet'!B43=\"\",\"\",(+'Cons. Planning Worksheet'!B43))","v":""},{"$f":"IF('Cons. Planning Worksheet'!C43=\"\",\"\",(+'Cons. Planning Worksheet'!C43))","v":""},null,null,null,null,{"$f":"IF('Cons. Planning Worksheet'!AX15=\"\",\"\",\"SARP-\"&LEFT('Cons. Planning Worksheet'!AX15,MIN(FIND(\" \",'Cons. Planning Worksheet'!AX15),5)))","v":""},{"$f":"IF('Cons. Planning Worksheet'!BQ15=\"\",\"\",\"PARP-\"&LEFT('Cons. Planning Worksheet'!BQ15,MIN(FIND(\" \",'Cons. Planning Worksheet'!BQ15),5)))","v":""},"Koc =",{"$f":"IF('Cons. Planning Worksheet'!BF15=\"\",\"\",('Cons. Planning Worksheet'!BF15))","v":""},{"$f":"IF('Cons. Planning Worksheet'!L38=\"\",\"\",(+'Cons. Planning Worksheet'!L38))","v":""},{"$f":"IF('Cons. Planning Worksheet'!M38=\"\",\"\",(+'Cons. Planning Worksheet'!M38))","v":""},{"$f":"IF('Cons. Planning Worksheet'!N38=\"\",\"\",(+'Cons. Planning Worksheet'!N38))","v":""},{"$f":"IF('Cons. Planning Worksheet'!O38=\"\",\"\",(+'Cons. Planning Worksheet'!O38))","v":""},{"$f":"IF('Cons. Planning Worksheet'!Q38=\"\",\"\",(+'Cons. Planning Worksheet'!Q38))","v":""},{"$f":"IF('Cons. Planning Worksheet'!R38=\"\",\"\",(+'Cons. Planning Worksheet'!R38))","v":""},{"$f":"IF('Cons. Planning Worksheet'!S43=\"\",\"\",(+'Cons. Planning Worksheet'!S43))","v":""},{"$f":"IF('Cons. Planning Worksheet'!T43=\"\",\"\",(+'Cons. Planning Worksheet'!T43))","v":""},{"$f":"IF('Cons. Planning Worksheet'!U43=\"\",\"\",(+'Cons. Planning Worksheet'!U43))","v":""}]
[null,{"$f":"IF('Cons. Planning Worksheet'!B44=\"\",\"\",(+'Cons. Planning Worksheet'!B44))","v":""},{"$f":"IF('Cons. Planning Worksheet'!C44=\"\",\"\",(+'Cons. Planning Worksheet'!C44))","v":""},null,null,null,null,null,null,"Half Life =",{"$f":"IF('Cons. Planning Worksheet'!BG15=\"\",\"\",('Cons. Planning Worksheet'!BG15))","v":""},{"$f":"IF('Cons. Planning Worksheet'!L39=\"\",\"\",(+'Cons. Planning Worksheet'!L39))","v":""},{"$f":"IF('Cons. Planning Worksheet'!M39=\"\",\"\",(+'Cons. Planning Worksheet'!M39))","v":""},{"$f":"IF('Cons. Planning Worksheet'!N39=\"\",\"\",(+'Cons. Planning Worksheet'!N39))","v":""},{"$f":"IF('Cons. Planning Worksheet'!O39=\"\",\"\",(+'Cons. Planning Worksheet'!O39))","v":""},{"$f":"IF('Cons. Planning Worksheet'!Q39=\"\",\"\",(+'Cons. Planning Worksheet'!Q39))","v":""},{"$f":"IF('Cons. Planning Worksheet'!R39=\"\",\"\",(+'Cons. Planning Worksheet'!R39))","v":""},{"$f":"IF('Cons. Planning Worksheet'!S44=\"\",\"\",(+'Cons. Planning Worksheet'!S44))","v":""},{"$f":"IF('Cons. Planning Worksheet'!T44=\"\",\"\",(+'Cons. Planning Worksheet'!T44))","v":""},{"$f":"IF('Cons. Planning Worksheet'!U44=\"\",\"\",(+'Cons. Planning Worksheet'!U44))","v":""}]
[6,{"$f":"IF('Cons. Planning Worksheet'!B46=\"\",\"\",(+'Cons. Planning Worksheet'!B46))","v":""},{"$f":"IF('Cons. Planning Worksheet'!C46=\"\",\"\",(+'Cons. Planning Worksheet'!C46))","v":""},{"$f":"IF('Cons. Planning Worksheet'!AS16=\"\",\"\", ('Cons. Planning Worksheet'!AS16))","v":""},{"$f":"IF('Cons. Planning Worksheet'!AT16=\"\",\"\", ('Cons. Planning Worksheet'!AT16))","v":""},{"$f":"IF('Cons. Planning Worksheet'!AU16=\"\",\"\", ('Cons. Planning Worksheet'!AU16))","v":""},{"$f":"IF('Cons. Planning Worksheet'!E46=\"\",\"\",(+'Cons. Planning Worksheet'!E46))","v":""},null,null,{"$f":"IF('Cons. Planning Worksheet'!F46=\"\",\"\",(+'Cons. Planning Worksheet'!F46))","v":""},null,{"$f":"IF('Cons. Planning Worksheet'!CQ16=\"\",\"\",('Cons. Planning Worksheet'!CQ16))","v":""},{"$f":"IF('Cons. Planning Worksheet'!H41=\"\",\"\",(+'Cons. Planning Worksheet'!H41))","v":""},{"$f":"IF('Cons. Planning Worksheet'!CR16=\"\",\"\",('Cons. Planning Worksheet'!CR16))","v":""},{"$f":"IF('Cons. Planning Worksheet'!J41=\"\",\"\",(+'Cons. Planning Worksheet'!J41))","v":""},{"$f":"IF('Cons. Planning Worksheet'!CP16=\"\",\"\",('Cons. Planning Worksheet'!CP16))","v":""},{"$f":"IF('Cons. Planning Worksheet'!L41=\"\",\"\",(+'Cons. Planning Worksheet'!L41))","v":""},{"$f":"IF('Cons. Planning Worksheet'!M46=\"\",\"\",(+'Cons. Planning Worksheet'!M46))","v":""},{"$f":"IF('Cons. Planning Worksheet'!N46=\"\",\"\",(+'Cons. Planning Worksheet'!N46))","v":""},{"$f":"IF('Cons. Planning Worksheet'!O46=\"\",\"\",(+'Cons. Planning Worksheet'!O46))","v":""}]
[null,{"$f":"IF('Cons. Planning Worksheet'!B46=\"\",\"\",(+'Cons. Planning Worksheet'!B46))","v":""},{"$f":"IF('Cons. Planning Worksheet'!C46=\"\",\"\",(+'Cons. Planning Worksheet'!C46))","v":""},null,null,null,null,{"$f":"IF('Cons. Planning Worksheet'!AV16=\"\",\"\",\"PLP-\"&LEFT('Cons. Planning Worksheet'!AV16,MIN(FIND(\" \",'Cons. Planning Worksheet'!AV16),5)))","v":""},{"$f":"IF('Cons. Planning Worksheet'!BO16=\"\",\"\",\"SLP-\"&LEFT('Cons. Planning Worksheet'!BO16,MIN(FIND(\" \",'Cons. Planning Worksheet'!BO16),5)))","v":""},null,null,{"$f":"IF('Cons. Planning Worksheet'!L41=\"\",\"\",(+'Cons. Planning Worksheet'!L41))","v":""},{"$f":"IF('Cons. Planning Worksheet'!M41=\"\",\"\",(+'Cons. Planning Worksheet'!M41))","v":""},{"$f":"IF('Cons. Planning Worksheet'!N41=\"\",\"\",(+'Cons. Planning Worksheet'!N41))","v":""},{"$f":"IF('Cons. Planning Worksheet'!O41=\"\",\"\",(+'Cons. Planning Worksheet'!O41))","v":""},{"$f":"IF('Cons. Planning Worksheet'!Q41=\"\",\"\",(+'Cons. Planning Worksheet'!Q41))","v":""},{"$f":"IF('Cons. Planning Worksheet'!R41=\"\",\"\",(+'Cons. Planning Worksheet'!R41))","v":""},{"$f":"IF('Cons. Planning Worksheet'!S46=\"\",\"\",(+'Cons. Planning Worksheet'!S46))","v":""},{"$f":"IF('Cons. Planning Worksheet'!T46=\"\",\"\",(+'Cons. Planning Worksheet'!T46))","v":""},{"$f":"IF('Cons. Planning Worksheet'!U46=\"\",\"\",(+'Cons. Planning Worksheet'!U46))","v":""}]
[null,{"$f":"IF('Cons. Planning Worksheet'!B47=\"\",\"\",(+'Cons. Planning Worksheet'!B47))","v":""},{"$f":"IF('Cons. Planning Worksheet'!C47=\"\",\"\",(+'Cons. Planning Worksheet'!C47))","v":""},null,null,null,null,{"$f":"IF('Cons. Planning Worksheet'!AW16=\"\",\"\",\"SSRP-\"&LEFT('Cons. Planning Worksheet'!AW16,MIN(FIND(\" \",'Cons. Planning Worksheet'!AW16),5)))","v":""},{"$f":"IF('Cons. Planning Worksheet'!BP16=\"\",\"\",\"PSRP-\"&LEFT('Cons. Planning Worksheet'!BP16,MIN(FIND(\" \",'Cons. Planning Worksheet'!BP16),5)))","v":""},"Solubility =",{"$f":"IF('Cons. Planning Worksheet'!BE16=\"\",\"\",('Cons. Planning Worksheet'!BE16))","v":""},{"$f":"IF('Cons. Planning Worksheet'!L42=\"\",\"\",(+'Cons. Planning Worksheet'!L42))","v":""},{"$f":"IF('Cons. Planning Worksheet'!M42=\"\",\"\",(+'Cons. Planning Worksheet'!M42))","v":""},{"$f":"IF('Cons. Planning Worksheet'!N42=\"\",\"\",(+'Cons. Planning Worksheet'!N42))","v":""},{"$f":"IF('Cons. Planning Worksheet'!O42=\"\",\"\",(+'Cons. Planning Worksheet'!O42))","v":""},{"$f":"IF('Cons. Planning Worksheet'!Q42=\"\",\"\",(+'Cons. Planning Worksheet'!Q42))","v":""},{"$f":"IF('Cons. Planning Worksheet'!R42=\"\",\"\",(+'Cons. Planning Worksheet'!R42))","v":""},{"$f":"IF('Cons. Planning Worksheet'!S47=\"\",\"\",(+'Cons. Planning Worksheet'!S47))","v":""},{"$f":"IF('Cons. Planning Worksheet'!T47=\"\",\"\",(+'Cons. Planning Worksheet'!T47))","v":""},{"$f":"IF('Cons. Planning Worksheet'!U47=\"\",\"\",(+'Cons. Planning Worksheet'!U47))","v":""}]
[null,{"$f":"IF('Cons. Planning Worksheet'!B48=\"\",\"\",(+'Cons. Planning Worksheet'!B48))","v":""},{"$f":"IF('Cons. Planning Worksheet'!C48=\"\",\"\",(+'Cons. Planning Worksheet'!C48))","v":""},null,null,null,null,{"$f":"IF('Cons. Planning Worksheet'!AX16=\"\",\"\",\"SARP-\"&LEFT('Cons. Planning Worksheet'!AX16,MIN(FIND(\" \",'Cons. Planning Worksheet'!AX16),5)))","v":""},{"$f":"IF('Cons. Planning Worksheet'!BQ16=\"\",\"\",\"PARP-\"&LEFT('Cons. Planning Worksheet'!BQ16,MIN(FIND(\" \",'Cons. Planning Worksheet'!BQ16),5)))","v":""},"Koc =",{"$f":"IF('Cons. Planning Worksheet'!BF16=\"\",\"\",('Cons. Planning Worksheet'!BF16))","v":""},{"$f":"IF('Cons. Planning Worksheet'!L43=\"\",\"\",(+'Cons. Planning Worksheet'!L43))","v":""},{"$f":"IF('Cons. Planning Worksheet'!M43=\"\",\"\",(+'Cons. Planning Worksheet'!M43))","v":""},{"$f":"IF('Cons. Planning Worksheet'!N43=\"\",\"\",(+'Cons. Planning Worksheet'!N43))","v":""},{"$f":"IF('Cons. Planning Worksheet'!O43=\"\",\"\",(+'Cons. Planning Worksheet'!O43))","v":""},{"$f":"IF('Cons. Planning Worksheet'!Q43=\"\",\"\",(+'Cons. Planning Worksheet'!Q43))","v":""},{"$f":"IF('Cons. Planning Worksheet'!R43=\"\",\"\",(+'Cons. Planning Worksheet'!R43))","v":""},{"$f":"IF('Cons. Planning Worksheet'!S48=\"\",\"\",(+'Cons. Planning Worksheet'!S48))","v":""},{"$f":"IF('Cons. Planning Worksheet'!T48=\"\",\"\",(+'Cons. Planning Worksheet'!T48))","v":""},{"$f":"IF('Cons. Planning Worksheet'!U48=\"\",\"\",(+'Cons. Planning Worksheet'!U48))","v":""}]
[null,{"$f":"IF('Cons. Planning Worksheet'!B49=\"\",\"\",(+'Cons. Planning Worksheet'!B49))","v":""},{"$f":"IF('Cons. Planning Worksheet'!C49=\"\",\"\",(+'Cons. Planning Worksheet'!C49))","v":""},null,null,null,null,null,null,"Half Life =",{"$f":"IF('Cons. Planning Worksheet'!BG16=\"\",\"\",('Cons. Planning Worksheet'!BG16))","v":""},{"$f":"IF('Cons. Planning Worksheet'!L44=\"\",\"\",(+'Cons. Planning Worksheet'!L44))","v":""},{"$f":"IF('Cons. Planning Worksheet'!M44=\"\",\"\",(+'Cons. Planning Worksheet'!M44))","v":""},{"$f":"IF('Cons. Planning Worksheet'!N44=\"\",\"\",(+'Cons. Planning Worksheet'!N44))","v":""},{"$f":"IF('Cons. Planning Worksheet'!O44=\"\",\"\",(+'Cons. Planning Worksheet'!O44))","v":""},{"$f":"IF('Cons. Planning Worksheet'!Q44=\"\",\"\",(+'Cons. Planning Worksheet'!Q44))","v":""},{"$f":"IF('Cons. Planning Worksheet'!R44=\"\",\"\",(+'Cons. Planning Worksheet'!R44))","v":""},{"$f":"IF('Cons. Planning Worksheet'!S49=\"\",\"\",(+'Cons. Planning Worksheet'!S49))","v":""},{"$f":"IF('Cons. Planning Worksheet'!T49=\"\",\"\",(+'Cons. Planning Worksheet'!T49))","v":""},{"$f":"IF('Cons. Planning Worksheet'!U49=\"\",\"\",(+'Cons. Planning Worksheet'!U49))","v":""}]
[7,{"$f":"IF('Cons. Planning Worksheet'!B51=\"\",\"\",(+'Cons. Planning Worksheet'!B51))","v":""},{"$f":"IF('Cons. Planning Worksheet'!C51=\"\",\"\",(+'Cons. Planning Worksheet'!C51))","v":""},{"$f":"IF('Cons. Planning Worksheet'!AS17=\"\",\"\", ('Cons. Planning Worksheet'!AS17))","v":""},{"$f":"IF('Cons. Planning Worksheet'!AT17=\"\",\"\", ('Cons. Planning Worksheet'!AT17))","v":""},{"$f":"IF('Cons. Planning Worksheet'!AU17=\"\",\"\", ('Cons. Planning Worksheet'!AU17))","v":""},{"$f":"IF('Cons. Planning Worksheet'!E51=\"\",\"\",(+'Cons. Planning Worksheet'!E51))","v":""},null,null,{"$f":"IF('Cons. Planning Worksheet'!F51=\"\",\"\",(+'Cons. Planning Worksheet'!F51))","v":""},null,{"$f":"IF('Cons. Planning Worksheet'!CQ17=\"\",\"\",('Cons. Planning Worksheet'!CQ17))","v":""},{"$f":"IF('Cons. Planning Worksheet'!H46=\"\",\"\",(+'Cons. Planning Worksheet'!H46))","v":""},{"$f":"IF('Cons. Planning Worksheet'!CR17=\"\",\"\",('Cons. Planning Worksheet'!CR17))","v":""},{"$f":"IF('Cons. Planning Worksheet'!J46=\"\",\"\",(+'Cons. Planning Worksheet'!J46))","v":""},{"$f":"IF('Cons. Planning Worksheet'!CP17=\"\",\"\",('Cons. Planning Worksheet'!CP17))","v":""},{"$f":"IF('Cons. Planning Worksheet'!L46=\"\",\"\",(+'Cons. Planning Worksheet'!L46))","v":""},{"$f":"IF('Cons. Planning Worksheet'!M51=\"\",\"\",(+'Cons. Planning Worksheet'!M51))","v":""},{"$f":"IF('Cons. Planning Worksheet'!N51=\"\",\"\",(+'Cons. Planning Worksheet'!N51))","v":""},{"$f":"IF('Cons. Planning Worksheet'!O51=\"\",\"\",(+'Cons. Planning Worksheet'!O51))","v":""}]
[null,{"$f":"IF('Cons. Planning Worksheet'!B51=\"\",\"\",(+'Cons. Planning Worksheet'!B51))","v":""},{"$f":"IF('Cons. Planning Worksheet'!C51=\"\",\"\",(+'Cons. Planning Worksheet'!C51))","v":""},null,null,null,null,{"$f":"IF('Cons. Planning Worksheet'!AV17=\"\",\"\",\"PLP-\"&LEFT('Cons. Planning Worksheet'!AV17,MIN(FIND(\" \",'Cons. Planning Worksheet'!AV17),5)))","v":""},{"$f":"IF('Cons. Planning Worksheet'!BO17=\"\",\"\",\"SLP-\"&LEFT('Cons. Planning Worksheet'!BO17,MIN(FIND(\" \",'Cons. Planning Worksheet'!BO17),5)))","v":""},null,null,{"$f":"IF('Cons. Planning Worksheet'!L46=\"\",\"\",(+'Cons. Planning Worksheet'!L46))","v":""},{"$f":"IF('Cons. Planning Worksheet'!M46=\"\",\"\",(+'Cons. Planning Worksheet'!M46))","v":""},{"$f":"IF('Cons. Planning Worksheet'!N46=\"\",\"\",(+'Cons. Planning Worksheet'!N46))","v":""},{"$f":"IF('Cons. Planning Worksheet'!O46=\"\",\"\",(+'Cons. Planning Worksheet'!O46))","v":""},{"$f":"IF('Cons. Planning Worksheet'!Q46=\"\",\"\",(+'Cons. Planning Worksheet'!Q46))","v":""},{"$f":"IF('Cons. Planning Worksheet'!R46=\"\",\"\",(+'Cons. Planning Worksheet'!R46))","v":""},{"$f":"IF('Cons. Planning Worksheet'!S51=\"\",\"\",(+'Cons. Planning Worksheet'!S51))","v":""},{"$f":"IF('Cons. Planning Worksheet'!T51=\"\",\"\",(+'Cons. Planning Worksheet'!T51))","v":""},{"$f":"IF('Cons. Planning Worksheet'!U51=\"\",\"\",(+'Cons. Planning Worksheet'!U51))","v":""}]
[null,{"$f":"IF('Cons. Planning Worksheet'!B52=\"\",\"\",(+'Cons. Planning Worksheet'!B52))","v":""},{"$f":"IF('Cons. Planning Worksheet'!C52=\"\",\"\",(+'Cons. Planning Worksheet'!C52))","v":""},null,null,null,null,{"$f":"IF('Cons. Planning Worksheet'!AW17=\"\",\"\",\"SSRP-\"&LEFT('Cons. Planning Worksheet'!AW17,MIN(FIND(\" \",'Cons. Planning Worksheet'!AW17),5)))","v":""},{"$f":"IF('Cons. Planning Worksheet'!BP17=\"\",\"\",\"PSRP-\"&LEFT('Cons. Planning Worksheet'!BP17,MIN(FIND(\" \",'Cons. Planning Worksheet'!BP17),5)))","v":""},"Solubility =",{"$f":"IF('Cons. Planning Worksheet'!BE17=\"\",\"\",('Cons. Planning Worksheet'!BE17))","v":""},{"$f":"IF('Cons. Planning Worksheet'!L47=\"\",\"\",(+'Cons. Planning Worksheet'!L47))","v":""},{"$f":"IF('Cons. Planning Worksheet'!M47=\"\",\"\",(+'Cons. Planning Worksheet'!M47))","v":""},{"$f":"IF('Cons. Planning Worksheet'!N47=\"\",\"\",(+'Cons. Planning Worksheet'!N47))","v":""},{"$f":"IF('Cons. Planning Worksheet'!O47=\"\",\"\",(+'Cons. Planning Worksheet'!O47))","v":""},{"$f":"IF('Cons. Planning Worksheet'!Q47=\"\",\"\",(+'Cons. Planning Worksheet'!Q47))","v":""},{"$f":"IF('Cons. Planning Worksheet'!R47=\"\",\"\",(+'Cons. Planning Worksheet'!R47))","v":""},{"$f":"IF('Cons. Planning Worksheet'!S52=\"\",\"\",(+'Cons. Planning Worksheet'!S52))","v":""},{"$f":"IF('Cons. Planning Worksheet'!T52=\"\",\"\",(+'Cons. Planning Worksheet'!T52))","v":""},{"$f":"IF('Cons. Planning Worksheet'!U52=\"\",\"\",(+'Cons. Planning Worksheet'!U52))","v":""}]
[null,{"$f":"IF('Cons. Planning Worksheet'!B53=\"\",\"\",(+'Cons. Planning Worksheet'!B53))","v":""},{"$f":"IF('Cons. Planning Worksheet'!C53=\"\",\"\",(+'Cons. Planning Worksheet'!C53))","v":""},null,null,null,null,{"$f":"IF('Cons. Planning Worksheet'!AX17=\"\",\"\",\"SARP-\"&LEFT('Cons. Planning Worksheet'!AX17,MIN(FIND(\" \",'Cons. Planning Worksheet'!AX17),5)))","v":""},{"$f":"IF('Cons. Planning Worksheet'!BQ17=\"\",\"\",\"PARP-\"&LEFT('Cons. Planning Worksheet'!BQ17,MIN(FIND(\" \",'Cons. Planning Worksheet'!BQ17),5)))","v":""},"Koc =",{"$f":"IF('Cons. Planning Worksheet'!BF17=\"\",\"\",('Cons. Planning Worksheet'!BF17))","v":""},{"$f":"IF('Cons. Planning Worksheet'!L48=\"\",\"\",(+'Cons. Planning Worksheet'!L48))","v":""},{"$f":"IF('Cons. Planning Worksheet'!M48=\"\",\"\",(+'Cons. Planning Worksheet'!M48))","v":""},{"$f":"IF('Cons. Planning Worksheet'!N48=\"\",\"\",(+'Cons. Planning Worksheet'!N48))","v":""},{"$f":"IF('Cons. Planning Worksheet'!O48=\"\",\"\",(+'Cons. Planning Worksheet'!O48))","v":""},{"$f":"IF('Cons. Planning Worksheet'!Q48=\"\",\"\",(+'Cons. Planning Worksheet'!Q48))","v":""},{"$f":"IF('Cons. Planning Worksheet'!R48=\"\",\"\",(+'Cons. Planning Worksheet'!R48))","v":""},{"$f":"IF('Cons. Planning Worksheet'!S53=\"\",\"\",(+'Cons. Planning Worksheet'!S53))","v":""},{"$f":"IF('Cons. Planning Worksheet'!T53=\"\",\"\",(+'Cons. Planning Worksheet'!T53))","v":""},{"$f":"IF('Cons. Planning Worksheet'!U53=\"\",\"\",(+'Cons. Planning Worksheet'!U53))","v":""}]
[null,{"$f":"IF('Cons. Planning Worksheet'!B54=\"\",\"\",(+'Cons. Planning Worksheet'!B54))","v":""},{"$f":"IF('Cons. Planning Worksheet'!C54=\"\",\"\",(+'Cons. Planning Worksheet'!C54))","v":""},null,null,null,null,null,null,"Half Life =",{"$f":"IF('Cons. Planning Worksheet'!BG17=\"\",\"\",('Cons. Planning Worksheet'!BG17))","v":""},{"$f":"IF('Cons. Planning Worksheet'!L49=\"\",\"\",(+'Cons. Planning Worksheet'!L49))","v":""},{"$f":"IF('Cons. Planning Worksheet'!M49=\"\",\"\",(+'Cons. Planning Worksheet'!M49))","v":""},{"$f":"IF('Cons. Planning Worksheet'!N49=\"\",\"\",(+'Cons. Planning Worksheet'!N49))","v":""},{"$f":"IF('Cons. Planning Worksheet'!O49=\"\",\"\",(+'Cons. Planning Worksheet'!O49))","v":""},{"$f":"IF('Cons. Planning Worksheet'!Q49=\"\",\"\",(+'Cons. Planning Worksheet'!Q49))","v":""},{"$f":"IF('Cons. Planning Worksheet'!R49=\"\",\"\",(+'Cons. Planning Worksheet'!R49))","v":""},{"$f":"IF('Cons. Planning Worksheet'!S54=\"\",\"\",(+'Cons. Planning Worksheet'!S54))","v":""},{"$f":"IF('Cons. Planning Worksheet'!T54=\"\",\"\",(+'Cons. Planning Worksheet'!T54))","v":""},{"$f":"IF('Cons. Planning Worksheet'!U54=\"\",\"\",(+'Cons. Planning Worksheet'!U54))","v":""}]
[8,{"$f":"IF('Cons. Planning Worksheet'!B56=\"\",\"\",(+'Cons. Planning Worksheet'!B56))","v":""},{"$f":"IF('Cons. Planning Worksheet'!C56=\"\",\"\",(+'Cons. Planning Worksheet'!C56))","v":""},{"$f":"IF('Cons. Planning Worksheet'!AS18=\"\",\"\", ('Cons. Planning Worksheet'!AS18))","v":""},{"$f":"IF('Cons. Planning Worksheet'!AT18=\"\",\"\", ('Cons. Planning Worksheet'!AT18))","v":""},{"$f":"IF('Cons. Planning Worksheet'!AU18=\"\",\"\", ('Cons. Planning Worksheet'!AU18))","v":""},{"$f":"IF('Cons. Planning Worksheet'!E56=\"\",\"\",(+'Cons. Planning Worksheet'!E56))","v":""},null,null,{"$f":"IF('Cons. Planning Worksheet'!F56=\"\",\"\",(+'Cons. Planning Worksheet'!F56))","v":""},null,{"$f":"IF('Cons. Planning Worksheet'!CQ18=\"\",\"\",('Cons. Planning Worksheet'!CQ18))","v":""},{"$f":"IF('Cons. Planning Worksheet'!H51=\"\",\"\",(+'Cons. Planning Worksheet'!H51))","v":""},{"$f":"IF('Cons. Planning Worksheet'!CR18=\"\",\"\",('Cons. Planning Worksheet'!CR18))","v":""},{"$f":"IF('Cons. Planning Worksheet'!J51=\"\",\"\",(+'Cons. Planning Worksheet'!J51))","v":""},{"$f":"IF('Cons. Planning Worksheet'!CP18=\"\",\"\",('Cons. Planning Worksheet'!CP18))","v":""},{"$f":"IF('Cons. Planning Worksheet'!L51=\"\",\"\",(+'Cons. Planning Worksheet'!L51))","v":""},{"$f":"IF('Cons. Planning Worksheet'!M56=\"\",\"\",(+'Cons. Planning Worksheet'!M56))","v":""},{"$f":"IF('Cons. Planning Worksheet'!N56=\"\",\"\",(+'Cons. Planning Worksheet'!N56))","v":""},{"$f":"IF('Cons. Planning Worksheet'!O56=\"\",\"\",(+'Cons. Planning Worksheet'!O56))","v":""}]
[null,{"$f":"IF('Cons. Planning Worksheet'!B56=\"\",\"\",(+'Cons. Planning Worksheet'!B56))","v":""},{"$f":"IF('Cons. Planning Worksheet'!C56=\"\",\"\",(+'Cons. Planning Worksheet'!C56))","v":""},null,null,null,null,{"$f":"IF('Cons. Planning Worksheet'!AV18=\"\",\"\",\"PLP-\"&LEFT('Cons. Planning Worksheet'!AV18,MIN(FIND(\" \",'Cons. Planning Worksheet'!AV18),5)))","v":""},{"$f":"IF('Cons. Planning Worksheet'!BO18=\"\",\"\",\"SLP-\"&LEFT('Cons. Planning Worksheet'!BO18,MIN(FIND(\" \",'Cons. Planning Worksheet'!BO18),5)))","v":""},null,null,{"$f":"IF('Cons. Planning Worksheet'!L51=\"\",\"\",(+'Cons. Planning Worksheet'!L51))","v":""},{"$f":"IF('Cons. Planning Worksheet'!M51=\"\",\"\",(+'Cons. Planning Worksheet'!M51))","v":""},{"$f":"IF('Cons. Planning Worksheet'!N51=\"\",\"\",(+'Cons. Planning Worksheet'!N51))","v":""},{"$f":"IF('Cons. Planning Worksheet'!O51=\"\",\"\",(+'Cons. Planning Worksheet'!O51))","v":""},{"$f":"IF('Cons. Planning Worksheet'!Q51=\"\",\"\",(+'Cons. Planning Worksheet'!Q51))","v":""},{"$f":"IF('Cons. Planning Worksheet'!R51=\"\",\"\",(+'Cons. Planning Worksheet'!R51))","v":""},{"$f":"IF('Cons. Planning Worksheet'!S56=\"\",\"\",(+'Cons. Planning Worksheet'!S56))","v":""},{"$f":"IF('Cons. Planning Worksheet'!T56=\"\",\"\",(+'Cons. Planning Worksheet'!T56))","v":""},{"$f":"IF('Cons. Planning Worksheet'!U56=\"\",\"\",(+'Cons. Planning Worksheet'!U56))","v":""}]
[null,{"$f":"IF('Cons. Planning Worksheet'!B57=\"\",\"\",(+'Cons. Planning Worksheet'!B57))","v":""},{"$f":"IF('Cons. Planning Worksheet'!C57=\"\",\"\",(+'Cons. Planning Worksheet'!C57))","v":""},null,null,null,null,{"$f":"IF('Cons. Planning Worksheet'!AW18=\"\",\"\",\"SSRP-\"&LEFT('Cons. Planning Worksheet'!AW18,MIN(FIND(\" \",'Cons. Planning Worksheet'!AW18),5)))","v":""},{"$f":"IF('Cons. Planning Worksheet'!BP18=\"\",\"\",\"PSRP-\"&LEFT('Cons. Planning Worksheet'!BP18,MIN(FIND(\" \",'Cons. Planning Worksheet'!BP18),5)))","v":""},"Solubility =",{"$f":"IF('Cons. Planning Worksheet'!BE18=\"\",\"\",('Cons. Planning Worksheet'!BE18))","v":""},{"$f":"IF('Cons. Planning Worksheet'!L52=\"\",\"\",(+'Cons. Planning Worksheet'!L52))","v":""},{"$f":"IF('Cons. Planning Worksheet'!M52=\"\",\"\",(+'Cons. Planning Worksheet'!M52))","v":""},{"$f":"IF('Cons. Planning Worksheet'!N52=\"\",\"\",(+'Cons. Planning Worksheet'!N52))","v":""},{"$f":"IF('Cons. Planning Worksheet'!O52=\"\",\"\",(+'Cons. Planning Worksheet'!O52))","v":""},{"$f":"IF('Cons. Planning Worksheet'!Q52=\"\",\"\",(+'Cons. Planning Worksheet'!Q52))","v":""},{"$f":"IF('Cons. Planning Worksheet'!R52=\"\",\"\",(+'Cons. Planning Worksheet'!R52))","v":""},{"$f":"IF('Cons. Planning Worksheet'!S57=\"\",\"\",(+'Cons. Planning Worksheet'!S57))","v":""},{"$f":"IF('Cons. Planning Worksheet'!T57=\"\",\"\",(+'Cons. Planning Worksheet'!T57))","v":""},{"$f":"IF('Cons. Planning Worksheet'!U57=\"\",\"\",(+'Cons. Planning Worksheet'!U57))","v":""}]
[null,{"$f":"IF('Cons. Planning Worksheet'!B58=\"\",\"\",(+'Cons. Planning Worksheet'!B58))","v":""},{"$f":"IF('Cons. Planning Worksheet'!C58=\"\",\"\",(+'Cons. Planning Worksheet'!C58))","v":""},null,null,null,null,{"$f":"IF('Cons. Planning Worksheet'!AX18=\"\",\"\",\"SARP-\"&LEFT('Cons. Planning Worksheet'!AX18,MIN(FIND(\" \",'Cons. Planning Worksheet'!AX18),5)))","v":""},{"$f":"IF('Cons. Planning Worksheet'!BQ18=\"\",\"\",\"PARP-\"&LEFT('Cons. Planning Worksheet'!BQ18,MIN(FIND(\" \",'Cons. Planning Worksheet'!BQ18),5)))","v":""},"Koc =",{"$f":"IF('Cons. Planning Worksheet'!BF18=\"\",\"\",('Cons. Planning Worksheet'!BF18))","v":""},{"$f":"IF('Cons. Planning Worksheet'!L53=\"\",\"\",(+'Cons. Planning Worksheet'!L53))","v":""},{"$f":"IF('Cons. Planning Worksheet'!M53=\"\",\"\",(+'Cons. Planning Worksheet'!M53))","v":""},{"$f":"IF('Cons. Planning Worksheet'!N53=\"\",\"\",(+'Cons. Planning Worksheet'!N53))","v":""},{"$f":"IF('Cons. Planning Worksheet'!O53=\"\",\"\",(+'Cons. Planning Worksheet'!O53))","v":""},{"$f":"IF('Cons. Planning Worksheet'!Q53=\"\",\"\",(+'Cons. Planning Worksheet'!Q53))","v":""},{"$f":"IF('Cons. Planning Worksheet'!R53=\"\",\"\",(+'Cons. Planning Worksheet'!R53))","v":""},{"$f":"IF('Cons. Planning Worksheet'!S58=\"\",\"\",(+'Cons. Planning Worksheet'!S58))","v":""},{"$f":"IF('Cons. Planning Worksheet'!T58=\"\",\"\",(+'Cons. Planning Worksheet'!T58))","v":""},{"$f":"IF('Cons. Planning Worksheet'!U58=\"\",\"\",(+'Cons. Planning Worksheet'!U58))","v":""}]
[null,{"$f":"IF('Cons. Planning Worksheet'!B59=\"\",\"\",(+'Cons. Planning Worksheet'!B59))","v":""},{"$f":"IF('Cons. Planning Worksheet'!C59=\"\",\"\",(+'Cons. Planning Worksheet'!C59))","v":""},null,null,null,null,null,null,"Half Life =",{"$f":"IF('Cons. Planning Worksheet'!BG18=\"\",\"\",('Cons. Planning Worksheet'!BG18))","v":""},{"$f":"IF('Cons. Planning Worksheet'!L54=\"\",\"\",(+'Cons. Planning Worksheet'!L54))","v":""},{"$f":"IF('Cons. Planning Worksheet'!M54=\"\",\"\",(+'Cons. Planning Worksheet'!M54))","v":""},{"$f":"IF('Cons. Planning Worksheet'!N54=\"\",\"\",(+'Cons. Planning Worksheet'!N54))","v":""},{"$f":"IF('Cons. Planning Worksheet'!O54=\"\",\"\",(+'Cons. Planning Worksheet'!O54))","v":""},{"$f":"IF('Cons. Planning Worksheet'!Q54=\"\",\"\",(+'Cons. Planning Worksheet'!Q54))","v":""},{"$f":"IF('Cons. Planning Worksheet'!R54=\"\",\"\",(+'Cons. Planning Worksheet'!R54))","v":""},{"$f":"IF('Cons. Planning Worksheet'!S59=\"\",\"\",(+'Cons. Planning Worksheet'!S59))","v":""},{"$f":"IF('Cons. Planning Worksheet'!T59=\"\",\"\",(+'Cons. Planning Worksheet'!T59))","v":""},{"$f":"IF('Cons. Planning Worksheet'!U59=\"\",\"\",(+'Cons. Planning Worksheet'!U59))","v":""}]
[9,{"$f":"IF('Cons. Planning Worksheet'!B61=\"\",\"\",(+'Cons. Planning Worksheet'!B61))","v":""},{"$f":"IF('Cons. Planning Worksheet'!C61=\"\",\"\",(+'Cons. Planning Worksheet'!C61))","v":""},{"$f":"IF('Cons. Planning Worksheet'!AS19=\"\",\"\", ('Cons. Planning Worksheet'!AS19))","v":""},{"$f":"IF('Cons. Planning Worksheet'!AT19=\"\",\"\", ('Cons. Planning Worksheet'!AT19))","v":""},{"$f":"IF('Cons. Planning Worksheet'!AU19=\"\",\"\", ('Cons. Planning Worksheet'!AU19))","v":""},{"$f":"IF('Cons. Planning Worksheet'!E61=\"\",\"\",(+'Cons. Planning Worksheet'!E61))","v":""},null,null,{"$f":"IF('Cons. Planning Worksheet'!F61=\"\",\"\",(+'Cons. Planning Worksheet'!F61))","v":""},null,{"$f":"IF('Cons. Planning Worksheet'!CQ19=\"\",\"\",('Cons. Planning Worksheet'!CQ19))","v":""},{"$f":"IF('Cons. Planning Worksheet'!H56=\"\",\"\",(+'Cons. Planning Worksheet'!H56))","v":""},{"$f":"IF('Cons. Planning Worksheet'!CR19=\"\",\"\",('Cons. Planning Worksheet'!CR19))","v":""},{"$f":"IF('Cons. Planning Worksheet'!J56=\"\",\"\",(+'Cons. Planning Worksheet'!J56))","v":""},{"$f":"IF('Cons. Planning Worksheet'!CP19=\"\",\"\",('Cons. Planning Worksheet'!CP19))","v":""},{"$f":"IF('Cons. Planning Worksheet'!L56=\"\",\"\",(+'Cons. Planning Worksheet'!L56))","v":""},{"$f":"IF('Cons. Planning Worksheet'!M61=\"\",\"\",(+'Cons. Planning Worksheet'!M61))","v":""},{"$f":"IF('Cons. Planning Worksheet'!N61=\"\",\"\",(+'Cons. Planning Worksheet'!N61))","v":""},{"$f":"IF('Cons. Planning Worksheet'!O61=\"\",\"\",(+'Cons. Planning Worksheet'!O61))","v":""}]
[null,{"$f":"IF('Cons. Planning Worksheet'!B61=\"\",\"\",(+'Cons. Planning Worksheet'!B61))","v":""},{"$f":"IF('Cons. Planning Worksheet'!C61=\"\",\"\",(+'Cons. Planning Worksheet'!C61))","v":""},null,null,null,null,{"$f":"IF('Cons. Planning Worksheet'!AV19=\"\",\"\",\"PLP-\"&LEFT('Cons. Planning Worksheet'!AV19,MIN(FIND(\" \",'Cons. Planning Worksheet'!AV19),5)))","v":""},{"$f":"IF('Cons. Planning Worksheet'!BO19=\"\",\"\",\"SLP-\"&LEFT('Cons. Planning Worksheet'!BO19,MIN(FIND(\" \",'Cons. Planning Worksheet'!BO19),5)))","v":""},null,null,{"$f":"IF('Cons. Planning Worksheet'!L56=\"\",\"\",(+'Cons. Planning Worksheet'!L56))","v":""},{"$f":"IF('Cons. Planning Worksheet'!M56=\"\",\"\",(+'Cons. Planning Worksheet'!M56))","v":""},{"$f":"IF('Cons. Planning Worksheet'!N56=\"\",\"\",(+'Cons. Planning Worksheet'!N56))","v":""},{"$f":"IF('Cons. Planning Worksheet'!O56=\"\",\"\",(+'Cons. Planning Worksheet'!O56))","v":""},{"$f":"IF('Cons. Planning Worksheet'!Q56=\"\",\"\",(+'Cons. Planning Worksheet'!Q56))","v":""},{"$f":"IF('Cons. Planning Worksheet'!R56=\"\",\"\",(+'Cons. Planning Worksheet'!R56))","v":""},{"$f":"IF('Cons. Planning Worksheet'!S61=\"\",\"\",(+'Cons. Planning Worksheet'!S61))","v":""},{"$f":"IF('Cons. Planning Worksheet'!T61=\"\",\"\",(+'Cons. Planning Worksheet'!T61))","v":""},{"$f":"IF('Cons. Planning Worksheet'!U61=\"\",\"\",(+'Cons. Planning Worksheet'!U61))","v":""}]
[null,{"$f":"IF('Cons. Planning Worksheet'!B62=\"\",\"\",(+'Cons. Planning Worksheet'!B62))","v":""},{"$f":"IF('Cons. Planning Worksheet'!C62=\"\",\"\",(+'Cons. Planning Worksheet'!C62))","v":""},null,null,null,null,{"$f":"IF('Cons. Planning Worksheet'!AW19=\"\",\"\",\"SSRP-\"&LEFT('Cons. Planning Worksheet'!AW19,MIN(FIND(\" \",'Cons. Planning Worksheet'!AW19),5)))","v":""},{"$f":"IF('Cons. Planning Worksheet'!BP19=\"\",\"\",\"PSRP-\"&LEFT('Cons. Planning Worksheet'!BP19,MIN(FIND(\" \",'Cons. Planning Worksheet'!BP19),5)))","v":""},"Solubility =",{"$f":"IF('Cons. Planning Worksheet'!BE19=\"\",\"\",('Cons. Planning Worksheet'!BE19))","v":""},{"$f":"IF('Cons. Planning Worksheet'!L57=\"\",\"\",(+'Cons. Planning Worksheet'!L57))","v":""},{"$f":"IF('Cons. Planning Worksheet'!M57=\"\",\"\",(+'Cons. Planning Worksheet'!M57))","v":""},{"$f":"IF('Cons. Planning Worksheet'!N57=\"\",\"\",(+'Cons. Planning Worksheet'!N57))","v":""},{"$f":"IF('Cons. Planning Worksheet'!O57=\"\",\"\",(+'Cons. Planning Worksheet'!O57))","v":""},{"$f":"IF('Cons. Planning Worksheet'!Q57=\"\",\"\",(+'Cons. Planning Worksheet'!Q57))","v":""},{"$f":"IF('Cons. Planning Worksheet'!R57=\"\",\"\",(+'Cons. Planning Worksheet'!R57))","v":""},{"$f":"IF('Cons. Planning Worksheet'!S62=\"\",\"\",(+'Cons. Planning Worksheet'!S62))","v":""},{"$f":"IF('Cons. Planning Worksheet'!T62=\"\",\"\",(+'Cons. Planning Worksheet'!T62))","v":""},{"$f":"IF('Cons. Planning Worksheet'!U62=\"\",\"\",(+'Cons. Planning Worksheet'!U62))","v":""}]
[null,{"$f":"IF('Cons. Planning Worksheet'!B63=\"\",\"\",(+'Cons. Planning Worksheet'!B63))","v":""},{"$f":"IF('Cons. Planning Worksheet'!C63=\"\",\"\",(+'Cons. Planning Worksheet'!C63))","v":""},null,null,null,null,{"$f":"IF('Cons. Planning Worksheet'!AX19=\"\",\"\",\"SARP-\"&LEFT('Cons. Planning Worksheet'!AX19,MIN(FIND(\" \",'Cons. Planning Worksheet'!AX19),5)))","v":""},{"$f":"IF('Cons. Planning Worksheet'!BQ19=\"\",\"\",\"PARP-\"&LEFT('Cons. Planning Worksheet'!BQ19,MIN(FIND(\" \",'Cons. Planning Worksheet'!BQ19),5)))","v":""},"Koc =",{"$f":"IF('Cons. Planning Worksheet'!BF19=\"\",\"\",('Cons. Planning Worksheet'!BF19))","v":""},{"$f":"IF('Cons. Planning Worksheet'!L58=\"\",\"\",(+'Cons. Planning Worksheet'!L58))","v":""},{"$f":"IF('Cons. Planning Worksheet'!M58=\"\",\"\",(+'Cons. Planning Worksheet'!M58))","v":""},{"$f":"IF('Cons. Planning Worksheet'!N58=\"\",\"\",(+'Cons. Planning Worksheet'!N58))","v":""},{"$f":"IF('Cons. Planning Worksheet'!O58=\"\",\"\",(+'Cons. Planning Worksheet'!O58))","v":""},{"$f":"IF('Cons. Planning Worksheet'!Q58=\"\",\"\",(+'Cons. Planning Worksheet'!Q58))","v":""},{"$f":"IF('Cons. Planning Worksheet'!R58=\"\",\"\",(+'Cons. Planning Worksheet'!R58))","v":""},{"$f":"IF('Cons. Planning Worksheet'!S63=\"\",\"\",(+'Cons. Planning Worksheet'!S63))","v":""},{"$f":"IF('Cons. Planning Worksheet'!T63=\"\",\"\",(+'Cons. Planning Worksheet'!T63))","v":""},{"$f":"IF('Cons. Planning Worksheet'!U63=\"\",\"\",(+'Cons. Planning Worksheet'!U63))","v":""}]
[null,{"$f":"IF('Cons. Planning Worksheet'!B64=\"\",\"\",(+'Cons. Planning Worksheet'!B64))","v":""},{"$f":"IF('Cons. Planning Worksheet'!C64=\"\",\"\",(+'Cons. Planning Worksheet'!C64))","v":""},null,null,null,null,null,null,"Half Life =",{"$f":"IF('Cons. Planning Worksheet'!BG19=\"\",\"\",('Cons. Planning Worksheet'!BG19))","v":""},{"$f":"IF('Cons. Planning Worksheet'!L59=\"\",\"\",(+'Cons. Planning Worksheet'!L59))","v":""},{"$f":"IF('Cons. Planning Worksheet'!M59=\"\",\"\",(+'Cons. Planning Worksheet'!M59))","v":""},{"$f":"IF('Cons. Planning Worksheet'!N59=\"\",\"\",(+'Cons. Planning Worksheet'!N59))","v":""},{"$f":"IF('Cons. Planning Worksheet'!O59=\"\",\"\",(+'Cons. Planning Worksheet'!O59))","v":""},{"$f":"IF('Cons. Planning Worksheet'!Q59=\"\",\"\",(+'Cons. Planning Worksheet'!Q59))","v":""},{"$f":"IF('Cons. Planning Worksheet'!R59=\"\",\"\",(+'Cons. Planning Worksheet'!R59))","v":""},{"$f":"IF('Cons. Planning Worksheet'!S64=\"\",\"\",(+'Cons. Planning Worksheet'!S64))","v":""},{"$f":"IF('Cons. Planning Worksheet'!T64=\"\",\"\",(+'Cons. Planning Worksheet'!T64))","v":""},{"$f":"IF('Cons. Planning Worksheet'!U64=\"\",\"\",(+'Cons. Planning Worksheet'!U64))","v":""}]
[10,{"$f":"IF('Cons. Planning Worksheet'!B66=\"\",\"\",(+'Cons. Planning Worksheet'!B66))","v":""},{"$f":"IF('Cons. Planning Worksheet'!C66=\"\",\"\",(+'Cons. Planning Worksheet'!C66))","v":""},{"$f":"IF('Cons. Planning Worksheet'!AS20=\"\",\"\", ('Cons. Planning Worksheet'!AS20))","v":""},{"$f":"IF('Cons. Planning Worksheet'!AT20=\"\",\"\", ('Cons. Planning Worksheet'!AT20))","v":""},{"$f":"IF('Cons. Planning Worksheet'!AU20=\"\",\"\", ('Cons. Planning Worksheet'!AU20))","v":""},{"$f":"IF('Cons. Planning Worksheet'!E66=\"\",\"\",(+'Cons. Planning Worksheet'!E66))","v":""},null,null,{"$f":"IF('Cons. Planning Worksheet'!F66=\"\",\"\",(+'Cons. Planning Worksheet'!F66))","v":""},null,{"$f":"IF('Cons. Planning Worksheet'!CQ20=\"\",\"\",('Cons. Planning Worksheet'!CQ20))","v":""},{"$f":"IF('Cons. Planning Worksheet'!H61=\"\",\"\",(+'Cons. Planning Worksheet'!H61))","v":""},{"$f":"IF('Cons. Planning Worksheet'!CR20=\"\",\"\",('Cons. Planning Worksheet'!CR20))","v":""},{"$f":"IF('Cons. Planning Worksheet'!J61=\"\",\"\",(+'Cons. Planning Worksheet'!J61))","v":""},{"$f":"IF('Cons. Planning Worksheet'!CP20=\"\",\"\",('Cons. Planning Worksheet'!CP20))","v":""},{"$f":"IF('Cons. Planning Worksheet'!L61=\"\",\"\",(+'Cons. Planning Worksheet'!L61))","v":""},{"$f":"IF('Cons. Planning Worksheet'!M66=\"\",\"\",(+'Cons. Planning Worksheet'!M66))","v":""},{"$f":"IF('Cons. Planning Worksheet'!N66=\"\",\"\",(+'Cons. Planning Worksheet'!N66))","v":""},{"$f":"IF('Cons. Planning Worksheet'!O66=\"\",\"\",(+'Cons. Planning Worksheet'!O66))","v":""}]
[null,{"$f":"IF('Cons. Planning Worksheet'!B66=\"\",\"\",(+'Cons. Planning Worksheet'!B66))","v":""},{"$f":"IF('Cons. Planning Worksheet'!C66=\"\",\"\",(+'Cons. Planning Worksheet'!C66))","v":""},null,null,null,null,{"$f":"IF('Cons. Planning Worksheet'!AV20=\"\",\"\",\"PLP-\"&LEFT('Cons. Planning Worksheet'!AV20,MIN(FIND(\" \",'Cons. Planning Worksheet'!AV20),5)))","v":""},{"$f":"IF('Cons. Planning Worksheet'!BO20=\"\",\"\",\"SLP-\"&LEFT('Cons. Planning Worksheet'!BO20,MIN(FIND(\" \",'Cons. Planning Worksheet'!BO20),5)))","v":""},null,null,{"$f":"IF('Cons. Planning Worksheet'!L61=\"\",\"\",(+'Cons. Planning Worksheet'!L61))","v":""},{"$f":"IF('Cons. Planning Worksheet'!M61=\"\",\"\",(+'Cons. Planning Worksheet'!M61))","v":""},{"$f":"IF('Cons. Planning Worksheet'!N61=\"\",\"\",(+'Cons. Planning Worksheet'!N61))","v":""},{"$f":"IF('Cons. Planning Worksheet'!O61=\"\",\"\",(+'Cons. Planning Worksheet'!O61))","v":""},{"$f":"IF('Cons. Planning Worksheet'!Q61=\"\",\"\",(+'Cons. Planning Worksheet'!Q61))","v":""},{"$f":"IF('Cons. Planning Worksheet'!R61=\"\",\"\",(+'Cons. Planning Worksheet'!R61))","v":""},{"$f":"IF('Cons. Planning Worksheet'!S66=\"\",\"\",(+'Cons. Planning Worksheet'!S66))","v":""},{"$f":"IF('Cons. Planning Worksheet'!T66=\"\",\"\",(+'Cons. Planning Worksheet'!T66))","v":""},{"$f":"IF('Cons. Planning Worksheet'!U66=\"\",\"\",(+'Cons. Planning Worksheet'!U66))","v":""}]
[null,{"$f":"IF('Cons. Planning Worksheet'!B67=\"\",\"\",(+'Cons. Planning Worksheet'!B67))","v":""},{"$f":"IF('Cons. Planning Worksheet'!C67=\"\",\"\",(+'Cons. Planning Worksheet'!C67))","v":""},null,null,null,null,{"$f":"IF('Cons. Planning Worksheet'!AW20=\"\",\"\",\"SSRP-\"&LEFT('Cons. Planning Worksheet'!AW20,MIN(FIND(\" \",'Cons. Planning Worksheet'!AW20),5)))","v":""},{"$f":"IF('Cons. Planning Worksheet'!BP20=\"\",\"\",\"PSRP-\"&LEFT('Cons. Planning Worksheet'!BP20,MIN(FIND(\" \",'Cons. Planning Worksheet'!BP20),5)))","v":""},"Solubility =",{"$f":"IF('Cons. Planning Worksheet'!BE20=\"\",\"\",('Cons. Planning Worksheet'!BE20))","v":""},{"$f":"IF('Cons. Planning Worksheet'!L62=\"\",\"\",(+'Cons. Planning Worksheet'!L62))","v":""},{"$f":"IF('Cons. Planning Worksheet'!M62=\"\",\"\",(+'Cons. Planning Worksheet'!M62))","v":""},{"$f":"IF('Cons. Planning Worksheet'!N62=\"\",\"\",(+'Cons. Planning Worksheet'!N62))","v":""},{"$f":"IF('Cons. Planning Worksheet'!O62=\"\",\"\",(+'Cons. Planning Worksheet'!O62))","v":""},{"$f":"IF('Cons. Planning Worksheet'!Q62=\"\",\"\",(+'Cons. Planning Worksheet'!Q62))","v":""},{"$f":"IF('Cons. Planning Worksheet'!R62=\"\",\"\",(+'Cons. Planning Worksheet'!R62))","v":""},{"$f":"IF('Cons. Planning Worksheet'!S67=\"\",\"\",(+'Cons. Planning Worksheet'!S67))","v":""},{"$f":"IF('Cons. Planning Worksheet'!T67=\"\",\"\",(+'Cons. Planning Worksheet'!T67))","v":""},{"$f":"IF('Cons. Planning Worksheet'!U67=\"\",\"\",(+'Cons. Planning Worksheet'!U67))","v":""}]
[null,{"$f":"IF('Cons. Planning Worksheet'!B68=\"\",\"\",(+'Cons. Planning Worksheet'!B68))","v":""},{"$f":"IF('Cons. Planning Worksheet'!C68=\"\",\"\",(+'Cons. Planning Worksheet'!C68))","v":""},null,null,null,null,{"$f":"IF('Cons. Planning Worksheet'!AX20=\"\",\"\",\"SARP-\"&LEFT('Cons. Planning Worksheet'!AX20,MIN(FIND(\" \",'Cons. Planning Worksheet'!AX20),5)))","v":""},{"$f":"IF('Cons. Planning Worksheet'!BQ20=\"\",\"\",\"PARP-\"&LEFT('Cons. Planning Worksheet'!BQ20,MIN(FIND(\" \",'Cons. Planning Worksheet'!BQ20),5)))","v":""},"Koc =",{"$f":"IF('Cons. Planning Worksheet'!BF20=\"\",\"\",('Cons. Planning Worksheet'!BF20))","v":""},{"$f":"IF('Cons. Planning Worksheet'!L63=\"\",\"\",(+'Cons. Planning Worksheet'!L63))","v":""},{"$f":"IF('Cons. Planning Worksheet'!M63=\"\",\"\",(+'Cons. Planning Worksheet'!M63))","v":""},{"$f":"IF('Cons. Planning Worksheet'!N63=\"\",\"\",(+'Cons. Planning Worksheet'!N63))","v":""},{"$f":"IF('Cons. Planning Worksheet'!O63=\"\",\"\",(+'Cons. Planning Worksheet'!O63))","v":""},{"$f":"IF('Cons. Planning Worksheet'!Q63=\"\",\"\",(+'Cons. Planning Worksheet'!Q63))","v":""},{"$f":"IF('Cons. Planning Worksheet'!R63=\"\",\"\",(+'Cons. Planning Worksheet'!R63))","v":""},{"$f":"IF('Cons. Planning Worksheet'!S68=\"\",\"\",(+'Cons. Planning Worksheet'!S68))","v":""},{"$f":"IF('Cons. Planning Worksheet'!T68=\"\",\"\",(+'Cons. Planning Worksheet'!T68))","v":""},{"$f":"IF('Cons. Planning Worksheet'!U68=\"\",\"\",(+'Cons. Planning Worksheet'!U68))","v":""}]
[null,{"$f":"IF('Cons. Planning Worksheet'!B69=\"\",\"\",(+'Cons. Planning Worksheet'!B69))","v":""},{"$f":"IF('Cons. Planning Worksheet'!C69=\"\",\"\",(+'Cons. Planning Worksheet'!C69))","v":""},null,null,null,null,null,null,"Half Life =",{"$f":"IF('Cons. Planning Worksheet'!BG20=\"\",\"\",('Cons. Planning Worksheet'!BG20))","v":""},{"$f":"IF('Cons. Planning Worksheet'!L64=\"\",\"\",(+'Cons. Planning Worksheet'!L64))","v":""},{"$f":"IF('Cons. Planning Worksheet'!M64=\"\",\"\",(+'Cons. Planning Worksheet'!M64))","v":""},{"$f":"IF('Cons. Planning Worksheet'!N64=\"\",\"\",(+'Cons. Planning Worksheet'!N64))","v":""},{"$f":"IF('Cons. Planning Worksheet'!O64=\"\",\"\",(+'Cons. Planning Worksheet'!O64))","v":""},{"$f":"IF('Cons. Planning Worksheet'!Q64=\"\",\"\",(+'Cons. Planning Worksheet'!Q64))","v":""},{"$f":"IF('Cons. Planning Worksheet'!R64=\"\",\"\",(+'Cons. Planning Worksheet'!R64))","v":""},{"$f":"IF('Cons. Planning Worksheet'!S69=\"\",\"\",(+'Cons. Planning Worksheet'!S69))","v":""},{"$f":"IF('Cons. Planning Worksheet'!T69=\"\",\"\",(+'Cons. Planning Worksheet'!T69))","v":""},{"$f":"IF('Cons. Planning Worksheet'!U69=\"\",\"\",(+'Cons. Planning Worksheet'!U69))","v":""}]
[11,{"$f":"IF('Cons. Planning Worksheet'!B71=\"\",\"\",(+'Cons. Planning Worksheet'!B71))","v":""},{"$f":"IF('Cons. Planning Worksheet'!C71=\"\",\"\",(+'Cons. Planning Worksheet'!C71))","v":""},{"$f":"IF('Cons. Planning Worksheet'!AS21=\"\",\"\", ('Cons. Planning Worksheet'!AS21))","v":""},{"$f":"IF('Cons. Planning Worksheet'!AT21=\"\",\"\", ('Cons. Planning Worksheet'!AT21))","v":""},{"$f":"IF('Cons. Planning Worksheet'!AU21=\"\",\"\", ('Cons. Planning Worksheet'!AU21))","v":""},{"$f":"IF('Cons. Planning Worksheet'!E71=\"\",\"\",(+'Cons. Planning Worksheet'!E71))","v":""},null,null,{"$f":"IF('Cons. Planning Worksheet'!F71=\"\",\"\",(+'Cons. Planning Worksheet'!F71))","v":""},null,{"$f":"IF('Cons. Planning Worksheet'!CQ21=\"\",\"\",('Cons. Planning Worksheet'!CQ21))","v":""},{"$f":"IF('Cons. Planning Worksheet'!H66=\"\",\"\",(+'Cons. Planning Worksheet'!H66))","v":""},{"$f":"IF('Cons. Planning Worksheet'!CR21=\"\",\"\",('Cons. Planning Worksheet'!CR21))","v":""},{"$f":"IF('Cons. Planning Worksheet'!J66=\"\",\"\",(+'Cons. Planning Worksheet'!J66))","v":""},{"$f":"IF('Cons. Planning Worksheet'!CP21=\"\",\"\",('Cons. Planning Worksheet'!CP21))","v":""},{"$f":"IF('Cons. Planning Worksheet'!L66=\"\",\"\",(+'Cons. Planning Worksheet'!L66))","v":""},{"$f":"IF('Cons. Planning Worksheet'!M71=\"\",\"\",(+'Cons. Planning Worksheet'!M71))","v":""},{"$f":"IF('Cons. Planning Worksheet'!N71=\"\",\"\",(+'Cons. Planning Worksheet'!N71))","v":""},{"$f":"IF('Cons. Planning Worksheet'!O71=\"\",\"\",(+'Cons. Planning Worksheet'!O71))","v":""}]
[null,{"$f":"IF('Cons. Planning Worksheet'!B71=\"\",\"\",(+'Cons. Planning Worksheet'!B71))","v":""},{"$f":"IF('Cons. Planning Worksheet'!C71=\"\",\"\",(+'Cons. Planning Worksheet'!C71))","v":""},null,null,null,null,{"$f":"IF('Cons. Planning Worksheet'!AV21=\"\",\"\",\"PLP-\"&LEFT('Cons. Planning Worksheet'!AV21,MIN(FIND(\" \",'Cons. Planning Worksheet'!AV21),5)))","v":""},{"$f":"IF('Cons. Planning Worksheet'!BO21=\"\",\"\",\"SLP-\"&LEFT('Cons. Planning Worksheet'!BO21,MIN(FIND(\" \",'Cons. Planning Worksheet'!BO21),5)))","v":""},null,null,{"$f":"IF('Cons. Planning Worksheet'!L66=\"\",\"\",(+'Cons. Planning Worksheet'!L66))","v":""},{"$f":"IF('Cons. Planning Worksheet'!M66=\"\",\"\",(+'Cons. Planning Worksheet'!M66))","v":""},{"$f":"IF('Cons. Planning Worksheet'!N66=\"\",\"\",(+'Cons. Planning Worksheet'!N66))","v":""},{"$f":"IF('Cons. Planning Worksheet'!O66=\"\",\"\",(+'Cons. Planning Worksheet'!O66))","v":""},{"$f":"IF('Cons. Planning Worksheet'!Q66=\"\",\"\",(+'Cons. Planning Worksheet'!Q66))","v":""},{"$f":"IF('Cons. Planning Worksheet'!R66=\"\",\"\",(+'Cons. Planning Worksheet'!R66))","v":""},{"$f":"IF('Cons. Planning Worksheet'!S71=\"\",\"\",(+'Cons. Planning Worksheet'!S71))","v":""},{"$f":"IF('Cons. Planning Worksheet'!T71=\"\",\"\",(+'Cons. Planning Worksheet'!T71))","v":""},{"$f":"IF('Cons. Planning Worksheet'!U71=\"\",\"\",(+'Cons. Planning Worksheet'!U71))","v":""}]
[null,{"$f":"IF('Cons. Planning Worksheet'!B72=\"\",\"\",(+'Cons. Planning Worksheet'!B72))","v":""},{"$f":"IF('Cons. Planning Worksheet'!C72=\"\",\"\",(+'Cons. Planning Worksheet'!C72))","v":""},null,null,null,null,{"$f":"IF('Cons. Planning Worksheet'!AW21=\"\",\"\",\"SSRP-\"&LEFT('Cons. Planning Worksheet'!AW21,MIN(FIND(\" \",'Cons. Planning Worksheet'!AW21),5)))","v":""},{"$f":"IF('Cons. Planning Worksheet'!BP21=\"\",\"\",\"PSRP-\"&LEFT('Cons. Planning Worksheet'!BP21,MIN(FIND(\" \",'Cons. Planning Worksheet'!BP21),5)))","v":""},"Solubility =",{"$f":"IF('Cons. Planning Worksheet'!BE21=\"\",\"\",('Cons. Planning Worksheet'!BE21))","v":""},{"$f":"IF('Cons. Planning Worksheet'!L67=\"\",\"\",(+'Cons. Planning Worksheet'!L67))","v":""},{"$f":"IF('Cons. Planning Worksheet'!M67=\"\",\"\",(+'Cons. Planning Worksheet'!M67))","v":""},{"$f":"IF('Cons. Planning Worksheet'!N67=\"\",\"\",(+'Cons. Planning Worksheet'!N67))","v":""},{"$f":"IF('Cons. Planning Worksheet'!O67=\"\",\"\",(+'Cons. Planning Worksheet'!O67))","v":""},{"$f":"IF('Cons. Planning Worksheet'!Q67=\"\",\"\",(+'Cons. Planning Worksheet'!Q67))","v":""},{"$f":"IF('Cons. Planning Worksheet'!R67=\"\",\"\",(+'Cons. Planning Worksheet'!R67))","v":""},{"$f":"IF('Cons. Planning Worksheet'!S72=\"\",\"\",(+'Cons. Planning Worksheet'!S72))","v":""},{"$f":"IF('Cons. Planning Worksheet'!T72=\"\",\"\",(+'Cons. Planning Worksheet'!T72))","v":""},{"$f":"IF('Cons. Planning Worksheet'!U72=\"\",\"\",(+'Cons. Planning Worksheet'!U72))","v":""}]
[null,{"$f":"IF('Cons. Planning Worksheet'!B73=\"\",\"\",(+'Cons. Planning Worksheet'!B73))","v":""},{"$f":"IF('Cons. Planning Worksheet'!C73=\"\",\"\",(+'Cons. Planning Worksheet'!C73))","v":""},null,null,null,null,{"$f":"IF('Cons. Planning Worksheet'!AX21=\"\",\"\",\"SARP-\"&LEFT('Cons. Planning Worksheet'!AX21,MIN(FIND(\" \",'Cons. Planning Worksheet'!AX21),5)))","v":""},{"$f":"IF('Cons. Planning Worksheet'!BQ21=\"\",\"\",\"PARP-\"&LEFT('Cons. Planning Worksheet'!BQ21,MIN(FIND(\" \",'Cons. Planning Worksheet'!BQ21),5)))","v":""},"Koc =",{"$f":"IF('Cons. Planning Worksheet'!BF21=\"\",\"\",('Cons. Planning Worksheet'!BF21))","v":""},{"$f":"IF('Cons. Planning Worksheet'!L68=\"\",\"\",(+'Cons. Planning Worksheet'!L68))","v":""},{"$f":"IF('Cons. Planning Worksheet'!M68=\"\",\"\",(+'Cons. Planning Worksheet'!M68))","v":""},{"$f":"IF('Cons. Planning Worksheet'!N68=\"\",\"\",(+'Cons. Planning Worksheet'!N68))","v":""},{"$f":"IF('Cons. Planning Worksheet'!O68=\"\",\"\",(+'Cons. Planning Worksheet'!O68))","v":""},{"$f":"IF('Cons. Planning Worksheet'!Q68=\"\",\"\",(+'Cons. Planning Worksheet'!Q68))","v":""},{"$f":"IF('Cons. Planning Worksheet'!R68=\"\",\"\",(+'Cons. Planning Worksheet'!R68))","v":""},{"$f":"IF('Cons. Planning Worksheet'!S73=\"\",\"\",(+'Cons. Planning Worksheet'!S73))","v":""},{"$f":"IF('Cons. Planning Worksheet'!T73=\"\",\"\",(+'Cons. Planning Worksheet'!T73))","v":""},{"$f":"IF('Cons. Planning Worksheet'!U73=\"\",\"\",(+'Cons. Planning Worksheet'!U73))","v":""}]
[null,{"$f":"IF('Cons. Planning Worksheet'!B74=\"\",\"\",(+'Cons. Planning Worksheet'!B74))","v":""},{"$f":"IF('Cons. Planning Worksheet'!C74=\"\",\"\",(+'Cons. Planning Worksheet'!C74))","v":""},null,null,null,null,null,null,"Half Life =",{"$f":"IF('Cons. Planning Worksheet'!BG21=\"\",\"\",('Cons. Planning Worksheet'!BG21))","v":""},{"$f":"IF('Cons. Planning Worksheet'!L69=\"\",\"\",(+'Cons. Planning Worksheet'!L69))","v":""},{"$f":"IF('Cons. Planning Worksheet'!M69=\"\",\"\",(+'Cons. Planning Worksheet'!M69))","v":""},{"$f":"IF('Cons. Planning Worksheet'!N69=\"\",\"\",(+'Cons. Planning Worksheet'!N69))","v":""},{"$f":"IF('Cons. Planning Worksheet'!O69=\"\",\"\",(+'Cons. Planning Worksheet'!O69))","v":""},{"$f":"IF('Cons. Planning Worksheet'!Q69=\"\",\"\",(+'Cons. Planning Worksheet'!Q69))","v":""},{"$f":"IF('Cons. Planning Worksheet'!R69=\"\",\"\",(+'Cons. Planning Worksheet'!R69))","v":""},{"$f":"IF('Cons. Planning Worksheet'!S74=\"\",\"\",(+'Cons. Planning Worksheet'!S74))","v":""},{"$f":"IF('Cons. Planning Worksheet'!T74=\"\",\"\",(+'Cons. Planning Worksheet'!T74))","v":""},{"$f":"IF('Cons. Planning Worksheet'!U74=\"\",\"\",(+'Cons. Planning Worksheet'!U74))","v":""}]
[12,{"$f":"IF('Cons. Planning Worksheet'!B76=\"\",\"\",(+'Cons. Planning Worksheet'!B76))","v":""},{"$f":"IF('Cons. Planning Worksheet'!C76=\"\",\"\",(+'Cons. Planning Worksheet'!C76))","v":""},{"$f":"IF('Cons. Planning Worksheet'!AS22=\"\",\"\", ('Cons. Planning Worksheet'!AS22))","v":""},{"$f":"IF('Cons. Planning Worksheet'!AT22=\"\",\"\", ('Cons. Planning Worksheet'!AT22))","v":""},{"$f":"IF('Cons. Planning Worksheet'!AU22=\"\",\"\", ('Cons. Planning Worksheet'!AU22))","v":""},{"$f":"IF('Cons. Planning Worksheet'!E76=\"\",\"\",(+'Cons. Planning Worksheet'!E76))","v":""},null,null,{"$f":"IF('Cons. Planning Worksheet'!F76=\"\",\"\",(+'Cons. Planning Worksheet'!F76))","v":""},null,{"$f":"IF('Cons. Planning Worksheet'!CQ22=\"\",\"\",('Cons. Planning Worksheet'!CQ22))","v":""},{"$f":"IF('Cons. Planning Worksheet'!H71=\"\",\"\",(+'Cons. Planning Worksheet'!H71))","v":""},{"$f":"IF('Cons. Planning Worksheet'!CR22=\"\",\"\",('Cons. Planning Worksheet'!CR22))","v":""},{"$f":"IF('Cons. Planning Worksheet'!J71=\"\",\"\",(+'Cons. Planning Worksheet'!J71))","v":""},{"$f":"IF('Cons. Planning Worksheet'!CP22=\"\",\"\",('Cons. Planning Worksheet'!CP22))","v":""},{"$f":"IF('Cons. Planning Worksheet'!L71=\"\",\"\",(+'Cons. Planning Worksheet'!L71))","v":""},{"$f":"IF('Cons. Planning Worksheet'!M76=\"\",\"\",(+'Cons. Planning Worksheet'!M76))","v":""},{"$f":"IF('Cons. Planning Worksheet'!N76=\"\",\"\",(+'Cons. Planning Worksheet'!N76))","v":""},{"$f":"IF('Cons. Planning Worksheet'!O76=\"\",\"\",(+'Cons. Planning Worksheet'!O76))","v":""}]
[null,{"$f":"IF('Cons. Planning Worksheet'!B76=\"\",\"\",(+'Cons. Planning Worksheet'!B76))","v":""},{"$f":"IF('Cons. Planning Worksheet'!C76=\"\",\"\",(+'Cons. Planning Worksheet'!C76))","v":""},null,null,null,null,{"$f":"IF('Cons. Planning Worksheet'!AV22=\"\",\"\",\"PLP-\"&LEFT('Cons. Planning Worksheet'!AV22,MIN(FIND(\" \",'Cons. Planning Worksheet'!AV22),5)))","v":""},{"$f":"IF('Cons. Planning Worksheet'!BO22=\"\",\"\",\"SLP-\"&LEFT('Cons. Planning Worksheet'!BO22,MIN(FIND(\" \",'Cons. Planning Worksheet'!BO22),5)))","v":""},null,null,{"$f":"IF('Cons. Planning Worksheet'!L71=\"\",\"\",(+'Cons. Planning Worksheet'!L71))","v":""},{"$f":"IF('Cons. Planning Worksheet'!M71=\"\",\"\",(+'Cons. Planning Worksheet'!M71))","v":""},{"$f":"IF('Cons. Planning Worksheet'!N71=\"\",\"\",(+'Cons. Planning Worksheet'!N71))","v":""},{"$f":"IF('Cons. Planning Worksheet'!O71=\"\",\"\",(+'Cons. Planning Worksheet'!O71))","v":""},{"$f":"IF('Cons. Planning Worksheet'!Q71=\"\",\"\",(+'Cons. Planning Worksheet'!Q71))","v":""},{"$f":"IF('Cons. Planning Worksheet'!R71=\"\",\"\",(+'Cons. Planning Worksheet'!R71))","v":""},{"$f":"IF('Cons. Planning Worksheet'!S76=\"\",\"\",(+'Cons. Planning Worksheet'!S76))","v":""},{"$f":"IF('Cons. Planning Worksheet'!T76=\"\",\"\",(+'Cons. Planning Worksheet'!T76))","v":""},{"$f":"IF('Cons. Planning Worksheet'!U76=\"\",\"\",(+'Cons. Planning Worksheet'!U76))","v":""}]
[null,{"$f":"IF('Cons. Planning Worksheet'!B77=\"\",\"\",(+'Cons. Planning Worksheet'!B77))","v":""},{"$f":"IF('Cons. Planning Worksheet'!C77=\"\",\"\",(+'Cons. Planning Worksheet'!C77))","v":""},null,null,null,null,{"$f":"IF('Cons. Planning Worksheet'!AW22=\"\",\"\",\"SSRP-\"&LEFT('Cons. Planning Worksheet'!AW22,MIN(FIND(\" \",'Cons. Planning Worksheet'!AW22),5)))","v":""},{"$f":"IF('Cons. Planning Worksheet'!BP22=\"\",\"\",\"PSRP-\"&LEFT('Cons. Planning Worksheet'!BP22,MIN(FIND(\" \",'Cons. Planning Worksheet'!BP22),5)))","v":""},"Solubility =",{"$f":"IF('Cons. Planning Worksheet'!BE22=\"\",\"\",('Cons. Planning Worksheet'!BE22))","v":""},{"$f":"IF('Cons. Planning Worksheet'!L72=\"\",\"\",(+'Cons. Planning Worksheet'!L72))","v":""},{"$f":"IF('Cons. Planning Worksheet'!M72=\"\",\"\",(+'Cons. Planning Worksheet'!M72))","v":""},{"$f":"IF('Cons. Planning Worksheet'!N72=\"\",\"\",(+'Cons. Planning Worksheet'!N72))","v":""},{"$f":"IF('Cons. Planning Worksheet'!O72=\"\",\"\",(+'Cons. Planning Worksheet'!O72))","v":""},{"$f":"IF('Cons. Planning Worksheet'!Q72=\"\",\"\",(+'Cons. Planning Worksheet'!Q72))","v":""},{"$f":"IF('Cons. Planning Worksheet'!R72=\"\",\"\",(+'Cons. Planning Worksheet'!R72))","v":""},{"$f":"IF('Cons. Planning Worksheet'!S77=\"\",\"\",(+'Cons. Planning Worksheet'!S77))","v":""},{"$f":"IF('Cons. Planning Worksheet'!T77=\"\",\"\",(+'Cons. Planning Worksheet'!T77))","v":""},{"$f":"IF('Cons. Planning Worksheet'!U77=\"\",\"\",(+'Cons. Planning Worksheet'!U77))","v":""}]
[null,{"$f":"IF('Cons. Planning Worksheet'!B78=\"\",\"\",(+'Cons. Planning Worksheet'!B78))","v":""},{"$f":"IF('Cons. Planning Worksheet'!C78=\"\",\"\",(+'Cons. Planning Worksheet'!C78))","v":""},null,null,null,null,{"$f":"IF('Cons. Planning Worksheet'!AX22=\"\",\"\",\"SARP-\"&LEFT('Cons. Planning Worksheet'!AX22,MIN(FIND(\" \",'Cons. Planning Worksheet'!AX22),5)))","v":""},{"$f":"IF('Cons. Planning Worksheet'!BQ22=\"\",\"\",\"PARP-\"&LEFT('Cons. Planning Worksheet'!BQ22,MIN(FIND(\" \",'Cons. Planning Worksheet'!BQ22),5)))","v":""},"Koc =",{"$f":"IF('Cons. Planning Worksheet'!BF22=\"\",\"\",('Cons. Planning Worksheet'!BF22))","v":""},{"$f":"IF('Cons. Planning Worksheet'!L73=\"\",\"\",(+'Cons. Planning Worksheet'!L73))","v":""},{"$f":"IF('Cons. Planning Worksheet'!M73=\"\",\"\",(+'Cons. Planning Worksheet'!M73))","v":""},{"$f":"IF('Cons. Planning Worksheet'!N73=\"\",\"\",(+'Cons. Planning Worksheet'!N73))","v":""},{"$f":"IF('Cons. Planning Worksheet'!O73=\"\",\"\",(+'Cons. Planning Worksheet'!O73))","v":""},{"$f":"IF('Cons. Planning Worksheet'!Q73=\"\",\"\",(+'Cons. Planning Worksheet'!Q73))","v":""},{"$f":"IF('Cons. Planning Worksheet'!R73=\"\",\"\",(+'Cons. Planning Worksheet'!R73))","v":""},{"$f":"IF('Cons. Planning Worksheet'!S78=\"\",\"\",(+'Cons. Planning Worksheet'!S78))","v":""},{"$f":"IF('Cons. Planning Worksheet'!T78=\"\",\"\",(+'Cons. Planning Worksheet'!T78))","v":""},{"$f":"IF('Cons. Planning Worksheet'!U78=\"\",\"\",(+'Cons. Planning Worksheet'!U78))","v":""}]
[null,{"$f":"IF('Cons. Planning Worksheet'!B79=\"\",\"\",(+'Cons. Planning Worksheet'!B79))","v":""},{"$f":"IF('Cons. Planning Worksheet'!C79=\"\",\"\",(+'Cons. Planning Worksheet'!C79))","v":""},null,null,null,null,null,null,"Half Life =",{"$f":"IF('Cons. Planning Worksheet'!BG22=\"\",\"\",('Cons. Planning Worksheet'!BG22))","v":""},{"$f":"IF('Cons. Planning Worksheet'!L74=\"\",\"\",(+'Cons. Planning Worksheet'!L74))","v":""},{"$f":"IF('Cons. Planning Worksheet'!M74=\"\",\"\",(+'Cons. Planning Worksheet'!M74))","v":""},{"$f":"IF('Cons. Planning Worksheet'!N74=\"\",\"\",(+'Cons. Planning Worksheet'!N74))","v":""},{"$f":"IF('Cons. Planning Worksheet'!O74=\"\",\"\",(+'Cons. Planning Worksheet'!O74))","v":""},{"$f":"IF('Cons. Planning Worksheet'!Q74=\"\",\"\",(+'Cons. Planning Worksheet'!Q74))","v":""},{"$f":"IF('Cons. Planning Worksheet'!R74=\"\",\"\",(+'Cons. Planning Worksheet'!R74))","v":""},{"$f":"IF('Cons. Planning Worksheet'!S79=\"\",\"\",(+'Cons. Planning Worksheet'!S79))","v":""},{"$f":"IF('Cons. Planning Worksheet'!T79=\"\",\"\",(+'Cons. Planning Worksheet'!T79))","v":""},{"$f":"IF('Cons. Planning Worksheet'!U79=\"\",\"\",(+'Cons. Planning Worksheet'!U79))","v":""}]
[13,{"$f":"IF('Cons. Planning Worksheet'!B81=\"\",\"\",(+'Cons. Planning Worksheet'!B81))","v":""},{"$f":"IF('Cons. Planning Worksheet'!C81=\"\",\"\",(+'Cons. Planning Worksheet'!C81))","v":""},{"$f":"IF('Cons. Planning Worksheet'!AS23=\"\",\"\", ('Cons. Planning Worksheet'!AS23))","v":""},{"$f":"IF('Cons. Planning Worksheet'!AT23=\"\",\"\", ('Cons. Planning Worksheet'!AT23))","v":""},{"$f":"IF('Cons. Planning Worksheet'!AU23=\"\",\"\", ('Cons. Planning Worksheet'!AU23))","v":""},{"$f":"IF('Cons. Planning Worksheet'!E81=\"\",\"\",(+'Cons. Planning Worksheet'!E81))","v":""},null,null,{"$f":"IF('Cons. Planning Worksheet'!F81=\"\",\"\",(+'Cons. Planning Worksheet'!F81))","v":""},null,{"$f":"IF('Cons. Planning Worksheet'!CQ23=\"\",\"\",('Cons. Planning Worksheet'!CQ23))","v":""},{"$f":"IF('Cons. Planning Worksheet'!H76=\"\",\"\",(+'Cons. Planning Worksheet'!H76))","v":""},{"$f":"IF('Cons. Planning Worksheet'!CR23=\"\",\"\",('Cons. Planning Worksheet'!CR23))","v":""},{"$f":"IF('Cons. Planning Worksheet'!J76=\"\",\"\",(+'Cons. Planning Worksheet'!J76))","v":""},{"$f":"IF('Cons. Planning Worksheet'!CP23=\"\",\"\",('Cons. Planning Worksheet'!CP23))","v":""},{"$f":"IF('Cons. Planning Worksheet'!L76=\"\",\"\",(+'Cons. Planning Worksheet'!L76))","v":""},{"$f":"IF('Cons. Planning Worksheet'!M81=\"\",\"\",(+'Cons. Planning Worksheet'!M81))","v":""},{"$f":"IF('Cons. Planning Worksheet'!N81=\"\",\"\",(+'Cons. Planning Worksheet'!N81))","v":""},{"$f":"IF('Cons. Planning Worksheet'!O81=\"\",\"\",(+'Cons. Planning Worksheet'!O81))","v":""}]
[null,{"$f":"IF('Cons. Planning Worksheet'!B81=\"\",\"\",(+'Cons. Planning Worksheet'!B81))","v":""},{"$f":"IF('Cons. Planning Worksheet'!C81=\"\",\"\",(+'Cons. Planning Worksheet'!C81))","v":""},null,null,null,null,{"$f":"IF('Cons. Planning Worksheet'!AV23=\"\",\"\",\"PLP-\"&LEFT('Cons. Planning Worksheet'!AV23,MIN(FIND(\" \",'Cons. Planning Worksheet'!AV23),5)))","v":""},{"$f":"IF('Cons. Planning Worksheet'!BO23=\"\",\"\",\"SLP-\"&LEFT('Cons. Planning Worksheet'!BO23,MIN(FIND(\" \",'Cons. Planning Worksheet'!BO23),5)))","v":""},null,null,{"$f":"IF('Cons. Planning Worksheet'!L76=\"\",\"\",(+'Cons. Planning Worksheet'!L76))","v":""},{"$f":"IF('Cons. Planning Worksheet'!M76=\"\",\"\",(+'Cons. Planning Worksheet'!M76))","v":""},{"$f":"IF('Cons. Planning Worksheet'!N76=\"\",\"\",(+'Cons. Planning Worksheet'!N76))","v":""},{"$f":"IF('Cons. Planning Worksheet'!O76=\"\",\"\",(+'Cons. Planning Worksheet'!O76))","v":""},{"$f":"IF('Cons. Planning Worksheet'!Q76=\"\",\"\",(+'Cons. Planning Worksheet'!Q76))","v":""},{"$f":"IF('Cons. Planning Worksheet'!R76=\"\",\"\",(+'Cons. Planning Worksheet'!R76))","v":""},{"$f":"IF('Cons. Planning Worksheet'!S81=\"\",\"\",(+'Cons. Planning Worksheet'!S81))","v":""},{"$f":"IF('Cons. Planning Worksheet'!T81=\"\",\"\",(+'Cons. Planning Worksheet'!T81))","v":""},{"$f":"IF('Cons. Planning Worksheet'!U81=\"\",\"\",(+'Cons. Planning Worksheet'!U81))","v":""}]
[null,{"$f":"IF('Cons. Planning Worksheet'!B82=\"\",\"\",(+'Cons. Planning Worksheet'!B82))","v":""},{"$f":"IF('Cons. Planning Worksheet'!C82=\"\",\"\",(+'Cons. Planning Worksheet'!C82))","v":""},null,null,null,null,{"$f":"IF('Cons. Planning Worksheet'!AW23=\"\",\"\",\"SSRP-\"&LEFT('Cons. Planning Worksheet'!AW23,MIN(FIND(\" \",'Cons. Planning Worksheet'!AW23),5)))","v":""},{"$f":"IF('Cons. Planning Worksheet'!BP23=\"\",\"\",\"PSRP-\"&LEFT('Cons. Planning Worksheet'!BP23,MIN(FIND(\" \",'Cons. Planning Worksheet'!BP23),5)))","v":""},"Solubility =",{"$f":"IF('Cons. Planning Worksheet'!BE23=\"\",\"\",('Cons. Planning Worksheet'!BE23))","v":""},{"$f":"IF('Cons. Planning Worksheet'!L77=\"\",\"\",(+'Cons. Planning Worksheet'!L77))","v":""},{"$f":"IF('Cons. Planning Worksheet'!M77=\"\",\"\",(+'Cons. Planning Worksheet'!M77))","v":""},{"$f":"IF('Cons. Planning Worksheet'!N77=\"\",\"\",(+'Cons. Planning Worksheet'!N77))","v":""},{"$f":"IF('Cons. Planning Worksheet'!O77=\"\",\"\",(+'Cons. Planning Worksheet'!O77))","v":""},{"$f":"IF('Cons. Planning Worksheet'!Q77=\"\",\"\",(+'Cons. Planning Worksheet'!Q77))","v":""},{"$f":"IF('Cons. Planning Worksheet'!R77=\"\",\"\",(+'Cons. Planning Worksheet'!R77))","v":""},{"$f":"IF('Cons. Planning Worksheet'!S82=\"\",\"\",(+'Cons. Planning Worksheet'!S82))","v":""},{"$f":"IF('Cons. Planning Worksheet'!T82=\"\",\"\",(+'Cons. Planning Worksheet'!T82))","v":""},{"$f":"IF('Cons. Planning Worksheet'!U82=\"\",\"\",(+'Cons. Planning Worksheet'!U82))","v":""}]
[null,{"$f":"IF('Cons. Planning Worksheet'!B83=\"\",\"\",(+'Cons. Planning Worksheet'!B83))","v":""},{"$f":"IF('Cons. Planning Worksheet'!C83=\"\",\"\",(+'Cons. Planning Worksheet'!C83))","v":""},null,null,null,null,{"$f":"IF('Cons. Planning Worksheet'!AX23=\"\",\"\",\"SARP-\"&LEFT('Cons. Planning Worksheet'!AX23,MIN(FIND(\" \",'Cons. Planning Worksheet'!AX23),5)))","v":""},{"$f":"IF('Cons. Planning Worksheet'!BQ23=\"\",\"\",\"PARP-\"&LEFT('Cons. Planning Worksheet'!BQ23,MIN(FIND(\" \",'Cons. Planning Worksheet'!BQ23),5)))","v":""},"Koc =",{"$f":"IF('Cons. Planning Worksheet'!BF23=\"\",\"\",('Cons. Planning Worksheet'!BF23))","v":""},{"$f":"IF('Cons. Planning Worksheet'!L78=\"\",\"\",(+'Cons. Planning Worksheet'!L78))","v":""},{"$f":"IF('Cons. Planning Worksheet'!M78=\"\",\"\",(+'Cons. Planning Worksheet'!M78))","v":""},{"$f":"IF('Cons. Planning Worksheet'!N78=\"\",\"\",(+'Cons. Planning Worksheet'!N78))","v":""},{"$f":"IF('Cons. Planning Worksheet'!O78=\"\",\"\",(+'Cons. Planning Worksheet'!O78))","v":""},{"$f":"IF('Cons. Planning Worksheet'!Q78=\"\",\"\",(+'Cons. Planning Worksheet'!Q78))","v":""},{"$f":"IF('Cons. Planning Worksheet'!R78=\"\",\"\",(+'Cons. Planning Worksheet'!R78))","v":""},{"$f":"IF('Cons. Planning Worksheet'!S83=\"\",\"\",(+'Cons. Planning Worksheet'!S83))","v":""},{"$f":"IF('Cons. Planning Worksheet'!T83=\"\",\"\",(+'Cons. Planning Worksheet'!T83))","v":""},{"$f":"IF('Cons. Planning Worksheet'!U83=\"\",\"\",(+'Cons. Planning Worksheet'!U83))","v":""}]
[null,{"$f":"IF('Cons. Planning Worksheet'!B84=\"\",\"\",(+'Cons. Planning Worksheet'!B84))","v":""},{"$f":"IF('Cons. Planning Worksheet'!C84=\"\",\"\",(+'Cons. Planning Worksheet'!C84))","v":""},null,null,null,null,null,null,"Half Life =",{"$f":"IF('Cons. Planning Worksheet'!BG23=\"\",\"\",('Cons. Planning Worksheet'!BG23))","v":""},{"$f":"IF('Cons. Planning Worksheet'!L79=\"\",\"\",(+'Cons. Planning Worksheet'!L79))","v":""},{"$f":"IF('Cons. Planning Worksheet'!M79=\"\",\"\",(+'Cons. Planning Worksheet'!M79))","v":""},{"$f":"IF('Cons. Planning Worksheet'!N79=\"\",\"\",(+'Cons. Planning Worksheet'!N79))","v":""},{"$f":"IF('Cons. Planning Worksheet'!O79=\"\",\"\",(+'Cons. Planning Worksheet'!O79))","v":""},{"$f":"IF('Cons. Planning Worksheet'!Q79=\"\",\"\",(+'Cons. Planning Worksheet'!Q79))","v":""},{"$f":"IF('Cons. Planning Worksheet'!R79=\"\",\"\",(+'Cons. Planning Worksheet'!R79))","v":""},{"$f":"IF('Cons. Planning Worksheet'!S84=\"\",\"\",(+'Cons. Planning Worksheet'!S84))","v":""},{"$f":"IF('Cons. Planning Worksheet'!T84=\"\",\"\",(+'Cons. Planning Worksheet'!T84))","v":""},{"$f":"IF('Cons. Planning Worksheet'!U84=\"\",\"\",(+'Cons. Planning Worksheet'!U84))","v":""}]
[14,{"$f":"IF('Cons. Planning Worksheet'!B86=\"\",\"\",(+'Cons. Planning Worksheet'!B86))","v":""},{"$f":"IF('Cons. Planning Worksheet'!C86=\"\",\"\",(+'Cons. Planning Worksheet'!C86))","v":""},{"$f":"IF('Cons. Planning Worksheet'!AS24=\"\",\"\", ('Cons. Planning Worksheet'!AS24))","v":""},{"$f":"IF('Cons. Planning Worksheet'!AT24=\"\",\"\", ('Cons. Planning Worksheet'!AT24))","v":""},{"$f":"IF('Cons. Planning Worksheet'!AU24=\"\",\"\", ('Cons. Planning Worksheet'!AU24))","v":""},{"$f":"IF('Cons. Planning Worksheet'!E86=\"\",\"\",(+'Cons. Planning Worksheet'!E86))","v":""},null,null,{"$f":"IF('Cons. Planning Worksheet'!F86=\"\",\"\",(+'Cons. Planning Worksheet'!F86))","v":""},null,{"$f":"IF('Cons. Planning Worksheet'!CQ24=\"\",\"\",('Cons. Planning Worksheet'!CQ24))","v":""},{"$f":"IF('Cons. Planning Worksheet'!H81=\"\",\"\",(+'Cons. Planning Worksheet'!H81))","v":""},{"$f":"IF('Cons. Planning Worksheet'!CR24=\"\",\"\",('Cons. Planning Worksheet'!CR24))","v":""},{"$f":"IF('Cons. Planning Worksheet'!J81=\"\",\"\",(+'Cons. Planning Worksheet'!J81))","v":""},{"$f":"IF('Cons. Planning Worksheet'!CP24=\"\",\"\",('Cons. Planning Worksheet'!CP24))","v":""},{"$f":"IF('Cons. Planning Worksheet'!L81=\"\",\"\",(+'Cons. Planning Worksheet'!L81))","v":""},{"$f":"IF('Cons. Planning Worksheet'!M86=\"\",\"\",(+'Cons. Planning Worksheet'!M86))","v":""},{"$f":"IF('Cons. Planning Worksheet'!N86=\"\",\"\",(+'Cons. Planning Worksheet'!N86))","v":""},{"$f":"IF('Cons. Planning Worksheet'!O86=\"\",\"\",(+'Cons. Planning Worksheet'!O86))","v":""}]
[null,{"$f":"IF('Cons. Planning Worksheet'!B86=\"\",\"\",(+'Cons. Planning Worksheet'!B86))","v":""},{"$f":"IF('Cons. Planning Worksheet'!C86=\"\",\"\",(+'Cons. Planning Worksheet'!C86))","v":""},null,null,null,null,{"$f":"IF('Cons. Planning Worksheet'!AV24=\"\",\"\",\"PLP-\"&LEFT('Cons. Planning Worksheet'!AV24,MIN(FIND(\" \",'Cons. Planning Worksheet'!AV24),5)))","v":""},{"$f":"IF('Cons. Planning Worksheet'!BO24=\"\",\"\",\"SLP-\"&LEFT('Cons. Planning Worksheet'!BO24,MIN(FIND(\" \",'Cons. Planning Worksheet'!BO24),5)))","v":""},null,null,{"$f":"IF('Cons. Planning Worksheet'!L81=\"\",\"\",(+'Cons. Planning Worksheet'!L81))","v":""},{"$f":"IF('Cons. Planning Worksheet'!M81=\"\",\"\",(+'Cons. Planning Worksheet'!M81))","v":""},{"$f":"IF('Cons. Planning Worksheet'!N81=\"\",\"\",(+'Cons. Planning Worksheet'!N81))","v":""},{"$f":"IF('Cons. Planning Worksheet'!O81=\"\",\"\",(+'Cons. Planning Worksheet'!O81))","v":""},{"$f":"IF('Cons. Planning Worksheet'!Q81=\"\",\"\",(+'Cons. Planning Worksheet'!Q81))","v":""},{"$f":"IF('Cons. Planning Worksheet'!R81=\"\",\"\",(+'Cons. Planning Worksheet'!R81))","v":""},{"$f":"IF('Cons. Planning Worksheet'!S86=\"\",\"\",(+'Cons. Planning Worksheet'!S86))","v":""},{"$f":"IF('Cons. Planning Worksheet'!T86=\"\",\"\",(+'Cons. Planning Worksheet'!T86))","v":""},{"$f":"IF('Cons. Planning Worksheet'!U86=\"\",\"\",(+'Cons. Planning Worksheet'!U86))","v":""}]
[null,{"$f":"IF('Cons. Planning Worksheet'!B87=\"\",\"\",(+'Cons. Planning Worksheet'!B87))","v":""},{"$f":"IF('Cons. Planning Worksheet'!C87=\"\",\"\",(+'Cons. Planning Worksheet'!C87))","v":""},null,null,null,null,{"$f":"IF('Cons. Planning Worksheet'!AW24=\"\",\"\",\"SSRP-\"&LEFT('Cons. Planning Worksheet'!AW24,MIN(FIND(\" \",'Cons. Planning Worksheet'!AW24),5)))","v":""},{"$f":"IF('Cons. Planning Worksheet'!BP24=\"\",\"\",\"PSRP-\"&LEFT('Cons. Planning Worksheet'!BP24,MIN(FIND(\" \",'Cons. Planning Worksheet'!BP24),5)))","v":""},"Solubility =",{"$f":"IF('Cons. Planning Worksheet'!BE24=\"\",\"\",('Cons. Planning Worksheet'!BE24))","v":""},{"$f":"IF('Cons. Planning Worksheet'!L82=\"\",\"\",(+'Cons. Planning Worksheet'!L82))","v":""},{"$f":"IF('Cons. Planning Worksheet'!M82=\"\",\"\",(+'Cons. Planning Worksheet'!M82))","v":""},{"$f":"IF('Cons. Planning Worksheet'!N82=\"\",\"\",(+'Cons. Planning Worksheet'!N82))","v":""},{"$f":"IF('Cons. Planning Worksheet'!O82=\"\",\"\",(+'Cons. Planning Worksheet'!O82))","v":""},{"$f":"IF('Cons. Planning Worksheet'!Q82=\"\",\"\",(+'Cons. Planning Worksheet'!Q82))","v":""},{"$f":"IF('Cons. Planning Worksheet'!R82=\"\",\"\",(+'Cons. Planning Worksheet'!R82))","v":""},{"$f":"IF('Cons. Planning Worksheet'!S87=\"\",\"\",(+'Cons. Planning Worksheet'!S87))","v":""},{"$f":"IF('Cons. Planning Worksheet'!T87=\"\",\"\",(+'Cons. Planning Worksheet'!T87))","v":""},{"$f":"IF('Cons. Planning Worksheet'!U87=\"\",\"\",(+'Cons. Planning Worksheet'!U87))","v":""}]
[null,{"$f":"IF('Cons. Planning Worksheet'!B88=\"\",\"\",(+'Cons. Planning Worksheet'!B88))","v":""},{"$f":"IF('Cons. Planning Worksheet'!C88=\"\",\"\",(+'Cons. Planning Worksheet'!C88))","v":""},null,null,null,null,{"$f":"IF('Cons. Planning Worksheet'!AX24=\"\",\"\",\"SARP-\"&LEFT('Cons. Planning Worksheet'!AX24,MIN(FIND(\" \",'Cons. Planning Worksheet'!AX24),5)))","v":""},{"$f":"IF('Cons. Planning Worksheet'!BQ24=\"\",\"\",\"PARP-\"&LEFT('Cons. Planning Worksheet'!BQ24,MIN(FIND(\" \",'Cons. Planning Worksheet'!BQ24),5)))","v":""},"Koc =",{"$f":"IF('Cons. Planning Worksheet'!BF24=\"\",\"\",('Cons. Planning Worksheet'!BF24))","v":""},{"$f":"IF('Cons. Planning Worksheet'!L83=\"\",\"\",(+'Cons. Planning Worksheet'!L83))","v":""},{"$f":"IF('Cons. Planning Worksheet'!M83=\"\",\"\",(+'Cons. Planning Worksheet'!M83))","v":""},{"$f":"IF('Cons. Planning Worksheet'!N83=\"\",\"\",(+'Cons. Planning Worksheet'!N83))","v":""},{"$f":"IF('Cons. Planning Worksheet'!O83=\"\",\"\",(+'Cons. Planning Worksheet'!O83))","v":""},{"$f":"IF('Cons. Planning Worksheet'!Q83=\"\",\"\",(+'Cons. Planning Worksheet'!Q83))","v":""},{"$f":"IF('Cons. Planning Worksheet'!R83=\"\",\"\",(+'Cons. Planning Worksheet'!R83))","v":""},{"$f":"IF('Cons. Planning Worksheet'!S88=\"\",\"\",(+'Cons. Planning Worksheet'!S88))","v":""},{"$f":"IF('Cons. Planning Worksheet'!T88=\"\",\"\",(+'Cons. Planning Worksheet'!T88))","v":""},{"$f":"IF('Cons. Planning Worksheet'!U88=\"\",\"\",(+'Cons. Planning Worksheet'!U88))","v":""}]
[null,{"$f":"IF('Cons. Planning Worksheet'!B89=\"\",\"\",(+'Cons. Planning Worksheet'!B89))","v":""},{"$f":"IF('Cons. Planning Worksheet'!C89=\"\",\"\",(+'Cons. Planning Worksheet'!C89))","v":""},null,null,null,null,null,null,"Half Life =",{"$f":"IF('Cons. Planning Worksheet'!BG24=\"\",\"\",('Cons. Planning Worksheet'!BG24))","v":""},{"$f":"IF('Cons. Planning Worksheet'!L84=\"\",\"\",(+'Cons. Planning Worksheet'!L84))","v":""},{"$f":"IF('Cons. Planning Worksheet'!M84=\"\",\"\",(+'Cons. Planning Worksheet'!M84))","v":""},{"$f":"IF('Cons. Planning Worksheet'!N84=\"\",\"\",(+'Cons. Planning Worksheet'!N84))","v":""},{"$f":"IF('Cons. Planning Worksheet'!O84=\"\",\"\",(+'Cons. Planning Worksheet'!O84))","v":""},{"$f":"IF('Cons. Planning Worksheet'!Q84=\"\",\"\",(+'Cons. Planning Worksheet'!Q84))","v":""},{"$f":"IF('Cons. Planning Worksheet'!R84=\"\",\"\",(+'Cons. Planning Worksheet'!R84))","v":""},{"$f":"IF('Cons. Planning Worksheet'!S89=\"\",\"\",(+'Cons. Planning Worksheet'!S89))","v":""},{"$f":"IF('Cons. Planning Worksheet'!T89=\"\",\"\",(+'Cons. Planning Worksheet'!T89))","v":""},{"$f":"IF('Cons. Planning Worksheet'!U89=\"\",\"\",(+'Cons. Planning Worksheet'!U89))","v":""}]
[15,{"$f":"IF('Cons. Planning Worksheet'!B91=\"\",\"\",(+'Cons. Planning Worksheet'!B91))","v":""},{"$f":"IF('Cons. Planning Worksheet'!C91=\"\",\"\",(+'Cons. Planning Worksheet'!C91))","v":""},{"$f":"IF('Cons. Planning Worksheet'!AS25=\"\",\"\", ('Cons. Planning Worksheet'!AS25))","v":""},{"$f":"IF('Cons. Planning Worksheet'!AT25=\"\",\"\", ('Cons. Planning Worksheet'!AT25))","v":""},{"$f":"IF('Cons. Planning Worksheet'!AU25=\"\",\"\", ('Cons. Planning Worksheet'!AU25))","v":""},{"$f":"IF('Cons. Planning Worksheet'!E91=\"\",\"\",(+'Cons. Planning Worksheet'!E91))","v":""},null,null,{"$f":"IF('Cons. Planning Worksheet'!F91=\"\",\"\",(+'Cons. Planning Worksheet'!F91))","v":""},null,{"$f":"IF('Cons. Planning Worksheet'!CQ25=\"\",\"\",('Cons. Planning Worksheet'!CQ25))","v":""},{"$f":"IF('Cons. Planning Worksheet'!H86=\"\",\"\",(+'Cons. Planning Worksheet'!H86))","v":""},{"$f":"IF('Cons. Planning Worksheet'!CR25=\"\",\"\",('Cons. Planning Worksheet'!CR25))","v":""},{"$f":"IF('Cons. Planning Worksheet'!J86=\"\",\"\",(+'Cons. Planning Worksheet'!J86))","v":""},{"$f":"IF('Cons. Planning Worksheet'!CP25=\"\",\"\",('Cons. Planning Worksheet'!CP25))","v":""},{"$f":"IF('Cons. Planning Worksheet'!L86=\"\",\"\",(+'Cons. Planning Worksheet'!L86))","v":""},{"$f":"IF('Cons. Planning Worksheet'!M91=\"\",\"\",(+'Cons. Planning Worksheet'!M91))","v":""},{"$f":"IF('Cons. Planning Worksheet'!N91=\"\",\"\",(+'Cons. Planning Worksheet'!N91))","v":""},{"$f":"IF('Cons. Planning Worksheet'!O91=\"\",\"\",(+'Cons. Planning Worksheet'!O91))","v":""}]
[null,{"$f":"IF('Cons. Planning Worksheet'!B91=\"\",\"\",(+'Cons. Planning Worksheet'!B91))","v":""},{"$f":"IF('Cons. Planning Worksheet'!C91=\"\",\"\",(+'Cons. Planning Worksheet'!C91))","v":""},null,null,null,null,{"$f":"IF('Cons. Planning Worksheet'!AV25=\"\",\"\",\"PLP-\"&LEFT('Cons. Planning Worksheet'!AV25,MIN(FIND(\" \",'Cons. Planning Worksheet'!AV25),5)))","v":""},{"$f":"IF('Cons. Planning Worksheet'!BO25=\"\",\"\",\"SLP-\"&LEFT('Cons. Planning Worksheet'!BO25,MIN(FIND(\" \",'Cons. Planning Worksheet'!BO25),5)))","v":""},null,null,{"$f":"IF('Cons. Planning Worksheet'!L86=\"\",\"\",(+'Cons. Planning Worksheet'!L86))","v":""},{"$f":"IF('Cons. Planning Worksheet'!M86=\"\",\"\",(+'Cons. Planning Worksheet'!M86))","v":""},{"$f":"IF('Cons. Planning Worksheet'!N86=\"\",\"\",(+'Cons. Planning Worksheet'!N86))","v":""},{"$f":"IF('Cons. Planning Worksheet'!O86=\"\",\"\",(+'Cons. Planning Worksheet'!O86))","v":""},{"$f":"IF('Cons. Planning Worksheet'!Q86=\"\",\"\",(+'Cons. Planning Worksheet'!Q86))","v":""},{"$f":"IF('Cons. Planning Worksheet'!R86=\"\",\"\",(+'Cons. Planning Worksheet'!R86))","v":""},{"$f":"IF('Cons. Planning Worksheet'!S91=\"\",\"\",(+'Cons. Planning Worksheet'!S91))","v":""},{"$f":"IF('Cons. Planning Worksheet'!T91=\"\",\"\",(+'Cons. Planning Worksheet'!T91))","v":""},{"$f":"IF('Cons. Planning Worksheet'!U91=\"\",\"\",(+'Cons. Planning Worksheet'!U91))","v":""}]
[null,{"$f":"IF('Cons. Planning Worksheet'!B92=\"\",\"\",(+'Cons. Planning Worksheet'!B92))","v":""},{"$f":"IF('Cons. Planning Worksheet'!C92=\"\",\"\",(+'Cons. Planning Worksheet'!C92))","v":""},null,null,null,null,{"$f":"IF('Cons. Planning Worksheet'!AW25=\"\",\"\",\"SSRP-\"&LEFT('Cons. Planning Worksheet'!AW25,MIN(FIND(\" \",'Cons. Planning Worksheet'!AW25),5)))","v":""},{"$f":"IF('Cons. Planning Worksheet'!BP25=\"\",\"\",\"PSRP-\"&LEFT('Cons. Planning Worksheet'!BP25,MIN(FIND(\" \",'Cons. Planning Worksheet'!BP25),5)))","v":""},"Solubility =",{"$f":"IF('Cons. Planning Worksheet'!BE25=\"\",\"\",('Cons. Planning Worksheet'!BE25))","v":""},{"$f":"IF('Cons. Planning Worksheet'!L87=\"\",\"\",(+'Cons. Planning Worksheet'!L87))","v":""},{"$f":"IF('Cons. Planning Worksheet'!M87=\"\",\"\",(+'Cons. Planning Worksheet'!M87))","v":""},{"$f":"IF('Cons. Planning Worksheet'!N87=\"\",\"\",(+'Cons. Planning Worksheet'!N87))","v":""},{"$f":"IF('Cons. Planning Worksheet'!O87=\"\",\"\",(+'Cons. Planning Worksheet'!O87))","v":""},{"$f":"IF('Cons. Planning Worksheet'!Q87=\"\",\"\",(+'Cons. Planning Worksheet'!Q87))","v":""},{"$f":"IF('Cons. Planning Worksheet'!R87=\"\",\"\",(+'Cons. Planning Worksheet'!R87))","v":""},{"$f":"IF('Cons. Planning Worksheet'!S92=\"\",\"\",(+'Cons. Planning Worksheet'!S92))","v":""},{"$f":"IF('Cons. Planning Worksheet'!T92=\"\",\"\",(+'Cons. Planning Worksheet'!T92))","v":""},{"$f":"IF('Cons. Planning Worksheet'!U92=\"\",\"\",(+'Cons. Planning Worksheet'!U92))","v":""}]
[null,{"$f":"IF('Cons. Planning Worksheet'!B93=\"\",\"\",(+'Cons. Planning Worksheet'!B93))","v":""},{"$f":"IF('Cons. Planning Worksheet'!C93=\"\",\"\",(+'Cons. Planning Worksheet'!C93))","v":""},null,null,null,null,{"$f":"IF('Cons. Planning Worksheet'!AX25=\"\",\"\",\"SARP-\"&LEFT('Cons. Planning Worksheet'!AX25,MIN(FIND(\" \",'Cons. Planning Worksheet'!AX25),5)))","v":""},{"$f":"IF('Cons. Planning Worksheet'!BQ25=\"\",\"\",\"PARP-\"&LEFT('Cons. Planning Worksheet'!BQ25,MIN(FIND(\" \",'Cons. Planning Worksheet'!BQ25),5)))","v":""},"Koc =",{"$f":"IF('Cons. Planning Worksheet'!BF25=\"\",\"\",('Cons. Planning Worksheet'!BF25))","v":""},{"$f":"IF('Cons. Planning Worksheet'!L88=\"\",\"\",(+'Cons. Planning Worksheet'!L88))","v":""},{"$f":"IF('Cons. Planning Worksheet'!M88=\"\",\"\",(+'Cons. Planning Worksheet'!M88))","v":""},{"$f":"IF('Cons. Planning Worksheet'!N88=\"\",\"\",(+'Cons. Planning Worksheet'!N88))","v":""},{"$f":"IF('Cons. Planning Worksheet'!O88=\"\",\"\",(+'Cons. Planning Worksheet'!O88))","v":""},{"$f":"IF('Cons. Planning Worksheet'!Q88=\"\",\"\",(+'Cons. Planning Worksheet'!Q88))","v":""},{"$f":"IF('Cons. Planning Worksheet'!R88=\"\",\"\",(+'Cons. Planning Worksheet'!R88))","v":""},{"$f":"IF('Cons. Planning Worksheet'!S93=\"\",\"\",(+'Cons. Planning Worksheet'!S93))","v":""},{"$f":"IF('Cons. Planning Worksheet'!T93=\"\",\"\",(+'Cons. Planning Worksheet'!T93))","v":""},{"$f":"IF('Cons. Planning Worksheet'!U93=\"\",\"\",(+'Cons. Planning Worksheet'!U93))","v":""}]
[null,{"$f":"IF('Cons. Planning Worksheet'!B94=\"\",\"\",(+'Cons. Planning Worksheet'!B94))","v":""},{"$f":"IF('Cons. Planning Worksheet'!C94=\"\",\"\",(+'Cons. Planning Worksheet'!C94))","v":""},null,null,null,null,null,null,"Half Life =",{"$f":"IF('Cons. Planning Worksheet'!BG25=\"\",\"\",('Cons. Planning Worksheet'!BG25))","v":""},{"$f":"IF('Cons. Planning Worksheet'!L89=\"\",\"\",(+'Cons. Planning Worksheet'!L89))","v":""},{"$f":"IF('Cons. Planning Worksheet'!M89=\"\",\"\",(+'Cons. Planning Worksheet'!M89))","v":""},{"$f":"IF('Cons. Planning Worksheet'!N89=\"\",\"\",(+'Cons. Planning Worksheet'!N89))","v":""},{"$f":"IF('Cons. Planning Worksheet'!O89=\"\",\"\",(+'Cons. Planning Worksheet'!O89))","v":""},{"$f":"IF('Cons. Planning Worksheet'!Q89=\"\",\"\",(+'Cons. Planning Worksheet'!Q89))","v":""},{"$f":"IF('Cons. Planning Worksheet'!R89=\"\",\"\",(+'Cons. Planning Worksheet'!R89))","v":""},{"$f":"IF('Cons. Planning Worksheet'!S94=\"\",\"\",(+'Cons. Planning Worksheet'!S94))","v":""},{"$f":"IF('Cons. Planning Worksheet'!T94=\"\",\"\",(+'Cons. Planning Worksheet'!T94))","v":""},{"$f":"IF('Cons. Planning Worksheet'!U94=\"\",\"\",(+'Cons. Planning Worksheet'!U94))","v":""}]
[16,{"$f":"IF('Cons. Planning Worksheet'!B96=\"\",\"\",(+'Cons. Planning Worksheet'!B96))","v":""},{"$f":"IF('Cons. Planning Worksheet'!C96=\"\",\"\",(+'Cons. Planning Worksheet'!C96))","v":""},{"$f":"IF('Cons. Planning Worksheet'!AS26=\"\",\"\", ('Cons. Planning Worksheet'!AS26))","v":""},{"$f":"IF('Cons. Planning Worksheet'!AT26=\"\",\"\", ('Cons. Planning Worksheet'!AT26))","v":""},{"$f":"IF('Cons. Planning Worksheet'!AU26=\"\",\"\", ('Cons. Planning Worksheet'!AU26))","v":""},{"$f":"IF('Cons. Planning Worksheet'!E96=\"\",\"\",(+'Cons. Planning Worksheet'!E96))","v":""},null,null,{"$f":"IF('Cons. Planning Worksheet'!F96=\"\",\"\",(+'Cons. Planning Worksheet'!F96))","v":""},null,{"$f":"IF('Cons. Planning Worksheet'!CQ26=\"\",\"\",('Cons. Planning Worksheet'!CQ26))","v":""},{"$f":"IF('Cons. Planning Worksheet'!H91=\"\",\"\",(+'Cons. Planning Worksheet'!H91))","v":""},{"$f":"IF('Cons. Planning Worksheet'!CR26=\"\",\"\",('Cons. Planning Worksheet'!CR26))","v":""},{"$f":"IF('Cons. Planning Worksheet'!J91=\"\",\"\",(+'Cons. Planning Worksheet'!J91))","v":""},{"$f":"IF('Cons. Planning Worksheet'!CP26=\"\",\"\",('Cons. Planning Worksheet'!CP26))","v":""},{"$f":"IF('Cons. Planning Worksheet'!L91=\"\",\"\",(+'Cons. Planning Worksheet'!L91))","v":""},{"$f":"IF('Cons. Planning Worksheet'!M96=\"\",\"\",(+'Cons. Planning Worksheet'!M96))","v":""},{"$f":"IF('Cons. Planning Worksheet'!N96=\"\",\"\",(+'Cons. Planning Worksheet'!N96))","v":""},{"$f":"IF('Cons. Planning Worksheet'!O96=\"\",\"\",(+'Cons. Planning Worksheet'!O96))","v":""}]
[null,{"$f":"IF('Cons. Planning Worksheet'!B96=\"\",\"\",(+'Cons. Planning Worksheet'!B96))","v":""},{"$f":"IF('Cons. Planning Worksheet'!C96=\"\",\"\",(+'Cons. Planning Worksheet'!C96))","v":""},null,null,null,null,{"$f":"IF('Cons. Planning Worksheet'!AV26=\"\",\"\",\"PLP-\"&LEFT('Cons. Planning Worksheet'!AV26,MIN(FIND(\" \",'Cons. Planning Worksheet'!AV26),5)))","v":""},{"$f":"IF('Cons. Planning Worksheet'!BO26=\"\",\"\",\"SLP-\"&LEFT('Cons. Planning Worksheet'!BO26,MIN(FIND(\" \",'Cons. Planning Worksheet'!BO26),5)))","v":""},null,null,{"$f":"IF('Cons. Planning Worksheet'!L91=\"\",\"\",(+'Cons. Planning Worksheet'!L91))","v":""},{"$f":"IF('Cons. Planning Worksheet'!M91=\"\",\"\",(+'Cons. Planning Worksheet'!M91))","v":""},{"$f":"IF('Cons. Planning Worksheet'!N91=\"\",\"\",(+'Cons. Planning Worksheet'!N91))","v":""},{"$f":"IF('Cons. Planning Worksheet'!O91=\"\",\"\",(+'Cons. Planning Worksheet'!O91))","v":""},{"$f":"IF('Cons. Planning Worksheet'!Q91=\"\",\"\",(+'Cons. Planning Worksheet'!Q91))","v":""},{"$f":"IF('Cons. Planning Worksheet'!R91=\"\",\"\",(+'Cons. Planning Worksheet'!R91))","v":""},{"$f":"IF('Cons. Planning Worksheet'!S96=\"\",\"\",(+'Cons. Planning Worksheet'!S96))","v":""},{"$f":"IF('Cons. Planning Worksheet'!T96=\"\",\"\",(+'Cons. Planning Worksheet'!T96))","v":""},{"$f":"IF('Cons. Planning Worksheet'!U96=\"\",\"\",(+'Cons. Planning Worksheet'!U96))","v":""}]
[null,{"$f":"IF('Cons. Planning Worksheet'!B97=\"\",\"\",(+'Cons. Planning Worksheet'!B97))","v":""},{"$f":"IF('Cons. Planning Worksheet'!C97=\"\",\"\",(+'Cons. Planning Worksheet'!C97))","v":""},null,null,null,null,{"$f":"IF('Cons. Planning Worksheet'!AW26=\"\",\"\",\"SSRP-\"&LEFT('Cons. Planning Worksheet'!AW26,MIN(FIND(\" \",'Cons. Planning Worksheet'!AW26),5)))","v":""},{"$f":"IF('Cons. Planning Worksheet'!BP26=\"\",\"\",\"PSRP-\"&LEFT('Cons. Planning Worksheet'!BP26,MIN(FIND(\" \",'Cons. Planning Worksheet'!BP26),5)))","v":""},"Solubility =",{"$f":"IF('Cons. Planning Worksheet'!BE26=\"\",\"\",('Cons. Planning Worksheet'!BE26))","v":""},{"$f":"IF('Cons. Planning Worksheet'!L92=\"\",\"\",(+'Cons. Planning Worksheet'!L92))","v":""},{"$f":"IF('Cons. Planning Worksheet'!M92=\"\",\"\",(+'Cons. Planning Worksheet'!M92))","v":""},{"$f":"IF('Cons. Planning Worksheet'!N92=\"\",\"\",(+'Cons. Planning Worksheet'!N92))","v":""},{"$f":"IF('Cons. Planning Worksheet'!O92=\"\",\"\",(+'Cons. Planning Worksheet'!O92))","v":""},{"$f":"IF('Cons. Planning Worksheet'!Q92=\"\",\"\",(+'Cons. Planning Worksheet'!Q92))","v":""},{"$f":"IF('Cons. Planning Worksheet'!R92=\"\",\"\",(+'Cons. Planning Worksheet'!R92))","v":""},{"$f":"IF('Cons. Planning Worksheet'!S97=\"\",\"\",(+'Cons. Planning Worksheet'!S97))","v":""},{"$f":"IF('Cons. Planning Worksheet'!T97=\"\",\"\",(+'Cons. Planning Worksheet'!T97))","v":""},{"$f":"IF('Cons. Planning Worksheet'!U97=\"\",\"\",(+'Cons. Planning Worksheet'!U97))","v":""}]
[null,{"$f":"IF('Cons. Planning Worksheet'!B98=\"\",\"\",(+'Cons. Planning Worksheet'!B98))","v":""},{"$f":"IF('Cons. Planning Worksheet'!C98=\"\",\"\",(+'Cons. Planning Worksheet'!C98))","v":""},null,null,null,null,{"$f":"IF('Cons. Planning Worksheet'!AX26=\"\",\"\",\"SARP-\"&LEFT('Cons. Planning Worksheet'!AX26,MIN(FIND(\" \",'Cons. Planning Worksheet'!AX26),5)))","v":""},{"$f":"IF('Cons. Planning Worksheet'!BQ26=\"\",\"\",\"PARP-\"&LEFT('Cons. Planning Worksheet'!BQ26,MIN(FIND(\" \",'Cons. Planning Worksheet'!BQ26),5)))","v":""},"Koc =",{"$f":"IF('Cons. Planning Worksheet'!BF26=\"\",\"\",('Cons. Planning Worksheet'!BF26))","v":""},{"$f":"IF('Cons. Planning Worksheet'!L93=\"\",\"\",(+'Cons. Planning Worksheet'!L93))","v":""},{"$f":"IF('Cons. Planning Worksheet'!M93=\"\",\"\",(+'Cons. Planning Worksheet'!M93))","v":""},{"$f":"IF('Cons. Planning Worksheet'!N93=\"\",\"\",(+'Cons. Planning Worksheet'!N93))","v":""},{"$f":"IF('Cons. Planning Worksheet'!O93=\"\",\"\",(+'Cons. Planning Worksheet'!O93))","v":""},{"$f":"IF('Cons. Planning Worksheet'!Q93=\"\",\"\",(+'Cons. Planning Worksheet'!Q93))","v":""},{"$f":"IF('Cons. Planning Worksheet'!R93=\"\",\"\",(+'Cons. Planning Worksheet'!R93))","v":""},{"$f":"IF('Cons. Planning Worksheet'!S98=\"\",\"\",(+'Cons. Planning Worksheet'!S98))","v":""},{"$f":"IF('Cons. Planning Worksheet'!T98=\"\",\"\",(+'Cons. Planning Worksheet'!T98))","v":""},{"$f":"IF('Cons. Planning Worksheet'!U98=\"\",\"\",(+'Cons. Planning Worksheet'!U98))","v":""}]
[null,{"$f":"IF('Cons. Planning Worksheet'!B99=\"\",\"\",(+'Cons. Planning Worksheet'!B99))","v":""},{"$f":"IF('Cons. Planning Worksheet'!C99=\"\",\"\",(+'Cons. Planning Worksheet'!C99))","v":""},null,null,null,null,null,null,"Half Life =",{"$f":"IF('Cons. Planning Worksheet'!BG26=\"\",\"\",('Cons. Planning Worksheet'!BG26))","v":""},{"$f":"IF('Cons. Planning Worksheet'!L94=\"\",\"\",(+'Cons. Planning Worksheet'!L94))","v":""},{"$f":"IF('Cons. Planning Worksheet'!M94=\"\",\"\",(+'Cons. Planning Worksheet'!M94))","v":""},{"$f":"IF('Cons. Planning Worksheet'!N94=\"\",\"\",(+'Cons. Planning Worksheet'!N94))","v":""},{"$f":"IF('Cons. Planning Worksheet'!O94=\"\",\"\",(+'Cons. Planning Worksheet'!O94))","v":""},{"$f":"IF('Cons. Planning Worksheet'!Q94=\"\",\"\",(+'Cons. Planning Worksheet'!Q94))","v":""},{"$f":"IF('Cons. Planning Worksheet'!R94=\"\",\"\",(+'Cons. Planning Worksheet'!R94))","v":""},{"$f":"IF('Cons. Planning Worksheet'!S99=\"\",\"\",(+'Cons. Planning Worksheet'!S99))","v":""},{"$f":"IF('Cons. Planning Worksheet'!T99=\"\",\"\",(+'Cons. Planning Worksheet'!T99))","v":""},{"$f":"IF('Cons. Planning Worksheet'!U99=\"\",\"\",(+'Cons. Planning Worksheet'!U99))","v":""}]
[17,{"$f":"IF('Cons. Planning Worksheet'!B101=\"\",\"\",(+'Cons. Planning Worksheet'!B101))","v":""},{"$f":"IF('Cons. Planning Worksheet'!C101=\"\",\"\",(+'Cons. Planning Worksheet'!C101))","v":""},{"$f":"IF('Cons. Planning Worksheet'!AS27=\"\",\"\", ('Cons. Planning Worksheet'!AS27))","v":""},{"$f":"IF('Cons. Planning Worksheet'!AT27=\"\",\"\", ('Cons. Planning Worksheet'!AT27))","v":""},{"$f":"IF('Cons. Planning Worksheet'!AU27=\"\",\"\", ('Cons. Planning Worksheet'!AU27))","v":""},{"$f":"IF('Cons. Planning Worksheet'!E101=\"\",\"\",(+'Cons. Planning Worksheet'!E101))","v":""},null,null,{"$f":"IF('Cons. Planning Worksheet'!F101=\"\",\"\",(+'Cons. Planning Worksheet'!F101))","v":""},null,{"$f":"IF('Cons. Planning Worksheet'!CQ27=\"\",\"\",('Cons. Planning Worksheet'!CQ27))","v":""},{"$f":"IF('Cons. Planning Worksheet'!H96=\"\",\"\",(+'Cons. Planning Worksheet'!H96))","v":""},{"$f":"IF('Cons. Planning Worksheet'!CR27=\"\",\"\",('Cons. Planning Worksheet'!CR27))","v":""},{"$f":"IF('Cons. Planning Worksheet'!J96=\"\",\"\",(+'Cons. Planning Worksheet'!J96))","v":""},{"$f":"IF('Cons. Planning Worksheet'!CP27=\"\",\"\",('Cons. Planning Worksheet'!CP27))","v":""},{"$f":"IF('Cons. Planning Worksheet'!L96=\"\",\"\",(+'Cons. Planning Worksheet'!L96))","v":""},{"$f":"IF('Cons. Planning Worksheet'!M101=\"\",\"\",(+'Cons. Planning Worksheet'!M101))","v":""},{"$f":"IF('Cons. Planning Worksheet'!N101=\"\",\"\",(+'Cons. Planning Worksheet'!N101))","v":""},{"$f":"IF('Cons. Planning Worksheet'!O101=\"\",\"\",(+'Cons. Planning Worksheet'!O101))","v":""}]
[null,{"$f":"IF('Cons. Planning Worksheet'!B101=\"\",\"\",(+'Cons. Planning Worksheet'!B101))","v":""},{"$f":"IF('Cons. Planning Worksheet'!C101=\"\",\"\",(+'Cons. Planning Worksheet'!C101))","v":""},null,null,null,null,{"$f":"IF('Cons. Planning Worksheet'!AV27=\"\",\"\",\"PLP-\"&LEFT('Cons. Planning Worksheet'!AV27,MIN(FIND(\" \",'Cons. Planning Worksheet'!AV27),5)))","v":""},{"$f":"IF('Cons. Planning Worksheet'!BO27=\"\",\"\",\"SLP-\"&LEFT('Cons. Planning Worksheet'!BO27,MIN(FIND(\" \",'Cons. Planning Worksheet'!BO27),5)))","v":""},null,null,{"$f":"IF('Cons. Planning Worksheet'!L96=\"\",\"\",(+'Cons. Planning Worksheet'!L96))","v":""},{"$f":"IF('Cons. Planning Worksheet'!M96=\"\",\"\",(+'Cons. Planning Worksheet'!M96))","v":""},{"$f":"IF('Cons. Planning Worksheet'!N96=\"\",\"\",(+'Cons. Planning Worksheet'!N96))","v":""},{"$f":"IF('Cons. Planning Worksheet'!O96=\"\",\"\",(+'Cons. Planning Worksheet'!O96))","v":""},{"$f":"IF('Cons. Planning Worksheet'!Q96=\"\",\"\",(+'Cons. Planning Worksheet'!Q96))","v":""},{"$f":"IF('Cons. Planning Worksheet'!R96=\"\",\"\",(+'Cons. Planning Worksheet'!R96))","v":""},{"$f":"IF('Cons. Planning Worksheet'!S101=\"\",\"\",(+'Cons. Planning Worksheet'!S101))","v":""},{"$f":"IF('Cons. Planning Worksheet'!T101=\"\",\"\",(+'Cons. Planning Worksheet'!T101))","v":""},{"$f":"IF('Cons. Planning Worksheet'!U101=\"\",\"\",(+'Cons. Planning Worksheet'!U101))","v":""}]
[null,{"$f":"IF('Cons. Planning Worksheet'!B102=\"\",\"\",(+'Cons. Planning Worksheet'!B102))","v":""},{"$f":"IF('Cons. Planning Worksheet'!C102=\"\",\"\",(+'Cons. Planning Worksheet'!C102))","v":""},null,null,null,null,{"$f":"IF('Cons. Planning Worksheet'!AW27=\"\",\"\",\"SSRP-\"&LEFT('Cons. Planning Worksheet'!AW27,MIN(FIND(\" \",'Cons. Planning Worksheet'!AW27),5)))","v":""},{"$f":"IF('Cons. Planning Worksheet'!BP27=\"\",\"\",\"PSRP-\"&LEFT('Cons. Planning Worksheet'!BP27,MIN(FIND(\" \",'Cons. Planning Worksheet'!BP27),5)))","v":""},"Solubility =",{"$f":"IF('Cons. Planning Worksheet'!BE27=\"\",\"\",('Cons. Planning Worksheet'!BE27))","v":""},{"$f":"IF('Cons. Planning Worksheet'!L97=\"\",\"\",(+'Cons. Planning Worksheet'!L97))","v":""},{"$f":"IF('Cons. Planning Worksheet'!M97=\"\",\"\",(+'Cons. Planning Worksheet'!M97))","v":""},{"$f":"IF('Cons. Planning Worksheet'!N97=\"\",\"\",(+'Cons. Planning Worksheet'!N97))","v":""},{"$f":"IF('Cons. Planning Worksheet'!O97=\"\",\"\",(+'Cons. Planning Worksheet'!O97))","v":""},{"$f":"IF('Cons. Planning Worksheet'!Q97=\"\",\"\",(+'Cons. Planning Worksheet'!Q97))","v":""},{"$f":"IF('Cons. Planning Worksheet'!R97=\"\",\"\",(+'Cons. Planning Worksheet'!R97))","v":""},{"$f":"IF('Cons. Planning Worksheet'!S102=\"\",\"\",(+'Cons. Planning Worksheet'!S102))","v":""},{"$f":"IF('Cons. Planning Worksheet'!T102=\"\",\"\",(+'Cons. Planning Worksheet'!T102))","v":""},{"$f":"IF('Cons. Planning Worksheet'!U102=\"\",\"\",(+'Cons. Planning Worksheet'!U102))","v":""}]
[null,{"$f":"IF('Cons. Planning Worksheet'!B103=\"\",\"\",(+'Cons. Planning Worksheet'!B103))","v":""},{"$f":"IF('Cons. Planning Worksheet'!C103=\"\",\"\",(+'Cons. Planning Worksheet'!C103))","v":""},null,null,null,null,{"$f":"IF('Cons. Planning Worksheet'!AX27=\"\",\"\",\"SARP-\"&LEFT('Cons. Planning Worksheet'!AX27,MIN(FIND(\" \",'Cons. Planning Worksheet'!AX27),5)))","v":""},{"$f":"IF('Cons. Planning Worksheet'!BQ27=\"\",\"\",\"PARP-\"&LEFT('Cons. Planning Worksheet'!BQ27,MIN(FIND(\" \",'Cons. Planning Worksheet'!BQ27),5)))","v":""},"Koc =",{"$f":"IF('Cons. Planning Worksheet'!BF27=\"\",\"\",('Cons. Planning Worksheet'!BF27))","v":""},{"$f":"IF('Cons. Planning Worksheet'!L98=\"\",\"\",(+'Cons. Planning Worksheet'!L98))","v":""},{"$f":"IF('Cons. Planning Worksheet'!M98=\"\",\"\",(+'Cons. Planning Worksheet'!M98))","v":""},{"$f":"IF('Cons. Planning Worksheet'!N98=\"\",\"\",(+'Cons. Planning Worksheet'!N98))","v":""},{"$f":"IF('Cons. Planning Worksheet'!O98=\"\",\"\",(+'Cons. Planning Worksheet'!O98))","v":""},{"$f":"IF('Cons. Planning Worksheet'!Q98=\"\",\"\",(+'Cons. Planning Worksheet'!Q98))","v":""},{"$f":"IF('Cons. Planning Worksheet'!R98=\"\",\"\",(+'Cons. Planning Worksheet'!R98))","v":""},{"$f":"IF('Cons. Planning Worksheet'!S103=\"\",\"\",(+'Cons. Planning Worksheet'!S103))","v":""},{"$f":"IF('Cons. Planning Worksheet'!T103=\"\",\"\",(+'Cons. Planning Worksheet'!T103))","v":""},{"$f":"IF('Cons. Planning Worksheet'!U103=\"\",\"\",(+'Cons. Planning Worksheet'!U103))","v":""}]
[null,{"$f":"IF('Cons. Planning Worksheet'!B104=\"\",\"\",(+'Cons. Planning Worksheet'!B104))","v":""},{"$f":"IF('Cons. Planning Worksheet'!C104=\"\",\"\",(+'Cons. Planning Worksheet'!C104))","v":""},null,null,null,null,null,null,"Half Life =",{"$f":"IF('Cons. Planning Worksheet'!BG27=\"\",\"\",('Cons. Planning Worksheet'!BG27))","v":""},{"$f":"IF('Cons. Planning Worksheet'!L99=\"\",\"\",(+'Cons. Planning Worksheet'!L99))","v":""},{"$f":"IF('Cons. Planning Worksheet'!M99=\"\",\"\",(+'Cons. Planning Worksheet'!M99))","v":""},{"$f":"IF('Cons. Planning Worksheet'!N99=\"\",\"\",(+'Cons. Planning Worksheet'!N99))","v":""},{"$f":"IF('Cons. Planning Worksheet'!O99=\"\",\"\",(+'Cons. Planning Worksheet'!O99))","v":""},{"$f":"IF('Cons. Planning Worksheet'!Q99=\"\",\"\",(+'Cons. Planning Worksheet'!Q99))","v":""},{"$f":"IF('Cons. Planning Worksheet'!R99=\"\",\"\",(+'Cons. Planning Worksheet'!R99))","v":""},{"$f":"IF('Cons. Planning Worksheet'!S104=\"\",\"\",(+'Cons. Planning Worksheet'!S104))","v":""},{"$f":"IF('Cons. Planning Worksheet'!T104=\"\",\"\",(+'Cons. Planning Worksheet'!T104))","v":""},{"$f":"IF('Cons. Planning Worksheet'!U104=\"\",\"\",(+'Cons. Planning Worksheet'!U104))","v":""}]
[18,{"$f":"IF('Cons. Planning Worksheet'!B106=\"\",\"\",(+'Cons. Planning Worksheet'!B106))","v":""},{"$f":"IF('Cons. Planning Worksheet'!C106=\"\",\"\",(+'Cons. Planning Worksheet'!C106))","v":""},{"$f":"IF('Cons. Planning Worksheet'!AS28=\"\",\"\", ('Cons. Planning Worksheet'!AS28))","v":""},{"$f":"IF('Cons. Planning Worksheet'!AT28=\"\",\"\", ('Cons. Planning Worksheet'!AT28))","v":""},{"$f":"IF('Cons. Planning Worksheet'!AU28=\"\",\"\", ('Cons. Planning Worksheet'!AU28))","v":""},{"$f":"IF('Cons. Planning Worksheet'!E106=\"\",\"\",(+'Cons. Planning Worksheet'!E106))","v":""},null,null,{"$f":"IF('Cons. Planning Worksheet'!F106=\"\",\"\",(+'Cons. Planning Worksheet'!F106))","v":""},null,{"$f":"IF('Cons. Planning Worksheet'!CQ28=\"\",\"\",('Cons. Planning Worksheet'!CQ28))","v":""},{"$f":"IF('Cons. Planning Worksheet'!H101=\"\",\"\",(+'Cons. Planning Worksheet'!H101))","v":""},{"$f":"IF('Cons. Planning Worksheet'!CR28=\"\",\"\",('Cons. Planning Worksheet'!CR28))","v":""},{"$f":"IF('Cons. Planning Worksheet'!J101=\"\",\"\",(+'Cons. Planning Worksheet'!J101))","v":""},{"$f":"IF('Cons. Planning Worksheet'!CP28=\"\",\"\",('Cons. Planning Worksheet'!CP28))","v":""},{"$f":"IF('Cons. Planning Worksheet'!L101=\"\",\"\",(+'Cons. Planning Worksheet'!L101))","v":""},{"$f":"IF('Cons. Planning Worksheet'!M106=\"\",\"\",(+'Cons. Planning Worksheet'!M106))","v":""},{"$f":"IF('Cons. Planning Worksheet'!N106=\"\",\"\",(+'Cons. Planning Worksheet'!N106))","v":""},{"$f":"IF('Cons. Planning Worksheet'!O106=\"\",\"\",(+'Cons. Planning Worksheet'!O106))","v":""}]
[null,{"$f":"IF('Cons. Planning Worksheet'!B106=\"\",\"\",(+'Cons. Planning Worksheet'!B106))","v":""},{"$f":"IF('Cons. Planning Worksheet'!C106=\"\",\"\",(+'Cons. Planning Worksheet'!C106))","v":""},null,null,null,null,{"$f":"IF('Cons. Planning Worksheet'!AV28=\"\",\"\",\"PLP-\"&LEFT('Cons. Planning Worksheet'!AV28,MIN(FIND(\" \",'Cons. Planning Worksheet'!AV28),5)))","v":""},{"$f":"IF('Cons. Planning Worksheet'!BO28=\"\",\"\",\"SLP-\"&LEFT('Cons. Planning Worksheet'!BO28,MIN(FIND(\" \",'Cons. Planning Worksheet'!BO28),5)))","v":""},null,null,{"$f":"IF('Cons. Planning Worksheet'!L101=\"\",\"\",(+'Cons. Planning Worksheet'!L101))","v":""},{"$f":"IF('Cons. Planning Worksheet'!M101=\"\",\"\",(+'Cons. Planning Worksheet'!M101))","v":""},{"$f":"IF('Cons. Planning Worksheet'!N101=\"\",\"\",(+'Cons. Planning Worksheet'!N101))","v":""},{"$f":"IF('Cons. Planning Worksheet'!O101=\"\",\"\",(+'Cons. Planning Worksheet'!O101))","v":""},{"$f":"IF('Cons. Planning Worksheet'!Q101=\"\",\"\",(+'Cons. Planning Worksheet'!Q101))","v":""},{"$f":"IF('Cons. Planning Worksheet'!R101=\"\",\"\",(+'Cons. Planning Worksheet'!R101))","v":""},{"$f":"IF('Cons. Planning Worksheet'!S106=\"\",\"\",(+'Cons. Planning Worksheet'!S106))","v":""},{"$f":"IF('Cons. Planning Worksheet'!T106=\"\",\"\",(+'Cons. Planning Worksheet'!T106))","v":""},{"$f":"IF('Cons. Planning Worksheet'!U106=\"\",\"\",(+'Cons. Planning Worksheet'!U106))","v":""}]
[null,{"$f":"IF('Cons. Planning Worksheet'!B107=\"\",\"\",(+'Cons. Planning Worksheet'!B107))","v":""},{"$f":"IF('Cons. Planning Worksheet'!C107=\"\",\"\",(+'Cons. Planning Worksheet'!C107))","v":""},null,null,null,null,{"$f":"IF('Cons. Planning Worksheet'!AW28=\"\",\"\",\"SSRP-\"&LEFT('Cons. Planning Worksheet'!AW28,MIN(FIND(\" \",'Cons. Planning Worksheet'!AW28),5)))","v":""},{"$f":"IF('Cons. Planning Worksheet'!BP28=\"\",\"\",\"PSRP-\"&LEFT('Cons. Planning Worksheet'!BP28,MIN(FIND(\" \",'Cons. Planning Worksheet'!BP28),5)))","v":""},"Solubility =",{"$f":"IF('Cons. Planning Worksheet'!BE28=\"\",\"\",('Cons. Planning Worksheet'!BE28))","v":""},{"$f":"IF('Cons. Planning Worksheet'!L102=\"\",\"\",(+'Cons. Planning Worksheet'!L102))","v":""},{"$f":"IF('Cons. Planning Worksheet'!M102=\"\",\"\",(+'Cons. Planning Worksheet'!M102))","v":""},{"$f":"IF('Cons. Planning Worksheet'!N102=\"\",\"\",(+'Cons. Planning Worksheet'!N102))","v":""},{"$f":"IF('Cons. Planning Worksheet'!O102=\"\",\"\",(+'Cons. Planning Worksheet'!O102))","v":""},{"$f":"IF('Cons. Planning Worksheet'!Q102=\"\",\"\",(+'Cons. Planning Worksheet'!Q102))","v":""},{"$f":"IF('Cons. Planning Worksheet'!R102=\"\",\"\",(+'Cons. Planning Worksheet'!R102))","v":""},{"$f":"IF('Cons. Planning Worksheet'!S107=\"\",\"\",(+'Cons. Planning Worksheet'!S107))","v":""},{"$f":"IF('Cons. Planning Worksheet'!T107=\"\",\"\",(+'Cons. Planning Worksheet'!T107))","v":""},{"$f":"IF('Cons. Planning Worksheet'!U107=\"\",\"\",(+'Cons. Planning Worksheet'!U107))","v":""}]
[null,{"$f":"IF('Cons. Planning Worksheet'!B108=\"\",\"\",(+'Cons. Planning Worksheet'!B108))","v":""},{"$f":"IF('Cons. Planning Worksheet'!C108=\"\",\"\",(+'Cons. Planning Worksheet'!C108))","v":""},null,null,null,null,{"$f":"IF('Cons. Planning Worksheet'!AX28=\"\",\"\",\"SARP-\"&LEFT('Cons. Planning Worksheet'!AX28,MIN(FIND(\" \",'Cons. Planning Worksheet'!AX28),5)))","v":""},{"$f":"IF('Cons. Planning Worksheet'!BQ28=\"\",\"\",\"PARP-\"&LEFT('Cons. Planning Worksheet'!BQ28,MIN(FIND(\" \",'Cons. Planning Worksheet'!BQ28),5)))","v":""},"Koc =",{"$f":"IF('Cons. Planning Worksheet'!BF28=\"\",\"\",('Cons. Planning Worksheet'!BF28))","v":""},{"$f":"IF('Cons. Planning Worksheet'!L103=\"\",\"\",(+'Cons. Planning Worksheet'!L103))","v":""},{"$f":"IF('Cons. Planning Worksheet'!M103=\"\",\"\",(+'Cons. Planning Worksheet'!M103))","v":""},{"$f":"IF('Cons. Planning Worksheet'!N103=\"\",\"\",(+'Cons. Planning Worksheet'!N103))","v":""},{"$f":"IF('Cons. Planning Worksheet'!O103=\"\",\"\",(+'Cons. Planning Worksheet'!O103))","v":""},{"$f":"IF('Cons. Planning Worksheet'!Q103=\"\",\"\",(+'Cons. Planning Worksheet'!Q103))","v":""},{"$f":"IF('Cons. Planning Worksheet'!R103=\"\",\"\",(+'Cons. Planning Worksheet'!R103))","v":""},{"$f":"IF('Cons. Planning Worksheet'!S108=\"\",\"\",(+'Cons. Planning Worksheet'!S108))","v":""},{"$f":"IF('Cons. Planning Worksheet'!T108=\"\",\"\",(+'Cons. Planning Worksheet'!T108))","v":""},{"$f":"IF('Cons. Planning Worksheet'!U108=\"\",\"\",(+'Cons. Planning Worksheet'!U108))","v":""}]
[null,{"$f":"IF('Cons. Planning Worksheet'!B109=\"\",\"\",(+'Cons. Planning Worksheet'!B109))","v":""},{"$f":"IF('Cons. Planning Worksheet'!C109=\"\",\"\",(+'Cons. Planning Worksheet'!C109))","v":""},null,null,null,null,null,null,"Half Life =",{"$f":"IF('Cons. Planning Worksheet'!BG28=\"\",\"\",('Cons. Planning Worksheet'!BG28))","v":""},{"$f":"IF('Cons. Planning Worksheet'!L104=\"\",\"\",(+'Cons. Planning Worksheet'!L104))","v":""},{"$f":"IF('Cons. Planning Worksheet'!M104=\"\",\"\",(+'Cons. Planning Worksheet'!M104))","v":""},{"$f":"IF('Cons. Planning Worksheet'!N104=\"\",\"\",(+'Cons. Planning Worksheet'!N104))","v":""},{"$f":"IF('Cons. Planning Worksheet'!O104=\"\",\"\",(+'Cons. Planning Worksheet'!O104))","v":""},{"$f":"IF('Cons. Planning Worksheet'!Q104=\"\",\"\",(+'Cons. Planning Worksheet'!Q104))","v":""},{"$f":"IF('Cons. Planning Worksheet'!R104=\"\",\"\",(+'Cons. Planning Worksheet'!R104))","v":""},{"$f":"IF('Cons. Planning Worksheet'!S109=\"\",\"\",(+'Cons. Planning Worksheet'!S109))","v":""},{"$f":"IF('Cons. Planning Worksheet'!T109=\"\",\"\",(+'Cons. Planning Worksheet'!T109))","v":""},{"$f":"IF('Cons. Planning Worksheet'!U109=\"\",\"\",(+'Cons. Planning Worksheet'!U109))","v":""}]
[19,{"$f":"IF('Cons. Planning Worksheet'!B111=\"\",\"\",(+'Cons. Planning Worksheet'!B111))","v":""},{"$f":"IF('Cons. Planning Worksheet'!C111=\"\",\"\",(+'Cons. Planning Worksheet'!C111))","v":""},{"$f":"IF('Cons. Planning Worksheet'!AS29=\"\",\"\", ('Cons. Planning Worksheet'!AS29))","v":""},{"$f":"IF('Cons. Planning Worksheet'!AT29=\"\",\"\", ('Cons. Planning Worksheet'!AT29))","v":""},{"$f":"IF('Cons. Planning Worksheet'!AU29=\"\",\"\", ('Cons. Planning Worksheet'!AU29))","v":""},{"$f":"IF('Cons. Planning Worksheet'!E111=\"\",\"\",(+'Cons. Planning Worksheet'!E111))","v":""},null,null,{"$f":"IF('Cons. Planning Worksheet'!F111=\"\",\"\",(+'Cons. Planning Worksheet'!F111))","v":""},null,{"$f":"IF('Cons. Planning Worksheet'!CQ29=\"\",\"\",('Cons. Planning Worksheet'!CQ29))","v":""},{"$f":"IF('Cons. Planning Worksheet'!H106=\"\",\"\",(+'Cons. Planning Worksheet'!H106))","v":""},{"$f":"IF('Cons. Planning Worksheet'!CR29=\"\",\"\",('Cons. Planning Worksheet'!CR29))","v":""},{"$f":"IF('Cons. Planning Worksheet'!J106=\"\",\"\",(+'Cons. Planning Worksheet'!J106))","v":""},{"$f":"IF('Cons. Planning Worksheet'!CP29=\"\",\"\",('Cons. Planning Worksheet'!CP29))","v":""},{"$f":"IF('Cons. Planning Worksheet'!L106=\"\",\"\",(+'Cons. Planning Worksheet'!L106))","v":""},{"$f":"IF('Cons. Planning Worksheet'!M111=\"\",\"\",(+'Cons. Planning Worksheet'!M111))","v":""},{"$f":"IF('Cons. Planning Worksheet'!N111=\"\",\"\",(+'Cons. Planning Worksheet'!N111))","v":""},{"$f":"IF('Cons. Planning Worksheet'!O111=\"\",\"\",(+'Cons. Planning Worksheet'!O111))","v":""}]
[null,{"$f":"IF('Cons. Planning Worksheet'!B111=\"\",\"\",(+'Cons. Planning Worksheet'!B111))","v":""},{"$f":"IF('Cons. Planning Worksheet'!C111=\"\",\"\",(+'Cons. Planning Worksheet'!C111))","v":""},null,null,null,null,{"$f":"IF('Cons. Planning Worksheet'!AV29=\"\",\"\",\"PLP-\"&LEFT('Cons. Planning Worksheet'!AV29,MIN(FIND(\" \",'Cons. Planning Worksheet'!AV29),5)))","v":""},{"$f":"IF('Cons. Planning Worksheet'!BO29=\"\",\"\",\"SLP-\"&LEFT('Cons. Planning Worksheet'!BO29,MIN(FIND(\" \",'Cons. Planning Worksheet'!BO29),5)))","v":""},null,null,{"$f":"IF('Cons. Planning Worksheet'!L106=\"\",\"\",(+'Cons. Planning Worksheet'!L106))","v":""},{"$f":"IF('Cons. Planning Worksheet'!M106=\"\",\"\",(+'Cons. Planning Worksheet'!M106))","v":""},{"$f":"IF('Cons. Planning Worksheet'!N106=\"\",\"\",(+'Cons. Planning Worksheet'!N106))","v":""},{"$f":"IF('Cons. Planning Worksheet'!O106=\"\",\"\",(+'Cons. Planning Worksheet'!O106))","v":""},{"$f":"IF('Cons. Planning Worksheet'!Q106=\"\",\"\",(+'Cons. Planning Worksheet'!Q106))","v":""},{"$f":"IF('Cons. Planning Worksheet'!R106=\"\",\"\",(+'Cons. Planning Worksheet'!R106))","v":""},{"$f":"IF('Cons. Planning Worksheet'!S111=\"\",\"\",(+'Cons. Planning Worksheet'!S111))","v":""},{"$f":"IF('Cons. Planning Worksheet'!T111=\"\",\"\",(+'Cons. Planning Worksheet'!T111))","v":""},{"$f":"IF('Cons. Planning Worksheet'!U111=\"\",\"\",(+'Cons. Planning Worksheet'!U111))","v":""}]
[null,{"$f":"IF('Cons. Planning Worksheet'!B112=\"\",\"\",(+'Cons. Planning Worksheet'!B112))","v":""},{"$f":"IF('Cons. Planning Worksheet'!C112=\"\",\"\",(+'Cons. Planning Worksheet'!C112))","v":""},null,null,null,null,{"$f":"IF('Cons. Planning Worksheet'!AW29=\"\",\"\",\"SSRP-\"&LEFT('Cons. Planning Worksheet'!AW29,MIN(FIND(\" \",'Cons. Planning Worksheet'!AW29),5)))","v":""},{"$f":"IF('Cons. Planning Worksheet'!BP29=\"\",\"\",\"PSRP-\"&LEFT('Cons. Planning Worksheet'!BP29,MIN(FIND(\" \",'Cons. Planning Worksheet'!BP29),5)))","v":""},"Solubility =",{"$f":"IF('Cons. Planning Worksheet'!BE29=\"\",\"\",('Cons. Planning Worksheet'!BE29))","v":""},{"$f":"IF('Cons. Planning Worksheet'!L107=\"\",\"\",(+'Cons. Planning Worksheet'!L107))","v":""},{"$f":"IF('Cons. Planning Worksheet'!M107=\"\",\"\",(+'Cons. Planning Worksheet'!M107))","v":""},{"$f":"IF('Cons. Planning Worksheet'!N107=\"\",\"\",(+'Cons. Planning Worksheet'!N107))","v":""},{"$f":"IF('Cons. Planning Worksheet'!O107=\"\",\"\",(+'Cons. Planning Worksheet'!O107))","v":""},{"$f":"IF('Cons. Planning Worksheet'!Q107=\"\",\"\",(+'Cons. Planning Worksheet'!Q107))","v":""},{"$f":"IF('Cons. Planning Worksheet'!R107=\"\",\"\",(+'Cons. Planning Worksheet'!R107))","v":""},{"$f":"IF('Cons. Planning Worksheet'!S112=\"\",\"\",(+'Cons. Planning Worksheet'!S112))","v":""},{"$f":"IF('Cons. Planning Worksheet'!T112=\"\",\"\",(+'Cons. Planning Worksheet'!T112))","v":""},{"$f":"IF('Cons. Planning Worksheet'!U112=\"\",\"\",(+'Cons. Planning Worksheet'!U112))","v":""}]
[null,{"$f":"IF('Cons. Planning Worksheet'!B113=\"\",\"\",(+'Cons. Planning Worksheet'!B113))","v":""},{"$f":"IF('Cons. Planning Worksheet'!C113=\"\",\"\",(+'Cons. Planning Worksheet'!C113))","v":""},null,null,null,null,{"$f":"IF('Cons. Planning Worksheet'!AX29=\"\",\"\",\"SARP-\"&LEFT('Cons. Planning Worksheet'!AX29,MIN(FIND(\" \",'Cons. Planning Worksheet'!AX29),5)))","v":""},{"$f":"IF('Cons. Planning Worksheet'!BQ29=\"\",\"\",\"PARP-\"&LEFT('Cons. Planning Worksheet'!BQ29,MIN(FIND(\" \",'Cons. Planning Worksheet'!BQ29),5)))","v":""},"Koc =",{"$f":"IF('Cons. Planning Worksheet'!BF29=\"\",\"\",('Cons. Planning Worksheet'!BF29))","v":""},{"$f":"IF('Cons. Planning Worksheet'!L108=\"\",\"\",(+'Cons. Planning Worksheet'!L108))","v":""},{"$f":"IF('Cons. Planning Worksheet'!M108=\"\",\"\",(+'Cons. Planning Worksheet'!M108))","v":""},{"$f":"IF('Cons. Planning Worksheet'!N108=\"\",\"\",(+'Cons. Planning Worksheet'!N108))","v":""},{"$f":"IF('Cons. Planning Worksheet'!O108=\"\",\"\",(+'Cons. Planning Worksheet'!O108))","v":""},{"$f":"IF('Cons. Planning Worksheet'!Q108=\"\",\"\",(+'Cons. Planning Worksheet'!Q108))","v":""},{"$f":"IF('Cons. Planning Worksheet'!R108=\"\",\"\",(+'Cons. Planning Worksheet'!R108))","v":""},{"$f":"IF('Cons. Planning Worksheet'!S113=\"\",\"\",(+'Cons. Planning Worksheet'!S113))","v":""},{"$f":"IF('Cons. Planning Worksheet'!T113=\"\",\"\",(+'Cons. Planning Worksheet'!T113))","v":""},{"$f":"IF('Cons. Planning Worksheet'!U113=\"\",\"\",(+'Cons. Planning Worksheet'!U113))","v":""}]
[null,{"$f":"IF('Cons. Planning Worksheet'!B114=\"\",\"\",(+'Cons. Planning Worksheet'!B114))","v":""},{"$f":"IF('Cons. Planning Worksheet'!C114=\"\",\"\",(+'Cons. Planning Worksheet'!C114))","v":""},null,null,null,null,null,null,"Half Life =",{"$f":"IF('Cons. Planning Worksheet'!BG29=\"\",\"\",('Cons. Planning Worksheet'!BG29))","v":""},{"$f":"IF('Cons. Planning Worksheet'!L109=\"\",\"\",(+'Cons. Planning Worksheet'!L109))","v":""},{"$f":"IF('Cons. Planning Worksheet'!M109=\"\",\"\",(+'Cons. Planning Worksheet'!M109))","v":""},{"$f":"IF('Cons. Planning Worksheet'!N109=\"\",\"\",(+'Cons. Planning Worksheet'!N109))","v":""},{"$f":"IF('Cons. Planning Worksheet'!O109=\"\",\"\",(+'Cons. Planning Worksheet'!O109))","v":""},{"$f":"IF('Cons. Planning Worksheet'!Q109=\"\",\"\",(+'Cons. Planning Worksheet'!Q109))","v":""},{"$f":"IF('Cons. Planning Worksheet'!R109=\"\",\"\",(+'Cons. Planning Worksheet'!R109))","v":""},{"$f":"IF('Cons. Planning Worksheet'!S114=\"\",\"\",(+'Cons. Planning Worksheet'!S114))","v":""},{"$f":"IF('Cons. Planning Worksheet'!T114=\"\",\"\",(+'Cons. Planning Worksheet'!T114))","v":""},{"$f":"IF('Cons. Planning Worksheet'!U114=\"\",\"\",(+'Cons. Planning Worksheet'!U114))","v":""}]
[20,{"$f":"IF('Cons. Planning Worksheet'!B116=\"\",\"\",(+'Cons. Planning Worksheet'!B116))","v":""},{"$f":"IF('Cons. Planning Worksheet'!C116=\"\",\"\",(+'Cons. Planning Worksheet'!C116))","v":""},{"$f":"IF('Cons. Planning Worksheet'!AS30=\"\",\"\", ('Cons. Planning Worksheet'!AS30))","v":""},{"$f":"IF('Cons. Planning Worksheet'!AT30=\"\",\"\", ('Cons. Planning Worksheet'!AT30))","v":""},{"$f":"IF('Cons. Planning Worksheet'!AU30=\"\",\"\", ('Cons. Planning Worksheet'!AU30))","v":""},{"$f":"IF('Cons. Planning Worksheet'!E116=\"\",\"\",(+'Cons. Planning Worksheet'!E116))","v":""},null,null,{"$f":"IF('Cons. Planning Worksheet'!F116=\"\",\"\",(+'Cons. Planning Worksheet'!F116))","v":""},null,{"$f":"IF('Cons. Planning Worksheet'!CQ30=\"\",\"\",('Cons. Planning Worksheet'!CQ30))","v":""},{"$f":"IF('Cons. Planning Worksheet'!H111=\"\",\"\",(+'Cons. Planning Worksheet'!H111))","v":""},{"$f":"IF('Cons. Planning Worksheet'!CR30=\"\",\"\",('Cons. Planning Worksheet'!CR30))","v":""},{"$f":"IF('Cons. Planning Worksheet'!J111=\"\",\"\",(+'Cons. Planning Worksheet'!J111))","v":""},{"$f":"IF('Cons. Planning Worksheet'!CP30=\"\",\"\",('Cons. Planning Worksheet'!CP30))","v":""},{"$f":"IF('Cons. Planning Worksheet'!L111=\"\",\"\",(+'Cons. Planning Worksheet'!L111))","v":""},{"$f":"IF('Cons. Planning Worksheet'!M116=\"\",\"\",(+'Cons. Planning Worksheet'!M116))","v":""},{"$f":"IF('Cons. Planning Worksheet'!N116=\"\",\"\",(+'Cons. Planning Worksheet'!N116))","v":""},{"$f":"IF('Cons. Planning Worksheet'!O116=\"\",\"\",(+'Cons. Planning Worksheet'!O116))","v":""}]
[null,{"$f":"IF('Cons. Planning Worksheet'!B116=\"\",\"\",(+'Cons. Planning Worksheet'!B116))","v":""},{"$f":"IF('Cons. Planning Worksheet'!C116=\"\",\"\",(+'Cons. Planning Worksheet'!C116))","v":""},null,null,null,null,{"$f":"IF('Cons. Planning Worksheet'!AV30=\"\",\"\",\"PLP-\"&LEFT('Cons. Planning Worksheet'!AV30,MIN(FIND(\" \",'Cons. Planning Worksheet'!AV30),5)))","v":""},{"$f":"IF('Cons. Planning Worksheet'!BO30=\"\",\"\",\"SLP-\"&LEFT('Cons. Planning Worksheet'!BO30,MIN(FIND(\" \",'Cons. Planning Worksheet'!BO30),5)))","v":""},null,null,{"$f":"IF('Cons. Planning Worksheet'!L111=\"\",\"\",(+'Cons. Planning Worksheet'!L111))","v":""},{"$f":"IF('Cons. Planning Worksheet'!M111=\"\",\"\",(+'Cons. Planning Worksheet'!M111))","v":""},{"$f":"IF('Cons. Planning Worksheet'!N111=\"\",\"\",(+'Cons. Planning Worksheet'!N111))","v":""},{"$f":"IF('Cons. Planning Worksheet'!O111=\"\",\"\",(+'Cons. Planning Worksheet'!O111))","v":""},{"$f":"IF('Cons. Planning Worksheet'!Q111=\"\",\"\",(+'Cons. Planning Worksheet'!Q111))","v":""},{"$f":"IF('Cons. Planning Worksheet'!R111=\"\",\"\",(+'Cons. Planning Worksheet'!R111))","v":""},{"$f":"IF('Cons. Planning Worksheet'!S116=\"\",\"\",(+'Cons. Planning Worksheet'!S116))","v":""},{"$f":"IF('Cons. Planning Worksheet'!T116=\"\",\"\",(+'Cons. Planning Worksheet'!T116))","v":""},{"$f":"IF('Cons. Planning Worksheet'!U116=\"\",\"\",(+'Cons. Planning Worksheet'!U116))","v":""}]
[null,{"$f":"IF('Cons. Planning Worksheet'!B117=\"\",\"\",(+'Cons. Planning Worksheet'!B117))","v":""},{"$f":"IF('Cons. Planning Worksheet'!C117=\"\",\"\",(+'Cons. Planning Worksheet'!C117))","v":""},null,null,null,null,{"$f":"IF('Cons. Planning Worksheet'!AW30=\"\",\"\",\"SSRP-\"&LEFT('Cons. Planning Worksheet'!AW30,MIN(FIND(\" \",'Cons. Planning Worksheet'!AW30),5)))","v":""},{"$f":"IF('Cons. Planning Worksheet'!BP30=\"\",\"\",\"PSRP-\"&LEFT('Cons. Planning Worksheet'!BP30,MIN(FIND(\" \",'Cons. Planning Worksheet'!BP30),5)))","v":""},"Solubility =",{"$f":"IF('Cons. Planning Worksheet'!BE30=\"\",\"\",('Cons. Planning Worksheet'!BE30))","v":""},{"$f":"IF('Cons. Planning Worksheet'!L112=\"\",\"\",(+'Cons. Planning Worksheet'!L112))","v":""},{"$f":"IF('Cons. Planning Worksheet'!M112=\"\",\"\",(+'Cons. Planning Worksheet'!M112))","v":""},{"$f":"IF('Cons. Planning Worksheet'!N112=\"\",\"\",(+'Cons. Planning Worksheet'!N112))","v":""},{"$f":"IF('Cons. Planning Worksheet'!O112=\"\",\"\",(+'Cons. Planning Worksheet'!O112))","v":""},{"$f":"IF('Cons. Planning Worksheet'!Q112=\"\",\"\",(+'Cons. Planning Worksheet'!Q112))","v":""},{"$f":"IF('Cons. Planning Worksheet'!R112=\"\",\"\",(+'Cons. Planning Worksheet'!R112))","v":""},{"$f":"IF('Cons. Planning Worksheet'!S117=\"\",\"\",(+'Cons. Planning Worksheet'!S117))","v":""},{"$f":"IF('Cons. Planning Worksheet'!T117=\"\",\"\",(+'Cons. Planning Worksheet'!T117))","v":""},{"$f":"IF('Cons. Planning Worksheet'!U117=\"\",\"\",(+'Cons. Planning Worksheet'!U117))","v":""}]
[null,{"$f":"IF('Cons. Planning Worksheet'!B118=\"\",\"\",(+'Cons. Planning Worksheet'!B118))","v":""},{"$f":"IF('Cons. Planning Worksheet'!C118=\"\",\"\",(+'Cons. Planning Worksheet'!C118))","v":""},null,null,null,null,{"$f":"IF('Cons. Planning Worksheet'!AX30=\"\",\"\",\"SARP-\"&LEFT('Cons. Planning Worksheet'!AX30,MIN(FIND(\" \",'Cons. Planning Worksheet'!AX30),5)))","v":""},{"$f":"IF('Cons. Planning Worksheet'!BQ30=\"\",\"\",\"PARP-\"&LEFT('Cons. Planning Worksheet'!BQ30,MIN(FIND(\" \",'Cons. Planning Worksheet'!BQ30),5)))","v":""},"Koc =",{"$f":"IF('Cons. Planning Worksheet'!BF30=\"\",\"\",('Cons. Planning Worksheet'!BF30))","v":""},{"$f":"IF('Cons. Planning Worksheet'!L113=\"\",\"\",(+'Cons. Planning Worksheet'!L113))","v":""},{"$f":"IF('Cons. Planning Worksheet'!M113=\"\",\"\",(+'Cons. Planning Worksheet'!M113))","v":""},{"$f":"IF('Cons. Planning Worksheet'!N113=\"\",\"\",(+'Cons. Planning Worksheet'!N113))","v":""},{"$f":"IF('Cons. Planning Worksheet'!O113=\"\",\"\",(+'Cons. Planning Worksheet'!O113))","v":""},{"$f":"IF('Cons. Planning Worksheet'!Q113=\"\",\"\",(+'Cons. Planning Worksheet'!Q113))","v":""},{"$f":"IF('Cons. Planning Worksheet'!R113=\"\",\"\",(+'Cons. Planning Worksheet'!R113))","v":""},{"$f":"IF('Cons. Planning Worksheet'!S118=\"\",\"\",(+'Cons. Planning Worksheet'!S118))","v":""},{"$f":"IF('Cons. Planning Worksheet'!T118=\"\",\"\",(+'Cons. Planning Worksheet'!T118))","v":""},{"$f":"IF('Cons. Planning Worksheet'!U118=\"\",\"\",(+'Cons. Planning Worksheet'!U118))","v":""}]
[null,{"$f":"IF('Cons. Planning Worksheet'!B119=\"\",\"\",(+'Cons. Planning Worksheet'!B119))","v":""},{"$f":"IF('Cons. Planning Worksheet'!C119=\"\",\"\",(+'Cons. Planning Worksheet'!C119))","v":""},null,null,null,null,null,null,"Half Life =",{"$f":"IF('Cons. Planning Worksheet'!BG30=\"\",\"\",('Cons. Planning Worksheet'!BG30))","v":""},{"$f":"IF('Cons. Planning Worksheet'!L114=\"\",\"\",(+'Cons. Planning Worksheet'!L114))","v":""},{"$f":"IF('Cons. Planning Worksheet'!M114=\"\",\"\",(+'Cons. Planning Worksheet'!M114))","v":""},{"$f":"IF('Cons. Planning Worksheet'!N114=\"\",\"\",(+'Cons. Planning Worksheet'!N114))","v":""},{"$f":"IF('Cons. Planning Worksheet'!O114=\"\",\"\",(+'Cons. Planning Worksheet'!O114))","v":""},{"$f":"IF('Cons. Planning Worksheet'!Q114=\"\",\"\",(+'Cons. Planning Worksheet'!Q114))","v":""},{"$f":"IF('Cons. Planning Worksheet'!R114=\"\",\"\",(+'Cons. Planning Worksheet'!R114))","v":""},{"$f":"IF('Cons. Planning Worksheet'!S119=\"\",\"\",(+'Cons. Planning Worksheet'!S119))","v":""},{"$f":"IF('Cons. Planning Worksheet'!T119=\"\",\"\",(+'Cons. Planning Worksheet'!T119))","v":""},{"$f":"IF('Cons. Planning Worksheet'!U119=\"\",\"\",(+'Cons. Planning Worksheet'!U119))","v":""}]
[21,{"$f":"IF('Cons. Planning Worksheet'!B121=\"\",\"\",(+'Cons. Planning Worksheet'!B121))","v":""},{"$f":"IF('Cons. Planning Worksheet'!C121=\"\",\"\",(+'Cons. Planning Worksheet'!C121))","v":""},{"$f":"IF('Cons. Planning Worksheet'!AS31=\"\",\"\", ('Cons. Planning Worksheet'!AS31))","v":""},{"$f":"IF('Cons. Planning Worksheet'!AT31=\"\",\"\", ('Cons. Planning Worksheet'!AT31))","v":""},{"$f":"IF('Cons. Planning Worksheet'!AU31=\"\",\"\", ('Cons. Planning Worksheet'!AU31))","v":""},{"$f":"IF('Cons. Planning Worksheet'!E121=\"\",\"\",(+'Cons. Planning Worksheet'!E121))","v":""},null,null,{"$f":"IF('Cons. Planning Worksheet'!F121=\"\",\"\",(+'Cons. Planning Worksheet'!F121))","v":""},null,{"$f":"IF('Cons. Planning Worksheet'!CQ31=\"\",\"\",('Cons. Planning Worksheet'!CQ31))","v":""},{"$f":"IF('Cons. Planning Worksheet'!H116=\"\",\"\",(+'Cons. Planning Worksheet'!H116))","v":""},{"$f":"IF('Cons. Planning Worksheet'!CR31=\"\",\"\",('Cons. Planning Worksheet'!CR31))","v":""},{"$f":"IF('Cons. Planning Worksheet'!J116=\"\",\"\",(+'Cons. Planning Worksheet'!J116))","v":""},{"$f":"IF('Cons. Planning Worksheet'!CP31=\"\",\"\",('Cons. Planning Worksheet'!CP31))","v":""},{"$f":"IF('Cons. Planning Worksheet'!L116=\"\",\"\",(+'Cons. Planning Worksheet'!L116))","v":""},{"$f":"IF('Cons. Planning Worksheet'!M121=\"\",\"\",(+'Cons. Planning Worksheet'!M121))","v":""},{"$f":"IF('Cons. Planning Worksheet'!N121=\"\",\"\",(+'Cons. Planning Worksheet'!N121))","v":""},{"$f":"IF('Cons. Planning Worksheet'!O121=\"\",\"\",(+'Cons. Planning Worksheet'!O121))","v":""}]
[null,{"$f":"IF('Cons. Planning Worksheet'!B121=\"\",\"\",(+'Cons. Planning Worksheet'!B121))","v":""},{"$f":"IF('Cons. Planning Worksheet'!C121=\"\",\"\",(+'Cons. Planning Worksheet'!C121))","v":""},null,null,null,null,{"$f":"IF('Cons. Planning Worksheet'!AV31=\"\",\"\",\"PLP-\"&LEFT('Cons. Planning Worksheet'!AV31,MIN(FIND(\" \",'Cons. Planning Worksheet'!AV31),5)))","v":""},{"$f":"IF('Cons. Planning Worksheet'!BO31=\"\",\"\",\"SLP-\"&LEFT('Cons. Planning Worksheet'!BO31,MIN(FIND(\" \",'Cons. Planning Worksheet'!BO31),5)))","v":""},null,null,{"$f":"IF('Cons. Planning Worksheet'!L116=\"\",\"\",(+'Cons. Planning Worksheet'!L116))","v":""},{"$f":"IF('Cons. Planning Worksheet'!M116=\"\",\"\",(+'Cons. Planning Worksheet'!M116))","v":""},{"$f":"IF('Cons. Planning Worksheet'!N116=\"\",\"\",(+'Cons. Planning Worksheet'!N116))","v":""},{"$f":"IF('Cons. Planning Worksheet'!O116=\"\",\"\",(+'Cons. Planning Worksheet'!O116))","v":""},{"$f":"IF('Cons. Planning Worksheet'!Q116=\"\",\"\",(+'Cons. Planning Worksheet'!Q116))","v":""},{"$f":"IF('Cons. Planning Worksheet'!R116=\"\",\"\",(+'Cons. Planning Worksheet'!R116))","v":""},{"$f":"IF('Cons. Planning Worksheet'!S121=\"\",\"\",(+'Cons. Planning Worksheet'!S121))","v":""},{"$f":"IF('Cons. Planning Worksheet'!T121=\"\",\"\",(+'Cons. Planning Worksheet'!T121))","v":""},{"$f":"IF('Cons. Planning Worksheet'!U121=\"\",\"\",(+'Cons. Planning Worksheet'!U121))","v":""}]
[null,{"$f":"IF('Cons. Planning Worksheet'!B122=\"\",\"\",(+'Cons. Planning Worksheet'!B122))","v":""},{"$f":"IF('Cons. Planning Worksheet'!C122=\"\",\"\",(+'Cons. Planning Worksheet'!C122))","v":""},null,null,null,null,{"$f":"IF('Cons. Planning Worksheet'!AW31=\"\",\"\",\"SSRP-\"&LEFT('Cons. Planning Worksheet'!AW31,MIN(FIND(\" \",'Cons. Planning Worksheet'!AW31),5)))","v":""},{"$f":"IF('Cons. Planning Worksheet'!BP31=\"\",\"\",\"PSRP-\"&LEFT('Cons. Planning Worksheet'!BP31,MIN(FIND(\" \",'Cons. Planning Worksheet'!BP31),5)))","v":""},"Solubility =",{"$f":"IF('Cons. Planning Worksheet'!BE31=\"\",\"\",('Cons. Planning Worksheet'!BE31))","v":""},{"$f":"IF('Cons. Planning Worksheet'!L117=\"\",\"\",(+'Cons. Planning Worksheet'!L117))","v":""},{"$f":"IF('Cons. Planning Worksheet'!M117=\"\",\"\",(+'Cons. Planning Worksheet'!M117))","v":""},{"$f":"IF('Cons. Planning Worksheet'!N117=\"\",\"\",(+'Cons. Planning Worksheet'!N117))","v":""},{"$f":"IF('Cons. Planning Worksheet'!O117=\"\",\"\",(+'Cons. Planning Worksheet'!O117))","v":""},{"$f":"IF('Cons. Planning Worksheet'!Q117=\"\",\"\",(+'Cons. Planning Worksheet'!Q117))","v":""},{"$f":"IF('Cons. Planning Worksheet'!R117=\"\",\"\",(+'Cons. Planning Worksheet'!R117))","v":""},{"$f":"IF('Cons. Planning Worksheet'!S122=\"\",\"\",(+'Cons. Planning Worksheet'!S122))","v":""},{"$f":"IF('Cons. Planning Worksheet'!T122=\"\",\"\",(+'Cons. Planning Worksheet'!T122))","v":""},{"$f":"IF('Cons. Planning Worksheet'!U122=\"\",\"\",(+'Cons. Planning Worksheet'!U122))","v":""}]
[null,{"$f":"IF('Cons. Planning Worksheet'!B123=\"\",\"\",(+'Cons. Planning Worksheet'!B123))","v":""},{"$f":"IF('Cons. Planning Worksheet'!C123=\"\",\"\",(+'Cons. Planning Worksheet'!C123))","v":""},null,null,null,null,{"$f":"IF('Cons. Planning Worksheet'!AX31=\"\",\"\",\"SARP-\"&LEFT('Cons. Planning Worksheet'!AX31,MIN(FIND(\" \",'Cons. Planning Worksheet'!AX31),5)))","v":""},{"$f":"IF('Cons. Planning Worksheet'!BQ31=\"\",\"\",\"PARP-\"&LEFT('Cons. Planning Worksheet'!BQ31,MIN(FIND(\" \",'Cons. Planning Worksheet'!BQ31),5)))","v":""},"Koc =",{"$f":"IF('Cons. Planning Worksheet'!BF31=\"\",\"\",('Cons. Planning Worksheet'!BF31))","v":""},{"$f":"IF('Cons. Planning Worksheet'!L118=\"\",\"\",(+'Cons. Planning Worksheet'!L118))","v":""},{"$f":"IF('Cons. Planning Worksheet'!M118=\"\",\"\",(+'Cons. Planning Worksheet'!M118))","v":""},{"$f":"IF('Cons. Planning Worksheet'!N118=\"\",\"\",(+'Cons. Planning Worksheet'!N118))","v":""},{"$f":"IF('Cons. Planning Worksheet'!O118=\"\",\"\",(+'Cons. Planning Worksheet'!O118))","v":""},{"$f":"IF('Cons. Planning Worksheet'!Q118=\"\",\"\",(+'Cons. Planning Worksheet'!Q118))","v":""},{"$f":"IF('Cons. Planning Worksheet'!R118=\"\",\"\",(+'Cons. Planning Worksheet'!R118))","v":""},{"$f":"IF('Cons. Planning Worksheet'!S123=\"\",\"\",(+'Cons. Planning Worksheet'!S123))","v":""},{"$f":"IF('Cons. Planning Worksheet'!T123=\"\",\"\",(+'Cons. Planning Worksheet'!T123))","v":""},{"$f":"IF('Cons. Planning Worksheet'!U123=\"\",\"\",(+'Cons. Planning Worksheet'!U123))","v":""}]
[null,{"$f":"IF('Cons. Planning Worksheet'!B124=\"\",\"\",(+'Cons. Planning Worksheet'!B124))","v":""},{"$f":"IF('Cons. Planning Worksheet'!C124=\"\",\"\",(+'Cons. Planning Worksheet'!C124))","v":""},null,null,null,null,null,null,"Half Life =",{"$f":"IF('Cons. Planning Worksheet'!BG31=\"\",\"\",('Cons. Planning Worksheet'!BG31))","v":""},{"$f":"IF('Cons. Planning Worksheet'!L119=\"\",\"\",(+'Cons. Planning Worksheet'!L119))","v":""},{"$f":"IF('Cons. Planning Worksheet'!M119=\"\",\"\",(+'Cons. Planning Worksheet'!M119))","v":""},{"$f":"IF('Cons. Planning Worksheet'!N119=\"\",\"\",(+'Cons. Planning Worksheet'!N119))","v":""},{"$f":"IF('Cons. Planning Worksheet'!O119=\"\",\"\",(+'Cons. Planning Worksheet'!O119))","v":""},{"$f":"IF('Cons. Planning Worksheet'!Q119=\"\",\"\",(+'Cons. Planning Worksheet'!Q119))","v":""},{"$f":"IF('Cons. Planning Worksheet'!R119=\"\",\"\",(+'Cons. Planning Worksheet'!R119))","v":""},{"$f":"IF('Cons. Planning Worksheet'!S124=\"\",\"\",(+'Cons. Planning Worksheet'!S124))","v":""},{"$f":"IF('Cons. Planning Worksheet'!T124=\"\",\"\",(+'Cons. Planning Worksheet'!T124))","v":""},{"$f":"IF('Cons. Planning Worksheet'!U124=\"\",\"\",(+'Cons. Planning Worksheet'!U124))","v":""}]
[22,{"$f":"IF('Cons. Planning Worksheet'!B126=\"\",\"\",(+'Cons. Planning Worksheet'!B126))","v":""},{"$f":"IF('Cons. Planning Worksheet'!C126=\"\",\"\",(+'Cons. Planning Worksheet'!C126))","v":""},{"$f":"IF('Cons. Planning Worksheet'!AS32=\"\",\"\", ('Cons. Planning Worksheet'!AS32))","v":""},{"$f":"IF('Cons. Planning Worksheet'!AT32=\"\",\"\", ('Cons. Planning Worksheet'!AT32))","v":""},{"$f":"IF('Cons. Planning Worksheet'!AU32=\"\",\"\", ('Cons. Planning Worksheet'!AU32))","v":""},{"$f":"IF('Cons. Planning Worksheet'!E126=\"\",\"\",(+'Cons. Planning Worksheet'!E126))","v":""},null,null,{"$f":"IF('Cons. Planning Worksheet'!F126=\"\",\"\",(+'Cons. Planning Worksheet'!F126))","v":""},null,{"$f":"IF('Cons. Planning Worksheet'!CQ32=\"\",\"\",('Cons. Planning Worksheet'!CQ32))","v":""},{"$f":"IF('Cons. Planning Worksheet'!H121=\"\",\"\",(+'Cons. Planning Worksheet'!H121))","v":""},{"$f":"IF('Cons. Planning Worksheet'!CR32=\"\",\"\",('Cons. Planning Worksheet'!CR32))","v":""},{"$f":"IF('Cons. Planning Worksheet'!J121=\"\",\"\",(+'Cons. Planning Worksheet'!J121))","v":""},{"$f":"IF('Cons. Planning Worksheet'!CP32=\"\",\"\",('Cons. Planning Worksheet'!CP32))","v":""},{"$f":"IF('Cons. Planning Worksheet'!L121=\"\",\"\",(+'Cons. Planning Worksheet'!L121))","v":""},{"$f":"IF('Cons. Planning Worksheet'!M126=\"\",\"\",(+'Cons. Planning Worksheet'!M126))","v":""},{"$f":"IF('Cons. Planning Worksheet'!N126=\"\",\"\",(+'Cons. Planning Worksheet'!N126))","v":""},{"$f":"IF('Cons. Planning Worksheet'!O126=\"\",\"\",(+'Cons. Planning Worksheet'!O126))","v":""}]
[null,{"$f":"IF('Cons. Planning Worksheet'!B126=\"\",\"\",(+'Cons. Planning Worksheet'!B126))","v":""},{"$f":"IF('Cons. Planning Worksheet'!C126=\"\",\"\",(+'Cons. Planning Worksheet'!C126))","v":""},null,null,null,null,{"$f":"IF('Cons. Planning Worksheet'!AV32=\"\",\"\",\"PLP-\"&LEFT('Cons. Planning Worksheet'!AV32,MIN(FIND(\" \",'Cons. Planning Worksheet'!AV32),5)))","v":""},{"$f":"IF('Cons. Planning Worksheet'!BO32=\"\",\"\",\"SLP-\"&LEFT('Cons. Planning Worksheet'!BO32,MIN(FIND(\" \",'Cons. Planning Worksheet'!BO32),5)))","v":""},null,null,{"$f":"IF('Cons. Planning Worksheet'!L121=\"\",\"\",(+'Cons. Planning Worksheet'!L121))","v":""},{"$f":"IF('Cons. Planning Worksheet'!M121=\"\",\"\",(+'Cons. Planning Worksheet'!M121))","v":""},{"$f":"IF('Cons. Planning Worksheet'!N121=\"\",\"\",(+'Cons. Planning Worksheet'!N121))","v":""},{"$f":"IF('Cons. Planning Worksheet'!O121=\"\",\"\",(+'Cons. Planning Worksheet'!O121))","v":""},{"$f":"IF('Cons. Planning Worksheet'!Q121=\"\",\"\",(+'Cons. Planning Worksheet'!Q121))","v":""},{"$f":"IF('Cons. Planning Worksheet'!R121=\"\",\"\",(+'Cons. Planning Worksheet'!R121))","v":""},{"$f":"IF('Cons. Planning Worksheet'!S126=\"\",\"\",(+'Cons. Planning Worksheet'!S126))","v":""},{"$f":"IF('Cons. Planning Worksheet'!T126=\"\",\"\",(+'Cons. Planning Worksheet'!T126))","v":""},{"$f":"IF('Cons. Planning Worksheet'!U126=\"\",\"\",(+'Cons. Planning Worksheet'!U126))","v":""}]
[null,{"$f":"IF('Cons. Planning Worksheet'!B127=\"\",\"\",(+'Cons. Planning Worksheet'!B127))","v":""},{"$f":"IF('Cons. Planning Worksheet'!C127=\"\",\"\",(+'Cons. Planning Worksheet'!C127))","v":""},null,null,null,null,{"$f":"IF('Cons. Planning Worksheet'!AW32=\"\",\"\",\"SSRP-\"&LEFT('Cons. Planning Worksheet'!AW32,MIN(FIND(\" \",'Cons. Planning Worksheet'!AW32),5)))","v":""},{"$f":"IF('Cons. Planning Worksheet'!BP32=\"\",\"\",\"PSRP-\"&LEFT('Cons. Planning Worksheet'!BP32,MIN(FIND(\" \",'Cons. Planning Worksheet'!BP32),5)))","v":""},"Solubility =",{"$f":"IF('Cons. Planning Worksheet'!BE32=\"\",\"\",('Cons. Planning Worksheet'!BE32))","v":""},{"$f":"IF('Cons. Planning Worksheet'!L122=\"\",\"\",(+'Cons. Planning Worksheet'!L122))","v":""},{"$f":"IF('Cons. Planning Worksheet'!M122=\"\",\"\",(+'Cons. Planning Worksheet'!M122))","v":""},{"$f":"IF('Cons. Planning Worksheet'!N122=\"\",\"\",(+'Cons. Planning Worksheet'!N122))","v":""},{"$f":"IF('Cons. Planning Worksheet'!O122=\"\",\"\",(+'Cons. Planning Worksheet'!O122))","v":""},{"$f":"IF('Cons. Planning Worksheet'!Q122=\"\",\"\",(+'Cons. Planning Worksheet'!Q122))","v":""},{"$f":"IF('Cons. Planning Worksheet'!R122=\"\",\"\",(+'Cons. Planning Worksheet'!R122))","v":""},{"$f":"IF('Cons. Planning Worksheet'!S127=\"\",\"\",(+'Cons. Planning Worksheet'!S127))","v":""},{"$f":"IF('Cons. Planning Worksheet'!T127=\"\",\"\",(+'Cons. Planning Worksheet'!T127))","v":""},{"$f":"IF('Cons. Planning Worksheet'!U127=\"\",\"\",(+'Cons. Planning Worksheet'!U127))","v":""}]
[null,{"$f":"IF('Cons. Planning Worksheet'!B128=\"\",\"\",(+'Cons. Planning Worksheet'!B128))","v":""},{"$f":"IF('Cons. Planning Worksheet'!C128=\"\",\"\",(+'Cons. Planning Worksheet'!C128))","v":""},null,null,null,null,{"$f":"IF('Cons. Planning Worksheet'!AX32=\"\",\"\",\"SARP-\"&LEFT('Cons. Planning Worksheet'!AX32,MIN(FIND(\" \",'Cons. Planning Worksheet'!AX32),5)))","v":""},{"$f":"IF('Cons. Planning Worksheet'!BQ32=\"\",\"\",\"PARP-\"&LEFT('Cons. Planning Worksheet'!BQ32,MIN(FIND(\" \",'Cons. Planning Worksheet'!BQ32),5)))","v":""},"Koc =",{"$f":"IF('Cons. Planning Worksheet'!BF32=\"\",\"\",('Cons. Planning Worksheet'!BF32))","v":""},{"$f":"IF('Cons. Planning Worksheet'!L123=\"\",\"\",(+'Cons. Planning Worksheet'!L123))","v":""},{"$f":"IF('Cons. Planning Worksheet'!M123=\"\",\"\",(+'Cons. Planning Worksheet'!M123))","v":""},{"$f":"IF('Cons. Planning Worksheet'!N123=\"\",\"\",(+'Cons. Planning Worksheet'!N123))","v":""},{"$f":"IF('Cons. Planning Worksheet'!O123=\"\",\"\",(+'Cons. Planning Worksheet'!O123))","v":""},{"$f":"IF('Cons. Planning Worksheet'!Q123=\"\",\"\",(+'Cons. Planning Worksheet'!Q123))","v":""},{"$f":"IF('Cons. Planning Worksheet'!R123=\"\",\"\",(+'Cons. Planning Worksheet'!R123))","v":""},{"$f":"IF('Cons. Planning Worksheet'!S128=\"\",\"\",(+'Cons. Planning Worksheet'!S128))","v":""},{"$f":"IF('Cons. Planning Worksheet'!T128=\"\",\"\",(+'Cons. Planning Worksheet'!T128))","v":""},{"$f":"IF('Cons. Planning Worksheet'!U128=\"\",\"\",(+'Cons. Planning Worksheet'!U128))","v":""}]
[null,{"$f":"IF('Cons. Planning Worksheet'!B129=\"\",\"\",(+'Cons. Planning Worksheet'!B129))","v":""},{"$f":"IF('Cons. Planning Worksheet'!C129=\"\",\"\",(+'Cons. Planning Worksheet'!C129))","v":""},null,null,null,null,null,null,"Half Life =",{"$f":"IF('Cons. Planning Worksheet'!BG32=\"\",\"\",('Cons. Planning Worksheet'!BG32))","v":""},{"$f":"IF('Cons. Planning Worksheet'!L124=\"\",\"\",(+'Cons. Planning Worksheet'!L124))","v":""},{"$f":"IF('Cons. Planning Worksheet'!M124=\"\",\"\",(+'Cons. Planning Worksheet'!M124))","v":""},{"$f":"IF('Cons. Planning Worksheet'!N124=\"\",\"\",(+'Cons. Planning Worksheet'!N124))","v":""},{"$f":"IF('Cons. Planning Worksheet'!O124=\"\",\"\",(+'Cons. Planning Worksheet'!O124))","v":""},{"$f":"IF('Cons. Planning Worksheet'!Q124=\"\",\"\",(+'Cons. Planning Worksheet'!Q124))","v":""},{"$f":"IF('Cons. Planning Worksheet'!R124=\"\",\"\",(+'Cons. Planning Worksheet'!R124))","v":""},{"$f":"IF('Cons. Planning Worksheet'!S129=\"\",\"\",(+'Cons. Planning Worksheet'!S129))","v":""},{"$f":"IF('Cons. Planning Worksheet'!T129=\"\",\"\",(+'Cons. Planning Worksheet'!T129))","v":""},{"$f":"IF('Cons. Planning Worksheet'!U129=\"\",\"\",(+'Cons. Planning Worksheet'!U129))","v":""}]
[23,{"$f":"IF('Cons. Planning Worksheet'!B131=\"\",\"\",(+'Cons. Planning Worksheet'!B131))","v":""},{"$f":"IF('Cons. Planning Worksheet'!C131=\"\",\"\",(+'Cons. Planning Worksheet'!C131))","v":""},{"$f":"IF('Cons. Planning Worksheet'!AS33=\"\",\"\", ('Cons. Planning Worksheet'!AS33))","v":""},{"$f":"IF('Cons. Planning Worksheet'!AT33=\"\",\"\", ('Cons. Planning Worksheet'!AT33))","v":""},{"$f":"IF('Cons. Planning Worksheet'!AU33=\"\",\"\", ('Cons. Planning Worksheet'!AU33))","v":""},{"$f":"IF('Cons. Planning Worksheet'!E131=\"\",\"\",(+'Cons. Planning Worksheet'!E131))","v":""},null,null,{"$f":"IF('Cons. Planning Worksheet'!F131=\"\",\"\",(+'Cons. Planning Worksheet'!F131))","v":""},null,{"$f":"IF('Cons. Planning Worksheet'!CQ33=\"\",\"\",('Cons. Planning Worksheet'!CQ33))","v":""},{"$f":"IF('Cons. Planning Worksheet'!H126=\"\",\"\",(+'Cons. Planning Worksheet'!H126))","v":""},{"$f":"IF('Cons. Planning Worksheet'!CR33=\"\",\"\",('Cons. Planning Worksheet'!CR33))","v":""},{"$f":"IF('Cons. Planning Worksheet'!J126=\"\",\"\",(+'Cons. Planning Worksheet'!J126))","v":""},{"$f":"IF('Cons. Planning Worksheet'!CP33=\"\",\"\",('Cons. Planning Worksheet'!CP33))","v":""},{"$f":"IF('Cons. Planning Worksheet'!L126=\"\",\"\",(+'Cons. Planning Worksheet'!L126))","v":""},{"$f":"IF('Cons. Planning Worksheet'!M131=\"\",\"\",(+'Cons. Planning Worksheet'!M131))","v":""},{"$f":"IF('Cons. Planning Worksheet'!N131=\"\",\"\",(+'Cons. Planning Worksheet'!N131))","v":""},{"$f":"IF('Cons. Planning Worksheet'!O131=\"\",\"\",(+'Cons. Planning Worksheet'!O131))","v":""}]
[null,{"$f":"IF('Cons. Planning Worksheet'!B131=\"\",\"\",(+'Cons. Planning Worksheet'!B131))","v":""},{"$f":"IF('Cons. Planning Worksheet'!C131=\"\",\"\",(+'Cons. Planning Worksheet'!C131))","v":""},null,null,null,null,{"$f":"IF('Cons. Planning Worksheet'!AV33=\"\",\"\",\"PLP-\"&LEFT('Cons. Planning Worksheet'!AV33,MIN(FIND(\" \",'Cons. Planning Worksheet'!AV33),5)))","v":""},{"$f":"IF('Cons. Planning Worksheet'!BO33=\"\",\"\",\"SLP-\"&LEFT('Cons. Planning Worksheet'!BO33,MIN(FIND(\" \",'Cons. Planning Worksheet'!BO33),5)))","v":""},null,null,{"$f":"IF('Cons. Planning Worksheet'!L126=\"\",\"\",(+'Cons. Planning Worksheet'!L126))","v":""},{"$f":"IF('Cons. Planning Worksheet'!M126=\"\",\"\",(+'Cons. Planning Worksheet'!M126))","v":""},{"$f":"IF('Cons. Planning Worksheet'!N126=\"\",\"\",(+'Cons. Planning Worksheet'!N126))","v":""},{"$f":"IF('Cons. Planning Worksheet'!O126=\"\",\"\",(+'Cons. Planning Worksheet'!O126))","v":""},{"$f":"IF('Cons. Planning Worksheet'!Q126=\"\",\"\",(+'Cons. Planning Worksheet'!Q126))","v":""},{"$f":"IF('Cons. Planning Worksheet'!R126=\"\",\"\",(+'Cons. Planning Worksheet'!R126))","v":""},{"$f":"IF('Cons. Planning Worksheet'!S131=\"\",\"\",(+'Cons. Planning Worksheet'!S131))","v":""},{"$f":"IF('Cons. Planning Worksheet'!T131=\"\",\"\",(+'Cons. Planning Worksheet'!T131))","v":""},{"$f":"IF('Cons. Planning Worksheet'!U131=\"\",\"\",(+'Cons. Planning Worksheet'!U131))","v":""}]
[null,{"$f":"IF('Cons. Planning Worksheet'!B132=\"\",\"\",(+'Cons. Planning Worksheet'!B132))","v":""},{"$f":"IF('Cons. Planning Worksheet'!C132=\"\",\"\",(+'Cons. Planning Worksheet'!C132))","v":""},null,null,null,null,{"$f":"IF('Cons. Planning Worksheet'!AW33=\"\",\"\",\"SSRP-\"&LEFT('Cons. Planning Worksheet'!AW33,MIN(FIND(\" \",'Cons. Planning Worksheet'!AW33),5)))","v":""},{"$f":"IF('Cons. Planning Worksheet'!BP33=\"\",\"\",\"PSRP-\"&LEFT('Cons. Planning Worksheet'!BP33,MIN(FIND(\" \",'Cons. Planning Worksheet'!BP33),5)))","v":""},"Solubility =",{"$f":"IF('Cons. Planning Worksheet'!BE33=\"\",\"\",('Cons. Planning Worksheet'!BE33))","v":""},{"$f":"IF('Cons. Planning Worksheet'!L127=\"\",\"\",(+'Cons. Planning Worksheet'!L127))","v":""},{"$f":"IF('Cons. Planning Worksheet'!M127=\"\",\"\",(+'Cons. Planning Worksheet'!M127))","v":""},{"$f":"IF('Cons. Planning Worksheet'!N127=\"\",\"\",(+'Cons. Planning Worksheet'!N127))","v":""},{"$f":"IF('Cons. Planning Worksheet'!O127=\"\",\"\",(+'Cons. Planning Worksheet'!O127))","v":""},{"$f":"IF('Cons. Planning Worksheet'!Q127=\"\",\"\",(+'Cons. Planning Worksheet'!Q127))","v":""},{"$f":"IF('Cons. Planning Worksheet'!R127=\"\",\"\",(+'Cons. Planning Worksheet'!R127))","v":""},{"$f":"IF('Cons. Planning Worksheet'!S132=\"\",\"\",(+'Cons. Planning Worksheet'!S132))","v":""},{"$f":"IF('Cons. Planning Worksheet'!T132=\"\",\"\",(+'Cons. Planning Worksheet'!T132))","v":""},{"$f":"IF('Cons. Planning Worksheet'!U132=\"\",\"\",(+'Cons. Planning Worksheet'!U132))","v":""}]
[null,{"$f":"IF('Cons. Planning Worksheet'!B133=\"\",\"\",(+'Cons. Planning Worksheet'!B133))","v":""},{"$f":"IF('Cons. Planning Worksheet'!C133=\"\",\"\",(+'Cons. Planning Worksheet'!C133))","v":""},null,null,null,null,{"$f":"IF('Cons. Planning Worksheet'!AX33=\"\",\"\",\"SARP-\"&LEFT('Cons. Planning Worksheet'!AX33,MIN(FIND(\" \",'Cons. Planning Worksheet'!AX33),5)))","v":""},{"$f":"IF('Cons. Planning Worksheet'!BQ33=\"\",\"\",\"PARP-\"&LEFT('Cons. Planning Worksheet'!BQ33,MIN(FIND(\" \",'Cons. Planning Worksheet'!BQ33),5)))","v":""},"Koc =",{"$f":"IF('Cons. Planning Worksheet'!BF33=\"\",\"\",('Cons. Planning Worksheet'!BF33))","v":""},{"$f":"IF('Cons. Planning Worksheet'!L128=\"\",\"\",(+'Cons. Planning Worksheet'!L128))","v":""},{"$f":"IF('Cons. Planning Worksheet'!M128=\"\",\"\",(+'Cons. Planning Worksheet'!M128))","v":""},{"$f":"IF('Cons. Planning Worksheet'!N128=\"\",\"\",(+'Cons. Planning Worksheet'!N128))","v":""},{"$f":"IF('Cons. Planning Worksheet'!O128=\"\",\"\",(+'Cons. Planning Worksheet'!O128))","v":""},{"$f":"IF('Cons. Planning Worksheet'!Q128=\"\",\"\",(+'Cons. Planning Worksheet'!Q128))","v":""},{"$f":"IF('Cons. Planning Worksheet'!R128=\"\",\"\",(+'Cons. Planning Worksheet'!R128))","v":""},{"$f":"IF('Cons. Planning Worksheet'!S133=\"\",\"\",(+'Cons. Planning Worksheet'!S133))","v":""},{"$f":"IF('Cons. Planning Worksheet'!T133=\"\",\"\",(+'Cons. Planning Worksheet'!T133))","v":""},{"$f":"IF('Cons. Planning Worksheet'!U133=\"\",\"\",(+'Cons. Planning Worksheet'!U133))","v":""}]
[null,{"$f":"IF('Cons. Planning Worksheet'!B134=\"\",\"\",(+'Cons. Planning Worksheet'!B134))","v":""},{"$f":"IF('Cons. Planning Worksheet'!C134=\"\",\"\",(+'Cons. Planning Worksheet'!C134))","v":""},null,null,null,null,null,null,"Half Life =",{"$f":"IF('Cons. Planning Worksheet'!BG33=\"\",\"\",('Cons. Planning Worksheet'!BG33))","v":""},{"$f":"IF('Cons. Planning Worksheet'!L129=\"\",\"\",(+'Cons. Planning Worksheet'!L129))","v":""},{"$f":"IF('Cons. Planning Worksheet'!M129=\"\",\"\",(+'Cons. Planning Worksheet'!M129))","v":""},{"$f":"IF('Cons. Planning Worksheet'!N129=\"\",\"\",(+'Cons. Planning Worksheet'!N129))","v":""},{"$f":"IF('Cons. Planning Worksheet'!O129=\"\",\"\",(+'Cons. Planning Worksheet'!O129))","v":""},{"$f":"IF('Cons. Planning Worksheet'!Q129=\"\",\"\",(+'Cons. Planning Worksheet'!Q129))","v":""},{"$f":"IF('Cons. Planning Worksheet'!R129=\"\",\"\",(+'Cons. Planning Worksheet'!R129))","v":""},{"$f":"IF('Cons. Planning Worksheet'!S134=\"\",\"\",(+'Cons. Planning Worksheet'!S134))","v":""},{"$f":"IF('Cons. Planning Worksheet'!T134=\"\",\"\",(+'Cons. Planning Worksheet'!T134))","v":""},{"$f":"IF('Cons. Planning Worksheet'!U134=\"\",\"\",(+'Cons. Planning Worksheet'!U134))","v":""}]
[24,{"$f":"IF('Cons. Planning Worksheet'!B136=\"\",\"\",(+'Cons. Planning Worksheet'!B136))","v":""},{"$f":"IF('Cons. Planning Worksheet'!C136=\"\",\"\",(+'Cons. Planning Worksheet'!C136))","v":""},{"$f":"IF('Cons. Planning Worksheet'!AS34=\"\",\"\", ('Cons. Planning Worksheet'!AS34))","v":""},{"$f":"IF('Cons. Planning Worksheet'!AT34=\"\",\"\", ('Cons. Planning Worksheet'!AT34))","v":""},{"$f":"IF('Cons. Planning Worksheet'!AU34=\"\",\"\", ('Cons. Planning Worksheet'!AU34))","v":""},{"$f":"IF('Cons. Planning Worksheet'!E136=\"\",\"\",(+'Cons. Planning Worksheet'!E136))","v":""},null,null,{"$f":"IF('Cons. Planning Worksheet'!F136=\"\",\"\",(+'Cons. Planning Worksheet'!F136))","v":""},null,{"$f":"IF('Cons. Planning Worksheet'!CQ34=\"\",\"\",('Cons. Planning Worksheet'!CQ34))","v":""},{"$f":"IF('Cons. Planning Worksheet'!H131=\"\",\"\",(+'Cons. Planning Worksheet'!H131))","v":""},{"$f":"IF('Cons. Planning Worksheet'!CR34=\"\",\"\",('Cons. Planning Worksheet'!CR34))","v":""},{"$f":"IF('Cons. Planning Worksheet'!J131=\"\",\"\",(+'Cons. Planning Worksheet'!J131))","v":""},{"$f":"IF('Cons. Planning Worksheet'!CP34=\"\",\"\",('Cons. Planning Worksheet'!CP34))","v":""},{"$f":"IF('Cons. Planning Worksheet'!L131=\"\",\"\",(+'Cons. Planning Worksheet'!L131))","v":""},{"$f":"IF('Cons. Planning Worksheet'!M136=\"\",\"\",(+'Cons. Planning Worksheet'!M136))","v":""},{"$f":"IF('Cons. Planning Worksheet'!N136=\"\",\"\",(+'Cons. Planning Worksheet'!N136))","v":""},{"$f":"IF('Cons. Planning Worksheet'!O136=\"\",\"\",(+'Cons. Planning Worksheet'!O136))","v":""}]
[null,{"$f":"IF('Cons. Planning Worksheet'!B136=\"\",\"\",(+'Cons. Planning Worksheet'!B136))","v":""},{"$f":"IF('Cons. Planning Worksheet'!C136=\"\",\"\",(+'Cons. Planning Worksheet'!C136))","v":""},null,null,null,null,{"$f":"IF('Cons. Planning Worksheet'!AV34=\"\",\"\",\"PLP-\"&LEFT('Cons. Planning Worksheet'!AV34,MIN(FIND(\" \",'Cons. Planning Worksheet'!AV34),5)))","v":""},{"$f":"IF('Cons. Planning Worksheet'!BO34=\"\",\"\",\"SLP-\"&LEFT('Cons. Planning Worksheet'!BO34,MIN(FIND(\" \",'Cons. Planning Worksheet'!BO34),5)))","v":""},null,null,{"$f":"IF('Cons. Planning Worksheet'!L131=\"\",\"\",(+'Cons. Planning Worksheet'!L131))","v":""},{"$f":"IF('Cons. Planning Worksheet'!M131=\"\",\"\",(+'Cons. Planning Worksheet'!M131))","v":""},{"$f":"IF('Cons. Planning Worksheet'!N131=\"\",\"\",(+'Cons. Planning Worksheet'!N131))","v":""},{"$f":"IF('Cons. Planning Worksheet'!O131=\"\",\"\",(+'Cons. Planning Worksheet'!O131))","v":""},{"$f":"IF('Cons. Planning Worksheet'!Q131=\"\",\"\",(+'Cons. Planning Worksheet'!Q131))","v":""},{"$f":"IF('Cons. Planning Worksheet'!R131=\"\",\"\",(+'Cons. Planning Worksheet'!R131))","v":""},{"$f":"IF('Cons. Planning Worksheet'!S136=\"\",\"\",(+'Cons. Planning Worksheet'!S136))","v":""},{"$f":"IF('Cons. Planning Worksheet'!T136=\"\",\"\",(+'Cons. Planning Worksheet'!T136))","v":""},{"$f":"IF('Cons. Planning Worksheet'!U136=\"\",\"\",(+'Cons. Planning Worksheet'!U136))","v":""}]
[null,{"$f":"IF('Cons. Planning Worksheet'!B137=\"\",\"\",(+'Cons. Planning Worksheet'!B137))","v":""},{"$f":"IF('Cons. Planning Worksheet'!C137=\"\",\"\",(+'Cons. Planning Worksheet'!C137))","v":""},null,null,null,null,{"$f":"IF('Cons. Planning Worksheet'!AW34=\"\",\"\",\"SSRP-\"&LEFT('Cons. Planning Worksheet'!AW34,MIN(FIND(\" \",'Cons. Planning Worksheet'!AW34),5)))","v":""},{"$f":"IF('Cons. Planning Worksheet'!BP34=\"\",\"\",\"PSRP-\"&LEFT('Cons. Planning Worksheet'!BP34,MIN(FIND(\" \",'Cons. Planning Worksheet'!BP34),5)))","v":""},"Solubility =",{"$f":"IF('Cons. Planning Worksheet'!BE34=\"\",\"\",('Cons. Planning Worksheet'!BE34))","v":""},{"$f":"IF('Cons. Planning Worksheet'!L132=\"\",\"\",(+'Cons. Planning Worksheet'!L132))","v":""},{"$f":"IF('Cons. Planning Worksheet'!M132=\"\",\"\",(+'Cons. Planning Worksheet'!M132))","v":""},{"$f":"IF('Cons. Planning Worksheet'!N132=\"\",\"\",(+'Cons. Planning Worksheet'!N132))","v":""},{"$f":"IF('Cons. Planning Worksheet'!O132=\"\",\"\",(+'Cons. Planning Worksheet'!O132))","v":""},{"$f":"IF('Cons. Planning Worksheet'!Q132=\"\",\"\",(+'Cons. Planning Worksheet'!Q132))","v":""},{"$f":"IF('Cons. Planning Worksheet'!R132=\"\",\"\",(+'Cons. Planning Worksheet'!R132))","v":""},{"$f":"IF('Cons. Planning Worksheet'!S137=\"\",\"\",(+'Cons. Planning Worksheet'!S137))","v":""},{"$f":"IF('Cons. Planning Worksheet'!T137=\"\",\"\",(+'Cons. Planning Worksheet'!T137))","v":""},{"$f":"IF('Cons. Planning Worksheet'!U137=\"\",\"\",(+'Cons. Planning Worksheet'!U137))","v":""}]
[null,{"$f":"IF('Cons. Planning Worksheet'!B138=\"\",\"\",(+'Cons. Planning Worksheet'!B138))","v":""},{"$f":"IF('Cons. Planning Worksheet'!C138=\"\",\"\",(+'Cons. Planning Worksheet'!C138))","v":""},null,null,null,null,{"$f":"IF('Cons. Planning Worksheet'!AX34=\"\",\"\",\"SARP-\"&LEFT('Cons. Planning Worksheet'!AX34,MIN(FIND(\" \",'Cons. Planning Worksheet'!AX34),5)))","v":""},{"$f":"IF('Cons. Planning Worksheet'!BQ34=\"\",\"\",\"PARP-\"&LEFT('Cons. Planning Worksheet'!BQ34,MIN(FIND(\" \",'Cons. Planning Worksheet'!BQ34),5)))","v":""},"Koc =",{"$f":"IF('Cons. Planning Worksheet'!BF34=\"\",\"\",('Cons. Planning Worksheet'!BF34))","v":""},{"$f":"IF('Cons. Planning Worksheet'!L133=\"\",\"\",(+'Cons. Planning Worksheet'!L133))","v":""},{"$f":"IF('Cons. Planning Worksheet'!M133=\"\",\"\",(+'Cons. Planning Worksheet'!M133))","v":""},{"$f":"IF('Cons. Planning Worksheet'!N133=\"\",\"\",(+'Cons. Planning Worksheet'!N133))","v":""},{"$f":"IF('Cons. Planning Worksheet'!O133=\"\",\"\",(+'Cons. Planning Worksheet'!O133))","v":""},{"$f":"IF('Cons. Planning Worksheet'!Q133=\"\",\"\",(+'Cons. Planning Worksheet'!Q133))","v":""},{"$f":"IF('Cons. Planning Worksheet'!R133=\"\",\"\",(+'Cons. Planning Worksheet'!R133))","v":""},{"$f":"IF('Cons. Planning Worksheet'!S138=\"\",\"\",(+'Cons. Planning Worksheet'!S138))","v":""},{"$f":"IF('Cons. Planning Worksheet'!T138=\"\",\"\",(+'Cons. Planning Worksheet'!T138))","v":""},{"$f":"IF('Cons. Planning Worksheet'!U138=\"\",\"\",(+'Cons. Planning Worksheet'!U138))","v":""}]
[null,{"$f":"IF('Cons. Planning Worksheet'!B139=\"\",\"\",(+'Cons. Planning Worksheet'!B139))","v":""},{"$f":"IF('Cons. Planning Worksheet'!C139=\"\",\"\",(+'Cons. Planning Worksheet'!C139))","v":""},null,null,null,null,null,null,"Half Life =",{"$f":"IF('Cons. Planning Worksheet'!BG34=\"\",\"\",('Cons. Planning Worksheet'!BG34))","v":""},{"$f":"IF('Cons. Planning Worksheet'!L134=\"\",\"\",(+'Cons. Planning Worksheet'!L134))","v":""},{"$f":"IF('Cons. Planning Worksheet'!M134=\"\",\"\",(+'Cons. Planning Worksheet'!M134))","v":""},{"$f":"IF('Cons. Planning Worksheet'!N134=\"\",\"\",(+'Cons. Planning Worksheet'!N134))","v":""},{"$f":"IF('Cons. Planning Worksheet'!O134=\"\",\"\",(+'Cons. Planning Worksheet'!O134))","v":""},{"$f":"IF('Cons. Planning Worksheet'!Q134=\"\",\"\",(+'Cons. Planning Worksheet'!Q134))","v":""},{"$f":"IF('Cons. Planning Worksheet'!R134=\"\",\"\",(+'Cons. Planning Worksheet'!R134))","v":""},{"$f":"IF('Cons. Planning Worksheet'!S139=\"\",\"\",(+'Cons. Planning Worksheet'!S139))","v":""},{"$f":"IF('Cons. Planning Worksheet'!T139=\"\",\"\",(+'Cons. Planning Worksheet'!T139))","v":""},{"$f":"IF('Cons. Planning Worksheet'!U139=\"\",\"\",(+'Cons. Planning Worksheet'!U139))","v":""}]
[25,{"$f":"IF('Cons. Planning Worksheet'!B171=\"\",\"\",(+'Cons. Planning Worksheet'!B171))","v":""},{"$f":"IF('Cons. Planning Worksheet'!C171=\"\",\"\",(+'Cons. Planning Worksheet'!C171))","v":""},{"$f":"IF('Cons. Planning Worksheet'!AS35=\"\",\"\", ('Cons. Planning Worksheet'!AS35))","v":""},{"$f":"IF('Cons. Planning Worksheet'!AT35=\"\",\"\", ('Cons. Planning Worksheet'!AT35))","v":""},{"$f":"IF('Cons. Planning Worksheet'!AU35=\"\",\"\", ('Cons. Planning Worksheet'!AU35))","v":""},{"$f":"IF('Cons. Planning Worksheet'!E171=\"\",\"\",(+'Cons. Planning Worksheet'!E171))","v":""},null,null,{"$f":"IF('Cons. Planning Worksheet'!F171=\"\",\"\",(+'Cons. Planning Worksheet'!F171))","v":""},null,{"$f":"IF('Cons. Planning Worksheet'!CQ35=\"\",\"\",('Cons. Planning Worksheet'!CQ35))","v":""},{"$f":"IF('Cons. Planning Worksheet'!H136=\"\",\"\",(+'Cons. Planning Worksheet'!H136))","v":""},{"$f":"IF('Cons. Planning Worksheet'!CR35=\"\",\"\",('Cons. Planning Worksheet'!CR35))","v":""},{"$f":"IF('Cons. Planning Worksheet'!J136=\"\",\"\",(+'Cons. Planning Worksheet'!J136))","v":""},{"$f":"IF('Cons. Planning Worksheet'!CP35=\"\",\"\",('Cons. Planning Worksheet'!CP35))","v":""},{"$f":"IF('Cons. Planning Worksheet'!L136=\"\",\"\",(+'Cons. Planning Worksheet'!L136))","v":""},{"$f":"IF('Cons. Planning Worksheet'!M171=\"\",\"\",(+'Cons. Planning Worksheet'!M171))","v":""},{"$f":"IF('Cons. Planning Worksheet'!N171=\"\",\"\",(+'Cons. Planning Worksheet'!N171))","v":""},{"$f":"IF('Cons. Planning Worksheet'!O171=\"\",\"\",(+'Cons. Planning Worksheet'!O171))","v":""}]
[null,{"$f":"IF('Cons. Planning Worksheet'!B171=\"\",\"\",(+'Cons. Planning Worksheet'!B171))","v":""},{"$f":"IF('Cons. Planning Worksheet'!C171=\"\",\"\",(+'Cons. Planning Worksheet'!C171))","v":""},null,null,null,null,{"$f":"IF('Cons. Planning Worksheet'!AV35=\"\",\"\",\"PLP-\"&LEFT('Cons. Planning Worksheet'!AV35,MIN(FIND(\" \",'Cons. Planning Worksheet'!AV35),5)))","v":""},{"$f":"IF('Cons. Planning Worksheet'!BO35=\"\",\"\",\"SLP-\"&LEFT('Cons. Planning Worksheet'!BO35,MIN(FIND(\" \",'Cons. Planning Worksheet'!BO35),5)))","v":""},null,null,{"$f":"IF('Cons. Planning Worksheet'!L136=\"\",\"\",(+'Cons. Planning Worksheet'!L136))","v":""},{"$f":"IF('Cons. Planning Worksheet'!M136=\"\",\"\",(+'Cons. Planning Worksheet'!M136))","v":""},{"$f":"IF('Cons. Planning Worksheet'!N136=\"\",\"\",(+'Cons. Planning Worksheet'!N136))","v":""},{"$f":"IF('Cons. Planning Worksheet'!O136=\"\",\"\",(+'Cons. Planning Worksheet'!O136))","v":""},{"$f":"IF('Cons. Planning Worksheet'!Q136=\"\",\"\",(+'Cons. Planning Worksheet'!Q136))","v":""},{"$f":"IF('Cons. Planning Worksheet'!R136=\"\",\"\",(+'Cons. Planning Worksheet'!R136))","v":""},{"$f":"IF('Cons. Planning Worksheet'!S171=\"\",\"\",(+'Cons. Planning Worksheet'!S171))","v":""},{"$f":"IF('Cons. Planning Worksheet'!T171=\"\",\"\",(+'Cons. Planning Worksheet'!T171))","v":""},{"$f":"IF('Cons. Planning Worksheet'!U171=\"\",\"\",(+'Cons. Planning Worksheet'!U171))","v":""}]
[null,{"$f":"IF('Cons. Planning Worksheet'!B172=\"\",\"\",(+'Cons. Planning Worksheet'!B172))","v":""},{"$f":"IF('Cons. Planning Worksheet'!C172=\"\",\"\",(+'Cons. Planning Worksheet'!C172))","v":""},null,null,null,null,{"$f":"IF('Cons. Planning Worksheet'!AW35=\"\",\"\",\"SSRP-\"&LEFT('Cons. Planning Worksheet'!AW35,MIN(FIND(\" \",'Cons. Planning Worksheet'!AW35),5)))","v":""},{"$f":"IF('Cons. Planning Worksheet'!BP35=\"\",\"\",\"PSRP-\"&LEFT('Cons. Planning Worksheet'!BP35,MIN(FIND(\" \",'Cons. Planning Worksheet'!BP35),5)))","v":""},"Solubility =",{"$f":"IF('Cons. Planning Worksheet'!BE35=\"\",\"\",('Cons. Planning Worksheet'!BE35))","v":""},{"$f":"IF('Cons. Planning Worksheet'!L137=\"\",\"\",(+'Cons. Planning Worksheet'!L137))","v":""},{"$f":"IF('Cons. Planning Worksheet'!M137=\"\",\"\",(+'Cons. Planning Worksheet'!M137))","v":""},{"$f":"IF('Cons. Planning Worksheet'!N137=\"\",\"\",(+'Cons. Planning Worksheet'!N137))","v":""},{"$f":"IF('Cons. Planning Worksheet'!O137=\"\",\"\",(+'Cons. Planning Worksheet'!O137))","v":""},{"$f":"IF('Cons. Planning Worksheet'!Q137=\"\",\"\",(+'Cons. Planning Worksheet'!Q137))","v":""},{"$f":"IF('Cons. Planning Worksheet'!R137=\"\",\"\",(+'Cons. Planning Worksheet'!R137))","v":""},{"$f":"IF('Cons. Planning Worksheet'!S172=\"\",\"\",(+'Cons. Planning Worksheet'!S172))","v":""},{"$f":"IF('Cons. Planning Worksheet'!T172=\"\",\"\",(+'Cons. Planning Worksheet'!T172))","v":""},{"$f":"IF('Cons. Planning Worksheet'!U172=\"\",\"\",(+'Cons. Planning Worksheet'!U172))","v":""}]
[null,{"$f":"IF('Cons. Planning Worksheet'!B173=\"\",\"\",(+'Cons. Planning Worksheet'!B173))","v":""},{"$f":"IF('Cons. Planning Worksheet'!C173=\"\",\"\",(+'Cons. Planning Worksheet'!C173))","v":""},null,null,null,null,{"$f":"IF('Cons. Planning Worksheet'!AX35=\"\",\"\",\"SARP-\"&LEFT('Cons. Planning Worksheet'!AX35,MIN(FIND(\" \",'Cons. Planning Worksheet'!AX35),5)))","v":""},{"$f":"IF('Cons. Planning Worksheet'!BQ35=\"\",\"\",\"PARP-\"&LEFT('Cons. Planning Worksheet'!BQ35,MIN(FIND(\" \",'Cons. Planning Worksheet'!BQ35),5)))","v":""},"Koc =",{"$f":"IF('Cons. Planning Worksheet'!BF35=\"\",\"\",('Cons. Planning Worksheet'!BF35))","v":""},{"$f":"IF('Cons. Planning Worksheet'!L138=\"\",\"\",(+'Cons. Planning Worksheet'!L138))","v":""},{"$f":"IF('Cons. Planning Worksheet'!M138=\"\",\"\",(+'Cons. Planning Worksheet'!M138))","v":""},{"$f":"IF('Cons. Planning Worksheet'!N138=\"\",\"\",(+'Cons. Planning Worksheet'!N138))","v":""},{"$f":"IF('Cons. Planning Worksheet'!O138=\"\",\"\",(+'Cons. Planning Worksheet'!O138))","v":""},{"$f":"IF('Cons. Planning Worksheet'!Q138=\"\",\"\",(+'Cons. Planning Worksheet'!Q138))","v":""},{"$f":"IF('Cons. Planning Worksheet'!R138=\"\",\"\",(+'Cons. Planning Worksheet'!R138))","v":""},{"$f":"IF('Cons. Planning Worksheet'!S173=\"\",\"\",(+'Cons. Planning Worksheet'!S173))","v":""},{"$f":"IF('Cons. Planning Worksheet'!T173=\"\",\"\",(+'Cons. Planning Worksheet'!T173))","v":""},{"$f":"IF('Cons. Planning Worksheet'!U173=\"\",\"\",(+'Cons. Planning Worksheet'!U173))","v":""}]
[null,{"$f":"IF('Cons. Planning Worksheet'!B174=\"\",\"\",(+'Cons. Planning Worksheet'!B174))","v":""},{"$f":"IF('Cons. Planning Worksheet'!C174=\"\",\"\",(+'Cons. Planning Worksheet'!C174))","v":""},null,null,null,null,null,null,"Half Life =",{"$f":"IF('Cons. Planning Worksheet'!BG35=\"\",\"\",('Cons. Planning Worksheet'!BG35))","v":""},{"$f":"IF('Cons. Planning Worksheet'!L139=\"\",\"\",(+'Cons. Planning Worksheet'!L139))","v":""},{"$f":"IF('Cons. Planning Worksheet'!M139=\"\",\"\",(+'Cons. Planning Worksheet'!M139))","v":""},{"$f":"IF('Cons. Planning Worksheet'!N139=\"\",\"\",(+'Cons. Planning Worksheet'!N139))","v":""},{"$f":"IF('Cons. Planning Worksheet'!O139=\"\",\"\",(+'Cons. Planning Worksheet'!O139))","v":""},{"$f":"IF('Cons. Planning Worksheet'!Q139=\"\",\"\",(+'Cons. Planning Worksheet'!Q139))","v":""},{"$f":"IF('Cons. Planning Worksheet'!R139=\"\",\"\",(+'Cons. Planning Worksheet'!R139))","v":""},{"$f":"IF('Cons. Planning Worksheet'!S174=\"\",\"\",(+'Cons. Planning Worksheet'!S174))","v":""},{"$f":"IF('Cons. Planning Worksheet'!T174=\"\",\"\",(+'Cons. Planning Worksheet'!T174))","v":""},{"$f":"IF('Cons. Planning Worksheet'!U174=\"\",\"\",(+'Cons. Planning Worksheet'!U174))","v":""}]

{"sheet":"595 Impl. Req. - Mitigation","index":3,"n_rows":157,"n_cols":51,"rows_kept":157,"cut":false,"hidden":false,"merged":[[65,4,65,26],[59,4,59,26],[54,4,54,26],[55,4,55,26],[53,4,53,26],[40,4,40,26],[56,4,56,26],[57,4,57,26],[58,4,58,26],[52,4,52,7],[44,4,44,7],[45,4,45,7],[49,4,49,7],[50,4,50,7],[46,4,46,7],[47,4,47,7],[48,4,48,7],[51,4,51,7],[51,22,51,26],[52,22,52,26],[44,22,44,26],[51,8,51,21],[52,8,52,21],[1,5,1,26],[60,4,60,26],[61,4,61,26],[63,4,63,26],[28,22,28,26],[28,8,28,21],[29,8,29,21],[29,22,29,26],[30,22,30,26],[30,8,30,21],[31,8,31,21],[31,22,31,26],[32,22,32,26],[35,4,35,7],[36,4,36,7],[37,4,37,7],[38,4,38,7],[30,4,30,7],[41,4,41,7],[42,4,42,7],[43,4,43,7],[41,22,41,26],[42,22,42,26],[43,22,43,26],[39,22,39,26],[41,8,41,21],[42,8,42,21],[43,8,43,21],[33,4,33,7],[34,4,34,7],[33,22,33,26],[34,22,34,26],[39,4,39,7],[33,8,33,21],[34,8,34,21],[35,8,35,21],[36,8,36,21],[37,8,37,21],[38,8,38,21],[39,8,39,21],[0,5,0,25],[24,21,24,24],[22,21,22,24],[22,4,22,7],[23,4,23,7],[22,8,22,15],[23,8,23,15],[2,11,2,12],[2,9,2,10],[3,11,3,12],[3,9,3,10],[2,5,2,6],[3,5,3,6],[4,5,4,6],[4,7,4,8],[6,5,6,14],[7,5,7,14],[5,15,6,15],[22,25,22,26],[23,25,23,26],[24,25,24,26],[9,9,9,14],[2,21,2,25],[3,21,3,25],[31,4,31,7],[32,4,32,7],[26,21,26,26],[9,16,9,20],[24,4,24,7],[10,11,10,12],[9,1,10,1],[9,3,10,3],[24,8,24,15],[25,8,25,15],[9,4,9,8],[27,4,27,26],[29,4,29,7],[28,4,28,7],[32,8,32,21],[11,4,18,4],[11,5,18,5],[11,6,18,6],[11,7,18,7],[11,8,18,8],[11,9,14,9],[11,10,14,10],[11,11,14,11],[11,12,14,12],[9,0,10,0],[9,2,10,2],[26,4,26,7],[26,8,26,15],[25,4,25,7],[25,25,25,26],[25,21,25,24],[21,8,21,15],[21,4,21,7],[21,21,21,26],[23,21,23,24],[10,13,10,14],[11,26,14,26],[13,13,14,13],[13,14,14,14],[15,9,18,9],[15,10,18,10],[15,11,18,11],[15,12,18,12],[15,13,18,13],[15,14,18,14],[15,22,18,22],[15,23,18,23],[15,24,18,24],[2,7,2,8],[2,13,2,14],[3,13,3,14],[3,7,3,8],[9,15,10,15],[20,4,20,15],[4,9,4,14],[5,21,7,26],[5,5,5,14],[9,21,10,21],[10,9,10,10],[9,22,9,26],[15,25,18,25],[11,21,18,21],[11,22,14,22],[11,23,14,23],[11,25,14,25],[11,50,20,50],[21,50,25,50],[26,50,30,50],[31,50,35,50],[36,50,40,50],[41,50,45,50],[46,50,50,50],[44,8,44,21],[45,8,45,21],[45,22,45,26],[46,22,46,26],[47,22,47,26],[48,22,48,26],[49,22,49,26],[50,22,50,26],[46,8,46,21],[47,8,47,21],[48,8,48,21],[49,8,49,21],[50,8,50,21],[35,22,35,26],[36,22,36,26],[37,22,37,26],[38,22,38,26],[141,50,145,50],[146,50,150,50],[151,50,155,50],[156,50,160,50],[4,21,4,26],[96,50,100,50],[101,50,105,50],[106,50,110,50],[111,50,115,50],[116,50,120,50],[121,50,125,50],[126,50,130,50],[131,50,135,50],[136,50,140,50],[51,50,55,50],[56,50,60,50],[61,50,65,50],[66,50,70,50],[71,50,75,50],[76,50,80,50],[81,50,85,50],[86,50,90,50],[91,50,95,50],[9,50,10,50]]}
[null,null,null,null,null," CPS 595 Implementation Requirement - Mitigation",null,null,null,null,null,null,null,null,null,null,null,null,null,null,null,null,null,null,null,null,null,null,null,"Resources/Pathways","Human","Fish"]
[null,null,null,null,"Natural Resources Conservation Service","Conservation Practice Standard 595                                                                                                                                                            Version 3.0                  October, 2015",null,null,null,null,null,null,null,null,null,null,null,null,null,null,null,null,null,null,null,null,null,null,{"$f":"'Cons. Planning Worksheet'!AD7","v":false},"Pesticides leaching to groundwater",{"$f":"'Cons. Planning Worksheet'!AF7","v":false},{"$f":"'Cons. Planning Worksheet'!AG7","v":false}]
[null,null,null,null,"Client:",{"$f":"IF('Cons. Planning Worksheet'!D3=\"\",\"\",(+'Cons. Planning Worksheet'!D3))","v":""},null,"Tract:",null,{"$f":"IF('Cons. Planning Worksheet'!G3=\"\",\"\",(+'Cons. Planning Worksheet'!G3))","v":""},null,"Field #:",null,{"$f":"IF('Cons. Planning Worksheet'!K3=\"\",\"\",(+'Cons. Planning Worksheet'!K3))","v":""},null,"Crop Rotation:",null,null,null,null,null,{"$f":"IF('Cons. Planning Worksheet'!L7=\"\",\"\",(+'Cons. Planning Worksheet'!L7))","v":""},null,null,null,null,null,null,{"$f":"'Cons. Planning Worksheet'!AD8","v":false},"Pesticides in runoff water",{"$f":"'Cons. Planning Worksheet'!AF8","v":false},{"$f":"'Cons. Planning Worksheet'!AG8","v":false}]
[null,null,null,null,"Planner:",{"$f":"IF('Cons. Planning Worksheet'!D4=\"\",\"\",(+'Cons. Planning Worksheet'!D4))","v":""},null,"Date:",null,{"$f":"TODAY()","v":"2018-05-29"},null,"Acres:",null,{"$f":"IF('Cons. Planning Worksheet'!K4=\"\",\"\",(+'Cons. Planning Worksheet'!K4))","v":""},null,"Landuse:",null,null,null,null,null,{"$f":"IF('Cons. Planning Worksheet'!AD1=TRUE,\"Hayland\",IF('Cons. Planning Worksheet'!AD2=TRUE,\"Cropland\",IF('Cons. Planning Worksheet'!AD3=TRUE,\"Range\",IF('Cons. Planning Worksheet'!AD4=TRUE,\"Forest\",IF('Cons. Planning Worksheet'!AD5=TRUE,\"Other\",\"\")))))","v":""},null,null,null,null,null,null,{"$f":"'Cons. Planning Worksheet'!AD9","v":false},"Pesticide-laden sediment"]
[null,null,null,null,"Consultant:",{"$f":"IF('Cons. Planning Worksheet'!D5=\"\",\"\",(+'Cons. Planning Worksheet'!D5))","v":""},null,"Crop:",null,{"$f":"IF('Cons. Planning Worksheet'!G5=\"\",\"\",(+'Cons. Planning Worksheet'!G5))","v":""},null,null,null,null,null,"Soil types to which this mitigation applies:",null,null,null,null,null,null,null,null,null,null,null,null,{"$f":"'Cons. Planning Worksheet'!AD10","v":false},"Pesticide drift from field"]
[null,null,null,null,"Purpose(s):",{"$f":"IF('Cons. Planning Worksheet'!AD13=TRUE,'Cons. Planning Worksheet'!AE13,\"\")","v":""},null,null,null,null,null,null,null,null,null,"Description of waters of concern (river, irrigation ditch, stream, pond, etc.):",null,null,null,null,null,{"$f":"IF('Cons. Planning Worksheet'!I18=\"\",\"\",(+'Cons. Planning Worksheet'!I18))","v":""},null,null,null,null,null,null,{"$f":"'Cons. Planning Worksheet'!AD11","v":false},"Pesticide volatilization from field"]
[null,null,null,null,null,{"$f":"IF('Cons. Planning Worksheet'!AD14=TRUE,'Cons. Planning Worksheet'!AE14,\"\")","v":""}]
[null,null,null,null,null,{"$f":"IF('Cons. Planning Worksheet'!AD15=TRUE,'Cons. Planning Worksheet'!AE15,\"\")","v":""},null,null,null,null,null,null,null,null,null,null,null,null,null,null,null,null,null,null,null,null,null,null," ","= Initial Soil"]
[]
["No.","Soil Map Unit","Soil Name","Target Pest Name(s)","Pesticide Information",null,null,null,null,"WIN-PST  Hazard Ratings",null,null,null,null,null,"Planned IPM Mitigation Techniques","Mitigation Index Value",null,null,null,null,"Clarifications & Comments","Mitigation Index Score",null,null,null,null,null,null,null,null,null,null,null,null,null,null,null,null,null,null,null,null,null,null,null,null,null,null,null,"Soil Name"]
[null,null,null,null,"Product Name","Active Ingredient (a.i.)","Ap. Area","Ap. Method","Ap. Rate","Leaching          (ILP)",null,"Solution Runoff (ISRP)",null,"Adsorbed Runoff (IARP)",null,null,"Leaching","Solution Runoff","Adsorbed Runoff","Drift and volatilization","Pollinator - DC",null,"Leaching","Solution Runoff","Adsorbed Runoff","Drift and Volatilization","Pollinator - Direct Contact"]
[null,null,null,null,null,null,null,null,null,"Human",null,"Human",null,null,null,null,{"$f":"IF($P12=\"\",\"\",VLOOKUP($P12,'Practices & Techniques'!$A$6:$G$114,3,FALSE))","v":""},{"$f":"IF($P12=\"\",\"\",VLOOKUP($P12,'Practices & Techniques'!$A$6:$F$114,4,FALSE))","v":""},{"$f":"IF($P12=\"\",\"\",VLOOKUP($P12,'Practices & Techniques'!$A$6:$F$114,5,FALSE))","v":""},{"$f":"IF($P12=\"\",\"\",VLOOKUP($P12,'Practices & Techniques'!$A$6:$F$114,6,FALSE))","v":""},{"$f":"IF($P12=\"\",\"\",VLOOKUP($P12,'Practices & Techniques'!$A$6:$G$114,7,FALSE))","v":""},null,{"$f":"SUM(Q12:Q19)+AG14","v":0},{"$f":"SUM(R12:R19)+AH14","v":0},null,{"$f":"SUM(T12:T19)+AJ14","v":0},{"$f":"SUM(U12:U19)+AK14","v":0}]
[null,null,null,null,null,null,null,null,null,null,null,null,null,null,null,null,{"$f":"IF($P13=\"\",\"\",VLOOKUP($P13,'Practices & Techniques'!$A$6:$G$114,3,FALSE))","v":""},{"$f":"IF($P13=\"\",\"\",VLOOKUP($P13,'Practices & Techniques'!$A$6:$F$114,4,FALSE))","v":""},{"$f":"IF($P13=\"\",\"\",VLOOKUP($P13,'Practices & Techniques'!$A$6:$F$114,5,FALSE))","v":""},{"$f":"IF($P13=\"\",\"\",VLOOKUP($P13,'Practices & Techniques'!$A$6:$F$114,6,FALSE))","v":""},{"$f":"IF($P13=\"\",\"\",VLOOKUP($P13,'Practices & Techniques'!$A$6:$G$114,7,FALSE))","v":""}]
[null,null,null,null,null,null,null,null,null,null,null,null,null,null,null,null,{"$f":"IF($P14=\"\",\"\",VLOOKUP($P14,'Practices & Techniques'!$A$6:$G$114,3,FALSE))","v":""},{"$f":"IF($P14=\"\",\"\",VLOOKUP($P14,'Practices & Techniques'!$A$6:$F$114,4,FALSE))","v":""},{"$f":"IF($P14=\"\",\"\",VLOOKUP($P14,'Practices & Techniques'!$A$6:$F$114,5,FALSE))","v":""},{"$f":"IF($P14=\"\",\"\",VLOOKUP($P14,'Practices & Techniques'!$A$6:$F$114,6,FALSE))","v":""},{"$f":"IF($P14=\"\",\"\",VLOOKUP($P14,'Practices & Techniques'!$A$6:$G$114,7,FALSE))","v":""},null,null,null,null,null,null,null,null,null,null,null,null,null,null,null,null,false,false,false]
[null,null,null,null,null,null,null,null,null,null,null,null,null,null,null,null,{"$f":"IF($P15=\"\",\"\",VLOOKUP($P15,'Practices & Techniques'!$A$6:$G$114,3,FALSE))","v":""},{"$f":"IF($P15=\"\",\"\",VLOOKUP($P15,'Practices & Techniques'!$A$6:$F$114,4,FALSE))","v":""},{"$f":"IF($P15=\"\",\"\",VLOOKUP($P15,'Practices & Techniques'!$A$6:$F$114,5,FALSE))","v":""},{"$f":"IF($P15=\"\",\"\",VLOOKUP($P15,'Practices & Techniques'!$A$6:$F$114,6,FALSE))","v":""},{"$f":"IF($P15=\"\",\"\",VLOOKUP($P15,'Practices & Techniques'!$A$6:$G$114,7,FALSE))","v":""}]
[null,null,null,null,null,null,null,null,null,"Fish",null,"Fish",null,"Fish",null,null,{"$f":"IF($P16=\"\",\"\",VLOOKUP($P16,'Practices & Techniques'!$A$6:$G$114,3,FALSE))","v":""},{"$f":"IF($P16=\"\",\"\",VLOOKUP($P16,'Practices & Techniques'!$A$6:$F$114,4,FALSE))","v":""},{"$f":"IF($P16=\"\",\"\",VLOOKUP($P16,'Practices & Techniques'!$A$6:$F$114,5,FALSE))","v":""},{"$f":"IF($P16=\"\",\"\",VLOOKUP($P16,'Practices & Techniques'!$A$6:$F$114,6,FALSE))","v":""},{"$f":"IF($P16=\"\",\"\",VLOOKUP($P16,'Practices & Techniques'!$A$6:$G$114,7,FALSE))","v":""},null,{"$f":"SUM(Q12:Q19)+AG14","v":0},{"$f":"SUM(R12:R19)+AH14","v":0},{"$f":"SUM(S12:S19)+AI14","v":0},{"$f":"SUM(T12:T19)+AJ14","v":0}]
[null,null,null,null,null,null,null,null,null,null,null,null,null,null,null,null,{"$f":"IF($P17=\"\",\"\",VLOOKUP($P17,'Practices & Techniques'!$A$6:$G$114,3,FALSE))","v":""},{"$f":"IF($P17=\"\",\"\",VLOOKUP($P17,'Practices & Techniques'!$A$6:$F$114,4,FALSE))","v":""},{"$f":"IF($P17=\"\",\"\",VLOOKUP($P17,'Practices & Techniques'!$A$6:$F$114,5,FALSE))","v":""},{"$f":"IF($P17=\"\",\"\",VLOOKUP($P17,'Practices & Techniques'!$A$6:$F$114,6,FALSE))","v":""},{"$f":"IF($P17=\"\",\"\",VLOOKUP($P17,'Practices & Techniques'!$A$6:$G$114,7,FALSE))","v":""}]
[null,null,null,null,null,null,null,null,null,null,null,null,null,null,null,null,{"$f":"IF($P18=\"\",\"\",VLOOKUP($P18,'Practices & Techniques'!$A$6:$G$114,3,FALSE))","v":""},{"$f":"IF($P18=\"\",\"\",VLOOKUP($P18,'Practices & Techniques'!$A$6:$F$114,4,FALSE))","v":""},{"$f":"IF($P18=\"\",\"\",VLOOKUP($P18,'Practices & Techniques'!$A$6:$F$114,5,FALSE))","v":""},{"$f":"IF($P18=\"\",\"\",VLOOKUP($P18,'Practices & Techniques'!$A$6:$F$114,6,FALSE))","v":""},{"$f":"IF($P18=\"\",\"\",VLOOKUP($P18,'Practices & Techniques'!$A$6:$G$114,7,FALSE))","v":""}]
[null,null,null,null,null,null,null,null,null,null,null,null,null,null,null,null,{"$f":"IF($P19=\"\",\"\",VLOOKUP($P19,'Practices & Techniques'!$A$6:$G$114,3,FALSE))","v":""},{"$f":"IF($P19=\"\",\"\",VLOOKUP($P19,'Practices & Techniques'!$A$6:$F$114,4,FALSE))","v":""},{"$f":"IF($P19=\"\",\"\",VLOOKUP($P19,'Practices & Techniques'!$A$6:$F$114,5,FALSE))","v":""},{"$f":"IF($P19=\"\",\"\",VLOOKUP($P19,'Practices & Techniques'!$A$6:$F$114,6,FALSE))","v":""},{"$f":"IF($P19=\"\",\"\",VLOOKUP($P19,'Practices & Techniques'!$A$6:$G$114,7,FALSE))","v":""}]
[]
[null,null,null,null,"Practices that must be maintained in or around the field for this mitigation analysis to be valid:",null,null,null,null,null,null,null,null,null,null,null,null,null,null,null,null,null,null,null,null,null,null,null,"CP&T"]
[null,null,null,null,"Conservation Practices",null,null,null,"Description",null,null,null,null,null,null,null,null,null,null,null,null,"Mitigation Index Legend",null,null,null,null,null,null,"Partial Treatment",null,null,null,null,null,null,null,null,null,null,null,null,null,null,null,null,null,null,null,null,null,{"$f":"IF('Cons. Planning Worksheet'!C31=\"\", \"\",  ('Cons. Planning Worksheet'!C31))","v":""}]
[null,null,null,null,{"$f":"IF('Cons. Planning Worksheet'!G12=\"\",\"\",(+'Cons. Planning Worksheet'!G12))","v":""},null,null,null,{"$f":"IF('Cons. Planning Worksheet'!K12=\"\",\"\",(+'Cons. Planning Worksheet'!K12))","v":""},null,null,null,null,null,null,null,null,null,null,null,null,"Meaning",null,null,null,"Shading",null,null,null,null,{"$f":"'Practices & Techniques'!A53","v":"NO MITIGATION NEEDED"}]
[null,null,null,null,{"$f":"IF('Cons. Planning Worksheet'!G13=\"\",\"\",(+'Cons. Planning Worksheet'!G13))","v":""},null,null,null,{"$f":"IF('Cons. Planning Worksheet'!K13=\"\",\"\",(+'Cons. Planning Worksheet'!K13))","v":""},null,null,null,null,null,null,null,null,null,null,null,null,"Not an identified resource concern/pesticide loss pathway combination.",null,null,null,null,null,null,null,null,{"$f":"'Practices & Techniques'!A54","v":"Application Timing - Ambient Temperature"}]
[null,null,null,null,{"$f":"IF('Cons. Planning Worksheet'!G14=\"\",\"\",(+'Cons. Planning Worksheet'!G14))","v":""},null,null,null,{"$f":"IF('Cons. Planning Worksheet'!K14=\"\",\"\",(+'Cons. Planning Worksheet'!K14))","v":""},null,null,null,null,null,null,null,null,null,null,null,null,"Resource concern/pesticde loss pathway combination exists and minimum mitigation criteria HAS been satisfied.",null,null,null,null,null,null,null,null,{"$f":"'Practices & Techniques'!A55","v":"Application Timing - Rain"}]
[null,null,null,null,{"$f":"IF('Cons. Planning Worksheet'!G15=\"\",\"\",(+'Cons. Planning Worksheet'!G15))","v":""},null,null,null,{"$f":"IF('Cons. Planning Worksheet'!K15=\"\",\"\",(+'Cons. Planning Worksheet'!K15))","v":""},null,null,null,null,null,null,null,null,null,null,null,null,"Resource concern/pesticde loss pathway combination exists and minimum mitigation criteria has NOT been satisfied.",null,null,null,null,null,null,null,null,{"$f":"'Practices & Techniques'!A56","v":"Application Timing - Relative Humidity"}]
[null,null,null,null,{"$f":"IF('Cons. Planning Worksheet'!G16=\"\",\"\",(+'Cons. Planning Worksheet'!G16))","v":""},null,null,null,{"$f":"IF('Cons. Planning Worksheet'!K16=\"\",\"\",(+'Cons. Planning Worksheet'!K16))","v":""},null,null,null,null,null,null,null,null,null,null,null,null,null,null,null,null,null,null,null,null,null,{"$f":"'Practices & Techniques'!A57","v":"Application Timing - Wind    "},null,null,null,null,null,null,null,null,null,null,null,null,null,null,null,null,null,null,null,{"$f":"IF('Cons. Planning Worksheet'!C36=\"\", \"\",  ('Cons. Planning Worksheet'!C36))","v":""}]
[null,null,null,null,"EXISTING IPM Techniques that must be maintained in or around the field for this mitigation analysis to be valid:",null,null,null,null,null,null,null,null,null,null,null,null,null,null,null,null,null,null,null,null,null,null,null,null,null,{"$f":"'Practices & Techniques'!A58","v":"Formulations and Adjuvants"}]
[null,null,null,null,"EXISTING IPM Techniques ",null,null,null,"Description",null,null,null,null,null,null,null,null,null,null,null,null,null,"Applies to these Pesticides",null,null,null,null,null,null,null,{"$f":"'Practices & Techniques'!A59","v":"Monitoring & Economic Pest Thresholds."}]
[null,null,null,null,{"$f":"IF('Cons. Planning Worksheet'!A178=\"\",\"None\",(+'Cons. Planning Worksheet'!A178))","v":"None"},null,null,null,{"$f":"IF('Cons. Planning Worksheet'!F178=\"\",\"N/A\",(+'Cons. Planning Worksheet'!F178))","v":"N/A"},null,null,null,null,null,null,null,null,null,null,null,null,null,{"$f":"IF('Cons. Planning Worksheet'!W178=\"\",\"N/A\",(+'Cons. Planning Worksheet'!W178))","v":"N/A"},null,null,null,null,null,null,null,{"$f":"'Practices & Techniques'!A60","v":"Partial Substitution"}]
[null,null,null,null,{"$f":"IF('Cons. Planning Worksheet'!A179=\"\",\"\",(+'Cons. Planning Worksheet'!A179))","v":""},null,null,null,{"$f":"IF('Cons. Planning Worksheet'!F179=\"\",\"\",(+'Cons. Planning Worksheet'!F179))","v":""},null,null,null,null,null,null,null,null,null,null,null,null,null,{"$f":"IF('Cons. Planning Worksheet'!W179=\"\",\"\",(+'Cons. Planning Worksheet'!W179))","v":""},null,null,null,null,null,null,null,{"$f":"'Practices & Techniques'!A61","v":"Setback (100') "}]
[null,null,null,null,{"$f":"IF('Cons. Planning Worksheet'!A180=\"\",\"\",(+'Cons. Planning Worksheet'!A180))","v":""},null,null,null,{"$f":"IF('Cons. Planning Worksheet'!F180=\"\",\"\",(+'Cons. Planning Worksheet'!F180))","v":""},null,null,null,null,null,null,null,null,null,null,null,null,null,{"$f":"IF('Cons. Planning Worksheet'!W180=\"\",\"\",(+'Cons. Planning Worksheet'!W180))","v":""},null,null,null,null,null,null,null,{"$f":"'Practices & Techniques'!A62","v":"Setback (30') "},null,null,null,null,null,null,null,null,null,null,null,null,null,null,null,null,null,null,null,{"$f":"IF('Cons. Planning Worksheet'!C41=\"\", \"\",  ('Cons. Planning Worksheet'!C41))","v":""}]
[null,null,null,null,{"$f":"IF('Cons. Planning Worksheet'!A181=\"\",\"\",(+'Cons. Planning Worksheet'!A181))","v":""},null,null,null,{"$f":"IF('Cons. Planning Worksheet'!F181=\"\",\"\",(+'Cons. Planning Worksheet'!F181))","v":""},null,null,null,null,null,null,null,null,null,null,null,null,null,{"$f":"IF('Cons. Planning Worksheet'!W181=\"\",\"\",(+'Cons. Planning Worksheet'!W181))","v":""},null,null,null,null,null,null,null,{"$f":"'Practices & Techniques'!A63","v":"Spray Nozzle Selection, Maintenance and Operation."}]
[null,null,null,null,{"$f":"IF('Cons. Planning Worksheet'!A182=\"\",\"\",(+'Cons. Planning Worksheet'!A182))","v":""},null,null,null,{"$f":"IF('Cons. Planning Worksheet'!F182=\"\",\"\",(+'Cons. Planning Worksheet'!F182))","v":""},null,null,null,null,null,null,null,null,null,null,null,null,null,{"$f":"IF('Cons. Planning Worksheet'!W182=\"\",\"\",(+'Cons. Planning Worksheet'!W182))","v":""},null,null,null,null,null,null,null,{"$f":"'Practices & Techniques'!A64","v":"Application at Night: High to Mod. Toxicity and Long Residual Toxicity"}]
[null,null,null,null,null,null,null,null,null,null,null,null,null,null,null,null,null,null,null,null,null,null,null,null,null,null,null,null,null,null,{"$f":"'Practices & Techniques'!A65","v":"Application at Night: High Toxicity and Short Residual Toxicity"}]
[null,null,null,null,null,null,null,null,null,null,null,null,null,null,null,null,null,null,null,null,null,null,null,null,null,null,null,null,null,null,{"$f":"'Practices & Techniques'!A66","v":"Application at Night: Mod. To Low Toxicity and Short Residual Toxicity"}]
[null,null,null,null,null,null,null,null,null,null,null,null,null,null,null,null,null,null,null,null,null,null,null,null,null,null,null,null,null,null,{"$f":"'Practices & Techniques'!A67","v":"Application of Non-Systemic Insecticide When Perennial Crop is Not in Bloom"},null,null,null,null,null,null,null,null,null,null,null,null,null,null,null,null,null,null,null,{"$f":"IF('Cons. Planning Worksheet'!C46=\"\", \"\",  ('Cons. Planning Worksheet'!C46))","v":""}]
[null,null,null,null,null,null,null,null,null,null,null,null,null,null,null,null,null,null,null,null,null,null,null,null,null,null,null,null,null,null,{"$f":"'Practices & Techniques'!A68","v":"Application of Non-Systemic Insecticide When Annual Crop is  Not in Bloom"}]
[null,null,null,null,null,null,null,null,null,null,null,null,null,null,null,null,null,null,null,null,null,null,null,null,null,null,null,null,null,null,{"$f":"'Practices & Techniques'!A69","v":"Application of Highly Toxic Systemic Insecticide After Perennial Crop Bloom"}]
[null,null,null,null,null,null,null,null,null,null,null,null,null,null,null,null,null,null,null,null,null,null,null,null,null,null,null,null,null,null,{"$f":"'Practices & Techniques'!A70","v":"Application of Mod. Toxic Systemic Insecticide After Perennial Crop Bloom"}]
[null,null,null,null,null,null,null,null,null,null,null,null,null,null,null,null,null,null,null,null,null,null,null,null,null,null,null,null,null,null,{"$f":"'Practices & Techniques'!A71","v":"Application of Highly Toxic Systemic Insecticide with Relatively Long Soil Half-Life After Annual Crop Bloom"}]
[null,null,null,null,null,null,null,null,null,null,null,null,null,null,null,null,null,null,null,null,null,null,null,null,null,null,null,null,null,null,{"$f":"'Practices & Techniques'!A72","v":"Application of Mod. Toxic Systemic Insecticide with Relatively Short Soil Half-Life After Annual Crop Bloom"},null,null,null,null,null,null,null,null,null,null,null,null,null,null,null,null,null,null,null,{"$f":"IF('Cons. Planning Worksheet'!C51=\"\", \"\",  ('Cons. Planning Worksheet'!C51))","v":""}]
[null,null,null,null,null,null,null,null,null,null,null,null,null,null,null,null,null,null,null,null,null,null,null,null,null,null,null,null,null,null,{"$f":"'Practices & Techniques'!A73","v":"In-field Bloom Removal Prior to Application of Non-Systemic Mod. to Highly Toxic Insecticide in Perennial Crop"}]
[null,null,null,null,null,null,null,null,null,null,null,null,null,null,null,null,null,null,null,null,null,null,null,null,null,null,null,null,null,null,{"$f":"'Practices & Techniques'!A74","v":"In-field Bloom Removal Prior to Application of Highly Toxic Systemic Insecticides"}]
[null,null,null,null,null,null,null,null,null,null,null,null,null,null,null,null,null,null,null,null,null,null,null,null,null,null,null,null,null,null,{"$f":"'Practices & Techniques'!A75","v":"In-field Bloom Removal Prior to Application of Mod. Toxic Systemic Insecticides"}]
[null,null,null,null,null,null,null,null,{"$f":"IF(E46=\"\",\"\",VLOOKUP(E46,'Practices & Techniques'!$A$6:$B$114,2,FALSE))","v":""},null,null,null,null,null,null,null,null,null,null,null,null,null,null,null,null,null,null,null,null,null,{"$f":"'Practices & Techniques'!A76","v":"Electrostatic or Image-Responsive Sprayer Technology"}]
[null,null,null,null,null,null,null,null,{"$f":"IF(E47=\"\",\"\",VLOOKUP(E47,'Practices & Techniques'!$A$6:$B$114,2,FALSE))","v":""},null,null,null,null,null,null,null,null,null,null,null,null,null,null,null,null,null,null,null,null,null,{"$f":"'Practices & Techniques'!A77","v":"Formulation Substitution for Non-Systemic Pesticide (e.g. Dust or Liquid to Granular)"},null,null,null,null,null,null,null,null,null,null,null,null,null,null,null,null,null,null,null,{"$f":"IF('Cons. Planning Worksheet'!C56=\"\", \"\",  ('Cons. Planning Worksheet'!C56))","v":""}]
[null,null,null,null,null,null,null,null,{"$f":"IF(E48=\"\",\"\",VLOOKUP(E48,'Practices & Techniques'!$A$6:$B$114,2,FALSE))","v":""},null,null,null,null,null,null,null,null,null,null,null,null,null,null,null,null,null,null,null,null,null,{"$f":"'Practices & Techniques'!A78","v":"Monitoring and Economic Pest Thresholds: Pesticide with Long Residual Toxicity"}]
[null,null,null,null,null,null,null,null,{"$f":"IF(E49=\"\",\"\",VLOOKUP(E49,'Practices & Techniques'!$A$6:$B$114,2,FALSE))","v":""}]
[null,null,null,null,null,null,null,null,{"$f":"IF(E50=\"\",\"\",VLOOKUP(E50,'Practices & Techniques'!$A$6:$B$114,2,FALSE))","v":""},null,null,null,null,null,null,null,null,null,null,null,null,null,null,null,null,null,null,null,null,null,{"$f":"'Practices & Techniques'!A80","v":"CLIENT NO LONGER USES THIS PRODUCT "}]
[null,null,null,null,null,null,null,null,{"$f":"IF(E51=\"\",\"\",VLOOKUP(E51,'Practices & Techniques'!$A$6:$B$114,2,FALSE))","v":""}]
[null,null,null,null,null,null,null,null,{"$f":"IF(E52=\"\",\"\",VLOOKUP(E52,'Practices & Techniques'!$A$6:$B$114,2,FALSE))","v":""},null,null,null,null,null,null,null,null,null,null,null,null,null,null,null,null,null,null,null,null,null,null,null,null,null,null,null,null,null,null,null,null,null,null,null,null,null,null,null,null,null,{"$f":"IF('Cons. Planning Worksheet'!C61=\"\", \"\",  ('Cons. Planning Worksheet'!C61))","v":""}]
[null,null,null,null,null,null,null,null,{"$f":"IF(E53=\"\",\"\",VLOOKUP(E53,'Practices & Techniques'!$A$6:$B$114,2,FALSE))","v":""}]
[null,null,null,null,"Practice Narrative:"]
[]
[null,null,null,null,"Operation and Maintenance:"]
[null,null,null,null,"Review and update the plan periodically to incorporate new IPM technology, respond to cropping system and pest complex changes, and avoid the development of pest resistance.",null,null,null,null,null,null,null,null,null,null,null,null,null,null,null,null,null,null,null,null,null,null,null,null,null,null,null,null,null,null,null,null,null,null,null,null,null,null,null,null,null,null,null,null,null,{"$f":"IF('Cons. Planning Worksheet'!C66=\"\", \"\",  ('Cons. Planning Worksheet'!C66))","v":""}]
[null,null,null,null,"Maintain conservation treatment requirements identified above to ensure continued effectiveness."]
[null,null,null,null,"Calibrate application equipment according to Extension and/or manufacturer recommendations before each seasonal use and with each major chemical change. "]
[null,null,null,null,"Maintain records of pesticide application for restricted use materials for at least two years.  Pesticide application records shall be in kept accordance with USDA Agricultural Marketing Service's Pesticide Record Keeping Program which is found at http://www.ams.usda.gov/science/sdpr.htm  A list of restricted use pesticides is available at http://entweb.clemson.edu/pesticid/document/fedrup.htm#restricted."]
[null,null,null,null,"Certification"]
[null,null,null,null,"I agree to implement this practice as explained above.",null,null,null,null,null,null,null,null,null,null,null,null,null,null,null,null,null,null,null,null,null,null,null,null,null,null,null,null,null,null,null,null,null,null,null,null,null,null,null,null,null,null,null,null,null,{"$f":"IF('Cons. Planning Worksheet'!C71=\"\", \"\",  ('Cons. Planning Worksheet'!C71))","v":""}]
[null,null,null,null,null,"Client:",null,null,null,null,null,null,null,null,"Date:"]
[null,null,null,null,"This practice is planned according to NRCS Standards and Specifications."]
[null,null,null,null,null,"Conservationist:",null,null,null,null,null,null,null,null,"Date:"]
[null,null,null,null,"This practice has been completed and maintained in accordance with this Jobsheet."]
[null,null,null,null,null,"Completed by:","                                                                          ",null,null,null,null,null,null,null,"Date:","                                                                                   ",null,null,null,null,null,null,null,null,null,null,null,null,null,null,null,null,null,null,null,null,null,null,null,null,null,null,null,null,null,null,null,null,null,null,{"$f":"IF('Cons. Planning Worksheet'!C76=\"\", \"\",  ('Cons. Planning Worksheet'!C76))","v":""}]
[]
[null,null,null,null,"No data entry beyond this point.",null,null,null,"No data entry beyond this point.",null,null,null,null,null,null,"No data entry beyond this point.",null,null,null,null,null,"No data entry beyond this point."]
[]
[]
[null,null,null,null,null,null,null,null,null,null,null,null,null,null,null,null,null,null,null,null,null,null,null,null,null,null,null,null,null,null,null,null,null,null,null,null,null,null,null,null,null,null,null,null,null,null,null,null,null,null,{"$f":"IF('Cons. Planning Worksheet'!C81=\"\", \"\",  ('Cons. Planning Worksheet'!C81))","v":""}]
[]
[]
[]
[]
[null,null,null,null,null,null,null,null,null,null,null,null,null,null,null,null,null,null,null,null,null,null,null,null,null,null,null,null,null,null,null,null,null,null,null,null,null,null,null,null,null,null,null,null,null,null,null,null,null,null,{"$f":"IF('Cons. Planning Worksheet'!C86=\"\", \"\",  ('Cons. Planning Worksheet'!C86))","v":""}]
[]
[]
[]
[]
[null,null,null,null,null,null,null,null,null,null,null,null,null,null,null,null,null,null,null,null,null,null,null,null,null,null,null,null,null,null,null,null,null,null,null,null,null,null,null,null,null,null,null,null,null,null,null,null,null,null,{"$f":"IF('Cons. Planning Worksheet'!C91=\"\", \"\",  ('Cons. Planning Worksheet'!C91))","v":""}]
[]
[]
[]
[]
[null,null,null,null,null,null,null,null,null,null,null,null,null,null,null,null,null,null,null,null,null,null,null,null,null,null,null,null,null,null,null,null,null,null,null,null,null,null,null,null,null,null,null,null,null,null,null,null,null,null,{"$f":"IF('Cons. Planning Worksheet'!C96=\"\", \"\",  ('Cons. Planning Worksheet'!C96))","v":""}]
[]
[]
[]
[]
[null,null,null,null,null,null,null,null,null,null,null,null,null,null,null,null,null,null,null,null,null,null,null,null,null,null,null,null,null,null,null,null,null,null,null,null,null,null,null,null,null,null,null,null,null,null,null,null,null,null,{"$f":"IF('Cons. Planning Worksheet'!C101=\"\", \"\",  ('Cons. Planning Worksheet'!C101))","v":""}]
[]
[]
[]
[]
[null,null,null,null,null,null,null,null,null,null,null,null,null,null,null,null,null,null,null,null,null,null,null,null,null,null,null,null,null,null,null,null,null,null,null,null,null,null,null,null,null,null,null,null,null,null,null,null,null,null,{"$f":"IF('Cons. Planning Worksheet'!C106=\"\", \"\",  ('Cons. Planning Worksheet'!C106))","v":""}]
[]
[]
[]
[]
[null,null,null,null,null,null,null,null,null,null,null,null,null,null,null,null,null,null,null,null,null,null,null,null,null,null,null,null,null,null,null,null,null,null,null,null,null,null,null,null,null,null,null,null,null,null,null,null,null,null,{"$f":"IF('Cons. Planning Worksheet'!C111=\"\", \"\",  ('Cons. Planning Worksheet'!C111))","v":""}]
[]
[]
[]
[]
[null,null,null,null,null,null,null,null,null,null,null,null,null,null,null,null,null,null,null,null,null,null,null,null,null,null,null,null,null,null,null,null,null,null,null,null,null,null,null,null,null,null,null,null,null,null,null,null,null,null,{"$f":"IF('Cons. Planning Worksheet'!C116=\"\", \"\",  ('Cons. Planning Worksheet'!C116))","v":""}]
[]
[]
[]
[]
[null,null,null,null,null,null,null,null,null,null,null,null,null,null,null,null,null,null,null,null,null,null,null,null,null,null,null,null,null,null,null,null,null,null,null,null,null,null,null,null,null,null,null,null,null,null,null,null,null,null,{"$f":"IF('Cons. Planning Worksheet'!C121=\"\", \"\",  ('Cons. Planning Worksheet'!C121))","v":""}]
[]
[]
[]
[]
[null,null,null,null,null,null,null,null,null,null,null,null,null,null,null,null,null,null,null,null,null,null,null,null,null,null,null,null,null,null,null,null,null,null,null,null,null,null,null,null,null,null,null,null,null,null,null,null,null,null,{"$f":"IF('Cons. Planning Worksheet'!C126=\"\", \"\",  ('Cons. Planning Worksheet'!C126))","v":""}]
[]
[]
[]
[]
[null,null,null,null,null,null,null,null,null,null,null,null,null,null,null,null,null,null,null,null,null,null,null,null,null,null,null,null,null,null,null,null,null,null,null,null,null,null,null,null,null,null,null,null,null,null,null,null,null,null,{"$f":"IF('Cons. Planning Worksheet'!C131=\"\", \"\",  ('Cons. Planning Worksheet'!C131))","v":""}]
[]
[]
[]
[]
[null,null,null,null,null,null,null,null,null,null,null,null,null,null,null,null,null,null,null,null,null,null,null,null,null,null,null,null,null,null,null,null,null,null,null,null,null,null,null,null,null,null,null,null,null,null,null,null,null,null,{"$f":"IF('Cons. Planning Worksheet'!C136=\"\", \"\",  ('Cons. Planning Worksheet'!C136))","v":""}]
[]
[]
[]
[]
[null,null,null,null,null,null,null,null,null,null,null,null,null,null,null,null,null,null,null,null,null,null,null,null,null,null,null,null,null,null,null,null,null,null,null,null,null,null,null,null,null,null,null,null,null,null,null,null,null,null,{"$f":"IF('Cons. Planning Worksheet'!C141=\"\", \"\",  ('Cons. Planning Worksheet'!C141))","v":""}]
[]
[]
[]
[]
[null,null,null,null,null,null,null,null,null,null,null,null,null,null,null,null,null,null,null,null,null,null,null,null,null,null,null,null,null,null,null,null,null,null,null,null,null,null,null,null,null,null,null,null,null,null,null,null,null,null,{"$f":"IF('Cons. Planning Worksheet'!C146=\"\", \"\",  ('Cons. Planning Worksheet'!C146))","v":""}]
[]
[]
[]
[]
[null,null,null,null,null,null,null,null,null,null,null,null,null,null,null,null,null,null,null,null,null,null,null,null,null,null,null,null,null,null,null,null,null,null,null,null,null,null,null,null,null,null,null,null,null,null,null,null,null,null,{"$f":"IF('Cons. Planning Worksheet'!C151=\"\", \"\",  ('Cons. Planning Worksheet'!C151))","v":""}]
[]
[]
[]
[]
[null,null,null,null,null,null,null,null,null,null,null,null,null,null,null,null,null,null,null,null,null,null,null,null,null,null,null,null,null,null,null,null,null,null,null,null,null,null,null,null,null,null,null,null,null,null,null,null,null,null,{"$f":"IF('Cons. Planning Worksheet'!C156=\"\", \"\",  ('Cons. Planning Worksheet'!C156))","v":""}]
[]
[]
[]
[]
[null,null,null,null,null,null,null,null,null,null,null,null,null,null,null,null,null,null,null,null,null,null,null,null,null,null,null,null,null,null,null,null,null,null,null,null,null,null,null,null,null,null,null,null,null,null,null,null,null,null,{"$f":"IF('Cons. Planning Worksheet'!C161=\"\", \"\",  ('Cons. Planning Worksheet'!C161))","v":""}]
[]
[]
[]
[]
[null,null,null,null,null,null,null,null,null,null,null,null,null,null,null,null,null,null,null,null,null,null,null,null,null,null,null,null,null,null,null,null,null,null,null,null,null,null,null,null,null,null,null,null,null,null,null,null,null,null,{"$f":"IF('Cons. Planning Worksheet'!C166=\"\", \"\",  ('Cons. Planning Worksheet'!C166))","v":""}]

{"sheet":"595 Impl. Req. - Prevention","index":4,"n_rows":156,"n_cols":54,"rows_kept":156,"cut":false,"hidden":false,"merged":[[5,20,7,29],[9,22,9,27],[5,5,5,14],[6,5,6,14],[7,5,7,14],[15,22,18,22],[15,23,18,23],[15,24,18,24],[15,25,18,25],[15,26,18,26],[15,27,18,27],[15,28,18,28],[15,29,18,29],[6,16,7,19],[11,24,14,24],[13,13,14,13],[13,14,14,14],[15,13,18,13],[15,14,18,14],[15,15,18,15],[11,25,14,25],[11,15,14,15],[11,16,14,16],[11,17,18,17],[2,5,2,6],[2,7,2,8],[2,9,2,10],[2,11,2,12],[2,13,2,14],[0,5,0,29],[2,20,2,29],[3,20,3,29],[4,20,4,29],[1,5,1,29],[4,7,4,8],[4,9,4,14],[3,5,3,6],[3,7,3,8],[3,9,3,10],[3,11,3,12],[3,13,3,14],[4,5,4,6],[20,4,20,29],[21,4,21,29],[22,4,22,29],[35,53,39,53],[10,22,10,23],[10,24,10,25],[10,26,10,27],[21,53,24,53],[25,53,29,53],[32,6,32,13],[30,6,30,13],[28,6,28,13],[11,22,14,22],[11,23,14,23],[11,5,18,5],[11,6,18,6],[11,7,18,7],[11,8,18,8],[11,9,14,9],[11,10,14,10],[11,18,18,18],[11,19,18,19],[11,20,18,20],[11,21,18,21],[9,0,10,0],[9,1,10,1],[9,2,10,2],[9,3,10,3],[9,4,9,8],[9,9,9,14],[45,53,49,53],[50,53,54,53],[9,15,9,16],[10,15,10,16],[9,28,9,29],[10,28,10,29],[9,53,10,53],[9,17,9,21],[11,53,20,53],[30,53,34,53],[10,13,10,14],[11,28,14,28],[11,29,14,29],[13,26,14,26],[13,27,14,27],[11,4,18,4],[11,11,14,11],[11,12,14,12],[60,53,64,53],[65,53,69,53],[70,53,74,53],[75,53,79,53],[80,53,84,53],[130,53,134,53],[135,53,139,53],[140,53,144,53],[10,9,10,10],[10,11,10,12],[23,4,23,29],[24,4,24,29],[25,4,25,29],[26,4,26,29],[27,4,27,29],[29,4,29,29],[31,4,31,29],[55,53,59,53],[40,53,44,53],[15,9,18,9],[15,10,18,10],[15,11,18,11],[15,12,18,12],[15,16,18,16],[145,53,149,53],[150,53,154,53],[155,53,159,53],[100,53,104,53],[85,53,89,53],[90,53,94,53],[95,53,99,53],[105,53,109,53],[110,53,114,53],[115,53,119,53],[120,53,124,53],[125,53,129,53]]}
[null,null,null,null,null," CPS 595 Implementation Requirement - Prevention",null,null,null,null,null,null,null,null,null,null,null,null,null,null,null,null,null,null,null,null,null,null,null,null,null,null,null,"Resources/Pathways","Human","Fish","WIN-PST Ratings","Other Ratings","Ap. Area","Ap. Method","Ap. Rate"]
[null,null,null,null,"Natural Resources Conservation Service","Conservation Practice Standard 595                                                                                                                                                                              Version 3.0                  October, 2015",null,null,null,null,null,null,null,null,null,null,null,null,null,null,null,null,null,null,null,null,null,null,null,null,null,null,{"$f":"'Cons. Planning Worksheet'!AD7","v":false},"Pesticides leaching to groundwater",{"$f":"'Cons. Planning Worksheet'!AF7","v":false},{"$f":"'Cons. Planning Worksheet'!AG7","v":false},"V","Not a Concern","Broadcast","Ground","Standard"]
[null,null,null,null,"Client:",{"$f":"IF('Cons. Planning Worksheet'!D3=\"\",\"\",(+'Cons. Planning Worksheet'!D3))","v":""},null,"Tract:",null,{"$f":"IF('Cons. Planning Worksheet'!G3=\"\",\"\",(+'Cons. Planning Worksheet'!G3))","v":""},null,"Field #:",null,{"$f":"IF('Cons. Planning Worksheet'!K3=\"\",\"\",(+'Cons. Planning Worksheet'!K3))","v":""},null,null,null,null,null,"Crop Rotation:",{"$f":"IF('Cons. Planning Worksheet'!L7=\"\",\"\",(+'Cons. Planning Worksheet'!L7))","v":""},null,null,null,null,null,null,null,null,null,null,null,{"$f":"'Cons. Planning Worksheet'!AD8","v":false},"Pesticides in runoff water",{"$f":"'Cons. Planning Worksheet'!AF8","v":false},{"$f":"'Cons. Planning Worksheet'!AG8","v":false},"L","Mitigated Concern","Banded","Foliar","Low"]
[null,null,null,null,"Planner:",{"$f":"IF('Cons. Planning Worksheet'!D4=\"\",\"\",(+'Cons. Planning Worksheet'!D4))","v":""},null,"Date:",null,{"$f":"TODAY()","v":"2018-05-29"},null,"Acres:",null,{"$f":"IF('Cons. Planning Worksheet'!K4=\"\",\"\",(+'Cons. Planning Worksheet'!K4))","v":""},null,null,null,null,null,"Landuse:",{"$f":"IF('Cons. Planning Worksheet'!AD1=TRUE,\"Hayland\",IF('Cons. Planning Worksheet'!AD2=TRUE,\"Cropland\",IF('Cons. Planning Worksheet'!AD3=TRUE,\"Range\",IF('Cons. Planning Worksheet'!AD4=TRUE,\"Forest\",IF('Cons. Planning Worksheet'!AD5=TRUE,\"Other\",\"\")))))","v":""},null,null,null,null,null,null,null,null,null,null,null,{"$f":"'Cons. Planning Worksheet'!AD9","v":false},"Pesticide-laden sediment",null,null,"I","Needs Action","Spot","Incorporated","Ulta Low"]
[null,null,null,null,"Consultant:",{"$f":"IF('Cons. Planning Worksheet'!D5=\"\",\"\",(+'Cons. Planning Worksheet'!D5))","v":""},null,"Crop:",null,{"$f":"IF('Cons. Planning Worksheet'!G5=\"\",\"\",(+'Cons. Planning Worksheet'!G5))","v":""},null,null,null,null,null,null,null,null,null,"Soil types to which this prevention applies:",null,null,null,null,null,null,null,null,null,null,null,null,{"$f":"'Cons. Planning Worksheet'!AD10","v":false},"Pesticide drift from field",null,null,"H"]
[null,null,null,null,"Purpose(s):",{"$f":"IF('Cons. Planning Worksheet'!AD16=TRUE,'Cons. Planning Worksheet'!AE16,\"\")","v":""},null,null,null,null,null,null,null,null,null,null,null,null,null,null,{"$f":"IF('Cons. Planning Worksheet'!I18=\"\",\"\",(+'Cons. Planning Worksheet'!I18))","v":""},null,null,null,null,null,null,null,null,null,null,null,{"$f":"'Cons. Planning Worksheet'!AD11","v":false},"Pesticide volatilization from field",null,null,"X","Not a Concern"]
[null,null,null,null,null,{"$f":"IF('Cons. Planning Worksheet'!AD17=TRUE,'Cons. Planning Worksheet'!AE17,\"\")","v":""},null,null,null,null,null,null,null,null,null,null,"Description of waters of concern (river, irrigation ditch, stream, pond, etc.):",null,null,null,null,null,null,null,null,null,null,null,null,null,null,null,null,null,null,null,null,"Mitigated Concern"]
[null,null,null,null,null,{"$f":"IF('Cons. Planning Worksheet'!AD18=TRUE,'Cons. Planning Worksheet'!AE18,\"\")","v":""},null,null,null,null,null,null,null,null,null,null,null,null,null,null,null,null,null,null,null,null,null,null,null,null,null,null," ","= Initial Soil",null,null,null,"See 595-Mitigation Impl. Req."]
[]
["No.","Soil Map Unit","Soil Name","Target Pest Name(s)","Pesticide Information",null,null,null,null,"WIN-PST  Hazard Ratings",null,null,null,null,null,"Other Ratings",null,"Pesticide Information",null,null,null,null,"WIN-PST  Hazard Ratings",null,null,null,null,null,"Other Ratings",null,null,null,null,null,null,null,null,null,null,null,null,null,null,null,null,null,null,null,null,null,null,null,null,"Soil Name"]
[null,null,null,null,"Product Name","Active Ingredient (a.i.)","Ap. Area","Ap. Method","Ap. Rate","Leaching          (ILP)",null,"Solution Runoff (ISRP)",null,"Adsorbed Runoff (IARP)",null,"Volatilization         &     Pollinators",null,"Product Name","Active Ingredient (a.i.)","Ap. Area","Ap. Method","Ap. Rate","Leaching          (ILP)",null,"Solution Runoff (ISRP)",null,"Adsorbed Runoff (IARP)",null,"Volatilization         &     Pollinators"]
[null,null,null,null,null,null,null,null,null,"Human",null,"Human",null,null,null,"Volatilization",null,null,null,null,null,null,"Human",null,"Human",null,null,null,"Volatilization"]
[]
[null,null,null,null,null,null,null,null,null,null,null,null,null,null,null,null,null,null,null,null,null,null,null,null,null,null,null,null,null,null,null,null,null,null,null,null,null,false,false,false]
[]
[null,null,null,null,null,null,null,null,null,"Fish",null,"Fish",null,"Fish",null,"Pollinators",null,null,null,null,null,null,"Fish",null,"Fish",null,"Fish",null,"Pollinators"]
[]
[]
[]
[]
[null,null,null,null,"Practice Narrative:"]
[null,null,null,null,null,null,null,null,null,null,null,null,null,null,null,null,null,null,null,null,null,null,null,null,null,null,null,null,null,null,null,null,null,null,null,null,null,null,null,null,null,null,null,null,null,null,null,null,null,null,null,null,null,{"$f":"IF('Cons. Planning Worksheet'!C31=\"\", \"\",  ('Cons. Planning Worksheet'!C31))","v":""}]
[null,null,null,null,"Operation and Maintenance:"]
[null,null,null,null,"Review and update the plan periodically to incorporate new IPM technology, respond to cropping system and pest complex changes, and avoid the development of pest resistance."]
[null,null,null,null,"Calibrate application equipment according to Extension and/or manufacturer recommendations before each seasonal use and with each major chemical change. "]
[null,null,null,null,"Maintain records of pesticide application for restricted use materials for at least two years.  Pesticide application records shall be in kept accordance with USDA Agricultural Marketing Service's Pesticide Record Keeping Program which is found at http://www.ams.usda.gov/science/sdpr.htm  A list of restricted use pesticides is available at http://entweb.clemson.edu/pesticid/document/fedrup.htm#restricted.",null,null,null,null,null,null,null,null,null,null,null,null,null,null,null,null,null,null,null,null,null,null,null,null,null,null,null,null,null,null,null,null,null,null,null,null,null,null,null,null,null,null,null,null,null,null,null,null,{"$f":"IF('Cons. Planning Worksheet'!C36=\"\", \"\",  ('Cons. Planning Worksheet'!C36))","v":""}]
[null,null,null,null,"Certification"]
[null,null,null,null,"I agree to implement this practice as explained above."]
[null,null,null,null,null,"Client:",null,null,null,null,null,null,null,null,null,null,"Date:"]
[null,null,null,null,"This practice is planned according to NRCS Standards and Specifications."]
[null,null,null,null,null,"Conservationist:",null,null,null,null,null,null,null,null,null,null,"Date:",null,null,null,null,null,null,null,null,null,null,null,null,null,null,null,null,null,null,null,null,null,null,null,null,null,null,null,null,null,null,null,null,null,null,null,null,{"$f":"IF('Cons. Planning Worksheet'!C41=\"\", \"\",  ('Cons. Planning Worksheet'!C41))","v":""}]
[null,null,null,null,"This practice has been completed and maintained in accordance with this Jobsheet."]
[null,null,null,null,null,"Completed by:","                                                                                             ",null,null,null,null,null,null,null,null,null,"Date:","                          "]
[]
[null,null,null,null,"No data entry beyond this point.",null,null,null,"No data entry beyond this point.",null,null,null,null,null,null,"No data entry beyond this point.",null,null,null,"No data entry beyond this point.",null,null,null,null,null,"No data entry beyond this point."]
[null,null,null,null,null,null,null,null,null,null,null,null,null,null,null,null,null,null,null,null,null,null,null,null,null,null,null,null,null,null,null,null,null,null,null,null,null,null,null,null,null,null,null,null,null,null,null,null,null,null,null,null,null,{"$f":"IF('Cons. Planning Worksheet'!C46=\"\", \"\",  ('Cons. Planning Worksheet'!C46))","v":""}]
[]
[]
[]
[]
[null,null,null,null,null,null,null,null,null,null,null,null,null,null,null,null,null,null,null,null,null,null,null,null,null,null,null,null,null,null,null,null,null,null,null,null,null,null,null,null,null,null,null,null,null,null,null,null,null,null,null,null,null,{"$f":"IF('Cons. Planning Worksheet'!C51=\"\", \"\",  ('Cons. Planning Worksheet'!C51))","v":""}]
[]
[]
[]
[]
[null,null,null,null,null,null,null,null,null,null,null,null,null,null,null,null,null,null,null,null,null,null,null,null,null,null,null,null,null,null,null,null,null,null,null,null,null,null,null,null,null,null,null,null,null,null,null,null,null,null,null,null,null,{"$f":"IF('Cons. Planning Worksheet'!C56=\"\", \"\",  ('Cons. Planning Worksheet'!C56))","v":""}]
[]
[]
[]
[]
[null,null,null,null,null,null,null,null,null,null,null,null,null,null,null,null,null,null,null,null,null,null,null,null,null,null,null,null,null,null,null,null,null,null,null,null,null,null,null,null,null,null,null,null,null,null,null,null,null,null,null,null,null,{"$f":"IF('Cons. Planning Worksheet'!C61=\"\", \"\",  ('Cons. Planning Worksheet'!C61))","v":""}]
[]
[]
[]
[]
[null,null,null,null,null,null,null,null,null,null,null,null,null,null,null,null,null,null,null,null,null,null,null,null,null,null,null,null,null,null,null,null,null,null,null,null,null,null,null,null,null,null,null,null,null,null,null,null,null,null,null,null,null,{"$f":"IF('Cons. Planning Worksheet'!C66=\"\", \"\",  ('Cons. Planning Worksheet'!C66))","v":""}]
[]
[]
[]
[]
[null,null,null,null,null,null,null,null,null,null,null,null,null,null,null,null,null,null,null,null,null,null,null,null,null,null,null,null,null,null,null,null,null,null,null,null,null,null,null,null,null,null,null,null,null,null,null,null,null,null,null,null,null,{"$f":"IF('Cons. Planning Worksheet'!C71=\"\", \"\",  ('Cons. Planning Worksheet'!C71))","v":""}]
[]
[]
[]
[]
[null,null,null,null,null,null,null,null,null,null,null,null,null,null,null,null,null,null,null,null,null,null,null,null,null,null,null,null,null,null,null,null,null,null,null,null,null,null,null,null,null,null,null,null,null,null,null,null,null,null,null,null,null,{"$f":"IF('Cons. Planning Worksheet'!C76=\"\", \"\",  ('Cons. Planning Worksheet'!C76))","v":""}]
[]
[]
[]
[]
[null,null,null,null,null,null,null,null,null,null,null,null,null,null,null,null,null,null,null,null,null,null,null,null,null,null,null,null,null,null,null,null,null,null,null,null,null,null,null,null,null,null,null,null,null,null,null,null,null,null,null,null,null,{"$f":"IF('Cons. Planning Worksheet'!C81=\"\", \"\",  ('Cons. Planning Worksheet'!C81))","v":""}]
[]
[]
[]
[]
[null,null,null,null,null,null,null,null,null,null,null,null,null,null,null,null,null,null,null,null,null,null,null,null,null,null,null,null,null,null,null,null,null,null,null,null,null,null,null,null,null,null,null,null,null,null,null,null,null,null,null,null,null,{"$f":"IF('Cons. Planning Worksheet'!C86=\"\", \"\",  ('Cons. Planning Worksheet'!C86))","v":""}]
[]
[]
[]
[]
[null,null,null,null,null,null,null,null,null,null,null,null,null,null,null,null,null,null,null,null,null,null,null,null,null,null,null,null,null,null,null,null,null,null,null,null,null,null,null,null,null,null,null,null,null,null,null,null,null,null,null,null,null,{"$f":"IF('Cons. Planning Worksheet'!C91=\"\", \"\",  ('Cons. Planning Worksheet'!C91))","v":""}]
[]
[]
[]
[]
[null,null,null,null,null,null,null,null,null,null,null,null,null,null,null,null,null,null,null,null,null,null,null,null,null,null,null,null,null,null,null,null,null,null,null,null,null,null,null,null,null,null,null,null,null,null,null,null,null,null,null,null,null,{"$f":"IF('Cons. Planning Worksheet'!C96=\"\", \"\",  ('Cons. Planning Worksheet'!C96))","v":""}]
[]
[]
[]
[]
[null,null,null,null,null,null,null,null,null,null,null,null,null,null,null,null,null,null,null,null,null,null,null,null,null,null,null,null,null,null,null,null,null,null,null,null,null,null,null,null,null,null,null,null,null,null,null,null,null,null,null,null,null,{"$f":"IF('Cons. Planning Worksheet'!C101=\"\", \"\",  ('Cons. Planning Worksheet'!C101))","v":""}]
[]
[]
[]
[]
[null,null,null,null,null,null,null,null,null,null,null,null,null,null,null,null,null,null,null,null,null,null,null,null,null,null,null,null,null,null,null,null,null,null,null,null,null,null,null,null,null,null,null,null,null,null,null,null,null,null,null,null,null,{"$f":"IF('Cons. Planning Worksheet'!C106=\"\", \"\",  ('Cons. Planning Worksheet'!C106))","v":""}]
[]
[]
[]
[]
[null,null,null,null,null,null,null,null,null,null,null,null,null,null,null,null,null,null,null,null,null,null,null,null,null,null,null,null,null,null,null,null,null,null,null,null,null,null,null,null,null,null,null,null,null,null,null,null,null,null,null,null,null,{"$f":"IF('Cons. Planning Worksheet'!C111=\"\", \"\",  ('Cons. Planning Worksheet'!C111))","v":""}]
[]
[]
[]
[]
[null,null,null,null,null,null,null,null,null,null,null,null,null,null,null,null,null,null,null,null,null,null,null,null,null,null,null,null,null,null,null,null,null,null,null,null,null,null,null,null,null,null,null,null,null,null,null,null,null,null,null,null,null,{"$f":"IF('Cons. Planning Worksheet'!C116=\"\", \"\",  ('Cons. Planning Worksheet'!C116))","v":""}]
[]
[]
[]
[]
[null,null,null,null,null,null,null,null,null,null,null,null,null,null,null,null,null,null,null,null,null,null,null,null,null,null,null,null,null,null,null,null,null,null,null,null,null,null,null,null,null,null,null,null,null,null,null,null,null,null,null,null,null,{"$f":"IF('Cons. Planning Worksheet'!C121=\"\", \"\",  ('Cons. Planning Worksheet'!C121))","v":""}]
[]
[]
[]
[]
[null,null,null,null,null,null,null,null,null,null,null,null,null,null,null,null,null,null,null,null,null,null,null,null,null,null,null,null,null,null,null,null,null,null,null,null,null,null,null,null,null,null,null,null,null,null,null,null,null,null,null,null,null,{"$f":"IF('Cons. Planning Worksheet'!C126=\"\", \"\",  ('Cons. Planning Worksheet'!C126))","v":""}]
[]
[]
[]
[]
[null,null,null,null,null,null,null,null,null,null,null,null,null,null,null,null,null,null,null,null,null,null,null,null,null,null,null,null,null,null,null,null,null,null,null,null,null,null,null,null,null,null,null,null,null,null,null,null,null,null,null,null,null,{"$f":"IF('Cons. Planning Worksheet'!C131=\"\", \"\",  ('Cons. Planning Worksheet'!C131))","v":""}]
[]
[]
[]
[]
[null,null,null,null,null,null,null,null,null,null,null,null,null,null,null,null,null,null,null,null,null,null,null,null,null,null,null,null,null,null,null,null,null,null,null,null,null,null,null,null,null,null,null,null,null,null,null,null,null,null,null,null,null,{"$f":"IF('Cons. Planning Worksheet'!C136=\"\", \"\",  ('Cons. Planning Worksheet'!C136))","v":""}]
[]
[]
[]
[]
[null,null,null,null,null,null,null,null,null,null,null,null,null,null,null,null,null,null,null,null,null,null,null,null,null,null,null,null,null,null,null,null,null,null,null,null,null,null,null,null,null,null,null,null,null,null,null,null,null,null,null,null,null,{"$f":"IF('Cons. Planning Worksheet'!C141=\"\", \"\",  ('Cons. Planning Worksheet'!C141))","v":""}]
[]
[]
[]
[]
[null,null,null,null,null,null,null,null,null,null,null,null,null,null,null,null,null,null,null,null,null,null,null,null,null,null,null,null,null,null,null,null,null,null,null,null,null,null,null,null,null,null,null,null,null,null,null,null,null,null,null,null,null,{"$f":"IF('Cons. Planning Worksheet'!C146=\"\", \"\",  ('Cons. Planning Worksheet'!C146))","v":""}]
[]
[]
[]
[]
[null,null,null,null,null,null,null,null,null,null,null,null,null,null,null,null,null,null,null,null,null,null,null,null,null,null,null,null,null,null,null,null,null,null,null,null,null,null,null,null,null,null,null,null,null,null,null,null,null,null,null,null,null,{"$f":"IF('Cons. Planning Worksheet'!C151=\"\", \"\",  ('Cons. Planning Worksheet'!C151))","v":""}]
[]
[]
[]
[]
[null,null,null,null,null,null,null,null,null,null,null,null,null,null,null,null,null,null,null,null,null,null,null,null,null,null,null,null,null,null,null,null,null,null,null,null,null,null,null,null,null,null,null,null,null,null,null,null,null,null,null,null,null,{"$f":"IF('Cons. Planning Worksheet'!C156=\"\", \"\",  ('Cons. Planning Worksheet'!C156))","v":""}]
[]
[]
[]
[]
[null,null,null,null,null,null,null,null,null,null,null,null,null,null,null,null,null,null,null,null,null,null,null,null,null,null,null,null,null,null,null,null,null,null,null,null,null,null,null,null,null,null,null,null,null,null,null,null,null,null,null,null,null,{"$f":"IF('Cons. Planning Worksheet'!C161=\"\", \"\",  ('Cons. Planning Worksheet'!C161))","v":""}]
[]
[]
[]
[]
[null,null,null,null,null,null,null,null,null,null,null,null,null,null,null,null,null,null,null,null,null,null,null,null,null,null,null,null,null,null,null,null,null,null,null,null,null,null,null,null,null,null,null,null,null,null,null,null,null,null,null,null,null,{"$f":"IF('Cons. Planning Worksheet'!C166=\"\", \"\",  ('Cons. Planning Worksheet'!C166))","v":""}]

{"sheet":"Practices & Techniques","index":5,"n_rows":118,"n_cols":32,"rows_kept":118,"cut":false,"hidden":false,"merged":[[54,26,55,26],[54,28,55,28],[54,29,55,29],[54,30,55,30],[54,31,55,31],[1,26,3,26],[1,28,1,31],[2,28,2,31],[1,27,3,27],[52,26,53,26],[52,28,53,28],[52,29,53,29],[52,30,53,30],[52,31,53,31],[52,27,53,27],[2,0,3,0],[2,1,3,1],[0,0,0,7],[1,0,1,7],[2,7,3,7],[2,2,2,6]]}
["IPM Techniques and Conservation Practices",null,null,null,null,null,null,null,null,null,null,null,null,null,null,null,null,null,null,null,null,null,null,null,null,null,"From Agronomy Tech Note 5"]
["If more Conservation Treatments are needed, call the State Water Quality Specialist, Pest Management Specialist or Agronomist. ",null,null,null,null,null,null,null,null,null,null,null,null,null,null,null,null,null,null,null,null,null,null,null,null,null,"IPM Techniques1","Function and Performance Criteria","Mitigation Index Value4"]
["Conservation Practices & Techniques","Treatment Requirements","Mitigation Index Value",null,null,null,null,"Comments",null,null,null,null,null,null,null,null,null,null,null,null,null,null,null,null,null,null,null,null,"(by Pesticide Loss Pathway)"]
[null,null,"Leaching","Solution Runoff","Adsorbed Runoff","Drift*","Onsite** Pollinators",null,null,null,null,null,null,null,null,null,null,null,null,null,null,null,null,null,null,null,null,null,"Leaching","Solution Runoff","Adsorbed Runoff","Drift"]
["Alley Cropping (311)","Trees or shrubs are planted in sets of single or multiple rows with agronomic, horticultural crops or forages produced in the alleys between the sets of woody plants that produce additional products.  Increases infiltration and uptake of subsurface water, reduces soil erosion, and can also reduce pesticide drift.  See 311 Jobsheet for more information.",5,5,10,10,null,null,null,null,null,null,null,null,null,null,null,null,null,null,null,null,null,null,null,null,"Application Timing - Ambient Temperature","Reduces exposure - spraying during cooler temperatures (e.g. early morning, evening or at night) can help reduce drift losses. Avoid spraying in temperatures above 90º F.",null,null,null,5]
["Anionic Polyacrylamide (PAM) Erosion Control (450)","Application of water-soluble Anionic Polyacrylamide (PAM) in irrigation water.  Increases infiltration and deep percolation, reduces soil erosion an offsite transport of pesticide residues.  See 450 Jobsheet for more information.",null,5,15,null,null,null,null,null,null,null,null,null,null,null,null,null,null,null,null,null,null,null,null,null,"Application Timing - Rain","Reduces exposure - delaying application when significant rainfall events are forecast that could produce substantial leaching or runoff can reduce pesticide transport to ground and surface water. ",15,15,15]
["Bedding (310)","Elevating the surface of flat land into a series of broad, low ridges separated by shallow, parallel channels with positive drainage.  Increases surface infiltration and aerobic pesticide degradation in the rootzone.  See 310 Jobsheet for more information.",5,5,5,null,null,null,null,null,null,null,null,null,null,null,null,null,null,null,null,null,null,null,null,null,"Application Timing - Relative Humidity","Reduces exposure - spraying when there is higher relative humidity reduces evaporation of water from spray droplets thus reducing drift losses. ",null,null,null,5]
["Conservation Cover (327)","Establishing and maintaining permanent vegetative cover.  Increases infiltration, reduces soil erosion, and builds soil organic matter in perennial cropping systems such as orchards, vineyards, berries and nursery stock.  See 327 Jobsheet for more information. ",10,10,10,null,null,null,null,null,null,null,null,null,null,null,null,null,null,null,null,null,null,null,null,null,"Application Timing - Wind    ","Reduces exposure - delaying application when wind speed is not optimal can reduce pesticide drift. Optimal spray conditions for reducing drift occur when the air is slightly unstable with a very mild steady wind between 2 and 9mph. ",null,null,null,10]
["Conservation Cover (327) - Pollinators","Establishing and maintaining permanent vegetative cover in orchard and vineyard systems with predominantly or exclusively grass species so as not to attract pollinators during pesticide applications and for periods after application.",null,null,null,null,4,"Care should be taken to ensure that the practice is NOT designed to attract pollinators when pesticides are being applied.  ",null,null,null,null,null,null,null,null,null,null,null,null,null,null,null,null,null,null,"Formulations and Adjuvants2,3","Reduces exposure – specific pesticide formulations and/or adjuvants can increase efficacy and allow lower application rates, drift retardant adjuvants can reduce pesticide spray drift.",5,5,5,5]
["Conservation Crop Rotation (328)","Growing crops in a planned sequence to manage plant pests, break pest lifecycles and/or allow for the use of a variety of control methods.  Implementation results in reduced application of pesticides.  Meets the additional criteria to manage plant pests.  See 328 Jobsheet for more information. ",10,10,10,null,null,null,null,null,null,null,null,null,null,null,null,null,null,null,null,null,null,null,null,null,"Monitoring + Economic Pest Thresholds.","Reduces exposure - reduces the amount of pesticide applied with preventative treatments because applications are based on monitoring that determines when a pest population exceeds a previously determined economic threshold.",15,15,15,15]
["Constructed Wetland (656)","A constructed wetland is used to control runoff from a field.  All the runoff leaving the field flows through the wetland in a controlled manner.  See 656 Jobsheet for more information.",5,5,10,null,null,null,null,null,null,null,null,null,null,null,null,null,null,null,null,null,null,null,null,null,"Partial Treatment","Reduces exposure - spot treatment, banding and directed spraying reduces amount of pesticide applied. Assumes less than 50% of the area is treated.",15,15,15,10]
["Contour Buffer Strips (332)","Narrow strips of permanent, herbaceous vegetative cover established around the hill slope, and alternated down the slope with wider cropped strips used to control runoff and sediment movement from the field.  See 332 Jobsheet for more information.",null,10,10,null,null,null,null,null,null,null,null,null,null,null,null,null,null,null,null,null,null,null,null,null,"Precision Application  Using “Smart Sprayers”","Reduces exposure - using “Smart Sprayer” technology (i.e. green sensors, sonar-based sensors, GPS-based variable rate application, computer controlled spray nozzles, etc.) can substantially reduce the amount of pesticide applied. ",10,10,10,10]
["Contour Farming (330)","The crops are planted on or near the contour to control runoff and sediment.  See 330 Jobsheet for more information.",null,5,5,null,null,null,null,null,null,null,null,null,null,null,null,null,null,null,null,null,null,null,null,null,"Set-backs","Reduces exposure – reduces overall amount of pesticide applied, reduces offsite pesticide drift. Assumes that the set-backs with no application are at least 30 feet wide.",5,5,5,10]
["Contour Orchard and Other Fruit Area (331)","The orchard or vineyard is established on or near the contour to control runoff and sediment.  See 331 Jobsheet for more information.",null,5,5,null,null,null,null,null,null,null,null,null,null,null,null,null,null,null,null,null,null,null,null,null,"Soil Incorporation2,3","Reduces exposure – reduces solution and adsorbed runoff losses, but potentially increases leaching losses, especially for low KOC pesticides. Applicable to shallow mechanical or irrigation incorporation. Not applicable if pesticide leaching to groundwater is an identified natural resource concern. Not applicable if soil erosion is not adequately managed.",null,15,15]
["Cover Crop (340) (green manure)","Typically a green manure cover crop used to provide organic material for improving soil quality.  Must have at least 4000 lbs/Ac of biomass at the time of kill.  Increases infiltration, reduces erosion and builds soil OM.  See 340 Jobsheet for more information.",5,5,5,null,null,null,null,null,null,null,null,null,null,null,null,null,null,null,null,null,null,null,null,null,"Spray Nozzle Selection, Maintenance and Operation.","Reduces exposure – selecting appropriate nozzle and pressure for the application, with an emphasis on higher volume spray nozzles run at lower pressures, will produce larger droplets and a narrower droplet size distribution, which reduces spray drift. Proper nozzle spacing, boom height, and boom suspension, along with frequent calibration and replacement of worn nozzles and leaking tubing, can increase efficacy and reduce drift potential.",null,null,null,10]
["Cover Crop (340) for weed suppression that is mulch tilled or no-tilled into for the next crop.","Typically a fast-growing, densely-planted, deep-rooted grass cover crop (e.g. sudan grass) used to capture residual nutrients after a  crop and improve soil quality.  Must have at least 4000 lbs/Ac of biomass at the time of kill.  Increases infiltration, reduces erosion and builds soil OM.  See 340 Jobsheet for more information.",10,10,10,10,null,null,null,null,null,null,null,null,null,null,null,null,null,null,null,null,null,null,null,null,"Substitution – Cultural, Mechanical or Biological Controls","Reduces risk – partial substitution of alternative cultural, mechanical or biological pest suppression techniques reduces the application of a pesticide that poses a hazard to an identified natural resource concern. Not applicable if hazards from alternative suppression techniques are not adequately managed.",15,15,15,15]
["Cross Wind Ridges (588)","Ridges formed by tillage, planting or other operations and aligned across the direction of erosive winds to reduce wind erosion and adsorbed pesticide deposition in surface water.  Assumes the pesticide is applied while the field is in the ridged state.  See 588 Jobsheet for more information.",null,null,5,null,null,null,null,null,null,null,null,null,null,null,null,null,null,null,null,null,null,null,null,null,"Substitution – Lower Risk Pesticides2,3","Reduces risk – partial substitution of an alternative lower risk pesticide reduces the application of a pesticide that poses a hazard to an identified natural resource concern. Not applicable if the alternative pesticide is not explicitly recommended by Extension or an appropriately certified crop consultant because NRCS cannot make pesticide recommendations.",15,15,15,15]
["Cross Wind Trap Strips (589)","Trap strips are used to control sediment movement (and associated adsorbed pesticide) by wind.  See 589 Jobsheet for more information.",null,null,10,null,null,null,null,null,null,null,null,null,null,null,null,null,null,null,null,null,null,null,null,null,"Substitution -Semiochemicals","Reduces risk – using semiochemicals (e.g., mating disruption pheromones) to decrease reproductive success or control population density/location reduces the application of a pesticide that poses a hazard to an identified natural resource concern.",15,15,15,15]
["Deep Tillage  (324)","Performing tillage operations below the normal tillage depth to modify adverse physical or chemical properties of a soil.  Increases infiltration and deep percolation. Not applicable if pesticide leaching to groundwater is an identified natural resource concern.  See 324 Jobsheet for more information.",null,5,5,null,null,null,null,null,null,null,null,null,null,null,null,null,null,null,null,null,null,null,null,null,"Alley Cropping (311)","Increases infiltration and uptake of subsurface water, reduces soil erosion, can provide habitat for beneficial insects which can reduce the need for pesticides, also can reduce pesticide drift to surface water.",5,5,10,10]
["Dike (356)","A barrier constructed of earth or manufactured materials to exclude outside water from entering the field and thus reducing pesticide losses associated with runoff events.  See 356 Jobsheet for more information.",null,10,10,null,null,null,null,null,null,null,null,null,null,null,null,null,null,null,null,null,null,null,null,null,"Anionic Polyacrylamide (PAM) Erosion Control (450)","Increases infiltration and deep percolation, reduces soil erosion.",null,5,15]
["Drainage Water Management (554)","Drainage during the growing season increases infiltration and aerobic pesticide degradation in the rootzone and reduces storm water runoff. Managed drainage mode when the field is not being cropped reduces discharge of pesticide residues from the previous growing season. Seasonal saturation may reduce the need for pesticides. Not applicable if pesticide leaching to groundwater is an identified natural resource concern.  See 554 Jobsheet for more information.",null,10,10,null,null,null,null,null,null,null,null,null,null,null,null,null,null,null,null,null,null,null,null,null,"Bedding (310)","Increases surface infiltration and aerobic pesticide degradation in the rootzone.",5,5,5]
["Field Border (386)","The field border is acting as a buffer for runoff and sediment. The field border is installed in accordance to the proper additional criteria that addresses runoff and sediment.  Assumes 20 foot minimum width.  See 386 Jobsheet for more information.",null,5,10,5,null,null,null,null,null,null,null,null,null,null,null,null,null,null,null,null,null,null,null,null,"Conservation Cover (327)","Increases infiltration, reduces soil erosion, and builds soil organic matter In perennial cropping systems such as orchards, vineyards, berries and nursery stock. ",10,10,10]
["Filter Strip,< 30ft (393)","A filter strip is used to control runoff and sediment movement the field.  The filter strip is installed in accordance to the proper additional criteria that addresses runoff and sediment.  See 393 Jobsheet for more information.",null,5,10,10,null,null,null,null,null,null,null,null,null,null,null,null,null,null,null,null,null,null,null,null,"Conservation Crop Rotation (328)","Reduces the need for pesticides by breaking pest lifecycles.  The rotation shall consist of at least 2 crops in the rotation and no crop grown more than once before growing a different crop.",10,10,10]
["Filter Strip, ≥ 30ft (393)","A filter strip is used to control runoff and sediment movement the field.  The filter strip is installed in accordance to the proper additional criteria that addresses runoff and sediment.  Assumes 30 foot minimum width.  See 393 Jobsheet for more information.",null,10,15,10,null,null,null,null,null,null,null,null,null,null,null,null,null,null,null,null,null,null,null,null,"Constructed Wetland (656)","Captures pesticide residues and facilitates their degradation.",5,5,10]
["Forage Harvest Management (511)","Harvest periods are scheduled to control pest and there is a documented reduction in pesticide use because of the implementation of this practice.  See 511 Jobsheet for more information.",10,10,10,10,null,null,null,null,null,null,null,null,null,null,null,null,null,null,null,null,null,null,null,null,"Contour Buffer Strips (332)","Increases infiltration, reduces soil erosion.",null,10,10]
["Hedgerow Planting (442)","Dense vegetation in a linear design that when installed on the downslope edge of a field, reduces adsorbed pesticide deposition in surface water.  Also can reduce inadvertent pesticide application and drift to adjacent surface water.  See 442 Jobsheet for more information.",null,null,10,10,null,null,null,null,null,null,null,null,null,null,null,null,null,null,null,null,null,null,null,null,"Contour Farming (330)","Increases infiltration and deep percolation, reduces soil erosion.",null,5,5]
["Herbaceous Wind Barriers (603)","Herbaceous vegetation established in rows or narrow strips in the field across the prevailing wind direction reduces wind erosion, trap adsorbed pesticides and can reduce pesticide drift to surface water.  See 603 Jobsheet for more information.",null,null,5,5,null,null,null,null,null,null,null,null,null,null,null,null,null,null,null,null,null,null,null,null,"Contour Orchard and Other Fruit Area (331)","Increases infiltration and deep percolation, reduces soil erosion. ",null,5,5]
["Irrigation System, Microirrigation (441)","When well-maintained and competently operated, these systems apply irrigation water more efficiently and uniformly when compared to 442 & 443 systems.  The more uniform and efficient application of irrigation water reduces pesticide transport to ground and surface water. The field system must meet the 441 Criteria Applicable to Preventing Contamination of Ground and Surface Water.",10,15,15,null,null,null,null,null,null,null,null,null,null,null,null,null,null,null,null,null,null,null,null,null,"Cover Crop (340) that is incorporated into the soil.","Increases infiltration, reduces soil erosion, builds soil organic matter.  Assumes at least 4000 lbs/ac of live biomass at the time of tillage.",5,5,5]
["Irrigation System, Sprinkler (442)","When well-maintained and competently operated, these systems apply irrigation water more efficiently and uniformly when compared to the 443 systems.  The more uniform and efficient application of irrigation water reduces pesticide transport to ground and surface water. The field system must meet the 442 General Criteria.",10,10,10,null,null,null,null,null,null,null,null,null,null,null,null,null,null,null,null,null,null,null,null,null,"Cover Crop (340) for weed suppression that is mulch tilled or no-tilled into for the next crop.","Increases infiltration, reduces soil erosion, builds soil organic matter.  Requires at least 4000 lbs/ac of live biomass at the time of tillage and at least 30% ground cover at the time of the pesticide application.",10,10,10,10]
["Irrigation System, Surface and Subsurface (443)","A system in which all necessary earthwork, multi-outlet pipelines, and water-control structures have been installed for distribution of water by surface means, such as furrows, borders, and contour levees, or by subsurface means through water table control.  When installed according to the 443 General Criteria these systems have the potential to reduce offsite water quality impacts overs systems that do not meet 443 General Criteria.",5,5,5,null,null,null,null,null,null,null,null,null,null,null,null,null,null,null,null,null,null,null,null,null,"Cross Wind Ridges (588)","Reduces wind erosion and adsorbed pesticide deposition in surface water.  Assumes the pesticide is applied while the field is in the ridged state.",null,null,5]
["Irrigation System, Tail Water Recovery (447)","A planned irrigation system in which all facilities utilized for the collection, storage, and transportation of irrigation tailwater and/or rainfall runoff for reuse have been installed.  See 447 Jobsheet for more information.",null,15,15,null,null,null,null,null,null,null,null,null,null,null,null,null,null,null,null,null,null,null,null,null,"Cross Wind Trap Strips (589C)","Reduces wind erosion and adsorbed pesticide deposition in surface water, traps adsorbed pesticides.",null,null,10]
["Irrigation Water Management (449)","Water application shall be at rates that minimize transport of sediment and pesticides to surface waters and that minimize transport of pesticides to groundwater.  See 449 Jobsheet for more information.",15,15,15,null,null,null,null,null,null,null,null,null,null,null,null,null,null,null,null,null,null,null,null,null,"Deep Tillage  (324)","Increases infiltration and deep percolation. Not applicable if pesticide leaching to groundwater is an identified natural resource concern.",null,5,5]
["Mulching (484) with natural materials","Applying plant residues or other suitable materials produced off site, to the land surface.  See 484 Jobsheet for more information.",10,10,10,null,null,null,null,null,null,null,null,null,null,null,null,null,null,null,null,null,null,null,null,null,"Dike (356)","Reduces exposure potential - excludes outside water or captures pesticide residues and facilitates their degradation. Not applicable if pesticide leaching to groundwater is an identified natural resource concern.",null,10,10]
["Mulching (484) with plastic","Applying plastic mulch, typically around seedlings or more mature plants.  Not applicable if erosion and pesticide runoff from non-mulched areas is not adequately managed.  See 484 Jobsheet for more information.",10,5,5,null,null,null,null,null,null,null,null,null,null,null,null,null,null,null,null,null,null,null,null,null,"Drainage Water Management (554)","Drainage during the growing season increases infiltration and aerobic pesticide degradation in the rootzone and reduces storm water runoff. Managed drainage mode when the field is not being cropped reduces discharge of pesticide residues from the previous growing season. Seasonal saturation may reduce the need for pesticides. Not applicable if pesticide leaching to groundwater is an identified natural resource concern.",null,10,10]
["Residue and Tillage Management, No-Till (329)","Managing the amount, orientation and distribution of crop and other plant residue on the soil surface year round while limiting soil-disturbing activities to only those necessary to place nutrientse and plant crops.  These systems typically reduce runoff loss more effectively than 346 or \"conventional tillage\" systems.  Assumes at least 60% ground cover at the time of application.",5,10,15,null,null,null,null,null,null,null,null,null,null,null,null,null,null,null,null,null,null,null,null,null,"Field Border (386)","Increases infiltration and traps adsorbed pesticides, often reduces application area resulting in less pesticide applied, can provide habitat for beneficial insects which reduces the need for pesticides, can provide habitat to congregate pests which can result in reduced pesticide application, also can reduce inadvertent pesticide application and drift to surface water.  Assumes 20 foot minimum width.",null,5,10,5]
["Residue and Tillage Management, Reduced Till (345) ","Managing the amount, orientation and distribution of crop and other plant residue on the soil surface year round while limiting the soil-disturbing activities used to grow crops in  systems where the entire field surface is tilled prior to planting.  These systems typically reduce runoff loss more effectively than \"conventional tillage\" systems.  Assumes at least 30% ground cover at the time of application.",5,5,10,null,null,null,null,null,null,null,null,null,null,null,null,null,null,null,null,null,null,null,null,null,"Filter Strip (393)","Increases infiltration and traps adsorbed pesticides, often reduces application area resulting in less pesticide applied, can provide habitat for beneficial insects which reduces the need for pesticides, can provide habitat to congregate pests which can result in reduced pesticide application, also can reduce inadvertent pesticide application and drift to surface water.  Assumes 30 foot minimum width.",null,10,15,10]
["Riparian Forest Buffer (391)","An area of predominantly trees and/or shrubs located adjacent to and up-gradient from watercourses or water bodies.  Typically increases infiltration and uptake of subsurface water, traps sediment and reduces pesticide drift.  This assumes 30 foot minimum width.  See 391 Jobsheet for more information.",5,15,15,10,null,null,null,null,null,null,null,null,null,null,null,null,null,null,null,null,null,null,null,null,"Forage Harvest Management (511)","Reduces exposure potential - timely harvesting reduces the need for pesticides.",10,10,10,10]
["Riparian Herbaceous Cover (390)","Grasses, sedges, rushes, ferns, legumes, and forbs tolerant of intermittent flooding or saturated soils, established or managed as the dominant vegetation in the transitional zone between upland crop field and aquatic habitats.  Typically increases infiltration, traps sediment and reduces pesticide drift. This assumes 30 foot minimum width.  See 390 Jobsheet for more information.",5,10,10,5,null,null,null,null,null,null,null,null,null,null,null,null,null,null,null,null,null,null,null,null,"Hedgerow Planting (442)","Reduces adsorbed pesticide deposition in surface water, also can reduce inadvertent pesticide application and drift to surface water",null,null,10,10]
["Sediment Basin (350)","A basin constructed with an engineered outlet, formed to capture and detain sediment laden runoff for a sufficient length of time to allow it to settle out in the basin.  Thus also capturing pesticides adsorbed to sediment and potentially facilitating their degradation. Not applicable if less than 50% of the treatment area drains into the sediment basin.",null,null,10,null,null,null,null,null,null,null,null,null,null,null,null,null,null,null,null,null,null,null,null,null,"Herbaceous Wind Barriers (603)","Reduces wind erosion, traps adsorbed pesticides, can provide habitat for beneficial insects which reduces the need for pesticides, can provide habitat to congregate pests which can result in reduced pesticide application, and can reduce pesticide drift to surface water.",null,null,5,5]
["Stripcropping (585)","Growing planned rotations of row crops, forages, small grains, or fallow in a systematic arrangement of equal width strips across a field.  Reduces the total area available on any given year that would typically be highly susceptablet to increased runoff losses.  See 585 Jobsheet for more information.  ",null,15,15,5,null,null,null,null,null,null,null,null,null,null,null,null,null,null,null,null,null,null,null,null,"Irrigation System, Microirrigation (441)","Reduces exposure potential - efficient and uniform irrigation reduces pesticide transport to ground and surface water. ",10,15,15]
["Subsurface Drainage (606)","A conduit, such as corrugated plastic tubing, tile, or pipe, installed beneath the ground surface to collect and/or convey drainage water.  Has the potential to reduce surface runoff and increase aerobic pesticide degradation in the root zone.                           *Note – avoid direct outlets to surface water",5,10,10,null,null,null,null,null,null,null,null,null,null,null,null,null,null,null,null,null,null,null,null,null,"Irrigation System, Sprinkler (442)","Reduces exposure potential - efficient and uniform irrigation reduces pesticide transport to ground and surface water.",10,10,10]
["Surface Roughening (609)","Performing tillage operations that create random roughness of the soil surface.  Reduces wind erosion and adsorbed pesticide deposition in surface water.  See 609 Jobsheet for more information.",null,null,5,null,null,null,null,null,null,null,null,null,null,null,null,null,null,null,null,null,null,null,null,null,"Irrigation System, Surface and Subsurface (443)","Reduces exposure potential - efficient and uniform irrigation reduces pesticide transport to ground and surface water.",5,5,5]
["Terrace (600)","An earth embankment, or a combination ridge and channel, constructed across the field slope to reduce erosion by reducing slope length. Not applicable if pesticide leaching to groundwater is an identified natural resource concern.",null,10,15,null,null,null,null,null,null,null,null,null,null,null,null,null,null,null,null,null,null,null,null,null,"Irrigation System, Tail Water Recovery (447)","Captures pesticide residues and facilitates their degradation. ",null,15,15]
["Vegetative Barriers (601)","Permanent strips of stiff, dense vegetation established along the general contour of slopes or across concentrated flow areas to reduce sheet and rill erosio, reduce ephemeral gully erosion, manage water flow and/or stabilize steep slopes.",null,null,10,null,null,null,null,null,null,null,null,null,null,null,null,null,null,null,null,null,null,null,null,null,"Irrigation Water Management (449)","Reduces exposure potential - water is applied at rates that minimize pesticide transport to ground and surface water, promotes healthy plants which can better tolerate pests.",15,15,15]
["Water and Sediment Control Basin (638)","An earth embankment or a combination ridge and channel constructed across the slope of minor watercourses to form a sediment trap and water detention basin with a stable outlet. \nThus also capturing pesticides adsorbed to sediment and potentially facilitating their degradation.  Not applicable if pesticide leaching to groundwater is an identified natural resource concern or if less than 50% of the treatment area drains into the sediment basin. ",null,10,15,null,null,null,null,null,null,null,null,null,null,null,null,null,null,null,null,null,null,null,null,null,"Mulching (484) with natural materials","Increases infiltration, reduces soil erosion, reduces the need for pesticides. ",10,10,10]
["Windbreak/Shelterbelt Establishment (380)","Windbreaks or shelterbelts are single or multiple rows of trees or shrubs in linear configurations.  Reduces wind erosion, reduces adsorbed pesticide deposition in surface water, traps adsorbed pesticides, and reduces pesticide drift.  See 609 Jobsheet for more information.",null,null,10,10,null,null,null,null,null,null,null,null,null,null,null,null,null,null,null,null,null,null,null,null,"Mulching (484) with plastic","Reduces the need for pesticides. Not applicable if erosion and pesticide runoff from non-mulched areas is not adequately managed.",10,5,5]
[null,null,null,null,null,null,null,null,null,null,null,null,null,null,null,null,null,null,null,null,null,null,null,null,null,null,"Residue and Tillage Management, No-till/Strip-Till/Direct Seed (329)","Increases infiltration, reduces soil erosion, builds soil organic matter.  Assumes at least 60% ground cover at the time of application.",5,10,15]
[null,null,null,null,null,null,null,null,null,null,null,null,null,null,null,null,null,null,null,null,null,null,null,null,null,null,"Residue and Tillage Management, Mulch-Till (345) ","Increases infiltration, reduces soil erosion, builds soil organic matter.  Assumes at least 30% ground cover at the time of application.",5,5,10]
[null,null,null,null,null,null,null,null,null,null,null,null,null,null,null,null,null,null,null,null,null,null,null,null,null,null,"Residue and Tillage Management, Ridge Till (346) ","Increases infiltration, reduces soil erosion, builds soil organic matter.",5,5,10]
[null,null,null,null,null,null,null,null,null,null,null,null,null,null,null,null,null,null,null,null,null,null,null,null,null,null,"Riparian Forest Buffer (391)","Increases infiltration and uptake of subsurface water, traps sediment, builds soil organic matter, and reduces pesticide drift.  This assumes 30 foot minimum width.",5,15,15,10]
[null,null,null,null,null,null,null,null,null,null,null,null,null,null,null,null,null,null,null,null,null,null,null,null,null,null,"Riparian Herbaceous Cover (390)","Increases infiltration, traps sediment, builds soil organic matter, and reduces pesticide drift. This assumes 30 foot minimum width.",5,10,10,5]
["NO ADDITIONAL MITIGATION NEEDED","The current level of mitigation in place in the field is sufficient for the ratings associated with this pesticide application.  No additional mitigation for this pesticide is necessary.",null,null,null,null,null,null,null,null,null,null,null,null,null,null,null,null,null,null,null,null,null,null,null,null,"Sediment Basin (350)","Captures pesticide residues and facilitates their degradation. Not applicable if less than 50% of the treatment area drains into the sediment basin.",null,null,10]
["NO MITIGATION NEEDED","Ratings indicate the pesticide application has low or very low potential to harm water quality.  No mitigation for this pesticide is necessary.",null,null,null,null,null,null,null,null,null,null,null,null,null,null,null,null,null,null,null,null,null,null,null,null,"Stripcropping (585)","Increases infiltration, reduces soil erosion and generally will only be treating half the area of concern. ",null,15,15,5]
["Application Timing - Ambient Temperature","Spraying during cooler temperatures (e.g. early morning, evening or at night) to reduce drift losses. Avoid spraying in temperatures above 90º F.  Required records: date and time of spraying and the temperature.",null,null,null,5]
["Application Timing - Rain","Delaying application when significant rainfall events are forecast that could produce substantial leaching or runoff can reduce pesticide transport to ground and surface water. NOTE:  Do not use this option if you have already selected low rainfall probability in WIN-PST.  Required records: date and time of the pesticide application and the weather forecast for that date. ",15,15,15,null,null,null,null,null,null,null,null,null,null,null,null,null,null,null,null,null,null,null,null,null,"Subsurface Drainage (606)","Increases infiltration and aerobic pesticide degradation in the root zone.",5,10,10]
["Application Timing - Relative Humidity","Spraying when there is higher relative humidity reduces evaporation of water from spray droplets thus reducing drift losses.  Required records: date and time of the pesticide application and the relative humidity at time of spraying. ",null,null,null,5,null,null,null,null,null,null,null,null,null,null,null,null,null,null,null,null,null,null,null,null,null,"*Note – avoid direct outlets to surface water"]
["Application Timing - Wind    ","Apply pesticides only when wind speed is optimal to reduce pesticide drift. Optimal spray conditions for reducing drift occur when the air is slightly unstable with a very mild steady wind between 2 and 9mph.  Required records: date and time of spraying and the wind speed and direction at time of pesticide application. ",null,null,null,10,null,null,null,null,null,null,null,null,null,null,null,null,null,null,null,null,null,null,null,null,"Surface Roughening (609)","Reduces wind erosion and adsorbed pesticide deposition in surface water.",null,null,5]
["Formulations and Adjuvants","Specific pesticide formulations and/or adjuvants are used to increase efficacy and allow lower application rates or drift retardant adjuvants are used to reduce pesticide spray drift.  Required records: a written description of how the formulation and/or adjuvants reduced pesticide usage or drift.",5,5,5,5,null,null,null,null,null,null,null,null,null,null,null,null,null,null,null,null,null,null,null,null,"Terrace (600)","Increases infiltration and deep percolation, reduces soil erosion. Not applicable if pesticide leaching to groundwater is an identified natural resource concern.",null,10,15]
["Monitoring & Economic Pest Thresholds.","Reduce the total amount of pesticide applied because applications are based on monitoring that determines when a pest population exceeds a previously determined economic threshold.",15,15,15,15,null,null,null,null,null,null,null,null,null,null,null,null,null,null,null,null,null,null,null,null,"Vegetative Barriers (601)","Reduces soil erosion, traps sediment, increases infiltration.",null,null,10]
["Partial Substitution","One or more application of this pesticide has been replaced by an alternative cultural, mechanical, biological or chemical pest suppression technique (new hazards must be mitigated as well), reducing the typical application amounts of the pesticide that poses a hazard to a natural resource.  Use of semiochemicals are included in this technique.  Note, alternative pesticides must be approved by Extension Specialist and MUST be client-selected as NRCS does NOT make pesticide recommendations.  Required records: a written description of how this partial substitution or use of semiochemicals reduced pesticide usage.",15,15,15,15,null,null,null,null,null,null,null,null,null,null,null,null,null,null,null,null,null,null,null,null,"Water and Sediment Control Basin (638)","Captures pesticide residues and facilitates their degradation, increases infiltration and deep percolation. Not applicable if pesticide leaching to groundwater is an identified natural resource concern. ",null,10,15]
["Setback (100') ","A 100' setback from the edge of the field will be used.  No application of chemicals within 100' of the downslope or downwind edge(s) of the field.  Required records: plan map showing location of setback and the slope on the field.",5,10,10,10,null,null,null,null,null,null,null,null,null,null,null,null,null,null,null,null,null,null,null,null,"Windbreak/Shelterbelt Establishment (380)","Reduces wind erosion, reduces adsorbed pesticide deposition in surface water, traps adsorbed pesticides, and reduces pesticide drift.",null,null,10,10]
["Setback (30') ","A 30' setback from the edge of the field will be used.  No application of chemicals within 30' of the downslope or downwind edge(s) of the field.  Required records: plan map showing location of setback and the slope on the field.",5,5,5,5]
["Spray Nozzle Selection, Maintenance and Operation.","Select appropriate nozzles and operating pressure for the application, with an emphasis on higher volume spray nozzles run at lower pressures, that will produce larger droplets and a narrower droplet size distribution, which reduces spray drift. Maintain proper nozzle spacing, boom height, and boom suspension, along with frequent calibration and replacement of worn nozzles and leaking tubing.  Required records: original nozzle type and operational pressure and the newly installed nozzle type and operational pressure.",null,null,null,10]
["Application at Night: High to Mod. Toxicity and Long Residual Toxicity","Apply pesticides when pollinators are least active, immediately after dark. Required records: record time of pesticide application and pollinator activity.",null,null,null,null,1,"The effectiveness of this technique is based on the toxicity and residue half-life of the pesticide. This effectiveness score applies to the application of pesticides that are “highly” or “moderately toxic” to bees and have a residual toxicity greater than 8 hours."]
["Application at Night: High Toxicity and Short Residual Toxicity","Apply pesticides when pollinators are least active, immediately after dark. Dewy nights may cause an insecticide to remain wet on the foliage and lengthen its toxic residual. Required records: record time of pesticide application and pollinator activity.",null,null,null,null,5,"The effectiveness of this technique is based on the application of pesticides that are “highly toxic” to bees and have a residual toxicity of less than 8 hours and/or will be unavailable (and non-toxic) to bees if the product dries before dawn."]
["Application at Night: Mod. To Low Toxicity and Short Residual Toxicity","Apply pesticides when pollinators are least active, immediately after dark. Note that dewy nights may cause an insecticide to remain wet on the foliage and lengthen its toxic residual. Required records: record time of pesticide application and pollinator activity.",null,null,null,null,8,"The effectiveness of this technique is based on the application of pesticides that are “moderately toxic” to bees and have a relatively short residue half-life and/or will be unavailable (and non-toxic) to bees if the product dries before dawn. "]
["Application of Non-Systemic Insecticide When Perennial Crop is Not in Bloom","Apply pesticides when crops are not in bloom to reduce potential exposure of bees and other pollin­ators visiting the crop flowers. Required records: record time of pesticide application, crop stage, and pollinator activity. ",null,null,null,null,4,"The effectiveness of this technique is based on the application of non-systemic pesticides to perennial crops, where understory weed pressure is typically higher."]
["Application of Non-Systemic Insecticide When Annual Crop is  Not in Bloom","Apply pesticides when crops are not in bloom to reduce potential exposure of bees and other pollinators visiting the crop flowers. Required records: record time of pesticide application, crop stage, and pollinator activity. ",null,null,null,null,8,"The effectiveness of this technique is based on the application of non-systemic pesticides to annual crops with few or no weeds."]
["Application of Highly Toxic Systemic Insecticide After Perennial Crop Bloom","Do not apply systemic insecticides before or during crop bloom. Required records: record time of pesticide application, application rate, crop stage, and pollinator activity.",null,null,null,null,7,"Systemic insecticides applied before crop bloom can con­tam­inate pollen and nectar gathered by pollinators. In perennial orchards, berries, and vine­yards, there also may be carryover from previous years’ applica­tions. The effectiveness of this technique is based on the appli­ca­tion of systemic pesticides that are “highly toxic” to bees and have a relatively long residue half-life. IPM pro­fessional should confirm the efficacy of this technique. "]
["Application of Mod. Toxic Systemic Insecticide After Perennial Crop Bloom","Do not apply systemic insecticides before or during crop bloom. Required records: record time of pesticide application, application rate, crop stage, and pollinator activity.",null,null,null,null,5,"Systemic insecticides applied before crop bloom can contam­inate pollen and nectar gathered by pollinators. Technique effectiveness is based on the applica­tion of systemic pesticides that are “moderately toxic” to bees and have a relatively short residue half-life. IPM profess­ional should confirm the efficacy of this technique. "]
["Application of Highly Toxic Systemic Insecticide with Relatively Long Soil Half-Life After Annual Crop Bloom","Do not apply systemic insecticides before or during crop bloom. Required records: record time of pesticide application, application rate, crop stage, and pollinator activity.",null,null,null,null,8,"Systemic insecticides applied before crop bloom can contam­inate pollen and nectar gathered by pollinators. Technique effectiveness is based on the applica­tion of highly-toxic, long-lived systemic pesticides on flowering annual crops. IPM professional should confirm the efficacy of this technique. "]
["Application of Mod. Toxic Systemic Insecticide with Relatively Short Soil Half-Life After Annual Crop Bloom","Do not apply systemic insecticides before or during crop bloom. Required records: record time of pesticide application, application rate, crop stage, and pollinator activity.",null,null,null,null,7,"Systemic insecticides applied before crop bloom can contam­inate pollen and nectar gathered by pollinators. Technique effectiveness is based on the applica­tion of moderately-toxic systemic pesticides on flowering annual crops. IPM professional should confirm the efficacy of this technique. "]
["In-field Bloom Removal Prior to Application of Non-Systemic Mod. to Highly Toxic Insecticide in Perennial Crop","Mow weeds or cover crops in a field, vineyard, or orchard to prevent flowering and reduce attraction to bees when pesticides are applied. Required records: time of pesticide application, crop stage, field conditions (i.e., weed species and bloom status), and pollinator activity.",null,null,null,null,5,"The effectiveness of this technique is based on the application of non-systemic pesticides that are “highly” or “moderately toxic” to bees and have a relatively short residue half-life."]
["In-field Bloom Removal Prior to Application of Highly Toxic Systemic Insecticides","Prevent pollinator-visited weeds or cover crops from flowering if they come in contact with systemic insecticides. Required records: management plan (e.g. documentation of mowing or herbicide treatment) to prevent or remove bloom of weeds or other plants contaminated by systemic insecticides.",null,null,null,null,3,"Contamination of weeds or other bee-visited plants within or adjacent to crop fields can contaminate pollen and nectar gathered by pollinators. There also may be carryover from previous years’ applica­tions. The effec­tiveness of this technique is based on the use of systemic pesticides that are “highly toxic” to bees and have a relatively long residue half-life."]
["In-field Bloom Removal Prior to Application of Mod. Toxic Systemic Insecticides","Prevent pollinator-visited weeds or cover crops from flowering if they come in contact with systemic insecticides. Required records: management plan (e.g. documentation of mowing or herbicide treatment) to prevent or remove bloom of weeds or other plants contaminated by systemic insecticides.",null,null,null,null,5,"Contamination of weeds or other bee-visited plants within or adjacent to crop fields can taint pollen and nectar gathered by pollinators. The effectiveness of this tech­nique is based on the use of systemic pesticides that are moderately toxic to bees and that have a relatively short residue half-life.  "]
["Electrostatic or Image-Responsive Sprayer Technology","Use electrostatic or image-responsive sprayers to deliver pesticide application to the target. Required records: original application equipment, new electrostatic or image-responsive application equipment.  ",null,null,null,null,5,"Typical applications using this method achieve the same control with less active ingredient per acre, thus reducing risk significantly for pesticides that are “moderately toxic” or “highly toxic” with a relatively short residue half-life."]
["Formulation Substitution for Non-Systemic Pesticide (e.g. Dust or Liquid to Granular)","Use liquid or granular bait formulations instead of dusts and fine powders that may become trapped in the pollen collecting hairs of bees and consequently fed to developing larvae. This method does not address risks posed by systemic insecticides that may contaminate pollen and/or nectar. Required records: original formulation, new formulation, and dates of application.",null,null,null,null,7,"This technique will reduce the risk associated with the pesticide formulation that was traditionally applied, but any associated risk with the newly substituted pesticide should be adequately mitigated. This only applies to active ingredients available in multiple formulations. Note, alternative pesti­cide formulations must be approved by IPM professional and MUST be client-selected as NRCS employees do NOT make pesticide recommendations."]
["Monitoring and Economic Pest Thresholds: Pesticide with Long Residual Toxicity","Monitor pest levels to determine when a pest popu­lation exceeds a previously determined economic threshold to reduce the total amount of pesticide applied, and only treat the areas exceeding this threshold. Required records: established economic threshold value(s), monitoring data, area(s) receiving treatment, and dates of application.",null,null,null,null,3,"This is important in protecting foraging pollinator populations in the field from exposure to unnecessary pesticide applications. Sometimes, applications using this method achieve the same control with less active ingredient per acre, thus reducing risk significantly for pesticides that are “moderately toxic” or “highly toxic” with a relatively long residue half-life when pollinators are present."]
["Monitoring and Economic Pest Thresholds: Pesticide with Short Residual Toxicity","Monitor pest levels to determine when a pest popu­lation exceeds a previously determined economic threshold to reduce the total amount of pesticide applied, and only treat the areas exceeding this threshold. Required records: established economic threshold value(s), monitoring data, area(s) receiving treatment, and dates of application.",null,null,null,null,6,"This is important in protecting foraging pollinator populations in the field from exposure to unnecessary pesticide applications. Sometimes, applications using this method achieve the same control with less active ingredient per acre, thus reducing risk significantly for pesticides that are “moderately toxic” with a relatively short residue half-life when pollinators are present."]
["CLIENT NO LONGER USES THIS PRODUCT ","IPM Decision to no longer use this pesticide.  Pesticide is no longer being applied and therefore any potential hazards posed by this pesticide are no longer present in this field."]
[]
[]
[]
[]
[]
[]
[]
[]
[]
[]
[]
[]
[]
[]
[]
[]
[]
[]
[]
[]
[]
[]
[]
[]
[]
[]
[]
[]
[]
[]
[]
[]
[]
[]
[]
[]
["* to offsite non-target animals, icluding pollinators, and plants",null,null,null,null,null,"[1]","We define a long residual toxicity as a Residual Toxicity where 25% of bees die upon contact (RT25) 8 hours or longer after application."]
["** potential to affect field populations",null,null,null,null,null,"[2]","We define a short residual toxicity as an RT25 of less than 8 hours."]

{"sheet":"Credits","index":6,"n_rows":0,"n_cols":0,"rows_kept":0,"cut":false,"hidden":false,"merged":[]}