{"text_format":"1","workbook":"xlsx","n_sheets":17,"sheets":["Home Page","Input","Report_Sum","Report_Details","Report_Cost","Report_Input_Summary","Input_GHG","Report_GHG1","Report_GHG2","Input_PS","Report_PS","Equations","Definitions","Database_Tables","Intermediate_Calcs","Intermediate_PrintPumping","PS_Intermediate"],"not_rendered":{"charts":2,"images":201,"macros":1,"external_links":0,"defined_names":59,"comments":4,"pivot_tables":0},"unopened":[],"bounds":{"document_bytes":16777216,"sheet_cells":100000,"rows_first":2000,"rows_last":500,"rows_between":2000,"halvings":0,"cell_chars":16384,"cell_head_chars":4096},"cells_cut":0,"cells_raw":0,"read":"whole","date_system":"1900"}

{"sheet":"Home Page","index":0,"n_rows":52,"n_cols":17,"rows_kept":52,"cut":false,"hidden":false,"merged":[[1,0,1,9],[3,0,3,9]]}
[]
["NRCS - CROPLAND ENERGY TOOL                      "]
[]
["HOME PAGE                      "]
[]
[]
[null,null,"Farming and Irrigation"]
[null,null,null,"Main Input Worksheet for Farming and Irrigation"]
[]
[null,null,null,"Energy Summary for Alternative Field Rotations"]
[]
[null,null,null,"Detail Energy Summary for Alternative Field Rotations"]
[]
[null,null,null,"Cost Analysis Summary for Alternative Field Rotations"]
[]
[null,null,null,"Input Summary Worksheet"]
[]
[]
[null,null,"Greenhouse Gas Emissions (Optional - Hidden Worksheet Tabs)"]
[null,null,null,"Greenhouse Gas Emission Coefficients "]
[]
[null,null,null,"Inputs for Computing Greenhouse Gas Emission Changes"]
[]
[null,null,null,"Benchmark Greenhouse Gas Emissions From Field Inputs"]
[]
[null,null,null,"Planned Greenhouse Gas Emissions From Field Inputs",null,null,null,null,null,null,null,null,null,null,null,null,true]
[]
[null,null,null,"Greenhouse Gas Emission Changes From Field Inputs"]
[]
[]
[null,null,"Practice Standards (Optional - Hidden Worksheet Tabs)"]
[null,null,null,"Practice Standard Input Percent Allocated"]
[]
[null,null,null,"Practice Standard Input Fuel Type Used"]
[]
[null,null,null,"Energy Summary by Practice Standard"]
[]
[null,null,null,"Greenhouse Gas Change by Practice Standard"]
[]
[]
[null,null,"Supporting Data"]
[null,null,null,"Definitions"]
[]
[null,null,null,"Equations"]
[]
[null,null,null,"Database Tables"]
[]
[]
[null,null,"Intermediate Sheets"]
[null,null,null,"Intermediate Calculations"]
[]
[null,null,null,"Intermediate Practice Standards"]

{"sheet":"Input","index":1,"n_rows":3412,"n_cols":30,"rows_kept":3412,"cut":false,"hidden":false,"merged":[[21,4,21,9],[68,4,68,8],[69,4,69,8],[150,6,150,10],[150,20,150,24],[13,2,13,3],[14,2,14,3],[15,2,15,3],[16,2,16,3],[17,2,17,3],[18,2,18,3],[17,4,17,5],[18,4,18,5],[13,7,13,8],[14,7,14,8],[15,7,15,8],[13,4,13,5],[15,4,15,5],[16,4,16,5],[13,9,13,10],[14,9,14,10],[15,9,15,10],[17,9,17,10],[13,18,13,19],[14,18,14,19],[14,4,14,5],[168,16,168,18],[15,18,15,19],[116,4,116,8],[116,18,116,22],[128,18,128,22],[129,18,129,22],[117,18,117,22],[118,18,118,22],[119,18,119,22],[123,18,123,22],[79,18,79,22],[80,18,80,22],[24,18,24,23],[25,18,25,23],[26,18,26,23],[27,18,27,23],[100,4,100,8],[127,4,127,8],[128,4,128,8],[129,4,129,8],[16,9,16,10],[132,18,132,22],[123,4,123,8],[124,4,124,8],[98,4,98,8],[86,18,86,22],[87,18,87,22],[105,18,105,22],[106,18,106,22],[99,18,99,22],[100,18,100,22],[122,2,122,10],[114,4,114,8],[115,4,115,8],[175,16,175,18],[76,18,76,22],[77,18,77,22],[78,18,78,22],[84,18,84,22],[110,18,110,22],[111,18,111,22],[130,18,130,22],[131,18,131,22],[125,18,125,22],[175,22,175,23],[166,22,166,23],[167,22,167,23],[168,22,168,23],[169,22,169,23],[170,16,170,18],[171,16,171,18],[174,22,174,23],[124,18,124,22],[126,18,126,22],[127,18,127,22],[112,18,112,22],[166,16,166,18],[167,16,167,18],[172,16,172,18],[173,16,173,18],[174,16,174,18],[170,22,170,23],[171,22,171,23],[172,22,172,23],[173,22,173,23],[101,18,101,22],[102,18,102,22],[169,16,169,18],[149,2,149,10],[149,16,149,24],[122,16,122,24],[109,16,109,24],[96,16,96,24],[83,16,83,24],[84,4,84,8],[85,4,85,8],[99,4,99,8],[85,18,85,22],[98,18,98,22],[89,18,89,22],[90,18,90,22],[104,18,104,22],[91,18,91,22],[92,18,92,22],[113,18,113,22],[114,18,114,22],[86,4,86,8],[87,4,87,8],[88,4,88,8],[89,4,89,8],[90,4,90,8],[113,4,113,8],[74,18,74,22],[31,2,31,11],[31,16,31,25],[83,2,83,10],[96,2,96,10],[109,2,109,10],[79,4,79,8],[80,4,80,8],[75,18,75,22],[43,2,43,7],[43,16,43,21],[91,4,91,8],[92,4,92,8],[93,4,93,8],[97,4,97,8],[130,4,130,8],[20,16,20,26],[20,2,20,12],[78,4,78,8],[75,4,75,8],[24,4,24,9],[25,4,25,9],[26,4,26,9],[27,4,27,9],[28,4,28,9],[67,2,67,10],[67,16,67,24],[55,16,55,22],[55,2,55,8],[28,18,28,23],[71,4,71,8],[72,4,72,8],[73,4,73,8],[74,4,74,8],[76,4,76,8],[77,4,77,8],[71,18,71,22],[72,18,72,22],[73,18,73,22],[131,4,131,8],[132,4,132,8],[125,4,125,8],[126,4,126,8],[93,18,93,22],[97,18,97,22],[103,18,103,22],[88,18,88,22],[137,10,137,12],[137,2,137,9],[137,16,137,23],[101,4,101,8],[102,4,102,8],[103,4,103,8],[117,4,117,8],[118,4,118,8],[119,4,119,8],[104,4,104,8],[105,4,105,8],[106,4,106,8],[110,4,110,8],[111,4,111,8],[115,18,115,22],[112,4,112,8]]}
[null,null,"AN NRCS CROPLAND ENERGY ESTIMATION TOOL"]
[null,null,"Directions:","Step: 1 Fill in the orange and red shaded cells located in this \"Input\" tab. All required input cells are located in this tab and are"]
[null,null,null,"             separated into a Benchmark or currently operated and a Planned or potential operation through energy reduction measures of a"]
[null,null,null,"             field. An explanation of each input variable is contained in the Definitions tab. Additional shaded cells will appear as additional crop "]
[null,null,null,"             names are selected from the \"Crop Interval, Name, and Growth Dates\" tables."]
[null,null,null,"Step 2: Formatted energy balance summaries are located in the Report* tabs for printing."]
[]
[]
[]
[null,null,"BENCHMARK",null,"Start Date","8/16/2012",null,"End Date","8/15/2013",null,"Rotation Period (Yrs)",null,{"$f":"ROUND((I10-F10)/365,2)","v":1},null,null,null,"PLANNED",null,"Start Date","8/16/2012",null,"End Date","8/15/2013",null,"Rotation Period (Yrs)",null,{"$f":"ROUND((W10-T10)/365,2)","v":1}]
[]
[]
[null,null,"Landowner Information",null,null,null,null,"Background Information",null,"Benchmark",null,null,null,null,null,null,"Background Information",null,"Planned"]
[null,null,"Landowner",null,null,null,null,"Field Acres",null,null,null,null,null,null,null,null,"Field Acres",null,{"$f":"J14","v":0}]
[null,null,"State",null,null,null,null,"Field ID",null,null,null,null,null,null,null,null,"Field ID",null,{"$f":"J15","v":0}]
[null,null,"County",null,null,null,{"$f":"VLOOKUP(E15,C208:F262,4,FALSE)","v":{"$error":"#N/A"}},"Field Description",null,null,null,null,null,null,null,null,"Field Description",null,{"$f":"J16","v":0}]
[null,null,"Date",null,null,null,null,"Soil Map Units"]
[null,null,"Latitude, [decimal degrees]",null,null,null,null,"Soil Organic Matter (SOM)",null,0.02]
[null,null,"Longitude, [decimal degrees]"]
[]
[null,null,"Crop Interval, Name and Harvest Dates",null,null,null,null,null,null,null,null,null,null,null,null,null,"Crop Interval, Name and Harvest Dates",null,null,null,null,null,null,null,null,null,null,null,null,"WARNING: DO NOT MOVE OR REMOVE ROWS OR COLUMNS"]
[null,null,"Crop ","Crop","Specific Crop Description",null,null,null,null,null,"Year Crop","Biomass","Labor",null,null,null,"Crop ","Crop","Specific Crop Description",null,null,null,null,null,"Year Crop","Biomass","Labor",null,null,"TABLES ARE ATTACHED TO MARCOS"]
[null,null,"Interval","Name",null,null,null,null,null,null,"Harvested","Yield ratio",null,null,null,null,"Interval","Name",null,null,null,null,null,null,"Harvested","Yield ratio",null,null,null,"THIS IS CELL (AC30), IF NOT MACROS ARE NOT WORKING PROPERLY"]
[null,null,null,null,null,null,null,null,null,null,"[YYYY]","[-]","[hr/acre]",null,null,null,null,null,null,null,null,null,null,null,"[YYYY]","[-]","[hr/acre]"]
[null,null,1,null,null,null,null,null,null,null,null,{"$f":"IF(ISNA(VLOOKUP(E25,Database_Tables!$C$6:$J$1005,8,FALSE)),\"\",VLOOKUP(E25,Database_Tables!$C$6:$J$1005,8,FALSE))","v":""},null,null,null,null,1,null,"Select Specific Crop Type",null,null,null,null,null,null,{"$f":"IF(ISNA(VLOOKUP(S25,Database_Tables!$C$6:$J$1005,8,FALSE)),\"\",VLOOKUP(S25,Database_Tables!$C$6:$J$1005,8,FALSE))","v":""}]
[null,null,2,null,null,null,null,null,null,null,null,{"$f":"IF(ISNA(VLOOKUP(E26,Database_Tables!$C$6:$J$1005,8,FALSE)),\"\",VLOOKUP(E26,Database_Tables!$C$6:$J$1005,8,FALSE))","v":""},null,null,null,null,2,null,"Select Specific Crop Type",null,null,null,null,null,null,{"$f":"IF(ISNA(VLOOKUP(S26,Database_Tables!$C$6:$J$1005,8,FALSE)),\"\",VLOOKUP(S26,Database_Tables!$C$6:$J$1005,8,FALSE))","v":""}]
[null,null,3,null,null,null,null,null,null,null,null,{"$f":"IF(ISNA(VLOOKUP(E27,Database_Tables!$C$6:$J$1005,8,FALSE)),\"\",VLOOKUP(E27,Database_Tables!$C$6:$J$1005,8,FALSE))","v":""},null,null,null,null,3,null,"Select Specific Crop Type",null,null,null,null,null,null,{"$f":"IF(ISNA(VLOOKUP(S27,Database_Tables!$C$6:$J$1005,8,FALSE)),\"\",VLOOKUP(S27,Database_Tables!$C$6:$J$1005,8,FALSE))","v":""}]
[null,null,4,null,null,null,null,null,null,null,null,{"$f":"IF(ISNA(VLOOKUP(E28,Database_Tables!$C$6:$J$1005,8,FALSE)),\"\",VLOOKUP(E28,Database_Tables!$C$6:$J$1005,8,FALSE))","v":""},null,null,null,null,4,null,"Select Specific Crop Type",null,null,null,null,null,null,{"$f":"IF(ISNA(VLOOKUP(S28,Database_Tables!$C$6:$J$1005,8,FALSE)),\"\",VLOOKUP(S28,Database_Tables!$C$6:$J$1005,8,FALSE))","v":""}]
[null,null,5,null,null,null,null,null,null,null,null,{"$f":"IF(ISNA(VLOOKUP(E29,Database_Tables!$C$6:$J$1005,8,FALSE)),\"\",VLOOKUP(E29,Database_Tables!$C$6:$J$1005,8,FALSE))","v":""},null,null,null,null,5,null,"Select Specific Crop Type",null,null,null,null,null,null,{"$f":"IF(ISNA(VLOOKUP(S29,Database_Tables!$C$6:$J$1005,8,FALSE)),\"\",VLOOKUP(S29,Database_Tables!$C$6:$J$1005,8,FALSE))","v":""}]
[]
[]
[null,null,"Crop Harvested and Yields",null,null,null,null,null,null,null,null,null,null,null,null,null,"Crop Harvested and Yields"]
[null,null,"Crop ","Crop","Crop","Crop","Yield","Rootmass","Available","Post Harvest","Post Harvest","Remaining",null,null,null,null,"Crop ","Crop","Crop","Crop","Yield","Rootmass","Available","Post Harvest","Post Harvest","Remaining"]
[null,null,"Name","Harvest","Harvest","Yield","units",null,"Surface","Forage","Grazing Animal","Surface",null,null,null,null,"Name","Harvest","Harvest","Yield","units",null,"Surface","Forage","Grazing Animal","Surface"]
[null,null,null,"Type","Moisture",null,null,null,"Residue","Removed","Unit Days","Residue",null,null,null,null,null,"Type","Moisture",null,null,null,"Residue","Removed","Unit Days","Residue"]
[null,null,null,null,"[%]","[yield/acre]",null,"[DM lbs/ac]","[DM lbs/ac]","[DM lbs/ac]","[AUD/acre]","[DM lbs/ac]",null,null,null,null,null,null,"[%]","[per acre]",null,"[DM lbs/ac]","[DM lbs/ac]","[DM lbs/ac]","[AUD/acre]","[DM lbs/ac]"]
[null,null,{"$f":"IF(D25=\"\",\"\",D25)","v":""},null,null,null,{"$f":"IF(ISNA(VLOOKUP(E25,Database_Tables!$C$6:$F$1005,4,FALSE)&\"/acre\"),\"\",IF(D37=\"Grazing\",\"AUD/acre\",VLOOKUP(E25,Database_Tables!$C$6:$F$1005,4,FALSE)&\"/acre\"))","v":""},{"$f":"IF(ISNA(VLOOKUP(E25,Database_Tables!$C$6:$K$1005,9,FALSE)),\"\",VLOOKUP(E25,Database_Tables!$C$6:$K$1005,9,FALSE))","v":""},{"$f":"IF(ISNA(ROUND(VLOOKUP(E25,Database_Tables!$C$6:$K$1005,5,FALSE)*F37*(100-E37)/100*L25,0)),\"\",IF(D37=\"Grazing\",F37*30*L25,ROUND(VLOOKUP(E25,Database_Tables!$C$6:$K$1005,5,FALSE)*F37*(100-E37)/100*L25,0)))","v":""},null,null,{"$f":"IF(I37=\"\",\"\",IF(D37=\"Multiple Use\",I37-J37-K37*30,\"\"))","v":""},null,null,null,null,{"$f":"IF(R25=\"\",\"\",R25)","v":""},null,null,null,{"$f":"IF(ISNA(VLOOKUP(S25,Database_Tables!$C$6:$F$1005,4,FALSE)&\"/acre\"),\"\",IF(R37=\"Grazing\",\"AUD/acre\",VLOOKUP(S25,Database_Tables!$C$6:$F$1005,4,FALSE)&\"/acre\"))","v":""},{"$f":"IF(ISNA(VLOOKUP(S25,Database_Tables!$C$6:$K$1005,9,FALSE)),\"\",VLOOKUP(S25,Database_Tables!$C$6:$K$1005,9,FALSE))","v":""},{"$f":"IF(ISNA(ROUND(VLOOKUP(S25,Database_Tables!$C$6:$K$1005,5,FALSE)*T37*(100-S37)/100*Z25,0)),\"\",IF(R37=\"Grazing\",T37*30*Z25,ROUND(VLOOKUP(S25,Database_Tables!$C$6:$K$1005,5,FALSE)*T37*(100-S37)/100*Z25,0)))","v":""},null,null,{"$f":"IF(W37=\"\",\"\",IF(R37=\"Multiple Use\",W37-X37-Y37*30,\"\"))","v":""}]
[null,null,{"$f":"IF(D26=\"\",\"\",D26)","v":""},null,null,null,{"$f":"IF(ISNA(VLOOKUP(E26,Database_Tables!$C$6:$F$1005,4,FALSE)&\"/acre\"),\"\",IF(D38=\"Grazing\",\"AUD/acre\",VLOOKUP(E26,Database_Tables!$C$6:$F$1005,4,FALSE)&\"/acre\"))","v":""},{"$f":"IF(ISNA(VLOOKUP(E26,Database_Tables!$C$6:$K$1005,9,FALSE)),\"\",VLOOKUP(E26,Database_Tables!$C$6:$K$1005,9,FALSE))","v":""},{"$f":"IF(ISNA(ROUND(VLOOKUP(E26,Database_Tables!$C$6:$K$1005,5,FALSE)*F38*(100-E38)/100*L26,0)),\"\",IF(D38=\"Grazing\",F38*30*L26,ROUND(VLOOKUP(E26,Database_Tables!$C$6:$K$1005,5,FALSE)*F38*(100-E38)/100*L26,0)))","v":""},null,null,{"$f":"IF(I38=\"\",\"\",IF(D38=\"Multiple Use\",I38-J38-K38*30,\"\"))","v":""},null,null,null,null,{"$f":"IF(R26=\"\",\"\",R26)","v":""},null,null,null,{"$f":"IF(ISNA(VLOOKUP(S26,Database_Tables!$C$6:$F$1005,4,FALSE)&\"/acre\"),\"\",IF(R38=\"Grazing\",\"AUD/acre\",VLOOKUP(S26,Database_Tables!$C$6:$F$1005,4,FALSE)&\"/acre\"))","v":""},{"$f":"IF(ISNA(VLOOKUP(S26,Database_Tables!$C$6:$K$1005,9,FALSE)),\"\",VLOOKUP(S26,Database_Tables!$C$6:$K$1005,9,FALSE))","v":""},{"$f":"IF(ISNA(ROUND(VLOOKUP(S26,Database_Tables!$C$6:$K$1005,5,FALSE)*T38*(100-S38)/100*Z26,0)),\"\",IF(R38=\"Grazing\",T38*30*Z26,ROUND(VLOOKUP(S26,Database_Tables!$C$6:$K$1005,5,FALSE)*T38*(100-S38)/100*Z26,0)))","v":""},null,null,{"$f":"IF(W38=\"\",\"\",IF(R38=\"Multiple Use\",W38-X38-Y38*30,\"\"))","v":""}]
[null,null,{"$f":"IF(D27=\"\",\"\",D27)","v":""},null,null,null,{"$f":"IF(ISNA(VLOOKUP(E27,Database_Tables!$C$6:$F$1005,4,FALSE)&\"/acre\"),\"\",IF(D39=\"Grazing\",\"AUD/acre\",VLOOKUP(E27,Database_Tables!$C$6:$F$1005,4,FALSE)&\"/acre\"))","v":""},{"$f":"IF(ISNA(VLOOKUP(E27,Database_Tables!$C$6:$K$1005,9,FALSE)),\"\",VLOOKUP(E27,Database_Tables!$C$6:$K$1005,9,FALSE))","v":""},{"$f":"IF(ISNA(ROUND(VLOOKUP(E27,Database_Tables!$C$6:$K$1005,5,FALSE)*F39*(100-E39)/100*L27,0)),\"\",IF(D39=\"Grazing\",F39*30*L27,ROUND(VLOOKUP(E27,Database_Tables!$C$6:$K$1005,5,FALSE)*F39*(100-E39)/100*L27,0)))","v":""},null,null,{"$f":"IF(I39=\"\",\"\",IF(D39=\"Multiple Use\",I39-J39-K39*30,\"\"))","v":""},null,null,null,null,{"$f":"IF(R27=\"\",\"\",R27)","v":""},null,null,null,{"$f":"IF(ISNA(VLOOKUP(S27,Database_Tables!$C$6:$F$1005,4,FALSE)&\"/acre\"),\"\",IF(R39=\"Grazing\",\"AUD/acre\",VLOOKUP(S27,Database_Tables!$C$6:$F$1005,4,FALSE)&\"/acre\"))","v":""},{"$f":"IF(ISNA(VLOOKUP(S27,Database_Tables!$C$6:$K$1005,9,FALSE)),\"\",VLOOKUP(S27,Database_Tables!$C$6:$K$1005,9,FALSE))","v":""},{"$f":"IF(ISNA(ROUND(VLOOKUP(S27,Database_Tables!$C$6:$K$1005,5,FALSE)*T39*(100-S39)/100*Z27,0)),\"\",IF(R39=\"Grazing\",T39*30*Z27,ROUND(VLOOKUP(S27,Database_Tables!$C$6:$K$1005,5,FALSE)*T39*(100-S39)/100*Z27,0)))","v":""},null,null,{"$f":"IF(W39=\"\",\"\",IF(R39=\"Multiple Use\",W39-X39-Y39*30,\"\"))","v":""}]
[null,null,{"$f":"IF(D28=\"\",\"\",D28)","v":""},null,null,null,{"$f":"IF(ISNA(VLOOKUP(E28,Database_Tables!$C$6:$F$1005,4,FALSE)&\"/acre\"),\"\",IF(D40=\"Grazing\",\"AUD/acre\",VLOOKUP(E28,Database_Tables!$C$6:$F$1005,4,FALSE)&\"/acre\"))","v":""},{"$f":"IF(ISNA(VLOOKUP(E28,Database_Tables!$C$6:$K$1005,9,FALSE)),\"\",VLOOKUP(E28,Database_Tables!$C$6:$K$1005,9,FALSE))","v":""},{"$f":"IF(ISNA(ROUND(VLOOKUP(E28,Database_Tables!$C$6:$K$1005,5,FALSE)*F40*(100-E40)/100*L28,0)),\"\",IF(D40=\"Grazing\",F40*30*L28,ROUND(VLOOKUP(E28,Database_Tables!$C$6:$K$1005,5,FALSE)*F40*(100-E40)/100*L28,0)))","v":""},null,null,{"$f":"IF(I40=\"\",\"\",IF(D40=\"Multiple Use\",I40-J40-K40*30,\"\"))","v":""},null,null,null,null,{"$f":"IF(R28=\"\",\"\",R28)","v":""},null,null,null,{"$f":"IF(ISNA(VLOOKUP(S28,Database_Tables!$C$6:$F$1005,4,FALSE)&\"/acre\"),\"\",IF(R40=\"Grazing\",\"AUD/acre\",VLOOKUP(S28,Database_Tables!$C$6:$F$1005,4,FALSE)&\"/acre\"))","v":""},{"$f":"IF(ISNA(VLOOKUP(S28,Database_Tables!$C$6:$K$1005,9,FALSE)),\"\",VLOOKUP(S28,Database_Tables!$C$6:$K$1005,9,FALSE))","v":""},{"$f":"IF(ISNA(ROUND(VLOOKUP(S28,Database_Tables!$C$6:$K$1005,5,FALSE)*T40*(100-S40)/100*Z28,0)),\"\",IF(R40=\"Grazing\",T40*30*Z28,ROUND(VLOOKUP(S28,Database_Tables!$C$6:$K$1005,5,FALSE)*T40*(100-S40)/100*Z28,0)))","v":""},null,null,{"$f":"IF(W40=\"\",\"\",IF(R40=\"Multiple Use\",W40-X40-Y40*30,\"\"))","v":""}]
[null,null,{"$f":"IF(D29=\"\",\"\",D29)","v":""},null,null,null,{"$f":"IF(ISNA(VLOOKUP(E29,Database_Tables!$C$6:$F$1005,4,FALSE)&\"/acre\"),\"\",IF(D41=\"Grazing\",\"AUD/acre\",VLOOKUP(E29,Database_Tables!$C$6:$F$1005,4,FALSE)&\"/acre\"))","v":""},{"$f":"IF(ISNA(VLOOKUP(E29,Database_Tables!$C$6:$K$1005,9,FALSE)),\"\",VLOOKUP(E29,Database_Tables!$C$6:$K$1005,9,FALSE))","v":""},{"$f":"IF(ISNA(ROUND(VLOOKUP(E29,Database_Tables!$C$6:$K$1005,5,FALSE)*F41*(100-E41)/100*L29,0)),\"\",IF(D41=\"Grazing\",F41*30*L29,ROUND(VLOOKUP(E29,Database_Tables!$C$6:$K$1005,5,FALSE)*F41*(100-E41)/100*L29,0)))","v":""},null,null,{"$f":"IF(I41=\"\",\"\",IF(D41=\"Multiple Use\",I41-J41-K41*30,\"\"))","v":""},null,null,null,null,{"$f":"IF(R29=\"\",\"\",R29)","v":""},null,null,null,{"$f":"IF(ISNA(VLOOKUP(S29,Database_Tables!$C$6:$F$1005,4,FALSE)&\"/acre\"),\"\",IF(R41=\"Grazing\",\"AUD/acre\",VLOOKUP(S29,Database_Tables!$C$6:$F$1005,4,FALSE)&\"/acre\"))","v":""},{"$f":"IF(ISNA(VLOOKUP(S29,Database_Tables!$C$6:$K$1005,9,FALSE)),\"\",VLOOKUP(S29,Database_Tables!$C$6:$K$1005,9,FALSE))","v":""},{"$f":"IF(ISNA(ROUND(VLOOKUP(S29,Database_Tables!$C$6:$K$1005,5,FALSE)*T41*(100-S41)/100*Z29,0)),\"\",IF(R41=\"Grazing\",T41*30*Z29,ROUND(VLOOKUP(S29,Database_Tables!$C$6:$K$1005,5,FALSE)*T41*(100-S41)/100*Z29,0)))","v":""},null,null,{"$f":"IF(W41=\"\",\"\",IF(R41=\"Multiple Use\",W41-X41-Y41*30,\"\"))","v":""}]
[]
[]
[null,null,"Soil Amendments Applied",null,null,null,null,null,null,null,null,null,null,null,null,null,"Soil Amendments Applied"]
[null,null,"Crop","Applied","Compost","Seed","Animal ","Other",null,null,null,null,null,null,null,null,"Crop","Applied","Compost","Seed","Animal ","Other"]
[null,null,"Name","Stored","Organic",null,"Feed","Applied",null,null,null,null,null,null,null,null,"Name","Stored","Organic ",null,"Feed","Applied"]
[null,null,null,"Manure","Matter",null,"Organ Mat","Organ. Mat.",null,null,null,null,null,null,null,null,null,"Manure","Material",null,"Organ Mat","Organ. Mat."]
[null,null,null,"[DM lbs/ac]","[DM lbs/ac]","[DM lbs/ac]","[DM lbs/ac]","[DM lbs/ac]",null,null,null,null,null,null,null,null,null,"[DM lbs/ac]","[DM lbs/ac]","[DM lbs/ac]","[DM lbs/ac]","[DM lbs/ac]"]
[null,null,{"$f":"IF(D25=\"\",\"\",D25)","v":""},null,null,null,null,null,null,null,null,null,null,null,null,null,{"$f":"IF(R25=\"\",\"\",R25)","v":""}]
[null,null,{"$f":"IF(D26=\"\",\"\",D26)","v":""},null,null,null,null,null,null,null,null,null,null,null,null,null,{"$f":"IF(R26=\"\",\"\",R26)","v":""}]
[null,null,{"$f":"IF(D27=\"\",\"\",D27)","v":""},null,null,null,null,null,null,null,null,null,null,null,null,null,{"$f":"IF(R27=\"\",\"\",R27)","v":""}]
[null,null,{"$f":"IF(D28=\"\",\"\",D28)","v":""},null,null,null,null,null,null,null,null,null,null,null,null,null,{"$f":"IF(R28=\"\",\"\",R28)","v":""}]
[null,null,{"$f":"IF(D29=\"\",\"\",D29)","v":""},null,null,null,null,null,null,null,null,null,null,null,null,null,{"$f":"IF(R29=\"\",\"\",R29)","v":""}]
[]
[null,null,null,null,null,null,null,null,null,null,1]
[null,null,"Agrichemicals Applied",null,null,null,null,null,null,null,"Inorganics","BTU/lb",null,null,null,null,"Agrichemicals Applied"]
[null,null,"Crop","N ","P2O5","K2O","S","Hrb","Pst",null,"Nitrogen",{"$f":"Report_Cost!F33","v":20000},null,null,null,null,"Crop","N ","P2O5","K2O","S","Hrb","Pst"]
[null,null,"Name","Nitrogen","Phosphorus","Potassium","Sulfur","AI Herbicide","AI Pesticide",null,"Phosphorus",{"$f":"Report_Cost!F34","v":7000},null,null,null,null,"Name","Nitrogen","Phosphorus","Potassium","Sulfur","AI Herbicide","AI Pesticide"]
[null,null,null,"Application","Application","Application","Application","Application","Application",null,"Potassium",{"$f":"Report_Cost!F35","v":5500},null,null,null,null,null,"Application","Application","Application","Application","Application","Application"]
[null,null,null,"[lbs/acre]","[lbs/acre]","[lbs/acre]","[lbs/acre]","[oz/acre]","[oz/acre]",null,"Sulfur",{"$f":"Report_Cost!F36","v":2000},null,null,null,null,null,"[lbs/acre]","[lbs/acre]","[lbs/acre]","[lbs/acre]","[oz/acre]","[oz/acre]"]
[null,null,{"$f":"IF(D25=\"\",\"\",D25)","v":""},null,null,null,null,null,16,null,"Herbicide",{"$f":"Report_Cost!F37","v":6250},null,null,null,null,{"$f":"IF(R25=\"\",\"\",R25)","v":""}]
[null,null,{"$f":"IF(D26=\"\",\"\",D26)","v":""},null,null,null,null,null,null,null,"Pesticide",{"$f":"Report_Cost!F38","v":6250},null,null,null,null,{"$f":"IF(R26=\"\",\"\",R26)","v":""}]
[null,null,{"$f":"IF(D27=\"\",\"\",D27)","v":""},null,null,null,null,null,null,null,null,null,null,null,null,null,{"$f":"IF(R27=\"\",\"\",R27)","v":""}]
[null,null,{"$f":"IF(D28=\"\",\"\",D28)","v":""},null,null,null,null,null,null,null,null,null,null,null,null,null,{"$f":"IF(R28=\"\",\"\",R28)","v":""}]
[null,null,{"$f":"IF(D29=\"\",\"\",D29)","v":""},null,null,null,null,null,null,null,null,null,null,null,null,null,{"$f":"IF(R29=\"\",\"\",R29)","v":""}]
[null,null,"Note: AI = Active Ingredient",null,null,null,null,null,null,null,null,null,null,null,null,null,"Note: AI = Active Ingredient"]
[]
[null,null,"Field Operations Diesel Use: Crop Interval 1 (Benchmark)",null,null,null,null,null,null,null,null,null,1,null,null,null,"Field Operations Diesel Use: Crop Interal 1 (Planned)"]
[null,null,"Crop","Operation","Operation",null,null,null,null,"Frequency","Diesel",null,"Diesel",null,null,null,"Crop","Operation","Operation",null,null,null,null,"Frequency","Diesel"]
[null,null,"Name",null,"Description",null,null,null,null,"No. of Times","Use",null,"Use",null,null,null,"Name",null,"Description",null,null,null,null,"No. of Times","Use"]
[null,null,null,null,null,null,null,null,null,"per Interval","[gal/ac]",null,"[BTU/gal]",null,null,null,null,null,null,null,null,null,null,"per Interval","[gal/ac]"]
[null,{"$f":"L72","v":0},{"$f":"IF(D25=\"\",\"\",D25)","v":""},"Other","zdefault",null,null,null,null,null,{"$f":"IF(ISNA(VLOOKUP(E72,Database_Tables!$C$1014:$D$1578,2,FALSE)*IF(OR(ISBLANK(J72),J72<0),1,J72)),\"\",VLOOKUP(E72,Database_Tables!$C$1014:$D$1578,2,FALSE)*IF(OR(ISBLANK(J72),J72<0),1,J72))","v":0},{"$f":"IF(ISBLANK($D$25),0,IF(ISBLANK(D72),0,1))","v":0},{"$f":"Report_Cost!F14","v":139000},null,null,{"$f":"Z72","v":0},{"$f":"IF(R25=\"\",\"\",R25)","v":""},null,null,null,null,null,null,null,{"$f":"IF(ISNA(VLOOKUP(S72,Database_Tables!$C$1014:$D$1578,2,FALSE)*IF(OR(ISBLANK(X72),X72<0),1,X72)),\"\",VLOOKUP(S72,Database_Tables!$C$1014:$D$1578,2,FALSE)*IF(OR(ISBLANK(X72),X72<0),1,X72))","v":""},{"$f":"IF(ISBLANK($R$25),0,IF(ISBLANK(R72),0,1))","v":0}]
[null,{"$f":"IF(L73=1,SUM($L$72:L73),0)","v":0},null,null,null,null,null,null,null,null,{"$f":"IF(ISNA(VLOOKUP(E73,Database_Tables!$C$1014:$D$1578,2,FALSE)*IF(OR(ISBLANK(J73),J73<0),1,J73)),\"\",VLOOKUP(E73,Database_Tables!$C$1014:$D$1578,2,FALSE)*IF(OR(ISBLANK(J73),J73<0),1,J73))","v":""},{"$f":"IF(ISBLANK($D$25),0,IF(ISBLANK(D73),0,1))","v":0},null,null,null,{"$f":"IF(Z73=1,SUM($Z$72:Z73),0)","v":0},null,null,null,null,null,null,null,null,{"$f":"IF(ISNA(VLOOKUP(S73,Database_Tables!$C$1014:$D$1578,2,FALSE)*IF(OR(ISBLANK(X73),X73<0),1,X73)),\"\",VLOOKUP(S73,Database_Tables!$C$1014:$D$1578,2,FALSE)*IF(OR(ISBLANK(X73),X73<0),1,X73))","v":""},{"$f":"IF(ISBLANK($R$25),0,IF(ISBLANK(R73),0,1))","v":0}]
[null,{"$f":"IF(L74=1,SUM($L$72:L74),0)","v":0},null,null,null,null,null,null,null,null,{"$f":"IF(ISNA(VLOOKUP(E74,Database_Tables!$C$1014:$D$1578,2,FALSE)*IF(OR(ISBLANK(J74),J74<0),1,J74)),\"\",VLOOKUP(E74,Database_Tables!$C$1014:$D$1578,2,FALSE)*IF(OR(ISBLANK(J74),J74<0),1,J74))","v":""},0,null,null,null,{"$f":"IF(Z74=1,SUM($Z$72:Z74),0)","v":0},null,null,null,null,null,null,null,null,{"$f":"IF(ISNA(VLOOKUP(S74,Database_Tables!$C$1014:$D$1578,2,FALSE)*IF(OR(ISBLANK(X74),X74<0),1,X74)),\"\",VLOOKUP(S74,Database_Tables!$C$1014:$D$1578,2,FALSE)*IF(OR(ISBLANK(X74),X74<0),1,X74))","v":""},0]
[null,{"$f":"IF(L75=1,SUM($L$72:L75),0)","v":0},null,null,null,null,null,null,null,null,{"$f":"IF(ISNA(VLOOKUP(E75,Database_Tables!$C$1014:$D$1578,2,FALSE)*IF(OR(ISBLANK(J75),J75<0),1,J75)),\"\",VLOOKUP(E75,Database_Tables!$C$1014:$D$1578,2,FALSE)*IF(OR(ISBLANK(J75),J75<0),1,J75))","v":""},{"$f":"IF(ISBLANK($D$25),0,IF(ISBLANK(D75),0,1))","v":0},null,null,null,{"$f":"IF(Z75=1,SUM($Z$72:Z75),0)","v":0},null,null,null,null,null,null,null,null,{"$f":"IF(ISNA(VLOOKUP(S75,Database_Tables!$C$1014:$D$1578,2,FALSE)*IF(OR(ISBLANK(X75),X75<0),1,X75)),\"\",VLOOKUP(S75,Database_Tables!$C$1014:$D$1578,2,FALSE)*IF(OR(ISBLANK(X75),X75<0),1,X75))","v":""},0]
[null,{"$f":"IF(L76=1,SUM($L$72:L76),0)","v":0},null,null,null,null,null,null,null,null,{"$f":"IF(ISNA(VLOOKUP(E76,Database_Tables!$C$1014:$D$1578,2,FALSE)*IF(OR(ISBLANK(J76),J76<0),1,J76)),\"\",VLOOKUP(E76,Database_Tables!$C$1014:$D$1578,2,FALSE)*IF(OR(ISBLANK(J76),J76<0),1,J76))","v":""},0,null,null,null,{"$f":"IF(Z76=1,SUM($Z$72:Z76),0)","v":0},null,null,null,null,null,null,null,null,{"$f":"IF(ISNA(VLOOKUP(S76,Database_Tables!$C$1014:$D$1578,2,FALSE)*IF(OR(ISBLANK(X76),X76<0),1,X76)),\"\",VLOOKUP(S76,Database_Tables!$C$1014:$D$1578,2,FALSE)*IF(OR(ISBLANK(X76),X76<0),1,X76))","v":""},0]
[null,{"$f":"IF(L77=1,SUM($L$72:L77),0)","v":0},null,null,null,null,null,null,null,null,{"$f":"IF(ISNA(VLOOKUP(E77,Database_Tables!$C$1014:$D$1578,2,FALSE)*IF(OR(ISBLANK(J77),J77<0),1,J77)),\"\",VLOOKUP(E77,Database_Tables!$C$1014:$D$1578,2,FALSE)*IF(OR(ISBLANK(J77),J77<0),1,J77))","v":""},0,null,null,null,{"$f":"IF(Z77=1,SUM($Z$72:Z77),0)","v":0},null,null,null,null,null,null,null,null,{"$f":"IF(ISNA(VLOOKUP(S77,Database_Tables!$C$1014:$D$1578,2,FALSE)*IF(OR(ISBLANK(X77),X77<0),1,X77)),\"\",VLOOKUP(S77,Database_Tables!$C$1014:$D$1578,2,FALSE)*IF(OR(ISBLANK(X77),X77<0),1,X77))","v":""},0]
[null,{"$f":"IF(L78=1,SUM($L$72:L78),0)","v":0},null,null,null,null,null,null,null,null,{"$f":"IF(ISNA(VLOOKUP(E78,Database_Tables!$C$1014:$D$1578,2,FALSE)*IF(OR(ISBLANK(J78),J78<0),1,J78)),\"\",VLOOKUP(E78,Database_Tables!$C$1014:$D$1578,2,FALSE)*IF(OR(ISBLANK(J78),J78<0),1,J78))","v":""},0,null,null,null,{"$f":"IF(Z78=1,SUM($Z$72:Z78),0)","v":0},null,null,null,null,null,null,null,null,{"$f":"IF(ISNA(VLOOKUP(S78,Database_Tables!$C$1014:$D$1578,2,FALSE)*IF(OR(ISBLANK(X78),X78<0),1,X78)),\"\",VLOOKUP(S78,Database_Tables!$C$1014:$D$1578,2,FALSE)*IF(OR(ISBLANK(X78),X78<0),1,X78))","v":""},0]
[null,{"$f":"IF(L79=1,SUM($L$72:L79),0)","v":0},null,null,null,null,null,null,null,null,{"$f":"IF(ISNA(VLOOKUP(E79,Database_Tables!$C$1014:$D$1578,2,FALSE)*IF(OR(ISBLANK(J79),J79<0),1,J79)),\"\",VLOOKUP(E79,Database_Tables!$C$1014:$D$1578,2,FALSE)*IF(OR(ISBLANK(J79),J79<0),1,J79))","v":""},0,null,null,null,{"$f":"IF(Z79=1,SUM($Z$72:Z79),0)","v":0},null,null,null,null,null,null,null,null,{"$f":"IF(ISNA(VLOOKUP(S79,Database_Tables!$C$1014:$D$1578,2,FALSE)*IF(OR(ISBLANK(X79),X79<0),1,X79)),\"\",VLOOKUP(S79,Database_Tables!$C$1014:$D$1578,2,FALSE)*IF(OR(ISBLANK(X79),X79<0),1,X79))","v":""},0]
[null,{"$f":"IF(L80=1,SUM($L$72:L80),0)","v":0},null,null,null,null,null,null,null,null,{"$f":"IF(ISNA(VLOOKUP(E80,Database_Tables!$C$1014:$D$1578,2,FALSE)*IF(OR(ISBLANK(J80),J80<0),1,J80)),\"\",VLOOKUP(E80,Database_Tables!$C$1014:$D$1578,2,FALSE)*IF(OR(ISBLANK(J80),J80<0),1,J80))","v":""},0,null,null,null,{"$f":"IF(Z80=1,SUM($Z$72:Z80),0)","v":0},null,null,null,null,null,null,null,null,{"$f":"IF(ISNA(VLOOKUP(S80,Database_Tables!$C$1014:$D$1578,2,FALSE)*IF(OR(ISBLANK(X80),X80<0),1,X80)),\"\",VLOOKUP(S80,Database_Tables!$C$1014:$D$1578,2,FALSE)*IF(OR(ISBLANK(X80),X80<0),1,X80))","v":""},0]
[null,{"$f":"IF(L81=1,SUM($L$72:L81),0)","v":0},null,null,null,null,null,null,null,null,{"$f":"IF(ISNA(VLOOKUP(E81,Database_Tables!$C$1014:$D$1578,2,FALSE)*IF(OR(ISBLANK(J81),J81<0),1,J81)),\"\",VLOOKUP(E81,Database_Tables!$C$1014:$D$1578,2,FALSE)*IF(OR(ISBLANK(J81),J81<0),1,J81))","v":""},0,null,null,null,{"$f":"IF(Z81=1,SUM($Z$72:Z81),0)","v":0},null,null,null,null,null,null,null,null,{"$f":"IF(ISNA(VLOOKUP(S81,Database_Tables!$C$1014:$D$1578,2,FALSE)*IF(OR(ISBLANK(X81),X81<0),1,X81)),\"\",VLOOKUP(S81,Database_Tables!$C$1014:$D$1578,2,FALSE)*IF(OR(ISBLANK(X81),X81<0),1,X81))","v":""},0]
[null,{"$f":"IF(L82=1,SUM($L$72:L82),0)","v":0},null,"Manual Input","Manually Input Operation Description and Diesel Use (if needed)",null,null,null,null,"NA",null,{"$f":"IF(ISBLANK($D$25),0,IF(ISBLANK(K82),0,1))","v":0},null,null,null,{"$f":"IF(Z82=1,SUM($Z$72:Z82),0)","v":0},null,"Manual Input","Manually Input Operation Description and Diesel Use (if needed)",null,null,null,null,"NA",null,{"$f":"IF(ISBLANK($R$25),0,IF(ISBLANK(Y82),0,1))","v":0}]
[null,{"$f":"IF(L83=1,SUM($L$72:L83),0)","v":0},null,"Manual Input","Manually Input Operation Description and Diesel Use (if needed)",null,null,null,null,"NA",null,{"$f":"IF(ISBLANK($D$25),0,IF(ISBLANK(K83),0,1))","v":0},null,null,null,{"$f":"IF(Z83=1,SUM($Z$72:Z83),0)","v":0},null,"Manual Input","Manually Input Operation Description and Diesel Use (if needed)",null,null,null,null,"NA",null,{"$f":"IF(ISBLANK($R$25),0,IF(ISBLANK(Y83),0,1))","v":0}]
[null,null,"Field Operations Diesel Use: Crop Interval 2 (Benchmark)",null,null,null,null,null,null,null,null,null,null,null,null,null,"Field Operations Diesel Use: Crop Interval 2 (Planned)"]
[null,{"$f":"IF(L85=1,SUM($L$72:L85),0)","v":0},{"$f":"IF(D26=\"\",\"\",D26)","v":""},null,"Select Operation Description",null,null,null,null,null,{"$f":"IF(ISNA(VLOOKUP(E85,Database_Tables!$C$1014:$D$1578,2,FALSE)*IF(OR(ISBLANK(J85),J85<0),1,J85)),\"\",VLOOKUP(E85,Database_Tables!$C$1014:$D$1578,2,FALSE)*IF(OR(ISBLANK(J85),J85<0),1,J85))","v":""},{"$f":"IF(ISBLANK($D$26),0,IF(ISBLANK(D85),0,1))","v":0},null,null,null,{"$f":"IF(Z85=1,SUM($Z$72:Z85),0)","v":0},{"$f":"IF(R26=\"\",\"\",R26)","v":""},null,null,null,null,null,null,null,{"$f":"IF(ISNA(VLOOKUP(S85,Database_Tables!$C$1014:$D$1578,2,FALSE)*IF(OR(ISBLANK(X85),X85<0),1,X85)),\"\",VLOOKUP(S85,Database_Tables!$C$1014:$D$1578,2,FALSE)*IF(OR(ISBLANK(X85),X85<0),1,X85))","v":""},{"$f":"IF(ISBLANK($R$26),0,IF(ISBLANK(R85),0,1))","v":0}]
[null,{"$f":"IF(L86=1,SUM($L$72:L86),0)","v":0},null,null,null,null,null,null,null,null,{"$f":"IF(ISNA(VLOOKUP(E86,Database_Tables!$C$1014:$D$1578,2,FALSE)*IF(OR(ISBLANK(J86),J86<0),1,J86)),\"\",VLOOKUP(E86,Database_Tables!$C$1014:$D$1578,2,FALSE)*IF(OR(ISBLANK(J86),J86<0),1,J86))","v":""},{"$f":"IF(ISBLANK($D$26),0,IF(ISBLANK(D86),0,1))","v":0},null,null,null,{"$f":"IF(Z86=1,SUM($Z$72:Z86),0)","v":0},null,null,null,null,null,null,null,null,{"$f":"IF(ISNA(VLOOKUP(S86,Database_Tables!$C$1014:$D$1578,2,FALSE)*IF(OR(ISBLANK(X86),X86<0),1,X86)),\"\",VLOOKUP(S86,Database_Tables!$C$1014:$D$1578,2,FALSE)*IF(OR(ISBLANK(X86),X86<0),1,X86))","v":""},{"$f":"IF(ISBLANK($R$26),0,IF(ISBLANK(R86),0,1))","v":0}]
[null,{"$f":"IF(L87=1,SUM($L$72:L87),0)","v":0},null,null,null,null,null,null,null,null,{"$f":"IF(ISNA(VLOOKUP(E87,Database_Tables!$C$1014:$D$1578,2,FALSE)*IF(OR(ISBLANK(J87),J87<0),1,J87)),\"\",VLOOKUP(E87,Database_Tables!$C$1014:$D$1578,2,FALSE)*IF(OR(ISBLANK(J87),J87<0),1,J87))","v":""},0,null,null,null,{"$f":"IF(Z87=1,SUM($Z$72:Z87),0)","v":0},null,null,null,null,null,null,null,null,{"$f":"IF(ISNA(VLOOKUP(S87,Database_Tables!$C$1014:$D$1578,2,FALSE)*IF(OR(ISBLANK(X87),X87<0),1,X87)),\"\",VLOOKUP(S87,Database_Tables!$C$1014:$D$1578,2,FALSE)*IF(OR(ISBLANK(X87),X87<0),1,X87))","v":""},0]
[null,{"$f":"IF(L88=1,SUM($L$72:L88),0)","v":0},null,null,null,null,null,null,null,null,{"$f":"IF(ISNA(VLOOKUP(E88,Database_Tables!$C$1014:$D$1578,2,FALSE)*IF(OR(ISBLANK(J88),J88<0),1,J88)),\"\",VLOOKUP(E88,Database_Tables!$C$1014:$D$1578,2,FALSE)*IF(OR(ISBLANK(J88),J88<0),1,J88))","v":""},0,null,null,null,{"$f":"IF(Z88=1,SUM($Z$72:Z88),0)","v":0},null,null,null,null,null,null,null,null,{"$f":"IF(ISNA(VLOOKUP(S88,Database_Tables!$C$1014:$D$1578,2,FALSE)*IF(OR(ISBLANK(X88),X88<0),1,X88)),\"\",VLOOKUP(S88,Database_Tables!$C$1014:$D$1578,2,FALSE)*IF(OR(ISBLANK(X88),X88<0),1,X88))","v":""},0]
[null,{"$f":"IF(L89=1,SUM($L$72:L89),0)","v":0},null,null,null,null,null,null,null,null,{"$f":"IF(ISNA(VLOOKUP(E89,Database_Tables!$C$1014:$D$1578,2,FALSE)*IF(OR(ISBLANK(J89),J89<0),1,J89)),\"\",VLOOKUP(E89,Database_Tables!$C$1014:$D$1578,2,FALSE)*IF(OR(ISBLANK(J89),J89<0),1,J89))","v":""},0,null,null,null,{"$f":"IF(Z89=1,SUM($Z$72:Z89),0)","v":0},null,null,null,null,null,null,null,null,{"$f":"IF(ISNA(VLOOKUP(S89,Database_Tables!$C$1014:$D$1578,2,FALSE)*IF(OR(ISBLANK(X89),X89<0),1,X89)),\"\",VLOOKUP(S89,Database_Tables!$C$1014:$D$1578,2,FALSE)*IF(OR(ISBLANK(X89),X89<0),1,X89))","v":""},0]
[null,{"$f":"IF(L90=1,SUM($L$72:L90),0)","v":0},null,null,null,null,null,null,null,null,{"$f":"IF(ISNA(VLOOKUP(E90,Database_Tables!$C$1014:$D$1578,2,FALSE)*IF(OR(ISBLANK(J90),J90<0),1,J90)),\"\",VLOOKUP(E90,Database_Tables!$C$1014:$D$1578,2,FALSE)*IF(OR(ISBLANK(J90),J90<0),1,J90))","v":""},0,null,null,null,{"$f":"IF(Z90=1,SUM($Z$72:Z90),0)","v":0},null,null,null,null,null,null,null,null,{"$f":"IF(ISNA(VLOOKUP(S90,Database_Tables!$C$1014:$D$1578,2,FALSE)*IF(OR(ISBLANK(X90),X90<0),1,X90)),\"\",VLOOKUP(S90,Database_Tables!$C$1014:$D$1578,2,FALSE)*IF(OR(ISBLANK(X90),X90<0),1,X90))","v":""},0]
[null,{"$f":"IF(L91=1,SUM($L$72:L91),0)","v":0},null,null,null,null,null,null,null,null,{"$f":"IF(ISNA(VLOOKUP(E91,Database_Tables!$C$1014:$D$1578,2,FALSE)*IF(OR(ISBLANK(J91),J91<0),1,J91)),\"\",VLOOKUP(E91,Database_Tables!$C$1014:$D$1578,2,FALSE)*IF(OR(ISBLANK(J91),J91<0),1,J91))","v":""},0,null,null,null,{"$f":"IF(Z91=1,SUM($Z$72:Z91),0)","v":0},null,null,null,null,null,null,null,null,{"$f":"IF(ISNA(VLOOKUP(S91,Database_Tables!$C$1014:$D$1578,2,FALSE)*IF(OR(ISBLANK(X91),X91<0),1,X91)),\"\",VLOOKUP(S91,Database_Tables!$C$1014:$D$1578,2,FALSE)*IF(OR(ISBLANK(X91),X91<0),1,X91))","v":""},0]
[null,{"$f":"IF(L92=1,SUM($L$72:L92),0)","v":0},null,null,null,null,null,null,null,null,{"$f":"IF(ISNA(VLOOKUP(E92,Database_Tables!$C$1014:$D$1578,2,FALSE)*IF(OR(ISBLANK(J92),J92<0),1,J92)),\"\",VLOOKUP(E92,Database_Tables!$C$1014:$D$1578,2,FALSE)*IF(OR(ISBLANK(J92),J92<0),1,J92))","v":""},0,null,null,null,{"$f":"IF(Z92=1,SUM($Z$72:Z92),0)","v":0},null,null,null,null,null,null,null,null,{"$f":"IF(ISNA(VLOOKUP(S92,Database_Tables!$C$1014:$D$1578,2,FALSE)*IF(OR(ISBLANK(X92),X92<0),1,X92)),\"\",VLOOKUP(S92,Database_Tables!$C$1014:$D$1578,2,FALSE)*IF(OR(ISBLANK(X92),X92<0),1,X92))","v":""},0]
[null,{"$f":"IF(L93=1,SUM($L$72:L93),0)","v":0},null,null,null,null,null,null,null,null,{"$f":"IF(ISNA(VLOOKUP(E93,Database_Tables!$C$1014:$D$1578,2,FALSE)*IF(OR(ISBLANK(J93),J93<0),1,J93)),\"\",VLOOKUP(E93,Database_Tables!$C$1014:$D$1578,2,FALSE)*IF(OR(ISBLANK(J93),J93<0),1,J93))","v":""},0,null,null,null,{"$f":"IF(Z93=1,SUM($Z$72:Z93),0)","v":0},null,null,null,null,null,null,null,null,{"$f":"IF(ISNA(VLOOKUP(S93,Database_Tables!$C$1014:$D$1578,2,FALSE)*IF(OR(ISBLANK(X93),X93<0),1,X93)),\"\",VLOOKUP(S93,Database_Tables!$C$1014:$D$1578,2,FALSE)*IF(OR(ISBLANK(X93),X93<0),1,X93))","v":""},0]
[null,{"$f":"IF(L94=1,SUM($L$72:L94),0)","v":0},null,null,null,null,null,null,null,null,{"$f":"IF(ISNA(VLOOKUP(E94,Database_Tables!$C$1014:$D$1578,2,FALSE)*IF(OR(ISBLANK(J94),J94<0),1,J94)),\"\",VLOOKUP(E94,Database_Tables!$C$1014:$D$1578,2,FALSE)*IF(OR(ISBLANK(J94),J94<0),1,J94))","v":""},0,null,null,null,{"$f":"IF(Z94=1,SUM($Z$72:Z94),0)","v":0},null,null,null,null,null,null,null,null,{"$f":"IF(ISNA(VLOOKUP(S94,Database_Tables!$C$1014:$D$1578,2,FALSE)*IF(OR(ISBLANK(X94),X94<0),1,X94)),\"\",VLOOKUP(S94,Database_Tables!$C$1014:$D$1578,2,FALSE)*IF(OR(ISBLANK(X94),X94<0),1,X94))","v":""},0]
[null,{"$f":"IF(L95=1,SUM($L$72:L95),0)","v":0},null,"Manual Input","Manually Input Operation Description and Diesel Use (if needed)",null,null,null,null,"NA",null,{"$f":"IF(ISBLANK($D$26),0,IF(ISBLANK(K95),0,1))","v":0},null,null,null,{"$f":"IF(Z95=1,SUM($Z$72:Z95),0)","v":0},null,"Manual Input","Manually Input Operation Description and Diesel Use (if needed)",null,null,null,null,"NA",null,{"$f":"IF(ISBLANK($R$26),0,IF(ISBLANK(Y95),0,1))","v":0}]
[null,{"$f":"IF(L96=1,SUM($L$72:L96),0)","v":0},null,"Manual Input","Manually Input Operation Description and Diesel Use (if needed)",null,null,null,null,"NA",null,{"$f":"IF(ISBLANK($D$26),0,IF(ISBLANK(K96),0,1))","v":0},null,null,null,{"$f":"IF(Z96=1,SUM($Z$72:Z96),0)","v":0},null,"Manual Input","Manually Input Operation Description and Diesel Use (if needed)",null,null,null,null,"NA",null,{"$f":"IF(ISBLANK($R$26),0,IF(ISBLANK(Y96),0,1))","v":0}]
[null,{"$f":"IF(L97=1,SUM($L$72:L97),0)","v":0},"Field Operations Diesel Use: Crop Interval 3 (Benchmark)",null,null,null,null,null,null,null,null,null,null,null,null,null,"Field Operations Diesel Use: Crop Interval 3 (Planned)"]
[null,{"$f":"IF(L98=1,SUM($L$72:L98),0)","v":0},{"$f":"IF(D27=\"\",\"\",D27)","v":""},null,"Select Operation Description",null,null,null,null,null,{"$f":"IF(ISNA(VLOOKUP(E98,Database_Tables!$C$1014:$D$1578,2,FALSE)*IF(OR(ISBLANK(J98),J98<0),1,J98)),\"\",VLOOKUP(E98,Database_Tables!$C$1014:$D$1578,2,FALSE)*IF(OR(ISBLANK(J98),J98<0),1,J98))","v":""},{"$f":"IF(ISBLANK($D$27),0,IF(ISBLANK(D98),0,1))","v":0},null,null,null,{"$f":"IF(Z98=1,SUM($Z$72:Z98),0)","v":0},{"$f":"IF(R27=\"\",\"\",R27)","v":""},null,null,null,null,null,null,null,{"$f":"IF(ISNA(VLOOKUP(S98,Database_Tables!$C$1014:$D$1578,2,FALSE)*IF(OR(ISBLANK(X98),X98<0),1,X98)),\"\",VLOOKUP(S98,Database_Tables!$C$1014:$D$1578,2,FALSE)*IF(OR(ISBLANK(X98),X98<0),1,X98))","v":""},{"$f":"IF(ISBLANK($R$27),0,IF(ISBLANK(R98),0,1))","v":0}]
[null,{"$f":"IF(L99=1,SUM($L$72:L99),0)","v":0},null,null,null,null,null,null,null,null,{"$f":"IF(ISNA(VLOOKUP(E99,Database_Tables!$C$1014:$D$1578,2,FALSE)*IF(OR(ISBLANK(J99),J99<0),1,J99)),\"\",VLOOKUP(E99,Database_Tables!$C$1014:$D$1578,2,FALSE)*IF(OR(ISBLANK(J99),J99<0),1,J99))","v":""},{"$f":"IF(ISBLANK($D$27),0,IF(ISBLANK(D99),0,1))","v":0},null,null,null,{"$f":"IF(Z99=1,SUM($Z$72:Z99),0)","v":0},null,null,null,null,null,null,null,null,{"$f":"IF(ISNA(VLOOKUP(S99,Database_Tables!$C$1014:$D$1578,2,FALSE)*IF(OR(ISBLANK(X99),X99<0),1,X99)),\"\",VLOOKUP(S99,Database_Tables!$C$1014:$D$1578,2,FALSE)*IF(OR(ISBLANK(X99),X99<0),1,X99))","v":""},{"$f":"IF(ISBLANK($R$27),0,IF(ISBLANK(R99),0,1))","v":0}]
[null,{"$f":"IF(L100=1,SUM($L$72:L100),0)","v":0},null,null,null,null,null,null,null,null,{"$f":"IF(ISNA(VLOOKUP(E100,Database_Tables!$C$1014:$D$1578,2,FALSE)*IF(OR(ISBLANK(J100),J100<0),1,J100)),\"\",VLOOKUP(E100,Database_Tables!$C$1014:$D$1578,2,FALSE)*IF(OR(ISBLANK(J100),J100<0),1,J100))","v":""},0,null,null,null,{"$f":"IF(Z100=1,SUM($Z$72:Z100),0)","v":0},null,null,null,null,null,null,null,null,{"$f":"IF(ISNA(VLOOKUP(S100,Database_Tables!$C$1014:$D$1578,2,FALSE)*IF(OR(ISBLANK(X100),X100<0),1,X100)),\"\",VLOOKUP(S100,Database_Tables!$C$1014:$D$1578,2,FALSE)*IF(OR(ISBLANK(X100),X100<0),1,X100))","v":""},0]
[null,{"$f":"IF(L101=1,SUM($L$72:L101),0)","v":0},null,null,null,null,null,null,null,null,{"$f":"IF(ISNA(VLOOKUP(E101,Database_Tables!$C$1014:$D$1578,2,FALSE)*IF(OR(ISBLANK(J101),J101<0),1,J101)),\"\",VLOOKUP(E101,Database_Tables!$C$1014:$D$1578,2,FALSE)*IF(OR(ISBLANK(J101),J101<0),1,J101))","v":""},0,null,null,null,{"$f":"IF(Z101=1,SUM($Z$72:Z101),0)","v":0},null,null,null,null,null,null,null,null,{"$f":"IF(ISNA(VLOOKUP(S101,Database_Tables!$C$1014:$D$1578,2,FALSE)*IF(OR(ISBLANK(X101),X101<0),1,X101)),\"\",VLOOKUP(S101,Database_Tables!$C$1014:$D$1578,2,FALSE)*IF(OR(ISBLANK(X101),X101<0),1,X101))","v":""},0]
[null,{"$f":"IF(L102=1,SUM($L$72:L102),0)","v":0},null,null,null,null,null,null,null,null,{"$f":"IF(ISNA(VLOOKUP(E102,Database_Tables!$C$1014:$D$1578,2,FALSE)*IF(OR(ISBLANK(J102),J102<0),1,J102)),\"\",VLOOKUP(E102,Database_Tables!$C$1014:$D$1578,2,FALSE)*IF(OR(ISBLANK(J102),J102<0),1,J102))","v":""},0,null,null,null,{"$f":"IF(Z102=1,SUM($Z$72:Z102),0)","v":0},null,null,null,null,null,null,null,null,{"$f":"IF(ISNA(VLOOKUP(S102,Database_Tables!$C$1014:$D$1578,2,FALSE)*IF(OR(ISBLANK(X102),X102<0),1,X102)),\"\",VLOOKUP(S102,Database_Tables!$C$1014:$D$1578,2,FALSE)*IF(OR(ISBLANK(X102),X102<0),1,X102))","v":""},0]
[null,{"$f":"IF(L103=1,SUM($L$72:L103),0)","v":0},null,null,null,null,null,null,null,null,{"$f":"IF(ISNA(VLOOKUP(E103,Database_Tables!$C$1014:$D$1578,2,FALSE)*IF(OR(ISBLANK(J103),J103<0),1,J103)),\"\",VLOOKUP(E103,Database_Tables!$C$1014:$D$1578,2,FALSE)*IF(OR(ISBLANK(J103),J103<0),1,J103))","v":""},0,null,null,null,{"$f":"IF(Z103=1,SUM($Z$72:Z103),0)","v":0},null,null,null,null,null,null,null,null,{"$f":"IF(ISNA(VLOOKUP(S103,Database_Tables!$C$1014:$D$1578,2,FALSE)*IF(OR(ISBLANK(X103),X103<0),1,X103)),\"\",VLOOKUP(S103,Database_Tables!$C$1014:$D$1578,2,FALSE)*IF(OR(ISBLANK(X103),X103<0),1,X103))","v":""},0]
[null,{"$f":"IF(L104=1,SUM($L$72:L104),0)","v":0},null,null,null,null,null,null,null,null,{"$f":"IF(ISNA(VLOOKUP(E104,Database_Tables!$C$1014:$D$1578,2,FALSE)*IF(OR(ISBLANK(J104),J104<0),1,J104)),\"\",VLOOKUP(E104,Database_Tables!$C$1014:$D$1578,2,FALSE)*IF(OR(ISBLANK(J104),J104<0),1,J104))","v":""},0,null,null,null,{"$f":"IF(Z104=1,SUM($Z$72:Z104),0)","v":0},null,null,null,null,null,null,null,null,{"$f":"IF(ISNA(VLOOKUP(S104,Database_Tables!$C$1014:$D$1578,2,FALSE)*IF(OR(ISBLANK(X104),X104<0),1,X104)),\"\",VLOOKUP(S104,Database_Tables!$C$1014:$D$1578,2,FALSE)*IF(OR(ISBLANK(X104),X104<0),1,X104))","v":""},0]
[null,{"$f":"IF(L105=1,SUM($L$72:L105),0)","v":0},null,null,null,null,null,null,null,null,{"$f":"IF(ISNA(VLOOKUP(E105,Database_Tables!$C$1014:$D$1578,2,FALSE)*IF(OR(ISBLANK(J105),J105<0),1,J105)),\"\",VLOOKUP(E105,Database_Tables!$C$1014:$D$1578,2,FALSE)*IF(OR(ISBLANK(J105),J105<0),1,J105))","v":""},0,null,null,null,{"$f":"IF(Z105=1,SUM($Z$72:Z105),0)","v":0},null,null,null,null,null,null,null,null,{"$f":"IF(ISNA(VLOOKUP(S105,Database_Tables!$C$1014:$D$1578,2,FALSE)*IF(OR(ISBLANK(X105),X105<0),1,X105)),\"\",VLOOKUP(S105,Database_Tables!$C$1014:$D$1578,2,FALSE)*IF(OR(ISBLANK(X105),X105<0),1,X105))","v":""},0]
[null,{"$f":"IF(L106=1,SUM($L$72:L106),0)","v":0},null,null,null,null,null,null,null,null,{"$f":"IF(ISNA(VLOOKUP(E106,Database_Tables!$C$1014:$D$1578,2,FALSE)*IF(OR(ISBLANK(J106),J106<0),1,J106)),\"\",VLOOKUP(E106,Database_Tables!$C$1014:$D$1578,2,FALSE)*IF(OR(ISBLANK(J106),J106<0),1,J106))","v":""},0,null,null,null,{"$f":"IF(Z106=1,SUM($Z$72:Z106),0)","v":0},null,null,null,null,null,null,null,null,{"$f":"IF(ISNA(VLOOKUP(S106,Database_Tables!$C$1014:$D$1578,2,FALSE)*IF(OR(ISBLANK(X106),X106<0),1,X106)),\"\",VLOOKUP(S106,Database_Tables!$C$1014:$D$1578,2,FALSE)*IF(OR(ISBLANK(X106),X106<0),1,X106))","v":""},0]
[null,{"$f":"IF(L107=1,SUM($L$72:L107),0)","v":0},null,null,null,null,null,null,null,null,{"$f":"IF(ISNA(VLOOKUP(E107,Database_Tables!$C$1014:$D$1578,2,FALSE)*IF(OR(ISBLANK(J107),J107<0),1,J107)),\"\",VLOOKUP(E107,Database_Tables!$C$1014:$D$1578,2,FALSE)*IF(OR(ISBLANK(J107),J107<0),1,J107))","v":""},0,null,null,null,{"$f":"IF(Z107=1,SUM($Z$72:Z107),0)","v":0},null,null,null,null,null,null,null,null,{"$f":"IF(ISNA(VLOOKUP(S107,Database_Tables!$C$1014:$D$1578,2,FALSE)*IF(OR(ISBLANK(X107),X107<0),1,X107)),\"\",VLOOKUP(S107,Database_Tables!$C$1014:$D$1578,2,FALSE)*IF(OR(ISBLANK(X107),X107<0),1,X107))","v":""},0]
[null,{"$f":"IF(L108=1,SUM($L$72:L108),0)","v":0},null,"Manual Input","Manually Input Operation Description and Diesel Use (if needed)",null,null,null,null,"NA",null,{"$f":"IF(ISBLANK($D$27),0,IF(ISBLANK(K108),0,1))","v":0},null,null,null,{"$f":"IF(Z108=1,SUM($Z$72:Z108),0)","v":0},null,"Manual Input","Manually Input Operation Description and Diesel Use (if needed)",null,null,null,null,"NA",null,{"$f":"IF(ISBLANK($R$27),0,IF(ISBLANK(Y108),0,1))","v":0}]
[null,{"$f":"IF(L109=1,SUM($L$72:L109),0)","v":0},null,"Manual Input","Manually Input Operation Description and Diesel Use (if needed)",null,null,null,null,"NA",null,{"$f":"IF(ISBLANK($D$27),0,IF(ISBLANK(K109),0,1))","v":0},null,null,null,{"$f":"IF(Z109=1,SUM($Z$72:Z109),0)","v":0},null,"Manual Input","Manually Input Operation Description and Diesel Use (if needed)",null,null,null,null,"NA",null,{"$f":"IF(ISBLANK($R$27),0,IF(ISBLANK(Y109),0,1))","v":0}]
[null,null,"Field Operations Diesel Use: Crop Interval 4 (Benchmark)",null,null,null,null,null,null,null,null,null,null,null,null,null,"Field Operations Diesel Use: Crop Interval 4 (Planned)"]
[null,{"$f":"IF(L111=1,SUM($L$72:L111),0)","v":0},{"$f":"IF(D28=\"\",\"\",D28)","v":""},null,null,null,null,null,null,null,{"$f":"IF(ISNA(VLOOKUP(E111,Database_Tables!$C$1014:$D$1578,2,FALSE)*IF(OR(ISBLANK(J111),J111<0),1,J111)),\"\",VLOOKUP(E111,Database_Tables!$C$1014:$D$1578,2,FALSE)*IF(OR(ISBLANK(J111),J111<0),1,J111))","v":""},{"$f":"IF(ISBLANK($D$28),0,IF(ISBLANK(D111),0,1))","v":0},null,null,null,{"$f":"IF(Z111=1,SUM($Z$72:Z111),0)","v":0},{"$f":"IF(R28=\"\",\"\",R28)","v":""},null,null,null,null,null,null,null,{"$f":"IF(ISNA(VLOOKUP(S111,Database_Tables!$C$1014:$D$1578,2,FALSE)*IF(OR(ISBLANK(X111),X111<0),1,X111)),\"\",VLOOKUP(S111,Database_Tables!$C$1014:$D$1578,2,FALSE)*IF(OR(ISBLANK(X111),X111<0),1,X111))","v":""},{"$f":"IF(ISBLANK($R$28),0,IF(ISBLANK(R111),0,1))","v":0}]
[null,{"$f":"IF(L112=1,SUM($L$72:L112),0)","v":0},null,null,null,null,null,null,null,null,{"$f":"IF(ISNA(VLOOKUP(E112,Database_Tables!$C$1014:$D$1578,2,FALSE)*IF(OR(ISBLANK(J112),J112<0),1,J112)),\"\",VLOOKUP(E112,Database_Tables!$C$1014:$D$1578,2,FALSE)*IF(OR(ISBLANK(J112),J112<0),1,J112))","v":""},{"$f":"IF(ISBLANK($D$28),0,IF(ISBLANK(D112),0,1))","v":0},null,null,null,{"$f":"IF(Z112=1,SUM($Z$72:Z112),0)","v":0},null,null,null,null,null,null,null,null,{"$f":"IF(ISNA(VLOOKUP(S112,Database_Tables!$C$1014:$D$1578,2,FALSE)*IF(OR(ISBLANK(X112),X112<0),1,X112)),\"\",VLOOKUP(S112,Database_Tables!$C$1014:$D$1578,2,FALSE)*IF(OR(ISBLANK(X112),X112<0),1,X112))","v":""},{"$f":"IF(ISBLANK($R$28),0,IF(ISBLANK(R112),0,1))","v":0}]
[null,{"$f":"IF(L113=1,SUM($L$72:L113),0)","v":0},null,null,null,null,null,null,null,null,{"$f":"IF(ISNA(VLOOKUP(E113,Database_Tables!$C$1014:$D$1578,2,FALSE)*IF(OR(ISBLANK(J113),J113<0),1,J113)),\"\",VLOOKUP(E113,Database_Tables!$C$1014:$D$1578,2,FALSE)*IF(OR(ISBLANK(J113),J113<0),1,J113))","v":""},0,null,null,null,{"$f":"IF(Z113=1,SUM($Z$72:Z113),0)","v":0},null,null,null,null,null,null,null,null,{"$f":"IF(ISNA(VLOOKUP(S113,Database_Tables!$C$1014:$D$1578,2,FALSE)*IF(OR(ISBLANK(X113),X113<0),1,X113)),\"\",VLOOKUP(S113,Database_Tables!$C$1014:$D$1578,2,FALSE)*IF(OR(ISBLANK(X113),X113<0),1,X113))","v":""},0]
[null,{"$f":"IF(L114=1,SUM($L$72:L114),0)","v":0},null,null,null,null,null,null,null,null,{"$f":"IF(ISNA(VLOOKUP(E114,Database_Tables!$C$1014:$D$1578,2,FALSE)*IF(OR(ISBLANK(J114),J114<0),1,J114)),\"\",VLOOKUP(E114,Database_Tables!$C$1014:$D$1578,2,FALSE)*IF(OR(ISBLANK(J114),J114<0),1,J114))","v":""},0,null,null,null,{"$f":"IF(Z114=1,SUM($Z$72:Z114),0)","v":0},null,null,null,null,null,null,null,null,{"$f":"IF(ISNA(VLOOKUP(S114,Database_Tables!$C$1014:$D$1578,2,FALSE)*IF(OR(ISBLANK(X114),X114<0),1,X114)),\"\",VLOOKUP(S114,Database_Tables!$C$1014:$D$1578,2,FALSE)*IF(OR(ISBLANK(X114),X114<0),1,X114))","v":""},0]
[null,{"$f":"IF(L115=1,SUM($L$72:L115),0)","v":0},null,null,null,null,null,null,null,null,{"$f":"IF(ISNA(VLOOKUP(E115,Database_Tables!$C$1014:$D$1578,2,FALSE)*IF(OR(ISBLANK(J115),J115<0),1,J115)),\"\",VLOOKUP(E115,Database_Tables!$C$1014:$D$1578,2,FALSE)*IF(OR(ISBLANK(J115),J115<0),1,J115))","v":""},0,null,null,null,{"$f":"IF(Z115=1,SUM($Z$72:Z115),0)","v":0},null,null,null,null,null,null,null,null,{"$f":"IF(ISNA(VLOOKUP(S115,Database_Tables!$C$1014:$D$1578,2,FALSE)*IF(OR(ISBLANK(X115),X115<0),1,X115)),\"\",VLOOKUP(S115,Database_Tables!$C$1014:$D$1578,2,FALSE)*IF(OR(ISBLANK(X115),X115<0),1,X115))","v":""},0]
[null,{"$f":"IF(L116=1,SUM($L$72:L116),0)","v":0},null,null,null,null,null,null,null,null,{"$f":"IF(ISNA(VLOOKUP(E116,Database_Tables!$C$1014:$D$1578,2,FALSE)*IF(OR(ISBLANK(J116),J116<0),1,J116)),\"\",VLOOKUP(E116,Database_Tables!$C$1014:$D$1578,2,FALSE)*IF(OR(ISBLANK(J116),J116<0),1,J116))","v":""},0,null,null,null,{"$f":"IF(Z116=1,SUM($Z$72:Z116),0)","v":0},null,null,null,null,null,null,null,null,{"$f":"IF(ISNA(VLOOKUP(S116,Database_Tables!$C$1014:$D$1578,2,FALSE)*IF(OR(ISBLANK(X116),X116<0),1,X116)),\"\",VLOOKUP(S116,Database_Tables!$C$1014:$D$1578,2,FALSE)*IF(OR(ISBLANK(X116),X116<0),1,X116))","v":""},0]
[null,{"$f":"IF(L117=1,SUM($L$72:L117),0)","v":0},null,null,null,null,null,null,null,null,{"$f":"IF(ISNA(VLOOKUP(E117,Database_Tables!$C$1014:$D$1578,2,FALSE)*IF(OR(ISBLANK(J117),J117<0),1,J117)),\"\",VLOOKUP(E117,Database_Tables!$C$1014:$D$1578,2,FALSE)*IF(OR(ISBLANK(J117),J117<0),1,J117))","v":""},0,null,null,null,{"$f":"IF(Z117=1,SUM($Z$72:Z117),0)","v":0},null,null,null,null,null,null,null,null,{"$f":"IF(ISNA(VLOOKUP(S117,Database_Tables!$C$1014:$D$1578,2,FALSE)*IF(OR(ISBLANK(X117),X117<0),1,X117)),\"\",VLOOKUP(S117,Database_Tables!$C$1014:$D$1578,2,FALSE)*IF(OR(ISBLANK(X117),X117<0),1,X117))","v":""},0]
[null,{"$f":"IF(L118=1,SUM($L$72:L118),0)","v":0},null,null,null,null,null,null,null,null,{"$f":"IF(ISNA(VLOOKUP(E118,Database_Tables!$C$1014:$D$1578,2,FALSE)*IF(OR(ISBLANK(J118),J118<0),1,J118)),\"\",VLOOKUP(E118,Database_Tables!$C$1014:$D$1578,2,FALSE)*IF(OR(ISBLANK(J118),J118<0),1,J118))","v":""},0,null,null,null,{"$f":"IF(Z118=1,SUM($Z$72:Z118),0)","v":0},null,null,null,null,null,null,null,null,{"$f":"IF(ISNA(VLOOKUP(S118,Database_Tables!$C$1014:$D$1578,2,FALSE)*IF(OR(ISBLANK(X118),X118<0),1,X118)),\"\",VLOOKUP(S118,Database_Tables!$C$1014:$D$1578,2,FALSE)*IF(OR(ISBLANK(X118),X118<0),1,X118))","v":""},0]
[null,{"$f":"IF(L119=1,SUM($L$72:L119),0)","v":0},null,null,null,null,null,null,null,null,{"$f":"IF(ISNA(VLOOKUP(E119,Database_Tables!$C$1014:$D$1578,2,FALSE)*IF(OR(ISBLANK(J119),J119<0),1,J119)),\"\",VLOOKUP(E119,Database_Tables!$C$1014:$D$1578,2,FALSE)*IF(OR(ISBLANK(J119),J119<0),1,J119))","v":""},0,null,null,null,{"$f":"IF(Z119=1,SUM($Z$72:Z119),0)","v":0},null,null,null,null,null,null,null,null,{"$f":"IF(ISNA(VLOOKUP(S119,Database_Tables!$C$1014:$D$1578,2,FALSE)*IF(OR(ISBLANK(X119),X119<0),1,X119)),\"\",VLOOKUP(S119,Database_Tables!$C$1014:$D$1578,2,FALSE)*IF(OR(ISBLANK(X119),X119<0),1,X119))","v":""},0]
[null,{"$f":"IF(L120=1,SUM($L$72:L120),0)","v":0},null,null,null,null,null,null,null,null,{"$f":"IF(ISNA(VLOOKUP(E120,Database_Tables!$C$1014:$D$1578,2,FALSE)*IF(OR(ISBLANK(J120),J120<0),1,J120)),\"\",VLOOKUP(E120,Database_Tables!$C$1014:$D$1578,2,FALSE)*IF(OR(ISBLANK(J120),J120<0),1,J120))","v":""},0,null,null,null,{"$f":"IF(Z120=1,SUM($Z$72:Z120),0)","v":0},null,null,null,null,null,null,null,null,{"$f":"IF(ISNA(VLOOKUP(S120,Database_Tables!$C$1014:$D$1578,2,FALSE)*IF(OR(ISBLANK(X120),X120<0),1,X120)),\"\",VLOOKUP(S120,Database_Tables!$C$1014:$D$1578,2,FALSE)*IF(OR(ISBLANK(X120),X120<0),1,X120))","v":""},0]
[null,{"$f":"IF(L121=1,SUM($L$72:L121),0)","v":0},null,"Manual Input","Manually Input Operation Description and Diesel Use (if needed)",null,null,null,null,"NA",null,{"$f":"IF(ISBLANK($D$28),0,IF(ISBLANK(K121),0,1))","v":0},null,null,null,{"$f":"IF(Z121=1,SUM($Z$72:Z121),0)","v":0},null,"Manual Input","Manually Input Operation Description and Diesel Use (if needed)",null,null,null,null,"NA",null,{"$f":"IF(ISBLANK($R$28),0,IF(ISBLANK(Y121),0,1))","v":0}]
[null,{"$f":"IF(L122=1,SUM($L$72:L122),0)","v":0},null,"Manual Input","Manually Input Operation Description and Diesel Use (if needed)",null,null,null,null,"NA",null,{"$f":"IF(ISBLANK($D$28),0,IF(ISBLANK(K122),0,1))","v":0},null,null,null,{"$f":"IF(Z122=1,SUM($Z$72:Z122),0)","v":0},null,"Manual Input","Manually Input Operation Description and Diesel Use (if needed)",null,null,null,null,"NA",null,{"$f":"IF(ISBLANK($R$28),0,IF(ISBLANK(Y122),0,1))","v":0}]
[null,null,"Field Operations Diesel Use: Crop Interval 5 (Benchmark)",null,null,null,null,null,null,null,null,null,null,null,null,null,"Field Operations Diesel Use: Crop Interval 5 (Planned)"]
[null,{"$f":"IF(L124=1,SUM($L$72:L124),0)","v":0},{"$f":"IF(D29=\"\",\"\",D29)","v":""},null,null,null,null,null,null,null,{"$f":"IF(ISNA(VLOOKUP(E124,Database_Tables!$C$1014:$D$1578,2,FALSE)*IF(OR(ISBLANK(J124),J124<0),1,J124)),\"\",VLOOKUP(E124,Database_Tables!$C$1014:$D$1578,2,FALSE)*IF(OR(ISBLANK(J124),J124<0),1,J124))","v":""},{"$f":"IF(ISBLANK($D$29),0,IF(ISBLANK(D124),0,1))","v":0},null,null,null,{"$f":"IF(Z124=1,SUM($Z$72:Z124),0)","v":0},{"$f":"IF(R29=\"\",\"\",R29)","v":""},null,null,null,null,null,null,null,{"$f":"IF(ISNA(VLOOKUP(S124,Database_Tables!$C$1014:$D$1578,2,FALSE)*IF(OR(ISBLANK(X124),X124<0),1,X124)),\"\",VLOOKUP(S124,Database_Tables!$C$1014:$D$1578,2,FALSE)*IF(OR(ISBLANK(X124),X124<0),1,X124))","v":""},{"$f":"IF(ISBLANK($R$29),0,IF(ISBLANK(R124),0,1))","v":0}]
[null,{"$f":"IF(L125=1,SUM($L$72:L125),0)","v":0},null,null,null,null,null,null,null,null,{"$f":"IF(ISNA(VLOOKUP(E125,Database_Tables!$C$1014:$D$1578,2,FALSE)*IF(OR(ISBLANK(J125),J125<0),1,J125)),\"\",VLOOKUP(E125,Database_Tables!$C$1014:$D$1578,2,FALSE)*IF(OR(ISBLANK(J125),J125<0),1,J125))","v":""},{"$f":"IF(ISBLANK($D$29),0,IF(ISBLANK(D125),0,1))","v":0},null,null,null,{"$f":"IF(Z125=1,SUM($Z$72:Z125),0)","v":0},null,null,null,null,null,null,null,null,{"$f":"IF(ISNA(VLOOKUP(S125,Database_Tables!$C$1014:$D$1578,2,FALSE)*IF(OR(ISBLANK(X125),X125<0),1,X125)),\"\",VLOOKUP(S125,Database_Tables!$C$1014:$D$1578,2,FALSE)*IF(OR(ISBLANK(X125),X125<0),1,X125))","v":""},{"$f":"IF(ISBLANK($R$29),0,IF(ISBLANK(R125),0,1))","v":0}]
[null,{"$f":"IF(L126=1,SUM($L$72:L126),0)","v":0},null,null,null,null,null,null,null,null,{"$f":"IF(ISNA(VLOOKUP(E126,Database_Tables!$C$1014:$D$1578,2,FALSE)*IF(OR(ISBLANK(J126),J126<0),1,J126)),\"\",VLOOKUP(E126,Database_Tables!$C$1014:$D$1578,2,FALSE)*IF(OR(ISBLANK(J126),J126<0),1,J126))","v":""},0,null,null,null,{"$f":"IF(Z126=1,SUM($Z$72:Z126),0)","v":0},null,null,null,null,null,null,null,null,{"$f":"IF(ISNA(VLOOKUP(S126,Database_Tables!$C$1014:$D$1578,2,FALSE)*IF(OR(ISBLANK(X126),X126<0),1,X126)),\"\",VLOOKUP(S126,Database_Tables!$C$1014:$D$1578,2,FALSE)*IF(OR(ISBLANK(X126),X126<0),1,X126))","v":""},0]
[null,{"$f":"IF(L127=1,SUM($L$72:L127),0)","v":0},null,null,null,null,null,null,null,null,{"$f":"IF(ISNA(VLOOKUP(E127,Database_Tables!$C$1014:$D$1578,2,FALSE)*IF(OR(ISBLANK(J127),J127<0),1,J127)),\"\",VLOOKUP(E127,Database_Tables!$C$1014:$D$1578,2,FALSE)*IF(OR(ISBLANK(J127),J127<0),1,J127))","v":""},0,null,null,null,{"$f":"IF(Z127=1,SUM($Z$72:Z127),0)","v":0},null,null,null,null,null,null,null,null,{"$f":"IF(ISNA(VLOOKUP(S127,Database_Tables!$C$1014:$D$1578,2,FALSE)*IF(OR(ISBLANK(X127),X127<0),1,X127)),\"\",VLOOKUP(S127,Database_Tables!$C$1014:$D$1578,2,FALSE)*IF(OR(ISBLANK(X127),X127<0),1,X127))","v":""},0]
[null,{"$f":"IF(L128=1,SUM($L$72:L128),0)","v":0},null,null,null,null,null,null,null,null,{"$f":"IF(ISNA(VLOOKUP(E128,Database_Tables!$C$1014:$D$1578,2,FALSE)*IF(OR(ISBLANK(J128),J128<0),1,J128)),\"\",VLOOKUP(E128,Database_Tables!$C$1014:$D$1578,2,FALSE)*IF(OR(ISBLANK(J128),J128<0),1,J128))","v":""},0,null,null,null,{"$f":"IF(Z128=1,SUM($Z$72:Z128),0)","v":0},null,null,null,null,null,null,null,null,{"$f":"IF(ISNA(VLOOKUP(S128,Database_Tables!$C$1014:$D$1578,2,FALSE)*IF(OR(ISBLANK(X128),X128<0),1,X128)),\"\",VLOOKUP(S128,Database_Tables!$C$1014:$D$1578,2,FALSE)*IF(OR(ISBLANK(X128),X128<0),1,X128))","v":""},0]
[null,{"$f":"IF(L129=1,SUM($L$72:L129),0)","v":0},null,null,null,null,null,null,null,null,{"$f":"IF(ISNA(VLOOKUP(E129,Database_Tables!$C$1014:$D$1578,2,FALSE)*IF(OR(ISBLANK(J129),J129<0),1,J129)),\"\",VLOOKUP(E129,Database_Tables!$C$1014:$D$1578,2,FALSE)*IF(OR(ISBLANK(J129),J129<0),1,J129))","v":""},0,null,null,null,{"$f":"IF(Z129=1,SUM($Z$72:Z129),0)","v":0},null,null,null,null,null,null,null,null,{"$f":"IF(ISNA(VLOOKUP(S129,Database_Tables!$C$1014:$D$1578,2,FALSE)*IF(OR(ISBLANK(X129),X129<0),1,X129)),\"\",VLOOKUP(S129,Database_Tables!$C$1014:$D$1578,2,FALSE)*IF(OR(ISBLANK(X129),X129<0),1,X129))","v":""},0]
[null,{"$f":"IF(L130=1,SUM($L$72:L130),0)","v":0},null,null,null,null,null,null,null,null,{"$f":"IF(ISNA(VLOOKUP(E130,Database_Tables!$C$1014:$D$1578,2,FALSE)*IF(OR(ISBLANK(J130),J130<0),1,J130)),\"\",VLOOKUP(E130,Database_Tables!$C$1014:$D$1578,2,FALSE)*IF(OR(ISBLANK(J130),J130<0),1,J130))","v":""},0,null,null,null,{"$f":"IF(Z130=1,SUM($Z$72:Z130),0)","v":0},null,null,null,null,null,null,null,null,{"$f":"IF(ISNA(VLOOKUP(S130,Database_Tables!$C$1014:$D$1578,2,FALSE)*IF(OR(ISBLANK(X130),X130<0),1,X130)),\"\",VLOOKUP(S130,Database_Tables!$C$1014:$D$1578,2,FALSE)*IF(OR(ISBLANK(X130),X130<0),1,X130))","v":""},0]
[null,{"$f":"IF(L131=1,SUM($L$72:L131),0)","v":0},null,null,null,null,null,null,null,null,{"$f":"IF(ISNA(VLOOKUP(E131,Database_Tables!$C$1014:$D$1578,2,FALSE)*IF(OR(ISBLANK(J131),J131<0),1,J131)),\"\",VLOOKUP(E131,Database_Tables!$C$1014:$D$1578,2,FALSE)*IF(OR(ISBLANK(J131),J131<0),1,J131))","v":""},0,null,null,null,{"$f":"IF(Z131=1,SUM($Z$72:Z131),0)","v":0},null,null,null,null,null,null,null,null,{"$f":"IF(ISNA(VLOOKUP(S131,Database_Tables!$C$1014:$D$1578,2,FALSE)*IF(OR(ISBLANK(X131),X131<0),1,X131)),\"\",VLOOKUP(S131,Database_Tables!$C$1014:$D$1578,2,FALSE)*IF(OR(ISBLANK(X131),X131<0),1,X131))","v":""},0]
[null,{"$f":"IF(L132=1,SUM($L$72:L132),0)","v":0},null,null,null,null,null,null,null,null,{"$f":"IF(ISNA(VLOOKUP(E132,Database_Tables!$C$1014:$D$1578,2,FALSE)*IF(OR(ISBLANK(J132),J132<0),1,J132)),\"\",VLOOKUP(E132,Database_Tables!$C$1014:$D$1578,2,FALSE)*IF(OR(ISBLANK(J132),J132<0),1,J132))","v":""},0,null,null,null,{"$f":"IF(Z132=1,SUM($Z$72:Z132),0)","v":0},null,null,null,null,null,null,null,null,{"$f":"IF(ISNA(VLOOKUP(S132,Database_Tables!$C$1014:$D$1578,2,FALSE)*IF(OR(ISBLANK(X132),X132<0),1,X132)),\"\",VLOOKUP(S132,Database_Tables!$C$1014:$D$1578,2,FALSE)*IF(OR(ISBLANK(X132),X132<0),1,X132))","v":""},0]
[null,{"$f":"IF(L133=1,SUM($L$72:L133),0)","v":0},null,null,null,null,null,null,null,null,{"$f":"IF(ISNA(VLOOKUP(E133,Database_Tables!$C$1014:$D$1578,2,FALSE)*IF(OR(ISBLANK(J133),J133<0),1,J133)),\"\",VLOOKUP(E133,Database_Tables!$C$1014:$D$1578,2,FALSE)*IF(OR(ISBLANK(J133),J133<0),1,J133))","v":""},0,null,null,null,{"$f":"IF(Z133=1,SUM($Z$72:Z133),0)","v":0},null,null,null,null,null,null,null,null,{"$f":"IF(ISNA(VLOOKUP(S133,Database_Tables!$C$1014:$D$1578,2,FALSE)*IF(OR(ISBLANK(X133),X133<0),1,X133)),\"\",VLOOKUP(S133,Database_Tables!$C$1014:$D$1578,2,FALSE)*IF(OR(ISBLANK(X133),X133<0),1,X133))","v":""},0]
[null,{"$f":"IF(L134=1,SUM($L$72:L134),0)","v":0},null,"Manual Input","Manually Input Operation Description and Diesel Use (if needed)",null,null,null,null,"NA",null,{"$f":"IF(ISBLANK($D$29),0,IF(ISBLANK(K134),0,1))","v":0},null,null,null,{"$f":"IF(Z134=1,SUM($Z$72:Z134),0)","v":0},null,"Manual Input","Manually Input Operation Description and Diesel Use (if needed)",null,null,null,null,"NA",null,{"$f":"IF(ISBLANK($R$29),0,IF(ISBLANK(Y134),0,1))","v":0}]
[null,{"$f":"IF(L135=1,SUM($L$72:L135),0)","v":0},null,"Manual Input","Manually Input Operation Description and Diesel Use (if needed)",null,null,null,null,"NA",null,{"$f":"IF(ISBLANK($D$29),0,IF(ISBLANK(K135),0,1))","v":0},null,null,null,{"$f":"IF(Z135=1,SUM($Z$72:Z135),0)","v":0},null,"Manual Input","Manually Input Operation Description and Diesel Use (if needed)",null,null,null,null,"NA",null,{"$f":"IF(ISBLANK($R$29),0,IF(ISBLANK(Y135),0,1))","v":0}]
[]
[]
[null,null,"System Design Input for Irrigation and Other Delivery Energy Needs",null,null,null,null,null,null,null,"Pump Check",null,null,null,null,null,"System Design Input for Irrigation and Other Delivery Energy Needs",null,null,null,null,null,null,null,"Pump Check"]
[null,null,"Delivery",false,"Check to","Operating","Delivery or","Hours of","Application","Energy","Irrigation","Computed","Actual",null,null,null,"Delivery",false,"Check to","Operating","Delivery or","Hours of","Application","Energy","Irrigation","Computed","Actual"]
[null,null,"Type",false,"Activate","Pressure","Pump Plant","Operation","Efficiency","Use","Application","Delivery","Delivery",null,null,null,"Type",false,"Activate","Pressure","Pump Plant","Operation","Efficiency","Use","Application","Delivery","Delivery"]
[null,null,null,false,null,null,"Efficiency","per Day",null,"Rate",null,"Power","Power",null,null,null,null,false,null,null,"Efficiency","per Day",null,"Rate",null,"Power","Power"]
[null,null,null,false,null,"[psi]","[%]","[hr]","[%]","[BTU/gal]","gpm","[HP]","[HP]",null,null,null,null,false,null,"[psi]","[%]","[hr]","[%]","[BTU/gal]","gpm","[HP]","[HP]"]
[null,null,"Irrigation Delivery",null,null,null,null,null,null,{"$f":"IFERROR(Intermediate_Calcs!D84,0)","v":0},null,{"$f":"IFERROR(Intermediate_Calcs!D79,0)","v":0},null,null,null,null,"Irrigation Delivery",null,null,null,null,null,null,{"$f":"IFERROR(Intermediate_Calcs!E84,0)","v":0},null,{"$f":"IFERROR(Intermediate_Calcs!E79,0)","v":0}]
[null,null,"Other Delivery Energy 1",null,null,null,null,null,"NA",{"$f":"IFERROR(Intermediate_Calcs!D120,0)","v":0},"NA",{"$f":"IFERROR(Intermediate_Calcs!D116,0)","v":0},null,null,null,null,"Other Delivery Energy 1",null,null,null,null,null,"NA",{"$f":"IFERROR(Intermediate_Calcs!E120,0)","v":0},"NA",{"$f":"IFERROR(Intermediate_Calcs!E116,0)","v":0}]
[null,null,"Other Delivery Energy 2",null,null,null,null,null,"NA",{"$f":"IFERROR(Intermediate_Calcs!D156,0)","v":0},"NA",{"$f":"IFERROR(Intermediate_Calcs!D152,0)","v":0},null,null,null,null,"Other Delivery Energy 2",null,null,null,null,null,"NA",{"$f":"IFERROR(Intermediate_Calcs!E156,0)","v":0},"NA",{"$f":"IFERROR(Intermediate_Calcs!E152,0)","v":0}]
[null,null,"Other Delivery Energy 3",null,null,null,null,null,"NA",{"$f":"IFERROR(Intermediate_Calcs!D192,0)","v":0},"NA",{"$f":"IFERROR(Intermediate_Calcs!D188,0)","v":0},null,null,null,null,"Other Delivery Energy 3",null,null,null,null,null,"NA",{"$f":"IFERROR(Intermediate_Calcs!E192,0)","v":0},"NA",{"$f":"IFERROR(Intermediate_Calcs!E188,0)","v":0}]
[null,null,{"$f":"IF(OR(AND(IF(L143>20,M143-L143>5,IF(L143=0,FALSE,M143/L143>1.1)),D139=TRUE),AND(IF(L144>20,M144-L144>5,IF(L144=0,FALSE,M144/L144>1.1)),D140=TRUE),AND(IF(L145>20,M145-L145>5,IF(L145=0,FALSE,M145/L145>1.1)),D141=TRUE),AND(IF(L146>20,M146-L146>5,IF(L146=0,FALSE,M146/L146>1.1)),D142=TRUE)),\"Actual delivery power exceeds computed delivery power by more than 10%\",\"\")","v":""},null,null,null,null,null,{"$f":"IF(OR(IF(ISBLANK(M143),FALSE,AND(IF(L143>20,M143-L143<-5,IF(L143=0,FALSE,L143/M143>1.1)),D139=TRUE)),IF(ISBLANK(M144),FALSE,AND(IF(L144>20,M144-L144<-5,IF(L144=0,FALSE,L144/M144>1.1)),D140=TRUE)),IF(ISBLANK(M145),FALSE,AND(IF(L145>20,M145-L145<-5,IF(L145=0,FALSE,L145/M145>1.1)),D141=TRUE)),IF(ISBLANK(M146),FALSE,AND(IF(L146>20,M146-L146<-5,IF(L146=0,FALSE,L146/M146>1.1)),D142=TRUE))),\" Computed delivery power exceeds actual delivery power by more than 10%\",\"\")","v":""},null,null,null,null,null,null,null,{"$f":"IF(OR(AND(IF(Z143>20,AA143-Z143>5,IF(Z143=0,FALSE,AA143/Z143>1.1)),R139=TRUE),AND(IF(Z144>20,AA144-Z144>5,IF(Z144=0,FALSE,AA144/Z144>1.1)),R140=TRUE),AND(IF(Z145>20,AA145-Z145>5,IF(Z145=0,FALSE,AA145/Z145>1.1)),R141=TRUE),AND(IF(Z146>20,AA146-Z146>5,IF(Z146=0,FALSE,AA146/Z146>1.1)),R142=TRUE)),\"Actual delivery power exceeds computed delivery power by more than 10%\",\"\")","v":""},null,null,null,null,null,{"$f":"IF(OR(IF(ISBLANK(AA143),FALSE,AND(IF(Z143>20,AA143-Z143<-5,IF(Z143=0,FALSE,Z143/AA143>1.1)),R139=TRUE)),IF(ISBLANK(AA144),FALSE,AND(IF(Z144>20,AA144-Z144<-5,IF(Z144=0,FALSE,Z144/AA144>1.1)),R140=TRUE)),IF(ISBLANK(AA145),FALSE,AND(IF(Z145>20,AA145-Z145<-5,IF(Z145=0,FALSE,Z145/AA145>1.1)),R141=TRUE)),IF(ISBLANK(AA146),FALSE,AND(IF(Z146>20,AA146-Z146<-5,IF(Z146=0,FALSE,Z146/AA146>1.1)),R142=TRUE))),\" Computed delivery power exceeds actual delivery power by more than 10%\",\"\")","v":""}]
[]
[]
[null,null,"Water Use Applied for Irrigation and Other Delivery Energy Needs",null,null,null,null,null,null,null,null,null,null,null,null,null,"Water Use Applied for Irrigation and Other Delivery Energy Needs"]
[null,null,"Delivery",null,"Pumping","Units","Amount Used by the Crop",null,null,null,null,null,null,null,null,null,"Delivery",null,"Pumping","Units","Amount Used by the Crop"]
[null,null,"Type",null,"Description",null,{"$f":"IF(D25=\"\",\"\",D25)","v":""},{"$f":"IF(D26=\"\",\"\",D26)","v":""},{"$f":"IF(D27=\"\",\"\",D27)","v":""},{"$f":"IF(D28=\"\",\"\",D28)","v":""},{"$f":"IF(D29=\"\",\"\",D29)","v":""},null,null,null,null,null,"Type",null,"Descirption",null,{"$f":"IF(R25=\"\",\"\",R25)","v":""},{"$f":"IF(R26=\"\",\"\",R26)","v":""},{"$f":"IF(R27=\"\",\"\",R27)","v":""},{"$f":"IF(R28=\"\",\"\",R28)","v":""},{"$f":"IF(R29=\"\",\"\",R29)","v":""}]
[null,null,"Irrigation Delivery",null,"Gross Applied","in/season",null,null,null,null,null,null,null,null,null,null,"Irrigation Delivery",null,"Net Applied","in/season"]
[null,null,"Other Delivery Energy 1",null,"Booster","gpm",null,null,null,null,null,null,null,null,null,null,"Other Delivery Energy 1",null,"Booster","gpm"]
[null,null,null,null,"Days of Operation   days",null,null,null,null,null,null,null,null,null,null,null,null,null,"Days of Operation   days"]
[null,null,"Other Delivery Energy 2",null,null,null,null,null,null,null,null,null,null,null,null,null,"Other Delivery Energy 2"]
[null,null,null,null,"Days of Operation   days",null,null,null,null,null,null,null,null,null,null,null,null,null,"Days of Operation   days"]
[null,null,"Other Delivery Energy 3",null,null,null,null,null,null,null,null,null,null,null,null,null,"Other Delivery Energy 3"]
[null,null,null,null,"Days of Operation   days",null,null,null,null,null,null,null,null,null,null,null,null,null,"Days of Operation   days"]
[]
[null,null,null,null,null,null,null,null,null,null,null,null,null,null,null,1]
[null,null,null,null,null,null,null,null,null,null,null,null,null,null,null,null,"Practice Standards Table"]
[null,null,null,null,null,null,null,null,null,null,null,null,null,null,null,null,"Description",null,null,"Unit","Unit","Reduced Energy Use or Increased Efficiency/Yields"]
[null,null,"Energy Use for Fuel Types and Unit Costs",null,null,null,null,null,null,null,null,null,null,null,null,null,null,null,null,"Type","Amount","by Applying Practice Standards."]
[null,null,"Fuel","Units","Unit","BTU/Unit","Unit","Cost per",null,null,null,null,null,null,null,null,null,null,null,null,null,"Type","Variable",null,"Unit","Value","Red. Energy"]
[null,null,null,null,null,null,"Conversion",null,null,null,null,null,null,null,null,null,null,null,null,null,null,null,null,null,null,null,"MMBTU/ac"]
[null,null,"Type",null,"Price",null,"to MMBTU","MMBTU",null,null,null,null,null,null,null,null,"442 Irrigation System, Sprinkler ",null,null,{"$f":"IF(ISNA(VLOOKUP(Q167,Database_Tables!$B$1587:$E$1736,4,FALSE)),\"\",VLOOKUP(Q167,Database_Tables!$B$1587:$E$1736,4,FALSE))","v":"No."},{"$f":"IF(Q167=\"\",\"\",$S$14)","v":0},"Farming","Crop Yields",null,{"$f":"IF(OR(V167=\"Select Type\",W167=\"Select Variable\",W167=\"\"),\"\",IF(V167=\"Farming\",VLOOKUP(W167,Database_Tables!$L$1751:$M$1763,2,FALSE),IF(V167=\"Other Del 1\",VLOOKUP(W167,Database_Tables!$L$1780:$M$1784,2,FALSE),IF(V167=\"Other Del 2\",VLOOKUP(W167,Database_Tables!$L$1789:$M$1796,2,FALSE),IF(V167=\"Other Del 3\",VLOOKUP(W167,Database_Tables!$L$1798:$M$1804,2,FALSE),VLOOKUP(W167,Database_Tables!$L$1767:$M$1773,2,FALSE))))))","v":"[DM lbs/acre]"},2250,{"$f":"IF(Y167=\"\",\"\",IF(V167=\"Other Del 1\",VLOOKUP(W167,Database_Tables!$L$1780:$W$1784,3,FALSE),IF(V167=\"Other Del 2\",VLOOKUP(W167,Database_Tables!$L$1789:$W$1796,3,FALSE),IF(V167=\"Other Del 3\",VLOOKUP(W167,Database_Tables!$L$1798:$W$1804,3,FALSE),IF(V167=\"Farming\",VLOOKUP(W167,Database_Tables!$L$1750:$W$1763,3,FALSE),VLOOKUP(W167,Database_Tables!$L$1766:$W$1773,3,FALSE))))))","v":16.875}]
[null,null,"Diesel","Gal",4.2,139000,{"$f":"1000000/F168","v":7.1942446043165464},{"$f":"E168*G168","v":30.215827338129497},null,null,null,null,null,null,null,null,"449 Irrigation Water Management   ",null,null,{"$f":"IF(ISNA(VLOOKUP(Q168,Database_Tables!$B$1587:$E$1736,4,FALSE)),\"\",VLOOKUP(Q168,Database_Tables!$B$1587:$E$1736,4,FALSE))","v":"Ac."},0,"Farming","Field Operation Diesel Use",null,{"$f":"IF(OR(V168=\"Select Type\",W168=\"Select Variable\",W168=\"\"),\"\",IF(V168=\"Farming\",VLOOKUP(W168,Database_Tables!$L$1751:$M$1763,2,FALSE),IF(V168=\"Other Del 1\",VLOOKUP(W168,Database_Tables!$L$1780:$M$1784,2,FALSE),IF(V168=\"Other Del 2\",VLOOKUP(W168,Database_Tables!$L$1789:$M$1796,2,FALSE),IF(V168=\"Other Del 3\",VLOOKUP(W168,Database_Tables!$L$1798:$M$1804,2,FALSE),VLOOKUP(W168,Database_Tables!$L$1767:$M$1773,2,FALSE))))))","v":"[gal/acre]"},0.65,{"$f":"IF(Y168=\"\",\"\",IF(V168=\"Other Del 1\",VLOOKUP(W168,Database_Tables!$L$1780:$W$1784,4,FALSE),IF(V168=\"Other Del 2\",VLOOKUP(W168,Database_Tables!$L$1789:$W$1796,4,FALSE),IF(V168=\"Other Del 3\",VLOOKUP(W168,Database_Tables!$L$1798:$W$1804,4,FALSE),IF(V168=\"Farming\",VLOOKUP(W168,Database_Tables!$L$1750:$W$1763,4,FALSE),VLOOKUP(W168,Database_Tables!$L$1766:$W$1773,4,FALSE))))))","v":9.0999999999999998E-2}]
[null,null,"Gasoline (E10)","Gal",3.7,120000,{"$f":"1000000/F169","v":8.3333333333333339},{"$f":"E169*G169","v":30.833333333333336},null,null,null,null,null,null,null,null,"453 Land Reclamation, Landslide Treatment ",null,null,{"$f":"IF(ISNA(VLOOKUP(Q169,Database_Tables!$B$1587:$E$1736,4,FALSE)),\"\",VLOOKUP(Q169,Database_Tables!$B$1587:$E$1736,4,FALSE))","v":"No."},0,"Farming","Forage Removed",null,{"$f":"IF(OR(V169=\"Select Type\",W169=\"Select Variable\",W169=\"\"),\"\",IF(V169=\"Farming\",VLOOKUP(W169,Database_Tables!$L$1751:$M$1763,2,FALSE),IF(V169=\"Other Del 1\",VLOOKUP(W169,Database_Tables!$L$1780:$M$1784,2,FALSE),IF(V169=\"Other Del 2\",VLOOKUP(W169,Database_Tables!$L$1789:$M$1796,2,FALSE),IF(V169=\"Other Del 3\",VLOOKUP(W169,Database_Tables!$L$1798:$M$1804,2,FALSE),VLOOKUP(W169,Database_Tables!$L$1767:$M$1773,2,FALSE))))))","v":"[DM lbs/acre]"},-50,{"$f":"IF(Y169=\"\",\"\",IF(V169=\"Other Del 1\",VLOOKUP(W169,Database_Tables!$L$1780:$W$1784,5,FALSE),IF(V169=\"Other Del 2\",VLOOKUP(W169,Database_Tables!$L$1789:$W$1796,5,FALSE),IF(V169=\"Other Del 3\",VLOOKUP(W169,Database_Tables!$L$1798:$W$1804,5,FALSE),IF(V169=\"Farming\",VLOOKUP(W169,Database_Tables!$L$1750:$W$1763,5,FALSE),VLOOKUP(W169,Database_Tables!$L$1766:$W$1773,5,FALSE))))))","v":-0.375}]
[null,null,"BioDiesel B2","Gal",4,138600,7.2150072150072146,28.860028860028859,null,null,null,null,null,null,null,null,"449 Irrigation Water Management   ",null,null,{"$f":"IF(ISNA(VLOOKUP(Q170,Database_Tables!$B$1587:$E$1736,4,FALSE)),\"\",VLOOKUP(Q170,Database_Tables!$B$1587:$E$1736,4,FALSE))","v":"Ac."},0,"Farming","Grazing Removed",null,{"$f":"IF(OR(V170=\"Select Type\",W170=\"Select Variable\",W170=\"\"),\"\",IF(V170=\"Farming\",VLOOKUP(W170,Database_Tables!$L$1751:$M$1763,2,FALSE),IF(V170=\"Other Del 1\",VLOOKUP(W170,Database_Tables!$L$1780:$M$1784,2,FALSE),IF(V170=\"Other Del 2\",VLOOKUP(W170,Database_Tables!$L$1789:$M$1796,2,FALSE),IF(V170=\"Other Del 3\",VLOOKUP(W170,Database_Tables!$L$1798:$M$1804,2,FALSE),VLOOKUP(W170,Database_Tables!$L$1767:$M$1773,2,FALSE))))))","v":"[AUD/acre]"},-750,{"$f":"IF(Y170=\"\",\"\",IF(V170=\"Other Del 1\",VLOOKUP(W170,Database_Tables!$L$1780:$W$1784,6,FALSE),IF(V170=\"Other Del 2\",VLOOKUP(W170,Database_Tables!$L$1789:$W$1796,6,FALSE),IF(V170=\"Other Del 3\",VLOOKUP(W170,Database_Tables!$L$1798:$W$1804,6,FALSE),IF(V170=\"Farming\",VLOOKUP(W170,Database_Tables!$L$1750:$W$1763,6,FALSE),VLOOKUP(W170,Database_Tables!$L$1766:$W$1773,6,FALSE))))))","v":-5.625}]
[null,null,"BioDiesel B5","Gal",4,138000,7.2463768115942031,28.985507246376812,null,null,null,null,null,null,null,null,"449 Irrigation Water Management   ",null,null,{"$f":"IF(ISNA(VLOOKUP(Q171,Database_Tables!$B$1587:$E$1736,4,FALSE)),\"\",VLOOKUP(Q171,Database_Tables!$B$1587:$E$1736,4,FALSE))","v":"Ac."},0,"Farming","Labor",null,{"$f":"IF(OR(V171=\"Select Type\",W171=\"Select Variable\",W171=\"\"),\"\",IF(V171=\"Farming\",VLOOKUP(W171,Database_Tables!$L$1751:$M$1763,2,FALSE),IF(V171=\"Other Del 1\",VLOOKUP(W171,Database_Tables!$L$1780:$M$1784,2,FALSE),IF(V171=\"Other Del 2\",VLOOKUP(W171,Database_Tables!$L$1789:$M$1796,2,FALSE),IF(V171=\"Other Del 3\",VLOOKUP(W171,Database_Tables!$L$1798:$M$1804,2,FALSE),VLOOKUP(W171,Database_Tables!$L$1767:$M$1773,2,FALSE))))))","v":"[hrs/acre]"},0.5,{"$f":"IF(Y171=\"\",\"\",IF(V171=\"Other Del 1\",VLOOKUP(W171,Database_Tables!$L$1780:$W$1784,7,FALSE),IF(V171=\"Other Del 2\",VLOOKUP(W171,Database_Tables!$L$1789:$W$1796,7,FALSE),IF(V171=\"Other Del 3\",VLOOKUP(W171,Database_Tables!$L$1798:$W$1804,7,FALSE),IF(V171=\"Farming\",VLOOKUP(W171,Database_Tables!$L$1750:$W$1763,7,FALSE),VLOOKUP(W171,Database_Tables!$L$1766:$W$1773,7,FALSE))))))","v":2.48015873015873E-4}]
[null,null,"BioDiesel B10","Gal",4,136900,7.3046018991964941,29.218407596785976,null,null,null,null,null,null,null,null,"543 Land Reclamation, Abandoned Mined Land   ",null,null,{"$f":"IF(ISNA(VLOOKUP(Q172,Database_Tables!$B$1587:$E$1736,4,FALSE)),\"\",VLOOKUP(Q172,Database_Tables!$B$1587:$E$1736,4,FALSE))","v":"Ac."},0,"Farming","Nitrogen Applied",null,{"$f":"IF(OR(V172=\"Select Type\",W172=\"Select Variable\",W172=\"\"),\"\",IF(V172=\"Farming\",VLOOKUP(W172,Database_Tables!$L$1751:$M$1763,2,FALSE),IF(V172=\"Other Del 1\",VLOOKUP(W172,Database_Tables!$L$1780:$M$1784,2,FALSE),IF(V172=\"Other Del 2\",VLOOKUP(W172,Database_Tables!$L$1789:$M$1796,2,FALSE),IF(V172=\"Other Del 3\",VLOOKUP(W172,Database_Tables!$L$1798:$M$1804,2,FALSE),VLOOKUP(W172,Database_Tables!$L$1767:$M$1773,2,FALSE))))))","v":"[lbs/acre]"},50,{"$f":"IF(Y172=\"\",\"\",IF(V172=\"Other Del 1\",VLOOKUP(W172,Database_Tables!$L$1780:$W$1784,8,FALSE),IF(V172=\"Other Del 2\",VLOOKUP(W172,Database_Tables!$L$1789:$W$1796,8,FALSE),IF(V172=\"Other Del 3\",VLOOKUP(W172,Database_Tables!$L$1798:$W$1804,8,FALSE),IF(V172=\"Farming\",VLOOKUP(W172,Database_Tables!$L$1750:$W$1763,8,FALSE),VLOOKUP(W172,Database_Tables!$L$1766:$W$1773,8,FALSE))))))","v":1}]
[null,null,"BioDiesel B20","Gal",4,134900,7.4128984432913265,29.651593773165306,null,null,null,null,null,null,null,null,"449 Irrigation Water Management   ",null,null,{"$f":"IF(ISNA(VLOOKUP(Q173,Database_Tables!$B$1587:$E$1736,4,FALSE)),\"\",VLOOKUP(Q173,Database_Tables!$B$1587:$E$1736,4,FALSE))","v":"Ac."},0,"Farming","Organics Applied",null,{"$f":"IF(OR(V173=\"Select Type\",W173=\"Select Variable\",W173=\"\"),\"\",IF(V173=\"Farming\",VLOOKUP(W173,Database_Tables!$L$1751:$M$1763,2,FALSE),IF(V173=\"Other Del 1\",VLOOKUP(W173,Database_Tables!$L$1780:$M$1784,2,FALSE),IF(V173=\"Other Del 2\",VLOOKUP(W173,Database_Tables!$L$1789:$M$1796,2,FALSE),IF(V173=\"Other Del 3\",VLOOKUP(W173,Database_Tables!$L$1798:$M$1804,2,FALSE),VLOOKUP(W173,Database_Tables!$L$1767:$M$1773,2,FALSE))))))","v":"[DM lbs/acre]"},-750,{"$f":"IF(Y173=\"\",\"\",IF(V173=\"Other Del 1\",VLOOKUP(W173,Database_Tables!$L$1780:$W$1784,9,FALSE),IF(V173=\"Other Del 2\",VLOOKUP(W173,Database_Tables!$L$1789:$W$1796,9,FALSE),IF(V173=\"Other Del 3\",VLOOKUP(W173,Database_Tables!$L$1798:$W$1804,9,FALSE),IF(V173=\"Farming\",VLOOKUP(W173,Database_Tables!$L$1750:$W$1763,9,FALSE),VLOOKUP(W173,Database_Tables!$L$1766:$W$1773,9,FALSE))))))","v":-5.625}]
[null,null,"BioDiesel B100","Gal",4,118300,8.4530853761622993,33.812341504649197,null,null,null,null,null,null,null,null,"449 Irrigation Water Management   ",null,null,{"$f":"IF(ISNA(VLOOKUP(Q174,Database_Tables!$B$1587:$E$1736,4,FALSE)),\"\",VLOOKUP(Q174,Database_Tables!$B$1587:$E$1736,4,FALSE))","v":"Ac."},0,"Irrigation","Gross Applied",null,{"$f":"IF(OR(V174=\"Select Type\",W174=\"Select Variable\",W174=\"\"),\"\",IF(V174=\"Farming\",VLOOKUP(W174,Database_Tables!$L$1751:$M$1763,2,FALSE),IF(V174=\"Other Del 1\",VLOOKUP(W174,Database_Tables!$L$1780:$M$1784,2,FALSE),IF(V174=\"Other Del 2\",VLOOKUP(W174,Database_Tables!$L$1789:$M$1796,2,FALSE),IF(V174=\"Other Del 3\",VLOOKUP(W174,Database_Tables!$L$1798:$M$1804,2,FALSE),VLOOKUP(W174,Database_Tables!$L$1767:$M$1773,2,FALSE))))))","v":"[in]"},7,{"$f":"IF(Y174=\"\",\"\",IF(V174=\"Other Del 1\",VLOOKUP(W174,Database_Tables!$L$1780:$W$1784,10,FALSE),IF(V174=\"Other Del 2\",VLOOKUP(W174,Database_Tables!$L$1789:$W$1796,10,FALSE),IF(V174=\"Other Del 3\",VLOOKUP(W174,Database_Tables!$L$1798:$W$1804,10,FALSE),IF(V174=\"Farming\",VLOOKUP(W174,Database_Tables!$L$1750:$W$1763,10,FALSE),VLOOKUP(W174,Database_Tables!$L$1766:$W$1773,10,FALSE))))))","v":{"$error":"#DIV/0!"}}]
[null,null,"SVO","Gal",4,123140,{"$f":"1000000/F175","v":8.1208380704888743},32.483352281955497,null,null,null,null,null,null,null,null,"453 Land Reclamation, Landslide Treatment ",null,null,{"$f":"IF(ISNA(VLOOKUP(Q175,Database_Tables!$B$1587:$E$1736,4,FALSE)),\"\",VLOOKUP(Q175,Database_Tables!$B$1587:$E$1736,4,FALSE))","v":"No."},0,"Irrigation","Pump Plant Efficiency",null,{"$f":"IF(OR(V175=\"Select Type\",W175=\"Select Variable\",W175=\"\"),\"\",IF(V175=\"Farming\",VLOOKUP(W175,Database_Tables!$L$1751:$M$1763,2,FALSE),IF(V175=\"Other Del 1\",VLOOKUP(W175,Database_Tables!$L$1780:$M$1784,2,FALSE),IF(V175=\"Other Del 2\",VLOOKUP(W175,Database_Tables!$L$1789:$M$1796,2,FALSE),IF(V175=\"Other Del 3\",VLOOKUP(W175,Database_Tables!$L$1798:$M$1804,2,FALSE),VLOOKUP(W175,Database_Tables!$L$1767:$M$1773,2,FALSE))))))","v":"[%]"},30,{"$f":"IF(Y175=\"\",\"\",IF(V175=\"Other Del 1\",VLOOKUP(W175,Database_Tables!$L$1780:$W$1784,11,FALSE),IF(V175=\"Other Del 2\",VLOOKUP(W175,Database_Tables!$L$1789:$W$1796,11,FALSE),IF(V175=\"Other Del 3\",VLOOKUP(W175,Database_Tables!$L$1798:$W$1804,11,FALSE),IF(V175=\"Farming\",VLOOKUP(W175,Database_Tables!$L$1750:$W$1763,11,FALSE),VLOOKUP(W175,Database_Tables!$L$1766:$W$1773,11,FALSE))))))","v":{"$error":"#DIV/0!"}}]
[null,null,"Heating Oil","Gal",4,140000,7.1428571428571432,28.571428571428573,null,null,null,null,null,null,null,null,"449 Irrigation Water Management   ",null,null,{"$f":"IF(ISNA(VLOOKUP(Q176,Database_Tables!$B$1587:$E$1736,4,FALSE)),\"\",VLOOKUP(Q176,Database_Tables!$B$1587:$E$1736,4,FALSE))","v":"Ac."},0,"Other Del 1","Amount Applied",null,{"$f":"IF(OR(V176=\"Select Type\",W176=\"Select Variable\",W176=\"\"),\"\",IF(V176=\"Farming\",VLOOKUP(W176,Database_Tables!$L$1751:$M$1763,2,FALSE),IF(V176=\"Other Del 1\",VLOOKUP(W176,Database_Tables!$L$1780:$M$1784,2,FALSE),IF(V176=\"Other Del 2\",VLOOKUP(W176,Database_Tables!$L$1789:$M$1796,2,FALSE),IF(V176=\"Other Del 3\",VLOOKUP(W176,Database_Tables!$L$1798:$M$1804,2,FALSE),VLOOKUP(W176,Database_Tables!$L$1767:$M$1773,2,FALSE))))))","v":"[Mgal/field]"},0.22,{"$f":"IF(Y176=\"\",\"\",IF(V176=\"Other Del 1\",VLOOKUP(W176,Database_Tables!$L$1780:$W$1784,12,FALSE),IF(V176=\"Other Del 2\",VLOOKUP(W176,Database_Tables!$L$1789:$W$1796,12,FALSE),IF(V176=\"Other Del 3\",VLOOKUP(W176,Database_Tables!$L$1798:$W$1804,12,FALSE),IF(V176=\"Farming\",VLOOKUP(W176,Database_Tables!$L$1750:$W$1763,12,FALSE),VLOOKUP(W176,Database_Tables!$L$1766:$W$1773,12,FALSE))))))","v":{"$error":"#DIV/0!"}}]
[null,null,"Propane","Gal",4,91600,{"$f":"1000000/F177","v":10.91703056768559},43.668122270742359]
[null,null,"Natural Gas","CCF",0.86,103000,9.7087378640776691,8.349514563106796,null,null,null,null,null,null,null,null,"Benchmark vs Planned Diff. Table (Farming - yields/diesel use/labor)"]
[null,null,"CNG","CCF",4,100000,10,40,null,null,null,null,null,null,null,null,"Crop Yields","Field Oper.","Post Harvest Removed",null,"Labor"]
[null,null,"Ethanol","Gal",3,84400,11.848341232227488,35.545023696682463,null,null,null,null,null,null,null,null,null," Diesel Use","Forage","Grazing"]
[null,null,"Electricity","KWH",0.04,3412,293.08323563892145,11.723329425556859,null,null,null,null,null,null,null,null,"[DM lbs/ac/yr]","[gal/ac/yr]","[DM lbs/ac/yr]",null,"[hr/ac/yr]"]
[null,null,"Hydro Elec.","KWH",0,3412,293.08323563892145,0,null,null,null,null,null,null,null,null,{"$f":"SUM(Intermediate_Calcs!L10:P10)/Intermediate_Calcs!Q19-SUM(Intermediate_Calcs!C10:G10)/Intermediate_Calcs!H19","v":0},{"$f":"(SUM(Intermediate_Calcs!H20:H25)-SUM(Intermediate_Calcs!Q20:Q24))*1000000/140000","v":0},{"$f":"Intermediate_Calcs!Q12-Intermediate_Calcs!H12","v":0},{"$f":"Intermediate_Calcs!Q11-Intermediate_Calcs!H11","v":0},{"$f":"(Intermediate_Calcs!H29-Intermediate_Calcs!Q29)*8*252*1000000/3000/1000","v":0}]
[null,null,"Solar","KWH",0,3412,293.08323563892145,0]
[null,null,"Wind","KWH",0,3412,293.08323563892145,0,null,null,null,null,null,null,null,null,"Benchmark vs Planned Diff. Table (Farming - inorganics/organics)"]
[null,null,"Agrichemicals","lb","Varies","Varies","Varies","Varies",null,null,null,null,null,null,null,null,"Nitrogen ","Phosphorus","Potassium ","Sulfur ","Herbicide","Pesticide","Organics "]
[null,null,"Soil Amend","ton",25,{"$f":"7500*2000*0.75","v":11250000},{"$f":"1000000/F186","v":8.8888888888888892E-2},{"$f":"E186*G186","v":2.2222222222222223},null,null,null,null,null,null,null,null,"Applied","Applied","Applied","Applied","Applied","Applied","Applied"]
[null,null,"Labor","day",30,11900,84.033613445378151,2521.0084033613443,null,null,null,null,null,null,null,null,"[lbs/ac/yr]","[lbs/ac/yr]","[lbs/ac/yr]","[lbs/ac/yr]","[oz/ac/yr]","[oz/ac/yr]","[DM lbs/ac/yr]"]
[null,null,"Nitrogen","lb",0.7,20000,50,35,null,null,null,null,null,null,null,null,{"$f":"(IF(C61=\"\",0,D61)+IF(C62=\"\",0,D62)+IF(C63=\"\",0,D63)+IF(C64=\"\",0,D64)+IF(C65=\"\",0,D65))/Intermediate_Calcs!H19-(IF(Q61=\"\",0,R61)+IF(Q62=\"\",0,R62)+IF(Q63=\"\",0,R63)+IF(Q64=\"\",0,R64)+IF(Q65=\"\",0,R65))/Intermediate_Calcs!Q19","v":0},{"$f":"(IF(C61=\"\",0,E61)+IF(C62=\"\",0,E62)+IF(C63=\"\",0,E63)+IF(C64=\"\",0,E64)+IF(C65=\"\",0,E65))/Intermediate_Calcs!H19-(IF(Q61=\"\",0,S61)+IF(Q62=\"\",0,S62)+IF(Q63=\"\",0,S63)+IF(Q64=\"\",0,S64)+IF(Q65=\"\",0,S65))/Intermediate_Calcs!Q19","v":0},{"$f":"(IF(C61=\"\",0,F61)+IF(C62=\"\",0,F62)+IF(C63=\"\",0,F63)+IF(C64=\"\",0,F64)+IF(C65=\"\",0,F65))/Intermediate_Calcs!$H$19-(IF(Q61=\"\",0,T61)+IF(Q62=\"\",0,T62)+IF(Q63=\"\",0,T63)+IF(Q64=\"\",0,T64)+IF(Q65=\"\",0,T65))/Intermediate_Calcs!$Q$19","v":0},{"$f":"(IF(C61=\"\",0,G61)+IF(C62=\"\",0,G62)+IF(C63=\"\",0,G63)+IF(C64=\"\",0,G64)+IF(C65=\"\",0,G65))/Intermediate_Calcs!$H$19-(IF(Q61=\"\",0,U61)+IF(Q62=\"\",0,U62)+IF(Q63=\"\",0,U63)+IF(Q64=\"\",0,U64)+IF(Q65=\"\",0,U65))/Intermediate_Calcs!$Q$19","v":0},{"$f":"(IF(C61=\"\",0,H61)+IF(C62=\"\",0,H62)+IF(C63=\"\",0,H63)+IF(C64=\"\",0,H64)+IF(C65=\"\",0,H65))/Intermediate_Calcs!$H$19-(IF(Q61=\"\",0,V61)+IF(Q62=\"\",0,V62)+IF(Q63=\"\",0,V63)+IF(Q64=\"\",0,V64)+IF(Q65=\"\",0,V65))/Intermediate_Calcs!$Q$19","v":0},{"$f":"(IF(C61=\"\",0,I61)+IF(C62=\"\",0,I62)+IF(C63=\"\",0,I63)+IF(C64=\"\",0,I64)+IF(C65=\"\",0,I65))/Intermediate_Calcs!$H$19-(IF(Q61=\"\",0,W61)+IF(Q62=\"\",0,W62)+IF(Q63=\"\",0,W63)+IF(Q64=\"\",0,W64)+IF(Q65=\"\",0,W65))/Intermediate_Calcs!$Q$19","v":0},{"$f":"(SUM(Intermediate_Calcs!H30:H35)-SUM(Intermediate_Calcs!Q30:Q35))*1000000/7500","v":0}]
[null,null,"Phosphorus","lb",0.65,7000,142.85714285714286,92.857142857142861]
[null,null,"Potassium","lb",0.55000000000000004,5500,181.81818181818181,100,null,null,null,null,null,null,null,null,"Benchmark - Planned Difference Table (Irrigation)",null,null,null,null,"Benchmark - Planned Difference Table (Other Delivery)"]
[null,null,"Sulfur","lb",0.21,2000,500,105,null,null,null,null,null,null,null,null,"Description on a per year basis",null,null,"Irrigation",null,"Description on a per year basis",null,null,"Other ","Other","Other"]
[null,null,"Herbicide","oz",0.35,6250,160,56,null,null,null,null,null,null,null,null,null,null,null,"Delivery",null,null,null,null,"Delivery 1","Delivery 2","Delivery 3"]
[null,null,"Pesticide","oz",3.5,6250,160,{"$f":"E193*G193","v":560},null,null,null,null,null,null,null,null,null,null,null,"Difference",null,null,null,null,"Difference","Difference","Difference"]
[null,null,"Note: These values should be checked and updated periodically",null,null,null,null,null,null,null,null,null,null,null,null,null,"Gross Amount Applied [in]1",null,null,{"$f":"(SUM(Intermediate_Calcs!C57:G57)-SUM(Intermediate_Calcs!C62:G62))","v":0},null,"Amount Applied, [Mgal/field]2",null,null,{"$f":"SUM(Intermediate_Calcs!C98:G98)/Intermediate_Calcs!H19-SUM(Intermediate_Calcs!C103:G103)/Intermediate_Calcs!Q19","v":0},{"$f":"SUM(Intermediate_Calcs!C134:G134)/Intermediate_Calcs!H19-SUM(Intermediate_Calcs!C139:G139)/Intermediate_Calcs!Q19","v":0},{"$f":"SUM(Intermediate_Calcs!C170:G170)/Intermediate_Calcs!H19-SUM(Intermediate_Calcs!C175:G175)/Intermediate_Calcs!Q19","v":0}]
[null,null,null,null,null,null,null,null,null,null,null,null,null,null,null,null,"Operating Pressure [psi]",null,null,{"$f":"F143-T143","v":0},null,"Operating Pressure [psi]",null,null,{"$f":"F144-T144","v":0},{"$f":"F145-T145","v":0},{"$f":"F146-T146","v":0}]
[null,null,null,null,null,null,null,null,null,null,null,null,null,null,null,null,"Delivery/Pump Plant Efficiency [%]",null,null,{"$f":"U143-G143","v":0},null,"Delivery/Pump Plant Efficiency [%]",null,null,{"$f":"U144-G144","v":0},{"$f":"U145-G145","v":0},{"$f":"U146-G146","v":0}]
[null,null,null,null,null,null,null,null,null,null,null,null,null,null,null,null,"Operating Hours [hrs]",null,null,{"$f":"H143-V143","v":0},null,"Note 2: \"Days of Operation\" and \"Operating Hours\" values are accounted for in the "]
[null,null,null,null,null,null,null,null,null,null,null,null,null,null,null,null,"Note 1: \"Uniformity of Application\" and \"Net Irrigation ",null,null,null,null,"          \"Amount Applied\" value "]
[null,null,null,null,null,null,null,null,null,null,null,null,null,null,null,null,"           Requirement\" values are accounted for in the \"Gross"]
[null,null,null,null,null,null,null,null,null,null,null,null,null,null,null,null,"          Amount Applied\" value "]
[]
[]
[]
[]
[]
[]
[null,null,"State","State Abrv","No. Counties","Range"]
[null,null,"Alaska","AK",26,{"$f":"\"C\"&VLOOKUP(D208,$D$266:$E$3412,2,FALSE)&\":C\"&E208+VLOOKUP(D208,$D$266:$E$3412,2,FALSE)","v":"C333:C359"}]
[null,null,"Alabama","AL",66,"C266:C332"]
[null,null,"Arkansas","AR",74,"C375:C449"]
[null,null,"American Samoa","AS",0,"C3409:C3409"]
[null,null,"Arizona","AZ",14,"C360:C374"]
[null,null,"California","CA",57,"C450:C507"]
[null,null,"Colorado","CO",62,"C508:C570"]
[null,null,"Connecticut","CT",7,"C571:C578"]
[null,null,"District of Columbia","DC",0,"C582:C582"]
[null,null,"Delaware","DE",2,"C579:C581"]
[null,null,"Florida","FL",66,"C583:C649"]
[null,null,"Georgia","GA",158,"C650:C808"]
[null,null,"Guam","GU",0,"C3410:C3410"]
[null,null,"Hawaii","HI",4,"C809:C813"]
[null,null,"Iowa","IA",98,"C1052:C1150"]
[null,null,"Idaho","ID",43,"C814:C857"]
[null,null,"Illinois","IL",101,"C858:C959"]
[null,null,"Indiana","IN",91,"C960:C1051"]
[null,null,"Kansas","KS",104,"C1151:C1255"]
[null,null,"Kentucky","KY",119,"C1256:C1375"]
[null,null,"Louisiana","LA",63,"C1376:C1439"]
[null,null,"Massachusetts","MA",13,"C1480:C1493"]
[null,null,"Maryland","MD",23,"C1456:C1479"]
[null,null,"Maine","ME",15,"C1440:C1455"]
[null,null,"Michigan","MI",82,"C1494:C1576"]
[null,null,"Minnesota","MN",86,"C1577:C1663"]
[null,null,"Missouri","MO",114,"C1746:C1860"]
[null,null,"Mississippi","MS",81,"C1664:C1745"]
[null,null,"Montana","MT",56,"C1861:C1917"]
[null,null,"North Carolina","NC",99,"C2154:C2253"]
[null,null,"North Dakota","ND",52,"C2254:C2306"]
[null,null,"Nebraska","NE",92,"C1918:C2010"]
[null,null,"New Hampshire","NH",9,{"$f":"\"C\"&VLOOKUP(D240,$D$266:$E$3412,2,FALSE)&\":C\"&E240+VLOOKUP(D240,$D$266:$E$3412,2,FALSE)","v":"C2028:C2037"}]
[null,null,"New Jersey","NJ",20,"C2038:C2058"]
[null,null,"New Mexico","NM",32,"C2059:C2091"]
[null,null,"Nevada","NV",16,"C2011:C2027"]
[null,null,"New York","NY",61,"C2092:C2153"]
[null,null,"Ohio","OH",87,"C2307:C2394"]
[null,null,"Oklahoma","OK",76,"C2395:C2471"]
[null,null,"Oregon","OR",35,"C2472:C2507"]
[null,null,"Pennsylvania","PA",66,"C2508:C2574"]
[null,null,"Puerto Rico","PR",0,"C3411:C3411"]
[null,null,"Rhode Island","RI",4,"C2575:C2579"]
[null,null,"South Carolina","SC",45,"C2580:C2625"]
[null,null,"South Dakota","SD",65,"C2626:C2691"]
[null,null,"Tennessee","TN",94,"C2692:C2786"]
[null,null,"Texas","TX",253,"C2787:C3040"]
[null,null,"Utah","UT",28,"C3041:C3069"]
[null,null,"Virginia","VA",135,"C3084:C3219"]
[null,null,"Virgin Islands","VI",0,"C3412:C3412"]
[null,null,"Vermont","VT",13,"C3070:C3083"]
[null,null,"Washington","WA",38,"C3220:C3258"]
[null,null,"Wisconsin","WI",71,"C3314:C3385"]
[null,null,"West Virginia","WV",54,"C3259:C3313"]
[null,null,"Wyoming","WY",22,"C3386:C3408"]
[]
[]
[null,null,"County","State Abrev"]
[null,null,"Autauga","AL",{"$f":"ROW(D266)","v":266}]
[null,null,"Baldwin","AL",{"$f":"ROW(D267)","v":267}]
[null,null,"Barbour","AL",268]
[null,null,"Bibb","AL",269]
[null,null,"Blount","AL",270]
[null,null,"Bullock","AL",271]
[null,null,"Butler","AL",272]
[null,null,"Calhoun","AL",273]
[null,null,"Chambers","AL",274]
[null,null,"Cherokee","AL",275]
[null,null,"Chilton","AL",276]
[null,null,"Choctaw","AL",277]
[null,null,"Clarke","AL",278]
[null,null,"Clay","AL",279]
[null,null,"Cleburne","AL",280]
[null,null,"Coffee","AL",281]
[null,null,"Colbert","AL",282]
[null,null,"Conecuh","AL",283]
[null,null,"Coosa","AL",284]
[null,null,"Covington","AL",285]
[null,null,"Crenshaw","AL",286]
[null,null,"Cullman","AL",287]
[null,null,"Dale","AL",288]
[null,null,"Dallas","AL",289]
[null,null,"De Kalb","AL",290]
[null,null,"Elmore","AL",291]
[null,null,"Escambia","AL",292]
[null,null,"Etowah","AL",293]
[null,null,"Fayette","AL",294]
[null,null,"Franklin","AL",295]
[null,null,"Geneva","AL",296]
[null,null,"Greene","AL",297]
[null,null,"Hale","AL",298]
[null,null,"Henry","AL",299]
[null,null,"Houston","AL",300]
[null,null,"Jackson","AL",301]
[null,null,"Jefferson","AL",302]
[null,null,"Lamar","AL",303]
[null,null,"Lauderdale","AL",304]
[null,null,"Lawrence","AL",305]
[null,null,"Lee","AL",306]
[null,null,"Limestone","AL",307]
[null,null,"Lowndes","AL",308]
[null,null,"Macon","AL",309]
[null,null,"Madison","AL",310]
[null,null,"Marengo","AL",311]
[null,null,"Marion","AL",312]
[null,null,"Marshall","AL",313]
[null,null,"Mobile","AL",314]
[null,null,"Monroe","AL",315]
[null,null,"Montgomery","AL",316]
[null,null,"Morgan","AL",317]
[null,null,"Perry","AL",318]
[null,null,"Pickens","AL",319]
[null,null,"Pike","AL",320]
[null,null,"Randolph","AL",321]
[null,null,"Russell","AL",322]
[null,null,"St. Clair","AL",323]
[null,null,"Shelby","AL",324]
[null,null,"Sumter","AL",325]
[null,null,"Talladega","AL",326]
[null,null,"Tallapoosa","AL",327]
[null,null,"Tuscaloosa","AL",328]
[null,null,"Walker","AL",329]
[null,null,"Washington","AL",330]
[null,null,"Wilcox","AL",{"$f":"ROW(D331)","v":331}]
[null,null,"Winston","AL",332]
[null,null,"Aleutians East","AK",333]
[null,null,"Aleutians West","AK",334]
[null,null,"Anchorage","AK",335]
[null,null,"Bethel","AK",336]
[null,null,"Bristol Bay","AK",337]
[null,null,"Denali","AK",338]
[null,null,"Dillingham","AK",339]
[null,null,"Fairbanks North Star","AK",340]
[null,null,"Haines","AK",341]
[null,null,"Juneau","AK",342]
[null,null,"Kenai Peninsula","AK",343]
[null,null,"Ketchikan Gateway","AK",344]
[null,null,"Kodiak Island","AK",345]
[null,null,"Lake and Peninsula","AK",346]
[null,null,"Matanuska-Susitna","AK",347]
[null,null,"Nome","AK",348]
[null,null,"North Slope","AK",349]
[null,null,"Northwest Arctic","AK",350]
[null,null,"P. of W.-Outer Ketchikan","AK",351]
[null,null,"Sitka","AK",352]
[null,null,"Skagway-Hoonah-Angoon","AK",353]
[null,null,"Southeast Fairbanks","AK",354]
[null,null,"Valdez-Cordova","AK",355]
[null,null,"Wade Hampton","AK",356]
[null,null,"Wrangell-Petersburg","AK",357]
[null,null,"Yakutat","AK",358]
[null,null,"Yukon-Koyukuk","AK",359]
[null,null,"Apache","AZ",360]
[null,null,"Cochise","AZ",361]
[null,null,"Coconino","AZ",362]
[null,null,"Gila","AZ",363]
[null,null,"Graham","AZ",364]
[null,null,"Greenlee","AZ",365]
[null,null,"La Paz","AZ",366]
[null,null,"Maricopa","AZ",367]
[null,null,"Mohave","AZ",368]
[null,null,"Navajo","AZ",369]
[null,null,"Pima","AZ",370]
[null,null,"Pinal","AZ",371]
[null,null,"Santa Cruz","AZ",372]
[null,null,"Yavapai","AZ",373]
[null,null,"Yuma","AZ",374]
[null,null,"Arkansas","AR",375]
[null,null,"Ashley","AR",376]
[null,null,"Baxter","AR",377]
[null,null,"Benton","AR",378]
[null,null,"Boone","AR",379]
[null,null,"Bradley","AR",380]
[null,null,"Calhoun","AR",381]
[null,null,"Carroll","AR",382]
[null,null,"Chicot","AR",383]
[null,null,"Clark","AR",384]
[null,null,"Clay","AR",385]
[null,null,"Cleburne","AR",386]
[null,null,"Cleveland","AR",387]
[null,null,"Columbia","AR",388]
[null,null,"Conway","AR",389]
[null,null,"Craighead","AR",390]
[null,null,"Crawford","AR",391]
[null,null,"Crittenden","AR",392]
[null,null,"Cross","AR",393]
[null,null,"Dallas","AR",394]
[null,null,"Desha","AR",{"$f":"ROW(D395)","v":395}]
[null,null,"Drew","AR",396]
[null,null,"Faulkner","AR",397]
[null,null,"Franklin","AR",398]
[null,null,"Fulton","AR",399]
[null,null,"Garland","AR",400]
[null,null,"Grant","AR",401]
[null,null,"Greene","AR",402]
[null,null,"Hempstead","AR",403]
[null,null,"Hot Spring","AR",404]
[null,null,"Howard","AR",405]
[null,null,"Independence","AR",406]
[null,null,"Izard","AR",407]
[null,null,"Jackson","AR",408]
[null,null,"Jefferson","AR",409]
[null,null,"Johnson","AR",410]
[null,null,"Lafayette","AR",411]
[null,null,"Lawrence","AR",412]
[null,null,"Lee","AR",413]
[null,null,"Lincoln","AR",414]
[null,null,"Little River","AR",415]
[null,null,"Logan","AR",416]
[null,null,"Lonoke","AR",417]
[null,null,"Madison","AR",418]
[null,null,"Marion","AR",419]
[null,null,"Miller","AR",420]
[null,null,"Mississippi","AR",421]
[null,null,"Monroe","AR",422]
[null,null,"Montgomery","AR",423]
[null,null,"Nevada","AR",424]
[null,null,"Newton","AR",425]
[null,null,"Ouachita","AR",426]
[null,null,"Perry","AR",427]
[null,null,"Phillips","AR",428]
[null,null,"Pike","AR",429]
[null,null,"Poinsett","AR",430]
[null,null,"Polk","AR",431]
[null,null,"Pope","AR",432]
[null,null,"Prairie","AR",433]
[null,null,"Pulaski","AR",434]
[null,null,"Randolph","AR",435]
[null,null,"St. Francis","AR",436]
[null,null,"Saline","AR",437]
[null,null,"Scott","AR",438]
[null,null,"Searcy","AR",439]
[null,null,"Sebastian","AR",440]
[null,null,"Sevier","AR",441]
[null,null,"Sharp","AR",442]
[null,null,"Stone","AR",443]
[null,null,"Union","AR",444]
[null,null,"Van Buren","AR",445]
[null,null,"Washington","AR",446]
[null,null,"White","AR",447]
[null,null,"Woodruff","AR",448]
[null,null,"Yell","AR",449]
[null,null,"Alameda","CA",450]
[null,null,"Alpine","CA",451]
[null,null,"Amador","CA",452]
[null,null,"Butte","CA",453]
[null,null,"Calaveras","CA",454]
[null,null,"Colusa","CA",455]
[null,null,"Contra Costa","CA",456]
[null,null,"Del Norte","CA",457]
[null,null,"El Dorado","CA",458]
[null,null,"Fresno","CA",{"$f":"ROW(D459)","v":459}]
[null,null,"Glenn","CA",460]
[null,null,"Humboldt","CA",461]
[null,null,"Imperial","CA",462]
[null,null,"Inyo","CA",463]
[null,null,"Kern","CA",464]
[null,null,"Kings","CA",465]
[null,null,"Lake","CA",466]
[null,null,"Lassen","CA",467]
[null,null,"Los Angeles","CA",468]
[null,null,"Madera","CA",469]
[null,null,"Marin","CA",470]
[null,null,"Mariposa","CA",471]
[null,null,"Mendocino","CA",472]
[null,null,"Merced","CA",473]
[null,null,"Modoc","CA",474]
[null,null,"Mono","CA",475]
[null,null,"Monterey","CA",476]
[null,null,"Napa","CA",477]
[null,null,"Nevada","CA",478]
[null,null,"Orange","CA",479]
[null,null,"Placer","CA",480]
[null,null,"Plumas","CA",481]
[null,null,"Riverside","CA",482]
[null,null,"Sacramento","CA",483]
[null,null,"San Benito","CA",484]
[null,null,"San Bernardino","CA",485]
[null,null,"San Diego","CA",486]
[null,null,"San Francisco","CA",487]
[null,null,"San Joaquin","CA",488]
[null,null,"San Luis Obispo","CA",489]
[null,null,"San Mateo","CA",490]
[null,null,"Santa Barbara","CA",491]
[null,null,"Santa Clara","CA",492]
[null,null,"Santa Cruz","CA",493]
[null,null,"Shasta","CA",494]
[null,null,"Sierra","CA",495]
[null,null,"Siskiyou","CA",496]
[null,null,"Solano","CA",497]
[null,null,"Sonoma","CA",498]
[null,null,"Stanislaus","CA",499]
[null,null,"Sutter","CA",500]
[null,null,"Tehama","CA",501]
[null,null,"Trinity","CA",502]
[null,null,"Tulare","CA",503]
[null,null,"Tuolumne","CA",504]
[null,null,"Ventura","CA",505]
[null,null,"Yolo","CA",506]
[null,null,"Yuba","CA",507]
[null,null,"Adams","CO",508]
[null,null,"Alamosa","CO",509]
[null,null,"Arapahoe","CO",510]
[null,null,"Archuleta","CO",511]
[null,null,"Baca","CO",512]
[null,null,"Bent","CO",513]
[null,null,"Boulder","CO",514]
[null,null,"Chaffee","CO",515]
[null,null,"Cheyenne","CO",516]
[null,null,"Clear Creek","CO",517]
[null,null,"Conejos","CO",518]
[null,null,"Costilla","CO",519]
[null,null,"Crowley","CO",520]
[null,null,"Custer","CO",521]
[null,null,"Delta","CO",522]
[null,null,"Denver","CO",{"$f":"ROW(D523)","v":523}]
[null,null,"Dolores","CO",524]
[null,null,"Douglas","CO",525]
[null,null,"Eagle","CO",526]
[null,null,"Elbert","CO",527]
[null,null,"El Paso","CO",528]
[null,null,"Fremont","CO",529]
[null,null,"Garfield","CO",530]
[null,null,"Gilpin","CO",531]
[null,null,"Grand","CO",532]
[null,null,"Gunnison","CO",533]
[null,null,"Hinsdale","CO",534]
[null,null,"Huerfano","CO",535]
[null,null,"Jackson","CO",536]
[null,null,"Jefferson","CO",537]
[null,null,"Kiowa","CO",538]
[null,null,"Kit Carson","CO",539]
[null,null,"Lake","CO",540]
[null,null,"La Plata","CO",541]
[null,null,"Larimer","CO",542]
[null,null,"Las Animas","CO",543]
[null,null,"Lincoln","CO",544]
[null,null,"Logan","CO",545]
[null,null,"Mesa","CO",546]
[null,null,"Mineral","CO",547]
[null,null,"Moffat","CO",548]
[null,null,"Montezuma","CO",549]
[null,null,"Montrose","CO",550]
[null,null,"Morgan","CO",551]
[null,null,"Otero","CO",552]
[null,null,"Ouray","CO",553]
[null,null,"Park","CO",554]
[null,null,"Phillips","CO",555]
[null,null,"Pitkin","CO",556]
[null,null,"Prowers","CO",557]
[null,null,"Pueblo","CO",558]
[null,null,"Rio Blanco","CO",559]
[null,null,"Rio Grande","CO",560]
[null,null,"Routt","CO",561]
[null,null,"Saguache","CO",562]
[null,null,"San Juan","CO",563]
[null,null,"San Miguel","CO",564]
[null,null,"Sedgwick","CO",565]
[null,null,"Summit","CO",566]
[null,null,"Teller","CO",567]
[null,null,"Washington","CO",568]
[null,null,"Weld","CO",569]
[null,null,"Yuma","CO",570]
[null,null,"Fairfield","CT",571]
[null,null,"Hartford","CT",572]
[null,null,"Litchfield","CT",573]
[null,null,"Middlesex","CT",574]
[null,null,"New Haven","CT",575]
[null,null,"New London","CT",576]
[null,null,"Tolland","CT",577]
[null,null,"Windham","CT",578]
[null,null,"Kent","DE",579]
[null,null,"New Castle","DE",580]
[null,null,"Sussex","DE",581]
[null,null,"District of Columbia","DC",582]
[null,null,"Alachua","FL",583]
[null,null,"Baker","FL",584]
[null,null,"Bay","FL",585]
[null,null,"Bradford","FL",586]
[null,null,"Brevard","FL",{"$f":"ROW(D587)","v":587}]
[null,null,"Broward","FL",588]
[null,null,"Calhoun","FL",589]
[null,null,"Charlotte","FL",590]
[null,null,"Citrus","FL",591]
[null,null,"Clay","FL",592]
[null,null,"Collier","FL",593]
[null,null,"Columbia","FL",594]
[null,null,"Dade","FL",595]
[null,null,"De Soto","FL",596]
[null,null,"Dixie","FL",597]
[null,null,"Duval","FL",598]
[null,null,"Escambia","FL",599]
[null,null,"Flagler","FL",600]
[null,null,"Franklin","FL",601]
[null,null,"Gadsden","FL",602]
[null,null,"Gilchrist","FL",603]
[null,null,"Glades","FL",604]
[null,null,"Gulf","FL",605]
[null,null,"Hamilton","FL",606]
[null,null,"Hardee","FL",607]
[null,null,"Hendry","FL",608]
[null,null,"Hernando","FL",609]
[null,null,"Highlands","FL",610]
[null,null,"Hillsborough","FL",611]
[null,null,"Holmes","FL",612]
[null,null,"Indian River","FL",613]
[null,null,"Jackson","FL",614]
[null,null,"Jefferson","FL",615]
[null,null,"Lafayette","FL",616]
[null,null,"Lake","FL",617]
[null,null,"Lee","FL",618]
[null,null,"Leon","FL",619]
[null,null,"Levy","FL",620]
[null,null,"Liberty","FL",621]
[null,null,"Madison","FL",622]
[null,null,"Manatee","FL",623]
[null,null,"Marion","FL",624]
[null,null,"Martin","FL",625]
[null,null,"Monroe","FL",626]
[null,null,"Nassau","FL",627]
[null,null,"Okaloosa","FL",628]
[null,null,"Okeechobee","FL",629]
[null,null,"Orange","FL",630]
[null,null,"Osceola","FL",631]
[null,null,"Palm Beach","FL",632]
[null,null,"Pasco","FL",633]
[null,null,"Pinellas","FL",634]
[null,null,"Polk","FL",635]
[null,null,"Putnam","FL",636]
[null,null,"St. Johns","FL",637]
[null,null,"St. Lucie","FL",638]
[null,null,"Santa Rosa","FL",639]
[null,null,"Sarasota","FL",640]
[null,null,"Seminole","FL",641]
[null,null,"Sumter","FL",642]
[null,null,"Suwannee","FL",643]
[null,null,"Taylor","FL",644]
[null,null,"Union","FL",645]
[null,null,"Volusia","FL",646]
[null,null,"Wakulla","FL",647]
[null,null,"Walton","FL",648]
[null,null,"Washington","FL",649]
[null,null,"Appling","GA",650]
[null,null,"Atkinson","GA",{"$f":"ROW(D651)","v":651}]
[null,null,"Bacon","GA",652]
[null,null,"Baker","GA",653]
[null,null,"Baldwin","GA",654]
[null,null,"Banks","GA",655]
[null,null,"Barrow","GA",656]
[null,null,"Bartow","GA",657]
[null,null,"Ben Hill","GA",658]
[null,null,"Berrien","GA",659]
[null,null,"Bibb","GA",660]
[null,null,"Bleckley","GA",661]
[null,null,"Brantley","GA",662]
[null,null,"Brooks","GA",663]
[null,null,"Bryan","GA",664]
[null,null,"Bulloch","GA",665]
[null,null,"Burke","GA",666]
[null,null,"Butts","GA",667]
[null,null,"Calhoun","GA",668]
[null,null,"Camden","GA",669]
[null,null,"Candler","GA",670]
[null,null,"Carroll","GA",671]
[null,null,"Catoosa","GA",672]
[null,null,"Charlton","GA",673]
[null,null,"Chatham","GA",674]
[null,null,"Chattahoochee","GA",675]
[null,null,"Chattooga","GA",676]
[null,null,"Cherokee","GA",677]
[null,null,"Clarke","GA",678]
[null,null,"Clay","GA",679]
[null,null,"Clayton","GA",680]
[null,null,"Clinch","GA",681]
[null,null,"Cobb","GA",682]
[null,null,"Coffee","GA",683]
[null,null,"Colquitt","GA",684]
[null,null,"Columbia","GA",685]
[null,null,"Cook","GA",686]
[null,null,"Coweta","GA",687]
[null,null,"Crawford","GA",688]
[null,null,"Crisp","GA",689]
[null,null,"Dade","GA",690]
[null,null,"Dawson","GA",691]
[null,null,"Decatur","GA",692]
[null,null,"De Kalb","GA",693]
[null,null,"Dodge","GA",694]
[null,null,"Dooly","GA",695]
[null,null,"Dougherty","GA",696]
[null,null,"Douglas","GA",697]
[null,null,"Early","GA",698]
[null,null,"Echols","GA",699]
[null,null,"Effingham","GA",700]
[null,null,"Elbert","GA",701]
[null,null,"Emanuel","GA",702]
[null,null,"Evans","GA",703]
[null,null,"Fannin","GA",704]
[null,null,"Fayette","GA",705]
[null,null,"Floyd","GA",706]
[null,null,"Forsyth","GA",707]
[null,null,"Franklin","GA",708]
[null,null,"Fulton","GA",709]
[null,null,"Gilmer","GA",710]
[null,null,"Glascock","GA",711]
[null,null,"Glynn","GA",712]
[null,null,"Gordon","GA",713]
[null,null,"Grady","GA",714]
[null,null,"Greene","GA",{"$f":"ROW(D715)","v":715}]
[null,null,"Gwinnett","GA",716]
[null,null,"Habersham","GA",717]
[null,null,"Hall","GA",718]
[null,null,"Hancock","GA",719]
[null,null,"Haralson","GA",720]
[null,null,"Harris","GA",721]
[null,null,"Hart","GA",722]
[null,null,"Heard","GA",723]
[null,null,"Henry","GA",724]
[null,null,"Houston","GA",725]
[null,null,"Irwin","GA",726]
[null,null,"Jackson","GA",727]
[null,null,"Jasper","GA",728]
[null,null,"Jeff Davis","GA",729]
[null,null,"Jefferson","GA",730]
[null,null,"Jenkins","GA",731]
[null,null,"Johnson","GA",732]
[null,null,"Jones","GA",733]
[null,null,"Lamar","GA",734]
[null,null,"Lanier","GA",735]
[null,null,"Laurens","GA",736]
[null,null,"Lee","GA",737]
[null,null,"Liberty","GA",738]
[null,null,"Lincoln","GA",739]
[null,null,"Long","GA",740]
[null,null,"Lowndes","GA",741]
[null,null,"Lumpkin","GA",742]
[null,null,"McDuffie","GA",743]
[null,null,"McIntosh","GA",744]
[null,null,"Macon","GA",745]
[null,null,"Madison","GA",746]
[null,null,"Marion","GA",747]
[null,null,"Meriwether","GA",748]
[null,null,"Miller","GA",749]
[null,null,"Mitchell","GA",750]
[null,null,"Monroe","GA",751]
[null,null,"Montgomery","GA",752]
[null,null,"Morgan","GA",753]
[null,null,"Murray","GA",754]
[null,null,"Muscogee","GA",755]
[null,null,"Newton","GA",756]
[null,null,"Oconee","GA",757]
[null,null,"Oglethorpe","GA",758]
[null,null,"Paulding","GA",759]
[null,null,"Peach","GA",760]
[null,null,"Pickens","GA",761]
[null,null,"Pierce","GA",762]
[null,null,"Pike","GA",763]
[null,null,"Polk","GA",764]
[null,null,"Pulaski","GA",765]
[null,null,"Putnam","GA",766]
[null,null,"Quitman","GA",767]
[null,null,"Rabun","GA",768]
[null,null,"Randolph","GA",769]
[null,null,"Richmond","GA",770]
[null,null,"Rockdale","GA",771]
[null,null,"Schley","GA",772]
[null,null,"Screven","GA",773]
[null,null,"Seminole","GA",774]
[null,null,"Spalding","GA",775]
[null,null,"Stephens","GA",776]
[null,null,"Stewart","GA",777]
[null,null,"Sumter","GA",778]
[null,null,"Talbot","GA",{"$f":"ROW(D779)","v":779}]
[null,null,"Taliaferro","GA",780]
[null,null,"Tattnall","GA",781]
[null,null,"Taylor","GA",782]
[null,null,"Telfair","GA",783]
[null,null,"Terrell","GA",784]
[null,null,"Thomas","GA",785]
[null,null,"Tift","GA",786]
[null,null,"Toombs","GA",787]
[null,null,"Towns","GA",788]
[null,null,"Treutlen","GA",789]
[null,null,"Troup","GA",790]
[null,null,"Turner","GA",791]
[null,null,"Twiggs","GA",792]
[null,null,"Union","GA",793]
[null,null,"Upson","GA",794]
[null,null,"Walker","GA",795]
[null,null,"Walton","GA",796]
[null,null,"Ware","GA",797]
[null,null,"Warren","GA",798]
[null,null,"Washington","GA",799]
[null,null,"Wayne","GA",800]
[null,null,"Webster","GA",801]
[null,null,"Wheeler","GA",802]
[null,null,"White","GA",803]
[null,null,"Whitfield","GA",804]
[null,null,"Wilcox","GA",805]
[null,null,"Wilkes","GA",806]
[null,null,"Wilkinson","GA",807]
[null,null,"Worth","GA",808]
[null,null,"Hawaii","HI",809]
[null,null,"Honolulu","HI",810]
[null,null,"Kalawao","HI",811]
[null,null,"Kauai","HI",812]
[null,null,"Maui","HI",813]
[null,null,"Ada","ID",814]
[null,null,"Adams","ID",815]
[null,null,"Bannock","ID",816]
[null,null,"Bear Lake","ID",817]
[null,null,"Benewah","ID",818]
[null,null,"Bingham","ID",819]
[null,null,"Blaine","ID",820]
[null,null,"Boise","ID",821]
[null,null,"Bonner","ID",822]
[null,null,"Bonneville","ID",823]
[null,null,"Boundary","ID",824]
[null,null,"Butte","ID",825]
[null,null,"Camas","ID",826]
[null,null,"Canyon","ID",827]
[null,null,"Caribou","ID",828]
[null,null,"Cassia","ID",829]
[null,null,"Clark","ID",830]
[null,null,"Clearwater","ID",831]
[null,null,"Custer","ID",832]
[null,null,"Elmore","ID",833]
[null,null,"Franklin","ID",834]
[null,null,"Fremont","ID",835]
[null,null,"Gem","ID",836]
[null,null,"Gooding","ID",837]
[null,null,"Idaho","ID",838]
[null,null,"Jefferson","ID",839]
[null,null,"Jerome","ID",840]
[null,null,"Kootenai","ID",841]
[null,null,"Latah","ID",842]
[null,null,"Lemhi","ID",{"$f":"ROW(D843)","v":843}]
[null,null,"Lewis","ID",844]
[null,null,"Lincoln","ID",845]
[null,null,"Madison","ID",846]
[null,null,"Minidoka","ID",847]
[null,null,"Nez Perce","ID",848]
[null,null,"Oneida","ID",849]
[null,null,"Owyhee","ID",850]
[null,null,"Payette","ID",851]
[null,null,"Power","ID",852]
[null,null,"Shoshone","ID",853]
[null,null,"Teton","ID",854]
[null,null,"Twin Falls","ID",855]
[null,null,"Valley","ID",856]
[null,null,"Washington","ID",857]
[null,null,"Adams","IL",858]
[null,null,"Alexander","IL",859]
[null,null,"Bond","IL",860]
[null,null,"Boone","IL",861]
[null,null,"Brown","IL",862]
[null,null,"Bureau","IL",863]
[null,null,"Calhoun","IL",864]
[null,null,"Carroll","IL",865]
[null,null,"Cass","IL",866]
[null,null,"Champaign","IL",867]
[null,null,"Christian","IL",868]
[null,null,"Clark","IL",869]
[null,null,"Clay","IL",870]
[null,null,"Clinton","IL",871]
[null,null,"Coles","IL",872]
[null,null,"Cook","IL",873]
[null,null,"Crawford","IL",874]
[null,null,"Cumberland","IL",875]
[null,null,"DeKalb","IL",876]
[null,null,"De Witt","IL",877]
[null,null,"Douglas","IL",878]
[null,null,"DuPage","IL",879]
[null,null,"Edgar","IL",880]
[null,null,"Edwards","IL",881]
[null,null,"Effingham","IL",882]
[null,null,"Fayette","IL",883]
[null,null,"Ford","IL",884]
[null,null,"Franklin","IL",885]
[null,null,"Fulton","IL",886]
[null,null,"Gallatin","IL",887]
[null,null,"Greene","IL",888]
[null,null,"Grundy","IL",889]
[null,null,"Hamilton","IL",890]
[null,null,"Hancock","IL",891]
[null,null,"Hardin","IL",892]
[null,null,"Henderson","IL",893]
[null,null,"Henry","IL",894]
[null,null,"Iroquois","IL",895]
[null,null,"Jackson","IL",896]
[null,null,"Jasper","IL",897]
[null,null,"Jefferson","IL",898]
[null,null,"Jersey","IL",899]
[null,null,"Jo Daviess","IL",900]
[null,null,"Johnson","IL",901]
[null,null,"Kane","IL",902]
[null,null,"Kankakee","IL",903]
[null,null,"Kendall","IL",904]
[null,null,"Knox","IL",905]
[null,null,"Lake","IL",906]
[null,null,"La Salle","IL",{"$f":"ROW(D907)","v":907}]
[null,null,"Lawrence","IL",908]
[null,null,"Lee","IL",909]
[null,null,"Livingston","IL",910]
[null,null,"Logan","IL",911]
[null,null,"McDonough","IL",912]
[null,null,"McHenry","IL",913]
[null,null,"McLean","IL",914]
[null,null,"Macon","IL",915]
[null,null,"Macoupin","IL",916]
[null,null,"Madison","IL",917]
[null,null,"Marion","IL",918]
[null,null,"Marshall","IL",919]
[null,null,"Mason","IL",920]
[null,null,"Massac","IL",921]
[null,null,"Menard","IL",922]
[null,null,"Mercer","IL",923]
[null,null,"Monroe","IL",924]
[null,null,"Montgomery","IL",925]
[null,null,"Morgan","IL",926]
[null,null,"Moultrie","IL",927]
[null,null,"Ogle","IL",928]
[null,null,"Peoria","IL",929]
[null,null,"Perry","IL",930]
[null,null,"Piatt","IL",931]
[null,null,"Pike","IL",932]
[null,null,"Pope","IL",933]
[null,null,"Pulaski","IL",934]
[null,null,"Putnam","IL",935]
[null,null,"Randolph","IL",936]
[null,null,"Richland","IL",937]
[null,null,"Rock Island","IL",938]
[null,null,"St. Clair","IL",939]
[null,null,"Saline","IL",940]
[null,null,"Sangamon","IL",941]
[null,null,"Schuyler","IL",942]
[null,null,"Scott","IL",943]
[null,null,"Shelby","IL",944]
[null,null,"Stark","IL",945]
[null,null,"Stephenson","IL",946]
[null,null,"Tazewell","IL",947]
[null,null,"Union","IL",948]
[null,null,"Vermilion","IL",949]
[null,null,"Wabash","IL",950]
[null,null,"Warren","IL",951]
[null,null,"Washington","IL",952]
[null,null,"Wayne","IL",953]
[null,null,"White","IL",954]
[null,null,"Whiteside","IL",955]
[null,null,"Will","IL",956]
[null,null,"Williamson","IL",957]
[null,null,"Winnebago","IL",958]
[null,null,"Woodford","IL",959]
[null,null,"Adams","IN",960]
[null,null,"Allen","IN",961]
[null,null,"Bartholomew","IN",962]
[null,null,"Benton","IN",963]
[null,null,"Blackford","IN",964]
[null,null,"Boone","IN",965]
[null,null,"Brown","IN",966]
[null,null,"Carroll","IN",967]
[null,null,"Cass","IN",968]
[null,null,"Clark","IN",969]
[null,null,"Clay","IN",970]
[null,null,"Clinton","IN",{"$f":"ROW(D971)","v":971}]
[null,null,"Crawford","IN",972]
[null,null,"Daviess","IN",973]
[null,null,"Dearborn","IN",974]
[null,null,"Decatur","IN",975]
[null,null,"De Kalb","IN",976]
[null,null,"Delaware","IN",977]
[null,null,"Dubois","IN",978]
[null,null,"Elkhart","IN",979]
[null,null,"Fayette","IN",980]
[null,null,"Floyd","IN",981]
[null,null,"Fountain","IN",982]
[null,null,"Franklin","IN",983]
[null,null,"Fulton","IN",984]
[null,null,"Gibson","IN",985]
[null,null,"Grant","IN",986]
[null,null,"Greene","IN",987]
[null,null,"Hamilton","IN",988]
[null,null,"Hancock","IN",989]
[null,null,"Harrison","IN",990]
[null,null,"Hendricks","IN",991]
[null,null,"Henry","IN",992]
[null,null,"Howard","IN",993]
[null,null,"Huntington","IN",994]
[null,null,"Jackson","IN",995]
[null,null,"Jasper","IN",996]
[null,null,"Jay","IN",997]
[null,null,"Jefferson","IN",998]
[null,null,"Jennings","IN",999]
[null,null,"Johnson","IN",1000]
[null,null,"Knox","IN",1001]
[null,null,"Kosciusko","IN",1002]
[null,null,"Lagrange","IN",1003]
[null,null,"Lake","IN",1004]
[null,null,"La Porte","IN",1005]
[null,null,"Lawrence","IN",1006]
[null,null,"Madison","IN",1007]
[null,null,"Marion","IN",1008]
[null,null,"Marshall","IN",1009]
[null,null,"Martin","IN",1010]
[null,null,"Miami","IN",1011]
[null,null,"Monroe","IN",1012]
[null,null,"Montgomery","IN",1013]
[null,null,"Morgan","IN",1014]
[null,null,"Newton","IN",1015]
[null,null,"Noble","IN",1016]
[null,null,"Ohio","IN",1017]
[null,null,"Orange","IN",1018]
[null,null,"Owen","IN",1019]
[null,null,"Parke","IN",1020]
[null,null,"Perry","IN",1021]
[null,null,"Pike","IN",1022]
[null,null,"Porter","IN",1023]
[null,null,"Posey","IN",1024]
[null,null,"Pulaski","IN",1025]
[null,null,"Putnam","IN",1026]
[null,null,"Randolph","IN",1027]
[null,null,"Ripley","IN",1028]
[null,null,"Rush","IN",1029]
[null,null,"St. Joseph","IN",1030]
[null,null,"Scott","IN",1031]
[null,null,"Shelby","IN",1032]
[null,null,"Spencer","IN",1033]
[null,null,"Starke","IN",1034]
[null,null,"Steuben","IN",{"$f":"ROW(D1035)","v":1035}]
[null,null,"Sullivan","IN",1036]
[null,null,"Switzerland","IN",1037]
[null,null,"Tippecanoe","IN",1038]
[null,null,"Tipton","IN",1039]
[null,null,"Union","IN",1040]
[null,null,"Vanderburgh","IN",1041]
[null,null,"Vermillion","IN",1042]
[null,null,"Vigo","IN",1043]
[null,null,"Wabash","IN",1044]
[null,null,"Warren","IN",1045]
[null,null,"Warrick","IN",1046]
[null,null,"Washington","IN",1047]
[null,null,"Wayne","IN",1048]
[null,null,"Wells","IN",1049]
[null,null,"White","IN",1050]
[null,null,"Whitley","IN",1051]
[null,null,"Adair","IA",1052]
[null,null,"Adams","IA",1053]
[null,null,"Allamakee","IA",1054]
[null,null,"Appanoose","IA",1055]
[null,null,"Audubon","IA",1056]
[null,null,"Benton","IA",1057]
[null,null,"Black Hawk","IA",1058]
[null,null,"Boone","IA",1059]
[null,null,"Bremer","IA",1060]
[null,null,"Buchanan","IA",1061]
[null,null,"Buena Vista","IA",1062]
[null,null,"Butler","IA",1063]
[null,null,"Calhoun","IA",1064]
[null,null,"Carroll","IA",1065]
[null,null,"Cass","IA",1066]
[null,null,"Cedar","IA",1067]
[null,null,"Cerro Gordo","IA",1068]
[null,null,"Cherokee","IA",1069]
[null,null,"Chickasaw","IA",1070]
[null,null,"Clarke","IA",1071]
[null,null,"Clay","IA",1072]
[null,null,"Clayton","IA",1073]
[null,null,"Clinton","IA",1074]
[null,null,"Crawford","IA",1075]
[null,null,"Dallas","IA",1076]
[null,null,"Davis","IA",1077]
[null,null,"Decatur","IA",1078]
[null,null,"Delaware","IA",1079]
[null,null,"Des Moines","IA",1080]
[null,null,"Dickinson","IA",1081]
[null,null,"Dubuque","IA",1082]
[null,null,"Emmet","IA",1083]
[null,null,"Fayette","IA",1084]
[null,null,"Floyd","IA",1085]
[null,null,"Franklin","IA",1086]
[null,null,"Fremont","IA",1087]
[null,null,"Greene","IA",1088]
[null,null,"Grundy","IA",1089]
[null,null,"Guthrie","IA",1090]
[null,null,"Hamilton","IA",1091]
[null,null,"Hancock","IA",1092]
[null,null,"Hardin","IA",1093]
[null,null,"Harrison","IA",1094]
[null,null,"Henry","IA",1095]
[null,null,"Howard","IA",1096]
[null,null,"Humboldt","IA",1097]
[null,null,"Ida","IA",1098]
[null,null,"Iowa","IA",{"$f":"ROW(D1099)","v":1099}]
[null,null,"Jackson","IA",1100]
[null,null,"Jasper","IA",1101]
[null,null,"Jefferson","IA",1102]
[null,null,"Johnson","IA",1103]
[null,null,"Jones","IA",1104]
[null,null,"Keokuk","IA",1105]
[null,null,"Kossuth","IA",1106]
[null,null,"Lee","IA",1107]
[null,null,"Linn","IA",1108]
[null,null,"Louisa","IA",1109]
[null,null,"Lucas","IA",1110]
[null,null,"Lyon","IA",1111]
[null,null,"Madison","IA",1112]
[null,null,"Mahaska","IA",1113]
[null,null,"Marion","IA",1114]
[null,null,"Marshall","IA",1115]
[null,null,"Mills","IA",1116]
[null,null,"Mitchell","IA",1117]
[null,null,"Monona","IA",1118]
[null,null,"Monroe","IA",1119]
[null,null,"Montgomery","IA",1120]
[null,null,"Muscatine","IA",1121]
[null,null,"O'Brien","IA",1122]
[null,null,"Osceola","IA",1123]
[null,null,"Page","IA",1124]
[null,null,"Palo Alto","IA",1125]
[null,null,"Plymouth","IA",1126]
[null,null,"Pocahontas","IA",1127]
[null,null,"Polk","IA",1128]
[null,null,"Pottawattamie","IA",1129]
[null,null,"Poweshiek","IA",1130]
[null,null,"Ringgold","IA",1131]
[null,null,"Sac","IA",1132]
[null,null,"Scott","IA",1133]
[null,null,"Shelby","IA",1134]
[null,null,"Sioux","IA",1135]
[null,null,"Story","IA",1136]
[null,null,"Tama","IA",1137]
[null,null,"Taylor","IA",1138]
[null,null,"Union","IA",1139]
[null,null,"Van Buren","IA",1140]
[null,null,"Wapello","IA",1141]
[null,null,"Warren","IA",1142]
[null,null,"Washington","IA",1143]
[null,null,"Wayne","IA",1144]
[null,null,"Webster","IA",1145]
[null,null,"Winnebago","IA",1146]
[null,null,"Winneshiek","IA",1147]
[null,null,"Woodbury","IA",1148]
[null,null,"Worth","IA",1149]
[null,null,"Wright","IA",1150]
[null,null,"Allen","KS",1151]
[null,null,"Anderson","KS",1152]
[null,null,"Atchison","KS",1153]
[null,null,"Barber","KS",1154]
[null,null,"Barton","KS",1155]
[null,null,"Bourbon","KS",1156]
[null,null,"Brown","KS",1157]
[null,null,"Butler","KS",1158]
[null,null,"Chase","KS",1159]
[null,null,"Chautauqua","KS",1160]
[null,null,"Cherokee","KS",1161]
[null,null,"Cheyenne","KS",1162]
[null,null,"Clark","KS",{"$f":"ROW(D1163)","v":1163}]
[null,null,"Clay","KS",1164]
[null,null,"Cloud","KS",1165]
[null,null,"Coffey","KS",1166]
[null,null,"Comanche","KS",1167]
[null,null,"Cowley","KS",1168]
[null,null,"Crawford","KS",1169]
[null,null,"Decatur","KS",1170]
[null,null,"Dickinson","KS",1171]
[null,null,"Doniphan","KS",1172]
[null,null,"Douglas","KS",1173]
[null,null,"Edwards","KS",1174]
[null,null,"Elk","KS",1175]
[null,null,"Ellis","KS",1176]
[null,null,"Ellsworth","KS",1177]
[null,null,"Finney","KS",1178]
[null,null,"Ford","KS",1179]
[null,null,"Franklin","KS",1180]
[null,null,"Geary","KS",1181]
[null,null,"Gove","KS",1182]
[null,null,"Graham","KS",1183]
[null,null,"Grant","KS",1184]
[null,null,"Gray","KS",1185]
[null,null,"Greeley","KS",1186]
[null,null,"Greenwood","KS",1187]
[null,null,"Hamilton","KS",1188]
[null,null,"Harper","KS",1189]
[null,null,"Harvey","KS",1190]
[null,null,"Haskell","KS",1191]
[null,null,"Hodgeman","KS",1192]
[null,null,"Jackson","KS",1193]
[null,null,"Jefferson","KS",1194]
[null,null,"Jewell","KS",1195]
[null,null,"Johnson","KS",1196]
[null,null,"Kearny","KS",1197]
[null,null,"Kingman","KS",1198]
[null,null,"Kiowa","KS",1199]
[null,null,"Labette","KS",1200]
[null,null,"Lane","KS",1201]
[null,null,"Leavenworth","KS",1202]
[null,null,"Lincoln","KS",1203]
[null,null,"Linn","KS",1204]
[null,null,"Logan","KS",1205]
[null,null,"Lyon","KS",1206]
[null,null,"McPherson","KS",1207]
[null,null,"Marion","KS",1208]
[null,null,"Marshall","KS",1209]
[null,null,"Meade","KS",1210]
[null,null,"Miami","KS",1211]
[null,null,"Mitchell","KS",1212]
[null,null,"Montgomery","KS",1213]
[null,null,"Morris","KS",1214]
[null,null,"Morton","KS",1215]
[null,null,"Nemaha","KS",1216]
[null,null,"Neosho","KS",1217]
[null,null,"Ness","KS",1218]
[null,null,"Norton","KS",1219]
[null,null,"Osage","KS",1220]
[null,null,"Osborne","KS",1221]
[null,null,"Ottawa","KS",1222]
[null,null,"Pawnee","KS",1223]
[null,null,"Phillips","KS",1224]
[null,null,"Pottawatomie","KS",1225]
[null,null,"Pratt","KS",1226]
[null,null,"Rawlins","KS",{"$f":"ROW(D1227)","v":1227}]
[null,null,"Reno","KS",1228]
[null,null,"Republic","KS",1229]
[null,null,"Rice","KS",1230]
[null,null,"Riley","KS",1231]
[null,null,"Rooks","KS",1232]
[null,null,"Rush","KS",1233]
[null,null,"Russell","KS",1234]
[null,null,"Saline","KS",1235]
[null,null,"Scott","KS",1236]
[null,null,"Sedgwick","KS",1237]
[null,null,"Seward","KS",1238]
[null,null,"Shawnee","KS",1239]
[null,null,"Sheridan","KS",1240]
[null,null,"Sherman","KS",1241]
[null,null,"Smith","KS",1242]
[null,null,"Stafford","KS",1243]
[null,null,"Stanton","KS",1244]
[null,null,"Stevens","KS",1245]
[null,null,"Sumner","KS",1246]
[null,null,"Thomas","KS",1247]
[null,null,"Trego","KS",1248]
[null,null,"Wabaunsee","KS",1249]
[null,null,"Wallace","KS",1250]
[null,null,"Washington","KS",1251]
[null,null,"Wichita","KS",1252]
[null,null,"Wilson","KS",1253]
[null,null,"Woodson","KS",1254]
[null,null,"Wyandotte","KS",1255]
[null,null,"Adair","KY",1256]
[null,null,"Allen","KY",1257]
[null,null,"Anderson","KY",1258]
[null,null,"Ballard","KY",1259]
[null,null,"Barren","KY",1260]
[null,null,"Bath","KY",1261]
[null,null,"Bell","KY",1262]
[null,null,"Boone","KY",1263]
[null,null,"Bourbon","KY",1264]
[null,null,"Boyd","KY",1265]
[null,null,"Boyle","KY",1266]
[null,null,"Bracken","KY",1267]
[null,null,"Breathitt","KY",1268]
[null,null,"Breckinridge","KY",1269]
[null,null,"Bullitt","KY",1270]
[null,null,"Butler","KY",1271]
[null,null,"Caldwell","KY",1272]
[null,null,"Calloway","KY",1273]
[null,null,"Campbell","KY",1274]
[null,null,"Carlisle","KY",1275]
[null,null,"Carroll","KY",1276]
[null,null,"Carter","KY",1277]
[null,null,"Casey","KY",1278]
[null,null,"Christian","KY",1279]
[null,null,"Clark","KY",1280]
[null,null,"Clay","KY",1281]
[null,null,"Clinton","KY",1282]
[null,null,"Crittenden","KY",1283]
[null,null,"Cumberland","KY",1284]
[null,null,"Daviess","KY",1285]
[null,null,"Edmonson","KY",1286]
[null,null,"Elliott","KY",1287]
[null,null,"Estill","KY",1288]
[null,null,"Fayette","KY",1289]
[null,null,"Fleming","KY",1290]
[null,null,"Floyd","KY",{"$f":"ROW(D1291)","v":1291}]
[null,null,"Franklin","KY",1292]
[null,null,"Fulton","KY",1293]
[null,null,"Gallatin","KY",1294]
[null,null,"Garrard","KY",1295]
[null,null,"Grant","KY",1296]
[null,null,"Graves","KY",1297]
[null,null,"Grayson","KY",1298]
[null,null,"Green","KY",1299]
[null,null,"Greenup","KY",1300]
[null,null,"Hancock","KY",1301]
[null,null,"Hardin","KY",1302]
[null,null,"Harlan","KY",1303]
[null,null,"Harrison","KY",1304]
[null,null,"Hart","KY",1305]
[null,null,"Henderson","KY",1306]
[null,null,"Henry","KY",1307]
[null,null,"Hickman","KY",1308]
[null,null,"Hopkins","KY",1309]
[null,null,"Jackson","KY",1310]
[null,null,"Jefferson","KY",1311]
[null,null,"Jessamine","KY",1312]
[null,null,"Johnson","KY",1313]
[null,null,"Kenton","KY",1314]
[null,null,"Knott","KY",1315]
[null,null,"Knox","KY",1316]
[null,null,"Larue","KY",1317]
[null,null,"Laurel","KY",1318]
[null,null,"Lawrence","KY",1319]
[null,null,"Lee","KY",1320]
[null,null,"Leslie","KY",1321]
[null,null,"Letcher","KY",1322]
[null,null,"Lewis","KY",1323]
[null,null,"Lincoln","KY",1324]
[null,null,"Livingston","KY",1325]
[null,null,"Logan","KY",1326]
[null,null,"Lyon","KY",1327]
[null,null,"McCracken","KY",1328]
[null,null,"McCreary","KY",1329]
[null,null,"McLean","KY",1330]
[null,null,"Madison","KY",1331]
[null,null,"Magoffin","KY",1332]
[null,null,"Marion","KY",1333]
[null,null,"Marshall","KY",1334]
[null,null,"Martin","KY",1335]
[null,null,"Mason","KY",1336]
[null,null,"Meade","KY",1337]
[null,null,"Menifee","KY",1338]
[null,null,"Mercer","KY",1339]
[null,null,"Metcalfe","KY",1340]
[null,null,"Monroe","KY",1341]
[null,null,"Montgomery","KY",1342]
[null,null,"Morgan","KY",1343]
[null,null,"Muhlenberg","KY",1344]
[null,null,"Nelson","KY",1345]
[null,null,"Nicholas","KY",1346]
[null,null,"Ohio","KY",1347]
[null,null,"Oldham","KY",1348]
[null,null,"Owen","KY",1349]
[null,null,"Owsley","KY",1350]
[null,null,"Pendleton","KY",1351]
[null,null,"Perry","KY",1352]
[null,null,"Pike","KY",1353]
[null,null,"Powell","KY",1354]
[null,null,"Pulaski","KY",{"$f":"ROW(D1355)","v":1355}]
[null,null,"Robertson","KY",1356]
[null,null,"Rockcastle","KY",1357]
[null,null,"Rowan","KY",1358]
[null,null,"Russell","KY",1359]
[null,null,"Scott","KY",1360]
[null,null,"Shelby","KY",1361]
[null,null,"Simpson","KY",1362]
[null,null,"Spencer","KY",1363]
[null,null,"Taylor","KY",1364]
[null,null,"Todd","KY",1365]
[null,null,"Trigg","KY",1366]
[null,null,"Trimble","KY",1367]
[null,null,"Union","KY",1368]
[null,null,"Warren","KY",1369]
[null,null,"Washington","KY",1370]
[null,null,"Wayne","KY",1371]
[null,null,"Webster","KY",1372]
[null,null,"Whitley","KY",1373]
[null,null,"Wolfe","KY",1374]
[null,null,"Woodford","KY",1375]
[null,null,"Acadia","LA",1376]
[null,null,"Allen","LA",1377]
[null,null,"Ascension","LA",1378]
[null,null,"Assumption","LA",1379]
[null,null,"Avoyelles","LA",1380]
[null,null,"Beauregard","LA",1381]
[null,null,"Bienville","LA",1382]
[null,null,"Bossier","LA",1383]
[null,null,"Caddo","LA",1384]
[null,null,"Calcasieu","LA",1385]
[null,null,"Caldwell","LA",1386]
[null,null,"Cameron","LA",1387]
[null,null,"Catahoula","LA",1388]
[null,null,"Claiborne","LA",1389]
[null,null,"Concordia","LA",1390]
[null,null,"De Soto","LA",1391]
[null,null,"East Baton Rouge","LA",1392]
[null,null,"East Carroll","LA",1393]
[null,null,"East Feliciana","LA",1394]
[null,null,"Evangeline","LA",1395]
[null,null,"Franklin","LA",1396]
[null,null,"Grant","LA",1397]
[null,null,"Iberia","LA",1398]
[null,null,"Iberville","LA",1399]
[null,null,"Jackson","LA",1400]
[null,null,"Jefferson","LA",1401]
[null,null,"Jefferson Davis","LA",1402]
[null,null,"Lafayette","LA",1403]
[null,null,"Lafourche","LA",1404]
[null,null,"La Salle","LA",1405]
[null,null,"Lincoln","LA",1406]
[null,null,"Livingston","LA",1407]
[null,null,"Madison","LA",1408]
[null,null,"Morehouse","LA",1409]
[null,null,"Natchitoches","LA",1410]
[null,null,"Orleans","LA",1411]
[null,null,"Ouachita","LA",1412]
[null,null,"Plaquemines","LA",1413]
[null,null,"Pointe Coupee","LA",1414]
[null,null,"Rapides","LA",1415]
[null,null,"Red River","LA",1416]
[null,null,"Richland","LA",1417]
[null,null,"Sabine","LA",1418]
[null,null,"St. Bernard","LA",{"$f":"ROW(D1419)","v":1419}]
[null,null,"St. Charles","LA",1420]
[null,null,"St. Helena","LA",1421]
[null,null,"St. James","LA",1422]
[null,null,"St. John the Baptist","LA",1423]
[null,null,"St. Landry","LA",1424]
[null,null,"St. Martin","LA",1425]
[null,null,"St. Mary","LA",1426]
[null,null,"St. Tammany","LA",1427]
[null,null,"Tangipahoa","LA",1428]
[null,null,"Tensas","LA",1429]
[null,null,"Terrebonne","LA",1430]
[null,null,"Union","LA",1431]
[null,null,"Vermilion","LA",1432]
[null,null,"Vernon","LA",1433]
[null,null,"Washington","LA",1434]
[null,null,"Webster","LA",1435]
[null,null,"West Baton Rouge","LA",1436]
[null,null,"West Carroll","LA",1437]
[null,null,"West Feliciana","LA",1438]
[null,null,"Winn","LA",1439]
[null,null,"Androscoggin","ME",1440]
[null,null,"Aroostook","ME",1441]
[null,null,"Cumberland","ME",1442]
[null,null,"Franklin","ME",1443]
[null,null,"Hancock","ME",1444]
[null,null,"Kennebec","ME",1445]
[null,null,"Knox","ME",1446]
[null,null,"Lincoln","ME",1447]
[null,null,"Oxford","ME",1448]
[null,null,"Penobscot","ME",1449]
[null,null,"Piscataquis","ME",1450]
[null,null,"Sagadahoc","ME",1451]
[null,null,"Somerset","ME",1452]
[null,null,"Waldo","ME",1453]
[null,null,"Washington","ME",1454]
[null,null,"York","ME",1455]
[null,null,"Allegany","MD",1456]
[null,null,"Anne Arundel","MD",1457]
[null,null,"Baltimore","MD",1458]
[null,null,"Calvert","MD",1459]
[null,null,"Caroline","MD",1460]
[null,null,"Carroll","MD",1461]
[null,null,"Cecil","MD",1462]
[null,null,"Charles","MD",1463]
[null,null,"Dorchester","MD",1464]
[null,null,"Frederick","MD",1465]
[null,null,"Garrett","MD",1466]
[null,null,"Harford","MD",1467]
[null,null,"Howard","MD",1468]
[null,null,"Kent","MD",1469]
[null,null,"Montgomery","MD",1470]
[null,null,"Prince George's","MD",1471]
[null,null,"Queen Anne's","MD",1472]
[null,null,"St. Mary's","MD",1473]
[null,null,"Somerset","MD",1474]
[null,null,"Talbot","MD",1475]
[null,null,"Washington","MD",1476]
[null,null,"Wicomico","MD",1477]
[null,null,"Worcester","MD",1478]
[null,null,"Baltimore city","MD",1479]
[null,null,"Barnstable","MA",1480]
[null,null,"Berkshire","MA",1481]
[null,null,"Bristol","MA",1482]
[null,null,"Dukes","MA",{"$f":"ROW(D1483)","v":1483}]
[null,null,"Essex","MA",1484]
[null,null,"Franklin","MA",1485]
[null,null,"Hampden","MA",1486]
[null,null,"Hampshire","MA",1487]
[null,null,"Middlesex","MA",1488]
[null,null,"Nantucket","MA",1489]
[null,null,"Norfolk","MA",1490]
[null,null,"Plymouth","MA",1491]
[null,null,"Suffolk","MA",1492]
[null,null,"Worcester","MA",1493]
[null,null,"Alcona","MI",1494]
[null,null,"Alger","MI",1495]
[null,null,"Allegan","MI",1496]
[null,null,"Alpena","MI",1497]
[null,null,"Antrim","MI",1498]
[null,null,"Arenac","MI",1499]
[null,null,"Baraga","MI",1500]
[null,null,"Barry","MI",1501]
[null,null,"Bay","MI",1502]
[null,null,"Benzie","MI",1503]
[null,null,"Berrien","MI",1504]
[null,null,"Branch","MI",1505]
[null,null,"Calhoun","MI",1506]
[null,null,"Cass","MI",1507]
[null,null,"Charlevoix","MI",1508]
[null,null,"Cheboygan","MI",1509]
[null,null,"Chippewa","MI",1510]
[null,null,"Clare","MI",1511]
[null,null,"Clinton","MI",1512]
[null,null,"Crawford","MI",1513]
[null,null,"Delta","MI",1514]
[null,null,"Dickinson","MI",1515]
[null,null,"Eaton","MI",1516]
[null,null,"Emmet","MI",1517]
[null,null,"Genesee","MI",1518]
[null,null,"Gladwin","MI",1519]
[null,null,"Gogebic","MI",1520]
[null,null,"Grand Traverse","MI",1521]
[null,null,"Gratiot","MI",1522]
[null,null,"Hillsdale","MI",1523]
[null,null,"Houghton","MI",1524]
[null,null,"Huron","MI",1525]
[null,null,"Ingham","MI",1526]
[null,null,"Ionia","MI",1527]
[null,null,"Iosco","MI",1528]
[null,null,"Iron","MI",1529]
[null,null,"Isabella","MI",1530]
[null,null,"Jackson","MI",1531]
[null,null,"Kalamazoo","MI",1532]
[null,null,"Kalkaska","MI",1533]
[null,null,"Kent","MI",1534]
[null,null,"Keweenaw","MI",1535]
[null,null,"Lake","MI",1536]
[null,null,"Lapeer","MI",1537]
[null,null,"Leelanau","MI",1538]
[null,null,"Lenawee","MI",1539]
[null,null,"Livingston","MI",1540]
[null,null,"Luce","MI",1541]
[null,null,"Mackinac","MI",1542]
[null,null,"Macomb","MI",1543]
[null,null,"Manistee","MI",1544]
[null,null,"Marquette","MI",1545]
[null,null,"Mason","MI",1546]
[null,null,"Mecosta","MI",{"$f":"ROW(D1547)","v":1547}]
[null,null,"Menominee","MI",1548]
[null,null,"Midland","MI",1549]
[null,null,"Missaukee","MI",1550]
[null,null,"Monroe","MI",1551]
[null,null,"Montcalm","MI",1552]
[null,null,"Montmorency","MI",1553]
[null,null,"Muskegon","MI",1554]
[null,null,"Newaygo","MI",1555]
[null,null,"Oakland","MI",1556]
[null,null,"Oceana","MI",1557]
[null,null,"Ogemaw","MI",1558]
[null,null,"Ontonagon","MI",1559]
[null,null,"Osceola","MI",1560]
[null,null,"Oscoda","MI",1561]
[null,null,"Otsego","MI",1562]
[null,null,"Ottawa","MI",1563]
[null,null,"Presque Isle","MI",1564]
[null,null,"Roscommon","MI",1565]
[null,null,"Saginaw","MI",1566]
[null,null,"St. Clair","MI",1567]
[null,null,"St. Joseph","MI",1568]
[null,null,"Sanilac","MI",1569]
[null,null,"Schoolcraft","MI",1570]
[null,null,"Shiawassee","MI",1571]
[null,null,"Tuscola","MI",1572]
[null,null,"Van Buren","MI",1573]
[null,null,"Washtenaw","MI",1574]
[null,null,"Wayne","MI",1575]
[null,null,"Wexford","MI",1576]
[null,null,"Aitkin","MN",1577]
[null,null,"Anoka","MN",1578]
[null,null,"Becker","MN",1579]
[null,null,"Beltrami","MN",1580]
[null,null,"Benton","MN",1581]
[null,null,"Big Stone","MN",1582]
[null,null,"Blue Earth","MN",1583]
[null,null,"Brown","MN",1584]
[null,null,"Carlton","MN",1585]
[null,null,"Carver","MN",1586]
[null,null,"Cass","MN",1587]
[null,null,"Chippewa","MN",1588]
[null,null,"Chisago","MN",1589]
[null,null,"Clay","MN",1590]
[null,null,"Clearwater","MN",1591]
[null,null,"Cook","MN",1592]
[null,null,"Cottonwood","MN",1593]
[null,null,"Crow Wing","MN",1594]
[null,null,"Dakota","MN",1595]
[null,null,"Dodge","MN",1596]
[null,null,"Douglas","MN",1597]
[null,null,"Faribault","MN",1598]
[null,null,"Fillmore","MN",1599]
[null,null,"Freeborn","MN",1600]
[null,null,"Goodhue","MN",1601]
[null,null,"Grant","MN",1602]
[null,null,"Hennepin","MN",1603]
[null,null,"Houston","MN",1604]
[null,null,"Hubbard","MN",1605]
[null,null,"Isanti","MN",1606]
[null,null,"Itasca","MN",1607]
[null,null,"Jackson","MN",1608]
[null,null,"Kanabec","MN",1609]
[null,null,"Kandiyohi","MN",1610]
[null,null,"Kittson","MN",{"$f":"ROW(D1611)","v":1611}]
[null,null,"Koochiching","MN",1612]
[null,null,"Lac qui Parle","MN",1613]
[null,null,"Lake","MN",1614]
[null,null,"Lake of the Woods","MN",1615]
[null,null,"Le Sueur","MN",1616]
[null,null,"Lincoln","MN",1617]
[null,null,"Lyon","MN",1618]
[null,null,"McLeod","MN",1619]
[null,null,"Mahnomen","MN",1620]
[null,null,"Marshall","MN",1621]
[null,null,"Martin","MN",1622]
[null,null,"Meeker","MN",1623]
[null,null,"Mille Lacs","MN",1624]
[null,null,"Morrison","MN",1625]
[null,null,"Mower","MN",1626]
[null,null,"Murray","MN",1627]
[null,null,"Nicollet","MN",1628]
[null,null,"Nobles","MN",1629]
[null,null,"Norman","MN",1630]
[null,null,"Olmsted","MN",1631]
[null,null,"Otter Tail","MN",1632]
[null,null,"Pennington","MN",1633]
[null,null,"Pine","MN",1634]
[null,null,"Pipestone","MN",1635]
[null,null,"Polk","MN",1636]
[null,null,"Pope","MN",1637]
[null,null,"Ramsey","MN",1638]
[null,null,"Red Lake","MN",1639]
[null,null,"Redwood","MN",1640]
[null,null,"Renville","MN",1641]
[null,null,"Rice","MN",1642]
[null,null,"Rock","MN",1643]
[null,null,"Roseau","MN",1644]
[null,null,"St. Louis","MN",1645]
[null,null,"Scott","MN",1646]
[null,null,"Sherburne","MN",1647]
[null,null,"Sibley","MN",1648]
[null,null,"Stearns","MN",1649]
[null,null,"Steele","MN",1650]
[null,null,"Stevens","MN",1651]
[null,null,"Swift","MN",1652]
[null,null,"Todd","MN",1653]
[null,null,"Traverse","MN",1654]
[null,null,"Wabasha","MN",1655]
[null,null,"Wadena","MN",1656]
[null,null,"Waseca","MN",1657]
[null,null,"Washington","MN",1658]
[null,null,"Watonwan","MN",1659]
[null,null,"Wilkin","MN",1660]
[null,null,"Winona","MN",1661]
[null,null,"Wright","MN",1662]
[null,null,"Yellow Medicine","MN",1663]
[null,null,"Adams","MS",1664]
[null,null,"Alcorn","MS",1665]
[null,null,"Amite","MS",1666]
[null,null,"Attala","MS",1667]
[null,null,"Benton","MS",1668]
[null,null,"Bolivar","MS",1669]
[null,null,"Calhoun","MS",1670]
[null,null,"Carroll","MS",1671]
[null,null,"Chickasaw","MS",1672]
[null,null,"Choctaw","MS",1673]
[null,null,"Claiborne","MS",1674]
[null,null,"Clarke","MS",{"$f":"ROW(D1675)","v":1675}]
[null,null,"Clay","MS",1676]
[null,null,"Coahoma","MS",1677]
[null,null,"Copiah","MS",1678]
[null,null,"Covington","MS",1679]
[null,null,"DeSoto","MS",1680]
[null,null,"Forrest","MS",1681]
[null,null,"Franklin","MS",1682]
[null,null,"George","MS",1683]
[null,null,"Greene","MS",1684]
[null,null,"Grenada","MS",1685]
[null,null,"Hancock","MS",1686]
[null,null,"Harrison","MS",1687]
[null,null,"Hinds","MS",1688]
[null,null,"Holmes","MS",1689]
[null,null,"Humphreys","MS",1690]
[null,null,"Issaquena","MS",1691]
[null,null,"Itawamba","MS",1692]
[null,null,"Jackson","MS",1693]
[null,null,"Jasper","MS",1694]
[null,null,"Jefferson","MS",1695]
[null,null,"Jefferson Davis","MS",1696]
[null,null,"Jones","MS",1697]
[null,null,"Kemper","MS",1698]
[null,null,"Lafayette","MS",1699]
[null,null,"Lamar","MS",1700]
[null,null,"Lauderdale","MS",1701]
[null,null,"Lawrence","MS",1702]
[null,null,"Leake","MS",1703]
[null,null,"Lee","MS",1704]
[null,null,"Leflore","MS",1705]
[null,null,"Lincoln","MS",1706]
[null,null,"Lowndes","MS",1707]
[null,null,"Madison","MS",1708]
[null,null,"Marion","MS",1709]
[null,null,"Marshall","MS",1710]
[null,null,"Monroe","MS",1711]
[null,null,"Montgomery","MS",1712]
[null,null,"Neshoba","MS",1713]
[null,null,"Newton","MS",1714]
[null,null,"Noxubee","MS",1715]
[null,null,"Oktibbeha","MS",1716]
[null,null,"Panola","MS",1717]
[null,null,"Pearl River","MS",1718]
[null,null,"Perry","MS",1719]
[null,null,"Pike","MS",1720]
[null,null,"Pontotoc","MS",1721]
[null,null,"Prentiss","MS",1722]
[null,null,"Quitman","MS",1723]
[null,null,"Rankin","MS",1724]
[null,null,"Scott","MS",1725]
[null,null,"Sharkey","MS",1726]
[null,null,"Simpson","MS",1727]
[null,null,"Smith","MS",1728]
[null,null,"Stone","MS",1729]
[null,null,"Sunflower","MS",1730]
[null,null,"Tallahatchie","MS",1731]
[null,null,"Tate","MS",1732]
[null,null,"Tippah","MS",1733]
[null,null,"Tishomingo","MS",1734]
[null,null,"Tunica","MS",1735]
[null,null,"Union","MS",1736]
[null,null,"Walthall","MS",1737]
[null,null,"Warren","MS",1738]
[null,null,"Washington","MS",{"$f":"ROW(D1739)","v":1739}]
[null,null,"Wayne","MS",1740]
[null,null,"Webster","MS",1741]
[null,null,"Wilkinson","MS",1742]
[null,null,"Winston","MS",1743]
[null,null,"Yalobusha","MS",1744]
[null,null,"Yazoo","MS",1745]
[null,null,"Adair","MO",1746]
[null,null,"Andrew","MO",1747]
[null,null,"Atchison","MO",1748]
[null,null,"Audrain","MO",1749]
[null,null,"Barry","MO",1750]
[null,null,"Barton","MO",1751]
[null,null,"Bates","MO",1752]
[null,null,"Benton","MO",1753]
[null,null,"Bollinger","MO",1754]
[null,null,"Boone","MO",1755]
[null,null,"Buchanan","MO",1756]
[null,null,"Butler","MO",1757]
[null,null,"Caldwell","MO",1758]
[null,null,"Callaway","MO",1759]
[null,null,"Camden","MO",1760]
[null,null,"Cape Girardeau","MO",1761]
[null,null,"Carroll","MO",1762]
[null,null,"Carter","MO",1763]
[null,null,"Cass","MO",1764]
[null,null,"Cedar","MO",1765]
[null,null,"Chariton","MO",1766]
[null,null,"Christian","MO",1767]
[null,null,"Clark","MO",1768]
[null,null,"Clay","MO",1769]
[null,null,"Clinton","MO",1770]
[null,null,"Cole","MO",1771]
[null,null,"Cooper","MO",1772]
[null,null,"Crawford","MO",1773]
[null,null,"Dade","MO",1774]
[null,null,"Dallas","MO",1775]
[null,null,"Daviess","MO",1776]
[null,null,"De Kalb","MO",1777]
[null,null,"Dent","MO",1778]
[null,null,"Douglas","MO",1779]
[null,null,"Dunklin","MO",1780]
[null,null,"Franklin","MO",1781]
[null,null,"Gasconade","MO",1782]
[null,null,"Gentry","MO",1783]
[null,null,"Greene","MO",1784]
[null,null,"Grundy","MO",1785]
[null,null,"Harrison","MO",1786]
[null,null,"Henry","MO",1787]
[null,null,"Hickory","MO",1788]
[null,null,"Holt","MO",1789]
[null,null,"Howard","MO",1790]
[null,null,"Howell","MO",1791]
[null,null,"Iron","MO",1792]
[null,null,"Jackson","MO",1793]
[null,null,"Jasper","MO",1794]
[null,null,"Jefferson","MO",1795]
[null,null,"Johnson","MO",1796]
[null,null,"Knox","MO",1797]
[null,null,"Laclede","MO",1798]
[null,null,"Lafayette","MO",1799]
[null,null,"Lawrence","MO",1800]
[null,null,"Lewis","MO",1801]
[null,null,"Lincoln","MO",1802]
[null,null,"Linn","MO",{"$f":"ROW(D1803)","v":1803}]
[null,null,"Livingston","MO",1804]
[null,null,"McDonald","MO",1805]
[null,null,"Macon","MO",1806]
[null,null,"Madison","MO",1807]
[null,null,"Maries","MO",1808]
[null,null,"Marion","MO",1809]
[null,null,"Mercer","MO",1810]
[null,null,"Miller","MO",1811]
[null,null,"Mississippi","MO",1812]
[null,null,"Moniteau","MO",1813]
[null,null,"Monroe","MO",1814]
[null,null,"Montgomery","MO",1815]
[null,null,"Morgan","MO",1816]
[null,null,"New Madrid","MO",1817]
[null,null,"Newton","MO",1818]
[null,null,"Nodaway","MO",1819]
[null,null,"Oregon","MO",1820]
[null,null,"Osage","MO",1821]
[null,null,"Ozark","MO",1822]
[null,null,"Pemiscot","MO",1823]
[null,null,"Perry","MO",1824]
[null,null,"Pettis","MO",1825]
[null,null,"Phelps","MO",1826]
[null,null,"Pike","MO",1827]
[null,null,"Platte","MO",1828]
[null,null,"Polk","MO",1829]
[null,null,"Pulaski","MO",1830]
[null,null,"Putnam","MO",1831]
[null,null,"Ralls","MO",1832]
[null,null,"Randolph","MO",1833]
[null,null,"Ray","MO",1834]
[null,null,"Reynolds","MO",1835]
[null,null,"Ripley","MO",1836]
[null,null,"St. Charles","MO",1837]
[null,null,"St. Clair","MO",1838]
[null,null,"Ste. Genevieve","MO",1839]
[null,null,"St. Francois","MO",1840]
[null,null,"St. Louis","MO",1841]
[null,null,"Saline","MO",1842]
[null,null,"Schuyler","MO",1843]
[null,null,"Scotland","MO",1844]
[null,null,"Scott","MO",1845]
[null,null,"Shannon","MO",1846]
[null,null,"Shelby","MO",1847]
[null,null,"Stoddard","MO",1848]
[null,null,"Stone","MO",1849]
[null,null,"Sullivan","MO",1850]
[null,null,"Taney","MO",1851]
[null,null,"Texas","MO",1852]
[null,null,"Vernon","MO",1853]
[null,null,"Warren","MO",1854]
[null,null,"Washington","MO",1855]
[null,null,"Wayne","MO",1856]
[null,null,"Webster","MO",1857]
[null,null,"Worth","MO",1858]
[null,null,"Wright","MO",1859]
[null,null,"St. Louis city","MO",1860]
[null,null,"Beaverhead","MT",1861]
[null,null,"Big Horn","MT",1862]
[null,null,"Blaine","MT",1863]
[null,null,"Broadwater","MT",1864]
[null,null,"Carbon","MT",1865]
[null,null,"Carter","MT",1866]
[null,null,"Cascade","MT",{"$f":"ROW(D1867)","v":1867}]
[null,null,"Chouteau","MT",1868]
[null,null,"Custer","MT",1869]
[null,null,"Daniels","MT",1870]
[null,null,"Dawson","MT",1871]
[null,null,"Deer Lodge","MT",1872]
[null,null,"Fallon","MT",1873]
[null,null,"Fergus","MT",1874]
[null,null,"Flathead","MT",1875]
[null,null,"Gallatin","MT",1876]
[null,null,"Garfield","MT",1877]
[null,null,"Glacier","MT",1878]
[null,null,"Golden Valley","MT",1879]
[null,null,"Granite","MT",1880]
[null,null,"Hill","MT",1881]
[null,null,"Jefferson","MT",1882]
[null,null,"Judith Basin","MT",1883]
[null,null,"Lake","MT",1884]
[null,null,"Lewis and Clark","MT",1885]
[null,null,"Liberty","MT",1886]
[null,null,"Lincoln","MT",1887]
[null,null,"McCone","MT",1888]
[null,null,"Madison","MT",1889]
[null,null,"Meagher","MT",1890]
[null,null,"Mineral","MT",1891]
[null,null,"Missoula","MT",1892]
[null,null,"Musselshell","MT",1893]
[null,null,"Park","MT",1894]
[null,null,"Petroleum","MT",1895]
[null,null,"Phillips","MT",1896]
[null,null,"Pondera","MT",1897]
[null,null,"Powder River","MT",1898]
[null,null,"Powell","MT",1899]
[null,null,"Prairie","MT",1900]
[null,null,"Ravalli","MT",1901]
[null,null,"Richland","MT",1902]
[null,null,"Roosevelt","MT",1903]
[null,null,"Rosebud","MT",1904]
[null,null,"Sanders","MT",1905]
[null,null,"Sheridan","MT",1906]
[null,null,"Silver Bow","MT",1907]
[null,null,"Stillwater","MT",1908]
[null,null,"Sweet Grass","MT",1909]
[null,null,"Teton","MT",1910]
[null,null,"Toole","MT",1911]
[null,null,"Treasure","MT",1912]
[null,null,"Valley","MT",1913]
[null,null,"Wheatland","MT",1914]
[null,null,"Wibaux","MT",1915]
[null,null,"Yellowstone","MT",1916]
[null,null,"Yellowstone Nat. Park","MT",1917]
[null,null,"Adams","NE",1918]
[null,null,"Antelope","NE",1919]
[null,null,"Arthur","NE",1920]
[null,null,"Banner","NE",1921]
[null,null,"Blaine","NE",1922]
[null,null,"Boone","NE",1923]
[null,null,"Box Butte","NE",1924]
[null,null,"Boyd","NE",1925]
[null,null,"Brown","NE",1926]
[null,null,"Buffalo","NE",1927]
[null,null,"Burt","NE",1928]
[null,null,"Butler","NE",1929]
[null,null,"Cass","NE",1930]
[null,null,"Cedar","NE",{"$f":"ROW(D1931)","v":1931}]
[null,null,"Chase","NE",1932]
[null,null,"Cherry","NE",1933]
[null,null,"Cheyenne","NE",1934]
[null,null,"Clay","NE",1935]
[null,null,"Colfax","NE",1936]
[null,null,"Cuming","NE",1937]
[null,null,"Custer","NE",1938]
[null,null,"Dakota","NE",1939]
[null,null,"Dawes","NE",1940]
[null,null,"Dawson","NE",1941]
[null,null,"Deuel","NE",1942]
[null,null,"Dixon","NE",1943]
[null,null,"Dodge","NE",1944]
[null,null,"Douglas","NE",1945]
[null,null,"Dundy","NE",1946]
[null,null,"Fillmore","NE",1947]
[null,null,"Franklin","NE",1948]
[null,null,"Frontier","NE",1949]
[null,null,"Furnas","NE",1950]
[null,null,"Gage","NE",1951]
[null,null,"Garden","NE",1952]
[null,null,"Garfield","NE",1953]
[null,null,"Gosper","NE",1954]
[null,null,"Grant","NE",1955]
[null,null,"Greeley","NE",1956]
[null,null,"Hall","NE",1957]
[null,null,"Hamilton","NE",1958]
[null,null,"Harlan","NE",1959]
[null,null,"Hayes","NE",1960]
[null,null,"Hitchcock","NE",1961]
[null,null,"Holt","NE",1962]
[null,null,"Hooker","NE",1963]
[null,null,"Howard","NE",1964]
[null,null,"Jefferson","NE",1965]
[null,null,"Johnson","NE",1966]
[null,null,"Kearney","NE",1967]
[null,null,"Keith","NE",1968]
[null,null,"Keya Paha","NE",1969]
[null,null,"Kimball","NE",1970]
[null,null,"Knox","NE",1971]
[null,null,"Lancaster","NE",1972]
[null,null,"Lincoln","NE",1973]
[null,null,"Logan","NE",1974]
[null,null,"Loup","NE",1975]
[null,null,"McPherson","NE",1976]
[null,null,"Madison","NE",1977]
[null,null,"Merrick","NE",1978]
[null,null,"Morrill","NE",1979]
[null,null,"Nance","NE",1980]
[null,null,"Nemaha","NE",1981]
[null,null,"Nuckolls","NE",1982]
[null,null,"Otoe","NE",1983]
[null,null,"Pawnee","NE",1984]
[null,null,"Perkins","NE",1985]
[null,null,"Phelps","NE",1986]
[null,null,"Pierce","NE",1987]
[null,null,"Platte","NE",1988]
[null,null,"Polk","NE",1989]
[null,null,"Red Willow","NE",1990]
[null,null,"Richardson","NE",1991]
[null,null,"Rock","NE",1992]
[null,null,"Saline","NE",1993]
[null,null,"Sarpy","NE",1994]
[null,null,"Saunders","NE",{"$f":"ROW(D1995)","v":1995}]
[null,null,"Scotts Bluff","NE",1996]
[null,null,"Seward","NE",1997]
[null,null,"Sheridan","NE",1998]
[null,null,"Sherman","NE",1999]
[null,null,"Sioux","NE",2000]
[null,null,"Stanton","NE",2001]
[null,null,"Thayer","NE",2002]
[null,null,"Thomas","NE",2003]
[null,null,"Thurston","NE",2004]
[null,null,"Valley","NE",2005]
[null,null,"Washington","NE",2006]
[null,null,"Wayne","NE",2007]
[null,null,"Webster","NE",2008]
[null,null,"Wheeler","NE",2009]
[null,null,"York","NE",2010]
[null,null,"Churchill","NV",2011]
[null,null,"Clark","NV",2012]
[null,null,"Douglas","NV",2013]
[null,null,"Elko","NV",2014]
[null,null,"Esmeralda","NV",2015]
[null,null,"Eureka","NV",2016]
[null,null,"Humboldt","NV",2017]
[null,null,"Lander","NV",2018]
[null,null,"Lincoln","NV",2019]
[null,null,"Lyon","NV",2020]
[null,null,"Mineral","NV",2021]
[null,null,"Nye","NV",2022]
[null,null,"Pershing","NV",2023]
[null,null,"Storey","NV",2024]
[null,null,"Washoe","NV",2025]
[null,null,"White Pine","NV",2026]
[null,null,"Carson City city","NV",2027]
[null,null,"Belknap","NH",2028]
[null,null,"Carroll","NH",2029]
[null,null,"Cheshire","NH",2030]
[null,null,"Coos","NH",2031]
[null,null,"Grafton","NH",2032]
[null,null,"Hillsborough","NH",2033]
[null,null,"Merrimack","NH",2034]
[null,null,"Rockingham","NH",2035]
[null,null,"Strafford","NH",2036]
[null,null,"Sullivan","NH",2037]
[null,null,"Atlantic","NJ",2038]
[null,null,"Bergen","NJ",2039]
[null,null,"Burlington","NJ",2040]
[null,null,"Camden","NJ",2041]
[null,null,"Cape May","NJ",2042]
[null,null,"Cumberland","NJ",2043]
[null,null,"Essex","NJ",2044]
[null,null,"Gloucester","NJ",2045]
[null,null,"Hudson","NJ",2046]
[null,null,"Hunterdon","NJ",2047]
[null,null,"Mercer","NJ",2048]
[null,null,"Middlesex","NJ",2049]
[null,null,"Monmouth","NJ",2050]
[null,null,"Morris","NJ",2051]
[null,null,"Ocean","NJ",2052]
[null,null,"Passaic","NJ",2053]
[null,null,"Salem","NJ",2054]
[null,null,"Somerset","NJ",2055]
[null,null,"Sussex","NJ",2056]
[null,null,"Union","NJ",2057]
[null,null,"Warren","NJ",2058]
[null,null,"Bernalillo","NM",{"$f":"ROW(D2059)","v":2059}]
[null,null,"Catron","NM",2060]
[null,null,"Chaves","NM",2061]
[null,null,"Cibola","NM",2062]
[null,null,"Colfax","NM",2063]
[null,null,"Curry","NM",2064]
[null,null,"De Baca","NM",2065]
[null,null,"Dona Ana","NM",2066]
[null,null,"Eddy","NM",2067]
[null,null,"Grant","NM",2068]
[null,null,"Guadalupe","NM",2069]
[null,null,"Harding","NM",2070]
[null,null,"Hidalgo","NM",2071]
[null,null,"Lea","NM",2072]
[null,null,"Lincoln","NM",2073]
[null,null,"Los Alamos","NM",2074]
[null,null,"Luna","NM",2075]
[null,null,"McKinley","NM",2076]
[null,null,"Mora","NM",2077]
[null,null,"Otero","NM",2078]
[null,null,"Quay","NM",2079]
[null,null,"Rio Arriba","NM",2080]
[null,null,"Roosevelt","NM",2081]
[null,null,"Sandoval","NM",2082]
[null,null,"San Juan","NM",2083]
[null,null,"San Miguel","NM",2084]
[null,null,"Santa Fe","NM",2085]
[null,null,"Sierra","NM",2086]
[null,null,"Socorro","NM",2087]
[null,null,"Taos","NM",2088]
[null,null,"Torrance","NM",2089]
[null,null,"Union","NM",2090]
[null,null,"Valencia","NM",2091]
[null,null,"Albany","NY",2092]
[null,null,"Allegany","NY",2093]
[null,null,"Bronx","NY",2094]
[null,null,"Broome","NY",2095]
[null,null,"Cattaraugus","NY",2096]
[null,null,"Cayuga","NY",2097]
[null,null,"Chautauqua","NY",2098]
[null,null,"Chemung","NY",2099]
[null,null,"Chenango","NY",2100]
[null,null,"Clinton","NY",2101]
[null,null,"Columbia","NY",2102]
[null,null,"Cortland","NY",2103]
[null,null,"Delaware","NY",2104]
[null,null,"Dutchess","NY",2105]
[null,null,"Erie","NY",2106]
[null,null,"Essex","NY",2107]
[null,null,"Franklin","NY",2108]
[null,null,"Fulton","NY",2109]
[null,null,"Genesee","NY",2110]
[null,null,"Greene","NY",2111]
[null,null,"Hamilton","NY",2112]
[null,null,"Herkimer","NY",2113]
[null,null,"Jefferson","NY",2114]
[null,null,"Kings","NY",2115]
[null,null,"Lewis","NY",2116]
[null,null,"Livingston","NY",2117]
[null,null,"Madison","NY",2118]
[null,null,"Monroe","NY",2119]
[null,null,"Montgomery","NY",2120]
[null,null,"Nassau","NY",2121]
[null,null,"New York","NY",2122]
[null,null,"Niagara","NY",{"$f":"ROW(D2123)","v":2123}]
[null,null,"Oneida","NY",2124]
[null,null,"Onondaga","NY",2125]
[null,null,"Ontario","NY",2126]
[null,null,"Orange","NY",2127]
[null,null,"Orleans","NY",2128]
[null,null,"Oswego","NY",2129]
[null,null,"Otsego","NY",2130]
[null,null,"Putnam","NY",2131]
[null,null,"Queens","NY",2132]
[null,null,"Rensselaer","NY",2133]
[null,null,"Richmond","NY",2134]
[null,null,"Rockland","NY",2135]
[null,null,"St. Lawrence","NY",2136]
[null,null,"Saratoga","NY",2137]
[null,null,"Schenectady","NY",2138]
[null,null,"Schoharie","NY",2139]
[null,null,"Schuyler","NY",2140]
[null,null,"Seneca","NY",2141]
[null,null,"Steuben","NY",2142]
[null,null,"Suffolk","NY",2143]
[null,null,"Sullivan","NY",2144]
[null,null,"Tioga","NY",2145]
[null,null,"Tompkins","NY",2146]
[null,null,"Ulster","NY",2147]
[null,null,"Warren","NY",2148]
[null,null,"Washington","NY",2149]
[null,null,"Wayne","NY",2150]
[null,null,"Westchester","NY",2151]
[null,null,"Wyoming","NY",2152]
[null,null,"Yates","NY",2153]
[null,null,"Alamance","NC",2154]
[null,null,"Alexander","NC",2155]
[null,null,"Alleghany","NC",2156]
[null,null,"Anson","NC",2157]
[null,null,"Ashe","NC",2158]
[null,null,"Avery","NC",2159]
[null,null,"Beaufort","NC",2160]
[null,null,"Bertie","NC",2161]
[null,null,"Bladen","NC",2162]
[null,null,"Brunswick","NC",2163]
[null,null,"Buncombe","NC",2164]
[null,null,"Burke","NC",2165]
[null,null,"Cabarrus","NC",2166]
[null,null,"Caldwell","NC",2167]
[null,null,"Camden","NC",2168]
[null,null,"Carteret","NC",2169]
[null,null,"Caswell","NC",2170]
[null,null,"Catawba","NC",2171]
[null,null,"Chatham","NC",2172]
[null,null,"Cherokee","NC",2173]
[null,null,"Chowan","NC",2174]
[null,null,"Clay","NC",2175]
[null,null,"Cleveland","NC",2176]
[null,null,"Columbus","NC",2177]
[null,null,"Craven","NC",2178]
[null,null,"Cumberland","NC",2179]
[null,null,"Currituck","NC",2180]
[null,null,"Dare","NC",2181]
[null,null,"Davidson","NC",2182]
[null,null,"Davie","NC",2183]
[null,null,"Duplin","NC",2184]
[null,null,"Durham","NC",2185]
[null,null,"Edgecombe","NC",2186]
[null,null,"Forsyth","NC",{"$f":"ROW(D2187)","v":2187}]
[null,null,"Franklin","NC",2188]
[null,null,"Gaston","NC",2189]
[null,null,"Gates","NC",2190]
[null,null,"Graham","NC",2191]
[null,null,"Granville","NC",2192]
[null,null,"Greene","NC",2193]
[null,null,"Guilford","NC",2194]
[null,null,"Halifax","NC",2195]
[null,null,"Harnett","NC",2196]
[null,null,"Haywood","NC",2197]
[null,null,"Henderson","NC",2198]
[null,null,"Hertford","NC",2199]
[null,null,"Hoke","NC",2200]
[null,null,"Hyde","NC",2201]
[null,null,"Iredell","NC",2202]
[null,null,"Jackson","NC",2203]
[null,null,"Johnston","NC",2204]
[null,null,"Jones","NC",2205]
[null,null,"Lee","NC",2206]
[null,null,"Lenoir","NC",2207]
[null,null,"Lincoln","NC",2208]
[null,null,"McDowell","NC",2209]
[null,null,"Macon","NC",2210]
[null,null,"Madison","NC",2211]
[null,null,"Martin","NC",2212]
[null,null,"Mecklenburg","NC",2213]
[null,null,"Mitchell","NC",2214]
[null,null,"Montgomery","NC",2215]
[null,null,"Moore","NC",2216]
[null,null,"Nash","NC",2217]
[null,null,"New Hanover","NC",2218]
[null,null,"Northampton","NC",2219]
[null,null,"Onslow","NC",2220]
[null,null,"Orange","NC",2221]
[null,null,"Pamlico","NC",2222]
[null,null,"Pasquotank","NC",2223]
[null,null,"Pender","NC",2224]
[null,null,"Perquimans","NC",2225]
[null,null,"Person","NC",2226]
[null,null,"Pitt","NC",2227]
[null,null,"Polk","NC",2228]
[null,null,"Randolph","NC",2229]
[null,null,"Richmond","NC",2230]
[null,null,"Robeson","NC",2231]
[null,null,"Rockingham","NC",2232]
[null,null,"Rowan","NC",2233]
[null,null,"Rutherford","NC",2234]
[null,null,"Sampson","NC",2235]
[null,null,"Scotland","NC",2236]
[null,null,"Stanly","NC",2237]
[null,null,"Stokes","NC",2238]
[null,null,"Surry","NC",2239]
[null,null,"Swain","NC",2240]
[null,null,"Transylvania","NC",2241]
[null,null,"Tyrrell","NC",2242]
[null,null,"Union","NC",2243]
[null,null,"Vance","NC",2244]
[null,null,"Wake","NC",2245]
[null,null,"Warren","NC",2246]
[null,null,"Washington","NC",2247]
[null,null,"Watauga","NC",2248]
[null,null,"Wayne","NC",2249]
[null,null,"Wilkes","NC",2250]
[null,null,"Wilson","NC",{"$f":"ROW(D2251)","v":2251}]
[null,null,"Yadkin","NC",2252]
[null,null,"Yancey","NC",2253]
[null,null,"Adams","ND",2254]
[null,null,"Barnes","ND",2255]
[null,null,"Benson","ND",2256]
[null,null,"Billings","ND",2257]
[null,null,"Bottineau","ND",2258]
[null,null,"Bowman","ND",2259]
[null,null,"Burke","ND",2260]
[null,null,"Burleigh","ND",2261]
[null,null,"Cass","ND",2262]
[null,null,"Cavalier","ND",2263]
[null,null,"Dickey","ND",2264]
[null,null,"Divide","ND",2265]
[null,null,"Dunn","ND",2266]
[null,null,"Eddy","ND",2267]
[null,null,"Emmons","ND",2268]
[null,null,"Foster","ND",2269]
[null,null,"Golden Valley","ND",2270]
[null,null,"Grand Forks","ND",2271]
[null,null,"Grant","ND",2272]
[null,null,"Griggs","ND",2273]
[null,null,"Hettinger","ND",2274]
[null,null,"Kidder","ND",2275]
[null,null,"La Moure","ND",2276]
[null,null,"Logan","ND",2277]
[null,null,"McHenry","ND",2278]
[null,null,"McIntosh","ND",2279]
[null,null,"McKenzie","ND",2280]
[null,null,"McLean","ND",2281]
[null,null,"Mercer","ND",2282]
[null,null,"Morton","ND",2283]
[null,null,"Mountrail","ND",2284]
[null,null,"Nelson","ND",2285]
[null,null,"Oliver","ND",2286]
[null,null,"Pembina","ND",2287]
[null,null,"Pierce","ND",2288]
[null,null,"Ramsey","ND",2289]
[null,null,"Ransom","ND",2290]
[null,null,"Renville","ND",2291]
[null,null,"Richland","ND",2292]
[null,null,"Rolette","ND",2293]
[null,null,"Sargent","ND",2294]
[null,null,"Sheridan","ND",2295]
[null,null,"Sioux","ND",2296]
[null,null,"Slope","ND",2297]
[null,null,"Stark","ND",2298]
[null,null,"Steele","ND",2299]
[null,null,"Stutsman","ND",2300]
[null,null,"Towner","ND",2301]
[null,null,"Traill","ND",2302]
[null,null,"Walsh","ND",2303]
[null,null,"Ward","ND",2304]
[null,null,"Wells","ND",2305]
[null,null,"Williams","ND",2306]
[null,null,"Adams","OH",2307]
[null,null,"Allen","OH",2308]
[null,null,"Ashland","OH",2309]
[null,null,"Ashtabula","OH",2310]
[null,null,"Athens","OH",2311]
[null,null,"Auglaize","OH",2312]
[null,null,"Belmont","OH",2313]
[null,null,"Brown","OH",2314]
[null,null,"Butler","OH",{"$f":"ROW(D2315)","v":2315}]
[null,null,"Carroll","OH",2316]
[null,null,"Champaign","OH",2317]
[null,null,"Clark","OH",2318]
[null,null,"Clermont","OH",2319]
[null,null,"Clinton","OH",2320]
[null,null,"Columbiana","OH",2321]
[null,null,"Coshocton","OH",2322]
[null,null,"Crawford","OH",2323]
[null,null,"Cuyahoga","OH",2324]
[null,null,"Darke","OH",2325]
[null,null,"Defiance","OH",2326]
[null,null,"Delaware","OH",2327]
[null,null,"Erie","OH",2328]
[null,null,"Fairfield","OH",2329]
[null,null,"Fayette","OH",2330]
[null,null,"Franklin","OH",2331]
[null,null,"Fulton","OH",2332]
[null,null,"Gallia","OH",2333]
[null,null,"Geauga","OH",2334]
[null,null,"Greene","OH",2335]
[null,null,"Guernsey","OH",2336]
[null,null,"Hamilton","OH",2337]
[null,null,"Hancock","OH",2338]
[null,null,"Hardin","OH",2339]
[null,null,"Harrison","OH",2340]
[null,null,"Henry","OH",2341]
[null,null,"Highland","OH",2342]
[null,null,"Hocking","OH",2343]
[null,null,"Holmes","OH",2344]
[null,null,"Huron","OH",2345]
[null,null,"Jackson","OH",2346]
[null,null,"Jefferson","OH",2347]
[null,null,"Knox","OH",2348]
[null,null,"Lake","OH",2349]
[null,null,"Lawrence","OH",2350]
[null,null,"Licking","OH",2351]
[null,null,"Logan","OH",2352]
[null,null,"Lorain","OH",2353]
[null,null,"Lucas","OH",2354]
[null,null,"Madison","OH",2355]
[null,null,"Mahoning","OH",2356]
[null,null,"Marion","OH",2357]
[null,null,"Medina","OH",2358]
[null,null,"Meigs","OH",2359]
[null,null,"Mercer","OH",2360]
[null,null,"Miami","OH",2361]
[null,null,"Monroe","OH",2362]
[null,null,"Montgomery","OH",2363]
[null,null,"Morgan","OH",2364]
[null,null,"Morrow","OH",2365]
[null,null,"Muskingum","OH",2366]
[null,null,"Noble","OH",2367]
[null,null,"Ottawa","OH",2368]
[null,null,"Paulding","OH",2369]
[null,null,"Perry","OH",2370]
[null,null,"Pickaway","OH",2371]
[null,null,"Pike","OH",2372]
[null,null,"Portage","OH",2373]
[null,null,"Preble","OH",2374]
[null,null,"Putnam","OH",2375]
[null,null,"Richland","OH",2376]
[null,null,"Ross","OH",2377]
[null,null,"Sandusky","OH",2378]
[null,null,"Scioto","OH",{"$f":"ROW(D2379)","v":2379}]
[null,null,"Seneca","OH",2380]
[null,null,"Shelby","OH",2381]
[null,null,"Stark","OH",2382]
[null,null,"Summit","OH",2383]
[null,null,"Trumbull","OH",2384]
[null,null,"Tuscarawas","OH",2385]
[null,null,"Union","OH",2386]
[null,null,"Van Wert","OH",2387]
[null,null,"Vinton","OH",2388]
[null,null,"Warren","OH",2389]
[null,null,"Washington","OH",2390]
[null,null,"Wayne","OH",2391]
[null,null,"Williams","OH",2392]
[null,null,"Wood","OH",2393]
[null,null,"Wyandot","OH",2394]
[null,null,"Adair","OK",2395]
[null,null,"Alfalfa","OK",2396]
[null,null,"Atoka","OK",2397]
[null,null,"Beaver","OK",2398]
[null,null,"Beckham","OK",2399]
[null,null,"Blaine","OK",2400]
[null,null,"Bryan","OK",2401]
[null,null,"Caddo","OK",2402]
[null,null,"Canadian","OK",2403]
[null,null,"Carter","OK",2404]
[null,null,"Cherokee","OK",2405]
[null,null,"Choctaw","OK",2406]
[null,null,"Cimarron","OK",2407]
[null,null,"Cleveland","OK",2408]
[null,null,"Coal","OK",2409]
[null,null,"Comanche","OK",2410]
[null,null,"Cotton","OK",2411]
[null,null,"Craig","OK",2412]
[null,null,"Creek","OK",2413]
[null,null,"Custer","OK",2414]
[null,null,"Delaware","OK",2415]
[null,null,"Dewey","OK",2416]
[null,null,"Ellis","OK",2417]
[null,null,"Garfield","OK",2418]
[null,null,"Garvin","OK",2419]
[null,null,"Grady","OK",2420]
[null,null,"Grant","OK",2421]
[null,null,"Greer","OK",2422]
[null,null,"Harmon","OK",2423]
[null,null,"Harper","OK",2424]
[null,null,"Haskell","OK",2425]
[null,null,"Hughes","OK",2426]
[null,null,"Jackson","OK",2427]
[null,null,"Jefferson","OK",2428]
[null,null,"Johnston","OK",2429]
[null,null,"Kay","OK",2430]
[null,null,"Kingfisher","OK",2431]
[null,null,"Kiowa","OK",2432]
[null,null,"Latimer","OK",2433]
[null,null,"Le Flore","OK",2434]
[null,null,"Lincoln","OK",2435]
[null,null,"Logan","OK",2436]
[null,null,"Love","OK",2437]
[null,null,"McClain","OK",2438]
[null,null,"McCurtain","OK",2439]
[null,null,"McIntosh","OK",2440]
[null,null,"Major","OK",2441]
[null,null,"Marshall","OK",2442]
[null,null,"Mayes","OK",{"$f":"ROW(D2443)","v":2443}]
[null,null,"Murray","OK",2444]
[null,null,"Muskogee","OK",2445]
[null,null,"Noble","OK",2446]
[null,null,"Nowata","OK",2447]
[null,null,"Okfuskee","OK",2448]
[null,null,"Oklahoma","OK",2449]
[null,null,"Okmulgee","OK",2450]
[null,null,"Osage","OK",2451]
[null,null,"Ottawa","OK",2452]
[null,null,"Pawnee","OK",2453]
[null,null,"Payne","OK",2454]
[null,null,"Pittsburg","OK",2455]
[null,null,"Pontotoc","OK",2456]
[null,null,"Pottawatomie","OK",2457]
[null,null,"Pushmataha","OK",2458]
[null,null,"Roger Mills","OK",2459]
[null,null,"Rogers","OK",2460]
[null,null,"Seminole","OK",2461]
[null,null,"Sequoyah","OK",2462]
[null,null,"Stephens","OK",2463]
[null,null,"Texas","OK",2464]
[null,null,"Tillman","OK",2465]
[null,null,"Tulsa","OK",2466]
[null,null,"Wagoner","OK",2467]
[null,null,"Washington","OK",2468]
[null,null,"Washita","OK",2469]
[null,null,"Woods","OK",2470]
[null,null,"Woodward","OK",2471]
[null,null,"Baker","OR",2472]
[null,null,"Benton","OR",2473]
[null,null,"Clackamas","OR",2474]
[null,null,"Clatsop","OR",2475]
[null,null,"Columbia","OR",2476]
[null,null,"Coos","OR",2477]
[null,null,"Crook","OR",2478]
[null,null,"Curry","OR",2479]
[null,null,"Deschutes","OR",2480]
[null,null,"Douglas","OR",2481]
[null,null,"Gilliam","OR",2482]
[null,null,"Grant","OR",2483]
[null,null,"Harney","OR",2484]
[null,null,"Hood River","OR",2485]
[null,null,"Jackson","OR",2486]
[null,null,"Jefferson","OR",2487]
[null,null,"Josephine","OR",2488]
[null,null,"Klamath","OR",2489]
[null,null,"Lake","OR",2490]
[null,null,"Lane","OR",2491]
[null,null,"Lincoln","OR",2492]
[null,null,"Linn","OR",2493]
[null,null,"Malheur","OR",2494]
[null,null,"Marion","OR",2495]
[null,null,"Morrow","OR",2496]
[null,null,"Multnomah","OR",2497]
[null,null,"Polk","OR",2498]
[null,null,"Sherman","OR",2499]
[null,null,"Tillamook","OR",2500]
[null,null,"Umatilla","OR",2501]
[null,null,"Union","OR",2502]
[null,null,"Wallowa","OR",2503]
[null,null,"Wasco","OR",2504]
[null,null,"Washington","OR",2505]
[null,null,"Wheeler","OR",2506]
[null,null,"Yamhill","OR",{"$f":"ROW(D2507)","v":2507}]
[null,null,"Adams","PA",2508]
[null,null,"Allegheny","PA",2509]
[null,null,"Armstrong","PA",2510]
[null,null,"Beaver","PA",2511]
[null,null,"Bedford","PA",2512]
[null,null,"Berks","PA",2513]
[null,null,"Blair","PA",2514]
[null,null,"Bradford","PA",2515]
[null,null,"Bucks","PA",2516]
[null,null,"Butler","PA",2517]
[null,null,"Cambria","PA",2518]
[null,null,"Cameron","PA",2519]
[null,null,"Carbon","PA",2520]
[null,null,"Centre","PA",2521]
[null,null,"Chester","PA",2522]
[null,null,"Clarion","PA",2523]
[null,null,"Clearfield","PA",2524]
[null,null,"Clinton","PA",2525]
[null,null,"Columbia","PA",2526]
[null,null,"Crawford","PA",2527]
[null,null,"Cumberland","PA",2528]
[null,null,"Dauphin","PA",2529]
[null,null,"Delaware","PA",2530]
[null,null,"Elk","PA",2531]
[null,null,"Erie","PA",2532]
[null,null,"Fayette","PA",2533]
[null,null,"Forest","PA",2534]
[null,null,"Franklin","PA",2535]
[null,null,"Fulton","PA",2536]
[null,null,"Greene","PA",2537]
[null,null,"Huntingdon","PA",2538]
[null,null,"Indiana","PA",2539]
[null,null,"Jefferson","PA",2540]
[null,null,"Juniata","PA",2541]
[null,null,"Lackawanna","PA",2542]
[null,null,"Lancaster","PA",2543]
[null,null,"Lawrence","PA",2544]
[null,null,"Lebanon","PA",2545]
[null,null,"Lehigh","PA",2546]
[null,null,"Luzerne","PA",2547]
[null,null,"Lycoming","PA",2548]
[null,null,"McKean","PA",2549]
[null,null,"Mercer","PA",2550]
[null,null,"Mifflin","PA",2551]
[null,null,"Monroe","PA",2552]
[null,null,"Montgomery","PA",2553]
[null,null,"Montour","PA",2554]
[null,null,"Northampton","PA",2555]
[null,null,"Northumberland","PA",2556]
[null,null,"Perry","PA",2557]
[null,null,"Philadelphia","PA",2558]
[null,null,"Pike","PA",2559]
[null,null,"Potter","PA",2560]
[null,null,"Schuylkill","PA",2561]
[null,null,"Snyder","PA",2562]
[null,null,"Somerset","PA",2563]
[null,null,"Sullivan","PA",2564]
[null,null,"Susquehanna","PA",2565]
[null,null,"Tioga","PA",2566]
[null,null,"Union","PA",2567]
[null,null,"Venango","PA",2568]
[null,null,"Warren","PA",2569]
[null,null,"Washington","PA",2570]
[null,null,"Wayne","PA",{"$f":"ROW(D2571)","v":2571}]
[null,null,"Westmoreland","PA",2572]
[null,null,"Wyoming","PA",2573]
[null,null,"York","PA",2574]
[null,null,"Bristol","RI",2575]
[null,null,"Kent","RI",2576]
[null,null,"Newport","RI",2577]
[null,null,"Providence","RI",2578]
[null,null,"Washington","RI",2579]
[null,null,"Abbeville","SC",2580]
[null,null,"Aiken","SC",2581]
[null,null,"Allendale","SC",2582]
[null,null,"Anderson","SC",2583]
[null,null,"Bamberg","SC",2584]
[null,null,"Barnwell","SC",2585]
[null,null,"Beaufort","SC",2586]
[null,null,"Berkeley","SC",2587]
[null,null,"Calhoun","SC",2588]
[null,null,"Charleston","SC",2589]
[null,null,"Cherokee","SC",2590]
[null,null,"Chester","SC",2591]
[null,null,"Chesterfield","SC",2592]
[null,null,"Clarendon","SC",2593]
[null,null,"Colleton","SC",2594]
[null,null,"Darlington","SC",2595]
[null,null,"Dillon","SC",2596]
[null,null,"Dorchester","SC",2597]
[null,null,"Edgefield","SC",2598]
[null,null,"Fairfield","SC",2599]
[null,null,"Florence","SC",2600]
[null,null,"Georgetown","SC",2601]
[null,null,"Greenville","SC",2602]
[null,null,"Greenwood","SC",2603]
[null,null,"Hampton","SC",2604]
[null,null,"Horry","SC",2605]
[null,null,"Jasper","SC",2606]
[null,null,"Kershaw","SC",2607]
[null,null,"Lancaster","SC",2608]
[null,null,"Laurens","SC",2609]
[null,null,"Lee","SC",2610]
[null,null,"Lexington","SC",2611]
[null,null,"McCormick","SC",2612]
[null,null,"Marion","SC",2613]
[null,null,"Marlboro","SC",2614]
[null,null,"Newberry","SC",2615]
[null,null,"Oconee","SC",2616]
[null,null,"Orangeburg","SC",2617]
[null,null,"Pickens","SC",2618]
[null,null,"Richland","SC",2619]
[null,null,"Saluda","SC",2620]
[null,null,"Spartanburg","SC",2621]
[null,null,"Sumter","SC",2622]
[null,null,"Union","SC",2623]
[null,null,"Williamsburg","SC",2624]
[null,null,"York","SC",2625]
[null,null,"Aurora","SD",2626]
[null,null,"Beadle","SD",2627]
[null,null,"Bennett","SD",2628]
[null,null,"Bon Homme","SD",2629]
[null,null,"Brookings","SD",2630]
[null,null,"Brown","SD",2631]
[null,null,"Brule","SD",2632]
[null,null,"Buffalo","SD",2633]
[null,null,"Butte","SD",2634]
[null,null,"Campbell","SD",{"$f":"ROW(D2635)","v":2635}]
[null,null,"Charles Mix","SD",2636]
[null,null,"Clark","SD",2637]
[null,null,"Clay","SD",2638]
[null,null,"Codington","SD",2639]
[null,null,"Corson","SD",2640]
[null,null,"Custer","SD",2641]
[null,null,"Davison","SD",2642]
[null,null,"Day","SD",2643]
[null,null,"Deuel","SD",2644]
[null,null,"Dewey","SD",2645]
[null,null,"Douglas","SD",2646]
[null,null,"Edmunds","SD",2647]
[null,null,"Fall River","SD",2648]
[null,null,"Faulk","SD",2649]
[null,null,"Grant","SD",2650]
[null,null,"Gregory","SD",2651]
[null,null,"Haakon","SD",2652]
[null,null,"Hamlin","SD",2653]
[null,null,"Hand","SD",2654]
[null,null,"Hanson","SD",2655]
[null,null,"Harding","SD",2656]
[null,null,"Hughes","SD",2657]
[null,null,"Hutchinson","SD",2658]
[null,null,"Hyde","SD",2659]
[null,null,"Jackson","SD",2660]
[null,null,"Jerauld","SD",2661]
[null,null,"Jones","SD",2662]
[null,null,"Kingsbury","SD",2663]
[null,null,"Lake","SD",2664]
[null,null,"Lawrence","SD",2665]
[null,null,"Lincoln","SD",2666]
[null,null,"Lyman","SD",2667]
[null,null,"McCook","SD",2668]
[null,null,"McPherson","SD",2669]
[null,null,"Marshall","SD",2670]
[null,null,"Meade","SD",2671]
[null,null,"Mellette","SD",2672]
[null,null,"Miner","SD",2673]
[null,null,"Minnehaha","SD",2674]
[null,null,"Moody","SD",2675]
[null,null,"Pennington","SD",2676]
[null,null,"Perkins","SD",2677]
[null,null,"Potter","SD",2678]
[null,null,"Roberts","SD",2679]
[null,null,"Sanborn","SD",2680]
[null,null,"Shannon","SD",2681]
[null,null,"Spink","SD",2682]
[null,null,"Stanley","SD",2683]
[null,null,"Sully","SD",2684]
[null,null,"Todd","SD",2685]
[null,null,"Tripp","SD",2686]
[null,null,"Turner","SD",2687]
[null,null,"Union","SD",2688]
[null,null,"Walworth","SD",2689]
[null,null,"Yankton","SD",2690]
[null,null,"Ziebach","SD",2691]
[null,null,"Anderson","TN",2692]
[null,null,"Bedford","TN",2693]
[null,null,"Benton","TN",2694]
[null,null,"Bledsoe","TN",2695]
[null,null,"Blount","TN",2696]
[null,null,"Bradley","TN",2697]
[null,null,"Campbell","TN",2698]
[null,null,"Cannon","TN",{"$f":"ROW(D2699)","v":2699}]
[null,null,"Carroll","TN",2700]
[null,null,"Carter","TN",2701]
[null,null,"Cheatham","TN",2702]
[null,null,"Chester","TN",2703]
[null,null,"Claiborne","TN",2704]
[null,null,"Clay","TN",2705]
[null,null,"Cocke","TN",2706]
[null,null,"Coffee","TN",2707]
[null,null,"Crockett","TN",2708]
[null,null,"Cumberland","TN",2709]
[null,null,"Davidson","TN",2710]
[null,null,"Decatur","TN",2711]
[null,null,"DeKalb","TN",2712]
[null,null,"Dickson","TN",2713]
[null,null,"Dyer","TN",2714]
[null,null,"Fayette","TN",2715]
[null,null,"Fentress","TN",2716]
[null,null,"Franklin","TN",2717]
[null,null,"Gibson","TN",2718]
[null,null,"Giles","TN",2719]
[null,null,"Grainger","TN",2720]
[null,null,"Greene","TN",2721]
[null,null,"Grundy","TN",2722]
[null,null,"Hamblen","TN",2723]
[null,null,"Hamilton","TN",2724]
[null,null,"Hancock","TN",2725]
[null,null,"Hardeman","TN",2726]
[null,null,"Hardin","TN",2727]
[null,null,"Hawkins","TN",2728]
[null,null,"Haywood","TN",2729]
[null,null,"Henderson","TN",2730]
[null,null,"Henry","TN",2731]
[null,null,"Hickman","TN",2732]
[null,null,"Houston","TN",2733]
[null,null,"Humphreys","TN",2734]
[null,null,"Jackson","TN",2735]
[null,null,"Jefferson","TN",2736]
[null,null,"Johnson","TN",2737]
[null,null,"Knox","TN",2738]
[null,null,"Lake","TN",2739]
[null,null,"Lauderdale","TN",2740]
[null,null,"Lawrence","TN",2741]
[null,null,"Lewis","TN",2742]
[null,null,"Lincoln","TN",2743]
[null,null,"Loudon","TN",2744]
[null,null,"McMinn","TN",2745]
[null,null,"McNairy","TN",2746]
[null,null,"Macon","TN",2747]
[null,null,"Madison","TN",2748]
[null,null,"Marion","TN",2749]
[null,null,"Marshall","TN",2750]
[null,null,"Maury","TN",2751]
[null,null,"Meigs","TN",2752]
[null,null,"Monroe","TN",2753]
[null,null,"Montgomery","TN",2754]
[null,null,"Moore","TN",2755]
[null,null,"Morgan","TN",2756]
[null,null,"Obion","TN",2757]
[null,null,"Overton","TN",2758]
[null,null,"Perry","TN",2759]
[null,null,"Pickett","TN",2760]
[null,null,"Polk","TN",2761]
[null,null,"Putnam","TN",2762]
[null,null,"Rhea","TN",{"$f":"ROW(D2763)","v":2763}]
[null,null,"Roane","TN",2764]
[null,null,"Robertson","TN",2765]
[null,null,"Rutherford","TN",2766]
[null,null,"Scott","TN",2767]
[null,null,"Sequatchie","TN",2768]
[null,null,"Sevier","TN",2769]
[null,null,"Shelby","TN",2770]
[null,null,"Smith","TN",2771]
[null,null,"Stewart","TN",2772]
[null,null,"Sullivan","TN",2773]
[null,null,"Sumner","TN",2774]
[null,null,"Tipton","TN",2775]
[null,null,"Trousdale","TN",2776]
[null,null,"Unicoi","TN",2777]
[null,null,"Union","TN",2778]
[null,null,"Van Buren","TN",2779]
[null,null,"Warren","TN",2780]
[null,null,"Washington","TN",2781]
[null,null,"Wayne","TN",2782]
[null,null,"Weakley","TN",2783]
[null,null,"White","TN",2784]
[null,null,"Williamson","TN",2785]
[null,null,"Wilson","TN",2786]
[null,null,"Anderson","TX",2787]
[null,null,"Andrews","TX",2788]
[null,null,"Angelina","TX",2789]
[null,null,"Aransas","TX",2790]
[null,null,"Archer","TX",2791]
[null,null,"Armstrong","TX",2792]
[null,null,"Atascosa","TX",2793]
[null,null,"Austin","TX",2794]
[null,null,"Bailey","TX",2795]
[null,null,"Bandera","TX",2796]
[null,null,"Bastrop","TX",2797]
[null,null,"Baylor","TX",2798]
[null,null,"Bee","TX",2799]
[null,null,"Bell","TX",2800]
[null,null,"Bexar","TX",2801]
[null,null,"Blanco","TX",2802]
[null,null,"Borden","TX",2803]
[null,null,"Bosque","TX",2804]
[null,null,"Bowie","TX",2805]
[null,null,"Brazoria","TX",2806]
[null,null,"Brazos","TX",2807]
[null,null,"Brewster","TX",2808]
[null,null,"Briscoe","TX",2809]
[null,null,"Brooks","TX",2810]
[null,null,"Brown","TX",2811]
[null,null,"Burleson","TX",2812]
[null,null,"Burnet","TX",2813]
[null,null,"Caldwell","TX",2814]
[null,null,"Calhoun","TX",2815]
[null,null,"Callahan","TX",2816]
[null,null,"Cameron","TX",2817]
[null,null,"Camp","TX",2818]
[null,null,"Carson","TX",2819]
[null,null,"Cass","TX",2820]
[null,null,"Castro","TX",2821]
[null,null,"Chambers","TX",2822]
[null,null,"Cherokee","TX",2823]
[null,null,"Childress","TX",2824]
[null,null,"Clay","TX",2825]
[null,null,"Cochran","TX",2826]
[null,null,"Coke","TX",{"$f":"ROW(D2827)","v":2827}]
[null,null,"Coleman","TX",2828]
[null,null,"Collin","TX",2829]
[null,null,"Collingsworth","TX",2830]
[null,null,"Colorado","TX",2831]
[null,null,"Comal","TX",2832]
[null,null,"Comanche","TX",2833]
[null,null,"Concho","TX",2834]
[null,null,"Cooke","TX",2835]
[null,null,"Coryell","TX",2836]
[null,null,"Cottle","TX",2837]
[null,null,"Crane","TX",2838]
[null,null,"Crockett","TX",2839]
[null,null,"Crosby","TX",2840]
[null,null,"Culberson","TX",2841]
[null,null,"Dallam","TX",2842]
[null,null,"Dallas","TX",2843]
[null,null,"Dawson","TX",2844]
[null,null,"Deaf Smith","TX",2845]
[null,null,"Delta","TX",2846]
[null,null,"Denton","TX",2847]
[null,null,"De Witt","TX",2848]
[null,null,"Dickens","TX",2849]
[null,null,"Dimmit","TX",2850]
[null,null,"Donley","TX",2851]
[null,null,"Duval","TX",2852]
[null,null,"Eastland","TX",2853]
[null,null,"Ector","TX",2854]
[null,null,"Edwards","TX",2855]
[null,null,"Ellis","TX",2856]
[null,null,"El Paso","TX",2857]
[null,null,"Erath","TX",2858]
[null,null,"Falls","TX",2859]
[null,null,"Fannin","TX",2860]
[null,null,"Fayette","TX",2861]
[null,null,"Fisher","TX",2862]
[null,null,"Floyd","TX",2863]
[null,null,"Foard","TX",2864]
[null,null,"Fort Bend","TX",2865]
[null,null,"Franklin","TX",2866]
[null,null,"Freestone","TX",2867]
[null,null,"Frio","TX",2868]
[null,null,"Gaines","TX",2869]
[null,null,"Galveston","TX",2870]
[null,null,"Garza","TX",2871]
[null,null,"Gillespie","TX",2872]
[null,null,"Glasscock","TX",2873]
[null,null,"Goliad","TX",2874]
[null,null,"Gonzales","TX",2875]
[null,null,"Gray","TX",2876]
[null,null,"Grayson","TX",2877]
[null,null,"Gregg","TX",2878]
[null,null,"Grimes","TX",2879]
[null,null,"Guadalupe","TX",2880]
[null,null,"Hale","TX",2881]
[null,null,"Hall","TX",2882]
[null,null,"Hamilton","TX",2883]
[null,null,"Hansford","TX",2884]
[null,null,"Hardeman","TX",2885]
[null,null,"Hardin","TX",2886]
[null,null,"Harris","TX",2887]
[null,null,"Harrison","TX",2888]
[null,null,"Hartley","TX",2889]
[null,null,"Haskell","TX",2890]
[null,null,"Hays","TX",{"$f":"ROW(D2891)","v":2891}]
[null,null,"Hemphill","TX",2892]
[null,null,"Henderson","TX",2893]
[null,null,"Hidalgo","TX",2894]
[null,null,"Hill","TX",2895]
[null,null,"Hockley","TX",2896]
[null,null,"Hood","TX",2897]
[null,null,"Hopkins","TX",2898]
[null,null,"Houston","TX",2899]
[null,null,"Howard","TX",2900]
[null,null,"Hudspeth","TX",2901]
[null,null,"Hunt","TX",2902]
[null,null,"Hutchinson","TX",2903]
[null,null,"Irion","TX",2904]
[null,null,"Jack","TX",2905]
[null,null,"Jackson","TX",2906]
[null,null,"Jasper","TX",2907]
[null,null,"Jeff Davis","TX",2908]
[null,null,"Jefferson","TX",2909]
[null,null,"Jim Hogg","TX",2910]
[null,null,"Jim Wells","TX",2911]
[null,null,"Johnson","TX",2912]
[null,null,"Jones","TX",2913]
[null,null,"Karnes","TX",2914]
[null,null,"Kaufman","TX",2915]
[null,null,"Kendall","TX",2916]
[null,null,"Kenedy","TX",2917]
[null,null,"Kent","TX",2918]
[null,null,"Kerr","TX",2919]
[null,null,"Kimble","TX",2920]
[null,null,"King","TX",2921]
[null,null,"Kinney","TX",2922]
[null,null,"Kleberg","TX",2923]
[null,null,"Knox","TX",2924]
[null,null,"Lamar","TX",2925]
[null,null,"Lamb","TX",2926]
[null,null,"Lampasas","TX",2927]
[null,null,"La Salle","TX",2928]
[null,null,"Lavaca","TX",2929]
[null,null,"Lee","TX",2930]
[null,null,"Leon","TX",2931]
[null,null,"Liberty","TX",2932]
[null,null,"Limestone","TX",2933]
[null,null,"Lipscomb","TX",2934]
[null,null,"Live Oak","TX",2935]
[null,null,"Llano","TX",2936]
[null,null,"Loving","TX",2937]
[null,null,"Lubbock","TX",2938]
[null,null,"Lynn","TX",2939]
[null,null,"McCulloch","TX",2940]
[null,null,"McLennan","TX",2941]
[null,null,"McMullen","TX",2942]
[null,null,"Madison","TX",2943]
[null,null,"Marion","TX",2944]
[null,null,"Martin","TX",2945]
[null,null,"Mason","TX",2946]
[null,null,"Matagorda","TX",2947]
[null,null,"Maverick","TX",2948]
[null,null,"Medina","TX",2949]
[null,null,"Menard","TX",2950]
[null,null,"Midland","TX",2951]
[null,null,"Milam","TX",2952]
[null,null,"Mills","TX",2953]
[null,null,"Mitchell","TX",2954]
[null,null,"Montague","TX",{"$f":"ROW(D2955)","v":2955}]
[null,null,"Montgomery","TX",2956]
[null,null,"Moore","TX",2957]
[null,null,"Morris","TX",2958]
[null,null,"Motley","TX",2959]
[null,null,"Nacogdoches","TX",2960]
[null,null,"Navarro","TX",2961]
[null,null,"Newton","TX",2962]
[null,null,"Nolan","TX",2963]
[null,null,"Nueces","TX",2964]
[null,null,"Ochiltree","TX",2965]
[null,null,"Oldham","TX",2966]
[null,null,"Orange","TX",2967]
[null,null,"Palo Pinto","TX",2968]
[null,null,"Panola","TX",2969]
[null,null,"Parker","TX",2970]
[null,null,"Parmer","TX",2971]
[null,null,"Pecos","TX",2972]
[null,null,"Polk","TX",2973]
[null,null,"Potter","TX",2974]
[null,null,"Presidio","TX",2975]
[null,null,"Rains","TX",2976]
[null,null,"Randall","TX",2977]
[null,null,"Reagan","TX",2978]
[null,null,"Real","TX",2979]
[null,null,"Red River","TX",2980]
[null,null,"Reeves","TX",2981]
[null,null,"Refugio","TX",2982]
[null,null,"Roberts","TX",2983]
[null,null,"Robertson","TX",2984]
[null,null,"Rockwall","TX",2985]
[null,null,"Runnels","TX",2986]
[null,null,"Rusk","TX",2987]
[null,null,"Sabine","TX",2988]
[null,null,"San Augustine","TX",2989]
[null,null,"San Jacinto","TX",2990]
[null,null,"San Patricio","TX",2991]
[null,null,"San Saba","TX",2992]
[null,null,"Schleicher","TX",2993]
[null,null,"Scurry","TX",2994]
[null,null,"Shackelford","TX",2995]
[null,null,"Shelby","TX",2996]
[null,null,"Sherman","TX",2997]
[null,null,"Smith","TX",2998]
[null,null,"Somervell","TX",2999]
[null,null,"Starr","TX",3000]
[null,null,"Stephens","TX",3001]
[null,null,"Sterling","TX",3002]
[null,null,"Stonewall","TX",3003]
[null,null,"Sutton","TX",3004]
[null,null,"Swisher","TX",3005]
[null,null,"Tarrant","TX",3006]
[null,null,"Taylor","TX",3007]
[null,null,"Terrell","TX",3008]
[null,null,"Terry","TX",3009]
[null,null,"Throckmorton","TX",3010]
[null,null,"Titus","TX",3011]
[null,null,"Tom Green","TX",3012]
[null,null,"Travis","TX",3013]
[null,null,"Trinity","TX",3014]
[null,null,"Tyler","TX",3015]
[null,null,"Upshur","TX",3016]
[null,null,"Upton","TX",3017]
[null,null,"Uvalde","TX",3018]
[null,null,"Val Verde","TX",{"$f":"ROW(D3019)","v":3019}]
[null,null,"Van Zandt","TX",3020]
[null,null,"Victoria","TX",3021]
[null,null,"Walker","TX",3022]
[null,null,"Waller","TX",3023]
[null,null,"Ward","TX",3024]
[null,null,"Washington","TX",3025]
[null,null,"Webb","TX",3026]
[null,null,"Wharton","TX",3027]
[null,null,"Wheeler","TX",3028]
[null,null,"Wichita","TX",3029]
[null,null,"Wilbarger","TX",3030]
[null,null,"Willacy","TX",3031]
[null,null,"Williamson","TX",3032]
[null,null,"Wilson","TX",3033]
[null,null,"Winkler","TX",3034]
[null,null,"Wise","TX",3035]
[null,null,"Wood","TX",3036]
[null,null,"Yoakum","TX",3037]
[null,null,"Young","TX",3038]
[null,null,"Zapata","TX",3039]
[null,null,"Zavala","TX",3040]
[null,null,"Beaver","UT",3041]
[null,null,"Box Elder","UT",3042]
[null,null,"Cache","UT",3043]
[null,null,"Carbon","UT",3044]
[null,null,"Daggett","UT",3045]
[null,null,"Davis","UT",3046]
[null,null,"Duchesne","UT",3047]
[null,null,"Emery","UT",3048]
[null,null,"Garfield","UT",3049]
[null,null,"Grand","UT",3050]
[null,null,"Iron","UT",3051]
[null,null,"Juab","UT",3052]
[null,null,"Kane","UT",3053]
[null,null,"Millard","UT",3054]
[null,null,"Morgan","UT",3055]
[null,null,"Piute","UT",3056]
[null,null,"Rich","UT",3057]
[null,null,"Salt Lake","UT",3058]
[null,null,"San Juan","UT",3059]
[null,null,"Sanpete","UT",3060]
[null,null,"Sevier","UT",3061]
[null,null,"Summit","UT",3062]
[null,null,"Tooele","UT",3063]
[null,null,"Uintah","UT",3064]
[null,null,"Utah","UT",3065]
[null,null,"Wasatch","UT",3066]
[null,null,"Washington","UT",3067]
[null,null,"Wayne","UT",3068]
[null,null,"Weber","UT",3069]
[null,null,"Addison","VT",3070]
[null,null,"Bennington","VT",3071]
[null,null,"Caledonia","VT",3072]
[null,null,"Chittenden","VT",3073]
[null,null,"Essex","VT",3074]
[null,null,"Franklin","VT",3075]
[null,null,"Grand Isle","VT",3076]
[null,null,"Lamoille","VT",3077]
[null,null,"Orange","VT",3078]
[null,null,"Orleans","VT",3079]
[null,null,"Rutland","VT",3080]
[null,null,"Washington","VT",3081]
[null,null,"Windham","VT",3082]
[null,null,"Windsor","VT",{"$f":"ROW(D3083)","v":3083}]
[null,null,"Accomack","VA",3084]
[null,null,"Albemarle","VA",3085]
[null,null,"Alleghany","VA",3086]
[null,null,"Amelia","VA",3087]
[null,null,"Amherst","VA",3088]
[null,null,"Appomattox","VA",3089]
[null,null,"Arlington","VA",3090]
[null,null,"Augusta","VA",3091]
[null,null,"Bath","VA",3092]
[null,null,"Bedford","VA",3093]
[null,null,"Bland","VA",3094]
[null,null,"Botetourt","VA",3095]
[null,null,"Brunswick","VA",3096]
[null,null,"Buchanan","VA",3097]
[null,null,"Buckingham","VA",3098]
[null,null,"Campbell","VA",3099]
[null,null,"Caroline","VA",3100]
[null,null,"Carroll","VA",3101]
[null,null,"Charles City","VA",3102]
[null,null,"Charlotte","VA",3103]
[null,null,"Chesterfield","VA",3104]
[null,null,"Clarke","VA",3105]
[null,null,"Craig","VA",3106]
[null,null,"Culpeper","VA",3107]
[null,null,"Cumberland","VA",3108]
[null,null,"Dickenson","VA",3109]
[null,null,"Dinwiddie","VA",3110]
[null,null,"Essex","VA",3111]
[null,null,"Fairfax","VA",3112]
[null,null,"Fauquier","VA",3113]
[null,null,"Floyd","VA",3114]
[null,null,"Fluvanna","VA",3115]
[null,null,"Franklin","VA",3116]
[null,null,"Frederick","VA",3117]
[null,null,"Giles","VA",3118]
[null,null,"Gloucester","VA",3119]
[null,null,"Goochland","VA",3120]
[null,null,"Grayson","VA",3121]
[null,null,"Greene","VA",3122]
[null,null,"Greensville","VA",3123]
[null,null,"Halifax","VA",3124]
[null,null,"Hanover","VA",3125]
[null,null,"Henrico","VA",3126]
[null,null,"Henry","VA",3127]
[null,null,"Highland","VA",3128]
[null,null,"Isle of Wight","VA",3129]
[null,null,"James City","VA",3130]
[null,null,"King and Queen","VA",3131]
[null,null,"King George","VA",3132]
[null,null,"King William","VA",3133]
[null,null,"Lancaster","VA",3134]
[null,null,"Lee","VA",3135]
[null,null,"Loudoun","VA",3136]
[null,null,"Louisa","VA",3137]
[null,null,"Lunenburg","VA",3138]
[null,null,"Madison","VA",3139]
[null,null,"Mathews","VA",3140]
[null,null,"Mecklenburg","VA",3141]
[null,null,"Middlesex","VA",3142]
[null,null,"Montgomery","VA",3143]
[null,null,"Nelson","VA",3144]
[null,null,"New Kent","VA",3145]
[null,null,"Northampton","VA",3146]
[null,null,"Northumberland","VA",{"$f":"ROW(D3147)","v":3147}]
[null,null,"Nottoway","VA",3148]
[null,null,"Orange","VA",3149]
[null,null,"Page","VA",3150]
[null,null,"Patrick","VA",3151]
[null,null,"Pittsylvania","VA",3152]
[null,null,"Powhatan","VA",3153]
[null,null,"Prince Edward","VA",3154]
[null,null,"Prince George","VA",3155]
[null,null,"Prince William","VA",3156]
[null,null,"Pulaski","VA",3157]
[null,null,"Rappahannock","VA",3158]
[null,null,"Richmond","VA",3159]
[null,null,"Roanoke","VA",3160]
[null,null,"Rockbridge","VA",3161]
[null,null,"Rockingham","VA",3162]
[null,null,"Russell","VA",3163]
[null,null,"Scott","VA",3164]
[null,null,"Shenandoah","VA",3165]
[null,null,"Smyth","VA",3166]
[null,null,"Southampton","VA",3167]
[null,null,"Spotsylvania","VA",3168]
[null,null,"Stafford","VA",3169]
[null,null,"Surry","VA",3170]
[null,null,"Sussex","VA",3171]
[null,null,"Tazewell","VA",3172]
[null,null,"Warren","VA",3173]
[null,null,"Washington","VA",3174]
[null,null,"Westmoreland","VA",3175]
[null,null,"Wise","VA",3176]
[null,null,"Wythe","VA",3177]
[null,null,"York","VA",3178]
[null,null,"Alexandria","VA",3179]
[null,null,"Bedford","VA",3180]
[null,null,"Bristol","VA",3181]
[null,null,"Buena Vista","VA",3182]
[null,null,"Charlottesville","VA",3183]
[null,null,"Chesapeake","VA",3184]
[null,null,"Clifton Forge","VA",3185]
[null,null,"Colonial Heights","VA",3186]
[null,null,"Covington","VA",3187]
[null,null,"Danville","VA",3188]
[null,null,"Emporia","VA",3189]
[null,null,"Fairfax","VA",3190]
[null,null,"Falls Church","VA",3191]
[null,null,"Franklin","VA",3192]
[null,null,"Fredericksburg","VA",3193]
[null,null,"Galax","VA",3194]
[null,null,"Hampton","VA",3195]
[null,null,"Harrisonburg","VA",3196]
[null,null,"Hopewell","VA",3197]
[null,null,"Lexington","VA",3198]
[null,null,"Lynchburg","VA",3199]
[null,null,"Manassas","VA",3200]
[null,null,"Manassas Park","VA",3201]
[null,null,"Martinsville","VA",3202]
[null,null,"Newport News","VA",3203]
[null,null,"Norfolk","VA",3204]
[null,null,"Norton","VA",3205]
[null,null,"Petersburg","VA",3206]
[null,null,"Poquoson","VA",3207]
[null,null,"Portsmouth","VA",3208]
[null,null,"Radford","VA",3209]
[null,null,"Richmond","VA",3210]
[null,null,"Roanoke","VA",{"$f":"ROW(D3211)","v":3211}]
[null,null,"Salem","VA",3212]
[null,null,"South Boston","VA",3213]
[null,null,"Staunton","VA",3214]
[null,null,"Suffolk","VA",3215]
[null,null,"Virginia Beach","VA",3216]
[null,null,"Waynesboro","VA",3217]
[null,null,"Williamsburg","VA",3218]
[null,null,"Winchester","VA",3219]
[null,null,"Adams","WA",3220]
[null,null,"Asotin","WA",3221]
[null,null,"Benton","WA",3222]
[null,null,"Chelan","WA",3223]
[null,null,"Clallam","WA",3224]
[null,null,"Clark","WA",3225]
[null,null,"Columbia","WA",3226]
[null,null,"Cowlitz","WA",3227]
[null,null,"Douglas","WA",3228]
[null,null,"Ferry","WA",3229]
[null,null,"Franklin","WA",3230]
[null,null,"Garfield","WA",3231]
[null,null,"Grant","WA",3232]
[null,null,"Grays Harbor","WA",3233]
[null,null,"Island","WA",3234]
[null,null,"Jefferson","WA",3235]
[null,null,"King","WA",3236]
[null,null,"Kitsap","WA",3237]
[null,null,"Kittitas","WA",3238]
[null,null,"Klickitat","WA",3239]
[null,null,"Lewis","WA",3240]
[null,null,"Lincoln","WA",3241]
[null,null,"Mason","WA",3242]
[null,null,"Okanogan","WA",3243]
[null,null,"Pacific","WA",3244]
[null,null,"Pend Oreille","WA",3245]
[null,null,"Pierce","WA",3246]
[null,null,"San Juan","WA",3247]
[null,null,"Skagit","WA",3248]
[null,null,"Skamania","WA",3249]
[null,null,"Snohomish","WA",3250]
[null,null,"Spokane","WA",3251]
[null,null,"Stevens","WA",3252]
[null,null,"Thurston","WA",3253]
[null,null,"Wahkiakum","WA",3254]
[null,null,"Walla Walla","WA",3255]
[null,null,"Whatcom","WA",3256]
[null,null,"Whitman","WA",3257]
[null,null,"Yakima","WA",3258]
[null,null,"Barbour","WV",3259]
[null,null,"Berkeley","WV",3260]
[null,null,"Boone","WV",3261]
[null,null,"Braxton","WV",3262]
[null,null,"Brooke","WV",3263]
[null,null,"Cabell","WV",3264]
[null,null,"Calhoun","WV",3265]
[null,null,"Clay","WV",3266]
[null,null,"Doddridge","WV",3267]
[null,null,"Fayette","WV",3268]
[null,null,"Gilmer","WV",3269]
[null,null,"Grant","WV",3270]
[null,null,"Greenbrier","WV",3271]
[null,null,"Hampshire","WV",3272]
[null,null,"Hancock","WV",3273]
[null,null,"Hardy","WV",3274]
[null,null,"Harrison","WV",{"$f":"ROW(D3275)","v":3275}]
[null,null,"Jackson","WV",3276]
[null,null,"Jefferson","WV",3277]
[null,null,"Kanawha","WV",3278]
[null,null,"Lewis","WV",3279]
[null,null,"Lincoln","WV",3280]
[null,null,"Logan","WV",3281]
[null,null,"McDowell","WV",3282]
[null,null,"Marion","WV",3283]
[null,null,"Marshall","WV",3284]
[null,null,"Mason","WV",3285]
[null,null,"Mercer","WV",3286]
[null,null,"Mineral","WV",3287]
[null,null,"Mingo","WV",3288]
[null,null,"Monongalia","WV",3289]
[null,null,"Monroe","WV",3290]
[null,null,"Morgan","WV",3291]
[null,null,"Nicholas","WV",3292]
[null,null,"Ohio","WV",3293]
[null,null,"Pendleton","WV",3294]
[null,null,"Pleasants","WV",3295]
[null,null,"Pocahontas","WV",3296]
[null,null,"Preston","WV",3297]
[null,null,"Putnam","WV",3298]
[null,null,"Raleigh","WV",3299]
[null,null,"Randolph","WV",3300]
[null,null,"Ritchie","WV",3301]
[null,null,"Roane","WV",3302]
[null,null,"Summers","WV",3303]
[null,null,"Taylor","WV",3304]
[null,null,"Tucker","WV",3305]
[null,null,"Tyler","WV",3306]
[null,null,"Upshur","WV",3307]
[null,null,"Wayne","WV",3308]
[null,null,"Webster","WV",3309]
[null,null,"Wetzel","WV",3310]
[null,null,"Wirt","WV",3311]
[null,null,"Wood","WV",3312]
[null,null,"Wyoming","WV",3313]
[null,null,"Adams","WI",3314]
[null,null,"Ashland","WI",3315]
[null,null,"Barron","WI",3316]
[null,null,"Bayfield","WI",3317]
[null,null,"Brown","WI",3318]
[null,null,"Buffalo","WI",3319]
[null,null,"Burnett","WI",3320]
[null,null,"Calumet","WI",3321]
[null,null,"Chippewa","WI",3322]
[null,null,"Clark","WI",3323]
[null,null,"Columbia","WI",3324]
[null,null,"Crawford","WI",3325]
[null,null,"Dane","WI",3326]
[null,null,"Dodge","WI",3327]
[null,null,"Door","WI",3328]
[null,null,"Douglas","WI",3329]
[null,null,"Dunn","WI",3330]
[null,null,"Eau Claire","WI",3331]
[null,null,"Florence","WI",3332]
[null,null,"Fond du Lac","WI",3333]
[null,null,"Forest","WI",3334]
[null,null,"Grant","WI",3335]
[null,null,"Green","WI",3336]
[null,null,"Green Lake","WI",3337]
[null,null,"Iowa","WI",3338]
[null,null,"Iron","WI",{"$f":"ROW(D3339)","v":3339}]
[null,null,"Jackson","WI",3340]
[null,null,"Jefferson","WI",3341]
[null,null,"Juneau","WI",3342]
[null,null,"Kenosha","WI",3343]
[null,null,"Kewaunee","WI",3344]
[null,null,"La Crosse","WI",3345]
[null,null,"Lafayette","WI",3346]
[null,null,"Langlade","WI",3347]
[null,null,"Lincoln","WI",3348]
[null,null,"Manitowoc","WI",3349]
[null,null,"Marathon","WI",3350]
[null,null,"Marinette","WI",3351]
[null,null,"Marquette","WI",3352]
[null,null,"Menominee","WI",3353]
[null,null,"Milwaukee","WI",3354]
[null,null,"Monroe","WI",3355]
[null,null,"Oconto","WI",3356]
[null,null,"Oneida","WI",3357]
[null,null,"Outagamie","WI",3358]
[null,null,"Ozaukee","WI",3359]
[null,null,"Pepin","WI",3360]
[null,null,"Pierce","WI",3361]
[null,null,"Polk","WI",3362]
[null,null,"Portage","WI",3363]
[null,null,"Price","WI",3364]
[null,null,"Racine","WI",3365]
[null,null,"Richland","WI",3366]
[null,null,"Rock","WI",3367]
[null,null,"Rusk","WI",3368]
[null,null,"St. Croix","WI",3369]
[null,null,"Sauk","WI",3370]
[null,null,"Sawyer","WI",3371]
[null,null,"Shawano","WI",3372]
[null,null,"Sheboygan","WI",3373]
[null,null,"Taylor","WI",3374]
[null,null,"Trempealeau","WI",3375]
[null,null,"Vernon","WI",3376]
[null,null,"Vilas","WI",3377]
[null,null,"Walworth","WI",3378]
[null,null,"Washburn","WI",3379]
[null,null,"Washington","WI",3380]
[null,null,"Waukesha","WI",3381]
[null,null,"Waupaca","WI",3382]
[null,null,"Waushara","WI",3383]
[null,null,"Winnebago","WI",3384]
[null,null,"Wood","WI",3385]
[null,null,"Albany","WY",3386]
[null,null,"Big Horn","WY",3387]
[null,null,"Campbell","WY",3388]
[null,null,"Carbon","WY",3389]
[null,null,"Converse","WY",3390]
[null,null,"Crook","WY",3391]
[null,null,"Fremont","WY",3392]
[null,null,"Goshen","WY",3393]
[null,null,"Hot Springs","WY",3394]
[null,null,"Johnson","WY",3395]
[null,null,"Laramie","WY",3396]
[null,null,"Lincoln","WY",3397]
[null,null,"Natrona","WY",3398]
[null,null,"Niobrara","WY",3399]
[null,null,"Park","WY",3400]
[null,null,"Platte","WY",3401]
[null,null,"Sheridan","WY",3402]
[null,null,"Sublette","WY",{"$f":"ROW(D3403)","v":3403}]
[null,null,"Sweetwater","WY",3404]
[null,null,"Teton","WY",3405]
[null,null,"Uinta","WY",3406]
[null,null,"Washakie","WY",3407]
[null,null,"Weston","WY",3408]
[null,null,null,"AS",3409]
[null,null,null,"GU",3410]
[null,null,null,"PR",3411]
[null,null,null,"VI",3412]

{"sheet":"Report_Sum","index":2,"n_rows":48,"n_cols":11,"rows_kept":48,"cut":false,"hidden":false,"merged":[[37,4,37,7],[41,1,41,2],[44,1,44,2],[47,1,47,2],[19,1,19,2],[24,1,24,2],[29,1,29,2],[35,1,35,2],[28,1,28,2],[37,1,37,2],[38,1,38,2],[1,1,1,7],[3,1,3,7],[18,1,18,2],[23,1,23,2],[34,1,34,2],[20,4,20,7],[25,4,25,7],[30,4,30,7]]}
[null,null,null,null,null,null,null,null,null,null,"Gain"]
[null,"NRCS - CROPLAND ENERGY TOOL"]
[]
[null,"ENERGY SUMMARY FOR ALTERNATIVE FIELD ROTATIONS"]
[]
[null,{"$f":"\"Landowner: \"&Input!E14","v":"Landowner: "},null,"Field Area: ",{"$f":"IF(Input!J14=\"\",\"\",Input!J14)","v":""},null,"Date: ",{"$f":"IF(Input!E17=\"\",\"\",Input!E17)","v":""}]
[null,{"$f":"IF(Input!E15=\"\",\"Field Location: \",IF(OR(Input!E15=\"American Samoa\",Input!E15=\"District of Columbia\",Input!E15=\"Puerto Rico\",Input!E15=\"Virgin Islands\",Input!E15=\"Guam\"),\"Field Location: \"&Input!E15,\"Field Location: \"&Input!E16&IF(Input!E15=\"Alaska\",\" Boro., \",\" Co., \")&VLOOKUP(Input!E15,Input!C208:D262,2,FALSE)))","v":"Field Location: "},null,"Field ID: ",{"$f":"IF(Input!J15=\"\",\"\",Input!J15)","v":""},null,"Latitude:",{"$f":"IF(Input!E18=\"\",\"\",Input!E18)","v":""}]
[null,null,null,null,null,null,"Longitude:",{"$f":"IF(Input!E19=\"\",\"\",Input!E19)","v":""}]
[]
[]
[null,null,null,null,"ALTERNATIVES"]
[]
[null,"Alternative Description",null,null,{"$f":"Input!C10","v":"BENCHMARK"},null,null,{"$f":"Input!Q10","v":"PLANNED"}]
[null,"Crop Rotation",null,null,{"$f":"LEFT(IF(COUNTBLANK(Intermediate_Calcs!C18:G18)=4,Intermediate_Calcs!C18,IF(COUNTBLANK(Intermediate_Calcs!C18:G18)=3,Intermediate_Calcs!C18&\"-\"&Intermediate_Calcs!D18,IF(COUNTBLANK(Intermediate_Calcs!C18:G18)=2,Intermediate_Calcs!C18&\"-\"&Intermediate_Calcs!D18&\"-\"&Intermediate_Calcs!E18,IF(COUNTBLANK(Intermediate_Calcs!C18:G18)=1,Intermediate_Calcs!C18&\"-\"&Intermediate_Calcs!D18&\"-\"&Intermediate_Calcs!E18&\"-\"&Intermediate_Calcs!F18,Intermediate_Calcs!C18&\"-\"&Intermediate_Calcs!D18&\"-\"&Intermediate_Calcs!E18&\"-\"&Intermediate_Calcs!F18&\"-\"&Intermediate_Calcs!G18)))),20)","v":"----"},null,null,{"$f":"LEFT(IF(COUNTBLANK(Intermediate_Calcs!L18:P18)=4,Intermediate_Calcs!L18,IF(COUNTBLANK(Intermediate_Calcs!L18:P18)=3,Intermediate_Calcs!L18&\"-\"&Intermediate_Calcs!M18,IF(COUNTBLANK(Intermediate_Calcs!L18:P18)=2,Intermediate_Calcs!L18&\"-\"&Intermediate_Calcs!M18&\"-\"&Intermediate_Calcs!N18,IF(COUNTBLANK(Intermediate_Calcs!L18:P18)=1,Intermediate_Calcs!L18&\"-\"&Intermediate_Calcs!M18&\"-\"&Intermediate_Calcs!N18&\"-\"&Intermediate_Calcs!O18,Intermediate_Calcs!L18&\"-\"&Intermediate_Calcs!M18&\"-\"&Intermediate_Calcs!N18&\"-\"&Intermediate_Calcs!O18&\"-\"&Intermediate_Calcs!P18)))),20)","v":"----"}]
[null,"Length of Rotation",null,null,{"$f":"Intermediate_Calcs!H19","v":1},null,null,{"$f":"Intermediate_Calcs!Q19","v":1}]
[null,"Irrigation Method",null,null,{"$f":"Input!J16","v":0},null,null,{"$f":"Input!S16","v":0}]
[]
[]
[null,"Energy Input (added) to Field",null,null,{"$f":"Report_Details!H25","v":0},null,null,{"$f":"Report_Details!K25","v":0}]
[null,"[MMBTU/Ac/Yr]"]
[null,null,null,null,{"$f":"IF(E19=0,\"\",IF(E19<=H19,\"Increase \",\"Savings \")&ROUND(ABS(E19-H19)/E19*100,1)&\"%      \"&ROUND(ABS(E19-H19),1)&\" MMBTU/ac/yr\")","v":""}]
[]
[]
[null,"Energy Harvest",null,null,{"$f":"Report_Details!H31","v":0},null,null,{"$f":"Report_Details!K31","v":0}]
[null,"[MMBTU/Ac/Yr]"]
[null,null,null,null,{"$f":"IF(E24=0,\"\",IF(E24<=H24,K1&\" \",\"Loss \")&ROUND(ABS(E24-H24)/E24*100,1)&\"%     \"&ROUND(ABS(H24-E24),1)&\" MMBTU/ac/yr\")","v":""}]
[]
[]
[null,"Energy Remaining",null,null,{"$f":"Report_Details!H36","v":0},null,null,{"$f":"Report_Details!K36","v":0}]
[null,"[MMBTU/Ac/Yr]"]
[null,null,null,null,{"$f":"IF(E29=0,\"\",IF(E29<=H29,K1&\" \",\"Loss \")&ROUND(ABS(E29-H29)/E29*100,1)&\"%     \"&ROUND(ABS(H29-E29),1)&\" MMBTU/ac/yr\")","v":""}]
[]
[]
[]
[null,"Total Energy Yield",null,null,{"$f":"Report_Details!H39","v":0},null,null,{"$f":"Report_Details!K39","v":0}]
[null,"[MMBTU/Ac/Yr]"]
[]
[null,null,null,null,{"$f":"IF(E35=0,\"\",IF(E35<=H35,K1&\" \",\"Loss \")&ROUND(ABS(E35-H35)/E35*100,1)&\"%     \"&ROUND(ABS(H35-E35),1)&\" MMBTU/ac/yr\")","v":""}]
[]
[]
[]
[null,"Energy Gain Index",null,null,{"$f":"Report_Details!H44","v":""},null,null,{"$f":"Report_Details!K44","v":""}]
[]
[]
[null,"Output Index",null,null,{"$f":"Report_Details!H46","v":""},null,null,{"$f":"Report_Details!K46","v":""}]
[]
[]
[null,"Energy Harvest Index",null,null,{"$f":"Report_Details!H48","v":""},null,null,{"$f":"Report_Details!K48","v":""}]

{"sheet":"Report_Details","index":3,"n_rows":48,"n_cols":14,"rows_kept":48,"cut":false,"hidden":false,"merged":[[40,7,40,10],[16,1,22,1],[26,1,28,1],[32,1,33,1],[42,1,48,1],[37,1,41,1],[1,1,1,11],[3,1,3,11],[10,1,13,1],[10,7,10,8],[10,10,10,11],[11,7,11,8],[11,10,11,11],[12,7,12,8],[12,10,12,11],[13,7,13,8],[13,10,13,11]]}
[null,null,null,null,null,null,null,null,null,null,null,null,null,{"$f":"Report_Sum!K1","v":"Gain"}]
[null,"NRCS - CROPLAND ENERGY TOOL"]
[]
[null,"DETAILED ENERGY SUMMARY FOR ALTERNATIVE FIELD ROTATIONS"]
[]
[null,null,null,null,{"$f":"\"Landowner: \"&Input!E14","v":"Landowner: "},null,"Field Area: ",{"$f":"IF(Input!J14=\"\",\"\",Input!J14)","v":""},null,null,"Date: ",{"$f":"IF(Input!E17=\"\",\"\",Input!E17)","v":""}]
[null,null,null,null,{"$f":"IF(Input!E15=\"\",\"Field Location: \",IF(OR(Input!E15=\"American Samoa\",Input!E15=\"District of Columbia\",Input!E15=\"Puerto Rico\",Input!E15=\"Virgin Islands\",Input!E15=\"Guam\"),\"Field Location: \"&Input!E15,\"Field Location: \"&Input!E16&IF(Input!E15=\"Alaska\",\" Boro., \",\" Co., \")&VLOOKUP(Input!E15,Input!C208:D262,2,FALSE)))","v":"Field Location: "},null,"Field ID: ",{"$f":"IF(Input!J15=\"\",\"\",Input!J15)","v":""},null,null,"Latitude:",{"$f":"IF(Input!E18=\"\",\"\",Input!E18)","v":""}]
[null,null,null,null,null,null,null,null,null,null,"Longitude:",{"$f":"IF(Input!E19=\"\",\"\",Input!E19)","v":""}]
[]
[]
[null,"Alternatives",null,"Alternative Description",null,null,null,{"$f":"Input!C10","v":"BENCHMARK"},null,null,{"$f":"Input!Q10","v":"PLANNED"}]
[null,null,null,"Crop Rotation",null,null,null,{"$f":"LEFT(IF(COUNTBLANK(Intermediate_Calcs!C18:G18)=4,Intermediate_Calcs!C18,IF(COUNTBLANK(Intermediate_Calcs!C18:G18)=3,Intermediate_Calcs!C18&\"-\"&Intermediate_Calcs!D18,IF(COUNTBLANK(Intermediate_Calcs!C18:G18)=2,Intermediate_Calcs!C18&\"-\"&Intermediate_Calcs!D18&\"-\"&Intermediate_Calcs!E18,IF(COUNTBLANK(Intermediate_Calcs!C18:G18)=1,Intermediate_Calcs!C18&\"-\"&Intermediate_Calcs!D18&\"-\"&Intermediate_Calcs!E18&\"-\"&Intermediate_Calcs!F18,Intermediate_Calcs!C18&\"-\"&Intermediate_Calcs!D18&\"-\"&Intermediate_Calcs!E18&\"-\"&Intermediate_Calcs!F18&\"-\"&Intermediate_Calcs!G18)))),20)","v":"----"},null,null,{"$f":"LEFT(IF(COUNTBLANK(Intermediate_Calcs!L18:P18)=4,Intermediate_Calcs!L18,IF(COUNTBLANK(Intermediate_Calcs!L18:P18)=3,Intermediate_Calcs!L18&\"-\"&Intermediate_Calcs!M18,IF(COUNTBLANK(Intermediate_Calcs!L18:P18)=2,Intermediate_Calcs!L18&\"-\"&Intermediate_Calcs!M18&\"-\"&Intermediate_Calcs!N18,IF(COUNTBLANK(Intermediate_Calcs!L18:P18)=1,Intermediate_Calcs!L18&\"-\"&Intermediate_Calcs!M18&\"-\"&Intermediate_Calcs!N18&\"-\"&Intermediate_Calcs!O18,Intermediate_Calcs!L18&\"-\"&Intermediate_Calcs!M18&\"-\"&Intermediate_Calcs!N18&\"-\"&Intermediate_Calcs!O18&\"-\"&Intermediate_Calcs!P18)))),20)","v":"----"}]
[null,null,null,"Length of Rotation",null,null,null,{"$f":"Intermediate_Calcs!H19","v":1},null,null,{"$f":"Intermediate_Calcs!Q19","v":1}]
[null,null,null,"Irrigation Method",null,null,null,{"$f":"Input!J16","v":0},null,null,{"$f":"Input!S16","v":0}]
[]
[null,"           Units               (MMBTU = Million British Thermal Units)",null,null,null,null,null,"[MMBTU/ac/yr]","Percent",null,"[MMBTU/ac/yr]","Percent"]
[null,"Energy Input (added) to Field",null,"Harvest Operations Energy Input",null,null,null,{"$f":"Intermediate_Calcs!H20","v":0},{"$f":"IF(H25=0,\"\",H17/H$25)","v":""},null,{"$f":"Intermediate_Calcs!Q20","v":0},{"$f":"IF(K25=0,\"\",K17/K$25)","v":""}]
[null,null,null,"Field Operations Energy Input",null,null,null,{"$f":"SUM(Intermediate_Calcs!H21:H25)","v":0},{"$f":"IF(H25=0,\"\",H18/H$25)","v":""},null,{"$f":"SUM(Intermediate_Calcs!Q21:Q25)","v":0},{"$f":"IF(K25=0,\"\",K18/K$25)","v":""}]
[null,null,null,"Irrigation and Delivery Energy",null,null,null,{"$f":"Intermediate_Calcs!H26","v":0},{"$f":"IF(H25=0,\"\",H19/H$25)","v":""},null,{"$f":"Intermediate_Calcs!Q26","v":0},{"$f":"IF(K25=0,\"\",K19/K$25)","v":""}]
[null,null,null,"Other Delivery Energy",null,null,null,{"$f":"Intermediate_Calcs!H28+Intermediate_Calcs!H27","v":0},{"$f":"IF(H25=0,\"\",H20/H$25)","v":""},null,{"$f":"Intermediate_Calcs!Q28+Intermediate_Calcs!Q27","v":0},{"$f":"IF(K25=0,\"\",K20/K$25)","v":""}]
[null,null,null,"Agrichemicals/Fertilizers",null,null,null,{"$f":"SUM(Intermediate_Calcs!H36:H41)","v":0},{"$f":"IF(H25=0,\"\",H21/H$25)","v":""},null,{"$f":"SUM(Intermediate_Calcs!Q36:Q41)","v":0},{"$f":"IF(K25=0,\"\",K21/K$25)","v":""}]
[null,null,null,"Soil Amendments",null,null,null,{"$f":"SUM(Intermediate_Calcs!H30:H35)","v":0},{"$f":"IF(H25=0,\"\",H22/H$25)","v":""},null,{"$f":"SUM(Intermediate_Calcs!Q30:Q35)","v":0},{"$f":"IF(K25=0,\"\",K22/K$25)","v":""}]
[null,null,null,"Labor",null,null,null,{"$f":"Intermediate_Calcs!H29","v":0},{"$f":"IF(H25=0,\"\",H23/H$25)","v":""},null,{"$f":"Intermediate_Calcs!Q29","v":0},{"$f":"IF(K25=0,\"\",K23/K$25)","v":""}]
[]
[null,{"$f":"IF(H25=0,\"\",IF(H25<=K25,\"Increase \",\"Savings \")&ROUND(ABS(H25-K25)/H25*100,1)&\"%\")","v":""},null,"Total",null,null,null,{"$f":"SUM(H17:H23)","v":0},null,null,{"$f":"SUM(K17:K23)","v":0}]
[]
[null,"Energy Harvest",null,"Crop Harvest Removed",null,null,null,{"$f":"Intermediate_Calcs!H42","v":0},{"$f":"IF(H31=0,\"\",H27/H$31)","v":""},null,{"$f":"Intermediate_Calcs!Q42","v":0},{"$f":"IF(K31=0,\"\",K27/K$31)","v":""}]
[null,null,null,"Post Harvest Grazing Yield",null,null,null,{"$f":"Intermediate_Calcs!H43","v":0},{"$f":"IF(H31=0,\"\",H28/H$31)","v":""},null,{"$f":"Intermediate_Calcs!Q43","v":0},{"$f":"IF(K31=0,\"\",K28/K$31)","v":""}]
[null,null,null,"Post Harvest Crop Residue Removed",null,null,null,{"$f":"Intermediate_Calcs!H44","v":0},{"$f":"IF(H31=0,\"\",H29/H$31)","v":""},null,{"$f":"Intermediate_Calcs!Q44","v":0},{"$f":"IF(K31=0,\"\",K29/K$31)","v":""}]
[]
[null,{"$f":"IF(H31=0,\"\",IF(H31<=K31,N1&\" \",\"Loss \")&ROUND(ABS(H31-K31)/H31*100,1)&\"%\")","v":""},null,"Total",null,null,null,{"$f":"SUM(H27:H29)","v":0},null,null,{"$f":"SUM(K27:K29)","v":0}]
[]
[null,"Energy Remaining",null,"Rootmass",null,null,null,{"$f":"Intermediate_Calcs!H8*7500/1000000","v":0},{"$f":"IF(H36=0,\"\",H33/H$36)","v":""},null,{"$f":"Intermediate_Calcs!Q8*7500/1000000","v":0},{"$f":"IF(K36=0,\"\",K33/K$36)","v":""}]
[null,null,null,"Surface Residue",null,null,null,{"$f":"Intermediate_Calcs!H14*7500/1000000","v":0},{"$f":"IF(H36=0,\"\",H34/H$36)","v":""},null,{"$f":"Intermediate_Calcs!Q14*7500/1000000","v":0},{"$f":"IF(K36=0,\"\",K34/K$36)","v":""}]
[]
[null,{"$f":"IF(H36=0,\"\",IF(H36<=K36,N1&\" \",\"Loss \")&ROUND(ABS(H36-K36)/H36*100,1)&\"%\")","v":""},null,"Total",null,null,null,{"$f":"H33+H34","v":0},null,null,{"$f":"K33+K34","v":0}]
[]
[null,"Total Energy Yield"]
[null,null,null,"Total",null,null,null,{"$f":"H31+H36-H25","v":0},null,null,{"$f":"K31+K36-K25","v":0}]
[]
[null,null,null,"Gain/Loss",null,null,null,{"$f":"IF(H39=0,\"\",IF(H39<=K39,N1&\" \",\"Loss \")&ROUND(ABS(H39-K39)/H39*100,1)&\"%     \"&ROUND(ABS(K39-H39),1)&\" MMBTU/ac/yr\")","v":""}]
[]
[null,"Energy Index Values"]
[null,null,null,"Energy Gain Index",null,null,null,{"$f":"IF(H25=0,\"\",(H39+H25)/H25)","v":""},null,null,{"$f":"IF(K25=0,\"\",(K39+K25)/K25)","v":""}]
[]
[null,null,null,"Output Index",null,null,null,{"$f":"IF(H31+H36=0,\"\",H31/(H31+H36))","v":""},null,null,{"$f":"IF(K31+K36=0,\"\",K31/(K31+K36))","v":""}]
[]
[null,null,null,"Energy Harvest Index",null,null,null,{"$f":"IF(OR(H44=\"\",H46=\"\"),\"\",H46*H44)","v":""},null,null,{"$f":"IF(OR(K44=\"\",K46=\"\"),\"\",K46*K44)","v":""}]

{"sheet":"Report_Cost","index":4,"n_rows":109,"n_cols":23,"rows_kept":109,"cut":false,"hidden":false,"merged":[[83,22,83,23],[87,22,87,23],[88,22,88,23],[81,22,81,23],[82,22,82,23],[84,22,84,23],[85,22,85,23]]}
[]
[null,"NRCS - CROPLAND ENERGY TOOL"]
[]
[null,"COST ANALYSIS SUMMARY FOR ALTERNATIVE FIELD ROTATIONS"]
[]
[null,null,null,null,null,{"$f":"\"Landowner: \"&Input!E14","v":"Landowner: "},null,null,null,"Field Area: ",{"$f":"IF(Input!J14=\"\",\"\",Input!J14)","v":""},null,null,null,"Date: ",{"$f":"IF(Input!E17=\"\",\"\",Input!E17)","v":""}]
[null,null,null,null,null,{"$f":"IF(Input!E15=\"\",\"Field Location: \",IF(OR(Input!E15=\"American Samoa\",Input!E15=\"District of Columbia\",Input!E15=\"Puerto Rico\",Input!E15=\"Virgin Islands\",Input!E15=\"Guam\"),\"Field Location: \"&Input!E15,\"Field Location: \"&Input!E16&IF(Input!E15=\"Alaska\",\" Boro., \",\" Co., \")&VLOOKUP(Input!E15,Input!C208:D262,2,FALSE)))","v":"Field Location: "},null,null,null,"Field ID: ",{"$f":"IF(Input!J15=\"\",\"\",Input!J15)","v":""},null,null,null,"Latitude:",{"$f":"IF(Input!E18=\"\",\"\",Input!E18)","v":""}]
[null,null,null,null,null,null,null,null,null,null,null,null,null,null,"Longitude:",{"$f":"IF(Input!E19=\"\",\"\",Input!E19)","v":""}]
[]
[]
[null,"Energy Input - Fuel Types and Unit Costs",null,null,null,null,null,null,null,"BENCHMARK COSTS PER ACRE"]
[null,null,"Fuel","Units","Unit","BTU/Unit","Unit Conversion","Cost per"]
[null,null,"Type",null,"Price",null,"to MMBTU","MMBTU"]
[null,null,{"$f":"Input!C168","v":"Diesel"},{"$f":"Input!D168","v":"Gal"},{"$f":"Input!E168","v":4.2},{"$f":"Input!F168","v":139000},{"$f":"Input!G168","v":7.1942446043165464},{"$f":"Input!H168","v":30.215827338129497}]
[null,null,{"$f":"Input!C169","v":"Gasoline (E10)"},{"$f":"Input!D169","v":"Gal"},{"$f":"Input!E169","v":3.7},{"$f":"Input!F169","v":120000},{"$f":"Input!G169","v":8.3333333333333339},{"$f":"Input!H169","v":30.833333333333336}]
[null,null,{"$f":"Input!C170","v":"BioDiesel B2"},{"$f":"Input!D170","v":"Gal"},{"$f":"Input!E170","v":4},{"$f":"Input!F170","v":138600},{"$f":"Input!G170","v":7.2150072150072146},{"$f":"Input!H170","v":28.860028860028859}]
[null,null,{"$f":"Input!C171","v":"BioDiesel B5"},{"$f":"Input!D171","v":"Gal"},{"$f":"Input!E171","v":4},{"$f":"Input!F171","v":138000},{"$f":"Input!G171","v":7.2463768115942031},{"$f":"Input!H171","v":28.985507246376812}]
[null,null,{"$f":"Input!C172","v":"BioDiesel B10"},{"$f":"Input!D172","v":"Gal"},{"$f":"Input!E172","v":4},{"$f":"Input!F172","v":136900},{"$f":"Input!G172","v":7.3046018991964941},{"$f":"Input!H172","v":29.218407596785976}]
[null,null,{"$f":"Input!C173","v":"BioDiesel B20"},{"$f":"Input!D173","v":"Gal"},{"$f":"Input!E173","v":4},{"$f":"Input!F173","v":134900},{"$f":"Input!G173","v":7.4128984432913265},{"$f":"Input!H173","v":29.651593773165306}]
[null,null,{"$f":"Input!C174","v":"BioDiesel B100"},{"$f":"Input!D174","v":"Gal"},{"$f":"Input!E174","v":4},{"$f":"Input!F174","v":118300},{"$f":"Input!G174","v":8.4530853761622993},{"$f":"Input!H174","v":33.812341504649197}]
[null,null,{"$f":"Input!C175","v":"SVO"},{"$f":"Input!D175","v":"Gal"},{"$f":"Input!E175","v":4},{"$f":"Input!F175","v":123140},{"$f":"Input!G175","v":8.1208380704888743},{"$f":"Input!H175","v":32.483352281955497}]
[null,null,{"$f":"Input!C176","v":"Heating Oil"},{"$f":"Input!D176","v":"Gal"},{"$f":"Input!E176","v":4},{"$f":"Input!F176","v":140000},{"$f":"Input!G176","v":7.1428571428571432},{"$f":"Input!H176","v":28.571428571428573}]
[null,null,{"$f":"Input!C177","v":"Propane"},{"$f":"Input!D177","v":"Gal"},{"$f":"Input!E177","v":4},{"$f":"Input!F177","v":91600},{"$f":"Input!G177","v":10.91703056768559},{"$f":"Input!H177","v":43.668122270742359}]
[null,null,{"$f":"Input!C178","v":"Natural Gas"},{"$f":"Input!D178","v":"CCF"},{"$f":"Input!E178","v":0.86},{"$f":"Input!F178","v":103000},{"$f":"Input!G178","v":9.7087378640776691},{"$f":"Input!H178","v":8.349514563106796}]
[null,null,{"$f":"Input!C179","v":"CNG"},{"$f":"Input!D179","v":"CCF"},{"$f":"Input!E179","v":4},{"$f":"Input!F179","v":100000},{"$f":"Input!G179","v":10},{"$f":"Input!H179","v":40}]
[null,null,{"$f":"Input!C180","v":"Ethanol"},{"$f":"Input!D180","v":"Gal"},{"$f":"Input!E180","v":3},{"$f":"Input!F180","v":84400},{"$f":"Input!G180","v":11.848341232227488},{"$f":"Input!H180","v":35.545023696682463},null,"PLANNED COSTS PER ACRE"]
[null,null,{"$f":"Input!C181","v":"Electricity"},{"$f":"Input!D181","v":"KWH"},{"$f":"Input!E181","v":0.04},{"$f":"Input!F181","v":3412},{"$f":"Input!G181","v":293.08323563892145},{"$f":"Input!H181","v":11.723329425556859}]
[null,null,{"$f":"Input!C182","v":"Hydro Elec."},{"$f":"Input!D182","v":"KWH"},{"$f":"Input!E182","v":0},{"$f":"Input!F182","v":3412},{"$f":"Input!G182","v":293.08323563892145},{"$f":"Input!H182","v":0}]
[null,null,{"$f":"Input!C183","v":"Solar"},{"$f":"Input!D183","v":"KWH"},{"$f":"Input!E183","v":0},{"$f":"Input!F183","v":3412},{"$f":"Input!G183","v":293.08323563892145},{"$f":"Input!H183","v":0}]
[null,null,{"$f":"Input!C184","v":"Wind"},{"$f":"Input!D184","v":"KWH"},{"$f":"Input!E184","v":0},{"$f":"Input!F184","v":3412},{"$f":"Input!G184","v":293.08323563892145},{"$f":"Input!H184","v":0}]
[null,null,{"$f":"Input!C186","v":"Soil Amend"},{"$f":"Input!D186","v":"ton"},{"$f":"Input!E186","v":25},{"$f":"Input!F186","v":11250000},{"$f":"Input!G186","v":8.8888888888888892E-2},{"$f":"Input!H186","v":2.2222222222222223}]
[null,null,{"$f":"Input!C187","v":"Labor"},{"$f":"Input!D187","v":"day"},{"$f":"Input!E187","v":30},{"$f":"Input!F187","v":11900},{"$f":"Input!G187","v":84.033613445378151},{"$f":"Input!H187","v":2521.0084033613443}]
[null,null,{"$f":"Input!C188","v":"Nitrogen"},{"$f":"Input!D188","v":"lb"},{"$f":"Input!E188","v":0.7},{"$f":"Input!F188","v":20000},{"$f":"Input!G188","v":50},{"$f":"Input!H188","v":35}]
[null,null,{"$f":"Input!C189","v":"Phosphorus"},{"$f":"Input!D189","v":"lb"},{"$f":"Input!E189","v":0.65},{"$f":"Input!F189","v":7000},{"$f":"Input!G189","v":142.85714285714286},{"$f":"Input!H189","v":92.857142857142861}]
[null,null,{"$f":"Input!C190","v":"Potassium"},{"$f":"Input!D190","v":"lb"},{"$f":"Input!E190","v":0.55000000000000004},{"$f":"Input!F190","v":5500},{"$f":"Input!G190","v":181.81818181818181},{"$f":"Input!H190","v":100}]
[null,null,{"$f":"Input!C191","v":"Sulfur"},{"$f":"Input!D191","v":"lb"},{"$f":"Input!E191","v":0.21},{"$f":"Input!F191","v":2000},{"$f":"Input!G191","v":500},{"$f":"Input!H191","v":105}]
[null,null,{"$f":"Input!C192","v":"Herbicide"},{"$f":"Input!D192","v":"oz"},{"$f":"Input!E192","v":0.35},{"$f":"Input!F192","v":6250},{"$f":"Input!G192","v":160},{"$f":"Input!H192","v":56}]
[null,null,{"$f":"Input!C193","v":"Pesticide"},{"$f":"Input!D193","v":"oz"},{"$f":"Input!E193","v":3.5},{"$f":"Input!F193","v":6250},{"$f":"Input!G193","v":160},{"$f":"Input!H193","v":560}]
[null,null,{"$f":"Input!C185","v":"Agrichemicals"},{"$f":"Input!D185","v":"lb"},{"$f":"Input!E185","v":"Varies"},{"$f":"Input!F185","v":"Varies"},{"$f":"Input!G185","v":"Varies"},{"$f":"Input!H185","v":"Varies"}]
[]
[null,"Per Acre Costs"]
[null,null,null,null,null,null,"BENCHMARK",null,null,null,null,"PLANNED",null,null,null,"Difference"]
[null,null,null,null,null,null,{"$f":"LEFT(IF(COUNTBLANK(Intermediate_Calcs!C18:G18)=4,Intermediate_Calcs!C18,IF(COUNTBLANK(Intermediate_Calcs!C18:G18)=3,Intermediate_Calcs!C18&\"-\"&Intermediate_Calcs!D18,IF(COUNTBLANK(Intermediate_Calcs!C18:G18)=2,Intermediate_Calcs!C18&\"-\"&Intermediate_Calcs!D18&\"-\"&Intermediate_Calcs!E18,IF(COUNTBLANK(Intermediate_Calcs!C18:G18)=1,Intermediate_Calcs!C18&\"-\"&Intermediate_Calcs!D18&\"-\"&Intermediate_Calcs!E18&\"-\"&Intermediate_Calcs!F18,Intermediate_Calcs!C18&\"-\"&Intermediate_Calcs!D18&\"-\"&Intermediate_Calcs!E18&\"-\"&Intermediate_Calcs!F18&\"-\"&Intermediate_Calcs!G18)))),25)","v":"----"},null,null,null,null,{"$f":"LEFT(IF(COUNTBLANK(Intermediate_Calcs!L18:P18)=4,Intermediate_Calcs!L18,IF(COUNTBLANK(Intermediate_Calcs!L18:P18)=3,Intermediate_Calcs!L18&\"-\"&Intermediate_Calcs!M18,IF(COUNTBLANK(Intermediate_Calcs!L18:P18)=2,Intermediate_Calcs!L18&\"-\"&Intermediate_Calcs!M18&\"-\"&Intermediate_Calcs!N18,IF(COUNTBLANK(Intermediate_Calcs!L18:P18)=1,Intermediate_Calcs!L18&\"-\"&Intermediate_Calcs!M18&\"-\"&Intermediate_Calcs!N18&\"-\"&Intermediate_Calcs!O18,Intermediate_Calcs!L18&\"-\"&Intermediate_Calcs!M18&\"-\"&Intermediate_Calcs!N18&\"-\"&Intermediate_Calcs!O18&\"-\"&Intermediate_Calcs!P18)))),25)","v":"----"}]
[null,"Energy Inputs (Added)",null,null,null,null,{"$f":"Intermediate_Calcs!H19","v":1},null,null,null,null,{"$f":"Intermediate_Calcs!Q19","v":1}]
[null,null,"to the Field"]
[null,null,null,null,null,"Amount","Energy Type","Amount","Cost",null,"Amount","Energy Type","Amount","Cost",null,"Cost"]
[null,null,null,null,null,null,null,"Used",null,null,null,null,"Used",null,null,"Change",null,null,"Savings",{"$f":"IF(P56>0,P56,0)","v":0}]
[null,null,null,null,null,"MMBTU/ac/yr",null,"[Unit/ac]","[$/ac/yr]",null,"MMBTU/ac/yr",null,"[Unit/ac]","[$/ac/yr]",null,"[$/ac/yr]",null,null,"Harvested Operations"]
[null,null,"Harvested Operations",null,null,{"$f":"Intermediate_Calcs!H20","v":0},"Diesel",{"$f":"IF(G49=\"Electricity\",ROUND(VLOOKUP(G49,$C$14:$H$38,5,FALSE)*F49,0),ROUND(VLOOKUP(G49,$C$14:$H$38,5,FALSE)*F49,2))&\" \"&VLOOKUP(G49,$C$14:$H$38,2,FALSE)","v":"0 Gal"},{"$f":"VLOOKUP(G49,$C$14:$H$38,6,FALSE)*F49","v":0},null,{"$f":"Intermediate_Calcs!Q20","v":0},"Diesel",{"$f":"IF(L49=\"Electricity\",ROUND(VLOOKUP(L49,$C$14:$H$38,5,FALSE)*K49,0),ROUND(VLOOKUP(L49,$C$14:$H$38,5,FALSE)*K49,2))&\" \"&VLOOKUP(L49,$C$14:$H$38,2,FALSE)","v":"0 Gal"},{"$f":"VLOOKUP(L49,$C$14:$H$38,6,FALSE)*K49","v":0},null,{"$f":"I49-N49","v":0},null,null,"Field Operations "]
[null,null,"Field Operations ",null,null,{"$f":"SUM(Intermediate_Calcs!H21:H25)","v":0},"Diesel",{"$f":"IF(G50=\"Electricity\",ROUND(VLOOKUP(G50,$C$14:$H$38,5,FALSE)*F50,0),ROUND(VLOOKUP(G50,$C$14:$H$38,5,FALSE)*F50,2))&\" \"&VLOOKUP(G50,$C$14:$H$38,2,FALSE)","v":"0 Gal"},{"$f":"VLOOKUP(G50,$C$14:$H$38,6,FALSE)*F50","v":0},null,{"$f":"SUM(Intermediate_Calcs!Q21:Q25)","v":0},"Diesel",{"$f":"IF(L50=\"Electricity\",ROUND(VLOOKUP(L50,$C$14:$H$38,5,FALSE)*K50,0),ROUND(VLOOKUP(L50,$C$14:$H$38,5,FALSE)*K50,2))&\" \"&VLOOKUP(L50,$C$14:$H$38,2,FALSE)","v":"0 Gal"},{"$f":"VLOOKUP(L50,$C$14:$H$38,6,FALSE)*K50","v":0},null,0,null,null,"Irrigation and Delivery Power"]
[null,null,"Irrigation Delivery Energy",null,null,{"$f":"Intermediate_Calcs!H26","v":0},"Electricity",{"$f":"IF(G51=\"Electricity\",ROUND(VLOOKUP(G51,$C$14:$H$38,5,FALSE)*F51,0),ROUND(VLOOKUP(G51,$C$14:$H$38,5,FALSE)*F51,2))&\" \"&VLOOKUP(G51,$C$14:$H$38,2,FALSE)","v":"0 KWH"},{"$f":"VLOOKUP(G51,$C$14:$H$38,6,FALSE)*F51","v":0},null,{"$f":"Intermediate_Calcs!Q26","v":0},"Electricity",{"$f":"IF(L51=\"Electricity\",ROUND(VLOOKUP(L51,$C$14:$H$38,5,FALSE)*K51,0),ROUND(VLOOKUP(L51,$C$14:$H$38,5,FALSE)*K51,2))&\" \"&VLOOKUP(L51,$C$14:$H$38,2,FALSE)","v":"0 KWH"},{"$f":"VLOOKUP(L51,$C$14:$H$38,6,FALSE)*K51","v":0},null,0,null,null,"Other Delivery Power (Farming)"]
[null,null,"Other Delivery Energy",null,null,{"$f":"Intermediate_Calcs!H28+Intermediate_Calcs!H27","v":0},"Electricity",{"$f":"IF(G52=\"Electricity\",ROUND(VLOOKUP(G52,$C$14:$H$38,5,FALSE)*F52,0),ROUND(VLOOKUP(G52,$C$14:$H$38,5,FALSE)*F52,2))&\" \"&VLOOKUP(G52,$C$14:$H$38,2,FALSE)","v":"0 KWH"},{"$f":"VLOOKUP(G52,$C$14:$H$38,6,FALSE)*F52","v":0},null,{"$f":"Intermediate_Calcs!Q28+Intermediate_Calcs!Q27","v":0},"Electricity",{"$f":"IF(L52=\"Electricity\",ROUND(VLOOKUP(L52,$C$14:$H$38,5,FALSE)*K52,0),ROUND(VLOOKUP(L52,$C$14:$H$38,5,FALSE)*K52,2))&\" \"&VLOOKUP(L52,$C$14:$H$38,2,FALSE)","v":"0 KWH"},{"$f":"VLOOKUP(L52,$C$14:$H$38,6,FALSE)*K52","v":0},null,0,null,null,"Inorganics Applied"]
[null,null,"Agrichemicals/Fertilizers",null,null,{"$f":"SUM(Intermediate_Calcs!H36:'Intermediate_Calcs'!H41)","v":0},"Agrichemicals",{"$f":"IF(G53=\"Agrichemicals\",ROUND(($G$33*Intermediate_Calcs!$H$36+$G$34*Intermediate_Calcs!$H$37+$G$35*Intermediate_Calcs!$H$38+$G$36*Intermediate_Calcs!$H$39+$G$37/IF(Input!D192=\"oz\",16,1)*Intermediate_Calcs!$H$40+$G$38/IF(Input!D193=\"oz\",16,1)*Intermediate_Calcs!$H$41)/IF(SUM(Intermediate_Calcs!$H$36:'Intermediate_Calcs'!$H$41)=0,1,SUM(Intermediate_Calcs!$H$36:'Intermediate_Calcs'!$H$41))*F53,1),IF(G53=\"Electricity\",ROUND(VLOOKUP(G53,$C$14:$H$39,5,FALSE)*F53,0),ROUND(VLOOKUP(G53,$C$14:$H$38,5,FALSE)*F53,2)))&\" \"&VLOOKUP(G53,$C$14:$H$39,2,FALSE)","v":"0 lb"},{"$f":"SUM(I103:I108)","v":0},null,{"$f":"SUM(Intermediate_Calcs!Q36:'Intermediate_Calcs'!Q41)","v":0},"Agrichemicals",{"$f":"IF(L53=\"Agrichemicals\",ROUND(($G$33*Intermediate_Calcs!$Q$36+$G$34*Intermediate_Calcs!$Q$37+$G$35*Intermediate_Calcs!$Q$38+$G$36*Intermediate_Calcs!$Q$39+$G$37/IF(Input!D192=\"oz\",16,1)*Intermediate_Calcs!$Q$40+$G$38/IF(Input!D193=\"oz\",16,1)*Intermediate_Calcs!$Q$41)/IF(SUM(Intermediate_Calcs!$Q$36:'Intermediate_Calcs'!$Q$41)=0,1,SUM(Intermediate_Calcs!$Q$36:'Intermediate_Calcs'!$Q$41))*K53,1),IF(L53=\"Electricity\",ROUND(VLOOKUP(L53,$C$14:$H$38,5,FALSE)*K53,0),ROUND(VLOOKUP(L53,$C$14:$H$38,5,FALSE)*K53,2)))&\" \"&VLOOKUP(L53,$C$14:$H$39,2,FALSE)","v":"0 lb"},{"$f":"SUM(N103:N108)","v":0},null,0]
[null,null,"Soil Amendments",null,null,{"$f":"SUM(Intermediate_Calcs!H30:H35)","v":0},"Soil Amend",{"$f":"IF(G54=\"Electricity\",ROUND(VLOOKUP(G54,$C$14:$H$38,5,FALSE)*F54,0),ROUND(VLOOKUP(G54,$C$14:$H$38,5,FALSE)*F54,2))&\" \"&VLOOKUP(G54,$C$14:$H$38,2,FALSE)","v":"0 ton"},{"$f":"VLOOKUP(G54,$C$14:$H$38,6,FALSE)*F54","v":0},null,{"$f":"SUM(Intermediate_Calcs!Q30:Q35)","v":0},"Soil Amend",{"$f":"IF(L54=\"Electricity\",ROUND(VLOOKUP(L54,$C$14:$H$38,5,FALSE)*K54,0),ROUND(VLOOKUP(L54,$C$14:$H$38,5,FALSE)*K54,2))&\" \"&VLOOKUP(L54,$C$14:$H$38,2,FALSE)","v":"0 ton"},{"$f":"VLOOKUP(L54,$C$14:$H$38,6,FALSE)*K54","v":0},null,0,null,null,"Organics Applied"]
[null,null,"Labor",null,null,{"$f":"Intermediate_Calcs!H29","v":0},"Labor",{"$f":"IF(G55=\"Electricity\",ROUND(VLOOKUP(G55,$C$14:$H$38,5,FALSE)*F55,0),ROUND(VLOOKUP(G55,$C$14:$H$38,5,FALSE)*F55,2))&\" \"&VLOOKUP(G55,$C$14:$H$38,2,FALSE)","v":"0 day"},{"$f":"VLOOKUP(G55,$C$14:$H$38,6,FALSE)*F55","v":0},null,{"$f":"Intermediate_Calcs!Q29","v":0},"Labor",{"$f":"IF(L55=\"Electricity\",ROUND(VLOOKUP(L55,$C$14:$H$38,5,FALSE)*K55,0),ROUND(VLOOKUP(L55,$C$14:$H$38,5,FALSE)*K55,2))&\" \"&VLOOKUP(L55,$C$14:$H$38,2,FALSE)","v":"0 day"},{"$f":"VLOOKUP(L55,$C$14:$H$38,6,FALSE)*K55","v":0},null,0,null,null,"Labor"]
[null,null,"Total:",null,null,{"$f":"SUM(F49:F55)","v":0},null,null,{"$f":"SUM(I49:I55)","v":0},null,{"$f":"SUM(K49:K55)","v":0},null,null,{"$f":"SUM(N49:N55)","v":0},null,0]
[]
[null,"Total Field Costs"]
[null,null,null,null,null,null,"BENCHMARK",null,null,null,null,"PLANNED",null,null,null,"Difference"]
[null,null,null,null,null,null,{"$f":"LEFT(IF(COUNTBLANK(Intermediate_Calcs!C18:G18)=4,Intermediate_Calcs!C18,IF(COUNTBLANK(Intermediate_Calcs!C18:G18)=3,Intermediate_Calcs!C18&\"-\"&Intermediate_Calcs!D18,IF(COUNTBLANK(Intermediate_Calcs!C18:G18)=2,Intermediate_Calcs!C18&\"-\"&Intermediate_Calcs!D18&\"-\"&Intermediate_Calcs!E18,IF(COUNTBLANK(Intermediate_Calcs!C18:G18)=1,Intermediate_Calcs!C18&\"-\"&Intermediate_Calcs!D18&\"-\"&Intermediate_Calcs!E18&\"-\"&Intermediate_Calcs!F18,Intermediate_Calcs!C18&\"-\"&Intermediate_Calcs!D18&\"-\"&Intermediate_Calcs!E18&\"-\"&Intermediate_Calcs!F18&\"-\"&Intermediate_Calcs!G18)))),25)","v":"----"},null,null,null,null,{"$f":"LEFT(IF(COUNTBLANK(Intermediate_Calcs!L18:P18)=4,Intermediate_Calcs!L18,IF(COUNTBLANK(Intermediate_Calcs!L18:P18)=3,Intermediate_Calcs!L18&\"-\"&Intermediate_Calcs!M18,IF(COUNTBLANK(Intermediate_Calcs!L18:P18)=2,Intermediate_Calcs!L18&\"-\"&Intermediate_Calcs!M18&\"-\"&Intermediate_Calcs!N18,IF(COUNTBLANK(Intermediate_Calcs!L18:P18)=1,Intermediate_Calcs!L18&\"-\"&Intermediate_Calcs!M18&\"-\"&Intermediate_Calcs!N18&\"-\"&Intermediate_Calcs!O18,Intermediate_Calcs!L18&\"-\"&Intermediate_Calcs!M18&\"-\"&Intermediate_Calcs!N18&\"-\"&Intermediate_Calcs!O18&\"-\"&Intermediate_Calcs!P18)))),25)","v":"----"}]
[null,"Energy Inputs (Added)",null,null,null,null,{"$f":"Intermediate_Calcs!H19","v":1},null,null,null,null,{"$f":"Intermediate_Calcs!Q19","v":1}]
[null,null,"to the Field"]
[null,null,null,null,null,"Amount","Energy Type","Amount","Cost",null,"Amount","Energy Type","Amount","Cost",null,"Cost"]
[null,null,null,null,null,null,null,"Used",null,null,null,null,"Used",null,null,"Change"]
[null,null,null,null,null,"MMBTU/yr",null,"[Unit]","[$/yr]",null,"MMBTU/yr",null,"[Unit]","[$/yr]",null,"[$/yr]"]
[null,null,"Harvested Operations",null,null,{"$f":"F49*Input!$J$14","v":0},{"$f":"G49","v":"Diesel"},{"$f":"IF(G66=\"Electricity\",ROUND(VLOOKUP(G66,$C$14:$H$38,5,FALSE)*F66,0),ROUND(VLOOKUP(G66,$C$14:$H$38,5,FALSE)*F66,0))&\" \"&VLOOKUP(G66,$C$14:$H$38,2,FALSE)","v":"0 Gal"},{"$f":"VLOOKUP(G66,$C$14:$H$38,6,FALSE)*F66","v":0},null,{"$f":"K49*Input!$S$14","v":0},{"$f":"L49","v":"Diesel"},{"$f":"IF(L66=\"Electricity\",ROUND(VLOOKUP(L66,$C$14:$H$38,5,FALSE)*K66,0),ROUND(VLOOKUP(L66,$C$14:$H$38,5,FALSE)*K66,0))&\" \"&VLOOKUP(L66,$C$14:$H$38,2,FALSE)","v":"0 Gal"},{"$f":"VLOOKUP(L66,$C$14:$H$38,6,FALSE)*K66","v":0},null,{"$f":"I66-N66","v":0}]
[null,null,"Field Operations ",null,null,{"$f":"F50*Input!$J$14","v":0},"Diesel",{"$f":"IF(G67=\"Electricity\",ROUND(VLOOKUP(G67,$C$14:$H$38,5,FALSE)*F67,0),ROUND(VLOOKUP(G67,$C$14:$H$38,5,FALSE)*F67,0))&\" \"&VLOOKUP(G67,$C$14:$H$38,2,FALSE)","v":"0 Gal"},{"$f":"VLOOKUP(G67,$C$14:$H$38,6,FALSE)*F67","v":0},null,{"$f":"K50*Input!$S$14","v":0},"Diesel",{"$f":"IF(L67=\"Electricity\",ROUND(VLOOKUP(L67,$C$14:$H$38,5,FALSE)*K67,0),ROUND(VLOOKUP(L67,$C$14:$H$38,5,FALSE)*K67,0))&\" \"&VLOOKUP(L67,$C$14:$H$38,2,FALSE)","v":"0 Gal"},{"$f":"VLOOKUP(L67,$C$14:$H$38,6,FALSE)*K67","v":0},null,0]
[null,null,"Irrigation Delivery Energy",null,null,{"$f":"F51*Input!$J$14","v":0},"Electricity",{"$f":"IF(G68=\"Electricity\",ROUND(VLOOKUP(G68,$C$14:$H$38,5,FALSE)*F68,0),ROUND(VLOOKUP(G68,$C$14:$H$38,5,FALSE)*F68,0))&\" \"&VLOOKUP(G68,$C$14:$H$38,2,FALSE)","v":"0 KWH"},{"$f":"VLOOKUP(G68,$C$14:$H$38,6,FALSE)*F68","v":0},null,{"$f":"K51*Input!$S$14","v":0},"Electricity",{"$f":"IF(L68=\"Electricity\",ROUND(VLOOKUP(L68,$C$14:$H$38,5,FALSE)*K68,0),ROUND(VLOOKUP(L68,$C$14:$H$38,5,FALSE)*K68,0))&\" \"&VLOOKUP(L68,$C$14:$H$38,2,FALSE)","v":"0 KWH"},{"$f":"VLOOKUP(L68,$C$14:$H$38,6,FALSE)*K68","v":0},null,0]
[null,null,"Other Delivery Energy",null,null,{"$f":"F52*Input!$J$14","v":0},"Electricity",{"$f":"IF(G69=\"Electricity\",ROUND(VLOOKUP(G69,$C$14:$H$38,5,FALSE)*F69,0),ROUND(VLOOKUP(G69,$C$14:$H$38,5,FALSE)*F69,0))&\" \"&VLOOKUP(G69,$C$14:$H$38,2,FALSE)","v":"0 KWH"},{"$f":"VLOOKUP(G69,$C$14:$H$38,6,FALSE)*F69","v":0},null,{"$f":"K52*Input!$S$14","v":0},"Electricity",{"$f":"IF(L69=\"Electricity\",ROUND(VLOOKUP(L69,$C$14:$H$38,5,FALSE)*K69,0),ROUND(VLOOKUP(L69,$C$14:$H$38,5,FALSE)*K69,0))&\" \"&VLOOKUP(L69,$C$14:$H$38,2,FALSE)","v":"0 KWH"},{"$f":"VLOOKUP(L69,$C$14:$H$38,6,FALSE)*K69","v":0},null,0]
[null,null,"Agrichemicals/Fertilizers",null,null,{"$f":"F53*Input!$J$14","v":0},"Agrichemicals",{"$f":"IF(G70=\"Agrichemicals\",ROUND(($G$33*Intermediate_Calcs!$H$36+$G$34*Intermediate_Calcs!$H$37+$G$35*Intermediate_Calcs!$H$38+$G$36*Intermediate_Calcs!$H$39+$G$37/IF(Input!D192=\"oz\",16,1)*Intermediate_Calcs!$H$40+$G$38/IF(Input!D193=\"oz\",16,1)*Intermediate_Calcs!$H$41)/IF(SUM(Intermediate_Calcs!$H$36:'Intermediate_Calcs'!$H$41)=0,1,SUM(Intermediate_Calcs!$H$36:'Intermediate_Calcs'!$H$41))*F70,1),IF(G70=\"Electricity\",ROUND(VLOOKUP(G70,$C$14:$H$38,5,FALSE)*F70,0),ROUND(VLOOKUP(G70,$C$14:$H$38,5,FALSE)*F70,2)))&\" \"&VLOOKUP(G70,$C$14:$H$39,2,FALSE)","v":"0 lb"},{"$f":"I53*Input!J14","v":0},null,{"$f":"K53*Input!$S$14","v":0},"Agrichemicals",{"$f":"IF(L70=\"Agrichemicals\",ROUND(($G$33*Intermediate_Calcs!$Q$36+$G$34*Intermediate_Calcs!$Q$37+$G$35*Intermediate_Calcs!$Q$38+$G$36*Intermediate_Calcs!$Q$39+$G$37/IF(Input!D192=\"oz\",16,1)*Intermediate_Calcs!$Q$40+$G$38/IF(Input!D193=\"oz\",16,1)*Intermediate_Calcs!$Q$41)/IF(SUM(Intermediate_Calcs!$Q$36:'Intermediate_Calcs'!$Q$41)=0,1,SUM(Intermediate_Calcs!$Q$36:'Intermediate_Calcs'!$Q$41))*K70,1),IF(L70=\"Electricity\",ROUND(VLOOKUP(L70,$C$14:$H$38,5,FALSE)*K70,0),ROUND(VLOOKUP(L70,$C$14:$H$38,5,FALSE)*K70,2)))&\" \"&VLOOKUP(L70,$C$14:$H$39,2,FALSE)","v":"0 lb"},{"$f":"N53*Input!S14","v":0},null,{"$f":"ROUND(I70,0)-ROUND(N70,0)","v":0}]
[null,null,"Soil Amendments",null,null,{"$f":"F54*Input!$J$14","v":0},"Soil Amend",{"$f":"IF(G71=\"Electricity\",ROUND(VLOOKUP(G71,$C$14:$H$38,5,FALSE)*F71,0),ROUND(VLOOKUP(G71,$C$14:$H$38,5,FALSE)*F71,2))&\" \"&VLOOKUP(G71,$C$14:$H$38,2,FALSE)","v":"0 ton"},{"$f":"VLOOKUP(G71,$C$14:$H$38,6,FALSE)*F71","v":0},null,{"$f":"K54*Input!$S$14","v":0},"Soil Amend",{"$f":"IF(L71=\"Electricity\",ROUND(VLOOKUP(L71,$C$14:$H$38,5,FALSE)*K71,0),ROUND(VLOOKUP(L71,$C$14:$H$38,5,FALSE)*K71,2))&\" \"&VLOOKUP(L71,$C$14:$H$38,2,FALSE)","v":"0 ton"},{"$f":"VLOOKUP(L71,$C$14:$H$38,6,FALSE)*K71","v":0},null,{"$f":"ROUND(I71,0)-ROUND(N71,0)","v":0}]
[null,null,"Labor",null,null,{"$f":"F55*Input!$J$14","v":0},"Labor",{"$f":"IF(G72=\"Electricity\",ROUND(VLOOKUP(G72,$C$14:$H$38,5,FALSE)*F72,0),ROUND(VLOOKUP(G72,$C$14:$H$38,5,FALSE)*F72,0))&\" \"&VLOOKUP(G72,$C$14:$H$38,2,FALSE)","v":"0 day"},{"$f":"VLOOKUP(G72,$C$14:$H$38,6,FALSE)*F72","v":0},null,{"$f":"K55*Input!$S$14","v":0},"Labor",{"$f":"IF(L72=\"Electricity\",ROUND(VLOOKUP(L72,$C$14:$H$38,5,FALSE)*K72,0),ROUND(VLOOKUP(L72,$C$14:$H$38,5,FALSE)*K72,0))&\" \"&VLOOKUP(L72,$C$14:$H$38,2,FALSE)","v":"0 day"},{"$f":"VLOOKUP(L72,$C$14:$H$38,6,FALSE)*K72","v":0},null,0]
[null,null,"Total:",null,null,{"$f":"SUM(F66:F72)","v":0},null,null,{"$f":"SUM(I66:I72)","v":0},null,{"$f":"SUM(K66:K72)","v":0},null,null,{"$f":"SUM(N66:N72)","v":0},null,0]
[]
[]
[]
[]
[]
[null,1]
[null,"Energy Inputs (Added)",null,null,null,null,"BENCHMARK",null,null,null,null,"PLANNED",null,null,null,"Difference",null,null,null,1]
[null,null,"to the Field",null,null,null,{"$f":"G43","v":"----"},null,null,null,null,{"$f":"L43","v":"----"},null,null,null,null,null,null,null,"Labor Cost"]
[null,null,null,null,null,null,{"$f":"G44","v":1},null,null,null,null,{"$f":"L44","v":1},null,null,null,null,null,null,null,"Type",null,"Unit","Cost"]
[null,null,null,null,null,null,null,null,null,null,null,null,null,null,null,null,null,null,null,null,null,"[Unit/ac]"]
[null,null,null,null,null,"Amount","Energy Type","Amount","Cost",null,"Amount","Energy Type","Amount","Cost",null,"Cost",null,null,null,"Amount Paid",null,"$/hr",12]
[null,null,null,null,null,null,null,"Used",null,null,null,null,"Used",null,null,"Change",null,null,null,"Benchmark Labor",null,"hr/ac",{"$f":"(Intermediate_Calcs!H29)*8*252*1000000/3000/1000","v":0}]
[null,null,null,null,null,"MMBTU/ac/yr",null,"[Unit/ac]","[$/ac]",null,"MMBTU/ac/yr",null,"[Unit/ac]","[$/ac]",null,"[$/acre]",null,null,null,"Planned Labor",null,"hr/ac",{"$f":"(Intermediate_Calcs!Q29)*8*252*1000000/3000/1000","v":0}]
[null,null,"Harvest operations",null,null,{"$f":"Intermediate_Calcs!H20","v":0},{"$f":"G49","v":"Diesel"},{"$f":"IF(G87=\"Electricity\",ROUND(VLOOKUP(G87,$C$14:$H$38,5,FALSE)*F87,0),ROUND(VLOOKUP(G87,$C$14:$H$38,5,FALSE)*F87,2))&\" \"&VLOOKUP(G87,$C$14:$H$38,2,FALSE)","v":"0 Gal"},{"$f":"VLOOKUP(G87,$C$14:$H$38,6,FALSE)*F87","v":0},null,{"$f":"Intermediate_Calcs!Q20","v":0},{"$f":"L49","v":"Diesel"},{"$f":"IF(L87=\"Electricity\",ROUND(VLOOKUP(L87,$C$14:$H$38,5,FALSE)*K87,0),ROUND(VLOOKUP(L87,$C$14:$H$38,5,FALSE)*K87,2))&\" \"&VLOOKUP(L87,$C$14:$H$38,2,FALSE)","v":"0 Gal"},{"$f":"VLOOKUP(L87,$C$14:$H$38,6,FALSE)*K87","v":0},null,{"$f":"I87-N87","v":0}]
[null,null,"Tillage operations",null,null,{"$f":"Intermediate_Calcs!H21","v":0},{"$f":"G50","v":"Diesel"},"0 Gal",0,null,{"$f":"Intermediate_Calcs!Q21","v":0},{"$f":"L50","v":"Diesel"},"0 Gal",0,null,{"$f":"I88-N88","v":0},null,null,null,"Labor Savings",null,"hr/ac",{"$f":"(Intermediate_Calcs!H29-Intermediate_Calcs!Q29)*8*252*1000000/3000/1000","v":0}]
[null,null,"Application operations",null,null,{"$f":"Intermediate_Calcs!H22","v":0},{"$f":"G50","v":"Diesel"},"0 Gal",0,null,{"$f":"Intermediate_Calcs!Q22","v":0},{"$f":"L50","v":"Diesel"},"0 Gal",0,null,0,null,null,null,"Labor Cost Savings",null,"$/ac",{"$f":"W84*W88","v":0}]
[null,null,"Planting operations",null,null,{"$f":"Intermediate_Calcs!H23","v":0},{"$f":"G50","v":"Diesel"},"0 Gal",0,null,{"$f":"Intermediate_Calcs!Q23","v":0},{"$f":"L50","v":"Diesel"},"0 Gal",0,null,0]
[null,null,"Other field operation",null,null,{"$f":"Intermediate_Calcs!H24","v":0},{"$f":"G50","v":"Diesel"},"0 Gal",0,null,{"$f":"Intermediate_Calcs!Q24","v":0},{"$f":"L50","v":"Diesel"},"0 Gal",0,null,0]
[null,null,"Manual input operation",null,null,{"$f":"Intermediate_Calcs!H25","v":0},{"$f":"G50","v":"Diesel"},"0 Gal",0,null,{"$f":"Intermediate_Calcs!Q25","v":0},{"$f":"L50","v":"Diesel"},"0 Gal",0,null,0]
[null,null,"Irrigation fuel energy inputs",null,null,{"$f":"Intermediate_Calcs!H26","v":0},{"$f":"G51","v":"Electricity"},"0 KWH",0,null,{"$f":"Intermediate_Calcs!Q26","v":0},{"$f":"L51","v":"Electricity"},"0 KWH",0,null,0]
[null,null,"Other delivery power (irrigation)",null,null,{"$f":"Intermediate_Calcs!H27","v":0},{"$f":"G51","v":"Electricity"},"0 KWH",0,null,{"$f":"Intermediate_Calcs!Q27","v":0},{"$f":"L51","v":"Electricity"},"0 KWH",0,null,0]
[null,null,"Other delivery power (farming)",null,null,{"$f":"Intermediate_Calcs!H28","v":0},{"$f":"G52","v":"Electricity"},"0 KWH",0,null,{"$f":"Intermediate_Calcs!Q28","v":0},{"$f":"L52","v":"Electricity"},"0 KWH",0,null,0]
[null,null,"Labor",null,null,{"$f":"Intermediate_Calcs!H29","v":0},"Labor","0 day",0,null,{"$f":"Intermediate_Calcs!Q29","v":0},"Labor","0 day",0,null,{"$f":"I96-N96","v":0}]
[null,null,"Applied manure",null,null,{"$f":"Intermediate_Calcs!H30","v":0},"Soil Amend","0 ton",0,null,{"$f":"Intermediate_Calcs!Q30","v":0},"Soil Amend","0 ton",0,null,0]
[null,null,"Grazing: Applied excreted manure",null,null,{"$f":"Intermediate_Calcs!H31","v":0},"Soil Amend","0 ton",0,null,{"$f":"Intermediate_Calcs!Q31","v":0},"Soil Amend","0 ton",0,null,0]
[null,null,"Applied Compost Energy Input",null,null,{"$f":"Intermediate_Calcs!H32","v":0},"Soil Amend","0 ton",0,null,{"$f":"Intermediate_Calcs!Q32","v":0},"Soil Amend","0 ton",0,null,0]
[null,null,"Seed",null,null,{"$f":"Intermediate_Calcs!H33","v":0},"Soil Amend","0 ton",0,null,{"$f":"Intermediate_Calcs!Q33","v":0},"Soil Amend","0 ton",0,null,0]
[null,null,"Imported feed",null,null,{"$f":"Intermediate_Calcs!H34","v":0},"Soil Amend","0 ton",0,null,{"$f":"Intermediate_Calcs!Q34","v":0},"Soil Amend","0 ton",0,null,0]
[null,null,"Other applied organic material",null,null,{"$f":"Intermediate_Calcs!H35","v":0},"Soil Amend","0 ton",0,null,{"$f":"Intermediate_Calcs!Q35","v":0},"Soil Amend","0 ton",0,null,0]
[null,null,"Nitrogen",null,null,{"$f":"Intermediate_Calcs!H36","v":0},"Nitrogen","0 lb",0,null,{"$f":"Intermediate_Calcs!Q36","v":0},"Nitrogen","0 lb",0,null,0]
[null,null,"Phosphorus",null,null,{"$f":"Intermediate_Calcs!H37","v":0},"Phosphorus","0 lb",0,null,{"$f":"Intermediate_Calcs!Q37","v":0},"Phosphorus","0 lb",0,null,0]
[null,null,"Potassium",null,null,{"$f":"Intermediate_Calcs!H38","v":0},"Potassium","0 lb",0,null,{"$f":"Intermediate_Calcs!Q38","v":0},"Potassium","0 lb",0,null,0]
[null,null,"Sulfur",null,null,{"$f":"Intermediate_Calcs!H39","v":0},"Sulfur","0 lb",0,null,{"$f":"Intermediate_Calcs!Q39","v":0},"Sulfur","0 lb",0,null,0]
[null,null,"Herbicide",null,null,{"$f":"Intermediate_Calcs!H40","v":0},"Herbicide",{"$f":"IF(G107=\"Electricity\",ROUND(VLOOKUP(G107,$C$14:$H$38,5,FALSE)*F107,0),ROUND(VLOOKUP(G107,$C$14:$H$38,5,FALSE)*F107,2))&\" \"&D37","v":"0 oz"},0,null,{"$f":"Intermediate_Calcs!Q40","v":0},"Herbicide",{"$f":"IF(L107=\"Electricity\",ROUND(VLOOKUP(L107,$C$14:$H$38,5,FALSE)*K107,0),ROUND(VLOOKUP(L107,$C$14:$H$38,5,FALSE)*K107,2))&\" \"&D37","v":"0 oz"},0,null,0]
[null,null,"Pesticide",null,null,{"$f":"Intermediate_Calcs!H41","v":0},"Pesticide",{"$f":"IF(G108=\"Electricity\",ROUND(VLOOKUP(G108,$C$14:$H$38,5,FALSE)*F108,0),ROUND(VLOOKUP(G108,$C$14:$H$38,5,FALSE)*F108,2))&\" \"&D38","v":"0 oz"},{"$f":"VLOOKUP(G108,$C$14:$H$38,6,FALSE)*F108","v":0},null,{"$f":"Intermediate_Calcs!Q41","v":0},"Pesticide",{"$f":"IF(L108=\"Electricity\",ROUND(VLOOKUP(L108,$C$14:$H$38,5,FALSE)*K108,0),ROUND(VLOOKUP(L108,$C$14:$H$38,5,FALSE)*K108,2))&\" \"&D38","v":"0 oz"},0,null,0]
[null,null,"Total:",null,null,{"$f":"SUM(F87:F108)","v":0},null,null,{"$f":"SUM(I87:I108)","v":0},null,{"$f":"SUM(K87:K108)","v":0},null,null,{"$f":"SUM(N87:N108)","v":0},null,{"$f":"SUM(P87:P108)","v":0}]

{"sheet":"Report_Input_Summary","index":5,"n_rows":77,"n_cols":19,"rows_kept":77,"cut":false,"hidden":false,"merged":[[1,17,1,18],[40,17,40,18]]}
[null,null,null,null,null,null,null,null,null,"NRCS - CROPLAND ENERGY TOOL"]
[null,null,null,null,null,null,null,null,null,"INPUT SUMMARY WORKSHEET",null,null,null,null,null,null,"Date: ",{"$f":"IF(Input!E17=\"\",\"\",Input!E17)","v":""}]
[null,null,null,null,null,null,{"$f":"\"Landowner: \"&Input!E14","v":"Landowner: "},null,null,null,"Field Area: ",{"$f":"IF(Input!J14=\"\",\"\",Input!J14)","v":""},null,null,null,null,"Latitude:",{"$f":"IF(Input!E18=\"\",\"\",Input!E18)","v":""}]
[null,null,null,null,null,null,{"$f":"IF(Input!E15=\"\",\"Field Location: \",IF(OR(Input!E15=\"American Samoa\",Input!E15=\"District of Columbia\",Input!E15=\"Puerto Rico\",Input!E15=\"Virgin Islands\",Input!E15=\"Guam\"),\"Field Location: \"&Input!E15,\"Field Location: \"&Input!E16&IF(Input!E15=\"Alaska\",\" Boro., \",\" Co., \")&VLOOKUP(Input!E15,Input!C208:D262,2,FALSE)))","v":"Field Location: "},null,null,null,"Field ID: ",{"$f":"IF(Input!J15=\"\",\"\",Input!J15)","v":""},null,null,null,null,"Longitude:",{"$f":"IF(Input!E19=\"\",\"\",Input!E19)","v":""}]
[]
[]
[null,null,null,null,null,"BENCHMARK",null,null,null,null,null,null,null,null,"PLANNED"]
[null,"Crop Yields",null,null,null,null,null,null,null,null,"   Crop Yields"]
[null,null,"Crop Name","Year","Labor","Crop","Crop","Yield","Post Harvest",null,null,"Crop Name","Year","Labor","Crop","Crop","Yield","Post Harvest"]
[null,null,null,null,null,"Harvest","Yield","Unit","Forage","Grazing",null,null,null,null,"Harvest","Yield","Unit","Forage","Grazing"]
[null,null,null,null,null,"Moisture",null,null,"Removed","AUD",null,null,null,null,"Moisture",null,null,"Removed","AUD"]
[null,null,null,"[yr]","[hr/ac]","[%]","[yld/ac]",null,"[DM lb/ac]",null,null,null,"[yr]","[hr/ac]","[%]","[yld/ac]",null,"[DM lb/ac]"]
[null,1,{"$f":"IF(ISBLANK(Input!D25),\"\",Input!D25)","v":""},{"$f":"IF(ISBLANK(Input!D25),\"\",Input!K25)","v":""},{"$f":"IF(ISBLANK(Input!D25),\"\",Input!M25)","v":""},{"$f":"IF(ISBLANK(Input!D25),\"\",IF(Input!D37=\"Grazing\",\"\",Input!E37))","v":""},{"$f":"IF(ISBLANK(Input!D25),\"\",Input!F37)","v":""},{"$f":"IF(ISBLANK(Input!D25),\"\",Input!G37)","v":""},{"$f":"IF(ISBLANK(Input!D25),\"\",IF(Input!D37=\"Multiple Use\",Input!J37,\"\"))","v":""},{"$f":"IF(ISBLANK(Input!D25),\"\",IF(Input!D37=\"Multiple Use\",Input!K37,\"\"))","v":""},1,{"$f":"IF(ISBLANK(Input!R25),\"\",Input!R25)","v":""},{"$f":"IF(ISBLANK(Input!R25),\"\",Input!Y25)","v":""},{"$f":"IF(ISBLANK(Input!R25),\"\",Input!AA25)","v":""},{"$f":"IF(ISBLANK(Input!R25),\"\",IF(Input!R37=\"Grazing\",\"\",Input!S37))","v":""},{"$f":"IF(ISBLANK(Input!R25),\"\",Input!T37)","v":""},{"$f":"IF(ISBLANK(Input!R25),\"\",Input!U37)","v":""},{"$f":"IF(ISBLANK(Input!R25),\"\",IF(Input!R37=\"Multiple Use\",Input!X37,\"\"))","v":""},{"$f":"IF(ISBLANK(Input!R25),\"\",IF(Input!R37=\"Multiple Use\",Input!Y37,\"\"))","v":""}]
[null,2,{"$f":"IF(ISBLANK(Input!D26),\"\",Input!D26)","v":""},{"$f":"IF(ISBLANK(Input!D26),\"\",Input!K26)","v":""},{"$f":"IF(ISBLANK(Input!D26),\"\",Input!M26)","v":""},{"$f":"IF(ISBLANK(Input!D26),\"\",IF(Input!D38=\"Grazing\",\"\",Input!E38))","v":""},{"$f":"IF(ISBLANK(Input!D26),\"\",Input!F38)","v":""},{"$f":"IF(ISBLANK(Input!D26),\"\",Input!G38)","v":""},{"$f":"IF(ISBLANK(Input!D26),\"\",IF(Input!D38=\"Multiple Use\",Input!J38,\"\"))","v":""},{"$f":"IF(ISBLANK(Input!D26),\"\",IF(Input!D38=\"Multiple Use\",Input!K38,\"\"))","v":""},2,{"$f":"IF(ISBLANK(Input!R26),\"\",Input!R26)","v":""},{"$f":"IF(ISBLANK(Input!R26),\"\",Input!Y26)","v":""},{"$f":"IF(ISBLANK(Input!R26),\"\",Input!AA26)","v":""},{"$f":"IF(ISBLANK(Input!R26),\"\",IF(Input!R38=\"Grazing\",\"\",Input!S38))","v":""},{"$f":"IF(ISBLANK(Input!R26),\"\",Input!T38)","v":""},{"$f":"IF(ISBLANK(Input!R26),\"\",Input!U38)","v":""},{"$f":"IF(ISBLANK(Input!R26),\"\",IF(Input!R38=\"Multiple Use\",Input!X38,\"\"))","v":""},{"$f":"IF(ISBLANK(Input!R26),\"\",IF(Input!R38=\"Multiple Use\",Input!Y38,\"\"))","v":""}]
[null,3,{"$f":"IF(ISBLANK(Input!D27),\"\",Input!D27)","v":""},{"$f":"IF(ISBLANK(Input!D27),\"\",Input!K27)","v":""},{"$f":"IF(ISBLANK(Input!D27),\"\",Input!M27)","v":""},{"$f":"IF(ISBLANK(Input!D27),\"\",IF(Input!D39=\"Grazing\",\"\",Input!E39))","v":""},{"$f":"IF(ISBLANK(Input!D27),\"\",Input!F39)","v":""},{"$f":"IF(ISBLANK(Input!D27),\"\",Input!G39)","v":""},{"$f":"IF(ISBLANK(Input!D27),\"\",IF(Input!D39=\"Multiple Use\",Input!J39,\"\"))","v":""},{"$f":"IF(ISBLANK(Input!D27),\"\",IF(Input!D39=\"Multiple Use\",Input!K39,\"\"))","v":""},3,{"$f":"IF(ISBLANK(Input!R27),\"\",Input!R27)","v":""},{"$f":"IF(ISBLANK(Input!R27),\"\",Input!Y27)","v":""},{"$f":"IF(ISBLANK(Input!R27),\"\",Input!AA27)","v":""},{"$f":"IF(ISBLANK(Input!R27),\"\",IF(Input!R39=\"Grazing\",\"\",Input!S39))","v":""},{"$f":"IF(ISBLANK(Input!R27),\"\",Input!T39)","v":""},{"$f":"IF(ISBLANK(Input!R27),\"\",Input!U39)","v":""},{"$f":"IF(ISBLANK(Input!R27),\"\",IF(Input!R39=\"Multiple Use\",Input!X39,\"\"))","v":""},{"$f":"IF(ISBLANK(Input!R27),\"\",IF(Input!R39=\"Multiple Use\",Input!Y39,\"\"))","v":""}]
[null,4,{"$f":"IF(ISBLANK(Input!D28),\"\",Input!D28)","v":""},{"$f":"IF(ISBLANK(Input!D28),\"\",Input!K28)","v":""},{"$f":"IF(ISBLANK(Input!D28),\"\",Input!M28)","v":""},{"$f":"IF(ISBLANK(Input!D28),\"\",IF(Input!D40=\"Grazing\",\"\",Input!E40))","v":""},{"$f":"IF(ISBLANK(Input!D28),\"\",Input!F40)","v":""},{"$f":"IF(ISBLANK(Input!D28),\"\",Input!G40)","v":""},{"$f":"IF(ISBLANK(Input!D28),\"\",IF(Input!D40=\"Multiple Use\",Input!J40,\"\"))","v":""},{"$f":"IF(ISBLANK(Input!D28),\"\",IF(Input!D40=\"Multiple Use\",Input!K40,\"\"))","v":""},4,{"$f":"IF(ISBLANK(Input!R28),\"\",Input!R28)","v":""},{"$f":"IF(ISBLANK(Input!R28),\"\",Input!Y28)","v":""},{"$f":"IF(ISBLANK(Input!R28),\"\",Input!AA28)","v":""},{"$f":"IF(ISBLANK(Input!R28),\"\",IF(Input!R40=\"Grazing\",\"\",Input!S40))","v":""},{"$f":"IF(ISBLANK(Input!R28),\"\",Input!T40)","v":""},{"$f":"IF(ISBLANK(Input!R28),\"\",Input!U40)","v":""},{"$f":"IF(ISBLANK(Input!R28),\"\",IF(Input!R40=\"Multiple Use\",Input!X40,\"\"))","v":""},{"$f":"IF(ISBLANK(Input!R28),\"\",IF(Input!R40=\"Multiple Use\",Input!Y40,\"\"))","v":""}]
[null,5,{"$f":"IF(ISBLANK(Input!D29),\"\",Input!D29)","v":""},{"$f":"IF(ISBLANK(Input!D29),\"\",Input!K29)","v":""},{"$f":"IF(ISBLANK(Input!D29),\"\",Input!M29)","v":""},{"$f":"IF(ISBLANK(Input!D29),\"\",IF(Input!D41=\"Grazing\",\"\",Input!E41))","v":""},{"$f":"IF(ISBLANK(Input!D29),\"\",Input!F41)","v":""},{"$f":"IF(ISBLANK(Input!D29),\"\",Input!G41)","v":""},{"$f":"IF(ISBLANK(Input!D29),\"\",IF(Input!D41=\"Multiple Use\",Input!J41,\"\"))","v":""},{"$f":"IF(ISBLANK(Input!D29),\"\",IF(Input!D41=\"Multiple Use\",Input!K41,\"\"))","v":""},5,{"$f":"IF(ISBLANK(Input!R29),\"\",Input!R29)","v":""},{"$f":"IF(ISBLANK(Input!R29),\"\",Input!Y29)","v":""},{"$f":"IF(ISBLANK(Input!R29),\"\",Input!AA29)","v":""},{"$f":"IF(ISBLANK(Input!R29),\"\",IF(Input!R41=\"Grazing\",\"\",Input!S41))","v":""},{"$f":"IF(ISBLANK(Input!R29),\"\",Input!T41)","v":""},{"$f":"IF(ISBLANK(Input!R29),\"\",Input!U41)","v":""},{"$f":"IF(ISBLANK(Input!R29),\"\",IF(Input!R41=\"Multiple Use\",Input!X41,\"\"))","v":""},{"$f":"IF(ISBLANK(Input!R29),\"\",IF(Input!R41=\"Multiple Use\",Input!Y41,\"\"))","v":""}]
[]
[null,"Soil Amendments ",null,null,null,null,null,null,null,null,"Soil Amendments"]
[null,null,"Crop Name","Applied","Compost","Seed, ","Animal ","Other",null,null,null,"Crop Name","Applied","Compost","Seed, ","Animal ","Other"]
[null,null,null,"Stored",null,"transplnt,","Feed","Applied",null,null,null,null,"Stored",null,"transplnt,","Feed","Applied"]
[null,null,null,"Manure",null,"sprig, etc.","O. M.","O. M.",null,null,null,null,"Manure",null,"sprig, etc.","O. M.","O. M."]
[null,1,null,"[DM lb/ac]",null,null,null,null,null,null,null,null,"[DM lb/ac]"]
[null,2,{"$f":"IF(ISBLANK(Input!D25),\"\",Input!D25)","v":""},{"$f":"IF(ISBLANK(Input!D25),\"\",Input!D49)","v":""},{"$f":"IF(ISBLANK(Input!D25),\"\",Input!E49)","v":""},{"$f":"IF(ISBLANK(Input!D25),\"\",Input!F49)","v":""},{"$f":"IF(ISBLANK(Input!D25),\"\",Input!G49)","v":""},{"$f":"IF(ISBLANK(Input!D25),\"\",Input!H49)","v":""},null,null,null,{"$f":"IF(ISBLANK(Input!R25),\"\",Input!R25)","v":""},{"$f":"IF(ISBLANK(Input!R25),\"\",Input!R49)","v":""},{"$f":"IF(ISBLANK(Input!R25),\"\",Input!S49)","v":""},{"$f":"IF(ISBLANK(Input!R25),\"\",Input!T49)","v":""},{"$f":"IF(ISBLANK(Input!R25),\"\",Input!U49)","v":""},{"$f":"IF(ISBLANK(Input!R25),\"\",Input!V49)","v":""}]
[null,3,{"$f":"IF(ISBLANK(Input!D26),\"\",Input!D26)","v":""},{"$f":"IF(ISBLANK(Input!D26),\"\",Input!D50)","v":""},{"$f":"IF(ISBLANK(Input!D26),\"\",Input!E50)","v":""},{"$f":"IF(ISBLANK(Input!D26),\"\",Input!F50)","v":""},{"$f":"IF(ISBLANK(Input!D26),\"\",Input!G50)","v":""},{"$f":"IF(ISBLANK(Input!D26),\"\",Input!H50)","v":""},null,null,null,{"$f":"IF(ISBLANK(Input!R26),\"\",Input!R26)","v":""},{"$f":"IF(ISBLANK(Input!R26),\"\",Input!R50)","v":""},{"$f":"IF(ISBLANK(Input!R26),\"\",Input!S50)","v":""},{"$f":"IF(ISBLANK(Input!R26),\"\",Input!T50)","v":""},{"$f":"IF(ISBLANK(Input!R26),\"\",Input!U50)","v":""},{"$f":"IF(ISBLANK(Input!R26),\"\",Input!V50)","v":""}]
[null,4,{"$f":"IF(ISBLANK(Input!D27),\"\",Input!D27)","v":""},{"$f":"IF(ISBLANK(Input!D27),\"\",Input!D51)","v":""},{"$f":"IF(ISBLANK(Input!D27),\"\",Input!E51)","v":""},{"$f":"IF(ISBLANK(Input!D27),\"\",Input!F51)","v":""},{"$f":"IF(ISBLANK(Input!D27),\"\",Input!G51)","v":""},{"$f":"IF(ISBLANK(Input!D27),\"\",Input!H51)","v":""},null,null,null,{"$f":"IF(ISBLANK(Input!R27),\"\",Input!R27)","v":""},{"$f":"IF(ISBLANK(Input!R27),\"\",Input!R51)","v":""},{"$f":"IF(ISBLANK(Input!R27),\"\",Input!S51)","v":""},{"$f":"IF(ISBLANK(Input!R27),\"\",Input!T51)","v":""},{"$f":"IF(ISBLANK(Input!R27),\"\",Input!U51)","v":""},{"$f":"IF(ISBLANK(Input!R27),\"\",Input!V51)","v":""}]
[null,5,{"$f":"IF(ISBLANK(Input!D28),\"\",Input!D28)","v":""},{"$f":"IF(ISBLANK(Input!D28),\"\",Input!D52)","v":""},{"$f":"IF(ISBLANK(Input!D28),\"\",Input!E52)","v":""},{"$f":"IF(ISBLANK(Input!D28),\"\",Input!F52)","v":""},{"$f":"IF(ISBLANK(Input!D28),\"\",Input!G52)","v":""},{"$f":"IF(ISBLANK(Input!D28),\"\",Input!H52)","v":""},null,null,null,{"$f":"IF(ISBLANK(Input!R28),\"\",Input!R28)","v":""},{"$f":"IF(ISBLANK(Input!R28),\"\",Input!R52)","v":""},{"$f":"IF(ISBLANK(Input!R28),\"\",Input!S52)","v":""},{"$f":"IF(ISBLANK(Input!R28),\"\",Input!T52)","v":""},{"$f":"IF(ISBLANK(Input!R28),\"\",Input!U52)","v":""},{"$f":"IF(ISBLANK(Input!R28),\"\",Input!V52)","v":""}]
[null,null,{"$f":"IF(ISBLANK(Input!D29),\"\",Input!D29)","v":""},{"$f":"IF(ISBLANK(Input!D29),\"\",Input!D53)","v":""},{"$f":"IF(ISBLANK(Input!D29),\"\",Input!E53)","v":""},{"$f":"IF(ISBLANK(Input!D29),\"\",Input!F53)","v":""},{"$f":"IF(ISBLANK(Input!D29),\"\",Input!G53)","v":""},{"$f":"IF(ISBLANK(Input!D29),\"\",Input!H53)","v":""},null,null,null,{"$f":"IF(ISBLANK(Input!R29),\"\",Input!R29)","v":""},{"$f":"IF(ISBLANK(Input!R29),\"\",Input!R53)","v":""},{"$f":"IF(ISBLANK(Input!R29),\"\",Input!S53)","v":""},{"$f":"IF(ISBLANK(Input!R29),\"\",Input!T53)","v":""},{"$f":"IF(ISBLANK(Input!R29),\"\",Input!U53)","v":""},{"$f":"IF(ISBLANK(Input!R29),\"\",Input!V53)","v":""}]
[]
[null,"Agrichemicals/Fertilizers",null,null,null,null,null,null,null,null,"Agrichemicals/Fertilizers"]
[null,2,"Crop Name","N ","P","K","S","Hrb","Pst",null,null,"Crop Name","N ","P","K","S","Hrb","Pst"]
[null,3,null,"Nitrogen","Phosphorus","Potassium","Sulfur","Herbicide","Pesticide",null,null,null,"Nitrogen","Phosphorus","Potassium","Sulfur","Herbicide","Pesticide"]
[null,4,null,"[lbs/acre]","[lbs/acre]","[lbs/acre]","[lbs/acre]","[oz/acre]","[oz/acre]",null,null,null,"[lbs/acre]","[lbs/acre]","[lbs/acre]","[lbs/acre]","[oz/acre]","[oz/acre]"]
[null,5,{"$f":"IF(ISBLANK(Input!D25),\"\",Input!D25)","v":""},{"$f":"IF(ISBLANK(Input!D25),\"\",Input!D61)","v":""},{"$f":"IF(ISBLANK(Input!D25),\"\",Input!E61)","v":""},{"$f":"IF(ISBLANK(Input!D25),\"\",Input!F61)","v":""},{"$f":"IF(ISBLANK(Input!D25),\"\",Input!G61)","v":""},{"$f":"IF(ISBLANK(Input!D25),\"\",Input!H61)","v":""},{"$f":"IF(ISBLANK(Input!D25),\"\",Input!I61)","v":""},null,null,{"$f":"IF(ISBLANK(Input!R25),\"\",Input!R25)","v":""},{"$f":"IF(ISBLANK(Input!R25),\"\",Input!R61)","v":""},{"$f":"IF(ISBLANK(Input!R25),\"\",Input!S61)","v":""},{"$f":"IF(ISBLANK(Input!R25),\"\",Input!T61)","v":""},{"$f":"IF(ISBLANK(Input!R25),\"\",Input!U61)","v":""},{"$f":"IF(ISBLANK(Input!R25),\"\",Input!V61)","v":""},{"$f":"IF(ISBLANK(Input!R25),\"\",Input!W61)","v":""}]
[null,null,{"$f":"IF(ISBLANK(Input!D26),\"\",Input!D26)","v":""},{"$f":"IF(ISBLANK(Input!D26),\"\",Input!D62)","v":""},{"$f":"IF(ISBLANK(Input!D26),\"\",Input!E62)","v":""},{"$f":"IF(ISBLANK(Input!D26),\"\",Input!F62)","v":""},{"$f":"IF(ISBLANK(Input!D26),\"\",Input!G62)","v":""},{"$f":"IF(ISBLANK(Input!D26),\"\",Input!H62)","v":""},{"$f":"IF(ISBLANK(Input!D26),\"\",Input!I62)","v":""},null,null,{"$f":"IF(ISBLANK(Input!R26),\"\",Input!R26)","v":""},{"$f":"IF(ISBLANK(Input!R26),\"\",Input!R62)","v":""},{"$f":"IF(ISBLANK(Input!R26),\"\",Input!S62)","v":""},{"$f":"IF(ISBLANK(Input!R26),\"\",Input!T62)","v":""},{"$f":"IF(ISBLANK(Input!R26),\"\",Input!U62)","v":""},{"$f":"IF(ISBLANK(Input!R26),\"\",Input!V62)","v":""},{"$f":"IF(ISBLANK(Input!R26),\"\",Input!W62)","v":""}]
[null,null,{"$f":"IF(ISBLANK(Input!D27),\"\",Input!D27)","v":""},{"$f":"IF(ISBLANK(Input!D27),\"\",Input!D63)","v":""},{"$f":"IF(ISBLANK(Input!D27),\"\",Input!E63)","v":""},{"$f":"IF(ISBLANK(Input!D27),\"\",Input!F63)","v":""},{"$f":"IF(ISBLANK(Input!D27),\"\",Input!G63)","v":""},{"$f":"IF(ISBLANK(Input!D27),\"\",Input!H63)","v":""},{"$f":"IF(ISBLANK(Input!D27),\"\",Input!I63)","v":""},null,null,{"$f":"IF(ISBLANK(Input!R27),\"\",Input!R27)","v":""},{"$f":"IF(ISBLANK(Input!R27),\"\",Input!R63)","v":""},{"$f":"IF(ISBLANK(Input!R27),\"\",Input!S63)","v":""},{"$f":"IF(ISBLANK(Input!R27),\"\",Input!T63)","v":""},{"$f":"IF(ISBLANK(Input!R27),\"\",Input!U63)","v":""},{"$f":"IF(ISBLANK(Input!R27),\"\",Input!V63)","v":""},{"$f":"IF(ISBLANK(Input!R27),\"\",Input!W63)","v":""}]
[null,null,{"$f":"IF(ISBLANK(Input!D28),\"\",Input!D28)","v":""},{"$f":"IF(ISBLANK(Input!D28),\"\",Input!D64)","v":""},{"$f":"IF(ISBLANK(Input!D28),\"\",Input!E64)","v":""},{"$f":"IF(ISBLANK(Input!D28),\"\",Input!F64)","v":""},{"$f":"IF(ISBLANK(Input!D28),\"\",Input!G64)","v":""},{"$f":"IF(ISBLANK(Input!D28),\"\",Input!H64)","v":""},{"$f":"IF(ISBLANK(Input!D28),\"\",Input!I64)","v":""},null,null,{"$f":"IF(ISBLANK(Input!R28),\"\",Input!R28)","v":""},{"$f":"IF(ISBLANK(Input!R28),\"\",Input!R64)","v":""},{"$f":"IF(ISBLANK(Input!R28),\"\",Input!S64)","v":""},{"$f":"IF(ISBLANK(Input!R28),\"\",Input!T64)","v":""},{"$f":"IF(ISBLANK(Input!R28),\"\",Input!U64)","v":""},{"$f":"IF(ISBLANK(Input!R28),\"\",Input!V64)","v":""},{"$f":"IF(ISBLANK(Input!R28),\"\",Input!W64)","v":""}]
[null,null,{"$f":"IF(ISBLANK(Input!D29),\"\",Input!D29)","v":""},{"$f":"IF(ISBLANK(Input!D29),\"\",Input!D65)","v":""},{"$f":"IF(ISBLANK(Input!D29),\"\",Input!E65)","v":""},{"$f":"IF(ISBLANK(Input!D29),\"\",Input!F65)","v":""},{"$f":"IF(ISBLANK(Input!D29),\"\",Input!G65)","v":""},{"$f":"IF(ISBLANK(Input!D29),\"\",Input!H65)","v":""},{"$f":"IF(ISBLANK(Input!D29),\"\",Input!I65)","v":""},null,null,{"$f":"IF(ISBLANK(Input!R29),\"\",Input!R29)","v":""},{"$f":"IF(ISBLANK(Input!R29),\"\",Input!R65)","v":""},{"$f":"IF(ISBLANK(Input!R29),\"\",Input!S65)","v":""},{"$f":"IF(ISBLANK(Input!R29),\"\",Input!T65)","v":""},{"$f":"IF(ISBLANK(Input!R29),\"\",Input!U65)","v":""},{"$f":"IF(ISBLANK(Input!R29),\"\",Input!V65)","v":""},{"$f":"IF(ISBLANK(Input!R29),\"\",Input!W65)","v":""}]
[]
[null,null,null,null,null,null,null,null,null,"NRCS - CROPLAND ENERGY TOOL"]
[null,null,null,null,null,null,null,null,null,"INPUT SUMMARY WORKSHEET",null,null,null,null,null,null,"Date: ",{"$f":"IF(Input!E17=\"\",\"\",Input!E17)","v":""}]
[null,null,null,null,null,null,{"$f":"\"Landowner: \"&Input!E14","v":"Landowner: "},null,null,null,"Field Area: ",{"$f":"IF(Input!J14=\"\",\"\",Input!J14)","v":""},null,null,null,null,"Latitude:",{"$f":"IF(Input!E18=\"\",\"\",Input!E18)","v":""}]
[null,null,null,null,null,null,{"$f":"IF(Input!E15=\"\",\"Field Location: \",IF(OR(Input!E15=\"American Samoa\",Input!E15=\"District of Columbia\",Input!E15=\"Puerto Rico\",Input!E15=\"Virgin Islands\",Input!E15=\"Guam\"),\"Field Location: \"&Input!E15,\"Field Location: \"&Input!E16&IF(Input!E15=\"Alaska\",\" Boro., \",\" Co., \")&VLOOKUP(Input!E15,Input!C208:D262,2,FALSE)))","v":"Field Location: "},null,null,null,"Field ID: ",{"$f":"IF(Input!J15=\"\",\"\",Input!J15)","v":""},null,null,null,null,"Longitude:",{"$f":"IF(Input!E19=\"\",\"\",Input!E19)","v":""}]
[]
[]
[null,null,null,null,null,"BENCHMARK",null,null,null,null,null,null,null,null,"PLANNED"]
[null,"Diesel Use",null,null,null,null,null,null,null,null,"   Diesel Use"]
[null,null,"Crop Name","Operation Description",null,null,null,null,"No.","Diesel",null,"Crop Name","Operation Description",null,null,null,null,"No.","Diesel"]
[null,null,null,null,null,null,null,null,"Times","Use",null,null,null,null,null,null,null,"Times","Use"]
[null,null,null,null,null,null,null,null,null,"[gal/ac]",null,null,null,null,null,null,null,null,"[gal/ac]"]
[null,1,{"$f":"IF(ISNA(VLOOKUP(B51,Input!$B$72:$C$135,2,FALSE)),\"\",IF(VLOOKUP(B51,Input!$B$72:$C$135,2,FALSE)=0,\"\",VLOOKUP(B51,Input!$B$72:$C$135,2,FALSE)))","v":""},{"$f":"IF(ISNA(VLOOKUP(B51,Input!$B$72:$K$135,4,FALSE)),\"\",VLOOKUP(B51,Input!$B$72:$K$135,4,FALSE))","v":""},null,null,null,null,{"$f":"IF(ISNA(VLOOKUP(B51,Input!$B$72:$K$135,9,FALSE)),\"\",IF(VLOOKUP(B51,Input!$B$72:$K$135,9,FALSE)=\"\",1,VLOOKUP(B51,Input!$B$72:$K$135,9,FALSE)))","v":""},{"$f":"IF(ISNA(VLOOKUP(B51,Input!$B$72:$K$135,10,FALSE)),\"\",VLOOKUP(B51,Input!$B$72:$K$135,10,FALSE))","v":""},1,{"$f":"IF(ISNA(VLOOKUP(K51,Input!$P$72:$Q$135,2,FALSE)),\"\",IF(VLOOKUP(K51,Input!$P$72:$Q$135,2,FALSE)=0,\"\",VLOOKUP(K51,Input!$P$72:$Q$135,2,FALSE)))","v":""},{"$f":"IF(ISNA(VLOOKUP(K51,Input!$P$72:$Y$135,4,FALSE)),\"\",VLOOKUP(K51,Input!$P$72:$Y$135,4,FALSE))","v":""},null,null,null,null,{"$f":"IF(ISNA(VLOOKUP(K51,Input!$P$72:$Y$135,9,FALSE)),\"\",IF(VLOOKUP(K51,Input!$P$72:$Y$135,9,FALSE)=\"\",1,VLOOKUP(K51,Input!$P$72:$Y$135,9,FALSE)))","v":""},{"$f":"IF(ISNA(VLOOKUP(K51,Input!$P$72:$Y$135,10,FALSE)),\"\",VLOOKUP(K51,Input!$P$72:$Y$135,10,FALSE))","v":""}]
[null,{"$f":"B51+1","v":2},{"$f":"IF(ISNA(VLOOKUP(B52,Input!$B$72:$C$135,2,FALSE)),\"\",IF(VLOOKUP(B52,Input!$B$72:$C$135,2,FALSE)=0,\"\",VLOOKUP(B52,Input!$B$72:$C$135,2,FALSE)))","v":""},{"$f":"IF(ISNA(VLOOKUP(B52,Input!$B$72:$K$135,4,FALSE)),\"\",VLOOKUP(B52,Input!$B$72:$K$135,4,FALSE))","v":""},null,null,null,null,{"$f":"IF(ISNA(VLOOKUP(B52,Input!$B$72:$K$135,9,FALSE)),\"\",IF(VLOOKUP(B52,Input!$B$72:$K$135,9,FALSE)=\"\",1,VLOOKUP(B52,Input!$B$72:$K$135,9,FALSE)))","v":""},{"$f":"IF(ISNA(VLOOKUP(B52,Input!$B$72:$K$135,10,FALSE)),\"\",VLOOKUP(B52,Input!$B$72:$K$135,10,FALSE))","v":""},{"$f":"K51+1","v":2},{"$f":"IF(ISNA(VLOOKUP(K52,Input!$P$72:$Q$135,2,FALSE)),\"\",IF(VLOOKUP(K52,Input!$P$72:$Q$135,2,FALSE)=0,\"\",VLOOKUP(K52,Input!$P$72:$Q$135,2,FALSE)))","v":""},{"$f":"IF(ISNA(VLOOKUP(K52,Input!$P$72:$Y$135,4,FALSE)),\"\",VLOOKUP(K52,Input!$P$72:$Y$135,4,FALSE))","v":""},null,null,null,null,{"$f":"IF(ISNA(VLOOKUP(K52,Input!$P$72:$Y$135,9,FALSE)),\"\",IF(VLOOKUP(K52,Input!$P$72:$Y$135,9,FALSE)=\"\",1,VLOOKUP(K52,Input!$P$72:$Y$135,9,FALSE)))","v":""},{"$f":"IF(ISNA(VLOOKUP(K52,Input!$P$72:$Y$135,10,FALSE)),\"\",VLOOKUP(K52,Input!$P$72:$Y$135,10,FALSE))","v":""}]
[null,{"$f":"B52+1","v":3},{"$f":"IF(ISNA(VLOOKUP(B53,Input!$B$72:$C$135,2,FALSE)),\"\",IF(VLOOKUP(B53,Input!$B$72:$C$135,2,FALSE)=0,\"\",VLOOKUP(B53,Input!$B$72:$C$135,2,FALSE)))","v":""},{"$f":"IF(ISNA(VLOOKUP(B53,Input!$B$72:$K$135,4,FALSE)),\"\",VLOOKUP(B53,Input!$B$72:$K$135,4,FALSE))","v":""},null,null,null,null,{"$f":"IF(ISNA(VLOOKUP(B53,Input!$B$72:$K$135,9,FALSE)),\"\",IF(VLOOKUP(B53,Input!$B$72:$K$135,9,FALSE)=\"\",1,VLOOKUP(B53,Input!$B$72:$K$135,9,FALSE)))","v":""},{"$f":"IF(ISNA(VLOOKUP(B53,Input!$B$72:$K$135,10,FALSE)),\"\",VLOOKUP(B53,Input!$B$72:$K$135,10,FALSE))","v":""},{"$f":"K52+1","v":3},{"$f":"IF(ISNA(VLOOKUP(K53,Input!$P$72:$Q$135,2,FALSE)),\"\",IF(VLOOKUP(K53,Input!$P$72:$Q$135,2,FALSE)=0,\"\",VLOOKUP(K53,Input!$P$72:$Q$135,2,FALSE)))","v":""},{"$f":"IF(ISNA(VLOOKUP(K53,Input!$P$72:$Y$135,4,FALSE)),\"\",VLOOKUP(K53,Input!$P$72:$Y$135,4,FALSE))","v":""},null,null,null,null,{"$f":"IF(ISNA(VLOOKUP(K53,Input!$P$72:$Y$135,9,FALSE)),\"\",IF(VLOOKUP(K53,Input!$P$72:$Y$135,9,FALSE)=\"\",1,VLOOKUP(K53,Input!$P$72:$Y$135,9,FALSE)))","v":""},{"$f":"IF(ISNA(VLOOKUP(K53,Input!$P$72:$Y$135,10,FALSE)),\"\",VLOOKUP(K53,Input!$P$72:$Y$135,10,FALSE))","v":""}]
[null,4,{"$f":"IF(ISNA(VLOOKUP(B54,Input!$B$72:$C$135,2,FALSE)),\"\",IF(VLOOKUP(B54,Input!$B$72:$C$135,2,FALSE)=0,\"\",VLOOKUP(B54,Input!$B$72:$C$135,2,FALSE)))","v":""},{"$f":"IF(ISNA(VLOOKUP(B54,Input!$B$72:$K$135,4,FALSE)),\"\",VLOOKUP(B54,Input!$B$72:$K$135,4,FALSE))","v":""},null,null,null,null,{"$f":"IF(ISNA(VLOOKUP(B54,Input!$B$72:$K$135,9,FALSE)),\"\",IF(VLOOKUP(B54,Input!$B$72:$K$135,9,FALSE)=\"\",1,VLOOKUP(B54,Input!$B$72:$K$135,9,FALSE)))","v":""},{"$f":"IF(ISNA(VLOOKUP(B54,Input!$B$72:$K$135,10,FALSE)),\"\",VLOOKUP(B54,Input!$B$72:$K$135,10,FALSE))","v":""},4,{"$f":"IF(ISNA(VLOOKUP(K54,Input!$P$72:$Q$135,2,FALSE)),\"\",IF(VLOOKUP(K54,Input!$P$72:$Q$135,2,FALSE)=0,\"\",VLOOKUP(K54,Input!$P$72:$Q$135,2,FALSE)))","v":""},{"$f":"IF(ISNA(VLOOKUP(K54,Input!$P$72:$Y$135,4,FALSE)),\"\",VLOOKUP(K54,Input!$P$72:$Y$135,4,FALSE))","v":""},null,null,null,null,{"$f":"IF(ISNA(VLOOKUP(K54,Input!$P$72:$Y$135,9,FALSE)),\"\",IF(VLOOKUP(K54,Input!$P$72:$Y$135,9,FALSE)=\"\",1,VLOOKUP(K54,Input!$P$72:$Y$135,9,FALSE)))","v":""},{"$f":"IF(ISNA(VLOOKUP(K54,Input!$P$72:$Y$135,10,FALSE)),\"\",VLOOKUP(K54,Input!$P$72:$Y$135,10,FALSE))","v":""}]
[null,5,{"$f":"IF(ISNA(VLOOKUP(B55,Input!$B$72:$C$135,2,FALSE)),\"\",IF(VLOOKUP(B55,Input!$B$72:$C$135,2,FALSE)=0,\"\",VLOOKUP(B55,Input!$B$72:$C$135,2,FALSE)))","v":""},{"$f":"IF(ISNA(VLOOKUP(B55,Input!$B$72:$K$135,4,FALSE)),\"\",VLOOKUP(B55,Input!$B$72:$K$135,4,FALSE))","v":""},null,null,null,null,{"$f":"IF(ISNA(VLOOKUP(B55,Input!$B$72:$K$135,9,FALSE)),\"\",IF(VLOOKUP(B55,Input!$B$72:$K$135,9,FALSE)=\"\",1,VLOOKUP(B55,Input!$B$72:$K$135,9,FALSE)))","v":""},{"$f":"IF(ISNA(VLOOKUP(B55,Input!$B$72:$K$135,10,FALSE)),\"\",VLOOKUP(B55,Input!$B$72:$K$135,10,FALSE))","v":""},5,{"$f":"IF(ISNA(VLOOKUP(K55,Input!$P$72:$Q$135,2,FALSE)),\"\",IF(VLOOKUP(K55,Input!$P$72:$Q$135,2,FALSE)=0,\"\",VLOOKUP(K55,Input!$P$72:$Q$135,2,FALSE)))","v":""},{"$f":"IF(ISNA(VLOOKUP(K55,Input!$P$72:$Y$135,4,FALSE)),\"\",VLOOKUP(K55,Input!$P$72:$Y$135,4,FALSE))","v":""},null,null,null,null,{"$f":"IF(ISNA(VLOOKUP(K55,Input!$P$72:$Y$135,9,FALSE)),\"\",IF(VLOOKUP(K55,Input!$P$72:$Y$135,9,FALSE)=\"\",1,VLOOKUP(K55,Input!$P$72:$Y$135,9,FALSE)))","v":""},{"$f":"IF(ISNA(VLOOKUP(K55,Input!$P$72:$Y$135,10,FALSE)),\"\",VLOOKUP(K55,Input!$P$72:$Y$135,10,FALSE))","v":""}]
[null,6,{"$f":"IF(ISNA(VLOOKUP(B56,Input!$B$72:$C$135,2,FALSE)),\"\",IF(VLOOKUP(B56,Input!$B$72:$C$135,2,FALSE)=0,\"\",VLOOKUP(B56,Input!$B$72:$C$135,2,FALSE)))","v":""},{"$f":"IF(ISNA(VLOOKUP(B56,Input!$B$72:$K$135,4,FALSE)),\"\",VLOOKUP(B56,Input!$B$72:$K$135,4,FALSE))","v":""},null,null,null,null,{"$f":"IF(ISNA(VLOOKUP(B56,Input!$B$72:$K$135,9,FALSE)),\"\",IF(VLOOKUP(B56,Input!$B$72:$K$135,9,FALSE)=\"\",1,VLOOKUP(B56,Input!$B$72:$K$135,9,FALSE)))","v":""},{"$f":"IF(ISNA(VLOOKUP(B56,Input!$B$72:$K$135,10,FALSE)),\"\",VLOOKUP(B56,Input!$B$72:$K$135,10,FALSE))","v":""},6,{"$f":"IF(ISNA(VLOOKUP(K56,Input!$P$72:$Q$135,2,FALSE)),\"\",IF(VLOOKUP(K56,Input!$P$72:$Q$135,2,FALSE)=0,\"\",VLOOKUP(K56,Input!$P$72:$Q$135,2,FALSE)))","v":""},{"$f":"IF(ISNA(VLOOKUP(K56,Input!$P$72:$Y$135,4,FALSE)),\"\",VLOOKUP(K56,Input!$P$72:$Y$135,4,FALSE))","v":""},null,null,null,null,{"$f":"IF(ISNA(VLOOKUP(K56,Input!$P$72:$Y$135,9,FALSE)),\"\",IF(VLOOKUP(K56,Input!$P$72:$Y$135,9,FALSE)=\"\",1,VLOOKUP(K56,Input!$P$72:$Y$135,9,FALSE)))","v":""},{"$f":"IF(ISNA(VLOOKUP(K56,Input!$P$72:$Y$135,10,FALSE)),\"\",VLOOKUP(K56,Input!$P$72:$Y$135,10,FALSE))","v":""}]
[null,7,{"$f":"IF(ISNA(VLOOKUP(B57,Input!$B$72:$C$135,2,FALSE)),\"\",IF(VLOOKUP(B57,Input!$B$72:$C$135,2,FALSE)=0,\"\",VLOOKUP(B57,Input!$B$72:$C$135,2,FALSE)))","v":""},{"$f":"IF(ISNA(VLOOKUP(B57,Input!$B$72:$K$135,4,FALSE)),\"\",VLOOKUP(B57,Input!$B$72:$K$135,4,FALSE))","v":""},null,null,null,null,{"$f":"IF(ISNA(VLOOKUP(B57,Input!$B$72:$K$135,9,FALSE)),\"\",IF(VLOOKUP(B57,Input!$B$72:$K$135,9,FALSE)=\"\",1,VLOOKUP(B57,Input!$B$72:$K$135,9,FALSE)))","v":""},{"$f":"IF(ISNA(VLOOKUP(B57,Input!$B$72:$K$135,10,FALSE)),\"\",VLOOKUP(B57,Input!$B$72:$K$135,10,FALSE))","v":""},7,{"$f":"IF(ISNA(VLOOKUP(K57,Input!$P$72:$Q$135,2,FALSE)),\"\",IF(VLOOKUP(K57,Input!$P$72:$Q$135,2,FALSE)=0,\"\",VLOOKUP(K57,Input!$P$72:$Q$135,2,FALSE)))","v":""},{"$f":"IF(ISNA(VLOOKUP(K57,Input!$P$72:$Y$135,4,FALSE)),\"\",VLOOKUP(K57,Input!$P$72:$Y$135,4,FALSE))","v":""},null,null,null,null,{"$f":"IF(ISNA(VLOOKUP(K57,Input!$P$72:$Y$135,9,FALSE)),\"\",IF(VLOOKUP(K57,Input!$P$72:$Y$135,9,FALSE)=\"\",1,VLOOKUP(K57,Input!$P$72:$Y$135,9,FALSE)))","v":""},{"$f":"IF(ISNA(VLOOKUP(K57,Input!$P$72:$Y$135,10,FALSE)),\"\",VLOOKUP(K57,Input!$P$72:$Y$135,10,FALSE))","v":""}]
[null,8,{"$f":"IF(ISNA(VLOOKUP(B58,Input!$B$72:$C$135,2,FALSE)),\"\",IF(VLOOKUP(B58,Input!$B$72:$C$135,2,FALSE)=0,\"\",VLOOKUP(B58,Input!$B$72:$C$135,2,FALSE)))","v":""},{"$f":"IF(ISNA(VLOOKUP(B58,Input!$B$72:$K$135,4,FALSE)),\"\",VLOOKUP(B58,Input!$B$72:$K$135,4,FALSE))","v":""},null,null,null,null,{"$f":"IF(ISNA(VLOOKUP(B58,Input!$B$72:$K$135,9,FALSE)),\"\",IF(VLOOKUP(B58,Input!$B$72:$K$135,9,FALSE)=\"\",1,VLOOKUP(B58,Input!$B$72:$K$135,9,FALSE)))","v":""},{"$f":"IF(ISNA(VLOOKUP(B58,Input!$B$72:$K$135,10,FALSE)),\"\",VLOOKUP(B58,Input!$B$72:$K$135,10,FALSE))","v":""},8,{"$f":"IF(ISNA(VLOOKUP(K58,Input!$P$72:$Q$135,2,FALSE)),\"\",IF(VLOOKUP(K58,Input!$P$72:$Q$135,2,FALSE)=0,\"\",VLOOKUP(K58,Input!$P$72:$Q$135,2,FALSE)))","v":""},{"$f":"IF(ISNA(VLOOKUP(K58,Input!$P$72:$Y$135,4,FALSE)),\"\",VLOOKUP(K58,Input!$P$72:$Y$135,4,FALSE))","v":""},null,null,null,null,{"$f":"IF(ISNA(VLOOKUP(K58,Input!$P$72:$Y$135,9,FALSE)),\"\",IF(VLOOKUP(K58,Input!$P$72:$Y$135,9,FALSE)=\"\",1,VLOOKUP(K58,Input!$P$72:$Y$135,9,FALSE)))","v":""},{"$f":"IF(ISNA(VLOOKUP(K58,Input!$P$72:$Y$135,10,FALSE)),\"\",VLOOKUP(K58,Input!$P$72:$Y$135,10,FALSE))","v":""}]
[null,9,{"$f":"IF(ISNA(VLOOKUP(B59,Input!$B$72:$C$135,2,FALSE)),\"\",IF(VLOOKUP(B59,Input!$B$72:$C$135,2,FALSE)=0,\"\",VLOOKUP(B59,Input!$B$72:$C$135,2,FALSE)))","v":""},{"$f":"IF(ISNA(VLOOKUP(B59,Input!$B$72:$K$135,4,FALSE)),\"\",VLOOKUP(B59,Input!$B$72:$K$135,4,FALSE))","v":""},null,null,null,null,{"$f":"IF(ISNA(VLOOKUP(B59,Input!$B$72:$K$135,9,FALSE)),\"\",IF(VLOOKUP(B59,Input!$B$72:$K$135,9,FALSE)=\"\",1,VLOOKUP(B59,Input!$B$72:$K$135,9,FALSE)))","v":""},{"$f":"IF(ISNA(VLOOKUP(B59,Input!$B$72:$K$135,10,FALSE)),\"\",VLOOKUP(B59,Input!$B$72:$K$135,10,FALSE))","v":""},9,{"$f":"IF(ISNA(VLOOKUP(K59,Input!$P$72:$Q$135,2,FALSE)),\"\",IF(VLOOKUP(K59,Input!$P$72:$Q$135,2,FALSE)=0,\"\",VLOOKUP(K59,Input!$P$72:$Q$135,2,FALSE)))","v":""},{"$f":"IF(ISNA(VLOOKUP(K59,Input!$P$72:$Y$135,4,FALSE)),\"\",VLOOKUP(K59,Input!$P$72:$Y$135,4,FALSE))","v":""},null,null,null,null,{"$f":"IF(ISNA(VLOOKUP(K59,Input!$P$72:$Y$135,9,FALSE)),\"\",IF(VLOOKUP(K59,Input!$P$72:$Y$135,9,FALSE)=\"\",1,VLOOKUP(K59,Input!$P$72:$Y$135,9,FALSE)))","v":""},{"$f":"IF(ISNA(VLOOKUP(K59,Input!$P$72:$Y$135,10,FALSE)),\"\",VLOOKUP(K59,Input!$P$72:$Y$135,10,FALSE))","v":""}]
[null,10,{"$f":"IF(ISNA(VLOOKUP(B60,Input!$B$72:$C$135,2,FALSE)),\"\",IF(VLOOKUP(B60,Input!$B$72:$C$135,2,FALSE)=0,\"\",VLOOKUP(B60,Input!$B$72:$C$135,2,FALSE)))","v":""},{"$f":"IF(ISNA(VLOOKUP(B60,Input!$B$72:$K$135,4,FALSE)),\"\",VLOOKUP(B60,Input!$B$72:$K$135,4,FALSE))","v":""},null,null,null,null,{"$f":"IF(ISNA(VLOOKUP(B60,Input!$B$72:$K$135,9,FALSE)),\"\",IF(VLOOKUP(B60,Input!$B$72:$K$135,9,FALSE)=\"\",1,VLOOKUP(B60,Input!$B$72:$K$135,9,FALSE)))","v":""},{"$f":"IF(ISNA(VLOOKUP(B60,Input!$B$72:$K$135,10,FALSE)),\"\",VLOOKUP(B60,Input!$B$72:$K$135,10,FALSE))","v":""},10,{"$f":"IF(ISNA(VLOOKUP(K60,Input!$P$72:$Q$135,2,FALSE)),\"\",IF(VLOOKUP(K60,Input!$P$72:$Q$135,2,FALSE)=0,\"\",VLOOKUP(K60,Input!$P$72:$Q$135,2,FALSE)))","v":""},{"$f":"IF(ISNA(VLOOKUP(K60,Input!$P$72:$Y$135,4,FALSE)),\"\",VLOOKUP(K60,Input!$P$72:$Y$135,4,FALSE))","v":""},null,null,null,null,{"$f":"IF(ISNA(VLOOKUP(K60,Input!$P$72:$Y$135,9,FALSE)),\"\",IF(VLOOKUP(K60,Input!$P$72:$Y$135,9,FALSE)=\"\",1,VLOOKUP(K60,Input!$P$72:$Y$135,9,FALSE)))","v":""},{"$f":"IF(ISNA(VLOOKUP(K60,Input!$P$72:$Y$135,10,FALSE)),\"\",VLOOKUP(K60,Input!$P$72:$Y$135,10,FALSE))","v":""}]
[null,11,{"$f":"IF(ISNA(VLOOKUP(B61,Input!$B$72:$C$135,2,FALSE)),\"\",IF(VLOOKUP(B61,Input!$B$72:$C$135,2,FALSE)=0,\"\",VLOOKUP(B61,Input!$B$72:$C$135,2,FALSE)))","v":""},{"$f":"IF(ISNA(VLOOKUP(B61,Input!$B$72:$K$135,4,FALSE)),\"\",VLOOKUP(B61,Input!$B$72:$K$135,4,FALSE))","v":""},null,null,null,null,{"$f":"IF(ISNA(VLOOKUP(B61,Input!$B$72:$K$135,9,FALSE)),\"\",IF(VLOOKUP(B61,Input!$B$72:$K$135,9,FALSE)=\"\",1,VLOOKUP(B61,Input!$B$72:$K$135,9,FALSE)))","v":""},{"$f":"IF(ISNA(VLOOKUP(B61,Input!$B$72:$K$135,10,FALSE)),\"\",VLOOKUP(B61,Input!$B$72:$K$135,10,FALSE))","v":""},11,{"$f":"IF(ISNA(VLOOKUP(K61,Input!$P$72:$Q$135,2,FALSE)),\"\",IF(VLOOKUP(K61,Input!$P$72:$Q$135,2,FALSE)=0,\"\",VLOOKUP(K61,Input!$P$72:$Q$135,2,FALSE)))","v":""},{"$f":"IF(ISNA(VLOOKUP(K61,Input!$P$72:$Y$135,4,FALSE)),\"\",VLOOKUP(K61,Input!$P$72:$Y$135,4,FALSE))","v":""},null,null,null,null,{"$f":"IF(ISNA(VLOOKUP(K61,Input!$P$72:$Y$135,9,FALSE)),\"\",IF(VLOOKUP(K61,Input!$P$72:$Y$135,9,FALSE)=\"\",1,VLOOKUP(K61,Input!$P$72:$Y$135,9,FALSE)))","v":""},{"$f":"IF(ISNA(VLOOKUP(K61,Input!$P$72:$Y$135,10,FALSE)),\"\",VLOOKUP(K61,Input!$P$72:$Y$135,10,FALSE))","v":""}]
[null,12,{"$f":"IF(ISNA(VLOOKUP(B62,Input!$B$72:$C$135,2,FALSE)),\"\",IF(VLOOKUP(B62,Input!$B$72:$C$135,2,FALSE)=0,\"\",VLOOKUP(B62,Input!$B$72:$C$135,2,FALSE)))","v":""},{"$f":"IF(ISNA(VLOOKUP(B62,Input!$B$72:$K$135,4,FALSE)),\"\",VLOOKUP(B62,Input!$B$72:$K$135,4,FALSE))","v":""},null,null,null,null,{"$f":"IF(ISNA(VLOOKUP(B62,Input!$B$72:$K$135,9,FALSE)),\"\",IF(VLOOKUP(B62,Input!$B$72:$K$135,9,FALSE)=\"\",1,VLOOKUP(B62,Input!$B$72:$K$135,9,FALSE)))","v":""},{"$f":"IF(ISNA(VLOOKUP(B62,Input!$B$72:$K$135,10,FALSE)),\"\",VLOOKUP(B62,Input!$B$72:$K$135,10,FALSE))","v":""},12,{"$f":"IF(ISNA(VLOOKUP(K62,Input!$P$72:$Q$135,2,FALSE)),\"\",IF(VLOOKUP(K62,Input!$P$72:$Q$135,2,FALSE)=0,\"\",VLOOKUP(K62,Input!$P$72:$Q$135,2,FALSE)))","v":""},{"$f":"IF(ISNA(VLOOKUP(K62,Input!$P$72:$Y$135,4,FALSE)),\"\",VLOOKUP(K62,Input!$P$72:$Y$135,4,FALSE))","v":""},null,null,null,null,{"$f":"IF(ISNA(VLOOKUP(K62,Input!$P$72:$Y$135,9,FALSE)),\"\",IF(VLOOKUP(K62,Input!$P$72:$Y$135,9,FALSE)=\"\",1,VLOOKUP(K62,Input!$P$72:$Y$135,9,FALSE)))","v":""},{"$f":"IF(ISNA(VLOOKUP(K62,Input!$P$72:$Y$135,10,FALSE)),\"\",VLOOKUP(K62,Input!$P$72:$Y$135,10,FALSE))","v":""}]
[null,13,{"$f":"IF(ISNA(VLOOKUP(B63,Input!$B$72:$C$135,2,FALSE)),\"\",IF(VLOOKUP(B63,Input!$B$72:$C$135,2,FALSE)=0,\"\",VLOOKUP(B63,Input!$B$72:$C$135,2,FALSE)))","v":""},{"$f":"IF(ISNA(VLOOKUP(B63,Input!$B$72:$K$135,4,FALSE)),\"\",VLOOKUP(B63,Input!$B$72:$K$135,4,FALSE))","v":""},null,null,null,null,{"$f":"IF(ISNA(VLOOKUP(B63,Input!$B$72:$K$135,9,FALSE)),\"\",IF(VLOOKUP(B63,Input!$B$72:$K$135,9,FALSE)=\"\",1,VLOOKUP(B63,Input!$B$72:$K$135,9,FALSE)))","v":""},{"$f":"IF(ISNA(VLOOKUP(B63,Input!$B$72:$K$135,10,FALSE)),\"\",VLOOKUP(B63,Input!$B$72:$K$135,10,FALSE))","v":""},13,{"$f":"IF(ISNA(VLOOKUP(K63,Input!$P$72:$Q$135,2,FALSE)),\"\",IF(VLOOKUP(K63,Input!$P$72:$Q$135,2,FALSE)=0,\"\",VLOOKUP(K63,Input!$P$72:$Q$135,2,FALSE)))","v":""},{"$f":"IF(ISNA(VLOOKUP(K63,Input!$P$72:$Y$135,4,FALSE)),\"\",VLOOKUP(K63,Input!$P$72:$Y$135,4,FALSE))","v":""},null,null,null,null,{"$f":"IF(ISNA(VLOOKUP(K63,Input!$P$72:$Y$135,9,FALSE)),\"\",IF(VLOOKUP(K63,Input!$P$72:$Y$135,9,FALSE)=\"\",1,VLOOKUP(K63,Input!$P$72:$Y$135,9,FALSE)))","v":""},{"$f":"IF(ISNA(VLOOKUP(K63,Input!$P$72:$Y$135,10,FALSE)),\"\",VLOOKUP(K63,Input!$P$72:$Y$135,10,FALSE))","v":""}]
[null,14,{"$f":"IF(ISNA(VLOOKUP(B64,Input!$B$72:$C$135,2,FALSE)),\"\",IF(VLOOKUP(B64,Input!$B$72:$C$135,2,FALSE)=0,\"\",VLOOKUP(B64,Input!$B$72:$C$135,2,FALSE)))","v":""},{"$f":"IF(ISNA(VLOOKUP(B64,Input!$B$72:$K$135,4,FALSE)),\"\",VLOOKUP(B64,Input!$B$72:$K$135,4,FALSE))","v":""},null,null,null,null,{"$f":"IF(ISNA(VLOOKUP(B64,Input!$B$72:$K$135,9,FALSE)),\"\",IF(VLOOKUP(B64,Input!$B$72:$K$135,9,FALSE)=\"\",1,VLOOKUP(B64,Input!$B$72:$K$135,9,FALSE)))","v":""},{"$f":"IF(ISNA(VLOOKUP(B64,Input!$B$72:$K$135,10,FALSE)),\"\",VLOOKUP(B64,Input!$B$72:$K$135,10,FALSE))","v":""},14,{"$f":"IF(ISNA(VLOOKUP(K64,Input!$P$72:$Q$135,2,FALSE)),\"\",IF(VLOOKUP(K64,Input!$P$72:$Q$135,2,FALSE)=0,\"\",VLOOKUP(K64,Input!$P$72:$Q$135,2,FALSE)))","v":""},{"$f":"IF(ISNA(VLOOKUP(K64,Input!$P$72:$Y$135,4,FALSE)),\"\",VLOOKUP(K64,Input!$P$72:$Y$135,4,FALSE))","v":""},null,null,null,null,{"$f":"IF(ISNA(VLOOKUP(K64,Input!$P$72:$Y$135,9,FALSE)),\"\",IF(VLOOKUP(K64,Input!$P$72:$Y$135,9,FALSE)=\"\",1,VLOOKUP(K64,Input!$P$72:$Y$135,9,FALSE)))","v":""},{"$f":"IF(ISNA(VLOOKUP(K64,Input!$P$72:$Y$135,10,FALSE)),\"\",VLOOKUP(K64,Input!$P$72:$Y$135,10,FALSE))","v":""}]
[null,15,{"$f":"IF(ISNA(VLOOKUP(B65,Input!$B$72:$C$135,2,FALSE)),\"\",IF(VLOOKUP(B65,Input!$B$72:$C$135,2,FALSE)=0,\"\",VLOOKUP(B65,Input!$B$72:$C$135,2,FALSE)))","v":""},{"$f":"IF(ISNA(VLOOKUP(B65,Input!$B$72:$K$135,4,FALSE)),\"\",VLOOKUP(B65,Input!$B$72:$K$135,4,FALSE))","v":""},null,null,null,null,{"$f":"IF(ISNA(VLOOKUP(B65,Input!$B$72:$K$135,9,FALSE)),\"\",IF(VLOOKUP(B65,Input!$B$72:$K$135,9,FALSE)=\"\",1,VLOOKUP(B65,Input!$B$72:$K$135,9,FALSE)))","v":""},{"$f":"IF(ISNA(VLOOKUP(B65,Input!$B$72:$K$135,10,FALSE)),\"\",VLOOKUP(B65,Input!$B$72:$K$135,10,FALSE))","v":""},15,{"$f":"IF(ISNA(VLOOKUP(K65,Input!$P$72:$Q$135,2,FALSE)),\"\",IF(VLOOKUP(K65,Input!$P$72:$Q$135,2,FALSE)=0,\"\",VLOOKUP(K65,Input!$P$72:$Q$135,2,FALSE)))","v":""},{"$f":"IF(ISNA(VLOOKUP(K65,Input!$P$72:$Y$135,4,FALSE)),\"\",VLOOKUP(K65,Input!$P$72:$Y$135,4,FALSE))","v":""},null,null,null,null,{"$f":"IF(ISNA(VLOOKUP(K65,Input!$P$72:$Y$135,9,FALSE)),\"\",IF(VLOOKUP(K65,Input!$P$72:$Y$135,9,FALSE)=\"\",1,VLOOKUP(K65,Input!$P$72:$Y$135,9,FALSE)))","v":""},{"$f":"IF(ISNA(VLOOKUP(K65,Input!$P$72:$Y$135,10,FALSE)),\"\",VLOOKUP(K65,Input!$P$72:$Y$135,10,FALSE))","v":""}]
[null,16,{"$f":"IF(ISNA(VLOOKUP(B66,Input!$B$72:$C$135,2,FALSE)),\"\",IF(VLOOKUP(B66,Input!$B$72:$C$135,2,FALSE)=0,\"\",VLOOKUP(B66,Input!$B$72:$C$135,2,FALSE)))","v":""},{"$f":"IF(ISNA(VLOOKUP(B66,Input!$B$72:$K$135,4,FALSE)),\"\",VLOOKUP(B66,Input!$B$72:$K$135,4,FALSE))","v":""},null,null,null,null,{"$f":"IF(ISNA(VLOOKUP(B66,Input!$B$72:$K$135,9,FALSE)),\"\",IF(VLOOKUP(B66,Input!$B$72:$K$135,9,FALSE)=\"\",1,VLOOKUP(B66,Input!$B$72:$K$135,9,FALSE)))","v":""},{"$f":"IF(ISNA(VLOOKUP(B66,Input!$B$72:$K$135,10,FALSE)),\"\",VLOOKUP(B66,Input!$B$72:$K$135,10,FALSE))","v":""},16,{"$f":"IF(ISNA(VLOOKUP(K66,Input!$P$72:$Q$135,2,FALSE)),\"\",IF(VLOOKUP(K66,Input!$P$72:$Q$135,2,FALSE)=0,\"\",VLOOKUP(K66,Input!$P$72:$Q$135,2,FALSE)))","v":""},{"$f":"IF(ISNA(VLOOKUP(K66,Input!$P$72:$Y$135,4,FALSE)),\"\",VLOOKUP(K66,Input!$P$72:$Y$135,4,FALSE))","v":""},null,null,null,null,{"$f":"IF(ISNA(VLOOKUP(K66,Input!$P$72:$Y$135,9,FALSE)),\"\",IF(VLOOKUP(K66,Input!$P$72:$Y$135,9,FALSE)=\"\",1,VLOOKUP(K66,Input!$P$72:$Y$135,9,FALSE)))","v":""},{"$f":"IF(ISNA(VLOOKUP(K66,Input!$P$72:$Y$135,10,FALSE)),\"\",VLOOKUP(K66,Input!$P$72:$Y$135,10,FALSE))","v":""}]
[null,17,{"$f":"IF(ISNA(VLOOKUP(B67,Input!$B$72:$C$135,2,FALSE)),\"\",IF(VLOOKUP(B67,Input!$B$72:$C$135,2,FALSE)=0,\"\",VLOOKUP(B67,Input!$B$72:$C$135,2,FALSE)))","v":""},{"$f":"IF(ISNA(VLOOKUP(B67,Input!$B$72:$K$135,4,FALSE)),\"\",VLOOKUP(B67,Input!$B$72:$K$135,4,FALSE))","v":""},null,null,null,null,{"$f":"IF(ISNA(VLOOKUP(B67,Input!$B$72:$K$135,9,FALSE)),\"\",IF(VLOOKUP(B67,Input!$B$72:$K$135,9,FALSE)=\"\",1,VLOOKUP(B67,Input!$B$72:$K$135,9,FALSE)))","v":""},{"$f":"IF(ISNA(VLOOKUP(B67,Input!$B$72:$K$135,10,FALSE)),\"\",VLOOKUP(B67,Input!$B$72:$K$135,10,FALSE))","v":""},17,{"$f":"IF(ISNA(VLOOKUP(K67,Input!$P$72:$Q$135,2,FALSE)),\"\",IF(VLOOKUP(K67,Input!$P$72:$Q$135,2,FALSE)=0,\"\",VLOOKUP(K67,Input!$P$72:$Q$135,2,FALSE)))","v":""},{"$f":"IF(ISNA(VLOOKUP(K67,Input!$P$72:$Y$135,4,FALSE)),\"\",VLOOKUP(K67,Input!$P$72:$Y$135,4,FALSE))","v":""},null,null,null,null,{"$f":"IF(ISNA(VLOOKUP(K67,Input!$P$72:$Y$135,9,FALSE)),\"\",IF(VLOOKUP(K67,Input!$P$72:$Y$135,9,FALSE)=\"\",1,VLOOKUP(K67,Input!$P$72:$Y$135,9,FALSE)))","v":""},{"$f":"IF(ISNA(VLOOKUP(K67,Input!$P$72:$Y$135,10,FALSE)),\"\",VLOOKUP(K67,Input!$P$72:$Y$135,10,FALSE))","v":""}]
[null,18,{"$f":"IF(ISNA(VLOOKUP(B68,Input!$B$72:$C$135,2,FALSE)),\"\",IF(VLOOKUP(B68,Input!$B$72:$C$135,2,FALSE)=0,\"\",VLOOKUP(B68,Input!$B$72:$C$135,2,FALSE)))","v":""},{"$f":"IF(ISNA(VLOOKUP(B68,Input!$B$72:$K$135,4,FALSE)),\"\",VLOOKUP(B68,Input!$B$72:$K$135,4,FALSE))","v":""},null,null,null,null,{"$f":"IF(ISNA(VLOOKUP(B68,Input!$B$72:$K$135,9,FALSE)),\"\",IF(VLOOKUP(B68,Input!$B$72:$K$135,9,FALSE)=\"\",1,VLOOKUP(B68,Input!$B$72:$K$135,9,FALSE)))","v":""},{"$f":"IF(ISNA(VLOOKUP(B68,Input!$B$72:$K$135,10,FALSE)),\"\",VLOOKUP(B68,Input!$B$72:$K$135,10,FALSE))","v":""},18,{"$f":"IF(ISNA(VLOOKUP(K68,Input!$P$72:$Q$135,2,FALSE)),\"\",IF(VLOOKUP(K68,Input!$P$72:$Q$135,2,FALSE)=0,\"\",VLOOKUP(K68,Input!$P$72:$Q$135,2,FALSE)))","v":""},{"$f":"IF(ISNA(VLOOKUP(K68,Input!$P$72:$Y$135,4,FALSE)),\"\",VLOOKUP(K68,Input!$P$72:$Y$135,4,FALSE))","v":""},null,null,null,null,{"$f":"IF(ISNA(VLOOKUP(K68,Input!$P$72:$Y$135,9,FALSE)),\"\",IF(VLOOKUP(K68,Input!$P$72:$Y$135,9,FALSE)=\"\",1,VLOOKUP(K68,Input!$P$72:$Y$135,9,FALSE)))","v":""},{"$f":"IF(ISNA(VLOOKUP(K68,Input!$P$72:$Y$135,10,FALSE)),\"\",VLOOKUP(K68,Input!$P$72:$Y$135,10,FALSE))","v":""}]
[null,null,null,null,null,null,null,null,"Total:",{"$f":"SUM(J51:J68)+F69","v":0},null,null,null,null,null,null,null,"Total:",{"$f":"SUM(S51:S68)","v":0}]
[null,"Irrigation",null,null,null,null,null,null,null,null,"   Irrigation"]
[null,null,"Method","Op.","Pump plant","Operating","Power","Ave. Amt","Ave. Amt",null,null,"Method","Op.","Pump plant","Operating","Power","Ave. Amt","Ave. Amt"]
[null,null,null,"Pressure","Efficiency","Hours","Req","Applied","Pumped",null,null,null,"Pressure","Efficiency","Hours","Req","Applied","Pumped"]
[null,null,null,"[psi]","[%]","[hr]","[BTU/gal]","[in]","[Mgal]",null,null,null,"[psi]","[%]","[hr]","[BTU/gal]","[in]","[Mgal]"]
[null,null,"Irrigation Delivery",{"$f":"IF(Input!D139=TRUE,Input!F143,\"\")","v":""},{"$f":"IF(Input!D139=TRUE,Input!G143,\"\")","v":""},{"$f":"IF(Input!D139=TRUE,Input!H143,\"\")","v":""},{"$f":"IF(Input!D139=TRUE,Input!J143,\"\")","v":""},{"$f":"IF(Input!D139=TRUE,AVERAGE(Intermediate_Calcs!C57:G57),\"\")","v":""},{"$f":"IF(Input!D139=TRUE,AVERAGE(Intermediate_Calcs!C59:G59),\"\")","v":""},null,null,"Irrigation Delivery",{"$f":"IF(Input!R139=TRUE,Input!T143,\"\")","v":""},{"$f":"IF(Input!R139=TRUE,Input!U143,\"\")","v":""},{"$f":"IF(Input!R139=TRUE,Input!V143,\"\")","v":""},{"$f":"IF(Input!R139=TRUE,Input!X143,\"\")","v":""},{"$f":"IF(Input!R139=TRUE,AVERAGE(Intermediate_Calcs!C62:G62),\"\")","v":""},{"$f":"IF(Input!R139=TRUE,AVERAGE(Intermediate_Calcs!C64:G64),\"\")","v":""}]
[null,null,"Other Delivery 1",{"$f":"IF(Input!D140=TRUE,Input!F144,\"\")","v":""},{"$f":"IF(Input!D140=TRUE,Input!G144,\"\")","v":""},{"$f":"IF(Input!D140=TRUE,Input!H144,\"\")","v":""},{"$f":"IF(Input!D140=TRUE,Input!J144,\"\")","v":""},{"$f":"IF(Input!D140=TRUE,I75*1000000/7.48/43560/Input!$J$14*12,\"\")","v":""},{"$f":"IF(Input!D140=TRUE,AVERAGE(Intermediate_Calcs!C98:G98),\"\")","v":""},null,null,"Other Delivery 1",{"$f":"IF(Input!R140=TRUE,Input!T144,\"\")","v":""},{"$f":"IF(Input!R140=TRUE,Input!U144,\"\")","v":""},{"$f":"IF(Input!R140=TRUE,Input!V144,\"\")","v":""},{"$f":"IF(Input!R140=TRUE,Input!X144,\"\")","v":""},{"$f":"IF(Input!R140=TRUE,R75*1000000/7.48/43560/Input!$S$14*12,\"\")","v":""},{"$f":"IF(Input!R140=TRUE,AVERAGE(Intermediate_Calcs!C103:G103),\"\")","v":""}]
[null,null,"Other Delivery 2",{"$f":"IF(Input!D141=TRUE,Input!F145,\"\")","v":""},{"$f":"IF(Input!D141=TRUE,Input!G145,\"\")","v":""},{"$f":"IF(Input!D141=TRUE,Input!H145,\"\")","v":""},{"$f":"IF(Input!D141=TRUE,Input!J145,\"\")","v":""},{"$f":"IF(Input!D141=TRUE,I76*1000000/7.48/43560/Input!$J$14*12,\"\")","v":""},{"$f":"IF(Input!D141=TRUE,AVERAGE(Intermediate_Calcs!C134:G134),\"\")","v":""},null,null,"Other Delivery 2",{"$f":"IF(Input!R141=TRUE,Input!T145,\"\")","v":""},{"$f":"IF(Input!R141=TRUE,Input!U145,\"\")","v":""},{"$f":"IF(Input!R141=TRUE,Input!V145,\"\")","v":""},{"$f":"IF(Input!R141=TRUE,Input!X145,\"\")","v":""},{"$f":"IF(Input!R141=TRUE,R76*1000000/7.48/43560/Input!$S$14*12,\"\")","v":""},{"$f":"IF(Input!R141=TRUE,SUM(Intermediate_Calcs!C139:G139),\"\")","v":""}]
[null,null,"Other Delivery 3",{"$f":"IF(Input!D142=TRUE,Input!F146,\"\")","v":""},{"$f":"IF(Input!D142=TRUE,Input!G146,\"\")","v":""},{"$f":"IF(Input!D142=TRUE,Input!H146,\"\")","v":""},{"$f":"IF(Input!D142=TRUE,Input!J146,\"\")","v":""},{"$f":"IF(Input!D142=TRUE,I77*1000000/7.48/43560/Input!$J$14*12,\"\")","v":""},{"$f":"IF(Input!D141=TRUE,AVERAGE(Intermediate_Calcs!C170:G170),\"\")","v":""},null,null,"Other Delivery 3",{"$f":"IF(Input!R142=TRUE,Input!T146,\"\")","v":""},{"$f":"IF(Input!R142=TRUE,Input!U146,\"\")","v":""},{"$f":"IF(Input!R142=TRUE,Input!V146,\"\")","v":""},{"$f":"IF(Input!R142=TRUE,Input!X146,\"\")","v":""},{"$f":"IF(Input!R142=TRUE,R77*1000000/7.48/43560/Input!$S$14*12,\"\")","v":""},{"$f":"IF(Input!R142=TRUE,AVERAGE(Intermediate_Calcs!C175:G175),\"\")","v":""}]

{"sheet":"Input_GHG","index":6,"n_rows":44,"n_cols":13,"rows_kept":44,"cut":false,"hidden":true,"merged":[[16,12,16,13],[38,6,38,7],[33,10,33,11],[34,10,34,11],[35,10,35,11],[16,10,16,11],[21,10,21,11],[33,12,33,13],[34,12,34,13],[35,12,35,13],[31,8,31,9],[31,12,31,13],[31,10,31,11],[33,8,33,9],[34,8,34,9],[35,8,35,9],[27,8,27,9],[19,8,19,9],[19,12,19,13],[19,10,19,11],[20,8,20,9],[20,10,20,11],[20,12,20,13],[23,12,23,13],[24,12,24,13],[25,8,25,9],[25,10,25,11],[25,12,25,13],[21,8,21,9],[22,8,22,9],[23,8,23,9],[24,8,24,9],[18,8,18,9],[18,10,18,11],[18,12,18,13],[28,8,28,9],[29,8,29,9],[27,10,27,11],[28,10,28,11],[29,10,29,11],[27,12,27,13],[28,12,28,13],[29,12,29,13],[22,10,22,11],[23,10,23,11],[24,10,24,11],[21,12,21,13],[22,12,22,13],[1,1,1,15],[3,1,3,15],[15,8,15,9],[15,10,15,11],[15,12,15,13],[5,8,5,9],[5,12,5,13],[6,8,6,9]]}
[]
[null,"NRCS - CROPLAND ENERGY TOOL"]
[]
[null,"ENERGY INPUTS FOR GREENHOUSE GAS EMISSIONS USING COMET"]
[]
[null,null,null,null,{"$f":"\"Landowner: \"&Input!E14","v":"Landowner: "},null,null,"Field Area: ",{"$f":"IF(Input!J14=\"\",\"\",Input!J14)","v":""},null,null,"Date: ",{"$f":"IF(Input!E17=\"\",\"\",Input!E17)","v":""}]
[null,null,null,null,{"$f":"IF(Input!E15=\"\",\"Field Location: \",IF(OR(Input!E15=\"American Samoa\",Input!E15=\"District of Columbia\",Input!E15=\"Puerto Rico\",Input!E15=\"Virgin Islands\",Input!E15=\"Guam\"),\"Field Location: \"&Input!E15,\"Field Location: \"&Input!E16&IF(Input!E15=\"Alaska\",\" Boro., \",\" Co., \")&VLOOKUP(Input!E15,Input!C208:D262,2,FALSE)))","v":"Field Location: "},null,null,"Field ID: ",{"$f":"IF(Input!J15=\"\",\"\",Input!J15)","v":""},null,null,"Latitude:",{"$f":"IF(Input!E18=\"\",\"\",Input!E18)","v":""}]
[null,null,null,null,null,null,null,null,null,null,null,"Longitude:",{"$f":"IF(Input!E19=\"\",\"\",Input!E19)","v":""}]
[]
[]
[]
[null,"Greenhouse Gas Table",null,null,"GHG Emission Coefficients (EC)"]
[null,null,null,null,"in lbs. per unit of energy input"]
[]
[]
[null,"Energy Input",null,"Units","Energy","CO2","N2O","CH4","Total CO2",null,"SO2",null,"NOx"]
[null,null,null,null,"[MMBTU]","[lb]","[lb]","[lb]","Equivalent [lb]",null,"[lb]",null,"[lb]"]
[null,"  Liquid"]
[null,null,{"$f":"Input!C168","v":"Diesel"},"Gal",{"$f":"VLOOKUP(C19,Report_Cost!$C$14:$F$38,4,FALSE)/1000000","v":0.13900000000000001},{"$f":"223769/10000","v":22.376899999999999},{"$f":"485.05/1000000","v":4.8505E-4},{"$f":"277.83/100000","v":2.7783E-3},22.58559,null,{"$f":"285/1000000","v":2.8499999999999999E-4},null,{"$f":"18000/1000000","v":1.7999999999999999E-2}]
[null,null,{"$f":"Input!C169","v":"Gasoline (E10)"},"Gal",{"$f":"VLOOKUP(C20,Report_Cost!$C$14:$F$38,4,FALSE)/1000000","v":0.12},{"$f":"19643.2/1000","v":19.6432},{"$f":"5732.02/10000000","v":5.7320200000000009E-4},{"$f":"31746.6/10000000","v":3.1746599999999997E-3},19.887560000000001,null,{"$f":"285/1000000","v":2.8499999999999999E-4},null,{"$f":"110231/10000000","v":1.1023099999999999E-2}]
[null,null,{"$f":"Input!C170","v":"BioDiesel B2"},"Gal",{"$f":"VLOOKUP(C21,Report_Cost!$C$14:$F$38,4,FALSE)/1000000","v":0.1386},{"$f":"219139/10000","v":21.913900000000002},{"$f":"48501.07/100000000","v":4.8501069999999999E-4},{"$f":"277783/100000000","v":2.7778299999999998E-3},22.125589999999999,null,{"$f":"1/10000","v":1E-4},null,{"$f":"100/10000","v":0.01}]
[null,null,{"$f":"Input!C171","v":"BioDiesel B5"},"Gal",{"$f":"VLOOKUP(C22,Report_Cost!$C$14:$F$38,4,FALSE)/1000000","v":0.13800000000000001},{"$f":"212526/10000","v":21.252600000000001},4.8501069999999999E-4,2.7778299999999998E-3,21.461290000000002,null,1E-4,null,0.01]
[null,null,{"$f":"Input!C172","v":"BioDiesel B10"},"Gal",{"$f":"VLOOKUP(C23,Report_Cost!$C$14:$F$38,4,FALSE)/1000000","v":0.13689999999999999},{"$f":"201282/10000","v":20.1282},4.8501069999999999E-4,2.7778299999999998E-3,20.33689,null,1E-4,null,0.01]
[null,null,{"$f":"Input!C173","v":"BioDiesel B20"},"Gal",{"$f":"VLOOKUP(C24,Report_Cost!$C$14:$F$38,4,FALSE)/1000000","v":0.13489999999999999},{"$f":"179015/10000","v":17.901499999999999},4.8501069999999999E-4,2.7778299999999998E-3,18.110189999999999,null,1E-4,null,0.01]
[null,null,{"$f":"Input!C174","v":"BioDiesel B100"},"Gal",{"$f":"VLOOKUP(C25,Report_Cost!$C$14:$F$38,4,FALSE)/1000000","v":0.1183},0,4.8501069999999999E-4,2.7778299999999998E-3,0.20868999999999999,null,1E-4,null,0.01]
[null,null,{"$f":"Input!C175","v":"SVO"},"Gal",{"$f":"VLOOKUP(C26,Report_Cost!$C$14:$F$38,4,FALSE)/1000000","v":0.12314},0,4.8501069999999999E-4,2.7778299999999998E-3,0.20868999999999999,null,1E-4,null,0.01]
[null,"  Gas"]
[null,null,{"$f":"Input!C177","v":"Propane"},"Gal",{"$f":"VLOOKUP(C28,Report_Cost!$C$14:$F$38,4,FALSE)/1000000","v":9.1600000000000001E-2},{"$f":"12654.5/1000","v":12.654500000000001},{"$f":"0.4/1000","v":4.0000000000000002E-4},{"$f":"2/1000","v":2E-3},12.820499999999999,null,{"$f":"0.1/1000","v":1E-4},null,{"$f":"10/1000","v":0.01}]
[null,null,{"$f":"Input!C178","v":"Natural Gas"},"CCF",{"$f":"VLOOKUP(C29,Report_Cost!$C$14:$F$38,4,FALSE)/1000000","v":0.10299999999999999},{"$f":"11697.7/1000","v":11.697700000000001},{"$f":"0.4/1000","v":4.0000000000000002E-4},{"$f":"2/1000","v":2E-3},11.8637,null,{"$f":"0.1/1000","v":1E-4},null,{"$f":"10/1000","v":0.01}]
[null,null,{"$f":"Input!C179","v":"CNG"},"CCF",{"$f":"VLOOKUP(C30,Report_Cost!$C$14:$F$38,4,FALSE)/1000000","v":0.1},{"$f":"12037.2/1000","v":12.0372},{"$f":"38580.9/10000000","v":3.8580900000000002E-3},{"$f":"2/1000","v":2E-3},13.275207999999999,null,{"$f":"0.1/1000","v":1E-4},null,{"$f":"10/1000","v":0.01}]
[null,"  Electricity"]
[null,null,{"$f":"Input!C181","v":"Electricity"},"KWH",{"$f":"VLOOKUP(C32,Report_Cost!$C$14:$F$38,4,FALSE)/1000000","v":3.4120000000000001E-3},0.25918999999999998,4.3000000000000003E-6,9.9000000000000001E-6,0.26074229999999998,null,1.247E-4,null,3.0420000000000002E-4]
[null,"Other Energy Input"]
[null,null,"Soil Admendments","Ton",{"$f":"Report_Cost!F31/1000000","v":11.25},0,0,0,{"$f":"SUM(F34:H34)","v":0},null,0,null,0]
[null,null,{"$f":"Input!C185","v":"Agrichemicals"},"lb","Varies",0,0,0,{"$f":"SUM(F35:H35)","v":0},null,0,null,0]
[null,null,{"$f":"Input!C187","v":"Labor"},"Day",{"$f":"Report_Cost!F32/1000000","v":1.1900000000000001E-2},0,0,0,{"$f":"SUM(F36:H36)","v":0},null,0,null,0]
[]
[]
[null,null,null,null,null,"Zip Code    ",99402]
[]
[]
[null,null,null,null,null,null,null,"Above GHG emissions are "]
[null,null,null,null,null,null,null,"from COMET website        "]
[null,null,null,null,"                    Note: GHG emissions from electricity are based on zip code"]

{"sheet":"Report_GHG1","index":7,"n_rows":46,"n_cols":13,"rows_kept":46,"cut":false,"hidden":true,"merged":[[12,5,12,6],[12,8,12,9],[12,11,12,12],[1,1,1,15],[3,1,3,15],[5,8,5,9],[5,12,5,13],[6,8,6,9],[10,5,10,12],[11,11,11,12],[14,5,14,6],[14,8,14,9],[14,11,14,12],[16,5,16,6],[16,8,16,9],[16,11,16,12],[18,5,18,6],[18,8,18,9],[18,11,18,12],[20,5,20,6],[20,8,20,9],[20,11,20,12],[22,5,22,6],[22,8,22,9],[22,11,22,12],[24,5,24,6],[24,8,24,9],[24,11,24,12],[26,5,26,6],[26,8,26,9],[26,11,26,12],[28,5,28,6],[28,8,28,9],[28,11,28,12],[31,5,31,6],[31,8,31,9],[31,11,31,12],[33,5,33,6],[33,8,33,9],[33,11,33,12],[35,5,35,6],[35,8,35,9],[35,11,35,12],[38,5,38,6],[38,8,38,9],[38,11,38,12],[45,5,45,6],[45,8,45,9],[45,11,45,12],[41,5,41,6],[41,8,41,9],[41,11,41,12],[43,5,43,6],[43,8,43,9],[43,11,43,12]]}
[]
[null,"NRCS - CROPLAND ENERGY TOOL"]
[]
[null,"INPUTS FOR COMPUTING GREENHOUSE GAS EMISSIONS"]
[]
[null,null,null,null,{"$f":"\"Landowner: \"&Input!E14","v":"Landowner: "},null,null,"Field Area: ",{"$f":"IF(Input!J14=\"\",\"\",Input!J14)","v":""},null,null,"Date: ",{"$f":"IF(Input!E17=\"\",\"\",Input!E17)","v":""}]
[null,null,null,null,{"$f":"IF(Input!E15=\"\",\"Field Location: \",IF(OR(Input!E15=\"American Samoa\",Input!E15=\"District of Columbia\",Input!E15=\"Puerto Rico\",Input!E15=\"Virgin Islands\",Input!E15=\"Guam\"),\"Field Location: \"&Input!E15,\"Field Location: \"&Input!E16&IF(Input!E15=\"Alaska\",\" Boro., \",\" Co., \")&VLOOKUP(Input!E15,Input!C208:D262,2,FALSE)))","v":"Field Location: "},null,null,"Field ID: ",{"$f":"IF(Input!J15=\"\",\"\",Input!J15)","v":""},null,null,"Latitude:",{"$f":"IF(Input!E18=\"\",\"\",Input!E18)","v":""}]
[null,null,null,null,null,null,null,null,null,null,null,"Longitude:",{"$f":"IF(Input!E19=\"\",\"\",Input!E19)","v":""}]
[]
[]
[null,null,null,null,null,"Per Acre Inputs"]
[]
[null,"Annual Energy Input (Fuel)",null,null,null,"BENCHMARK",null,null,"PLANNED",null,null,"DIFFERENCE"]
[null,"  Liquid"]
[null,null,{"$f":"Report_Cost!C14","v":"Diesel"},null,null,{"$f":"IF($F$11=\"Total Field Inputs\",ROUND(SUMIF(Report_Cost!$G$66:$G$72,Report_GHG1!C15,Report_Cost!$F$66:$F$72)*VLOOKUP(C15,Report_Cost!$C$14:$G$38,5,FALSE),0)&\" \"&VLOOKUP(C15,Report_Cost!$C$14:$D$38,2,FALSE),ROUND(SUMIF(Report_Cost!$G$49:$G$55,Report_GHG1!C15,Report_Cost!$F$49:$F$55)*VLOOKUP(C15,Report_Cost!$C$14:$G$38,5,FALSE),2)&\" \"&VLOOKUP(C15,Report_Cost!$C$14:$D$38,2,FALSE))","v":"0 Gal"},null,null,{"$f":"IF($F$11=\"Total Field Inputs\",ROUND(SUMIF(Report_Cost!$L$66:$L$72,Report_GHG1!C15,Report_Cost!$K$66:$K$72)*VLOOKUP(C15,Report_Cost!$C$14:$G$38,5,FALSE),0)&\" \"&VLOOKUP(C15,Report_Cost!$C$14:$D$38,2,FALSE),ROUND(SUMIF(Report_Cost!$L$49:$L$55,Report_GHG1!C15,Report_Cost!$K$49:$K$55)*VLOOKUP(C15,Report_Cost!$C$14:$G$38,5,FALSE),2)&\" \"&VLOOKUP(C15,Report_Cost!$C$14:$D$38,2,FALSE))","v":"0 Gal"},null,null,{"$f":"IF($F$11=\"Total Field Inputs\",IF(ROUND(SUMIF(Report_Cost!$G$66:$G$72,Report_GHG1!C15,Report_Cost!$F$66:$F$72)*VLOOKUP(C15,Report_Cost!$C$14:$G$38,5,FALSE),0)-ROUND(SUMIF(Report_Cost!$L$66:$L$72,Report_GHG1!C15,Report_Cost!$K$66:$K$72)*VLOOKUP(C15,Report_Cost!$C$14:$G$38,5,FALSE),0)<0,\"(\"&(ROUND(SUMIF(Report_Cost!$G$66:$G$72,Report_GHG1!C15,Report_Cost!$F$66:$F$72)*VLOOKUP(C15,Report_Cost!$C$14:$G$38,5,FALSE),0)-ROUND(SUMIF(Report_Cost!$L$66:$L$72,Report_GHG1!C15,Report_Cost!$K$66:$K$72)*VLOOKUP(C15,Report_Cost!$C$14:$G$38,5,FALSE),0))*-1&\")\",ROUND(SUMIF(Report_Cost!$G$66:$G$72,Report_GHG1!C15,Report_Cost!$F$66:$F$72)*VLOOKUP(C15,Report_Cost!$C$14:$G$38,5,FALSE),0)-ROUND(SUMIF(Report_Cost!$L$66:$L$72,Report_GHG1!C15,Report_Cost!$K$66:$K$72)*VLOOKUP(C15,Report_Cost!$C$14:$G$38,5,FALSE),0))&\" \"&VLOOKUP(C15,Report_Cost!$C$14:$D$38,2,FALSE),IF(ROUND(SUMIF(Report_Cost!$G$49:$G$55,Report_GHG1!C15,Report_Cost!$F$49:$F$55)*VLOOKUP(C15,Report_Cost!$C$14:$G$38,5,FALSE),2)-ROUND(SUMIF(Report_Cost!$L$49:$L$55,Report_GHG1!C15,Report_Cost!$K$49:$K$55)*VLOOKUP(C15,Report_Cost!$C$14:$G$38,5,FALSE),2)<0,\"(\"&(ROUND(SUMIF(Report_Cost!$G$49:$G$55,Report_GHG1!C15,Report_Cost!$F$49:$F$55)*VLOOKUP(C15,Report_Cost!$C$14:$G$38,5,FALSE),2)-ROUND(SUMIF(Report_Cost!$L$49:$L$55,Report_GHG1!C15,Report_Cost!$K$49:$K$55)*VLOOKUP(C15,Report_Cost!$C$14:$G$38,5,FALSE),2))*-1&\")\",ROUND(SUMIF(Report_Cost!$G$49:$G$55,Report_GHG1!C15,Report_Cost!$F$49:$F$55)*VLOOKUP(C15,Report_Cost!$C$14:$G$38,5,FALSE),2)-ROUND(SUMIF(Report_Cost!$L$49:$L$55,Report_GHG1!C15,Report_Cost!$K$49:$K$55)*VLOOKUP(C15,Report_Cost!$C$14:$G$38,5,FALSE),2))&\" \"&VLOOKUP(C15,Report_Cost!$C$14:$D$38,2,FALSE))","v":"0 Gal"}]
[]
[null,null,{"$f":"Report_Cost!C15","v":"Gasoline (E10)"},null,null,{"$f":"IF($F$11=\"Total Field Inputs\",ROUND(SUMIF(Report_Cost!$G$66:$G$72,Report_GHG1!C17,Report_Cost!$F$66:$F$72)*VLOOKUP(C17,Report_Cost!$C$14:$G$38,5,FALSE),0)&\" \"&VLOOKUP(C17,Report_Cost!$C$14:$D$38,2,FALSE),ROUND(SUMIF(Report_Cost!$G$49:$G$55,Report_GHG1!C17,Report_Cost!$F$49:$F$55)*VLOOKUP(C17,Report_Cost!$C$14:$G$38,5,FALSE),2)&\" \"&VLOOKUP(C17,Report_Cost!$C$14:$D$38,2,FALSE))","v":"0 Gal"},null,null,{"$f":"IF($F$11=\"Total Field Inputs\",ROUND(SUMIF(Report_Cost!$L$66:$L$72,Report_GHG1!C17,Report_Cost!$K$66:$K$72)*VLOOKUP(C17,Report_Cost!$C$14:$G$38,5,FALSE),0)&\" \"&VLOOKUP(C17,Report_Cost!$C$14:$D$38,2,FALSE),ROUND(SUMIF(Report_Cost!$L$49:$L$55,Report_GHG1!C17,Report_Cost!$K$49:$K$55)*VLOOKUP(C17,Report_Cost!$C$14:$G$38,5,FALSE),2)&\" \"&VLOOKUP(C17,Report_Cost!$C$14:$D$38,2,FALSE))","v":"0 Gal"},null,null,{"$f":"IF($F$11=\"Total Field Inputs\",IF(ROUND(SUMIF(Report_Cost!$G$66:$G$72,Report_GHG1!C17,Report_Cost!$F$66:$F$72)*VLOOKUP(C17,Report_Cost!$C$14:$G$38,5,FALSE),0)-ROUND(SUMIF(Report_Cost!$L$66:$L$72,Report_GHG1!C17,Report_Cost!$K$66:$K$72)*VLOOKUP(C17,Report_Cost!$C$14:$G$38,5,FALSE),0)<0,\"(\"&(ROUND(SUMIF(Report_Cost!$G$66:$G$72,Report_GHG1!C17,Report_Cost!$F$66:$F$72)*VLOOKUP(C17,Report_Cost!$C$14:$G$38,5,FALSE),0)-ROUND(SUMIF(Report_Cost!$L$66:$L$72,Report_GHG1!C17,Report_Cost!$K$66:$K$72)*VLOOKUP(C17,Report_Cost!$C$14:$G$38,5,FALSE),0))*-1&\")\",ROUND(SUMIF(Report_Cost!$G$66:$G$72,Report_GHG1!C17,Report_Cost!$F$66:$F$72)*VLOOKUP(C17,Report_Cost!$C$14:$G$38,5,FALSE),0)-ROUND(SUMIF(Report_Cost!$L$66:$L$72,Report_GHG1!C17,Report_Cost!$K$66:$K$72)*VLOOKUP(C17,Report_Cost!$C$14:$G$38,5,FALSE),0))&\" \"&VLOOKUP(C17,Report_Cost!$C$14:$D$38,2,FALSE),IF(ROUND(SUMIF(Report_Cost!$G$49:$G$55,Report_GHG1!C17,Report_Cost!$F$49:$F$55)*VLOOKUP(C17,Report_Cost!$C$14:$G$38,5,FALSE),2)-ROUND(SUMIF(Report_Cost!$L$49:$L$55,Report_GHG1!C17,Report_Cost!$K$49:$K$55)*VLOOKUP(C17,Report_Cost!$C$14:$G$38,5,FALSE),2)<0,\"(\"&(ROUND(SUMIF(Report_Cost!$G$49:$G$55,Report_GHG1!C17,Report_Cost!$F$49:$F$55)*VLOOKUP(C17,Report_Cost!$C$14:$G$38,5,FALSE),2)-ROUND(SUMIF(Report_Cost!$L$49:$L$55,Report_GHG1!C17,Report_Cost!$K$49:$K$55)*VLOOKUP(C17,Report_Cost!$C$14:$G$38,5,FALSE),2))*-1&\")\",ROUND(SUMIF(Report_Cost!$G$49:$G$55,Report_GHG1!C17,Report_Cost!$F$49:$F$55)*VLOOKUP(C17,Report_Cost!$C$14:$G$38,5,FALSE),2)-ROUND(SUMIF(Report_Cost!$L$49:$L$55,Report_GHG1!C17,Report_Cost!$K$49:$K$55)*VLOOKUP(C17,Report_Cost!$C$14:$G$38,5,FALSE),2))&\" \"&VLOOKUP(C17,Report_Cost!$C$14:$D$38,2,FALSE))","v":"0 Gal"}]
[]
[null,null,{"$f":"Report_Cost!C16","v":"BioDiesel B2"},null,null,{"$f":"IF($F$11=\"Total Field Inputs\",ROUND(SUMIF(Report_Cost!$G$66:$G$72,Report_GHG1!C19,Report_Cost!$F$66:$F$72)*VLOOKUP(C19,Report_Cost!$C$14:$G$38,5,FALSE),0)&\" \"&VLOOKUP(C19,Report_Cost!$C$14:$D$38,2,FALSE),ROUND(SUMIF(Report_Cost!$G$49:$G$55,Report_GHG1!C19,Report_Cost!$F$49:$F$55)*VLOOKUP(C19,Report_Cost!$C$14:$G$38,5,FALSE),2)&\" \"&VLOOKUP(C19,Report_Cost!$C$14:$D$38,2,FALSE))","v":"0 Gal"},null,null,{"$f":"IF($F$11=\"Total Field Inputs\",ROUND(SUMIF(Report_Cost!$L$66:$L$72,Report_GHG1!C19,Report_Cost!$K$66:$K$72)*VLOOKUP(C19,Report_Cost!$C$14:$G$38,5,FALSE),0)&\" \"&VLOOKUP(C19,Report_Cost!$C$14:$D$38,2,FALSE),ROUND(SUMIF(Report_Cost!$L$49:$L$55,Report_GHG1!C19,Report_Cost!$K$49:$K$55)*VLOOKUP(C19,Report_Cost!$C$14:$G$38,5,FALSE),2)&\" \"&VLOOKUP(C19,Report_Cost!$C$14:$D$38,2,FALSE))","v":"0 Gal"},null,null,{"$f":"IF($F$11=\"Total Field Inputs\",IF(ROUND(SUMIF(Report_Cost!$G$66:$G$72,Report_GHG1!C19,Report_Cost!$F$66:$F$72)*VLOOKUP(C19,Report_Cost!$C$14:$G$38,5,FALSE),0)-ROUND(SUMIF(Report_Cost!$L$66:$L$72,Report_GHG1!C19,Report_Cost!$K$66:$K$72)*VLOOKUP(C19,Report_Cost!$C$14:$G$38,5,FALSE),0)<0,\"(\"&(ROUND(SUMIF(Report_Cost!$G$66:$G$72,Report_GHG1!C19,Report_Cost!$F$66:$F$72)*VLOOKUP(C19,Report_Cost!$C$14:$G$38,5,FALSE),0)-ROUND(SUMIF(Report_Cost!$L$66:$L$72,Report_GHG1!C19,Report_Cost!$K$66:$K$72)*VLOOKUP(C19,Report_Cost!$C$14:$G$38,5,FALSE),0))*-1&\")\",ROUND(SUMIF(Report_Cost!$G$66:$G$72,Report_GHG1!C19,Report_Cost!$F$66:$F$72)*VLOOKUP(C19,Report_Cost!$C$14:$G$38,5,FALSE),0)-ROUND(SUMIF(Report_Cost!$L$66:$L$72,Report_GHG1!C19,Report_Cost!$K$66:$K$72)*VLOOKUP(C19,Report_Cost!$C$14:$G$38,5,FALSE),0))&\" \"&VLOOKUP(C19,Report_Cost!$C$14:$D$38,2,FALSE),IF(ROUND(SUMIF(Report_Cost!$G$49:$G$55,Report_GHG1!C19,Report_Cost!$F$49:$F$55)*VLOOKUP(C19,Report_Cost!$C$14:$G$38,5,FALSE),2)-ROUND(SUMIF(Report_Cost!$L$49:$L$55,Report_GHG1!C19,Report_Cost!$K$49:$K$55)*VLOOKUP(C19,Report_Cost!$C$14:$G$38,5,FALSE),2)<0,\"(\"&(ROUND(SUMIF(Report_Cost!$G$49:$G$55,Report_GHG1!C19,Report_Cost!$F$49:$F$55)*VLOOKUP(C19,Report_Cost!$C$14:$G$38,5,FALSE),2)-ROUND(SUMIF(Report_Cost!$L$49:$L$55,Report_GHG1!C19,Report_Cost!$K$49:$K$55)*VLOOKUP(C19,Report_Cost!$C$14:$G$38,5,FALSE),2))*-1&\")\",ROUND(SUMIF(Report_Cost!$G$49:$G$55,Report_GHG1!C19,Report_Cost!$F$49:$F$55)*VLOOKUP(C19,Report_Cost!$C$14:$G$38,5,FALSE),2)-ROUND(SUMIF(Report_Cost!$L$49:$L$55,Report_GHG1!C19,Report_Cost!$K$49:$K$55)*VLOOKUP(C19,Report_Cost!$C$14:$G$38,5,FALSE),2))&\" \"&VLOOKUP(C19,Report_Cost!$C$14:$D$38,2,FALSE))","v":"0 Gal"}]
[]
[null,null,{"$f":"Report_Cost!C17","v":"BioDiesel B5"},null,null,{"$f":"IF($F$11=\"Total Field Inputs\",ROUND(SUMIF(Report_Cost!$G$66:$G$72,Report_GHG1!C21,Report_Cost!$F$66:$F$72)*VLOOKUP(C21,Report_Cost!$C$14:$G$38,5,FALSE),0)&\" \"&VLOOKUP(C21,Report_Cost!$C$14:$D$38,2,FALSE),ROUND(SUMIF(Report_Cost!$G$49:$G$55,Report_GHG1!C21,Report_Cost!$F$49:$F$55)*VLOOKUP(C21,Report_Cost!$C$14:$G$38,5,FALSE),2)&\" \"&VLOOKUP(C21,Report_Cost!$C$14:$D$38,2,FALSE))","v":"0 Gal"},null,null,{"$f":"IF($F$11=\"Total Field Inputs\",ROUND(SUMIF(Report_Cost!$L$66:$L$72,Report_GHG1!C21,Report_Cost!$K$66:$K$72)*VLOOKUP(C21,Report_Cost!$C$14:$G$38,5,FALSE),0)&\" \"&VLOOKUP(C21,Report_Cost!$C$14:$D$38,2,FALSE),ROUND(SUMIF(Report_Cost!$L$49:$L$55,Report_GHG1!C21,Report_Cost!$K$49:$K$55)*VLOOKUP(C21,Report_Cost!$C$14:$G$38,5,FALSE),2)&\" \"&VLOOKUP(C21,Report_Cost!$C$14:$D$38,2,FALSE))","v":"0 Gal"},null,null,{"$f":"IF($F$11=\"Total Field Inputs\",IF(ROUND(SUMIF(Report_Cost!$G$66:$G$72,Report_GHG1!C21,Report_Cost!$F$66:$F$72)*VLOOKUP(C21,Report_Cost!$C$14:$G$38,5,FALSE),0)-ROUND(SUMIF(Report_Cost!$L$66:$L$72,Report_GHG1!C21,Report_Cost!$K$66:$K$72)*VLOOKUP(C21,Report_Cost!$C$14:$G$38,5,FALSE),0)<0,\"(\"&(ROUND(SUMIF(Report_Cost!$G$66:$G$72,Report_GHG1!C21,Report_Cost!$F$66:$F$72)*VLOOKUP(C21,Report_Cost!$C$14:$G$38,5,FALSE),0)-ROUND(SUMIF(Report_Cost!$L$66:$L$72,Report_GHG1!C21,Report_Cost!$K$66:$K$72)*VLOOKUP(C21,Report_Cost!$C$14:$G$38,5,FALSE),0))*-1&\")\",ROUND(SUMIF(Report_Cost!$G$66:$G$72,Report_GHG1!C21,Report_Cost!$F$66:$F$72)*VLOOKUP(C21,Report_Cost!$C$14:$G$38,5,FALSE),0)-ROUND(SUMIF(Report_Cost!$L$66:$L$72,Report_GHG1!C21,Report_Cost!$K$66:$K$72)*VLOOKUP(C21,Report_Cost!$C$14:$G$38,5,FALSE),0))&\" \"&VLOOKUP(C21,Report_Cost!$C$14:$D$38,2,FALSE),IF(ROUND(SUMIF(Report_Cost!$G$49:$G$55,Report_GHG1!C21,Report_Cost!$F$49:$F$55)*VLOOKUP(C21,Report_Cost!$C$14:$G$38,5,FALSE),2)-ROUND(SUMIF(Report_Cost!$L$49:$L$55,Report_GHG1!C21,Report_Cost!$K$49:$K$55)*VLOOKUP(C21,Report_Cost!$C$14:$G$38,5,FALSE),2)<0,\"(\"&(ROUND(SUMIF(Report_Cost!$G$49:$G$55,Report_GHG1!C21,Report_Cost!$F$49:$F$55)*VLOOKUP(C21,Report_Cost!$C$14:$G$38,5,FALSE),2)-ROUND(SUMIF(Report_Cost!$L$49:$L$55,Report_GHG1!C21,Report_Cost!$K$49:$K$55)*VLOOKUP(C21,Report_Cost!$C$14:$G$38,5,FALSE),2))*-1&\")\",ROUND(SUMIF(Report_Cost!$G$49:$G$55,Report_GHG1!C21,Report_Cost!$F$49:$F$55)*VLOOKUP(C21,Report_Cost!$C$14:$G$38,5,FALSE),2)-ROUND(SUMIF(Report_Cost!$L$49:$L$55,Report_GHG1!C21,Report_Cost!$K$49:$K$55)*VLOOKUP(C21,Report_Cost!$C$14:$G$38,5,FALSE),2))&\" \"&VLOOKUP(C21,Report_Cost!$C$14:$D$38,2,FALSE))","v":"0 Gal"}]
[]
[null,null,{"$f":"Report_Cost!C18","v":"BioDiesel B10"},null,null,{"$f":"IF($F$11=\"Total Field Inputs\",ROUND(SUMIF(Report_Cost!$G$66:$G$72,Report_GHG1!C23,Report_Cost!$F$66:$F$72)*VLOOKUP(C23,Report_Cost!$C$14:$G$38,5,FALSE),0)&\" \"&VLOOKUP(C23,Report_Cost!$C$14:$D$38,2,FALSE),ROUND(SUMIF(Report_Cost!$G$49:$G$55,Report_GHG1!C23,Report_Cost!$F$49:$F$55)*VLOOKUP(C23,Report_Cost!$C$14:$G$38,5,FALSE),2)&\" \"&VLOOKUP(C23,Report_Cost!$C$14:$D$38,2,FALSE))","v":"0 Gal"},null,null,{"$f":"IF($F$11=\"Total Field Inputs\",ROUND(SUMIF(Report_Cost!$L$66:$L$72,Report_GHG1!C23,Report_Cost!$K$66:$K$72)*VLOOKUP(C23,Report_Cost!$C$14:$G$38,5,FALSE),0)&\" \"&VLOOKUP(C23,Report_Cost!$C$14:$D$38,2,FALSE),ROUND(SUMIF(Report_Cost!$L$49:$L$55,Report_GHG1!C23,Report_Cost!$K$49:$K$55)*VLOOKUP(C23,Report_Cost!$C$14:$G$38,5,FALSE),2)&\" \"&VLOOKUP(C23,Report_Cost!$C$14:$D$38,2,FALSE))","v":"0 Gal"},null,null,{"$f":"IF($F$11=\"Total Field Inputs\",IF(ROUND(SUMIF(Report_Cost!$G$66:$G$72,Report_GHG1!C23,Report_Cost!$F$66:$F$72)*VLOOKUP(C23,Report_Cost!$C$14:$G$38,5,FALSE),0)-ROUND(SUMIF(Report_Cost!$L$66:$L$72,Report_GHG1!C23,Report_Cost!$K$66:$K$72)*VLOOKUP(C23,Report_Cost!$C$14:$G$38,5,FALSE),0)<0,\"(\"&(ROUND(SUMIF(Report_Cost!$G$66:$G$72,Report_GHG1!C23,Report_Cost!$F$66:$F$72)*VLOOKUP(C23,Report_Cost!$C$14:$G$38,5,FALSE),0)-ROUND(SUMIF(Report_Cost!$L$66:$L$72,Report_GHG1!C23,Report_Cost!$K$66:$K$72)*VLOOKUP(C23,Report_Cost!$C$14:$G$38,5,FALSE),0))*-1&\")\",ROUND(SUMIF(Report_Cost!$G$66:$G$72,Report_GHG1!C23,Report_Cost!$F$66:$F$72)*VLOOKUP(C23,Report_Cost!$C$14:$G$38,5,FALSE),0)-ROUND(SUMIF(Report_Cost!$L$66:$L$72,Report_GHG1!C23,Report_Cost!$K$66:$K$72)*VLOOKUP(C23,Report_Cost!$C$14:$G$38,5,FALSE),0))&\" \"&VLOOKUP(C23,Report_Cost!$C$14:$D$38,2,FALSE),IF(ROUND(SUMIF(Report_Cost!$G$49:$G$55,Report_GHG1!C23,Report_Cost!$F$49:$F$55)*VLOOKUP(C23,Report_Cost!$C$14:$G$38,5,FALSE),2)-ROUND(SUMIF(Report_Cost!$L$49:$L$55,Report_GHG1!C23,Report_Cost!$K$49:$K$55)*VLOOKUP(C23,Report_Cost!$C$14:$G$38,5,FALSE),2)<0,\"(\"&(ROUND(SUMIF(Report_Cost!$G$49:$G$55,Report_GHG1!C23,Report_Cost!$F$49:$F$55)*VLOOKUP(C23,Report_Cost!$C$14:$G$38,5,FALSE),2)-ROUND(SUMIF(Report_Cost!$L$49:$L$55,Report_GHG1!C23,Report_Cost!$K$49:$K$55)*VLOOKUP(C23,Report_Cost!$C$14:$G$38,5,FALSE),2))*-1&\")\",ROUND(SUMIF(Report_Cost!$G$49:$G$55,Report_GHG1!C23,Report_Cost!$F$49:$F$55)*VLOOKUP(C23,Report_Cost!$C$14:$G$38,5,FALSE),2)-ROUND(SUMIF(Report_Cost!$L$49:$L$55,Report_GHG1!C23,Report_Cost!$K$49:$K$55)*VLOOKUP(C23,Report_Cost!$C$14:$G$38,5,FALSE),2))&\" \"&VLOOKUP(C23,Report_Cost!$C$14:$D$38,2,FALSE))","v":"0 Gal"}]
[]
[null,null,{"$f":"Report_Cost!C19","v":"BioDiesel B20"},null,null,{"$f":"IF($F$11=\"Total Field Inputs\",ROUND(SUMIF(Report_Cost!$G$66:$G$72,Report_GHG1!C25,Report_Cost!$F$66:$F$72)*VLOOKUP(C25,Report_Cost!$C$14:$G$38,5,FALSE),0)&\" \"&VLOOKUP(C25,Report_Cost!$C$14:$D$38,2,FALSE),ROUND(SUMIF(Report_Cost!$G$49:$G$55,Report_GHG1!C25,Report_Cost!$F$49:$F$55)*VLOOKUP(C25,Report_Cost!$C$14:$G$38,5,FALSE),2)&\" \"&VLOOKUP(C25,Report_Cost!$C$14:$D$38,2,FALSE))","v":"0 Gal"},null,null,{"$f":"IF($F$11=\"Total Field Inputs\",ROUND(SUMIF(Report_Cost!$L$66:$L$72,Report_GHG1!C25,Report_Cost!$K$66:$K$72)*VLOOKUP(C25,Report_Cost!$C$14:$G$38,5,FALSE),0)&\" \"&VLOOKUP(C25,Report_Cost!$C$14:$D$38,2,FALSE),ROUND(SUMIF(Report_Cost!$L$49:$L$55,Report_GHG1!C25,Report_Cost!$K$49:$K$55)*VLOOKUP(C25,Report_Cost!$C$14:$G$38,5,FALSE),2)&\" \"&VLOOKUP(C25,Report_Cost!$C$14:$D$38,2,FALSE))","v":"0 Gal"},null,null,{"$f":"IF($F$11=\"Total Field Inputs\",IF(ROUND(SUMIF(Report_Cost!$G$66:$G$72,Report_GHG1!C25,Report_Cost!$F$66:$F$72)*VLOOKUP(C25,Report_Cost!$C$14:$G$38,5,FALSE),0)-ROUND(SUMIF(Report_Cost!$L$66:$L$72,Report_GHG1!C25,Report_Cost!$K$66:$K$72)*VLOOKUP(C25,Report_Cost!$C$14:$G$38,5,FALSE),0)<0,\"(\"&(ROUND(SUMIF(Report_Cost!$G$66:$G$72,Report_GHG1!C25,Report_Cost!$F$66:$F$72)*VLOOKUP(C25,Report_Cost!$C$14:$G$38,5,FALSE),0)-ROUND(SUMIF(Report_Cost!$L$66:$L$72,Report_GHG1!C25,Report_Cost!$K$66:$K$72)*VLOOKUP(C25,Report_Cost!$C$14:$G$38,5,FALSE),0))*-1&\")\",ROUND(SUMIF(Report_Cost!$G$66:$G$72,Report_GHG1!C25,Report_Cost!$F$66:$F$72)*VLOOKUP(C25,Report_Cost!$C$14:$G$38,5,FALSE),0)-ROUND(SUMIF(Report_Cost!$L$66:$L$72,Report_GHG1!C25,Report_Cost!$K$66:$K$72)*VLOOKUP(C25,Report_Cost!$C$14:$G$38,5,FALSE),0))&\" \"&VLOOKUP(C25,Report_Cost!$C$14:$D$38,2,FALSE),IF(ROUND(SUMIF(Report_Cost!$G$49:$G$55,Report_GHG1!C25,Report_Cost!$F$49:$F$55)*VLOOKUP(C25,Report_Cost!$C$14:$G$38,5,FALSE),2)-ROUND(SUMIF(Report_Cost!$L$49:$L$55,Report_GHG1!C25,Report_Cost!$K$49:$K$55)*VLOOKUP(C25,Report_Cost!$C$14:$G$38,5,FALSE),2)<0,\"(\"&(ROUND(SUMIF(Report_Cost!$G$49:$G$55,Report_GHG1!C25,Report_Cost!$F$49:$F$55)*VLOOKUP(C25,Report_Cost!$C$14:$G$38,5,FALSE),2)-ROUND(SUMIF(Report_Cost!$L$49:$L$55,Report_GHG1!C25,Report_Cost!$K$49:$K$55)*VLOOKUP(C25,Report_Cost!$C$14:$G$38,5,FALSE),2))*-1&\")\",ROUND(SUMIF(Report_Cost!$G$49:$G$55,Report_GHG1!C25,Report_Cost!$F$49:$F$55)*VLOOKUP(C25,Report_Cost!$C$14:$G$38,5,FALSE),2)-ROUND(SUMIF(Report_Cost!$L$49:$L$55,Report_GHG1!C25,Report_Cost!$K$49:$K$55)*VLOOKUP(C25,Report_Cost!$C$14:$G$38,5,FALSE),2))&\" \"&VLOOKUP(C25,Report_Cost!$C$14:$D$38,2,FALSE))","v":"0 Gal"}]
[]
[null,null,{"$f":"Report_Cost!C20","v":"BioDiesel B100"},null,null,{"$f":"IF($F$11=\"Total Field Inputs\",ROUND(SUMIF(Report_Cost!$G$66:$G$72,Report_GHG1!C27,Report_Cost!$F$66:$F$72)*VLOOKUP(C27,Report_Cost!$C$14:$G$38,5,FALSE),0)&\" \"&VLOOKUP(C27,Report_Cost!$C$14:$D$38,2,FALSE),ROUND(SUMIF(Report_Cost!$G$49:$G$55,Report_GHG1!C27,Report_Cost!$F$49:$F$55)*VLOOKUP(C27,Report_Cost!$C$14:$G$38,5,FALSE),2)&\" \"&VLOOKUP(C27,Report_Cost!$C$14:$D$38,2,FALSE))","v":"0 Gal"},null,null,{"$f":"IF($F$11=\"Total Field Inputs\",ROUND(SUMIF(Report_Cost!$L$66:$L$72,Report_GHG1!C27,Report_Cost!$K$66:$K$72)*VLOOKUP(C27,Report_Cost!$C$14:$G$38,5,FALSE),0)&\" \"&VLOOKUP(C27,Report_Cost!$C$14:$D$38,2,FALSE),ROUND(SUMIF(Report_Cost!$L$49:$L$55,Report_GHG1!C27,Report_Cost!$K$49:$K$55)*VLOOKUP(C27,Report_Cost!$C$14:$G$38,5,FALSE),2)&\" \"&VLOOKUP(C27,Report_Cost!$C$14:$D$38,2,FALSE))","v":"0 Gal"},null,null,{"$f":"IF($F$11=\"Total Field Inputs\",IF(ROUND(SUMIF(Report_Cost!$G$66:$G$72,Report_GHG1!C27,Report_Cost!$F$66:$F$72)*VLOOKUP(C27,Report_Cost!$C$14:$G$38,5,FALSE),0)-ROUND(SUMIF(Report_Cost!$L$66:$L$72,Report_GHG1!C27,Report_Cost!$K$66:$K$72)*VLOOKUP(C27,Report_Cost!$C$14:$G$38,5,FALSE),0)<0,\"(\"&(ROUND(SUMIF(Report_Cost!$G$66:$G$72,Report_GHG1!C27,Report_Cost!$F$66:$F$72)*VLOOKUP(C27,Report_Cost!$C$14:$G$38,5,FALSE),0)-ROUND(SUMIF(Report_Cost!$L$66:$L$72,Report_GHG1!C27,Report_Cost!$K$66:$K$72)*VLOOKUP(C27,Report_Cost!$C$14:$G$38,5,FALSE),0))*-1&\")\",ROUND(SUMIF(Report_Cost!$G$66:$G$72,Report_GHG1!C27,Report_Cost!$F$66:$F$72)*VLOOKUP(C27,Report_Cost!$C$14:$G$38,5,FALSE),0)-ROUND(SUMIF(Report_Cost!$L$66:$L$72,Report_GHG1!C27,Report_Cost!$K$66:$K$72)*VLOOKUP(C27,Report_Cost!$C$14:$G$38,5,FALSE),0))&\" \"&VLOOKUP(C27,Report_Cost!$C$14:$D$38,2,FALSE),IF(ROUND(SUMIF(Report_Cost!$G$49:$G$55,Report_GHG1!C27,Report_Cost!$F$49:$F$55)*VLOOKUP(C27,Report_Cost!$C$14:$G$38,5,FALSE),2)-ROUND(SUMIF(Report_Cost!$L$49:$L$55,Report_GHG1!C27,Report_Cost!$K$49:$K$55)*VLOOKUP(C27,Report_Cost!$C$14:$G$38,5,FALSE),2)<0,\"(\"&(ROUND(SUMIF(Report_Cost!$G$49:$G$55,Report_GHG1!C27,Report_Cost!$F$49:$F$55)*VLOOKUP(C27,Report_Cost!$C$14:$G$38,5,FALSE),2)-ROUND(SUMIF(Report_Cost!$L$49:$L$55,Report_GHG1!C27,Report_Cost!$K$49:$K$55)*VLOOKUP(C27,Report_Cost!$C$14:$G$38,5,FALSE),2))*-1&\")\",ROUND(SUMIF(Report_Cost!$G$49:$G$55,Report_GHG1!C27,Report_Cost!$F$49:$F$55)*VLOOKUP(C27,Report_Cost!$C$14:$G$38,5,FALSE),2)-ROUND(SUMIF(Report_Cost!$L$49:$L$55,Report_GHG1!C27,Report_Cost!$K$49:$K$55)*VLOOKUP(C27,Report_Cost!$C$14:$G$38,5,FALSE),2))&\" \"&VLOOKUP(C27,Report_Cost!$C$14:$D$38,2,FALSE))","v":"0 Gal"}]
[]
[null,null,{"$f":"Report_Cost!C21","v":"SVO"},null,null,{"$f":"IF($F$11=\"Total Field Inputs\",ROUND(SUMIF(Report_Cost!$G$66:$G$72,Report_GHG1!C29,Report_Cost!$F$66:$F$72)*VLOOKUP(C29,Report_Cost!$C$14:$G$38,5,FALSE),0)&\" \"&VLOOKUP(C29,Report_Cost!$C$14:$D$38,2,FALSE),ROUND(SUMIF(Report_Cost!$G$49:$G$55,Report_GHG1!C29,Report_Cost!$F$49:$F$55)*VLOOKUP(C29,Report_Cost!$C$14:$G$38,5,FALSE),2)&\" \"&VLOOKUP(C29,Report_Cost!$C$14:$D$38,2,FALSE))","v":"0 Gal"},null,null,{"$f":"IF($F$11=\"Total Field Inputs\",ROUND(SUMIF(Report_Cost!$L$66:$L$72,Report_GHG1!C29,Report_Cost!$K$66:$K$72)*VLOOKUP(C29,Report_Cost!$C$14:$G$38,5,FALSE),0)&\" \"&VLOOKUP(C29,Report_Cost!$C$14:$D$38,2,FALSE),ROUND(SUMIF(Report_Cost!$L$49:$L$55,Report_GHG1!C29,Report_Cost!$K$49:$K$55)*VLOOKUP(C29,Report_Cost!$C$14:$G$38,5,FALSE),2)&\" \"&VLOOKUP(C29,Report_Cost!$C$14:$D$38,2,FALSE))","v":"0 Gal"},null,null,{"$f":"IF($F$11=\"Total Field Inputs\",IF(ROUND(SUMIF(Report_Cost!$G$66:$G$72,Report_GHG1!C29,Report_Cost!$F$66:$F$72)*VLOOKUP(C29,Report_Cost!$C$14:$G$38,5,FALSE),0)-ROUND(SUMIF(Report_Cost!$L$66:$L$72,Report_GHG1!C29,Report_Cost!$K$66:$K$72)*VLOOKUP(C29,Report_Cost!$C$14:$G$38,5,FALSE),0)<0,\"(\"&(ROUND(SUMIF(Report_Cost!$G$66:$G$72,Report_GHG1!C29,Report_Cost!$F$66:$F$72)*VLOOKUP(C29,Report_Cost!$C$14:$G$38,5,FALSE),0)-ROUND(SUMIF(Report_Cost!$L$66:$L$72,Report_GHG1!C29,Report_Cost!$K$66:$K$72)*VLOOKUP(C29,Report_Cost!$C$14:$G$38,5,FALSE),0))*-1&\")\",ROUND(SUMIF(Report_Cost!$G$66:$G$72,Report_GHG1!C29,Report_Cost!$F$66:$F$72)*VLOOKUP(C29,Report_Cost!$C$14:$G$38,5,FALSE),0)-ROUND(SUMIF(Report_Cost!$L$66:$L$72,Report_GHG1!C29,Report_Cost!$K$66:$K$72)*VLOOKUP(C29,Report_Cost!$C$14:$G$38,5,FALSE),0))&\" \"&VLOOKUP(C29,Report_Cost!$C$14:$D$38,2,FALSE),IF(ROUND(SUMIF(Report_Cost!$G$49:$G$55,Report_GHG1!C29,Report_Cost!$F$49:$F$55)*VLOOKUP(C29,Report_Cost!$C$14:$G$38,5,FALSE),2)-ROUND(SUMIF(Report_Cost!$L$49:$L$55,Report_GHG1!C29,Report_Cost!$K$49:$K$55)*VLOOKUP(C29,Report_Cost!$C$14:$G$38,5,FALSE),2)<0,\"(\"&(ROUND(SUMIF(Report_Cost!$G$49:$G$55,Report_GHG1!C29,Report_Cost!$F$49:$F$55)*VLOOKUP(C29,Report_Cost!$C$14:$G$38,5,FALSE),2)-ROUND(SUMIF(Report_Cost!$L$49:$L$55,Report_GHG1!C29,Report_Cost!$K$49:$K$55)*VLOOKUP(C29,Report_Cost!$C$14:$G$38,5,FALSE),2))*-1&\")\",ROUND(SUMIF(Report_Cost!$G$49:$G$55,Report_GHG1!C29,Report_Cost!$F$49:$F$55)*VLOOKUP(C29,Report_Cost!$C$14:$G$38,5,FALSE),2)-ROUND(SUMIF(Report_Cost!$L$49:$L$55,Report_GHG1!C29,Report_Cost!$K$49:$K$55)*VLOOKUP(C29,Report_Cost!$C$14:$G$38,5,FALSE),2))&\" \"&VLOOKUP(C29,Report_Cost!$C$14:$D$38,2,FALSE))","v":"0 Gal"}]
[]
[null,"  Gas"]
[null,null,{"$f":"Report_Cost!C23","v":"Propane"},null,null,{"$f":"IF($F$11=\"Total Field Inputs\",ROUND(SUMIF(Report_Cost!$G$66:$G$72,Report_GHG1!C32,Report_Cost!$F$66:$F$72)*VLOOKUP(C32,Report_Cost!$C$14:$G$38,5,FALSE),0)&\" \"&VLOOKUP(C32,Report_Cost!$C$14:$D$38,2,FALSE),ROUND(SUMIF(Report_Cost!$G$49:$G$55,Report_GHG1!C32,Report_Cost!$F$49:$F$55)*VLOOKUP(C32,Report_Cost!$C$14:$G$38,5,FALSE),2)&\" \"&VLOOKUP(C32,Report_Cost!$C$14:$D$38,2,FALSE))","v":"0 Gal"},null,null,{"$f":"IF($F$11=\"Total Field Inputs\",ROUND(SUMIF(Report_Cost!$L$66:$L$72,Report_GHG1!C32,Report_Cost!$K$66:$K$72)*VLOOKUP(C32,Report_Cost!$C$14:$G$38,5,FALSE),0)&\" \"&VLOOKUP(C32,Report_Cost!$C$14:$D$38,2,FALSE),ROUND(SUMIF(Report_Cost!$L$49:$L$55,Report_GHG1!C32,Report_Cost!$K$49:$K$55)*VLOOKUP(C32,Report_Cost!$C$14:$G$38,5,FALSE),2)&\" \"&VLOOKUP(C32,Report_Cost!$C$14:$D$38,2,FALSE))","v":"0 Gal"},null,null,{"$f":"IF($F$11=\"Total Field Inputs\",IF(ROUND(SUMIF(Report_Cost!$G$66:$G$72,Report_GHG1!C32,Report_Cost!$F$66:$F$72)*VLOOKUP(C32,Report_Cost!$C$14:$G$38,5,FALSE),0)-ROUND(SUMIF(Report_Cost!$L$66:$L$72,Report_GHG1!C32,Report_Cost!$K$66:$K$72)*VLOOKUP(C32,Report_Cost!$C$14:$G$38,5,FALSE),0)<0,\"(\"&(ROUND(SUMIF(Report_Cost!$G$66:$G$72,Report_GHG1!C32,Report_Cost!$F$66:$F$72)*VLOOKUP(C32,Report_Cost!$C$14:$G$38,5,FALSE),0)-ROUND(SUMIF(Report_Cost!$L$66:$L$72,Report_GHG1!C32,Report_Cost!$K$66:$K$72)*VLOOKUP(C32,Report_Cost!$C$14:$G$38,5,FALSE),0))*-1&\")\",ROUND(SUMIF(Report_Cost!$G$66:$G$72,Report_GHG1!C32,Report_Cost!$F$66:$F$72)*VLOOKUP(C32,Report_Cost!$C$14:$G$38,5,FALSE),0)-ROUND(SUMIF(Report_Cost!$L$66:$L$72,Report_GHG1!C32,Report_Cost!$K$66:$K$72)*VLOOKUP(C32,Report_Cost!$C$14:$G$38,5,FALSE),0))&\" \"&VLOOKUP(C32,Report_Cost!$C$14:$D$38,2,FALSE),IF(ROUND(SUMIF(Report_Cost!$G$49:$G$55,Report_GHG1!C32,Report_Cost!$F$49:$F$55)*VLOOKUP(C32,Report_Cost!$C$14:$G$38,5,FALSE),2)-ROUND(SUMIF(Report_Cost!$L$49:$L$55,Report_GHG1!C32,Report_Cost!$K$49:$K$55)*VLOOKUP(C32,Report_Cost!$C$14:$G$38,5,FALSE),2)<0,\"(\"&(ROUND(SUMIF(Report_Cost!$G$49:$G$55,Report_GHG1!C32,Report_Cost!$F$49:$F$55)*VLOOKUP(C32,Report_Cost!$C$14:$G$38,5,FALSE),2)-ROUND(SUMIF(Report_Cost!$L$49:$L$55,Report_GHG1!C32,Report_Cost!$K$49:$K$55)*VLOOKUP(C32,Report_Cost!$C$14:$G$38,5,FALSE),2))*-1&\")\",ROUND(SUMIF(Report_Cost!$G$49:$G$55,Report_GHG1!C32,Report_Cost!$F$49:$F$55)*VLOOKUP(C32,Report_Cost!$C$14:$G$38,5,FALSE),2)-ROUND(SUMIF(Report_Cost!$L$49:$L$55,Report_GHG1!C32,Report_Cost!$K$49:$K$55)*VLOOKUP(C32,Report_Cost!$C$14:$G$38,5,FALSE),2))&\" \"&VLOOKUP(C32,Report_Cost!$C$14:$D$38,2,FALSE))","v":"0 Gal"}]
[]
[null,null,{"$f":"Report_Cost!C24","v":"Natural Gas"},null,null,{"$f":"IF($F$11=\"Total Field Inputs\",ROUND(SUMIF(Report_Cost!$G$66:$G$72,Report_GHG1!C34,Report_Cost!$F$66:$F$72)*VLOOKUP(C34,Report_Cost!$C$14:$G$38,5,FALSE),0)&\" \"&VLOOKUP(C34,Report_Cost!$C$14:$D$38,2,FALSE),ROUND(SUMIF(Report_Cost!$G$49:$G$55,Report_GHG1!C34,Report_Cost!$F$49:$F$55)*VLOOKUP(C34,Report_Cost!$C$14:$G$38,5,FALSE),2)&\" \"&VLOOKUP(C34,Report_Cost!$C$14:$D$38,2,FALSE))","v":"0 CCF"},null,null,{"$f":"IF($F$11=\"Total Field Inputs\",ROUND(SUMIF(Report_Cost!$L$66:$L$72,Report_GHG1!C34,Report_Cost!$K$66:$K$72)*VLOOKUP(C34,Report_Cost!$C$14:$G$38,5,FALSE),0)&\" \"&VLOOKUP(C34,Report_Cost!$C$14:$D$38,2,FALSE),ROUND(SUMIF(Report_Cost!$L$49:$L$55,Report_GHG1!C34,Report_Cost!$K$49:$K$55)*VLOOKUP(C34,Report_Cost!$C$14:$G$38,5,FALSE),2)&\" \"&VLOOKUP(C34,Report_Cost!$C$14:$D$38,2,FALSE))","v":"0 CCF"},null,null,{"$f":"IF($F$11=\"Total Field Inputs\",IF(ROUND(SUMIF(Report_Cost!$G$66:$G$72,Report_GHG1!C34,Report_Cost!$F$66:$F$72)*VLOOKUP(C34,Report_Cost!$C$14:$G$38,5,FALSE),0)-ROUND(SUMIF(Report_Cost!$L$66:$L$72,Report_GHG1!C34,Report_Cost!$K$66:$K$72)*VLOOKUP(C34,Report_Cost!$C$14:$G$38,5,FALSE),0)<0,\"(\"&(ROUND(SUMIF(Report_Cost!$G$66:$G$72,Report_GHG1!C34,Report_Cost!$F$66:$F$72)*VLOOKUP(C34,Report_Cost!$C$14:$G$38,5,FALSE),0)-ROUND(SUMIF(Report_Cost!$L$66:$L$72,Report_GHG1!C34,Report_Cost!$K$66:$K$72)*VLOOKUP(C34,Report_Cost!$C$14:$G$38,5,FALSE),0))*-1&\")\",ROUND(SUMIF(Report_Cost!$G$66:$G$72,Report_GHG1!C34,Report_Cost!$F$66:$F$72)*VLOOKUP(C34,Report_Cost!$C$14:$G$38,5,FALSE),0)-ROUND(SUMIF(Report_Cost!$L$66:$L$72,Report_GHG1!C34,Report_Cost!$K$66:$K$72)*VLOOKUP(C34,Report_Cost!$C$14:$G$38,5,FALSE),0))&\" \"&VLOOKUP(C34,Report_Cost!$C$14:$D$38,2,FALSE),IF(ROUND(SUMIF(Report_Cost!$G$49:$G$55,Report_GHG1!C34,Report_Cost!$F$49:$F$55)*VLOOKUP(C34,Report_Cost!$C$14:$G$38,5,FALSE),2)-ROUND(SUMIF(Report_Cost!$L$49:$L$55,Report_GHG1!C34,Report_Cost!$K$49:$K$55)*VLOOKUP(C34,Report_Cost!$C$14:$G$38,5,FALSE),2)<0,\"(\"&(ROUND(SUMIF(Report_Cost!$G$49:$G$55,Report_GHG1!C34,Report_Cost!$F$49:$F$55)*VLOOKUP(C34,Report_Cost!$C$14:$G$38,5,FALSE),2)-ROUND(SUMIF(Report_Cost!$L$49:$L$55,Report_GHG1!C34,Report_Cost!$K$49:$K$55)*VLOOKUP(C34,Report_Cost!$C$14:$G$38,5,FALSE),2))*-1&\")\",ROUND(SUMIF(Report_Cost!$G$49:$G$55,Report_GHG1!C34,Report_Cost!$F$49:$F$55)*VLOOKUP(C34,Report_Cost!$C$14:$G$38,5,FALSE),2)-ROUND(SUMIF(Report_Cost!$L$49:$L$55,Report_GHG1!C34,Report_Cost!$K$49:$K$55)*VLOOKUP(C34,Report_Cost!$C$14:$G$38,5,FALSE),2))&\" \"&VLOOKUP(C34,Report_Cost!$C$14:$D$38,2,FALSE))","v":"0 CCF"}]
[]
[null,null,{"$f":"Report_Cost!C25","v":"CNG"},null,null,{"$f":"IF($F$11=\"Total Field Inputs\",ROUND(SUMIF(Report_Cost!$G$66:$G$72,Report_GHG1!C36,Report_Cost!$F$66:$F$72)*VLOOKUP(C36,Report_Cost!$C$14:$G$38,5,FALSE),0)&\" \"&VLOOKUP(C36,Report_Cost!$C$14:$D$38,2,FALSE),ROUND(SUMIF(Report_Cost!$G$49:$G$55,Report_GHG1!C36,Report_Cost!$F$49:$F$55)*VLOOKUP(C36,Report_Cost!$C$14:$G$38,5,FALSE),2)&\" \"&VLOOKUP(C36,Report_Cost!$C$14:$D$38,2,FALSE))","v":"0 CCF"},null,null,{"$f":"IF($F$11=\"Total Field Inputs\",ROUND(SUMIF(Report_Cost!$L$66:$L$72,Report_GHG1!C36,Report_Cost!$K$66:$K$72)*VLOOKUP(C36,Report_Cost!$C$14:$G$38,5,FALSE),0)&\" \"&VLOOKUP(C36,Report_Cost!$C$14:$D$38,2,FALSE),ROUND(SUMIF(Report_Cost!$L$49:$L$55,Report_GHG1!C36,Report_Cost!$K$49:$K$55)*VLOOKUP(C36,Report_Cost!$C$14:$G$38,5,FALSE),2)&\" \"&VLOOKUP(C36,Report_Cost!$C$14:$D$38,2,FALSE))","v":"0 CCF"},null,null,{"$f":"IF($F$11=\"Total Field Inputs\",IF(ROUND(SUMIF(Report_Cost!$G$66:$G$72,Report_GHG1!C36,Report_Cost!$F$66:$F$72)*VLOOKUP(C36,Report_Cost!$C$14:$G$38,5,FALSE),0)-ROUND(SUMIF(Report_Cost!$L$66:$L$72,Report_GHG1!C36,Report_Cost!$K$66:$K$72)*VLOOKUP(C36,Report_Cost!$C$14:$G$38,5,FALSE),0)<0,\"(\"&(ROUND(SUMIF(Report_Cost!$G$66:$G$72,Report_GHG1!C36,Report_Cost!$F$66:$F$72)*VLOOKUP(C36,Report_Cost!$C$14:$G$38,5,FALSE),0)-ROUND(SUMIF(Report_Cost!$L$66:$L$72,Report_GHG1!C36,Report_Cost!$K$66:$K$72)*VLOOKUP(C36,Report_Cost!$C$14:$G$38,5,FALSE),0))*-1&\")\",ROUND(SUMIF(Report_Cost!$G$66:$G$72,Report_GHG1!C36,Report_Cost!$F$66:$F$72)*VLOOKUP(C36,Report_Cost!$C$14:$G$38,5,FALSE),0)-ROUND(SUMIF(Report_Cost!$L$66:$L$72,Report_GHG1!C36,Report_Cost!$K$66:$K$72)*VLOOKUP(C36,Report_Cost!$C$14:$G$38,5,FALSE),0))&\" \"&VLOOKUP(C36,Report_Cost!$C$14:$D$38,2,FALSE),IF(ROUND(SUMIF(Report_Cost!$G$49:$G$55,Report_GHG1!C36,Report_Cost!$F$49:$F$55)*VLOOKUP(C36,Report_Cost!$C$14:$G$38,5,FALSE),2)-ROUND(SUMIF(Report_Cost!$L$49:$L$55,Report_GHG1!C36,Report_Cost!$K$49:$K$55)*VLOOKUP(C36,Report_Cost!$C$14:$G$38,5,FALSE),2)<0,\"(\"&(ROUND(SUMIF(Report_Cost!$G$49:$G$55,Report_GHG1!C36,Report_Cost!$F$49:$F$55)*VLOOKUP(C36,Report_Cost!$C$14:$G$38,5,FALSE),2)-ROUND(SUMIF(Report_Cost!$L$49:$L$55,Report_GHG1!C36,Report_Cost!$K$49:$K$55)*VLOOKUP(C36,Report_Cost!$C$14:$G$38,5,FALSE),2))*-1&\")\",ROUND(SUMIF(Report_Cost!$G$49:$G$55,Report_GHG1!C36,Report_Cost!$F$49:$F$55)*VLOOKUP(C36,Report_Cost!$C$14:$G$38,5,FALSE),2)-ROUND(SUMIF(Report_Cost!$L$49:$L$55,Report_GHG1!C36,Report_Cost!$K$49:$K$55)*VLOOKUP(C36,Report_Cost!$C$14:$G$38,5,FALSE),2))&\" \"&VLOOKUP(C36,Report_Cost!$C$14:$D$38,2,FALSE))","v":"0 CCF"}]
[]
[null,"  Electricity"]
[null,null,{"$f":"Report_Cost!C27","v":"Electricity"},null,null,{"$f":"IF($F$11=\"Total Field Inputs\",ROUND(SUMIF(Report_Cost!$G$66:$G$72,Report_GHG1!C39,Report_Cost!$F$66:$F$72)*VLOOKUP(C39,Report_Cost!$C$14:$G$38,5,FALSE),0)&\" \"&VLOOKUP(C39,Report_Cost!$C$14:$D$38,2,FALSE),ROUND(SUMIF(Report_Cost!$G$49:$G$55,Report_GHG1!C39,Report_Cost!$F$49:$F$55)*VLOOKUP(C39,Report_Cost!$C$14:$G$38,5,FALSE),2)&\" \"&VLOOKUP(C39,Report_Cost!$C$14:$D$38,2,FALSE))","v":"0 KWH"},null,null,{"$f":"IF($F$11=\"Total Field Inputs\",ROUND(SUMIF(Report_Cost!$L$66:$L$72,Report_GHG1!C39,Report_Cost!$K$66:$K$72)*VLOOKUP(C39,Report_Cost!$C$14:$G$38,5,FALSE),0)&\" \"&VLOOKUP(C39,Report_Cost!$C$14:$D$38,2,FALSE),ROUND(SUMIF(Report_Cost!$L$49:$L$55,Report_GHG1!C39,Report_Cost!$K$49:$K$55)*VLOOKUP(C39,Report_Cost!$C$14:$G$38,5,FALSE),2)&\" \"&VLOOKUP(C39,Report_Cost!$C$14:$D$38,2,FALSE))","v":"0 KWH"},null,null,{"$f":"IF($F$11=\"Total Field Inputs\",IF(ROUND(SUMIF(Report_Cost!$G$66:$G$72,Report_GHG1!C39,Report_Cost!$F$66:$F$72)*VLOOKUP(C39,Report_Cost!$C$14:$G$38,5,FALSE),0)-ROUND(SUMIF(Report_Cost!$L$66:$L$72,Report_GHG1!C39,Report_Cost!$K$66:$K$72)*VLOOKUP(C39,Report_Cost!$C$14:$G$38,5,FALSE),0)<0,\"(\"&(ROUND(SUMIF(Report_Cost!$G$66:$G$72,Report_GHG1!C39,Report_Cost!$F$66:$F$72)*VLOOKUP(C39,Report_Cost!$C$14:$G$38,5,FALSE),0)-ROUND(SUMIF(Report_Cost!$L$66:$L$72,Report_GHG1!C39,Report_Cost!$K$66:$K$72)*VLOOKUP(C39,Report_Cost!$C$14:$G$38,5,FALSE),0))*-1&\")\",ROUND(SUMIF(Report_Cost!$G$66:$G$72,Report_GHG1!C39,Report_Cost!$F$66:$F$72)*VLOOKUP(C39,Report_Cost!$C$14:$G$38,5,FALSE),0)-ROUND(SUMIF(Report_Cost!$L$66:$L$72,Report_GHG1!C39,Report_Cost!$K$66:$K$72)*VLOOKUP(C39,Report_Cost!$C$14:$G$38,5,FALSE),0))&\" \"&VLOOKUP(C39,Report_Cost!$C$14:$D$38,2,FALSE),IF(ROUND(SUMIF(Report_Cost!$G$49:$G$55,Report_GHG1!C39,Report_Cost!$F$49:$F$55)*VLOOKUP(C39,Report_Cost!$C$14:$G$38,5,FALSE),2)-ROUND(SUMIF(Report_Cost!$L$49:$L$55,Report_GHG1!C39,Report_Cost!$K$49:$K$55)*VLOOKUP(C39,Report_Cost!$C$14:$G$38,5,FALSE),2)<0,\"(\"&(ROUND(SUMIF(Report_Cost!$G$49:$G$55,Report_GHG1!C39,Report_Cost!$F$49:$F$55)*VLOOKUP(C39,Report_Cost!$C$14:$G$38,5,FALSE),2)-ROUND(SUMIF(Report_Cost!$L$49:$L$55,Report_GHG1!C39,Report_Cost!$K$49:$K$55)*VLOOKUP(C39,Report_Cost!$C$14:$G$38,5,FALSE),2))*-1&\")\",ROUND(SUMIF(Report_Cost!$G$49:$G$55,Report_GHG1!C39,Report_Cost!$F$49:$F$55)*VLOOKUP(C39,Report_Cost!$C$14:$G$38,5,FALSE),2)-ROUND(SUMIF(Report_Cost!$L$49:$L$55,Report_GHG1!C39,Report_Cost!$K$49:$K$55)*VLOOKUP(C39,Report_Cost!$C$14:$G$38,5,FALSE),2))&\" \"&VLOOKUP(C39,Report_Cost!$C$14:$D$38,2,FALSE))","v":"0 KWH"}]
[]
[null,"Other Energy Input"]
[null,{"$f":"Report_Cost!G54","v":"Soil Amend"},"Soil Amendments",null,null,{"$f":"IF($F$11=\"Total Field Inputs\",ROUND(SUMIF(Report_Cost!$G$66:$G$72,Report_GHG1!B42,Report_Cost!$F$66:$F$72)*VLOOKUP(B42,Report_Cost!$C$14:$G$38,5,FALSE),0)&\" \"&VLOOKUP(B42,Report_Cost!$C$14:$D$38,2,FALSE),ROUND(SUMIF(Report_Cost!$G$49:$G$55,Report_GHG1!B42,Report_Cost!$F$49:$F$55)*VLOOKUP(B42,Report_Cost!$C$14:$G$38,5,FALSE),2)&\" \"&VLOOKUP(B42,Report_Cost!$C$14:$D$38,2,FALSE))","v":"0 ton"},null,null,{"$f":"IF($F$11=\"Total Field Inputs\",ROUND(SUMIF(Report_Cost!$L$66:$L$72,Report_GHG1!B42,Report_Cost!$K$66:$K$72)*VLOOKUP(B42,Report_Cost!$C$14:$G$38,5,FALSE),0)&\" \"&VLOOKUP(B42,Report_Cost!$C$14:$D$38,2,FALSE),ROUND(SUMIF(Report_Cost!$L$49:$L$55,Report_GHG1!B42,Report_Cost!$K$49:$K$55)*VLOOKUP(B42,Report_Cost!$C$14:$G$38,5,FALSE),2)&\" \"&VLOOKUP(B42,Report_Cost!$C$14:$D$38,2,FALSE))","v":"0 ton"},null,null,{"$f":"IF($F$11=\"Total Field Inputs\",IF(ROUND(SUMIF(Report_Cost!$G$66:$G$72,Report_GHG1!B42,Report_Cost!$F$66:$F$72)*VLOOKUP(B42,Report_Cost!$C$14:$G$38,5,FALSE),0)-ROUND(SUMIF(Report_Cost!$L$66:$L$72,Report_GHG1!B42,Report_Cost!$K$66:$K$72)*VLOOKUP(B42,Report_Cost!$C$14:$G$38,5,FALSE),0)<0,\"(\"&(ROUND(SUMIF(Report_Cost!$G$66:$G$72,Report_GHG1!B42,Report_Cost!$F$66:$F$72)*VLOOKUP(B42,Report_Cost!$C$14:$G$38,5,FALSE),0)-ROUND(SUMIF(Report_Cost!$L$66:$L$72,Report_GHG1!B42,Report_Cost!$K$66:$K$72)*VLOOKUP(B42,Report_Cost!$C$14:$G$38,5,FALSE),0))*-1&\")\",ROUND(SUMIF(Report_Cost!$G$66:$G$72,Report_GHG1!B42,Report_Cost!$F$66:$F$72)*VLOOKUP(B42,Report_Cost!$C$14:$G$38,5,FALSE),0)-ROUND(SUMIF(Report_Cost!$L$66:$L$72,Report_GHG1!B42,Report_Cost!$K$66:$K$72)*VLOOKUP(B42,Report_Cost!$C$14:$G$38,5,FALSE),0))&\" \"&VLOOKUP(B42,Report_Cost!$C$14:$D$38,2,FALSE),IF(ROUND(SUMIF(Report_Cost!$G$49:$G$55,Report_GHG1!B42,Report_Cost!$F$49:$F$55)*VLOOKUP(B42,Report_Cost!$C$14:$G$38,5,FALSE),2)-ROUND(SUMIF(Report_Cost!$L$49:$L$55,Report_GHG1!B42,Report_Cost!$K$49:$K$55)*VLOOKUP(B42,Report_Cost!$C$14:$G$38,5,FALSE),2)<0,\"(\"&(ROUND(SUMIF(Report_Cost!$G$49:$G$55,Report_GHG1!B42,Report_Cost!$F$49:$F$55)*VLOOKUP(B42,Report_Cost!$C$14:$G$38,5,FALSE),2)-ROUND(SUMIF(Report_Cost!$L$49:$L$55,Report_GHG1!B42,Report_Cost!$K$49:$K$55)*VLOOKUP(B42,Report_Cost!$C$14:$G$38,5,FALSE),2))*-1&\")\",ROUND(SUMIF(Report_Cost!$G$49:$G$55,Report_GHG1!B42,Report_Cost!$F$49:$F$55)*VLOOKUP(B42,Report_Cost!$C$14:$G$38,5,FALSE),2)-ROUND(SUMIF(Report_Cost!$L$49:$L$55,Report_GHG1!B42,Report_Cost!$K$49:$K$55)*VLOOKUP(B42,Report_Cost!$C$14:$G$38,5,FALSE),2))&\" \"&VLOOKUP(B42,Report_Cost!$C$14:$D$38,2,FALSE))","v":"0 ton"}]
[]
[null,"Agrichemicals","Agrichemicals & Fertilizers",null,null,{"$f":"IF($F$11=\"Total Field Inputs\",ROUND(SUMIF(Report_Cost!$G$66:$G$72,Report_GHG1!B44,Report_Cost!$F$66:$F$72)/IF(Database_Tables!D1766=0,0.02,Database_Tables!D1766),0)&\" \"&VLOOKUP(B44,Report_Cost!$C$14:$D$39,2,FALSE),ROUND(SUMIF(Report_Cost!$G$49:$G$55,Report_GHG1!B44,Report_Cost!$F$49:$F$55)/IF(Database_Tables!D1766=0,0.02,Database_Tables!D1766),2)&\" \"&VLOOKUP(B44,Report_Cost!$C$14:$D$39,2,FALSE))","v":"0 lb"},null,null,{"$f":"IF($F$11=\"Total Field Inputs\",ROUND(SUMIF(Report_Cost!$L$66:$L$72,Report_GHG1!B44,Report_Cost!$K$66:$K$72)/IF(Database_Tables!D1767=0,0.02,Database_Tables!D1767),0)&\" \"&VLOOKUP(B44,Report_Cost!$C$14:$D$39,2,FALSE),ROUND(SUMIF(Report_Cost!$L$49:$L$55,Report_GHG1!B44,Report_Cost!$K$49:$K$55)/IF(Database_Tables!D1767=0,0.02,Database_Tables!D1767),2)&\" \"&VLOOKUP(B44,Report_Cost!$C$14:$D$39,2,FALSE))","v":"0 lb"},null,null,{"$f":"IF($F$11=\"Total Field Inputs\",IF(ROUND(SUMIF(Report_Cost!$G$66:$G$72,Report_GHG1!B44,Report_Cost!$F$66:$F$72)/IF(Database_Tables!D1766=0,0.02,Database_Tables!D1766),0)-ROUND(SUMIF(Report_Cost!$L$66:$L$72,Report_GHG1!B44,Report_Cost!$K$66:$K$72)/IF(Database_Tables!D1767=0,0.02,Database_Tables!D1767),0)<0,\"(\"&(ROUND(SUMIF(Report_Cost!$G$66:$G$72,Report_GHG1!B44,Report_Cost!$F$66:$F$72)/IF(Database_Tables!D1766=0,0.02,Database_Tables!D1766),0)-ROUND(SUMIF(Report_Cost!$L$66:$L$72,Report_GHG1!B44,Report_Cost!$K$66:$K$72)/IF(Database_Tables!D1767=0,0.02,Database_Tables!D1767),0))*-1&\")\",ROUND(SUMIF(Report_Cost!$G$66:$G$72,Report_GHG1!B44,Report_Cost!$F$66:$F$72)/IF(Database_Tables!D1766=0,0.02,Database_Tables!D1766),0)-ROUND(SUMIF(Report_Cost!$L$66:$L$72,Report_GHG1!B44,Report_Cost!$K$66:$K$72)/IF(Database_Tables!D1767=0,0.02,Database_Tables!D1767),0))&\" \"&VLOOKUP(B44,Report_Cost!$C$14:$D$39,2,FALSE),IF(ROUND(SUMIF(Report_Cost!$G$49:$G$55,Report_GHG1!B44,Report_Cost!$F$49:$F$55)/IF(Database_Tables!D1766=0,0.02,Database_Tables!D1766),2)-ROUND(SUMIF(Report_Cost!$L$49:$L$55,Report_GHG1!B44,Report_Cost!$K$49:$K$55)/IF(Database_Tables!D1767=0,0.02,Database_Tables!D1767),2)<0,\"(\"&(ROUND(SUMIF(Report_Cost!$G$49:$G$55,Report_GHG1!B44,Report_Cost!$F$49:$F$55)/IF(Database_Tables!D1766=0,0.02,Database_Tables!D1766),2)-ROUND(SUMIF(Report_Cost!$L$49:$L$55,Report_GHG1!B44,Report_Cost!$K$49:$K$55)/IF(Database_Tables!D1767=0,0.02,Database_Tables!D1767),2))*-1&\")\",ROUND(SUMIF(Report_Cost!$G$49:$G$55,Report_GHG1!B44,Report_Cost!$F$49:$F$55)/IF(Database_Tables!D1766=0,0.02,Database_Tables!D1766),2)-ROUND(SUMIF(Report_Cost!$L$49:$L$55,Report_GHG1!B44,Report_Cost!$K$49:$K$55)/IF(Database_Tables!D1767=0,0.02,Database_Tables!D1767),2))&\" \"&VLOOKUP(B44,Report_Cost!$C$14:$D$39,2,FALSE))","v":"0 lb"}]
[]
[null,null,"Labor",null,null,{"$f":"IF($F$11=\"Total Field Inputs\",ROUND(SUMIF(Report_Cost!$G$66:$G$72,Report_GHG1!C46,Report_Cost!$F$66:$F$72)*VLOOKUP(C46,Report_Cost!$C$14:$G$38,5,FALSE),0)&\" \"&VLOOKUP(C46,Report_Cost!$C$14:$D$38,2,FALSE),ROUND(SUMIF(Report_Cost!$G$49:$G$55,Report_GHG1!C46,Report_Cost!$F$49:$F$55)*VLOOKUP(C46,Report_Cost!$C$14:$G$38,5,FALSE),2)&\" \"&VLOOKUP(C46,Report_Cost!$C$14:$D$38,2,FALSE))","v":"0 day"},null,null,{"$f":"IF($F$11=\"Total Field Inputs\",ROUND(SUMIF(Report_Cost!$L$66:$L$72,Report_GHG1!C46,Report_Cost!$K$66:$K$72)*VLOOKUP(C46,Report_Cost!$C$14:$G$38,5,FALSE),0)&\" \"&VLOOKUP(C46,Report_Cost!$C$14:$D$38,2,FALSE),ROUND(SUMIF(Report_Cost!$L$49:$L$55,Report_GHG1!C46,Report_Cost!$K$49:$K$55)*VLOOKUP(C46,Report_Cost!$C$14:$G$38,5,FALSE),2)&\" \"&VLOOKUP(C46,Report_Cost!$C$14:$D$38,2,FALSE))","v":"0 day"},null,null,{"$f":"IF($F$11=\"Total Field Inputs\",IF(ROUND(SUMIF(Report_Cost!$G$66:$G$72,Report_GHG1!C46,Report_Cost!$F$66:$F$72)*VLOOKUP(C46,Report_Cost!$C$14:$G$38,5,FALSE),0)-ROUND(SUMIF(Report_Cost!$L$66:$L$72,Report_GHG1!C46,Report_Cost!$K$66:$K$72)*VLOOKUP(C46,Report_Cost!$C$14:$G$38,5,FALSE),0)<0,\"(\"&(ROUND(SUMIF(Report_Cost!$G$66:$G$72,Report_GHG1!C46,Report_Cost!$F$66:$F$72)*VLOOKUP(C46,Report_Cost!$C$14:$G$38,5,FALSE),0)-ROUND(SUMIF(Report_Cost!$L$66:$L$72,Report_GHG1!C46,Report_Cost!$K$66:$K$72)*VLOOKUP(C46,Report_Cost!$C$14:$G$38,5,FALSE),0))*-1&\")\",ROUND(SUMIF(Report_Cost!$G$66:$G$72,Report_GHG1!C46,Report_Cost!$F$66:$F$72)*VLOOKUP(C46,Report_Cost!$C$14:$G$38,5,FALSE),0)-ROUND(SUMIF(Report_Cost!$L$66:$L$72,Report_GHG1!C46,Report_Cost!$K$66:$K$72)*VLOOKUP(C46,Report_Cost!$C$14:$G$38,5,FALSE),0))&\" \"&VLOOKUP(C46,Report_Cost!$C$14:$D$38,2,FALSE),IF(ROUND(SUMIF(Report_Cost!$G$49:$G$55,Report_GHG1!C46,Report_Cost!$F$49:$F$55)*VLOOKUP(C46,Report_Cost!$C$14:$G$38,5,FALSE),2)-ROUND(SUMIF(Report_Cost!$L$49:$L$55,Report_GHG1!C46,Report_Cost!$K$49:$K$55)*VLOOKUP(C46,Report_Cost!$C$14:$G$38,5,FALSE),2)<0,\"(\"&(ROUND(SUMIF(Report_Cost!$G$49:$G$55,Report_GHG1!C46,Report_Cost!$F$49:$F$55)*VLOOKUP(C46,Report_Cost!$C$14:$G$38,5,FALSE),2)-ROUND(SUMIF(Report_Cost!$L$49:$L$55,Report_GHG1!C46,Report_Cost!$K$49:$K$55)*VLOOKUP(C46,Report_Cost!$C$14:$G$38,5,FALSE),2))*-1&\")\",ROUND(SUMIF(Report_Cost!$G$49:$G$55,Report_GHG1!C46,Report_Cost!$F$49:$F$55)*VLOOKUP(C46,Report_Cost!$C$14:$G$38,5,FALSE),2)-ROUND(SUMIF(Report_Cost!$L$49:$L$55,Report_GHG1!C46,Report_Cost!$K$49:$K$55)*VLOOKUP(C46,Report_Cost!$C$14:$G$38,5,FALSE),2))&\" \"&VLOOKUP(C46,Report_Cost!$C$14:$D$38,2,FALSE))","v":"0 day"}]

{"sheet":"Report_GHG2","index":8,"n_rows":149,"n_cols":12,"rows_kept":149,"cut":false,"hidden":true,"merged":[[16,16,16,17],[17,16,17,17],[18,16,18,17],[15,8,15,9],[1,1,1,12],[3,1,3,12],[5,7,5,8],[5,11,5,12],[6,7,6,8],[10,2,10,3],[17,8,17,9],[55,11,55,12],[42,8,42,9],[44,8,44,9],[46,8,46,9],[48,8,48,9],[105,11,105,12],[106,7,106,8],[12,8,12,9],[101,1,101,12],[103,1,103,12],[73,8,73,9],[77,8,77,9],[79,8,79,9],[82,8,82,9],[75,8,75,9],[71,8,71,9],[69,8,69,9],[67,8,67,9],[56,7,56,8],[51,1,51,12],[53,1,53,12],[23,8,23,9],[10,6,10,9],[123,8,123,9],[98,8,98,9],[62,8,62,9],[65,8,65,9],[27,8,27,9],[29,8,29,9],[32,8,32,9],[34,8,34,9],[36,8,36,9],[39,8,39,9],[63,8,63,9],[55,7,55,8],[125,8,125,9],[112,8,112,9],[13,8,13,9],[115,8,115,9],[117,8,117,9],[119,8,119,9],[121,8,121,9],[113,8,113,9],[25,8,25,9],[84,8,84,9],[86,8,86,9],[89,8,89,9],[92,8,92,9],[94,8,94,9],[19,8,19,9],[21,8,21,9],[148,8,148,9],[60,6,60,9],[110,6,110,9],[60,2,60,3],[110,2,110,3],[142,8,142,9],[144,8,144,9],[146,8,146,9],[127,8,127,9],[129,8,129,9],[132,8,132,9],[134,8,134,9],[136,8,136,9],[139,8,139,9],[96,8,96,9],[105,7,105,8]]}
[]
[null,"NRCS - CROPLAND ENERGY TOOL"]
[]
[null,"BENCHMARK GREENHOUSE GAS EMISSIONS FROM FIELD INPUTS"]
[]
[null,null,null,null,{"$f":"\"Landowner: \"&Input!E14","v":"Landowner: "},null,"Field Area: ",{"$f":"IF(Input!J14=\"\",\"\",Input!J14)","v":""},null,null,"Date: ",{"$f":"IF(Input!E17=\"\",\"\",Input!E17)","v":""}]
[null,null,null,null,{"$f":"IF(Input!E15=\"\",\"Field Location: \",IF(OR(Input!E15=\"American Samoa\",Input!E15=\"District of Columbia\",Input!E15=\"Puerto Rico\",Input!E15=\"Virgin Islands\",Input!E15=\"Guam\"),\"Field Location: \"&Input!E15,\"Field Location: \"&Input!E16&IF(Input!E15=\"Alaska\",\" Boro., \",\" Co., \")&VLOOKUP(Input!E15,Input!C208:D262,2,FALSE)))","v":"Field Location: "},null,"Field ID: ",{"$f":"IF(Input!J15=\"\",\"\",Input!J15)","v":""},null,null,"Latitude:",{"$f":"IF(Input!E18=\"\",\"\",Input!E18)","v":""}]
[null,null,null,null,null,null,null,null,null,null,"Longitude:",{"$f":"IF(Input!E19=\"\",\"\",Input!E19)","v":""}]
[]
[]
[null,null,"Total Field Inputs",null,null,null,"BENCHMARK"]
[]
[null,"Energy Input",null,"Units","Value","CO2","N2O","CH4","Total CO2",null,"SO2","NOx"]
[null,null,null,null,null,"[lb]","[lb]","[lb]","[lb]",null,"[lb]","[lb]"]
[null,"  Liquid"]
[null,null,{"$f":"Report_Cost!$C$14","v":"Diesel"},"Gal",{"$f":"IF($C$11=\"Total Field Inputs\",ROUND(SUMIF(Report_Cost!$G$66:$G$72,Report_GHG2!C16,Report_Cost!$F$66:$F$72)*VLOOKUP(C16,Report_Cost!$C$14:$G$38,5,FALSE),0),ROUND(SUMIF(Report_Cost!$G$49:$G$55,Report_GHG2!C16,Report_Cost!$F$49:$F$55)*VLOOKUP(C16,Report_Cost!$C$14:$G$38,5,FALSE),2))","v":0},{"$f":"VLOOKUP($C16,Database_Tables!$C$1749:$J$1763,3,FALSE)*$E16","v":0},{"$f":"VLOOKUP($C16,Database_Tables!$C$1749:$J$1763,4,FALSE)*$E16","v":0},{"$f":"VLOOKUP($C16,Database_Tables!$C$1749:$J$1763,5,FALSE)*$E16","v":0},{"$f":"VLOOKUP($C16,Database_Tables!$C$1749:$J$1763,8,FALSE)*$E16","v":0},null,{"$f":"VLOOKUP($C16,Database_Tables!$C$1749:$J$1763,6,FALSE)*$E16","v":0},{"$f":"VLOOKUP($C16,Database_Tables!$C$1749:$J$1763,7,FALSE)*$E16","v":0}]
[]
[null,null,{"$f":"Report_Cost!$C$15","v":"Gasoline (E10)"},"Gal",{"$f":"IF($C$11=\"Total Field Inputs\",ROUND(SUMIF(Report_Cost!$G$66:$G$72,Report_GHG2!C18,Report_Cost!$F$66:$F$72)*VLOOKUP(C18,Report_Cost!$C$14:$G$38,5,FALSE),0),ROUND(SUMIF(Report_Cost!$G$49:$G$55,Report_GHG2!C18,Report_Cost!$F$49:$F$55)*VLOOKUP(C18,Report_Cost!$C$14:$G$38,5,FALSE),2))","v":0},{"$f":"VLOOKUP($C18,Database_Tables!$C$1749:$J$1763,3,FALSE)*$E18","v":0},{"$f":"VLOOKUP($C18,Database_Tables!$C$1749:$J$1763,4,FALSE)*$E18","v":0},{"$f":"VLOOKUP($C18,Database_Tables!$C$1749:$J$1763,5,FALSE)*$E18","v":0},{"$f":"VLOOKUP($C18,Database_Tables!$C$1749:$J$1763,8,FALSE)*$E18","v":0},null,{"$f":"VLOOKUP($C18,Database_Tables!$C$1749:$J$1763,6,FALSE)*$E18","v":0},{"$f":"VLOOKUP($C18,Database_Tables!$C$1749:$J$1763,7,FALSE)*$E18","v":0}]
[]
[null,null,{"$f":"Report_Cost!$C$16","v":"BioDiesel B2"},"Gal",{"$f":"IF($C$11=\"Total Field Inputs\",ROUND(SUMIF(Report_Cost!$G$66:$G$72,Report_GHG2!C20,Report_Cost!$F$66:$F$72)*VLOOKUP(C20,Report_Cost!$C$14:$G$38,5,FALSE),0),ROUND(SUMIF(Report_Cost!$G$49:$G$55,Report_GHG2!C20,Report_Cost!$F$49:$F$55)*VLOOKUP(C20,Report_Cost!$C$14:$G$38,5,FALSE),2))","v":0},{"$f":"VLOOKUP($C20,Database_Tables!$C$1749:$J$1763,3,FALSE)*$E20","v":0},{"$f":"VLOOKUP($C20,Database_Tables!$C$1749:$J$1763,4,FALSE)*$E20","v":0},{"$f":"VLOOKUP($C20,Database_Tables!$C$1749:$J$1763,5,FALSE)*$E20","v":0},{"$f":"VLOOKUP($C20,Database_Tables!$C$1749:$J$1763,8,FALSE)*$E20","v":0},null,{"$f":"VLOOKUP($C20,Database_Tables!$C$1749:$J$1763,6,FALSE)*$E20","v":0},{"$f":"VLOOKUP($C20,Database_Tables!$C$1749:$J$1763,7,FALSE)*$E20","v":0}]
[]
[null,null,{"$f":"Report_Cost!$C$17","v":"BioDiesel B5"},"Gal",{"$f":"IF($C$11=\"Total Field Inputs\",ROUND(SUMIF(Report_Cost!$G$66:$G$72,Report_GHG2!C22,Report_Cost!$F$66:$F$72)*VLOOKUP(C22,Report_Cost!$C$14:$G$38,5,FALSE),0),ROUND(SUMIF(Report_Cost!$G$49:$G$55,Report_GHG2!C22,Report_Cost!$F$49:$F$55)*VLOOKUP(C22,Report_Cost!$C$14:$G$38,5,FALSE),2))","v":0},{"$f":"VLOOKUP($C22,Database_Tables!$C$1749:$J$1763,3,FALSE)*$E22","v":0},{"$f":"VLOOKUP($C22,Database_Tables!$C$1749:$J$1763,4,FALSE)*$E22","v":0},{"$f":"VLOOKUP($C22,Database_Tables!$C$1749:$J$1763,5,FALSE)*$E22","v":0},{"$f":"VLOOKUP($C22,Database_Tables!$C$1749:$J$1763,8,FALSE)*$E22","v":0},null,{"$f":"VLOOKUP($C22,Database_Tables!$C$1749:$J$1763,6,FALSE)*$E22","v":0},{"$f":"VLOOKUP($C22,Database_Tables!$C$1749:$J$1763,7,FALSE)*$E22","v":0}]
[]
[null,null,{"$f":"Report_Cost!$C$18","v":"BioDiesel B10"},"Gal",{"$f":"IF($C$11=\"Total Field Inputs\",ROUND(SUMIF(Report_Cost!$G$66:$G$72,Report_GHG2!C24,Report_Cost!$F$66:$F$72)*VLOOKUP(C24,Report_Cost!$C$14:$G$38,5,FALSE),0),ROUND(SUMIF(Report_Cost!$G$49:$G$55,Report_GHG2!C24,Report_Cost!$F$49:$F$55)*VLOOKUP(C24,Report_Cost!$C$14:$G$38,5,FALSE),2))","v":0},{"$f":"VLOOKUP($C24,Database_Tables!$C$1749:$J$1763,3,FALSE)*$E24","v":0},{"$f":"VLOOKUP($C24,Database_Tables!$C$1749:$J$1763,4,FALSE)*$E24","v":0},{"$f":"VLOOKUP($C24,Database_Tables!$C$1749:$J$1763,5,FALSE)*$E24","v":0},{"$f":"VLOOKUP($C24,Database_Tables!$C$1749:$J$1763,8,FALSE)*$E24","v":0},null,{"$f":"VLOOKUP($C24,Database_Tables!$C$1749:$J$1763,6,FALSE)*$E24","v":0},{"$f":"VLOOKUP($C24,Database_Tables!$C$1749:$J$1763,7,FALSE)*$E24","v":0}]
[]
[null,null,{"$f":"Report_Cost!$C$19","v":"BioDiesel B20"},"Gal",{"$f":"IF($C$11=\"Total Field Inputs\",ROUND(SUMIF(Report_Cost!$G$66:$G$72,Report_GHG2!C26,Report_Cost!$F$66:$F$72)*VLOOKUP(C26,Report_Cost!$C$14:$G$38,5,FALSE),0),ROUND(SUMIF(Report_Cost!$G$49:$G$55,Report_GHG2!C26,Report_Cost!$F$49:$F$55)*VLOOKUP(C26,Report_Cost!$C$14:$G$38,5,FALSE),2))","v":0},{"$f":"VLOOKUP($C26,Database_Tables!$C$1749:$J$1763,3,FALSE)*$E26","v":0},{"$f":"VLOOKUP($C26,Database_Tables!$C$1749:$J$1763,4,FALSE)*$E26","v":0},{"$f":"VLOOKUP($C26,Database_Tables!$C$1749:$J$1763,5,FALSE)*$E26","v":0},{"$f":"VLOOKUP($C26,Database_Tables!$C$1749:$J$1763,8,FALSE)*$E26","v":0},null,{"$f":"VLOOKUP($C26,Database_Tables!$C$1749:$J$1763,6,FALSE)*$E26","v":0},{"$f":"VLOOKUP($C26,Database_Tables!$C$1749:$J$1763,7,FALSE)*$E26","v":0}]
[]
[null,null,{"$f":"Report_Cost!$C$20","v":"BioDiesel B100"},"Gal",{"$f":"IF($C$11=\"Total Field Inputs\",ROUND(SUMIF(Report_Cost!$G$66:$G$72,Report_GHG2!C28,Report_Cost!$F$66:$F$72)*VLOOKUP(C28,Report_Cost!$C$14:$G$38,5,FALSE),0),ROUND(SUMIF(Report_Cost!$G$49:$G$55,Report_GHG2!C28,Report_Cost!$F$49:$F$55)*VLOOKUP(C28,Report_Cost!$C$14:$G$38,5,FALSE),2))","v":0},{"$f":"VLOOKUP($C28,Database_Tables!$C$1749:$J$1763,3,FALSE)*$E28","v":0},{"$f":"VLOOKUP($C28,Database_Tables!$C$1749:$J$1763,4,FALSE)*$E28","v":0},{"$f":"VLOOKUP($C28,Database_Tables!$C$1749:$J$1763,5,FALSE)*$E28","v":0},{"$f":"VLOOKUP($C28,Database_Tables!$C$1749:$J$1763,8,FALSE)*$E28","v":0},null,{"$f":"VLOOKUP($C28,Database_Tables!$C$1749:$J$1763,6,FALSE)*$E28","v":0},{"$f":"VLOOKUP($C28,Database_Tables!$C$1749:$J$1763,7,FALSE)*$E28","v":0}]
[]
[null,null,{"$f":"Report_Cost!$C$21","v":"SVO"},"Gal",{"$f":"IF($C$11=\"Total Field Inputs\",ROUND(SUMIF(Report_Cost!$G$66:$G$72,Report_GHG2!C30,Report_Cost!$F$66:$F$72)*VLOOKUP(C30,Report_Cost!$C$14:$G$38,5,FALSE),0),ROUND(SUMIF(Report_Cost!$G$49:$G$55,Report_GHG2!C30,Report_Cost!$F$49:$F$55)*VLOOKUP(C30,Report_Cost!$C$14:$G$38,5,FALSE),2))","v":0},{"$f":"VLOOKUP($C30,Database_Tables!$C$1749:$J$1763,3,FALSE)*$E30","v":0},{"$f":"VLOOKUP($C30,Database_Tables!$C$1749:$J$1763,4,FALSE)*$E30","v":0},{"$f":"VLOOKUP($C30,Database_Tables!$C$1749:$J$1763,5,FALSE)*$E30","v":0},{"$f":"VLOOKUP($C30,Database_Tables!$C$1749:$J$1763,8,FALSE)*$E30","v":0},null,{"$f":"VLOOKUP($C30,Database_Tables!$C$1749:$J$1763,6,FALSE)*$E30","v":0},{"$f":"VLOOKUP($C30,Database_Tables!$C$1749:$J$1763,7,FALSE)*$E30","v":0}]
[]
[null,"  Gas"]
[null,null,{"$f":"Report_Cost!$C$23","v":"Propane"},"Gal",{"$f":"IF($C$11=\"Total Field Inputs\",ROUND(SUMIF(Report_Cost!$G$66:$G$72,Report_GHG2!C33,Report_Cost!$F$66:$F$72)*VLOOKUP(C33,Report_Cost!$C$14:$G$38,5,FALSE),0),ROUND(SUMIF(Report_Cost!$G$49:$G$55,Report_GHG2!C33,Report_Cost!$F$49:$F$55)*VLOOKUP(C33,Report_Cost!$C$14:$G$38,5,FALSE),2))","v":0},{"$f":"VLOOKUP($C33,Database_Tables!$C$1749:$J$1763,3,FALSE)*$E33","v":0},{"$f":"VLOOKUP($C33,Database_Tables!$C$1749:$J$1763,4,FALSE)*$E33","v":0},{"$f":"VLOOKUP($C33,Database_Tables!$C$1749:$J$1763,5,FALSE)*$E33","v":0},{"$f":"VLOOKUP($C33,Database_Tables!$C$1749:$J$1763,8,FALSE)*$E33","v":0},null,{"$f":"VLOOKUP($C33,Database_Tables!$C$1749:$J$1763,6,FALSE)*$E33","v":0},{"$f":"VLOOKUP($C33,Database_Tables!$C$1749:$J$1763,7,FALSE)*$E33","v":0}]
[]
[null,null,{"$f":"Report_Cost!$C$24","v":"Natural Gas"},"CCF",{"$f":"IF($C$11=\"Total Field Inputs\",ROUND(SUMIF(Report_Cost!$G$66:$G$72,Report_GHG2!C35,Report_Cost!$F$66:$F$72)*VLOOKUP(C35,Report_Cost!$C$14:$G$38,5,FALSE),0),ROUND(SUMIF(Report_Cost!$G$49:$G$55,Report_GHG2!C35,Report_Cost!$F$49:$F$55)*VLOOKUP(C35,Report_Cost!$C$14:$G$38,5,FALSE),2))","v":0},{"$f":"VLOOKUP($C35,Database_Tables!$C$1749:$J$1763,3,FALSE)*$E35","v":0},{"$f":"VLOOKUP($C35,Database_Tables!$C$1749:$J$1763,4,FALSE)*$E35","v":0},{"$f":"VLOOKUP($C35,Database_Tables!$C$1749:$J$1763,5,FALSE)*$E35","v":0},{"$f":"VLOOKUP($C35,Database_Tables!$C$1749:$J$1763,8,FALSE)*$E35","v":0},null,{"$f":"VLOOKUP($C35,Database_Tables!$C$1749:$J$1763,6,FALSE)*$E35","v":0},{"$f":"VLOOKUP($C35,Database_Tables!$C$1749:$J$1763,7,FALSE)*$E35","v":0}]
[]
[null,null,{"$f":"Report_Cost!$C$25","v":"CNG"},"CCF",{"$f":"IF($C$11=\"Total Field Inputs\",ROUND(SUMIF(Report_Cost!$G$66:$G$72,Report_GHG2!C37,Report_Cost!$F$66:$F$72)*VLOOKUP(C37,Report_Cost!$C$14:$G$38,5,FALSE),0),ROUND(SUMIF(Report_Cost!$G$49:$G$55,Report_GHG2!C37,Report_Cost!$F$49:$F$55)*VLOOKUP(C37,Report_Cost!$C$14:$G$38,5,FALSE),2))","v":0},{"$f":"VLOOKUP($C37,Database_Tables!$C$1749:$J$1763,3,FALSE)*$E37","v":0},{"$f":"VLOOKUP($C37,Database_Tables!$C$1749:$J$1763,4,FALSE)*$E37","v":0},{"$f":"VLOOKUP($C37,Database_Tables!$C$1749:$J$1763,5,FALSE)*$E37","v":0},{"$f":"VLOOKUP($C37,Database_Tables!$C$1749:$J$1763,8,FALSE)*$E37","v":0},null,{"$f":"VLOOKUP($C37,Database_Tables!$C$1749:$J$1763,6,FALSE)*$E37","v":0},{"$f":"VLOOKUP($C37,Database_Tables!$C$1749:$J$1763,7,FALSE)*$E37","v":0}]
[]
[null,"  Electricity"]
[null,null,{"$f":"Report_Cost!$C$27","v":"Electricity"},"KWH",{"$f":"IF($C$11=\"Total Field Inputs\",ROUND(SUMIF(Report_Cost!$G$66:$G$72,Report_GHG2!C40,Report_Cost!$F$66:$F$72)*VLOOKUP(C40,Report_Cost!$C$14:$G$38,5,FALSE),0),ROUND(SUMIF(Report_Cost!$G$49:$G$55,Report_GHG2!C40,Report_Cost!$F$49:$F$55)*VLOOKUP(C40,Report_Cost!$C$14:$G$38,5,FALSE),2))","v":0},{"$f":"VLOOKUP($C40,Database_Tables!$C$1749:$J$1763,3,FALSE)*$E40","v":0},{"$f":"VLOOKUP($C40,Database_Tables!$C$1749:$J$1763,4,FALSE)*$E40","v":0},{"$f":"VLOOKUP($C40,Database_Tables!$C$1749:$J$1763,5,FALSE)*$E40","v":0},{"$f":"SUM(F40:H40)","v":0},null,{"$f":"VLOOKUP($C40,Database_Tables!$C$1749:$J$1763,6,FALSE)*$E40","v":0},{"$f":"VLOOKUP($C40,Database_Tables!$C$1749:$J$1763,7,FALSE)*$E40","v":0}]
[]
[null,"Other Energy Input"]
[null,{"$f":"Report_Cost!G71","v":"Soil Amend"},"Soil Amendments","Ton",{"$f":"IF($C$11=\"Total Field Inputs\",ROUND(SUMIF(Report_Cost!$G$66:$G$72,Report_GHG2!B43,Report_Cost!$F$66:$F$72)*VLOOKUP(B43,Report_Cost!$C$14:$G$38,5,FALSE),0),ROUND(SUMIF(Report_Cost!$G$49:$G$55,Report_GHG2!B43,Report_Cost!$F$49:$F$55)*VLOOKUP(B43,Report_Cost!$C$14:$G$38,5,FALSE),2))","v":0},{"$f":"VLOOKUP($C43,Database_Tables!$C$1749:$J$1763,3,FALSE)*$E43","v":0},{"$f":"VLOOKUP($C43,Database_Tables!$C$1749:$J$1763,4,FALSE)*$E43","v":0},{"$f":"VLOOKUP($C43,Database_Tables!$C$1749:$J$1763,5,FALSE)*$E43","v":0},{"$f":"VLOOKUP($C43,Database_Tables!$C$1749:$J$1763,8,FALSE)*$E43","v":0},null,{"$f":"VLOOKUP($C43,Database_Tables!$C$1749:$J$1763,6,FALSE)*$E43","v":0},{"$f":"VLOOKUP($C43,Database_Tables!$C$1749:$J$1763,7,FALSE)*$E43","v":0}]
[]
[null,{"$f":"Database_Tables!C1761","v":"Agrichem"},"Agrichemicals/Fert.","lb",{"$f":"IF(Database_Tables!D1766=0,0,IF($C$11=\"Total Field Inputs\",ROUND(SUMIF(Report_Cost!$G$66:$G$72,Report_GHG1!C44,Report_Cost!$F$66:$F$72)/Database_Tables!D1766,0),ROUND(SUMIF(Report_Cost!$G$49:$G$55,Report_GHG1!C44,Report_Cost!$F$49:$F$55)/Database_Tables!D1766,2)))","v":0},{"$f":"VLOOKUP($B45,Database_Tables!$C$1749:$J$1763,3,FALSE)*$E45","v":0},{"$f":"VLOOKUP($B45,Database_Tables!$C$1749:$J$1763,4,FALSE)*$E45","v":0},{"$f":"VLOOKUP($B45,Database_Tables!$C$1749:$J$1763,5,FALSE)*$E45","v":0},{"$f":"VLOOKUP($B45,Database_Tables!$C$1749:$J$1763,8,FALSE)*$E45","v":0},null,{"$f":"VLOOKUP($B45,Database_Tables!$C$1749:$J$1763,6,FALSE)*$E45","v":0},{"$f":"VLOOKUP($B45,Database_Tables!$C$1749:$J$1763,7,FALSE)*$E45","v":0}]
[]
[null,null,"Labor","Day",{"$f":"IF($C$11=\"Total Field Inputs\",ROUND(SUMIF(Report_Cost!$G$66:$G$72,Report_GHG2!C47,Report_Cost!$F$66:$F$72)*VLOOKUP(C47,Report_Cost!$C$14:$G$38,5,FALSE),0),ROUND(SUMIF(Report_Cost!$G$49:$G$55,Report_GHG2!C47,Report_Cost!$F$49:$F$55)*VLOOKUP(C47,Report_Cost!$C$14:$G$38,5,FALSE),2))","v":0},{"$f":"VLOOKUP($C47,Database_Tables!$C$1749:$J$1763,3,FALSE)*$E47","v":0},{"$f":"VLOOKUP($C47,Database_Tables!$C$1749:$J$1763,4,FALSE)*$E47","v":0},{"$f":"VLOOKUP($C47,Database_Tables!$C$1749:$J$1763,5,FALSE)*$E47","v":0},{"$f":"VLOOKUP($C47,Database_Tables!$C$1749:$J$1763,8,FALSE)*$E47","v":0},null,{"$f":"VLOOKUP($C47,Database_Tables!$C$1749:$J$1763,6,FALSE)*$E47","v":0},{"$f":"VLOOKUP($C47,Database_Tables!$C$1749:$J$1763,7,FALSE)*$E47","v":0}]
[]
[null,"TOTAL",null,{"$f":"IF(C11=\"Total Field Inputs\",ROUND(Report_Cost!F73,0),ROUND(Report_Cost!F56,2))&\" \"&\"[MMBTU]\"","v":"0 [MMBTU]"},null,{"$f":"F47+F45+F43+F40+F37+F35+F33+F30+F28+F26+F24+F22+F20+F16","v":0},{"$f":"G47+G45+G43+G40+G37+G35+G33+G30+G28+G26+G24+G22+G20+G16","v":0},{"$f":"H47+H45+H43+H40+H37+H35+H33+H30+H28+H26+H24+H22+H20+H16","v":0},{"$f":"I47+I45+I43+I40+I37+I35+I33+I30+I28+I26+I24+I22+I20+I16","v":0},null,{"$f":"K47+K45+K43+K40+K37+K35+K33+K30+K28+K26+K24+K22+K20+K16","v":0},{"$f":"L47+L45+L43+L40+L37+L35+L33+L30+L28+L26+L24+L22+L20+L16","v":0}]
[]
[]
[null,"NRCS - CROPLAND ENERGY TOOL"]
[]
[null,"PLANNED GREENHOUSE GAS EMISSIONS FROM FIELD INPUTS"]
[]
[null,null,null,null,{"$f":"\"Landowner: \"&Input!E14","v":"Landowner: "},null,"Field Area: ",{"$f":"IF(Input!J14=\"\",\"\",Input!J14)","v":""},null,null,"Date: ",{"$f":"IF(Input!E17=\"\",\"\",Input!E17)","v":""}]
[null,null,null,null,{"$f":"IF(Input!E15=\"\",\"Field Location: \",IF(OR(Input!E15=\"American Samoa\",Input!E15=\"District of Columbia\",Input!E15=\"Puerto Rico\",Input!E15=\"Virgin Islands\",Input!E15=\"Guam\"),\"Field Location: \"&Input!E15,\"Field Location: \"&Input!E16&IF(Input!E15=\"Alaska\",\" Boro., \",\" Co., \")&VLOOKUP(Input!E15,Input!C208:D262,2,FALSE)))","v":"Field Location: "},null,"Field ID: ",{"$f":"IF(Input!J15=\"\",\"\",Input!J15)","v":""},null,null,"Latitude:",{"$f":"IF(Input!E18=\"\",\"\",Input!E18)","v":""}]
[null,null,null,null,null,null,null,null,null,null,"Longitude:",{"$f":"IF(Input!E19=\"\",\"\",Input!E19)","v":""}]
[]
[]
[null,null,{"$f":"C11","v":"Total Field Inputs"},null,null,null,"PLANNED"]
[]
[null,"Energy Input",null,"Units","Value","CO2","N2O","CH4","Total CO2",null,"SO2","NOx"]
[null,null,null,null,null,"[lb]","[lb]","[lb]","[lb]",null,"[lb]","[lb]"]
[null,"  Liquid"]
[null,null,{"$f":"Report_Cost!$C$14","v":"Diesel"},"Gal",{"$f":"IF($C$11=\"Total Field Inputs\",ROUND(SUMIF(Report_Cost!$L$66:$L$72,Report_GHG2!C66,Report_Cost!$K$66:$K$72)*VLOOKUP(C66,Report_Cost!$C$14:$G$38,5,FALSE),0),ROUND(SUMIF(Report_Cost!$L$49:$L$55,Report_GHG2!C66,Report_Cost!$K$49:$K$55)*VLOOKUP(C66,Report_Cost!$C$14:$G$38,5,FALSE),2))","v":0},{"$f":"VLOOKUP($C66,Database_Tables!$C$1749:$J$1763,3,FALSE)*$E66","v":0},{"$f":"VLOOKUP($C66,Database_Tables!$C$1749:$J$1763,4,FALSE)*$E66","v":0},{"$f":"VLOOKUP($C66,Database_Tables!$C$1749:$J$1763,5,FALSE)*$E66","v":0},{"$f":"VLOOKUP($C66,Database_Tables!$C$1749:$J$1763,8,FALSE)*$E66","v":0},null,{"$f":"VLOOKUP($C66,Database_Tables!$C$1749:$J$1763,6,FALSE)*$E66","v":0},{"$f":"VLOOKUP($C66,Database_Tables!$C$1749:$J$1763,7,FALSE)*$E66","v":0}]
[]
[null,null,{"$f":"Report_Cost!$C$15","v":"Gasoline (E10)"},"Gal",{"$f":"IF($C$11=\"Total Field Inputs\",ROUND(SUMIF(Report_Cost!$L$66:$L$72,Report_GHG2!C68,Report_Cost!$K$66:$K$72)*VLOOKUP(C68,Report_Cost!$C$14:$G$38,5,FALSE),0),ROUND(SUMIF(Report_Cost!$L$49:$L$55,Report_GHG2!C68,Report_Cost!$K$49:$K$55)*VLOOKUP(C68,Report_Cost!$C$14:$G$38,5,FALSE),2))","v":0},{"$f":"VLOOKUP($C68,Database_Tables!$C$1749:$J$1763,3,FALSE)*$E68","v":0},{"$f":"VLOOKUP($C68,Database_Tables!$C$1749:$J$1763,4,FALSE)*$E68","v":0},{"$f":"VLOOKUP($C68,Database_Tables!$C$1749:$J$1763,5,FALSE)*$E68","v":0},{"$f":"VLOOKUP($C68,Database_Tables!$C$1749:$J$1763,8,FALSE)*$E68","v":0},null,{"$f":"VLOOKUP($C68,Database_Tables!$C$1749:$J$1763,6,FALSE)*$E68","v":0},{"$f":"VLOOKUP($C68,Database_Tables!$C$1749:$J$1763,7,FALSE)*$E68","v":0}]
[]
[null,null,{"$f":"Report_Cost!$C$16","v":"BioDiesel B2"},"Gal",{"$f":"IF($C$11=\"Total Field Inputs\",ROUND(SUMIF(Report_Cost!$L$66:$L$72,Report_GHG2!C20,Report_Cost!$K$66:$K$72)*VLOOKUP(C20,Report_Cost!$C$14:$G$38,5,FALSE),0),ROUND(SUMIF(Report_Cost!$L$49:$L$55,Report_GHG2!C20,Report_Cost!$K$49:$K$55)*VLOOKUP(C20,Report_Cost!$C$14:$G$38,5,FALSE),2))","v":0},{"$f":"VLOOKUP($C70,Database_Tables!$C$1749:$J$1763,3,FALSE)*$E70","v":0},{"$f":"VLOOKUP($C70,Database_Tables!$C$1749:$J$1763,4,FALSE)*$E70","v":0},{"$f":"VLOOKUP($C70,Database_Tables!$C$1749:$J$1763,5,FALSE)*$E70","v":0},{"$f":"VLOOKUP($C70,Database_Tables!$C$1749:$J$1763,8,FALSE)*$E70","v":0},null,{"$f":"VLOOKUP($C70,Database_Tables!$C$1749:$J$1763,6,FALSE)*$E70","v":0},{"$f":"VLOOKUP($C70,Database_Tables!$C$1749:$J$1763,7,FALSE)*$E70","v":0}]
[]
[null,null,{"$f":"Report_Cost!$C$17","v":"BioDiesel B5"},"Gal",{"$f":"IF($C$11=\"Total Field Inputs\",ROUND(SUMIF(Report_Cost!$L$66:$L$72,Report_GHG2!C22,Report_Cost!$K$66:$K$72)*VLOOKUP(C22,Report_Cost!$C$14:$G$38,5,FALSE),0),ROUND(SUMIF(Report_Cost!$L$49:$L$55,Report_GHG2!C22,Report_Cost!$K$49:$K$55)*VLOOKUP(C22,Report_Cost!$C$14:$G$38,5,FALSE),2))","v":0},{"$f":"VLOOKUP($C72,Database_Tables!$C$1749:$J$1763,3,FALSE)*$E72","v":0},{"$f":"VLOOKUP($C72,Database_Tables!$C$1749:$J$1763,4,FALSE)*$E72","v":0},{"$f":"VLOOKUP($C72,Database_Tables!$C$1749:$J$1763,5,FALSE)*$E72","v":0},{"$f":"VLOOKUP($C72,Database_Tables!$C$1749:$J$1763,8,FALSE)*$E72","v":0},null,{"$f":"VLOOKUP($C72,Database_Tables!$C$1749:$J$1763,6,FALSE)*$E72","v":0},{"$f":"VLOOKUP($C72,Database_Tables!$C$1749:$J$1763,7,FALSE)*$E72","v":0}]
[]
[null,null,{"$f":"Report_Cost!$C$18","v":"BioDiesel B10"},"Gal",{"$f":"IF($C$11=\"Total Field Inputs\",ROUND(SUMIF(Report_Cost!$L$66:$L$72,Report_GHG2!C24,Report_Cost!$K$66:$K$72)*VLOOKUP(C24,Report_Cost!$C$14:$G$38,5,FALSE),0),ROUND(SUMIF(Report_Cost!$L$49:$L$55,Report_GHG2!C24,Report_Cost!$K$49:$K$55)*VLOOKUP(C24,Report_Cost!$C$14:$G$38,5,FALSE),2))","v":0},{"$f":"VLOOKUP($C74,Database_Tables!$C$1749:$J$1763,3,FALSE)*$E74","v":0},{"$f":"VLOOKUP($C74,Database_Tables!$C$1749:$J$1763,4,FALSE)*$E74","v":0},{"$f":"VLOOKUP($C74,Database_Tables!$C$1749:$J$1763,5,FALSE)*$E74","v":0},{"$f":"VLOOKUP($C74,Database_Tables!$C$1749:$J$1763,8,FALSE)*$E74","v":0},null,{"$f":"VLOOKUP($C74,Database_Tables!$C$1749:$J$1763,6,FALSE)*$E74","v":0},{"$f":"VLOOKUP($C74,Database_Tables!$C$1749:$J$1763,7,FALSE)*$E74","v":0}]
[]
[null,null,{"$f":"Report_Cost!$C$19","v":"BioDiesel B20"},"Gal",{"$f":"IF($C$11=\"Total Field Inputs\",ROUND(SUMIF(Report_Cost!$L$66:$L$72,Report_GHG2!C26,Report_Cost!$K$66:$K$72)*VLOOKUP(C26,Report_Cost!$C$14:$G$38,5,FALSE),0),ROUND(SUMIF(Report_Cost!$L$49:$L$55,Report_GHG2!C26,Report_Cost!$K$49:$K$55)*VLOOKUP(C26,Report_Cost!$C$14:$G$38,5,FALSE),2))","v":0},{"$f":"VLOOKUP($C76,Database_Tables!$C$1749:$J$1763,3,FALSE)*$E76","v":0},{"$f":"VLOOKUP($C76,Database_Tables!$C$1749:$J$1763,4,FALSE)*$E76","v":0},{"$f":"VLOOKUP($C76,Database_Tables!$C$1749:$J$1763,5,FALSE)*$E76","v":0},{"$f":"VLOOKUP($C76,Database_Tables!$C$1749:$J$1763,8,FALSE)*$E76","v":0},null,{"$f":"VLOOKUP($C76,Database_Tables!$C$1749:$J$1763,6,FALSE)*$E76","v":0},{"$f":"VLOOKUP($C76,Database_Tables!$C$1749:$J$1763,7,FALSE)*$E76","v":0}]
[]
[null,null,{"$f":"Report_Cost!$C$20","v":"BioDiesel B100"},"Gal",{"$f":"IF($C$11=\"Total Field Inputs\",ROUND(SUMIF(Report_Cost!$L$66:$L$72,Report_GHG2!C28,Report_Cost!$K$66:$K$72)*VLOOKUP(C28,Report_Cost!$C$14:$G$38,5,FALSE),0),ROUND(SUMIF(Report_Cost!$L$49:$L$55,Report_GHG2!C28,Report_Cost!$K$49:$K$55)*VLOOKUP(C28,Report_Cost!$C$14:$G$38,5,FALSE),2))","v":0},{"$f":"VLOOKUP($C78,Database_Tables!$C$1749:$J$1763,3,FALSE)*$E78","v":0},{"$f":"VLOOKUP($C78,Database_Tables!$C$1749:$J$1763,4,FALSE)*$E78","v":0},{"$f":"VLOOKUP($C78,Database_Tables!$C$1749:$J$1763,5,FALSE)*$E78","v":0},{"$f":"VLOOKUP($C78,Database_Tables!$C$1749:$J$1763,8,FALSE)*$E78","v":0},null,{"$f":"VLOOKUP($C78,Database_Tables!$C$1749:$J$1763,6,FALSE)*$E78","v":0},{"$f":"VLOOKUP($C78,Database_Tables!$C$1749:$J$1763,7,FALSE)*$E78","v":0}]
[]
[null,null,{"$f":"Report_Cost!$C$21","v":"SVO"},"Gal",{"$f":"IF($C$11=\"Total Field Inputs\",ROUND(SUMIF(Report_Cost!$L$66:$L$72,Report_GHG2!C30,Report_Cost!$K$66:$K$72)*VLOOKUP(C30,Report_Cost!$C$14:$G$38,5,FALSE),0),ROUND(SUMIF(Report_Cost!$L$49:$L$55,Report_GHG2!C30,Report_Cost!$K$49:$K$55)*VLOOKUP(C30,Report_Cost!$C$14:$G$38,5,FALSE),2))","v":0},{"$f":"VLOOKUP($C80,Database_Tables!$C$1749:$J$1763,3,FALSE)*$E80","v":0},{"$f":"VLOOKUP($C80,Database_Tables!$C$1749:$J$1763,4,FALSE)*$E80","v":0},{"$f":"VLOOKUP($C80,Database_Tables!$C$1749:$J$1763,5,FALSE)*$E80","v":0},{"$f":"VLOOKUP($C80,Database_Tables!$C$1749:$J$1763,8,FALSE)*$E80","v":0},null,{"$f":"VLOOKUP($C80,Database_Tables!$C$1749:$J$1763,6,FALSE)*$E80","v":0},{"$f":"VLOOKUP($C80,Database_Tables!$C$1749:$J$1763,7,FALSE)*$E80","v":0}]
[]
[null,"  Gas"]
[null,null,{"$f":"Report_Cost!$C$23","v":"Propane"},"Gal",{"$f":"IF($C$11=\"Total Field Inputs\",ROUND(SUMIF(Report_Cost!$L$66:$L$72,Report_GHG2!C33,Report_Cost!$K$66:$K$72)*VLOOKUP(C33,Report_Cost!$C$14:$G$38,5,FALSE),0),ROUND(SUMIF(Report_Cost!$L$49:$L$55,Report_GHG2!C33,Report_Cost!$K$49:$K$55)*VLOOKUP(C33,Report_Cost!$C$14:$G$38,5,FALSE),2))","v":0},{"$f":"VLOOKUP($C83,Database_Tables!$C$1749:$J$1763,3,FALSE)*$E83","v":0},{"$f":"VLOOKUP($C83,Database_Tables!$C$1749:$J$1763,4,FALSE)*$E83","v":0},{"$f":"VLOOKUP($C83,Database_Tables!$C$1749:$J$1763,5,FALSE)*$E83","v":0},{"$f":"VLOOKUP($C83,Database_Tables!$C$1749:$J$1763,8,FALSE)*$E83","v":0},null,{"$f":"VLOOKUP($C83,Database_Tables!$C$1749:$J$1763,6,FALSE)*$E83","v":0},{"$f":"VLOOKUP($C83,Database_Tables!$C$1749:$J$1763,7,FALSE)*$E83","v":0}]
[]
[null,null,{"$f":"Report_Cost!$C$24","v":"Natural Gas"},"CCF",{"$f":"IF($C$11=\"Total Field Inputs\",ROUND(SUMIF(Report_Cost!$L$66:$L$72,Report_GHG2!C35,Report_Cost!$K$66:$K$72)*VLOOKUP(C35,Report_Cost!$C$14:$G$38,5,FALSE),0),ROUND(SUMIF(Report_Cost!$L$49:$L$55,Report_GHG2!C35,Report_Cost!$K$49:$K$55)*VLOOKUP(C35,Report_Cost!$C$14:$G$38,5,FALSE),2))","v":0},{"$f":"VLOOKUP($C85,Database_Tables!$C$1749:$J$1763,3,FALSE)*$E85","v":0},{"$f":"VLOOKUP($C85,Database_Tables!$C$1749:$J$1763,4,FALSE)*$E85","v":0},{"$f":"VLOOKUP($C85,Database_Tables!$C$1749:$J$1763,5,FALSE)*$E85","v":0},{"$f":"VLOOKUP($C85,Database_Tables!$C$1749:$J$1763,8,FALSE)*$E85","v":0},null,{"$f":"VLOOKUP($C85,Database_Tables!$C$1749:$J$1763,6,FALSE)*$E85","v":0},{"$f":"VLOOKUP($C85,Database_Tables!$C$1749:$J$1763,7,FALSE)*$E85","v":0}]
[]
[null,null,{"$f":"Report_Cost!$C$25","v":"CNG"},"CCF",{"$f":"IF($C$11=\"Total Field Inputs\",ROUND(SUMIF(Report_Cost!$L$66:$L$72,Report_GHG2!C37,Report_Cost!$K$66:$K$72)*VLOOKUP(C37,Report_Cost!$C$14:$G$38,5,FALSE),0),ROUND(SUMIF(Report_Cost!$L$49:$L$55,Report_GHG2!C37,Report_Cost!$K$49:$K$55)*VLOOKUP(C37,Report_Cost!$C$14:$G$38,5,FALSE),2))","v":0},{"$f":"VLOOKUP($C87,Database_Tables!$C$1749:$J$1763,3,FALSE)*$E87","v":0},{"$f":"VLOOKUP($C87,Database_Tables!$C$1749:$J$1763,4,FALSE)*$E87","v":0},{"$f":"VLOOKUP($C87,Database_Tables!$C$1749:$J$1763,5,FALSE)*$E87","v":0},{"$f":"VLOOKUP($C87,Database_Tables!$C$1749:$J$1763,8,FALSE)*$E87","v":0},null,{"$f":"VLOOKUP($C87,Database_Tables!$C$1749:$J$1763,6,FALSE)*$E87","v":0},{"$f":"VLOOKUP($C87,Database_Tables!$C$1749:$J$1763,7,FALSE)*$E87","v":0}]
[]
[null,"  Electricity"]
[null,null,{"$f":"Report_Cost!$C$27","v":"Electricity"},"KWH",{"$f":"IF($C$11=\"Total Field Inputs\",ROUND(SUMIF(Report_Cost!$L$66:$L$72,Report_GHG2!C90,Report_Cost!$K$66:$K$72)*VLOOKUP(C90,Report_Cost!$C$14:$G$38,5,FALSE),0),ROUND(SUMIF(Report_Cost!$L$49:$L$55,Report_GHG2!C90,Report_Cost!$K$49:$K$55)*VLOOKUP(C90,Report_Cost!$C$14:$G$38,5,FALSE),2))","v":0},{"$f":"VLOOKUP($C90,Database_Tables!$C$1749:$J$1763,3,FALSE)*$E90","v":0},{"$f":"VLOOKUP($C90,Database_Tables!$C$1749:$J$1763,4,FALSE)*$E90","v":0},{"$f":"VLOOKUP($C90,Database_Tables!$C$1749:$J$1763,5,FALSE)*$E90","v":0},{"$f":"VLOOKUP($C90,Database_Tables!$C$1749:$J$1763,8,FALSE)*$E90","v":0},null,{"$f":"VLOOKUP($C90,Database_Tables!$C$1749:$J$1763,6,FALSE)*$E90","v":0},{"$f":"VLOOKUP($C90,Database_Tables!$C$1749:$J$1763,7,FALSE)*$E90","v":0}]
[]
[null,"Other Energy Input"]
[null,{"$f":"Report_Cost!L71","v":"Soil Amend"},"Soil Amendments","Ton",{"$f":"IF($C$11=\"Total Field Inputs\",ROUND(SUMIF(Report_Cost!$L$66:$L$72,Report_GHG2!B93,Report_Cost!$K$66:$K$72)*VLOOKUP(B93,Report_Cost!$C$14:$G$38,5,FALSE),0),ROUND(SUMIF(Report_Cost!$L$49:$L$55,Report_GHG2!B93,Report_Cost!$K$49:$K$55)*VLOOKUP(B93,Report_Cost!$C$14:$G$38,5,FALSE),2))","v":0},{"$f":"VLOOKUP($C93,Database_Tables!$C$1749:$J$1763,3,FALSE)*$E93","v":0},{"$f":"VLOOKUP($C93,Database_Tables!$C$1749:$J$1763,4,FALSE)*$E93","v":0},{"$f":"VLOOKUP($C93,Database_Tables!$C$1749:$J$1763,5,FALSE)*$E93","v":0},{"$f":"VLOOKUP($C93,Database_Tables!$C$1749:$J$1763,8,FALSE)*$E93","v":0},null,{"$f":"VLOOKUP($C93,Database_Tables!$C$1749:$J$1763,6,FALSE)*$E93","v":0},{"$f":"VLOOKUP($C93,Database_Tables!$C$1749:$J$1763,7,FALSE)*$E93","v":0}]
[]
[null,{"$f":"B45","v":"Agrichem"},{"$f":"C45","v":"Agrichemicals/Fert."},"lb",{"$f":"IF(Database_Tables!D1767=0,0,IF($C$11=\"Total Field Inputs\",ROUND(SUMIF(Report_Cost!$L$66:$L$72,Report_GHG1!C44,Report_Cost!$K$66:$K$72)/Database_Tables!D1767,0),ROUND(SUMIF(Report_Cost!$L$49:$L$55,Report_GHG1!C44,Report_Cost!$K$49:$K$55)/Database_Tables!D1767,2)))","v":0},{"$f":"VLOOKUP($B95,Database_Tables!$C$1749:$J$1763,3,FALSE)*$E95","v":0},{"$f":"VLOOKUP($B95,Database_Tables!$C$1749:$J$1763,4,FALSE)*$E95","v":0},{"$f":"VLOOKUP($B95,Database_Tables!$C$1749:$J$1763,5,FALSE)*$E95","v":0},{"$f":"VLOOKUP($B95,Database_Tables!$C$1749:$J$1763,8,FALSE)*$E95","v":0},null,{"$f":"VLOOKUP($B95,Database_Tables!$C$1749:$J$1763,6,FALSE)*$E95","v":0},{"$f":"VLOOKUP($B95,Database_Tables!$C$1749:$J$1763,7,FALSE)*$E95","v":0}]
[]
[null,null,"Labor","Day",{"$f":"IF($C$11=\"Total Field Inputs\",ROUND(SUMIF(Report_Cost!$L$66:$L$72,Report_GHG2!C97,Report_Cost!$K$66:$K$72)*VLOOKUP(C97,Report_Cost!$C$14:$G$38,5,FALSE),0),ROUND(SUMIF(Report_Cost!$L$49:$L$55,Report_GHG2!C97,Report_Cost!$K$49:$K$55)*VLOOKUP(C97,Report_Cost!$C$14:$G$38,5,FALSE),2))","v":0},{"$f":"VLOOKUP($C97,Database_Tables!$C$1749:$J$1763,3,FALSE)*$E97","v":0},{"$f":"VLOOKUP($C97,Database_Tables!$C$1749:$J$1763,4,FALSE)*$E97","v":0},{"$f":"VLOOKUP($C97,Database_Tables!$C$1749:$J$1763,5,FALSE)*$E97","v":0},{"$f":"VLOOKUP($C97,Database_Tables!$C$1749:$J$1763,8,FALSE)*$E97","v":0},null,{"$f":"VLOOKUP($C97,Database_Tables!$C$1749:$J$1763,6,FALSE)*$E97","v":0},{"$f":"VLOOKUP($C97,Database_Tables!$C$1749:$J$1763,7,FALSE)*$E97","v":0}]
[]
[null,"TOTAL",null,{"$f":"IF(C11=\"Total Field Inputs\",ROUND(Report_Cost!K73,0),ROUND(Report_Cost!K56,2))&\" \"&\"[MMBTU]\"","v":"0 [MMBTU]"},null,{"$f":"F97+F95+F93+F90+F87+F85+F83+F80+F78+F76+F74+F72+F70+F66","v":0},{"$f":"G97+G95+G93+G90+G87+G85+G83+G80+G78+G76+G74+G72+G70+G66","v":0},{"$f":"H97+H95+H93+H90+H87+H85+H83+H80+H78+H76+H74+H72+H70+H66","v":0},{"$f":"I97+I95+I93+I90+I87+I85+I83+I80+I78+I76+I74+I72+I70+I66","v":0},null,{"$f":"K97+K95+K93+K90+K87+K85+K83+K80+K78+K76+K74+K72+K70+K66","v":0},{"$f":"L97+L95+L93+L90+L87+L85+L83+L80+L78+L76+L74+L72+L70+L66","v":0}]
[]
[]
[null,"NRCS - CROPLAND ENERGY TOOL"]
[]
[null,"GREENHOUSE GAS EMISSION CHANGES FROM FIELD INPUTS"]
[]
[null,null,null,null,{"$f":"\"Landowner: \"&Input!E14","v":"Landowner: "},null,"Field Area: ",{"$f":"IF(Input!J14=\"\",\"\",Input!J14)","v":""},null,null,"Date: ",{"$f":"IF(Input!E17=\"\",\"\",Input!E17)","v":""}]
[null,null,null,null,{"$f":"IF(Input!E15=\"\",\"Field Location: \",IF(OR(Input!E15=\"American Samoa\",Input!E15=\"District of Columbia\",Input!E15=\"Puerto Rico\",Input!E15=\"Virgin Islands\",Input!E15=\"Guam\"),\"Field Location: \"&Input!E15,\"Field Location: \"&Input!E16&IF(Input!E15=\"Alaska\",\" Boro., \",\" Co., \")&VLOOKUP(Input!E15,Input!C208:D262,2,FALSE)))","v":"Field Location: "},null,"Field ID: ",{"$f":"IF(Input!J15=\"\",\"\",Input!J15)","v":""},null,null,"Latitude:",{"$f":"IF(Input!E18=\"\",\"\",Input!E18)","v":""}]
[null,null,null,null,null,null,null,null,null,null,"Longitude:",{"$f":"IF(Input!E19=\"\",\"\",Input!E19)","v":""}]
[]
[]
[null,null,{"$f":"C61","v":"Total Field Inputs"},null,null,null,"SAVINGS"]
[]
[null,"Energy Input",null,"Units","Value","CO2","N2O","CH4","Total CO2",null,"SO2","NOx"]
[null,null,null,null,null,"[lb]","[lb]","[lb]","[lb]",null,"[lb]","[lb]"]
[null,"  Liquid"]
[null,null,{"$f":"Report_Cost!$C$14","v":"Diesel"},"Gal",{"$f":"E16-E66","v":0},{"$f":"VLOOKUP($C116,Database_Tables!$C$1749:$J$1763,3,FALSE)*$E116","v":0},{"$f":"VLOOKUP($C116,Database_Tables!$C$1749:$J$1763,4,FALSE)*$E116","v":0},{"$f":"VLOOKUP($C116,Database_Tables!$C$1749:$J$1763,5,FALSE)*$E116","v":0},{"$f":"VLOOKUP($C116,Database_Tables!$C$1749:$J$1763,8,FALSE)*$E116","v":0},null,{"$f":"VLOOKUP($C116,Database_Tables!$C$1749:$J$1763,6,FALSE)*$E116","v":0},{"$f":"VLOOKUP($C116,Database_Tables!$C$1749:$J$1763,7,FALSE)*$E116","v":0}]
[]
[null,null,{"$f":"Report_Cost!$C$15","v":"Gasoline (E10)"},"Gal",{"$f":"E18-E68","v":0},{"$f":"VLOOKUP($C118,Database_Tables!$C$1749:$J$1763,3,FALSE)*$E118","v":0},{"$f":"VLOOKUP($C118,Database_Tables!$C$1749:$J$1763,4,FALSE)*$E118","v":0},{"$f":"VLOOKUP($C118,Database_Tables!$C$1749:$J$1763,5,FALSE)*$E118","v":0},{"$f":"VLOOKUP($C118,Database_Tables!$C$1749:$J$1763,8,FALSE)*$E118","v":0},null,{"$f":"VLOOKUP($C118,Database_Tables!$C$1749:$J$1763,6,FALSE)*$E118","v":0},{"$f":"VLOOKUP($C118,Database_Tables!$C$1749:$J$1763,7,FALSE)*$E118","v":0}]
[]
[null,null,{"$f":"Report_Cost!$C$16","v":"BioDiesel B2"},"Gal",{"$f":"E20-E70","v":0},{"$f":"VLOOKUP($C120,Database_Tables!$C$1749:$J$1763,3,FALSE)*$E120","v":0},{"$f":"VLOOKUP($C120,Database_Tables!$C$1749:$J$1763,4,FALSE)*$E120","v":0},{"$f":"VLOOKUP($C120,Database_Tables!$C$1749:$J$1763,5,FALSE)*$E120","v":0},{"$f":"VLOOKUP($C120,Database_Tables!$C$1749:$J$1763,8,FALSE)*$E120","v":0},null,{"$f":"VLOOKUP($C120,Database_Tables!$C$1749:$J$1763,6,FALSE)*$E120","v":0},{"$f":"VLOOKUP($C120,Database_Tables!$C$1749:$J$1763,7,FALSE)*$E120","v":0}]
[]
[null,null,{"$f":"Report_Cost!$C$17","v":"BioDiesel B5"},"Gal",{"$f":"E22-E72","v":0},{"$f":"VLOOKUP($C122,Database_Tables!$C$1749:$J$1763,3,FALSE)*$E122","v":0},{"$f":"VLOOKUP($C122,Database_Tables!$C$1749:$J$1763,4,FALSE)*$E122","v":0},{"$f":"VLOOKUP($C122,Database_Tables!$C$1749:$J$1763,5,FALSE)*$E122","v":0},{"$f":"VLOOKUP($C122,Database_Tables!$C$1749:$J$1763,8,FALSE)*$E122","v":0},null,{"$f":"VLOOKUP($C122,Database_Tables!$C$1749:$J$1763,6,FALSE)*$E122","v":0},{"$f":"VLOOKUP($C122,Database_Tables!$C$1749:$J$1763,7,FALSE)*$E122","v":0}]
[]
[null,null,{"$f":"Report_Cost!$C$18","v":"BioDiesel B10"},"Gal",{"$f":"E24-E74","v":0},{"$f":"VLOOKUP($C124,Database_Tables!$C$1749:$J$1763,3,FALSE)*$E124","v":0},{"$f":"VLOOKUP($C124,Database_Tables!$C$1749:$J$1763,4,FALSE)*$E124","v":0},{"$f":"VLOOKUP($C124,Database_Tables!$C$1749:$J$1763,5,FALSE)*$E124","v":0},{"$f":"VLOOKUP($C124,Database_Tables!$C$1749:$J$1763,8,FALSE)*$E124","v":0},null,{"$f":"VLOOKUP($C124,Database_Tables!$C$1749:$J$1763,6,FALSE)*$E124","v":0},{"$f":"VLOOKUP($C124,Database_Tables!$C$1749:$J$1763,7,FALSE)*$E124","v":0}]
[]
[null,null,{"$f":"Report_Cost!$C$19","v":"BioDiesel B20"},"Gal",{"$f":"E26-E76","v":0},{"$f":"VLOOKUP($C126,Database_Tables!$C$1749:$J$1763,3,FALSE)*$E126","v":0},{"$f":"VLOOKUP($C126,Database_Tables!$C$1749:$J$1763,4,FALSE)*$E126","v":0},{"$f":"VLOOKUP($C126,Database_Tables!$C$1749:$J$1763,5,FALSE)*$E126","v":0},{"$f":"VLOOKUP($C126,Database_Tables!$C$1749:$J$1763,8,FALSE)*$E126","v":0},null,{"$f":"VLOOKUP($C126,Database_Tables!$C$1749:$J$1763,6,FALSE)*$E126","v":0},{"$f":"VLOOKUP($C126,Database_Tables!$C$1749:$J$1763,7,FALSE)*$E126","v":0}]
[]
[null,null,{"$f":"Report_Cost!$C$20","v":"BioDiesel B100"},"Gal",{"$f":"E28-E78","v":0},{"$f":"VLOOKUP($C128,Database_Tables!$C$1749:$J$1763,3,FALSE)*$E128","v":0},{"$f":"VLOOKUP($C128,Database_Tables!$C$1749:$J$1763,4,FALSE)*$E128","v":0},{"$f":"VLOOKUP($C128,Database_Tables!$C$1749:$J$1763,5,FALSE)*$E128","v":0},{"$f":"VLOOKUP($C128,Database_Tables!$C$1749:$J$1763,8,FALSE)*$E128","v":0},null,{"$f":"VLOOKUP($C128,Database_Tables!$C$1749:$J$1763,6,FALSE)*$E128","v":0},{"$f":"VLOOKUP($C128,Database_Tables!$C$1749:$J$1763,7,FALSE)*$E128","v":0}]
[]
[null,null,{"$f":"Report_Cost!$C$21","v":"SVO"},"Gal",{"$f":"E30-E80","v":0},{"$f":"VLOOKUP($C130,Database_Tables!$C$1749:$J$1763,3,FALSE)*$E130","v":0},{"$f":"VLOOKUP($C130,Database_Tables!$C$1749:$J$1763,4,FALSE)*$E130","v":0},{"$f":"VLOOKUP($C130,Database_Tables!$C$1749:$J$1763,5,FALSE)*$E130","v":0},{"$f":"VLOOKUP($C130,Database_Tables!$C$1749:$J$1763,8,FALSE)*$E130","v":0},null,{"$f":"VLOOKUP($C130,Database_Tables!$C$1749:$J$1763,6,FALSE)*$E130","v":0},{"$f":"VLOOKUP($C130,Database_Tables!$C$1749:$J$1763,7,FALSE)*$E130","v":0}]
[]
[null,"  Gas"]
[null,null,{"$f":"Report_Cost!$C$23","v":"Propane"},"Gal",{"$f":"E33-E83","v":0},{"$f":"VLOOKUP($C133,Database_Tables!$C$1749:$J$1763,3,FALSE)*$E133","v":0},{"$f":"VLOOKUP($C133,Database_Tables!$C$1749:$J$1763,4,FALSE)*$E133","v":0},{"$f":"VLOOKUP($C133,Database_Tables!$C$1749:$J$1763,5,FALSE)*$E133","v":0},{"$f":"VLOOKUP($C133,Database_Tables!$C$1749:$J$1763,8,FALSE)*$E133","v":0},null,{"$f":"VLOOKUP($C133,Database_Tables!$C$1749:$J$1763,6,FALSE)*$E133","v":0},{"$f":"VLOOKUP($C133,Database_Tables!$C$1749:$J$1763,7,FALSE)*$E133","v":0}]
[]
[null,null,{"$f":"Report_Cost!$C$24","v":"Natural Gas"},"CCF",{"$f":"E35-E85","v":0},{"$f":"VLOOKUP($C135,Database_Tables!$C$1749:$J$1763,3,FALSE)*$E135","v":0},{"$f":"VLOOKUP($C135,Database_Tables!$C$1749:$J$1763,4,FALSE)*$E135","v":0},{"$f":"VLOOKUP($C135,Database_Tables!$C$1749:$J$1763,5,FALSE)*$E135","v":0},{"$f":"VLOOKUP($C135,Database_Tables!$C$1749:$J$1763,8,FALSE)*$E135","v":0},null,{"$f":"VLOOKUP($C135,Database_Tables!$C$1749:$J$1763,6,FALSE)*$E135","v":0},{"$f":"VLOOKUP($C135,Database_Tables!$C$1749:$J$1763,7,FALSE)*$E135","v":0}]
[]
[null,null,{"$f":"Report_Cost!$C$25","v":"CNG"},"CCF",{"$f":"E37-E87","v":0},{"$f":"VLOOKUP($C137,Database_Tables!$C$1749:$J$1763,3,FALSE)*$E137","v":0},{"$f":"VLOOKUP($C137,Database_Tables!$C$1749:$J$1763,4,FALSE)*$E137","v":0},{"$f":"VLOOKUP($C137,Database_Tables!$C$1749:$J$1763,5,FALSE)*$E137","v":0},{"$f":"VLOOKUP($C137,Database_Tables!$C$1749:$J$1763,8,FALSE)*$E137","v":0},null,{"$f":"VLOOKUP($C137,Database_Tables!$C$1749:$J$1763,6,FALSE)*$E137","v":0},{"$f":"VLOOKUP($C137,Database_Tables!$C$1749:$J$1763,7,FALSE)*$E137","v":0}]
[]
[null,"  Electricity"]
[null,null,{"$f":"Report_Cost!$C$27","v":"Electricity"},"KWH",{"$f":"E40-E90","v":0},{"$f":"VLOOKUP($C140,Database_Tables!$C$1749:$J$1763,3,FALSE)*$E140","v":0},{"$f":"VLOOKUP($C140,Database_Tables!$C$1749:$J$1763,4,FALSE)*$E140","v":0},{"$f":"VLOOKUP($C140,Database_Tables!$C$1749:$J$1763,5,FALSE)*$E140","v":0},{"$f":"VLOOKUP($C140,Database_Tables!$C$1749:$J$1763,8,FALSE)*$E140","v":0},null,{"$f":"VLOOKUP($C140,Database_Tables!$C$1749:$J$1763,6,FALSE)*$E140","v":0},{"$f":"VLOOKUP($C140,Database_Tables!$C$1749:$J$1763,7,FALSE)*$E140","v":0}]
[]
[null,"Other Energy Input"]
[null,null,"Soil Amendments","Ton",{"$f":"E43-E93","v":0},{"$f":"VLOOKUP($C143,Database_Tables!$C$1749:$J$1763,3,FALSE)*$E143","v":0},{"$f":"VLOOKUP($C143,Database_Tables!$C$1749:$J$1763,4,FALSE)*$E143","v":0},{"$f":"VLOOKUP($C143,Database_Tables!$C$1749:$J$1763,5,FALSE)*$E143","v":0},{"$f":"VLOOKUP($C143,Database_Tables!$C$1749:$J$1763,8,FALSE)*$E143","v":0},null,{"$f":"VLOOKUP($C143,Database_Tables!$C$1749:$J$1763,6,FALSE)*$E143","v":0},{"$f":"VLOOKUP($C143,Database_Tables!$C$1749:$J$1763,7,FALSE)*$E143","v":0}]
[]
[null,{"$f":"Database_Tables!C1761","v":"Agrichem"},{"$f":"C95","v":"Agrichemicals/Fert."},"lb",{"$f":"E45-E95","v":0},{"$f":"VLOOKUP($B145,Database_Tables!$C$1749:$J$1763,3,FALSE)*$E145","v":0},{"$f":"VLOOKUP($B145,Database_Tables!$C$1749:$J$1763,4,FALSE)*$E145","v":0},{"$f":"VLOOKUP($B145,Database_Tables!$C$1749:$J$1763,5,FALSE)*$E145","v":0},{"$f":"VLOOKUP($B145,Database_Tables!$C$1749:$J$1763,8,FALSE)*$E145","v":0},null,{"$f":"VLOOKUP($B145,Database_Tables!$C$1749:$J$1763,6,FALSE)*$E145","v":0},{"$f":"VLOOKUP($B145,Database_Tables!$C$1749:$J$1763,7,FALSE)*$E145","v":0}]
[]
[null,null,"Labor","Day",{"$f":"E47-E97","v":0},{"$f":"VLOOKUP($C147,Database_Tables!$C$1749:$J$1763,3,FALSE)*$E147","v":0},{"$f":"VLOOKUP($C147,Database_Tables!$C$1749:$J$1763,4,FALSE)*$E147","v":0},{"$f":"VLOOKUP($C147,Database_Tables!$C$1749:$J$1763,5,FALSE)*$E147","v":0},{"$f":"VLOOKUP($C147,Database_Tables!$C$1749:$J$1763,8,FALSE)*$E147","v":0},null,{"$f":"VLOOKUP($C147,Database_Tables!$C$1749:$J$1763,6,FALSE)*$E147","v":0},{"$f":"VLOOKUP($C147,Database_Tables!$C$1749:$J$1763,7,FALSE)*$E147","v":0}]
[]
[null,"TOTAL",null,{"$f":"IF(Report_Cost!F73<Report_Cost!K73,\"(\",\"\")&IF(C11=\"Total Field Inputs\",ABS(ROUND(Report_Cost!F73-Report_Cost!K73,0)),ABS(ROUND(Report_Cost!F56-Report_Cost!K56,2)))&IF(Report_Cost!F73<Report_Cost!K73,\")\",\"\")&\" \"&\"[MMBTU]\"","v":"0 [MMBTU]"},null,{"$f":"F147+F145+F143+F140+F137+F135+F133+F130+F128+F126+F124+F122+F120+F116","v":0},{"$f":"G147+G145+G143+G140+G137+G135+G133+G130+G128+G126+G124+G122+G120+G116","v":0},{"$f":"H147+H145+H143+H140+H137+H135+H133+H130+H128+H126+H124+H122+H120+H116","v":0},{"$f":"I147+I145+I143+I140+I137+I135+I133+I130+I128+I126+I124+I122+I120+I116","v":0},null,{"$f":"K147+K145+K143+K140+K137+K135+K133+K130+K128+K126+K124+K122+K120+K116","v":0},{"$f":"L147+L145+L143+L140+L137+L135+L133+L130+L128+L126+L124+L122+L120+L116","v":0}]

{"sheet":"Input_PS","index":9,"n_rows":167,"n_cols":37,"rows_kept":167,"cut":false,"hidden":true,"merged":[[9,19,9,22],[7,16,8,24],[9,23,9,24],[9,25,9,26],[47,10,47,13],[9,17,9,18],[57,11,57,12],[58,11,58,12],[59,11,59,12],[49,11,49,12],[50,11,50,12],[51,11,51,12],[52,11,52,12],[53,11,53,12],[56,6,56,7],[55,8,55,9],[56,8,56,9],[55,11,55,12],[56,11,56,12],[54,2,54,3],[55,2,55,3],[51,2,51,3],[51,4,51,5],[54,11,54,12],[53,6,53,7],[54,6,54,7],[55,6,55,7],[51,8,51,9],[52,8,52,9],[52,6,52,7],[54,8,54,9],[51,6,51,7],[50,8,50,9],[53,2,53,3],[48,11,48,12],[60,11,60,12],[61,11,61,12],[61,6,61,7],[61,8,61,9],[57,6,57,7],[58,6,58,7],[59,6,59,7],[60,6,60,7],[57,8,57,9],[58,8,58,9],[59,8,59,9],[60,8,60,9],[53,8,53,9],[61,2,61,3],[52,4,52,5],[53,4,53,5],[54,4,54,5],[55,4,55,5],[56,4,56,5],[57,4,57,5],[58,4,58,5],[59,4,59,5],[60,4,60,5],[61,4,61,5],[57,2,57,3],[58,2,58,3],[59,2,59,3],[60,2,60,3],[52,2,52,3],[56,2,56,3],[39,1,39,12],[41,1,41,12],[42,12,42,13],[47,2,47,9],[48,2,48,3],[49,2,49,3],[50,2,50,3],[48,4,48,5],[49,4,49,5],[50,4,50,5],[48,6,48,7],[49,6,49,7],[50,6,50,7],[48,8,48,9],[49,8,49,9],[1,1,1,12],[3,1,3,12],[4,12,4,13],[10,2,10,8],[10,9,10,11],[10,12,10,13]]}
[]
[null,"NRCS - CROPLAND ENERGY TOOL"]
[]
[null,"PRACTICE STANDARDS INPUT WORKSHEET - PERCENT ALLOCATED",null,null,null,null,null,null,null,null,null,null,null,null,null,null,"This table assists in determining percentages for each Practice Standard Input Category (PSIC). PSIC such as Irrigation, Other Delivery Energy, and Agrichemcials have "]
[null,null,null,null,null,null,null,null,null,null,null,"Date: ",{"$f":"IF(Input!E17=\"\",\"\",Input!E17)","v":""},null,null,null,"multiple input variables per category (i.e. Gross Applied, Pumping Plant Efficiency, Operating Pressure). The percentages for all other categories can be directly computed"]
[null,{"$f":"\"Landowner: \"&Input!E14","v":"Landowner: "},null,null,null,"Field Area: ",{"$f":"IF(Input!J14=\"\",\"\",Input!J14)","v":""},null,null,null,null,"Latitude:",{"$f":"IF(Input!E18=\"\",\"\",Input!E18)","v":""},null,null,null,"outside this table. They are provided here for convenience and are shaded in red. Caution is advised on these percentages, especially catergories containing multiple"]
[null,{"$f":"IF(Input!E15=\"\",\"Field Location: \",IF(OR(Input!E15=\"American Samoa\",Input!E15=\"District of Columbia\",Input!E15=\"Puerto Rico\",Input!E15=\"Virgin Islands\",Input!E15=\"Guam\"),\"Field Location: \"&Input!E15,\"Field Location: \"&Input!E16&IF(Input!E15=\"Alaska\",\" Boro., \",\" Co., \")&VLOOKUP(Input!E15,Input!C208:D262,2,FALSE)))","v":"Field Location: "},null,null,null,"Field ID: ",{"$f":"IF(Input!J15=\"\",\"\",Input!J15)","v":""},null,null,null,null,"Longitude:",{"$f":"IF(Input!E19=\"\",\"\",Input!E19)","v":""},null,null,null,"variables where \"benchmark\" vs \"planned\" inputs cancel each other out. For example, a \"benchmark\" field having no fertilizers, 6oz of herbicide, and 0oz of pesticide vs a "]
[null,null,null,null,null,null,null,null,null,null,null,null,null,null,null,null,"\"planned\" field having 0oz herbicide, and 5oz pesticide. This alternative would have a 600% decrease in herbicide and a 500% increase in pesticide (6oz/(6oz-5oz) vs -5oz/1oz)."]
[]
[null,null,null,null,null,null,null,null,null,null,null,null,null,null,null,null,"Practice Standards","Main Input Worksheet",null,"Individual Main Input Variables",null,null,null,"Practice Standard Input Categories",null,"Multiple Variable Values"]
[null,"Practice Standards","Energy Input to the Field",null,null,null,null,null,null,"Energy Harvest",null,null,"Energy Remaining",null,null,null,null,"Input Type","Input Variables (VAR)","Value","Allowable","Remaining","%","Input Category","%",null,null,null,null,null,null,null,null,null,null,{"$f":"SUMIF($S$12:$S$36,S12,$AJ$12:$AJ$36)","v":0}]
[null,null,"Harvest","Field","Irrigation","Other ","Agri-","Soil","Labor","Crop ","Post Harvest",null,"Root-","Surface",null,{"$f":"IF(ISNA(VLOOKUP(Q12,Database_Tables!$I$1587:$J$1626,2,FALSE)),FALSE,TRUE)","v":false},null,null,null,null,{"$f":"IF(OR(ISBLANK(Q12),ISBLANK(R12),ISBLANK(S12)),\"\",IF(ISNA(VLOOKUP(R12&\" \"&S12,$A$80:$C$112,3,FALSE)),\"Select Var\",ROUND(VLOOKUP(R12&\" \"&S12,$A$80:$C$112,3,FALSE),2)&\" \"&VLOOKUP(R12&\" \"&S12,$A$80:$F$112,6,FALSE)))","v":""},{"$f":"IF(OR(ISBLANK(Q12),ISBLANK(R12),ISBLANK(S12)),\"\",VLOOKUP(R12&\" \"&S12,$A$80:$C$112,3,FALSE)-SUMIF($AK$12:$AK$36,AK12,$AJ$12:$AJ$36))","v":""},{"$f":"IF(OR(ISBLANK(Q12),ISBLANK(R12),ISBLANK(S12),ISBLANK(T12)),\"\",IF(ISNA(ROUND(T12/VLOOKUP(R12&\" \"&S12,$A$80:$C$112,3,FALSE),2)),\"\",ROUND(T12/VLOOKUP(R12&\" \"&S12,$A$80:$C$112,3,FALSE),2)))","v":""},{"$f":"IF(OR(ISBLANK(Q12),ISBLANK(R12),ISBLANK(S12)),\"\",VLOOKUP(R12&\" \"&S12,$A$80:$G$112,7,FALSE))","v":""},{"$f":"IF(OR(ISBLANK(Q12),ISBLANK(R12),ISBLANK(S12),ISBLANK(T12)),\"\",IF(ISNA(ROUND(T12/VLOOKUP(R12&\" \"&S12,$A$80:$C$112,3,FALSE),2)),\"\",ROUND(T12/VLOOKUP(R12&\" \"&S12,$A$80:$C$112,3,FALSE),2))*VLOOKUP(R12&\" \"&S12,$A$80:$K$112,10,FALSE)/VLOOKUP(R12&\" \"&S12,$A$80:$K$112,11,FALSE))","v":""},{"$f":"IF(OR(ISBLANK(Q12),ISBLANK(R12),ISBLANK(S12)),\"\",IF(X12=\"Irrigation Delivery Power\",\"Agross = \"&$C$94&$F$94&\", Opres = \"&$C$95&$F$95&\", Peff = \"&$C$96&$F$96&\", Hoper = \"&$C$97&$F$97,IF(X12=\"AgriChemicals\",\"(Napp,Papp,Kapp,Sapp,Hrb,Pst) (\"&$C$86&$F$86&\",\"&$C$87&$F$87&\",\"&$C$88&$F$88&\",\"&$C$89&$F$89&\",\"&$C$90&$F$90&\",\"&$C$91&$F$91&\")\",IF(X12=\"Other Delivery Power\",\"ODP1 (Mgal,psi,%) (\"&$C$99&$F$99&\",\"&$C$100&$F$100&\",\"&$C$101&$F$101&\") ODP2 (Mgal,psi,%) (\"&$C$103&$F$103&\",\"&$C$104&$F$104&\",\"&$C$105&$F$105&\") ODP3 (Mgal,psi,%) (\"&$C$107&$F$107&\",\"&$C$108&$F$108&\",\"&$C$109&$F$109&\")\",\"\"))))","v":""},null,null,null,null,null,null,null,null,null,{"$f":"IF(ISBLANK(Q12),0,T12)","v":0},{"$f":"R12&\" \"&S12","v":" "}]
[null,"  Select from","Operations","Operations","Delivery","Delivery","Chemical","Amend",null,"Harvest","Grazing","Forage","mass","Residue",null,{"$f":"IF(ISNA(VLOOKUP(Q13,Database_Tables!$I$1587:$J$1626,2,FALSE)),FALSE,TRUE)","v":false},null,null,null,null,{"$f":"IF(OR(ISBLANK(Q13),ISBLANK(R13),ISBLANK(S13)),\"\",IF(ISNA(VLOOKUP(R13&\" \"&S13,$A$80:$C$112,3,FALSE)),\"Select Var\",ROUND(VLOOKUP(R13&\" \"&S13,$A$80:$C$112,3,FALSE),2)&\" \"&VLOOKUP(R13&\" \"&S13,$A$80:$F$112,6,FALSE)))","v":""},{"$f":"IF(OR(ISBLANK(Q13),ISBLANK(R13),ISBLANK(S13)),\"\",VLOOKUP(R13&\" \"&S13,$A$80:$C$112,3,FALSE)-SUMIF($AK$12:$AK$36,AK13,$AJ$12:$AJ$36))","v":""},{"$f":"IF(OR(ISBLANK(Q13),ISBLANK(R13),ISBLANK(S13),ISBLANK(T13)),\"\",IF(ISNA(ROUND(T13/VLOOKUP(R13&\" \"&S13,$A$80:$C$112,3,FALSE),2)),\"\",ROUND(T13/VLOOKUP(R13&\" \"&S13,$A$80:$C$112,3,FALSE),2)))","v":""},{"$f":"IF(OR(ISBLANK(Q13),ISBLANK(R13),ISBLANK(S13)),\"\",VLOOKUP(R13&\" \"&S13,$A$80:$G$112,7,FALSE))","v":""},{"$f":"IF(OR(ISBLANK(Q13),ISBLANK(R13),ISBLANK(S13),ISBLANK(T13)),\"\",IF(ISNA(ROUND(T13/VLOOKUP(R13&\" \"&S13,$A$80:$C$112,3,FALSE),2)),\"\",ROUND(T13/VLOOKUP(R13&\" \"&S13,$A$80:$C$112,3,FALSE),2))*VLOOKUP(R13&\" \"&S13,$A$80:$K$112,10,FALSE)/VLOOKUP(R13&\" \"&S13,$A$80:$K$112,11,FALSE))","v":""},{"$f":"IF(OR(ISBLANK(Q13),ISBLANK(R13),ISBLANK(S13)),\"\",IF(X13=\"Irrigation Delivery Power\",\"Agross = \"&$C$94&$F$94&\", Opres = \"&$C$95&$F$95&\", Peff = \"&$C$96&$F$96&\", Hoper = \"&$C$97&$F$97,IF(X13=\"AgriChemicals\",\"(Napp,Papp,Kapp,Sapp,Hrb,Pst) (\"&$C$86&$F$86&\",\"&$C$87&$F$87&\",\"&$C$88&$F$88&\",\"&$C$89&$F$89&\",\"&$C$90&$F$90&\",\"&$C$91&$F$91&\")\",IF(X13=\"Other Delivery Power\",\"ODP1 (Mgal,psi,%) (\"&$C$99&$F$99&\",\"&$C$100&$F$100&\",\"&$C$101&$F$101&\") ODP2 (Mgal,psi,%) (\"&$C$103&$F$103&\",\"&$C$104&$F$104&\",\"&$C$105&$F$105&\") ODP3 (Mgal,psi,%) (\"&$C$107&$F$107&\",\"&$C$108&$F$108&\",\"&$C$109&$F$109&\")\",\"\"))))","v":""},null,null,null,null,null,null,null,null,null,0,{"$f":"R13&\" \"&S13","v":" "}]
[true,"          All Practice Standards",null,null,"Energy","Energy","Fert",null,null,"Removed","Yield","Removed",null,null,null,{"$f":"IF(ISNA(VLOOKUP(Q14,Database_Tables!$I$1587:$J$1626,2,FALSE)),FALSE,TRUE)","v":false},null,null,null,null,{"$f":"IF(OR(ISBLANK(Q14),ISBLANK(R14),ISBLANK(S14)),\"\",IF(ISNA(VLOOKUP(R14&\" \"&S14,$A$80:$C$112,3,FALSE)),\"Select Var\",ROUND(VLOOKUP(R14&\" \"&S14,$A$80:$C$112,3,FALSE),2)&\" \"&VLOOKUP(R14&\" \"&S14,$A$80:$F$112,6,FALSE)))","v":""},"","","","","",null,null,null,null,null,null,null,null,null,0," "]
[false,"          Energy Only Practice Standards",null,null,null,null,null,null,null,null,null,null,null,null,null,{"$f":"IF(ISNA(VLOOKUP(Q15,Database_Tables!$I$1587:$J$1626,2,FALSE)),FALSE,TRUE)","v":false},null,null,null,null,{"$f":"IF(OR(ISBLANK(Q15),ISBLANK(R15),ISBLANK(S15)),\"\",IF(ISNA(VLOOKUP(R15&\" \"&S15,$A$80:$C$112,3,FALSE)),\"Select Var\",ROUND(VLOOKUP(R15&\" \"&S15,$A$80:$C$112,3,FALSE),2)&\" \"&VLOOKUP(R15&\" \"&S15,$A$80:$F$112,6,FALSE)))","v":""},"","","","","",null,null,null,null,null,null,null,null,null,0," "]
[{"$f":"IF(ISBLANK(B16),0,1)","v":1},"431 Above Ground Multi-Outlet Pipeline",null,null,null,null,null,null,null,null,null,null,null,null,{"$f":"IF(ISNA(VLOOKUP(B16,Database_Tables!$I$1587:$J$1626,2,FALSE)),FALSE,TRUE)","v":false},{"$f":"IF(ISNA(VLOOKUP(Q16,Database_Tables!$I$1587:$J$1626,2,FALSE)),FALSE,TRUE)","v":false},null,null,null,null,{"$f":"IF(OR(ISBLANK(Q16),ISBLANK(R16),ISBLANK(S16)),\"\",IF(ISNA(VLOOKUP(R16&\" \"&S16,$A$80:$C$112,3,FALSE)),\"Select Var\",ROUND(VLOOKUP(R16&\" \"&S16,$A$80:$C$112,3,FALSE),2)&\" \"&VLOOKUP(R16&\" \"&S16,$A$80:$F$112,6,FALSE)))","v":""},"","","","","",null,null,null,null,null,null,null,null,null,0," "]
[{"$f":"IF(ISBLANK(B17),0,1)","v":0},null,null,null,null,null,null,null,null,null,null,null,null,null,{"$f":"IF(ISNA(VLOOKUP(B17,Database_Tables!$I$1587:$J$1626,2,FALSE)),FALSE,TRUE)","v":false},{"$f":"IF(ISNA(VLOOKUP(Q17,Database_Tables!$I$1587:$J$1626,2,FALSE)),FALSE,TRUE)","v":false},null,null,null,null,"","","","","","",null,null,null,null,null,null,null,null,null,0," "]
[0,null,null,null,null,null,null,null,null,null,null,null,null,null,{"$f":"IF(ISNA(VLOOKUP(B18,Database_Tables!$I$1587:$J$1626,2,FALSE)),FALSE,TRUE)","v":false},{"$f":"IF(ISNA(VLOOKUP(Q18,Database_Tables!$I$1587:$J$1626,2,FALSE)),FALSE,TRUE)","v":false},null,null,null,null,"","","","","","",null,null,null,null,null,null,null,null,null,0," "]
[0,null,null,null,null,null,null,null,null,null,null,null,null,null,{"$f":"IF(ISNA(VLOOKUP(B19,Database_Tables!$I$1587:$J$1626,2,FALSE)),FALSE,TRUE)","v":false},{"$f":"IF(ISNA(VLOOKUP(Q19,Database_Tables!$I$1587:$J$1626,2,FALSE)),FALSE,TRUE)","v":false},null,null,null,null,"","","","","","",null,null,null,null,null,null,null,null,null,0," "]
[0,null,null,null,null,null,null,null,null,null,null,null,null,null,{"$f":"IF(ISNA(VLOOKUP(B20,Database_Tables!$I$1587:$J$1626,2,FALSE)),FALSE,TRUE)","v":false},{"$f":"IF(ISNA(VLOOKUP(Q20,Database_Tables!$I$1587:$J$1626,2,FALSE)),FALSE,TRUE)","v":false},null,null,null,null,"","","","","","",null,null,null,null,null,null,null,null,null,0," "]
[0,null,null,null,null,null,null,null,null,null,null,null,null,null,{"$f":"IF(ISNA(VLOOKUP(B21,Database_Tables!$I$1587:$J$1626,2,FALSE)),FALSE,TRUE)","v":false},{"$f":"IF(ISNA(VLOOKUP(Q21,Database_Tables!$I$1587:$J$1626,2,FALSE)),FALSE,TRUE)","v":false},null,null,null,null,"","","","","","",null,null,null,null,null,null,null,null,null,0," "]
[0,null,null,null,null,null,null,null,null,null,null,null,null,null,{"$f":"IF(ISNA(VLOOKUP(B22,Database_Tables!$I$1587:$J$1626,2,FALSE)),FALSE,TRUE)","v":false},{"$f":"IF(ISNA(VLOOKUP(Q22,Database_Tables!$I$1587:$J$1626,2,FALSE)),FALSE,TRUE)","v":false},null,null,null,null,"","","","","","",null,null,null,null,null,null,null,null,null,0," "]
[0,null,null,null,null,null,null,null,null,null,null,null,null,null,{"$f":"IF(ISNA(VLOOKUP(B23,Database_Tables!$I$1587:$J$1626,2,FALSE)),FALSE,TRUE)","v":false},{"$f":"IF(ISNA(VLOOKUP(Q23,Database_Tables!$I$1587:$J$1626,2,FALSE)),FALSE,TRUE)","v":false},null,null,null,null,"","","","","","",null,null,null,null,null,null,null,null,null,0," "]
[0,null,null,null,null,null,null,null,null,null,null,null,null,null,{"$f":"IF(ISNA(VLOOKUP(B24,Database_Tables!$I$1587:$J$1626,2,FALSE)),FALSE,TRUE)","v":false},{"$f":"IF(ISNA(VLOOKUP(Q24,Database_Tables!$I$1587:$J$1626,2,FALSE)),FALSE,TRUE)","v":false},null,null,null,null,"","","","","","",null,null,null,null,null,null,null,null,null,0," "]
[0,null,null,null,null,null,null,null,null,null,null,null,null,null,{"$f":"IF(ISNA(VLOOKUP(B25,Database_Tables!$I$1587:$J$1626,2,FALSE)),FALSE,TRUE)","v":false},{"$f":"IF(ISNA(VLOOKUP(Q25,Database_Tables!$I$1587:$J$1626,2,FALSE)),FALSE,TRUE)","v":false},null,null,null,null,"","","","","","",null,null,null,null,null,null,null,null,null,0," "]
[null,"Energy percentage not accounted for in a practice standard",{"$f":"IF(ROUND(C32,2)=0,0,ROUND(1-IF(ISBLANK($B$16),0,C16)-IF(ISBLANK($B$17),0,C17)-IF(ISBLANK($B$18),0,C18)-IF(ISBLANK($B$19),0,C19)-IF(ISBLANK($B$20),0,C20)-IF(ISBLANK($B$21),0,C21)-IF(ISBLANK($B$22),0,C22)-IF(ISBLANK($B$23),0,C23)-IF(ISBLANK($B$24),0,C24)-IF(ISBLANK($B$25),0,C25),2))","v":0},0,0,0,{"$f":"IF(ROUND(G32,2)=0,0,ROUND(1-IF(ISBLANK($B$16),0,G16)-IF(ISBLANK($B$17),0,G17)-IF(ISBLANK($B$18),0,G18)-IF(ISBLANK($B$19),0,G19)-IF(ISBLANK($B$20),0,G20)-IF(ISBLANK($B$21),0,G21)-IF(ISBLANK($B$22),0,G22)-IF(ISBLANK($B$23),0,G23)-IF(ISBLANK($B$24),0,G24)-IF(ISBLANK($B$25),0,G25),2))","v":0},0,{"$f":"IF(ROUND(I32,5)=0,0,ROUND(1-IF(ISBLANK($B$16),0,I16)-IF(ISBLANK($B$17),0,I17)-IF(ISBLANK($B$18),0,I18)-IF(ISBLANK($B$19),0,I19)-IF(ISBLANK($B$20),0,I20)-IF(ISBLANK($B$21),0,I21)-IF(ISBLANK($B$22),0,I22)-IF(ISBLANK($B$23),0,I23)-IF(ISBLANK($B$24),0,I24)-IF(ISBLANK($B$25),0,I25),2))","v":0},{"$f":"IF(ROUND(J32,2)=0,0,ROUND(1-IF(ISBLANK($B$16),0,J16)-IF(ISBLANK($B$17),0,J17)-IF(ISBLANK($B$18),0,J18)-IF(ISBLANK($B$19),0,J19)-IF(ISBLANK($B$20),0,J20)-IF(ISBLANK($B$21),0,J21)-IF(ISBLANK($B$22),0,J22)-IF(ISBLANK($B$23),0,J23)-IF(ISBLANK($B$24),0,J24)-IF(ISBLANK($B$25),0,J25),2))","v":0},{"$f":"IF(ROUND(K32,2)=0,0,ROUND(1-IF(ISBLANK($B$16),0,K16)-IF(ISBLANK($B$17),0,K17)-IF(ISBLANK($B$18),0,K18)-IF(ISBLANK($B$19),0,K19)-IF(ISBLANK($B$20),0,K20)-IF(ISBLANK($B$21),0,K21)-IF(ISBLANK($B$22),0,K22)-IF(ISBLANK($B$23),0,K23)-IF(ISBLANK($B$24),0,K24)-IF(ISBLANK($B$25),0,K25),2))","v":0},{"$f":"IF(ROUND(L32,2)=0,0,ROUND(1-IF(ISBLANK($B$16),0,L16)-IF(ISBLANK($B$17),0,L17)-IF(ISBLANK($B$18),0,L18)-IF(ISBLANK($B$19),0,L19)-IF(ISBLANK($B$20),0,L20)-IF(ISBLANK($B$21),0,L21)-IF(ISBLANK($B$22),0,L22)-IF(ISBLANK($B$23),0,L23)-IF(ISBLANK($B$24),0,L24)-IF(ISBLANK($B$25),0,L25),2))","v":0},{"$f":"IF(ROUND(M32,2)=0,0,ROUND(1-IF(ISBLANK($B$16),0,M16)-IF(ISBLANK($B$17),0,M17)-IF(ISBLANK($B$18),0,M18)-IF(ISBLANK($B$19),0,M19)-IF(ISBLANK($B$20),0,M20)-IF(ISBLANK($B$21),0,M21)-IF(ISBLANK($B$22),0,M22)-IF(ISBLANK($B$23),0,M23)-IF(ISBLANK($B$24),0,M24)-IF(ISBLANK($B$25),0,M25),2))","v":0},{"$f":"IF(ROUND(N32,2)=0,0,ROUND(1-IF(ISBLANK($B$16),0,N16)-IF(ISBLANK($B$17),0,N17)-IF(ISBLANK($B$18),0,N18)-IF(ISBLANK($B$19),0,N19)-IF(ISBLANK($B$20),0,N20)-IF(ISBLANK($B$21),0,N21)-IF(ISBLANK($B$22),0,N22)-IF(ISBLANK($B$23),0,N23)-IF(ISBLANK($B$24),0,N24)-IF(ISBLANK($B$25),0,N25),2))","v":0},{"$f":"IF(ISNA(VLOOKUP(B26,Database_Tables!$I$1587:$J$1626,2,FALSE)),FALSE,TRUE)","v":false},{"$f":"IF(ISNA(VLOOKUP(Q26,Database_Tables!$I$1587:$J$1626,2,FALSE)),FALSE,TRUE)","v":false},null,null,null,null,"","","","","","",null,null,null,null,null,null,null,null,null,0," "]
[null,null,null,null,null,null,null,null,null,null,null,null,null,null,null,{"$f":"IF(ISNA(VLOOKUP(Q27,Database_Tables!$I$1587:$J$1626,2,FALSE)),FALSE,TRUE)","v":false},null,null,null,null,"","","","","","",null,null,null,null,null,null,null,null,null,0," "]
[null,null,null,null,null,null,null,null,null,null,null,null,null,null,null,{"$f":"IF(ISNA(VLOOKUP(Q28,Database_Tables!$I$1587:$J$1626,2,FALSE)),FALSE,TRUE)","v":false},null,null,null,null,"","","","","","",null,null,null,null,null,null,null,null,null,0," "]
[null,"Energy Accounting","Benchmark - Planned",null,null,null,null,null,null,"Planned - Benchmark",null,null,null,null,null,{"$f":"IF(ISNA(VLOOKUP(Q29,Database_Tables!$I$1587:$J$1626,2,FALSE)),FALSE,TRUE)","v":false},null,null,null,null,"","","","","","",null,null,null,null,null,null,null,null,null,0," "]
[null,null,"Energy Input to the Field",null,null,null,null,null,null,"Energy Harvest",null,null,"Energy Remaining",null,null,{"$f":"IF(ISNA(VLOOKUP(Q30,Database_Tables!$I$1587:$J$1626,2,FALSE)),FALSE,TRUE)","v":false},null,null,null,null,"","","","","","",null,null,null,null,null,null,null,null,null,0," "]
[null,"Energy not accounted for in a practice standard [MMBTU]",{"$f":"IF(ISBLANK(C26),\"\",C26*C$32)","v":0},0,0,0,0,0,0,0,0,0,0,0,null,{"$f":"IF(ISNA(VLOOKUP(Q31,Database_Tables!$I$1587:$J$1626,2,FALSE)),FALSE,TRUE)","v":false},null,null,null,null,"","","","","","",null,null,null,null,null,null,null,null,null,0," "]
[null,"Energy Change (Benchmark vs. Planned) [MMBTU]",{"$f":"-(Intermediate_Calcs!H20-Intermediate_Calcs!Q20)","v":0},{"$f":"-(SUM(Intermediate_Calcs!H21:H25)-SUM(Intermediate_Calcs!Q21:Q25))","v":0},{"$f":"-(SUM(Intermediate_Calcs!H26)-SUM(Intermediate_Calcs!Q26))","v":0},{"$f":"-(SUM(Intermediate_Calcs!H27:H28)-SUM(Intermediate_Calcs!Q27:Q28))","v":0},{"$f":"-(SUM(Intermediate_Calcs!H36:H41)-SUM(Intermediate_Calcs!Q36:Q41))","v":0},{"$f":"-(SUM(Intermediate_Calcs!H30:H35)-SUM(Intermediate_Calcs!Q30:Q35))","v":0},{"$f":"-(Intermediate_Calcs!H29-Intermediate_Calcs!Q29)","v":0},{"$f":"Intermediate_Calcs!Q42-Intermediate_Calcs!H42","v":0},{"$f":"Intermediate_Calcs!Q43-Intermediate_Calcs!H43","v":0},{"$f":"Intermediate_Calcs!Q44-Intermediate_Calcs!H44","v":0},{"$f":"(Intermediate_Calcs!Q8-Intermediate_Calcs!H8)*7500/1000000","v":0},{"$f":"(Intermediate_Calcs!Q14-Intermediate_Calcs!H14)*7500/1000000","v":0},null,{"$f":"IF(ISNA(VLOOKUP(Q32,Database_Tables!$I$1587:$J$1626,2,FALSE)),FALSE,TRUE)","v":false},null,null,null,null,"","","","","","",null,null,null,null,null,null,null,null,null,0," "]
[null,"Energy Change?",{"$f":"IF(ROUND(C32,2)=0,\"No\",\"Yes\")","v":"No"},{"$f":"IF(ROUND(D32,2)=0,\"No\",\"Yes\")","v":"No"},"No","No","No","No",{"$f":"IF(ROUND(I32,5)=0,\"No\",\"Yes\")","v":"No"},{"$f":"IF(ROUND(J32,2)=0,\"No\",\"Yes\")","v":"No"},{"$f":"IF(ROUND(K32,2)=0,\"No\",\"Yes\")","v":"No"},{"$f":"IF(ROUND(L32,2)=0,\"No\",\"Yes\")","v":"No"},{"$f":"IF(ROUND(M32,2)=0,\"No\",\"Yes\")","v":"No"},{"$f":"IF(ROUND(N32,2)=0,\"No\",\"Yes\")","v":"No"},null,{"$f":"IF(ISNA(VLOOKUP(Q33,Database_Tables!$I$1587:$J$1626,2,FALSE)),FALSE,TRUE)","v":false},null,null,null,null,"","","","","","",null,null,null,null,null,null,null,null,null,0," "]
[null,null,null,null,null,null,null,null,null,null,null,null,null,null,null,{"$f":"IF(ISNA(VLOOKUP(Q34,Database_Tables!$I$1587:$J$1626,2,FALSE)),FALSE,TRUE)","v":false},null,null,null,null,"","","","","","",null,null,null,null,null,null,null,null,null,0," "]
[null,null,null,null,null,null,null,null,null,null,null,null,null,null,null,{"$f":"IF(ISNA(VLOOKUP(Q35,Database_Tables!$I$1587:$J$1626,2,FALSE)),FALSE,TRUE)","v":false},null,null,null,null,"","","","","","",null,null,null,null,null,null,null,null,null,0," "]
[null,null,null,null,null,null,null,null,null,null,null,null,null,null,null,{"$f":"IF(ISNA(VLOOKUP(Q36,Database_Tables!$I$1587:$J$1626,2,FALSE)),FALSE,TRUE)","v":false},null,null,null,null,"","","","","","",null,null,null,null,null,null,null,null,null,0," "]
[]
[]
[]
[null,"NRCS - CROPLAND ENERGY TOOL"]
[]
[null,"PRACTICE STANDARDS INPUT WORKSHEET - FUEL TYPE USED"]
[null,null,null,null,null,null,null,null,null,null,null,"Date: ",{"$f":"Input!E17","v":"00:00:00"}]
[null,{"$f":"\"Landowner: \"&Input!E14","v":"Landowner: "},null,null,null,"Field Area: ",{"$f":"Input!J14","v":0},null,null,null,null,"Latitude:",{"$f":"IF(Input!E18=\"\",\"\",Input!E18)","v":""}]
[null,{"$f":"IF(Input!E15=\"\",\"Field Location: \",IF(OR(Input!E15=\"American Samoa\",Input!E15=\"District of Columbia\",Input!E15=\"Puerto Rico\",Input!E15=\"Virgin Islands\",Input!E15=\"Guam\"),\"Field Location: \"&Input!E15,\"Field Location: \"&Input!E16&IF(Input!E15=\"Alaska\",\" Boro., \",\" Co., \")&VLOOKUP(Input!E15,Input!C208:D262,2,FALSE)))","v":"Field Location: "},null,null,null,"Field ID: ",{"$f":"IF(Input!E15=\"\",\"\",Input!E15)","v":""},null,null,null,null,"Longitude:",{"$f":"IF(Input!E19=\"\",\"\",Input!E19)","v":""}]
[]
[]
[null,"Practice Standards","Fuel Types Used",null,null,null,null,null,null,null,"Other Energy Input"]
[null,null,"Harvest",null,"Field",null,"Irrigation",null,"Other ",null,"Agri-","Soil",null,"Labor"]
[null,null,"Operations",null,"Operations",null,"Delivery",null,"Delivery",null,"Chemicals","Amendments"]
[null,null,null,null,null,null,"Energy",null,"Energy",null,"Fert."]
[null,{"$f":"IF(ISBLANK(B16),\"\",B16)","v":"431 Above Ground Multi-Outlet Pipeline"},null,null,null,null,null,null,null,null,"Agrichem","Soil Amendments",null,"Labor",{"$f":"IF(ISNA(VLOOKUP(B16,Database_Tables!$I$1587:$J$1626,2,FALSE)),FALSE,TRUE)","v":false}]
[null,"",null,null,null,null,null,null,null,null,"Agrichem","Soil Amendments",null,"Labor",{"$f":"IF(ISNA(VLOOKUP(B17,Database_Tables!$I$1587:$J$1626,2,FALSE)),FALSE,TRUE)","v":false}]
[null,"",null,null,null,null,null,null,null,null,"Agrichem","Soil Amendments",null,"Labor",{"$f":"IF(ISNA(VLOOKUP(B18,Database_Tables!$I$1587:$J$1626,2,FALSE)),FALSE,TRUE)","v":false}]
[null,"",null,null,null,null,null,null,null,null,"Agrichem","Soil Amendments",null,"Labor",{"$f":"IF(ISNA(VLOOKUP(B19,Database_Tables!$I$1587:$J$1626,2,FALSE)),FALSE,TRUE)","v":false}]
[null,"",null,null,null,null,null,null,null,null,"Agrichem","Soil Amendments",null,"Labor",{"$f":"IF(ISNA(VLOOKUP(B20,Database_Tables!$I$1587:$J$1626,2,FALSE)),FALSE,TRUE)","v":false}]
[null,"",null,null,null,null,null,null,null,null,"Agrichem","Soil Amendments",null,"Labor",{"$f":"IF(ISNA(VLOOKUP(B21,Database_Tables!$I$1587:$J$1626,2,FALSE)),FALSE,TRUE)","v":false}]
[null,"",null,null,null,null,null,null,null,null,"Agrichem","Soil Amendments",null,"Labor",{"$f":"IF(ISNA(VLOOKUP(B22,Database_Tables!$I$1587:$J$1626,2,FALSE)),FALSE,TRUE)","v":false}]
[null,"",null,null,null,null,null,null,null,null,"Agrichem","Soil Amendments",null,"Labor",{"$f":"IF(ISNA(VLOOKUP(B23,Database_Tables!$I$1587:$J$1626,2,FALSE)),FALSE,TRUE)","v":false}]
[null,"",null,null,null,null,null,null,null,null,"Agrichem","Soil Amendments",null,"Labor",{"$f":"IF(ISNA(VLOOKUP(B24,Database_Tables!$I$1587:$J$1626,2,FALSE)),FALSE,TRUE)","v":false}]
[null,"",null,null,null,null,null,null,null,null,"Agrichem","Soil Amendments",null,"Labor",{"$f":"IF(ISNA(VLOOKUP(B25,Database_Tables!$I$1587:$J$1626,2,FALSE)),FALSE,TRUE)","v":false}]
[null,"Energy percentage not accounted for in a practice standard",null,null,null,null,null,null,null,null,"Agrichem","Soil Amendments",null,"Labor",{"$f":"IF(ISNA(VLOOKUP(B26,Database_Tables!$I$1587:$J$1626,2,FALSE)),FALSE,TRUE)","v":false}]
[null,"Note: Default value used for shaded \"Fuel Type Used\" cells is Diesel (i.e. if cell is blank, diesel is used)"]
[]
[]
[]
[]
[]
[]
[]
[]
[]
[]
[]
[]
[]
[1]
[null,"Supporting Table for Percentage Calculations (Q10)","C","B","P","Units","Practice Standard Category"]
[null,"Farming","C = B-P"]
["Farming Crop Yields","Crop Yields [DM lb/ac/yr]",{"$f":"SUM(Intermediate_Calcs!L10:P10)/Intermediate_Calcs!Q19-SUM(Intermediate_Calcs!C10:G10)/Intermediate_Calcs!H19","v":0},{"$f":"SUM(Intermediate_Calcs!C10:G10)/Intermediate_Calcs!H19","v":0},{"$f":"SUM(Intermediate_Calcs!L10:P10)/Intermediate_Calcs!Q19","v":0},"DM lb","Crop Harvest Removed",null,null,1,1]
["Farming Harvest Operation Diesel Use","Harvest Operation Diesel Use [gal/ac/yr]",{"$f":"(Intermediate_Calcs!H20-Intermediate_Calcs!Q20)*1000000/140000","v":0},{"$f":"(Intermediate_Calcs!H20)*1000000/140000","v":0},{"$f":"(Intermediate_Calcs!Q20)*1000000/140000","v":0},"gal","Harvest Operations",null,null,1,1]
["Farming Field Operation Diesel Use","Field Operation Diesel Use [gal/ac/yr]",{"$f":"(SUM(Intermediate_Calcs!H21:H25)-SUM(Intermediate_Calcs!Q21:Q24))*1000000/140000","v":0},{"$f":"(SUM(Intermediate_Calcs!H21:H25))*1000000/140000","v":0},{"$f":"(SUM(Intermediate_Calcs!Q21:Q24))*1000000/140000","v":0},"gal","Field Operations",null,null,1,1]
["Farming Forage Removed","Post Harvest Removed Forage [DM lb/ac/yr]",{"$f":"Intermediate_Calcs!Q12-Intermediate_Calcs!H12","v":0},{"$f":"Intermediate_Calcs!H12","v":0},{"$f":"Intermediate_Calcs!Q12","v":0},"DM lb","Post Harvest Forage Removed",null,null,1,1]
["Farming Grazing Removed","Post Harvest Removed Grazing [DM/lb/ac/yr]",{"$f":"Intermediate_Calcs!Q11-Intermediate_Calcs!H11","v":0},{"$f":"Intermediate_Calcs!H11","v":0},{"$f":"Intermediate_Calcs!Q11","v":0},"DM lb","Post Harvest Grazing",null,null,1,1]
["Farming Labor","Labor [Hrs/ac/yr]",{"$f":"(Intermediate_Calcs!H29-Intermediate_Calcs!Q29)*8*252*1000000/3000/1000","v":0},{"$f":"(Intermediate_Calcs!H29)*8*252*1000000/3000/1000","v":0},{"$f":"(Intermediate_Calcs!Q29)*8*252*1000000/3000/1000","v":0},"DM lb","Labor",null,null,1,1]
["Farming Nitrogen Applied","Nitrogen Applied [lb/ac/yr]",{"$f":"(IF(Input!C61=\"\",0,Input!D61)+IF(Input!C62=\"\",0,Input!D62)+IF(Input!C63=\"\",0,Input!D63)+IF(Input!C64=\"\",0,Input!D64)+IF(Input!C65=\"\",0,Input!D65))/Intermediate_Calcs!H19-(IF(Input!Q61=\"\",0,Input!R61)+IF(Input!Q62=\"\",0,Input!R62)+IF(Input!Q63=\"\",0,Input!R63)+IF(Input!Q64=\"\",0,Input!R64)+IF(Input!Q65=\"\",0,Input!R65))/Intermediate_Calcs!Q19","v":0},{"$f":"(IF(Input!C61=\"\",0,Input!D61)+IF(Input!C62=\"\",0,Input!D62)+IF(Input!C63=\"\",0,Input!D63)+IF(Input!C64=\"\",0,Input!D64)+IF(Input!C65=\"\",0,Input!D65))/Intermediate_Calcs!H19","v":0},{"$f":"(IF(Input!Q61=\"\",0,Input!R61)+IF(Input!Q62=\"\",0,Input!R62)+IF(Input!Q63=\"\",0,Input!R63)+IF(Input!Q64=\"\",0,Input!R64)+IF(Input!Q65=\"\",0,Input!R65))/Intermediate_Calcs!Q19","v":0},"lb","AgriChemicals",null,null,{"$f":"C86*Input!F188/1000000","v":0},{"$f":"SUM(J86:J91)","v":0}]
["Farming Phosphorus Applied","Phosphorus Applied [lb/ac/yr]",{"$f":"(IF(Input!C61=\"\",0,Input!E61)+IF(Input!C62=\"\",0,Input!E62)+IF(Input!C63=\"\",0,Input!E63)+IF(Input!C64=\"\",0,Input!E64)+IF(Input!C65=\"\",0,Input!E65))/Intermediate_Calcs!H19-(IF(Input!Q61=\"\",0,Input!S61)+IF(Input!Q62=\"\",0,Input!S62)+IF(Input!Q63=\"\",0,Input!S63)+IF(Input!Q64=\"\",0,Input!S64)+IF(Input!Q65=\"\",0,Input!S65))/Intermediate_Calcs!Q19","v":0},{"$f":"(IF(Input!C61=\"\",0,Input!E61)+IF(Input!C62=\"\",0,Input!E62)+IF(Input!C63=\"\",0,Input!E63)+IF(Input!C64=\"\",0,Input!E64)+IF(Input!C65=\"\",0,Input!E65))/Intermediate_Calcs!H19","v":0},{"$f":"(IF(Input!Q61=\"\",0,Input!S61)+IF(Input!Q62=\"\",0,Input!S62)+IF(Input!Q63=\"\",0,Input!S63)+IF(Input!Q64=\"\",0,Input!S64)+IF(Input!Q65=\"\",0,Input!S65))/Intermediate_Calcs!Q19","v":0},"lb","AgriChemicals",null,null,{"$f":"C87*Input!F189/1000000","v":0},{"$f":"SUM(J86:J91)","v":0}]
["Farming Potassium Applied","Potassium Applied [lb/ac/yr]",{"$f":"(IF(Input!C61=\"\",0,Input!F61)+IF(Input!C62=\"\",0,Input!F62)+IF(Input!C63=\"\",0,Input!F63)+IF(Input!C64=\"\",0,Input!F64)+IF(Input!C65=\"\",0,Input!F65))/Intermediate_Calcs!$H$19-(IF(Input!Q61=\"\",0,Input!T61)+IF(Input!Q62=\"\",0,Input!T62)+IF(Input!Q63=\"\",0,Input!T63)+IF(Input!Q64=\"\",0,Input!T64)+IF(Input!Q65=\"\",0,Input!T65))/Intermediate_Calcs!$Q$19","v":0},{"$f":"(IF(Input!C61=\"\",0,Input!F61)+IF(Input!C62=\"\",0,Input!F62)+IF(Input!C63=\"\",0,Input!F63)+IF(Input!C64=\"\",0,Input!F64)+IF(Input!C65=\"\",0,Input!F65))/Intermediate_Calcs!$H$19","v":0},{"$f":"(IF(Input!Q61=\"\",0,Input!T61)+IF(Input!Q62=\"\",0,Input!T62)+IF(Input!Q63=\"\",0,Input!T63)+IF(Input!Q64=\"\",0,Input!T64)+IF(Input!Q65=\"\",0,Input!T65))/Intermediate_Calcs!$Q$19","v":0},"lb","AgriChemicals",null,null,{"$f":"C88*Input!F190/1000000","v":0},{"$f":"SUM(J86:J91)","v":0}]
["Farming Sulfur Applied","Sulfur Applied [lb/ac/yr]",{"$f":"(IF(Input!C61=\"\",0,Input!G61)+IF(Input!C62=\"\",0,Input!G62)+IF(Input!C63=\"\",0,Input!G63)+IF(Input!C64=\"\",0,Input!G64)+IF(Input!C65=\"\",0,Input!G65))/Intermediate_Calcs!$H$19-(IF(Input!Q61=\"\",0,Input!U61)+IF(Input!Q62=\"\",0,Input!U62)+IF(Input!Q63=\"\",0,Input!U63)+IF(Input!Q64=\"\",0,Input!U64)+IF(Input!Q65=\"\",0,Input!U65))/Intermediate_Calcs!$Q$19","v":0},{"$f":"(IF(Input!C61=\"\",0,Input!G61)+IF(Input!C62=\"\",0,Input!G62)+IF(Input!C63=\"\",0,Input!G63)+IF(Input!C64=\"\",0,Input!G64)+IF(Input!C65=\"\",0,Input!G65))/Intermediate_Calcs!$H$19","v":0},{"$f":"(IF(Input!Q61=\"\",0,Input!U61)+IF(Input!Q62=\"\",0,Input!U62)+IF(Input!Q63=\"\",0,Input!U63)+IF(Input!Q64=\"\",0,Input!U64)+IF(Input!Q65=\"\",0,Input!U65))/Intermediate_Calcs!$Q$19","v":0},"lb","AgriChemicals",null,null,{"$f":"C89*Input!F191/1000000","v":0},{"$f":"SUM(J86:J91)","v":0}]
["Farming Herbicide Applied","Herbicide Applied [oz/ac/yr]",{"$f":"(IF(Input!C61=\"\",0,Input!H61)+IF(Input!C62=\"\",0,Input!H62)+IF(Input!C63=\"\",0,Input!H63)+IF(Input!C64=\"\",0,Input!H64)+IF(Input!C65=\"\",0,Input!H65))/Intermediate_Calcs!$H$19-(IF(Input!Q61=\"\",0,Input!V61)+IF(Input!Q62=\"\",0,Input!V62)+IF(Input!Q63=\"\",0,Input!V63)+IF(Input!Q64=\"\",0,Input!V64)+IF(Input!Q65=\"\",0,Input!V65))/Intermediate_Calcs!$Q$19","v":0},{"$f":"(IF(Input!C61=\"\",0,Input!H61)+IF(Input!C62=\"\",0,Input!H62)+IF(Input!C63=\"\",0,Input!H63)+IF(Input!C64=\"\",0,Input!H64)+IF(Input!C65=\"\",0,Input!H65))/Intermediate_Calcs!$H$19","v":0},{"$f":"(IF(Input!Q61=\"\",0,Input!V61)+IF(Input!Q62=\"\",0,Input!V62)+IF(Input!Q63=\"\",0,Input!V63)+IF(Input!Q64=\"\",0,Input!V64)+IF(Input!Q65=\"\",0,Input!V65))/Intermediate_Calcs!$Q$19","v":0},"oz","AgriChemicals",null,null,{"$f":"C90*Input!F192/IF(Input!D192=\"oz\",1,16)/1000000","v":0},{"$f":"SUM(J86:J91)","v":0}]
["Farming Pesticide Applied","Pesticide Applied [oz/ac/yr]",{"$f":"(IF(Input!C61=\"\",0,Input!I61)+IF(Input!C62=\"\",0,Input!I62)+IF(Input!C63=\"\",0,Input!I63)+IF(Input!C64=\"\",0,Input!I64)+IF(Input!C65=\"\",0,Input!I65))/Intermediate_Calcs!$H$19-(IF(Input!Q61=\"\",0,Input!W61)+IF(Input!Q62=\"\",0,Input!W62)+IF(Input!Q63=\"\",0,Input!W63)+IF(Input!Q64=\"\",0,Input!W64)+IF(Input!Q65=\"\",0,Input!W65))/Intermediate_Calcs!$Q$19","v":0},{"$f":"(IF(Input!C61=\"\",0,Input!I61)+IF(Input!C62=\"\",0,Input!I62)+IF(Input!C63=\"\",0,Input!I63)+IF(Input!C64=\"\",0,Input!I64)+IF(Input!C65=\"\",0,Input!I65))/Intermediate_Calcs!$H$19","v":0},{"$f":"(IF(Input!Q61=\"\",0,Input!W61)+IF(Input!Q62=\"\",0,Input!W62)+IF(Input!Q63=\"\",0,Input!W63)+IF(Input!Q64=\"\",0,Input!W64)+IF(Input!Q65=\"\",0,Input!W65))/Intermediate_Calcs!$Q$19","v":0},"oz","AgriChemicals",null,null,{"$f":"C91*Input!F193/IF(Input!D193=\"oz\",1,16)/1000000","v":0},{"$f":"SUM(J86:J91)","v":0}]
["Farming Organics Applied","Organics Applied [lb/ac/yr]",{"$f":"(SUM(Intermediate_Calcs!H30:H35)-SUM(Intermediate_Calcs!Q30:Q35))*1000000/7500","v":0},{"$f":"(SUM(Intermediate_Calcs!H30:H35))*1000000/7500","v":0},{"$f":"(SUM(Intermediate_Calcs!Q30:Q35))*1000000/7500","v":0},"lb","Soil Amendments",null,null,1,1]
[null,"Irrigation","C","B","P","Units","Practice Standard Category"]
["Irrigation Gross Applied","Gross Applied [in]1",{"$f":"ROUND((SUM(Intermediate_Calcs!C57:G57)-SUM(Intermediate_Calcs!C62:G62)),2)","v":0},{"$f":"ROUND((SUM(Intermediate_Calcs!C57:G57)),2)","v":0},{"$f":"ROUND((SUM(Intermediate_Calcs!C62:G62)),2)","v":0},"in","Irrigation Delivery Power",null,null,{"$f":"C94/12*43560.1742405*7.48051948052/1000000*Intermediate_Calcs!D84/Intermediate_Calcs!H19","v":{"$error":"#DIV/0!"}},{"$f":"SUM(J94:J97)","v":{"$error":"#DIV/0!"}}]
["Irrigation Operation Pressure","Operating Pressure [psi]",{"$f":"IF(AND(Input!D139,Input!R139),Input!F143-Input!T143,0)","v":0},{"$f":"IF(Input!D139,Input!F143,0)","v":0},{"$f":"IF(Input!R139,Input!T143,0)","v":0},"psi","Irrigation Delivery Power",null,null,{"$f":"C95*Intermediate_Calcs!$D$70*SUM(Intermediate_Calcs!$C$64:$G$64)/970.185026663/Intermediate_Calcs!$D$69/Input!S14/Input!M10","v":{"$error":"#DIV/0!"}},{"$f":"SUM(J94:J97)","v":{"$error":"#DIV/0!"}}]
["Irrigation Pump Plant Efficiency","Pump Plant Efficiency [%]",{"$f":"IF(AND(Input!D139,Input!R139),Input!U143-Input!G143,0)*100","v":0},{"$f":"IF(Input!D139,Input!G143,0)*100","v":0},{"$f":"IF(Input!R139,Input!U143,0)*100","v":0},"%","Irrigation Delivery Power",null,null,{"$f":"IF((Intermediate_Calcs!$E$69-Intermediate_Calcs!$D$69)=0,0,((Intermediate_Calcs!$D$68*Intermediate_Calcs!$D$70*SUM(Intermediate_Calcs!$C$64:$G$64)/970.185026663/Intermediate_Calcs!$D$69/Input!S14/Input!M10)-(Intermediate_Calcs!$D$68*Intermediate_Calcs!$D$70*SUM(Intermediate_Calcs!$C$64:$G$64)/970.185026663/Intermediate_Calcs!$E$69/Input!S14/Input!M10))/(Intermediate_Calcs!$E$69-Intermediate_Calcs!$D$69)*C96/100)","v":0},{"$f":"SUM(J94:J97)","v":{"$error":"#DIV/0!"}}]
["Irrigation Operating Hours","Operating Hours [hrs]",{"$f":"IF(AND(Input!D139,Input!R139),Input!H143-Input!V143,0)","v":0},{"$f":"IF(Input!D139,Input!H143,0)","v":0},{"$f":"IF(Input!R139,Input!V143,0)","v":0},"hrs","Irrigation Delivery Power",null,null,{"$f":"C97*Intermediate_Calcs!$D$68*SUM(Intermediate_Calcs!$C$64:$G$64)/970.185026663/Intermediate_Calcs!$D$69/Input!S14/Input!M10","v":{"$error":"#DIV/0!"}},{"$f":"SUM(J94:J97)","v":{"$error":"#DIV/0!"}}]
[null,"Other Delivery Power 1","C","B","P","Units","Practice Standard Category"]
["Other Del 1 Amount Applied","Amount Applied, [Mgal/field]2",{"$f":"ROUND(SUM(Intermediate_Calcs!C98:G98)/Intermediate_Calcs!H19-SUM(Intermediate_Calcs!C103:G103)/Intermediate_Calcs!Q19,2)","v":0},{"$f":"ROUND(SUM(Intermediate_Calcs!C98:G98)/Intermediate_Calcs!H19,2)","v":0},{"$f":"ROUND(SUM(Intermediate_Calcs!C103:G103)/Intermediate_Calcs!Q19,2)","v":0},"Mgal","Other Delivery Power",null,null,{"$f":"IF(AND(Input!D140,Input!R140),C99*Intermediate_Calcs!$D$120/Input!$J$14,0)","v":0},{"$f":"SUM(J99:J101)","v":0}]
["Other Del 1 Operation Pressure","Operating Pressure [psi]",{"$f":"IF(AND(Input!D140,Input!R140),Input!F144-Input!T144,0)","v":0},{"$f":"IF(Input!D140,Input!F144,0)","v":0},{"$f":"IF(Input!R140,Input!T144,0)","v":0},"psi","Other Delivery Power",null,null,{"$f":"IF(AND(Input!D140,Input!R140),C100*SUM(Intermediate_Calcs!$C$103:$G$103)/40.4244796986/Intermediate_Calcs!$D$108/Input!S14/Input!M10,0)","v":0},{"$f":"SUM(J99:J101)","v":0}]
["Other Del 1 Pump Plant Efficiency","Delivery/Pump Plant Efficiency [%]",{"$f":"IF(AND(Input!D140,Input!R140),Input!U144-Input!G144,0)*100","v":0},{"$f":"IF(Input!D140,Input!G144,0)*100","v":0},{"$f":"IF(Input!R140,Input!U144,0)*100","v":0},"%","Other Delivery Power",null,null,{"$f":"IF(AND(Input!D140,Input!R140),((Intermediate_Calcs!$D$107*SUM(Intermediate_Calcs!$C$103:$G$103)/40.4244796986/Intermediate_Calcs!$D$108/Input!S14/Input!M10)-(Intermediate_Calcs!$D$107*SUM(Intermediate_Calcs!$C$103:$G$103)/40.4244796986/Intermediate_Calcs!$E$108/Input!S14/Input!M10))/(Intermediate_Calcs!$E$108-Intermediate_Calcs!$D$108)*C101/100,0)","v":0},{"$f":"SUM(J99:J101)","v":0}]
[null,"Other Delivery Power 2","C","B","P","Units","Practice Standard Category"]
["Other Del 2 Amount Applied","Amount Applied, [Mgal/field]2",{"$f":"ROUND(SUM(Intermediate_Calcs!C134:G134)/Intermediate_Calcs!H19-SUM(Intermediate_Calcs!C139:G139)/Intermediate_Calcs!Q19,2)","v":0},{"$f":"ROUND(SUM(Intermediate_Calcs!C134:G134)/Intermediate_Calcs!H19,2)","v":0},{"$f":"ROUND(SUM(Intermediate_Calcs!C139:G139)/Intermediate_Calcs!Q19,2)","v":0},"Mgal","Other Delivery Power",null,null,{"$f":"IF(AND(Input!D141,Input!R141),C103*Intermediate_Calcs!$D$156/Input!$J$14,0)","v":0},{"$f":"SUM(J103:J105)","v":0}]
["Other Del 2 Operation Pressure","Operating Pressure [psi]",{"$f":"IF(AND(Input!D141,Input!R141),Input!F145-Input!T145,0)","v":0},{"$f":"IF(Input!D141,Input!F145,0)","v":0},{"$f":"IF(Input!R141,Input!T145,0)","v":0},"psi","Other Delivery Power",null,null,{"$f":"IF(AND(Input!D141,Input!R141),C104*SUM(Intermediate_Calcs!$C$139:$G$139)/40.4244796986/Intermediate_Calcs!$D$144/Input!S14/Input!M10,0)","v":0},{"$f":"SUM(J103:J105)","v":0}]
["Other Del 2 Pump Plant Efficiency","Delivery/Pump Plant Efficiency [%]",{"$f":"IF(AND(Input!D141,Input!R141),Input!U145-Input!G145,0)*100","v":0},{"$f":"IF(Input!D141,Input!G145,0)*100","v":0},{"$f":"IF(Input!R141,Input!U145,0)*100","v":0},"%","Other Delivery Power",null,null,{"$f":"IF(AND(Input!D141,Input!R141),((Intermediate_Calcs!$D$143*SUM(Intermediate_Calcs!$C$139:$G$139)/40.4244796986/Intermediate_Calcs!$D$144/Input!S14/Input!M10)-(Intermediate_Calcs!$D$143*SUM(Intermediate_Calcs!$C$139:$G$139)/40.4244796986/Intermediate_Calcs!$E$144/Input!S14/Input!M10))/(Intermediate_Calcs!$E$144-Intermediate_Calcs!$D$144)*C105/100,0)","v":0},{"$f":"SUM(J103:J105)","v":0}]
[null,"Other Delivery Power 3","C","B","P","Units","Practice Standard Category"]
["Other Del 3 Amount Applied","Amount Applied, [Mgal/field]2",{"$f":"ROUND(SUM(Intermediate_Calcs!C170:G170)/Intermediate_Calcs!H19-SUM(Intermediate_Calcs!C175:G175)/Intermediate_Calcs!Q19,2)","v":0},{"$f":"ROUND(SUM(Intermediate_Calcs!C170:G170)/Intermediate_Calcs!H19,2)","v":0},{"$f":"ROUND(SUM(Intermediate_Calcs!C175:G175)/Intermediate_Calcs!Q19,2)","v":0},"Mgal","Other Delivery Power",null,null,{"$f":"IF(AND(Input!D142,Input!R142),C107*Intermediate_Calcs!$D$192/Input!$J$14,0)","v":0},{"$f":"SUM(J107:J109)","v":0}]
["Other Del 3 Operation Pressure","Operating Pressure [psi]",{"$f":"IF(AND(Input!D142,Input!R142),Input!F146-Input!T146,0)","v":0},{"$f":"IF(Input!D142,Input!F146,0)","v":0},{"$f":"IF(Input!R142,Input!T146,0)","v":0},"psi","Other Delivery Power",null,null,{"$f":"IF(AND(Input!D142,Input!R142),C108*SUM(Intermediate_Calcs!$C$175:$G$175)/40.4244796986/Intermediate_Calcs!$D$180/Input!S14/Input!M10,0)","v":0},{"$f":"SUM(J107:J109)","v":0}]
["Other Del 3 Pump Plant Efficiency","Delivery/Pump Plant Efficiency [%]",{"$f":"IF(AND(Input!D142,Input!R142),Input!U146-Input!G146,0)","v":0},{"$f":"IF(Input!D142,Input!G146,0)","v":0},{"$f":"IF(Input!R142,Input!U146,0)","v":0},"%","Other Delivery Power",null,null,{"$f":"IF(AND(Input!D142,Input!R142),((Intermediate_Calcs!$D$179*SUM(Intermediate_Calcs!$C$175:$G$175)/40.4244796986/Intermediate_Calcs!$D$180/Input!S14/Input!M10)-(Intermediate_Calcs!$D$179*SUM(Intermediate_Calcs!$C$175:$G$175)/40.4244796986/Intermediate_Calcs!$E$180/Input!S14/Input!M10))/(Intermediate_Calcs!$E$180-Intermediate_Calcs!$D$180)*C109/100,0)","v":0},{"$f":"SUM(J107:J109)","v":0}]
[null,"Energy Remain","C","B","P","Units","Practice Standard Category"]
["Energy Remain Rootmass","Rootmass",{"$f":"(Intermediate_Calcs!Q8-Intermediate_Calcs!H8)","v":0},{"$f":"(Intermediate_Calcs!H8)","v":0},{"$f":"(Intermediate_Calcs!Q8)","v":0},"DM lb","Rootmass",null,null,1,1]
["Energy Remain Surface Residue","Surface Residue",{"$f":"(Intermediate_Calcs!Q14-Intermediate_Calcs!H14)","v":0},{"$f":"(Intermediate_Calcs!H14)","v":0},{"$f":"(Intermediate_Calcs!Q14)","v":0},"DM lb","Surface Residue",null,null,1,1]
[]
[]
[]
[]
[]
[]
[]
[]
[]
[]
[]
[]
[]
[]
[]
[]
[]
[]
[]
[]
[]
[]
[]
[]
[]
[]
[]
[null,1]
[]
[null,"Practice Standards","Percent of Enegy Saved"]
[null,null,"MMBTU","[%]",null,"Energy Saved",null,null,"Practice Standard",null,"Practice Standard",null,"Total Energy"]
[null,{"$f":"IF(ISBLANK(B16),\"\",B16)","v":"431 Above Ground Multi-Outlet Pipeline"},{"$f":"IF(ISBLANK(B16),\"\",$C$32*C16+$D$32*D16+$E$32*E16+$F$32*F16+$G$32*G16+$H$32*H16+$I$32*I16+$J$32*J16+$K$32*K16+$L$32*L16+$M$32*M16+$N$32*N16)","v":0},{"$f":"IF(ISBLANK(B16),\"\",C144/Report_Details!$H$39)","v":{"$error":"#DIV/0!"}},null,"Benchmark - Planned",null,null,"Accounted For",null,"Not Accounted",null,"Saved"]
[null,"","",{"$f":"IF(ISBLANK(B17),\"\",C145/Report_Details!$H$39)","v":""},null,"Energy Input to the Field",null,null,{"$f":"M145-K145","v":0},null,{"$f":"C26*C32+D26*D32+E26*E32+F26*F32+G26*G32+H26*H32","v":0},null,{"$f":"SUM(C32:I32)","v":0}]
[null,"","",{"$f":"IF(ISBLANK(B18),\"\",C146/Report_Details!$H$39)","v":""},null,"Engergy Harvest",null,null,{"$f":"M146-K146","v":0},null,{"$f":"J26*J32+K26*K32+L26*L32","v":0},null,{"$f":"SUM(J32:L32)","v":0}]
[null,"","",{"$f":"IF(ISBLANK(B19),\"\",C147/Report_Details!$H$39)","v":""},null,"Energy Residual",null,null,{"$f":"M147-K147","v":0},null,{"$f":"M26*M32+N26*N32","v":0},null,{"$f":"SUM(M32:N32)","v":0}]
[null,"","",{"$f":"IF(ISBLANK(B20),\"\",C148/Report_Details!$H$39)","v":""},null,"Total Energy Saved",null,null,{"$f":"M148-K148","v":0},null,{"$f":"SUM(K145:K147)","v":0},null,{"$f":"SUM(M145:M147)","v":0}]
[null,"","",{"$f":"IF(ISBLANK(B21),\"\",C149/Report_Details!$H$39)","v":""}]
[null,"","",{"$f":"IF(ISBLANK(B22),\"\",C150/Report_Details!$H$39)","v":""}]
[null,"","",{"$f":"IF(ISBLANK(B23),\"\",C151/Report_Details!$H$39)","v":""}]
[null,"","",{"$f":"IF(ISBLANK(B24),\"\",C152/Report_Details!$H$39)","v":""}]
[null,"","",{"$f":"IF(ISBLANK(B25),\"\",C153/Report_Details!$H$39)","v":""}]
[]
[]
[null,null,"Intermediate"]
[null,"Practice Standards","Energy Input",null,"Energy Harvested",null,"Residual"]
[null,null,"MMBTU","[%]","MMBTU","[%]","MMBTU","[%]"]
[null,{"$f":"IF(ISBLANK(B144),\"\",B144)","v":"431 Above Ground Multi-Outlet Pipeline"},{"$f":"$C$32*C16+$D$32*D16+$E$32*E16+$F$32*F16+$G$32*G16+$H$32*H16+$I$32*I16","v":0},{"$f":"C159/SUM($C$32:$H$32)","v":{"$error":"#DIV/0!"}},{"$f":"$J$32*J16+$K$32*K16+$L$32*L16","v":0},{"$f":"E159/SUM($J$32:$L$32)","v":{"$error":"#DIV/0!"}},{"$f":"$M$32*M16+$N$32*N16","v":0},{"$f":"G159/SUM($M$32:$N$32)","v":{"$error":"#DIV/0!"}}]
[null,{"$f":"IF(ISBLANK(B145),\"\",B145)","v":""},0,{"$error":"#DIV/0!"},0,{"$error":"#DIV/0!"},0,{"$error":"#DIV/0!"}]
[null,{"$f":"IF(ISBLANK(B146),\"\",B146)","v":""},0,{"$error":"#DIV/0!"},0,{"$error":"#DIV/0!"},0,{"$error":"#DIV/0!"}]
[null,{"$f":"IF(ISBLANK(B147),\"\",B147)","v":""},0,{"$error":"#DIV/0!"},0,{"$error":"#DIV/0!"},0,{"$error":"#DIV/0!"}]
[null,null,0,{"$error":"#DIV/0!"},0,{"$error":"#DIV/0!"},0,{"$error":"#DIV/0!"}]
[null,null,0,{"$error":"#DIV/0!"},0,{"$error":"#DIV/0!"},0,{"$error":"#DIV/0!"}]
[null,null,0,{"$error":"#DIV/0!"},0,{"$error":"#DIV/0!"},0,{"$error":"#DIV/0!"}]
[null,null,0,{"$error":"#DIV/0!"},0,{"$error":"#DIV/0!"},0,{"$error":"#DIV/0!"}]
[null,null,0,{"$error":"#DIV/0!"},0,{"$error":"#DIV/0!"},0,{"$error":"#DIV/0!"}]

{"sheet":"Report_PS","index":10,"n_rows":70,"n_cols":15,"rows_kept":70,"cut":false,"hidden":true,"merged":[[42,12,42,13],[1,1,1,12],[3,1,3,12],[4,12,4,13],[39,1,39,12],[41,1,41,12],[47,2,47,3],[63,2,63,3],[59,2,59,3],[60,2,60,3],[50,4,50,5],[51,4,51,5],[54,4,54,5],[55,4,55,5],[56,4,56,5],[57,4,57,5],[58,4,58,5],[59,4,59,5],[60,4,60,5],[52,2,52,3],[53,2,53,3],[54,2,54,3],[55,2,55,3],[56,2,56,3],[59,6,59,7],[50,6,50,7],[51,6,51,7],[52,6,52,7],[50,2,50,3],[51,2,51,3],[54,6,54,7],[48,4,48,5],[49,4,49,5],[48,6,48,7],[49,6,49,7],[57,2,57,3],[58,2,58,3],[48,2,48,3],[49,2,49,3],[48,8,48,9],[49,8,49,9],[48,10,48,11],[49,10,49,11],[54,8,54,9],[55,8,55,9],[56,8,56,9],[57,8,57,9],[58,8,58,9],[54,10,54,11],[55,10,55,11],[64,2,64,3],[64,4,64,5],[64,6,64,7],[64,8,64,9],[64,10,64,11],[64,12,64,13],[49,12,49,13],[52,4,52,5],[53,4,53,5],[50,8,50,9],[51,8,51,9],[52,8,52,9],[53,8,53,9],[50,10,50,11],[51,10,51,11],[52,10,52,11],[53,10,53,11],[50,12,50,13],[51,12,51,13],[52,12,52,13],[53,6,53,7],[53,12,53,13],[60,6,60,7],[59,8,59,9],[65,4,65,5],[65,6,65,7],[65,8,65,9],[65,10,65,11],[68,10,68,11],[66,12,66,13],[67,12,67,13],[54,12,54,13],[55,12,55,13],[56,12,56,13],[57,12,57,13],[56,10,56,11],[57,10,57,11],[58,10,58,11],[59,10,59,11],[60,10,60,11],[58,12,58,13],[59,12,59,13],[60,12,60,13],[60,8,60,9],[55,6,55,7],[56,6,56,7],[57,6,57,7],[58,6,58,7],[68,12,68,13],[69,2,69,3],[69,4,69,5],[69,6,69,7],[69,8,69,9],[69,10,69,11],[69,12,69,13],[48,12,48,13],[65,12,65,13],[66,2,66,3],[67,2,67,3],[68,2,68,3],[66,4,66,5],[67,4,67,5],[68,4,68,5],[66,6,66,7],[67,6,67,7],[68,6,68,7],[66,8,66,9],[67,8,67,9],[68,8,68,9],[66,10,66,11],[67,10,67,11],[65,2,65,3]]}
[]
[null,"NRCS - CROPLAND ENERGY TOOL"]
[]
[null,"ENERGY SUMMARY BY PRACTICE STANDARD"]
[null,null,null,null,null,null,null,null,null,null,null,"Date: ",{"$f":"IF(Input!E17=\"\",\"\",Input!E17)","v":""}]
[null,{"$f":"\"Landowner: \"&Input!E14","v":"Landowner: "},null,null,null,"Field Area: ",{"$f":"IF(Input!J14=\"\",\"\",Input!J14)","v":""},null,null,null,null,"Latitude:",{"$f":"IF(Input!E18=\"\",\"\",Input!E18)","v":""}]
[null,{"$f":"IF(Input!E15=\"\",\"Field Location: \",IF(OR(Input!E15=\"American Samoa\",Input!E15=\"District of Columbia\",Input!E15=\"Puerto Rico\",Input!E15=\"Virgin Islands\",Input!E15=\"Guam\"),\"Field Location: \"&Input!E15,\"Field Location: \"&Input!E16&IF(Input!E15=\"Alaska\",\" Boro., \",\" Co., \")&VLOOKUP(Input!E15,Input!C208:D262,2,FALSE)))","v":"Field Location: "},null,null,null,"Field ID: ",{"$f":"IF(Input!J15=\"\",\"\",Input!J15)","v":""},null,null,null,null,"Longitude:",{"$f":"IF(Input!E19=\"\",\"\",Input!E19)","v":""}]
[]
[]
[null,"Energy Change Distribution by Practice"]
[]
[null,"Benchmark Energy [MMBTU]","Energy Input to the Field",null,null,"Energy Harvest",null,null,"Energy Remaining",null,null,"Energy Gain (Loss)"]
[null,null,{"$f":"Report_Details!H25","v":0},null,null,{"$f":"Report_Details!H31","v":0},null,null,{"$f":"Report_Details!H36","v":0},null,null,{"$f":"F13+I13-C13","v":0}]
[null,"Practice Standard","Number","Percent",null,"Number","Percent",null,"Number","Percent",null,"Number","Percent"]
[null,null,"[MMBTU]","Change","Total","[MMBTU]","Change","Total","[MMBTU]","Change","Total","[MMBTU]","Change","Total"]
[null,{"$f":"Input_PS!B16","v":"431 Above Ground Multi-Outlet Pipeline"},{"$f":"IF(B16=0,0,SUM(PS_Intermediate!C16:I16))","v":0},{"$f":"IF($C$27=0,\"\",C16/C$27)","v":""},{"$f":"IF(C13=0,\"\",C16/C$13)","v":""},{"$f":"IF(B16=0,0,SUM(PS_Intermediate!J16:L16))","v":0},{"$f":"IF($F$27=0,\"\",F16/F$27)","v":""},{"$f":"IF(F13=0,\"\",F16/F$13)","v":""},{"$f":"IF(B16=0,0,SUM(PS_Intermediate!M16:N16))","v":0},{"$f":"IF($I$27=0,\"\",I16/I$27)","v":""},{"$f":"IF(I13=0,\"\",I16/I$13)","v":""},{"$f":"F16+I16-C16","v":0},{"$f":"IF($L$27=0,\"\",L16/L$27)","v":""},{"$f":"IF(L13=0,\"\",L16/L$13)","v":""},{"$f":"IF(ISNA(VLOOKUP(B16,Database_Tables!$I$1587:$J$1626,2,FALSE)),FALSE,TRUE)","v":false}]
[null,{"$f":"Input_PS!B17","v":0},{"$f":"IF(B17=0,0,SUM(PS_Intermediate!C17:I17))","v":0},"",{"$f":"IF(C13=0,\"\",C17/C$13)","v":""},{"$f":"IF(B17=0,0,SUM(PS_Intermediate!J17:L17))","v":0},"",{"$f":"IF(F13=0,\"\",F17/F$13)","v":""},{"$f":"IF(B17=0,0,SUM(PS_Intermediate!M17:N17))","v":0},"",{"$f":"IF(I13=0,\"\",I17/I$13)","v":""},{"$f":"F17+I17-C17","v":0},"",{"$f":"IF(L13=0,\"\",L17/L$13)","v":""},{"$f":"IF(ISNA(VLOOKUP(B17,Database_Tables!$I$1587:$J$1626,2,FALSE)),FALSE,TRUE)","v":false}]
[null,{"$f":"Input_PS!B18","v":0},{"$f":"IF(B18=0,0,SUM(PS_Intermediate!C18:I18))","v":0},"",{"$f":"IF(C13=0,\"\",C18/C$13)","v":""},{"$f":"IF(B18=0,0,SUM(PS_Intermediate!J18:L18))","v":0},"",{"$f":"IF(F13=0,\"\",F18/F$13)","v":""},{"$f":"IF(B18=0,0,SUM(PS_Intermediate!M18:N18))","v":0},"",{"$f":"IF(I13=0,\"\",I18/I$13)","v":""},0,"",{"$f":"IF(L13=0,\"\",L18/L$13)","v":""},{"$f":"IF(ISNA(VLOOKUP(B18,Database_Tables!$I$1587:$J$1626,2,FALSE)),FALSE,TRUE)","v":false}]
[null,{"$f":"Input_PS!B19","v":0},{"$f":"IF(B19=0,0,SUM(PS_Intermediate!C19:I19))","v":0},"",{"$f":"IF(C13=0,\"\",C19/C$13)","v":""},{"$f":"IF(B19=0,0,SUM(PS_Intermediate!J19:L19))","v":0},"",{"$f":"IF(F13=0,\"\",F19/F$13)","v":""},{"$f":"IF(B19=0,0,SUM(PS_Intermediate!M19:N19))","v":0},"",{"$f":"IF(I13=0,\"\",I19/I$13)","v":""},0,"",{"$f":"IF(L13=0,\"\",L19/L$13)","v":""},{"$f":"IF(ISNA(VLOOKUP(B19,Database_Tables!$I$1587:$J$1626,2,FALSE)),FALSE,TRUE)","v":false}]
[null,{"$f":"Input_PS!B20","v":0},{"$f":"IF(B20=0,0,SUM(PS_Intermediate!C20:I20))","v":0},"",{"$f":"IF(C13=0,\"\",C20/C$13)","v":""},{"$f":"IF(B20=0,0,SUM(PS_Intermediate!J20:L20))","v":0},"",{"$f":"IF(F13=0,\"\",F20/F$13)","v":""},{"$f":"IF(B20=0,0,SUM(PS_Intermediate!M20:N20))","v":0},"",{"$f":"IF(I13=0,\"\",I20/I$13)","v":""},0,"",{"$f":"IF(L13=0,\"\",L20/L$13)","v":""},{"$f":"IF(ISNA(VLOOKUP(B20,Database_Tables!$I$1587:$J$1626,2,FALSE)),FALSE,TRUE)","v":false}]
[null,{"$f":"Input_PS!B21","v":0},{"$f":"IF(B21=0,0,SUM(PS_Intermediate!C21:I21))","v":0},"",{"$f":"IF(C13=0,\"\",C21/C$13)","v":""},{"$f":"IF(B21=0,0,SUM(PS_Intermediate!J21:L21))","v":0},"",{"$f":"IF(F13=0,\"\",F21/F$13)","v":""},{"$f":"IF(B21=0,0,SUM(PS_Intermediate!M21:N21))","v":0},"",{"$f":"IF(I13=0,\"\",I21/I$13)","v":""},0,"",{"$f":"IF(L13=0,\"\",L21/L$13)","v":""},{"$f":"IF(ISNA(VLOOKUP(B21,Database_Tables!$I$1587:$J$1626,2,FALSE)),FALSE,TRUE)","v":false}]
[null,{"$f":"Input_PS!B22","v":0},{"$f":"IF(B22=0,0,SUM(PS_Intermediate!C22:I22))","v":0},"",{"$f":"IF(C13=0,\"\",C22/C$13)","v":""},{"$f":"IF(B22=0,0,SUM(PS_Intermediate!J22:L22))","v":0},"",{"$f":"IF(F13=0,\"\",F22/F$13)","v":""},{"$f":"IF(B22=0,0,SUM(PS_Intermediate!M22:N22))","v":0},"",{"$f":"IF(I13=0,\"\",I22/I$13)","v":""},0,"",{"$f":"IF(L13=0,\"\",L22/L$13)","v":""},{"$f":"IF(ISNA(VLOOKUP(B22,Database_Tables!$I$1587:$J$1626,2,FALSE)),FALSE,TRUE)","v":false}]
[null,{"$f":"Input_PS!B23","v":0},{"$f":"IF(B23=0,0,SUM(PS_Intermediate!C23:I23))","v":0},"",{"$f":"IF(C13=0,\"\",C23/C$13)","v":""},{"$f":"IF(B23=0,0,SUM(PS_Intermediate!J23:L23))","v":0},"",{"$f":"IF(F13=0,\"\",F23/F$13)","v":""},{"$f":"IF(B23=0,0,SUM(PS_Intermediate!M23:N23))","v":0},"",{"$f":"IF(I13=0,\"\",I23/I$13)","v":""},0,"",{"$f":"IF(L13=0,\"\",L23/L$13)","v":""},{"$f":"IF(ISNA(VLOOKUP(B23,Database_Tables!$I$1587:$J$1626,2,FALSE)),FALSE,TRUE)","v":false}]
[null,{"$f":"Input_PS!B24","v":0},{"$f":"IF(B24=0,0,SUM(PS_Intermediate!C24:I24))","v":0},"",{"$f":"IF(C13=0,\"\",C24/C$13)","v":""},{"$f":"IF(B24=0,0,SUM(PS_Intermediate!J24:L24))","v":0},"",{"$f":"IF(F13=0,\"\",F24/F$13)","v":""},{"$f":"IF(B24=0,0,SUM(PS_Intermediate!M24:N24))","v":0},"",{"$f":"IF(I13=0,\"\",I24/I$13)","v":""},0,"",{"$f":"IF(L13=0,\"\",L24/L$13)","v":""},{"$f":"IF(ISNA(VLOOKUP(B24,Database_Tables!$I$1587:$J$1626,2,FALSE)),FALSE,TRUE)","v":false}]
[null,{"$f":"Input_PS!B25","v":0},{"$f":"IF(B25=0,0,SUM(PS_Intermediate!C25:I25))","v":0},"",{"$f":"IF(C13=0,\"\",C25/C$13)","v":""},{"$f":"IF(B25=0,0,SUM(PS_Intermediate!J25:L25))","v":0},"",{"$f":"IF(F13=0,\"\",F25/F$13)","v":""},{"$f":"IF(B25=0,0,SUM(PS_Intermediate!M25:N25))","v":0},"",{"$f":"IF(I13=0,\"\",I25/I$13)","v":""},0,"",{"$f":"IF(L13=0,\"\",L25/L$13)","v":""},{"$f":"IF(ISNA(VLOOKUP(B25,Database_Tables!$I$1587:$J$1626,2,FALSE)),FALSE,TRUE)","v":false}]
[null,"Energy not accounted for in a practice standard",{"$f":"SUM(PS_Intermediate!C26:I26)","v":0},"",{"$f":"IF(C13=0,\"\",C26/C$13)","v":""},{"$f":"SUM(PS_Intermediate!J26:L26)","v":0},"",{"$f":"IF(F13=0,\"\",F26/F$13)","v":""},{"$f":"SUM(PS_Intermediate!M26:N26)","v":0},"",{"$f":"IF(I13=0,\"\",I26/I$13)","v":""},0,"",{"$f":"IF(L13=0,\"\",L26/L$13)","v":""}]
[null,"Energy Change [MMBTU]",{"$f":"SUM(C16:C26)","v":0},"",{"$f":"IF(C13=0,\"\",C27/C$13)","v":""},{"$f":"SUM(F16:F26)","v":0},"",{"$f":"IF(F13=0,\"\",F27/F$13)","v":""},{"$f":"SUM(I16:I26)","v":0},"",{"$f":"IF(I13=0,\"\",I27/I$13)","v":""},{"$f":"SUM(L16:L26)","v":0},"",{"$f":"IF(L13=0,\"\",L27/L$13)","v":""}]
[null,"Planned Energy [MMBTU]",{"$f":"C13+C27","v":0},null,null,{"$f":"F13+F27","v":0},null,null,{"$f":"I13+I27","v":0},null,null,{"$f":"L13+L27","v":0}]
[]
[]
[]
[]
[]
[]
[]
[]
[]
[]
[]
[null,"NRCS - CROPLAND ENERGY TOOL"]
[]
[null,"GREENHOUSE GAS CHANGE BY PRACTICE STANDARD"]
[null,null,null,null,null,null,null,null,null,null,null,"Date: ",{"$f":"IF(Input!E17=\"\",\"\",Input!E17)","v":""}]
[null,{"$f":"\"Landowner: \"&Input!E14","v":"Landowner: "},null,null,null,"Field Area: ",{"$f":"IF(Input!J14=\"\",\"\",Input!J14)","v":""},null,null,null,null,"Latitude:",{"$f":"IF(Input!E18=\"\",\"\",Input!E18)","v":""}]
[null,{"$f":"IF(Input!E15=\"\",\"Field Location: \",IF(OR(Input!E15=\"American Samoa\",Input!E15=\"District of Columbia\",Input!E15=\"Puerto Rico\",Input!E15=\"Virgin Islands\",Input!E15=\"Guam\"),\"Field Location: \"&Input!E15,\"Field Location: \"&Input!E16&IF(Input!E15=\"Alaska\",\" Boro., \",\" Co., \")&VLOOKUP(Input!E15,Input!C208:D262,2,FALSE)))","v":"Field Location: "},null,null,null,"Field ID: ",{"$f":"IF(Input!E15=\"\",\"\",Input!E15)","v":""},null,null,null,null,"Longitude:",{"$f":"IF(Input!E19=\"\",\"\",Input!E19)","v":""}]
[]
[]
[null,"Total Field","Energy",null,"Reduced Greenhouse Gas Emissions"]
[null,"Practice Standard","Savings",null,"CO2",null,"N2O",null,"CH4",null,"SO2",null,"NOx"]
[null,null,"[MMBTU]",null,"[lb]",null,"[lb]",null,"[lb]",null,"[lb]",null,"[lb]"]
[null,{"$f":"Input_PS!B16","v":"431 Above Ground Multi-Outlet Pipeline"},{"$f":"IF($B$48=\"Per Acre Inputs\",-1,-1*Input!$J$14)*IF(B51=0,0,SUM(PS_Intermediate!C16:I16))*IF(C50=\"[MBTU]\",1000,1)","v":0},null,{"$f":"IF($B$48=\"Per Acre Inputs\",-1,-1*Input!$J$14)*(IF(AND(Input_PS!C$33=\"Yes\",NOT(ISBLANK(Input_PS!$B16)),Input_PS!C16>0),PS_Intermediate!C16,0)/IF(Input_PS!C52=\"\",VLOOKUP(\"Diesel\",Database_Tables!$C$1749:$J$1763,2,FALSE),VLOOKUP(Input_PS!C52,Database_Tables!$C$1749:$J$1763,2,FALSE))*IF(Input_PS!C52=\"\",VLOOKUP(\"Diesel\",Database_Tables!$C$1749:$J$1763,3,FALSE),VLOOKUP(Input_PS!C52,Database_Tables!$C$1749:$J$1763,3,FALSE))+IF(AND(Input_PS!D$33=\"Yes\",NOT(ISBLANK(Input_PS!$B16)),Input_PS!D16>0),PS_Intermediate!D16,0)/IF(Input_PS!E52=\"\",VLOOKUP(\"Diesel\",Database_Tables!$C$1749:$J$1763,2,FALSE),VLOOKUP(Input_PS!E52,Database_Tables!$C$1749:$J$1763,2,FALSE))*IF(Input_PS!E52=\"\",VLOOKUP(\"Diesel\",Database_Tables!$C$1749:$J$1763,3,FALSE),VLOOKUP(Input_PS!E52,Database_Tables!$C$1749:$J$1763,3,FALSE))+IF(AND(Input_PS!E$33=\"Yes\",NOT(ISBLANK(Input_PS!$B16)),Input_PS!E16>0),PS_Intermediate!E16,0)/IF(Input_PS!G52=\"\",VLOOKUP(\"Diesel\",Database_Tables!$C$1749:$J$1763,2,FALSE),VLOOKUP(Input_PS!G52,Database_Tables!$C$1749:$J$1763,2,FALSE))*IF(Input_PS!G52=\"\",VLOOKUP(\"Diesel\",Database_Tables!$C$1749:$J$1763,3,FALSE),VLOOKUP(Input_PS!G52,Database_Tables!$C$1749:$J$1763,3,FALSE))+IF(AND(Input_PS!F$33=\"Yes\",NOT(ISBLANK(Input_PS!$B16)),Input_PS!F16>0),PS_Intermediate!F16,0)/IF(Input_PS!I52=\"\",VLOOKUP(\"Diesel\",Database_Tables!$C$1749:$J$1763,2,FALSE),VLOOKUP(Input_PS!I52,Database_Tables!$C$1749:$J$1763,2,FALSE))*IF(Input_PS!I52=\"\",VLOOKUP(\"Diesel\",Database_Tables!$C$1749:$J$1763,3,FALSE),VLOOKUP(Input_PS!I52,Database_Tables!$C$1749:$J$1763,3,FALSE))+IF(AND(Input_PS!G$33=\"Yes\",NOT(ISBLANK(Input_PS!$B16)),Input_PS!G16>0),PS_Intermediate!G16,0)/IF(Input_PS!K52=\"\",VLOOKUP(Database_Tables!$C$1761,Database_Tables!$C$1749:$J$1763,2,FALSE),VLOOKUP(Input_PS!K52,Database_Tables!$C$1749:$J$1763,2,FALSE))*IF(Input_PS!K52=\"\",VLOOKUP(Database_Tables!$C$1761,Database_Tables!$C$1749:$J$1763,3,FALSE),VLOOKUP(Input_PS!K52,Database_Tables!$C$1749:$J$1763,3,FALSE))+IF(AND(Input_PS!H$33=\"Yes\",NOT(ISBLANK(Input_PS!$B16)),Input_PS!H16>0),PS_Intermediate!H16,0)/IF(Input_PS!L52=\"\",VLOOKUP(Database_Tables!$C$1762,Database_Tables!$C$1749:$J$1763,2,FALSE),VLOOKUP(Input_PS!L52,Database_Tables!$C$1749:$J$1763,2,FALSE))*IF(Input_PS!L52=\"\",VLOOKUP(Database_Tables!$C$1762,Database_Tables!$C$1749:$J$1763,3,FALSE),VLOOKUP(Input_PS!L52,Database_Tables!$C$1749:$J$1763,3,FALSE))+IF(AND(Input_PS!I$33=\"Yes\",NOT(ISBLANK(Input_PS!$B16)),Input_PS!I16>0),PS_Intermediate!I16,0)/IF(Input_PS!N52=\"\",VLOOKUP(Database_Tables!$C$1763,Database_Tables!$C$1749:$J$1763,2,FALSE),VLOOKUP(Input_PS!N52,Database_Tables!$C$1749:$J$1763,2,FALSE))*IF(Input_PS!N52=\"\",VLOOKUP(Database_Tables!$C$1763,Database_Tables!$C$1749:$J$1763,3,FALSE),VLOOKUP(Input_PS!N52,Database_Tables!$C$1749:$J$1763,3,FALSE)))","v":0},null,{"$f":"IF($B$48=\"Per Acre Inputs\",-1,-1*Input!$J$14)*(IF(AND(Input_PS!C$33=\"Yes\",NOT(ISBLANK(Input_PS!$B16)),Input_PS!C16>0),PS_Intermediate!C16,0)/IF(Input_PS!C52=\"\",VLOOKUP(\"Diesel\",Database_Tables!$C$1749:$J$1763,2,FALSE),VLOOKUP(Input_PS!C52,Database_Tables!$C$1749:$J$1763,2,FALSE))*IF(Input_PS!C52=\"\",VLOOKUP(\"Diesel\",Database_Tables!$C$1749:$J$1763,4,FALSE),VLOOKUP(Input_PS!C52,Database_Tables!$C$1749:$J$1763,4,FALSE))+IF(AND(Input_PS!D$33=\"Yes\",NOT(ISBLANK(Input_PS!$B16)),Input_PS!D16>0),PS_Intermediate!D16,0)/IF(Input_PS!E52=\"\",VLOOKUP(\"Diesel\",Database_Tables!$C$1749:$J$1763,2,FALSE),VLOOKUP(Input_PS!E52,Database_Tables!$C$1749:$J$1763,2,FALSE))*IF(Input_PS!E52=\"\",VLOOKUP(\"Diesel\",Database_Tables!$C$1749:$J$1763,4,FALSE),VLOOKUP(Input_PS!E52,Database_Tables!$C$1749:$J$1763,4,FALSE))+IF(AND(Input_PS!E$33=\"Yes\",NOT(ISBLANK(Input_PS!$B16)),Input_PS!E16>0),PS_Intermediate!E16,0)/IF(Input_PS!G52=\"\",VLOOKUP(\"Diesel\",Database_Tables!$C$1749:$J$1763,2,FALSE),VLOOKUP(Input_PS!G52,Database_Tables!$C$1749:$J$1763,2,FALSE))*IF(Input_PS!G52=\"\",VLOOKUP(\"Diesel\",Database_Tables!$C$1749:$J$1763,4,FALSE),VLOOKUP(Input_PS!G52,Database_Tables!$C$1749:$J$1763,4,FALSE))+IF(AND(Input_PS!F$33=\"Yes\",NOT(ISBLANK(Input_PS!$B16)),Input_PS!F16>0),PS_Intermediate!F16,0)/IF(Input_PS!I52=\"\",VLOOKUP(\"Diesel\",Database_Tables!$C$1749:$J$1763,2,FALSE),VLOOKUP(Input_PS!I52,Database_Tables!$C$1749:$J$1763,2,FALSE))*IF(Input_PS!I52=\"\",VLOOKUP(\"Diesel\",Database_Tables!$C$1749:$J$1763,4,FALSE),VLOOKUP(Input_PS!I52,Database_Tables!$C$1749:$J$1763,4,FALSE))+IF(AND(Input_PS!G$33=\"Yes\",NOT(ISBLANK(Input_PS!$B16)),Input_PS!G16>0),PS_Intermediate!G16,0)/IF(Input_PS!K52=\"\",VLOOKUP(Database_Tables!$C$1761,Database_Tables!$C$1749:$J$1763,2,FALSE),VLOOKUP(Input_PS!K52,Database_Tables!$C$1749:$J$1763,2,FALSE))*IF(Input_PS!K52=\"\",VLOOKUP(Database_Tables!$C$1761,Database_Tables!$C$1749:$J$1763,4,FALSE),VLOOKUP(Input_PS!K52,Database_Tables!$C$1749:$J$1763,4,FALSE))+IF(AND(Input_PS!H$33=\"Yes\",NOT(ISBLANK(Input_PS!$B16)),Input_PS!H16>0),PS_Intermediate!H16,0)/IF(Input_PS!L52=\"\",VLOOKUP(Database_Tables!$C$1762,Database_Tables!$C$1749:$J$1763,2,FALSE),VLOOKUP(Input_PS!L52,Database_Tables!$C$1749:$J$1763,2,FALSE))*IF(Input_PS!L52=\"\",VLOOKUP(Database_Tables!$C$1762,Database_Tables!$C$1749:$J$1763,4,FALSE),VLOOKUP(Input_PS!L52,Database_Tables!$C$1749:$J$1763,4,FALSE))+IF(AND(Input_PS!I$33=\"Yes\",NOT(ISBLANK(Input_PS!$B16)),Input_PS!I16>0),PS_Intermediate!I16,0)/IF(Input_PS!N52=\"\",VLOOKUP(Database_Tables!$C$1763,Database_Tables!$C$1749:$J$1763,2,FALSE),VLOOKUP(Input_PS!N52,Database_Tables!$C$1749:$J$1763,2,FALSE))*IF(Input_PS!N52=\"\",VLOOKUP(Database_Tables!$C$1763,Database_Tables!$C$1749:$J$1763,4,FALSE),VLOOKUP(Input_PS!N52,Database_Tables!$C$1749:$J$1763,4,FALSE)))","v":0},null,{"$f":"IF($B$48=\"Per Acre Inputs\",-1,-1*Input!$J$14)*(IF(AND(Input_PS!C$33=\"Yes\",NOT(ISBLANK(Input_PS!$B16)),Input_PS!C16>0),PS_Intermediate!C16,0)/IF(Input_PS!C52=\"\",VLOOKUP(\"Diesel\",Database_Tables!$C$1749:$J$1763,2,FALSE),VLOOKUP(Input_PS!C52,Database_Tables!$C$1749:$J$1763,2,FALSE))*IF(Input_PS!C52=\"\",VLOOKUP(\"Diesel\",Database_Tables!$C$1749:$J$1763,5,FALSE),VLOOKUP(Input_PS!C52,Database_Tables!$C$1749:$J$1763,5,FALSE))+IF(AND(Input_PS!D$33=\"Yes\",NOT(ISBLANK(Input_PS!$B16)),Input_PS!D16>0),PS_Intermediate!D16,0)/IF(Input_PS!E52=\"\",VLOOKUP(\"Diesel\",Database_Tables!$C$1749:$J$1763,2,FALSE),VLOOKUP(Input_PS!E52,Database_Tables!$C$1749:$J$1763,2,FALSE))*IF(Input_PS!E52=\"\",VLOOKUP(\"Diesel\",Database_Tables!$C$1749:$J$1763,5,FALSE),VLOOKUP(Input_PS!E52,Database_Tables!$C$1749:$J$1763,5,FALSE))+IF(AND(Input_PS!E$33=\"Yes\",NOT(ISBLANK(Input_PS!$B16)),Input_PS!E16>0),PS_Intermediate!E16,0)/IF(Input_PS!G52=\"\",VLOOKUP(\"Diesel\",Database_Tables!$C$1749:$J$1763,2,FALSE),VLOOKUP(Input_PS!G52,Database_Tables!$C$1749:$J$1763,2,FALSE))*IF(Input_PS!G52=\"\",VLOOKUP(\"Diesel\",Database_Tables!$C$1749:$J$1763,5,FALSE),VLOOKUP(Input_PS!G52,Database_Tables!$C$1749:$J$1763,5,FALSE))+IF(AND(Input_PS!F$33=\"Yes\",NOT(ISBLANK(Input_PS!$B16)),Input_PS!F16>0),PS_Intermediate!F16,0)/IF(Input_PS!I52=\"\",VLOOKUP(\"Diesel\",Database_Tables!$C$1749:$J$1763,2,FALSE),VLOOKUP(Input_PS!I52,Database_Tables!$C$1749:$J$1763,2,FALSE))*IF(Input_PS!I52=\"\",VLOOKUP(\"Diesel\",Database_Tables!$C$1749:$J$1763,5,FALSE),VLOOKUP(Input_PS!I52,Database_Tables!$C$1749:$J$1763,5,FALSE))+IF(AND(Input_PS!G$33=\"Yes\",NOT(ISBLANK(Input_PS!$B16)),Input_PS!G16>0),PS_Intermediate!G16,0)/IF(Input_PS!K52=\"\",VLOOKUP(Database_Tables!$C$1761,Database_Tables!$C$1749:$J$1763,2,FALSE),VLOOKUP(Input_PS!K52,Database_Tables!$C$1749:$J$1763,2,FALSE))*IF(Input_PS!K52=\"\",VLOOKUP(Database_Tables!$C$1761,Database_Tables!$C$1749:$J$1763,5,FALSE),VLOOKUP(Input_PS!K52,Database_Tables!$C$1749:$J$1763,5,FALSE))+IF(AND(Input_PS!H$33=\"Yes\",NOT(ISBLANK(Input_PS!$B16)),Input_PS!H16>0),PS_Intermediate!H16,0)/IF(Input_PS!L52=\"\",VLOOKUP(Database_Tables!$C$1762,Database_Tables!$C$1749:$J$1763,2,FALSE),VLOOKUP(Input_PS!L52,Database_Tables!$C$1749:$J$1763,2,FALSE))*IF(Input_PS!L52=\"\",VLOOKUP(Database_Tables!$C$1762,Database_Tables!$C$1749:$J$1763,5,FALSE),VLOOKUP(Input_PS!L52,Database_Tables!$C$1749:$J$1763,5,FALSE))+IF(AND(Input_PS!I$33=\"Yes\",NOT(ISBLANK(Input_PS!$B16)),Input_PS!I16>0),PS_Intermediate!I16,0)/IF(Input_PS!N52=\"\",VLOOKUP(Database_Tables!$C$1763,Database_Tables!$C$1749:$J$1763,2,FALSE),VLOOKUP(Input_PS!N52,Database_Tables!$C$1749:$J$1763,2,FALSE))*IF(Input_PS!N52=\"\",VLOOKUP(Database_Tables!$C$1763,Database_Tables!$C$1749:$J$1763,5,FALSE),VLOOKUP(Input_PS!N52,Database_Tables!$C$1749:$J$1763,5,FALSE)))","v":0},null,{"$f":"IF($B$48=\"Per Acre Inputs\",-1,-1*Input!$J$14)*(IF(AND(Input_PS!C$33=\"Yes\",NOT(ISBLANK(Input_PS!$B16)),Input_PS!C16>0),PS_Intermediate!C16,0)/IF(Input_PS!C52=\"\",VLOOKUP(\"Diesel\",Database_Tables!$C$1749:$J$1763,2,FALSE),VLOOKUP(Input_PS!C52,Database_Tables!$C$1749:$J$1763,2,FALSE))*IF(Input_PS!C52=\"\",VLOOKUP(\"Diesel\",Database_Tables!$C$1749:$J$1763,6,FALSE),VLOOKUP(Input_PS!C52,Database_Tables!$C$1749:$J$1763,6,FALSE))+IF(AND(Input_PS!D$33=\"Yes\",NOT(ISBLANK(Input_PS!$B16)),Input_PS!D16>0),PS_Intermediate!D16,0)/IF(Input_PS!E52=\"\",VLOOKUP(\"Diesel\",Database_Tables!$C$1749:$J$1763,2,FALSE),VLOOKUP(Input_PS!E52,Database_Tables!$C$1749:$J$1763,2,FALSE))*IF(Input_PS!E52=\"\",VLOOKUP(\"Diesel\",Database_Tables!$C$1749:$J$1763,6,FALSE),VLOOKUP(Input_PS!E52,Database_Tables!$C$1749:$J$1763,6,FALSE))+IF(AND(Input_PS!E$33=\"Yes\",NOT(ISBLANK(Input_PS!$B16)),Input_PS!E16>0),PS_Intermediate!E16,0)/IF(Input_PS!G52=\"\",VLOOKUP(\"Diesel\",Database_Tables!$C$1749:$J$1763,2,FALSE),VLOOKUP(Input_PS!G52,Database_Tables!$C$1749:$J$1763,2,FALSE))*IF(Input_PS!G52=\"\",VLOOKUP(\"Diesel\",Database_Tables!$C$1749:$J$1763,6,FALSE),VLOOKUP(Input_PS!G52,Database_Tables!$C$1749:$J$1763,6,FALSE))+IF(AND(Input_PS!F$33=\"Yes\",NOT(ISBLANK(Input_PS!$B16)),Input_PS!F16>0),PS_Intermediate!F16,0)/IF(Input_PS!I52=\"\",VLOOKUP(\"Diesel\",Database_Tables!$C$1749:$J$1763,2,FALSE),VLOOKUP(Input_PS!I52,Database_Tables!$C$1749:$J$1763,2,FALSE))*IF(Input_PS!I52=\"\",VLOOKUP(\"Diesel\",Database_Tables!$C$1749:$J$1763,6,FALSE),VLOOKUP(Input_PS!I52,Database_Tables!$C$1749:$J$1763,6,FALSE))+IF(AND(Input_PS!G$33=\"Yes\",NOT(ISBLANK(Input_PS!$B16)),Input_PS!G16>0),PS_Intermediate!G16,0)/IF(Input_PS!K52=\"\",VLOOKUP(Database_Tables!$C$1761,Database_Tables!$C$1749:$J$1763,2,FALSE),VLOOKUP(Input_PS!K52,Database_Tables!$C$1749:$J$1763,2,FALSE))*IF(Input_PS!K52=\"\",VLOOKUP(Database_Tables!$C$1761,Database_Tables!$C$1749:$J$1763,6,FALSE),VLOOKUP(Input_PS!K52,Database_Tables!$C$1749:$J$1763,6,FALSE))+IF(AND(Input_PS!H$33=\"Yes\",NOT(ISBLANK(Input_PS!$B16)),Input_PS!H16>0),PS_Intermediate!H16,0)/IF(Input_PS!L52=\"\",VLOOKUP(Database_Tables!$C$1762,Database_Tables!$C$1749:$J$1763,2,FALSE),VLOOKUP(Input_PS!L52,Database_Tables!$C$1749:$J$1763,2,FALSE))*IF(Input_PS!L52=\"\",VLOOKUP(Database_Tables!$C$1762,Database_Tables!$C$1749:$J$1763,6,FALSE),VLOOKUP(Input_PS!L52,Database_Tables!$C$1749:$J$1763,6,FALSE))+IF(AND(Input_PS!I$33=\"Yes\",NOT(ISBLANK(Input_PS!$B16)),Input_PS!I16>0),PS_Intermediate!I16,0)/IF(Input_PS!N52=\"\",VLOOKUP(Database_Tables!$C$1763,Database_Tables!$C$1749:$J$1763,2,FALSE),VLOOKUP(Input_PS!N52,Database_Tables!$C$1749:$J$1763,2,FALSE))*IF(Input_PS!N52=\"\",VLOOKUP(Database_Tables!$C$1763,Database_Tables!$C$1749:$J$1763,6,FALSE),VLOOKUP(Input_PS!N52,Database_Tables!$C$1749:$J$1763,6,FALSE)))","v":0},null,{"$f":"IF($B$48=\"Per Acre Inputs\",-1,-1*Input!$J$14)*(IF(AND(Input_PS!C$33=\"Yes\",NOT(ISBLANK(Input_PS!$B16)),Input_PS!C16>0),PS_Intermediate!C16,0)/IF(Input_PS!C52=\"\",VLOOKUP(\"Diesel\",Database_Tables!$C$1749:$J$1763,2,FALSE),VLOOKUP(Input_PS!C52,Database_Tables!$C$1749:$J$1763,2,FALSE))*IF(Input_PS!C52=\"\",VLOOKUP(\"Diesel\",Database_Tables!$C$1749:$J$1763,7,FALSE),VLOOKUP(Input_PS!C52,Database_Tables!$C$1749:$J$1763,7,FALSE))+IF(AND(Input_PS!D$33=\"Yes\",NOT(ISBLANK(Input_PS!$B16)),Input_PS!D16>0),PS_Intermediate!D16,0)/IF(Input_PS!E52=\"\",VLOOKUP(\"Diesel\",Database_Tables!$C$1749:$J$1763,2,FALSE),VLOOKUP(Input_PS!E52,Database_Tables!$C$1749:$J$1763,2,FALSE))*IF(Input_PS!E52=\"\",VLOOKUP(\"Diesel\",Database_Tables!$C$1749:$J$1763,7,FALSE),VLOOKUP(Input_PS!E52,Database_Tables!$C$1749:$J$1763,7,FALSE))+IF(AND(Input_PS!E$33=\"Yes\",NOT(ISBLANK(Input_PS!$B16)),Input_PS!E16>0),PS_Intermediate!E16,0)/IF(Input_PS!G52=\"\",VLOOKUP(\"Diesel\",Database_Tables!$C$1749:$J$1763,2,FALSE),VLOOKUP(Input_PS!G52,Database_Tables!$C$1749:$J$1763,2,FALSE))*IF(Input_PS!G52=\"\",VLOOKUP(\"Diesel\",Database_Tables!$C$1749:$J$1763,7,FALSE),VLOOKUP(Input_PS!G52,Database_Tables!$C$1749:$J$1763,7,FALSE))+IF(AND(Input_PS!F$33=\"Yes\",NOT(ISBLANK(Input_PS!$B16)),Input_PS!F16>0),PS_Intermediate!F16,0)/IF(Input_PS!I52=\"\",VLOOKUP(\"Diesel\",Database_Tables!$C$1749:$J$1763,2,FALSE),VLOOKUP(Input_PS!I52,Database_Tables!$C$1749:$J$1763,2,FALSE))*IF(Input_PS!I52=\"\",VLOOKUP(\"Diesel\",Database_Tables!$C$1749:$J$1763,7,FALSE),VLOOKUP(Input_PS!I52,Database_Tables!$C$1749:$J$1763,7,FALSE))+IF(AND(Input_PS!G$33=\"Yes\",NOT(ISBLANK(Input_PS!$B16)),Input_PS!G16>0),PS_Intermediate!G16,0)/IF(Input_PS!K52=\"\",VLOOKUP(Database_Tables!$C$1761,Database_Tables!$C$1749:$J$1763,2,FALSE),VLOOKUP(Input_PS!K52,Database_Tables!$C$1749:$J$1763,2,FALSE))*IF(Input_PS!K52=\"\",VLOOKUP(Database_Tables!$C$1761,Database_Tables!$C$1749:$J$1763,7,FALSE),VLOOKUP(Input_PS!K52,Database_Tables!$C$1749:$J$1763,7,FALSE))+IF(AND(Input_PS!H$33=\"Yes\",NOT(ISBLANK(Input_PS!$B16)),Input_PS!H16>0),PS_Intermediate!H16,0)/IF(Input_PS!L52=\"\",VLOOKUP(Database_Tables!$C$1762,Database_Tables!$C$1749:$J$1763,2,FALSE),VLOOKUP(Input_PS!L52,Database_Tables!$C$1749:$J$1763,2,FALSE))*IF(Input_PS!L52=\"\",VLOOKUP(Database_Tables!$C$1762,Database_Tables!$C$1749:$J$1763,7,FALSE),VLOOKUP(Input_PS!L52,Database_Tables!$C$1749:$J$1763,7,FALSE))+IF(AND(Input_PS!I$33=\"Yes\",NOT(ISBLANK(Input_PS!$B16)),Input_PS!I16>0),PS_Intermediate!I16,0)/IF(Input_PS!N52=\"\",VLOOKUP(Database_Tables!$C$1763,Database_Tables!$C$1749:$J$1763,2,FALSE),VLOOKUP(Input_PS!N52,Database_Tables!$C$1749:$J$1763,2,FALSE))*IF(Input_PS!N52=\"\",VLOOKUP(Database_Tables!$C$1763,Database_Tables!$C$1749:$J$1763,7,FALSE),VLOOKUP(Input_PS!N52,Database_Tables!$C$1749:$J$1763,7,FALSE)))","v":0},null,{"$f":"IF(ISNA(VLOOKUP(B51,Database_Tables!$I$1587:$J$1626,2,FALSE)),FALSE,TRUE)","v":false}]
[null,{"$f":"Input_PS!B17","v":0},{"$f":"IF($B$48=\"Per Acre Inputs\",-1,-1*Input!$J$14)*IF(B52=0,0,SUM(PS_Intermediate!C17:I17))*IF(C50=\"[MBTU]\",1000,1)","v":0},null,{"$f":"IF($B$48=\"Per Acre Inputs\",-1,-1*Input!$J$14)*(IF(AND(Input_PS!C$33=\"Yes\",NOT(ISBLANK(Input_PS!$B17)),Input_PS!C17>0),PS_Intermediate!C17,0)/IF(Input_PS!C53=\"\",VLOOKUP(\"Diesel\",Database_Tables!$C$1749:$J$1763,2,FALSE),VLOOKUP(Input_PS!C53,Database_Tables!$C$1749:$J$1763,2,FALSE))*IF(Input_PS!C53=\"\",VLOOKUP(\"Diesel\",Database_Tables!$C$1749:$J$1763,3,FALSE),VLOOKUP(Input_PS!C53,Database_Tables!$C$1749:$J$1763,3,FALSE))+IF(AND(Input_PS!D$33=\"Yes\",NOT(ISBLANK(Input_PS!$B17)),Input_PS!D17>0),PS_Intermediate!D17,0)/IF(Input_PS!E53=\"\",VLOOKUP(\"Diesel\",Database_Tables!$C$1749:$J$1763,2,FALSE),VLOOKUP(Input_PS!E53,Database_Tables!$C$1749:$J$1763,2,FALSE))*IF(Input_PS!E53=\"\",VLOOKUP(\"Diesel\",Database_Tables!$C$1749:$J$1763,3,FALSE),VLOOKUP(Input_PS!E53,Database_Tables!$C$1749:$J$1763,3,FALSE))+IF(AND(Input_PS!E$33=\"Yes\",NOT(ISBLANK(Input_PS!$B17)),Input_PS!E17>0),PS_Intermediate!E17,0)/IF(Input_PS!G53=\"\",VLOOKUP(\"Diesel\",Database_Tables!$C$1749:$J$1763,2,FALSE),VLOOKUP(Input_PS!G53,Database_Tables!$C$1749:$J$1763,2,FALSE))*IF(Input_PS!G53=\"\",VLOOKUP(\"Diesel\",Database_Tables!$C$1749:$J$1763,3,FALSE),VLOOKUP(Input_PS!G53,Database_Tables!$C$1749:$J$1763,3,FALSE))+IF(AND(Input_PS!F$33=\"Yes\",NOT(ISBLANK(Input_PS!$B17)),Input_PS!F17>0),PS_Intermediate!F17,0)/IF(Input_PS!I53=\"\",VLOOKUP(\"Diesel\",Database_Tables!$C$1749:$J$1763,2,FALSE),VLOOKUP(Input_PS!I53,Database_Tables!$C$1749:$J$1763,2,FALSE))*IF(Input_PS!I53=\"\",VLOOKUP(\"Diesel\",Database_Tables!$C$1749:$J$1763,3,FALSE),VLOOKUP(Input_PS!I53,Database_Tables!$C$1749:$J$1763,3,FALSE))+IF(AND(Input_PS!G$33=\"Yes\",NOT(ISBLANK(Input_PS!$B17)),Input_PS!G17>0),PS_Intermediate!G17,0)/IF(Input_PS!K53=\"\",VLOOKUP(Database_Tables!$C$1761,Database_Tables!$C$1749:$J$1763,2,FALSE),VLOOKUP(Input_PS!K53,Database_Tables!$C$1749:$J$1763,2,FALSE))*IF(Input_PS!K53=\"\",VLOOKUP(Database_Tables!$C$1761,Database_Tables!$C$1749:$J$1763,3,FALSE),VLOOKUP(Input_PS!K53,Database_Tables!$C$1749:$J$1763,3,FALSE))+IF(AND(Input_PS!H$33=\"Yes\",NOT(ISBLANK(Input_PS!$B17)),Input_PS!H17>0),PS_Intermediate!H17,0)/IF(Input_PS!L53=\"\",VLOOKUP(Database_Tables!$C$1762,Database_Tables!$C$1749:$J$1763,2,FALSE),VLOOKUP(Input_PS!L53,Database_Tables!$C$1749:$J$1763,2,FALSE))*IF(Input_PS!L53=\"\",VLOOKUP(Database_Tables!$C$1762,Database_Tables!$C$1749:$J$1763,3,FALSE),VLOOKUP(Input_PS!L53,Database_Tables!$C$1749:$J$1763,3,FALSE))+IF(AND(Input_PS!I$33=\"Yes\",NOT(ISBLANK(Input_PS!$B17)),Input_PS!I17>0),PS_Intermediate!I17,0)/IF(Input_PS!N53=\"\",VLOOKUP(Database_Tables!$C$1763,Database_Tables!$C$1749:$J$1763,2,FALSE),VLOOKUP(Input_PS!N53,Database_Tables!$C$1749:$J$1763,2,FALSE))*IF(Input_PS!N53=\"\",VLOOKUP(Database_Tables!$C$1763,Database_Tables!$C$1749:$J$1763,3,FALSE),VLOOKUP(Input_PS!N53,Database_Tables!$C$1749:$J$1763,3,FALSE)))","v":0},null,{"$f":"IF($B$48=\"Per Acre Inputs\",-1,-1*Input!$J$14)*(IF(AND(Input_PS!C$33=\"Yes\",NOT(ISBLANK(Input_PS!$B17)),Input_PS!C17>0),PS_Intermediate!C17,0)/IF(Input_PS!C53=\"\",VLOOKUP(\"Diesel\",Database_Tables!$C$1749:$J$1763,2,FALSE),VLOOKUP(Input_PS!C53,Database_Tables!$C$1749:$J$1763,2,FALSE))*IF(Input_PS!C53=\"\",VLOOKUP(\"Diesel\",Database_Tables!$C$1749:$J$1763,4,FALSE),VLOOKUP(Input_PS!C53,Database_Tables!$C$1749:$J$1763,4,FALSE))+IF(AND(Input_PS!D$33=\"Yes\",NOT(ISBLANK(Input_PS!$B17)),Input_PS!D17>0),PS_Intermediate!D17,0)/IF(Input_PS!E53=\"\",VLOOKUP(\"Diesel\",Database_Tables!$C$1749:$J$1763,2,FALSE),VLOOKUP(Input_PS!E53,Database_Tables!$C$1749:$J$1763,2,FALSE))*IF(Input_PS!E53=\"\",VLOOKUP(\"Diesel\",Database_Tables!$C$1749:$J$1763,4,FALSE),VLOOKUP(Input_PS!E53,Database_Tables!$C$1749:$J$1763,4,FALSE))+IF(AND(Input_PS!E$33=\"Yes\",NOT(ISBLANK(Input_PS!$B17)),Input_PS!E17>0),PS_Intermediate!E17,0)/IF(Input_PS!G53=\"\",VLOOKUP(\"Diesel\",Database_Tables!$C$1749:$J$1763,2,FALSE),VLOOKUP(Input_PS!G53,Database_Tables!$C$1749:$J$1763,2,FALSE))*IF(Input_PS!G53=\"\",VLOOKUP(\"Diesel\",Database_Tables!$C$1749:$J$1763,4,FALSE),VLOOKUP(Input_PS!G53,Database_Tables!$C$1749:$J$1763,4,FALSE))+IF(AND(Input_PS!F$33=\"Yes\",NOT(ISBLANK(Input_PS!$B17)),Input_PS!F17>0),PS_Intermediate!F17,0)/IF(Input_PS!I53=\"\",VLOOKUP(\"Diesel\",Database_Tables!$C$1749:$J$1763,2,FALSE),VLOOKUP(Input_PS!I53,Database_Tables!$C$1749:$J$1763,2,FALSE))*IF(Input_PS!I53=\"\",VLOOKUP(\"Diesel\",Database_Tables!$C$1749:$J$1763,4,FALSE),VLOOKUP(Input_PS!I53,Database_Tables!$C$1749:$J$1763,4,FALSE))+IF(AND(Input_PS!G$33=\"Yes\",NOT(ISBLANK(Input_PS!$B17)),Input_PS!G17>0),PS_Intermediate!G17,0)/IF(Input_PS!K53=\"\",VLOOKUP(Database_Tables!$C$1761,Database_Tables!$C$1749:$J$1763,2,FALSE),VLOOKUP(Input_PS!K53,Database_Tables!$C$1749:$J$1763,2,FALSE))*IF(Input_PS!K53=\"\",VLOOKUP(Database_Tables!$C$1761,Database_Tables!$C$1749:$J$1763,4,FALSE),VLOOKUP(Input_PS!K53,Database_Tables!$C$1749:$J$1763,4,FALSE))+IF(AND(Input_PS!H$33=\"Yes\",NOT(ISBLANK(Input_PS!$B17)),Input_PS!H17>0),PS_Intermediate!H17,0)/IF(Input_PS!L53=\"\",VLOOKUP(Database_Tables!$C$1762,Database_Tables!$C$1749:$J$1763,2,FALSE),VLOOKUP(Input_PS!L53,Database_Tables!$C$1749:$J$1763,2,FALSE))*IF(Input_PS!L53=\"\",VLOOKUP(Database_Tables!$C$1762,Database_Tables!$C$1749:$J$1763,4,FALSE),VLOOKUP(Input_PS!L53,Database_Tables!$C$1749:$J$1763,4,FALSE))+IF(AND(Input_PS!I$33=\"Yes\",NOT(ISBLANK(Input_PS!$B17)),Input_PS!I17>0),PS_Intermediate!I17,0)/IF(Input_PS!N53=\"\",VLOOKUP(Database_Tables!$C$1763,Database_Tables!$C$1749:$J$1763,2,FALSE),VLOOKUP(Input_PS!N53,Database_Tables!$C$1749:$J$1763,2,FALSE))*IF(Input_PS!N53=\"\",VLOOKUP(Database_Tables!$C$1763,Database_Tables!$C$1749:$J$1763,4,FALSE),VLOOKUP(Input_PS!N53,Database_Tables!$C$1749:$J$1763,4,FALSE)))","v":0},null,{"$f":"IF($B$48=\"Per Acre Inputs\",-1,-1*Input!$J$14)*(IF(AND(Input_PS!C$33=\"Yes\",NOT(ISBLANK(Input_PS!$B17)),Input_PS!C17>0),PS_Intermediate!C17,0)/IF(Input_PS!C53=\"\",VLOOKUP(\"Diesel\",Database_Tables!$C$1749:$J$1763,2,FALSE),VLOOKUP(Input_PS!C53,Database_Tables!$C$1749:$J$1763,2,FALSE))*IF(Input_PS!C53=\"\",VLOOKUP(\"Diesel\",Database_Tables!$C$1749:$J$1763,5,FALSE),VLOOKUP(Input_PS!C53,Database_Tables!$C$1749:$J$1763,5,FALSE))+IF(AND(Input_PS!D$33=\"Yes\",NOT(ISBLANK(Input_PS!$B17)),Input_PS!D17>0),PS_Intermediate!D17,0)/IF(Input_PS!E53=\"\",VLOOKUP(\"Diesel\",Database_Tables!$C$1749:$J$1763,2,FALSE),VLOOKUP(Input_PS!E53,Database_Tables!$C$1749:$J$1763,2,FALSE))*IF(Input_PS!E53=\"\",VLOOKUP(\"Diesel\",Database_Tables!$C$1749:$J$1763,5,FALSE),VLOOKUP(Input_PS!E53,Database_Tables!$C$1749:$J$1763,5,FALSE))+IF(AND(Input_PS!E$33=\"Yes\",NOT(ISBLANK(Input_PS!$B17)),Input_PS!E17>0),PS_Intermediate!E17,0)/IF(Input_PS!G53=\"\",VLOOKUP(\"Diesel\",Database_Tables!$C$1749:$J$1763,2,FALSE),VLOOKUP(Input_PS!G53,Database_Tables!$C$1749:$J$1763,2,FALSE))*IF(Input_PS!G53=\"\",VLOOKUP(\"Diesel\",Database_Tables!$C$1749:$J$1763,5,FALSE),VLOOKUP(Input_PS!G53,Database_Tables!$C$1749:$J$1763,5,FALSE))+IF(AND(Input_PS!F$33=\"Yes\",NOT(ISBLANK(Input_PS!$B17)),Input_PS!F17>0),PS_Intermediate!F17,0)/IF(Input_PS!I53=\"\",VLOOKUP(\"Diesel\",Database_Tables!$C$1749:$J$1763,2,FALSE),VLOOKUP(Input_PS!I53,Database_Tables!$C$1749:$J$1763,2,FALSE))*IF(Input_PS!I53=\"\",VLOOKUP(\"Diesel\",Database_Tables!$C$1749:$J$1763,5,FALSE),VLOOKUP(Input_PS!I53,Database_Tables!$C$1749:$J$1763,5,FALSE))+IF(AND(Input_PS!G$33=\"Yes\",NOT(ISBLANK(Input_PS!$B17)),Input_PS!G17>0),PS_Intermediate!G17,0)/IF(Input_PS!K53=\"\",VLOOKUP(Database_Tables!$C$1761,Database_Tables!$C$1749:$J$1763,2,FALSE),VLOOKUP(Input_PS!K53,Database_Tables!$C$1749:$J$1763,2,FALSE))*IF(Input_PS!K53=\"\",VLOOKUP(Database_Tables!$C$1761,Database_Tables!$C$1749:$J$1763,5,FALSE),VLOOKUP(Input_PS!K53,Database_Tables!$C$1749:$J$1763,5,FALSE))+IF(AND(Input_PS!H$33=\"Yes\",NOT(ISBLANK(Input_PS!$B17)),Input_PS!H17>0),PS_Intermediate!H17,0)/IF(Input_PS!L53=\"\",VLOOKUP(Database_Tables!$C$1762,Database_Tables!$C$1749:$J$1763,2,FALSE),VLOOKUP(Input_PS!L53,Database_Tables!$C$1749:$J$1763,2,FALSE))*IF(Input_PS!L53=\"\",VLOOKUP(Database_Tables!$C$1762,Database_Tables!$C$1749:$J$1763,5,FALSE),VLOOKUP(Input_PS!L53,Database_Tables!$C$1749:$J$1763,5,FALSE))+IF(AND(Input_PS!I$33=\"Yes\",NOT(ISBLANK(Input_PS!$B17)),Input_PS!I17>0),PS_Intermediate!I17,0)/IF(Input_PS!N53=\"\",VLOOKUP(Database_Tables!$C$1763,Database_Tables!$C$1749:$J$1763,2,FALSE),VLOOKUP(Input_PS!N53,Database_Tables!$C$1749:$J$1763,2,FALSE))*IF(Input_PS!N53=\"\",VLOOKUP(Database_Tables!$C$1763,Database_Tables!$C$1749:$J$1763,5,FALSE),VLOOKUP(Input_PS!N53,Database_Tables!$C$1749:$J$1763,5,FALSE)))","v":0},null,{"$f":"IF($B$48=\"Per Acre Inputs\",-1,-1*Input!$J$14)*(IF(AND(Input_PS!C$33=\"Yes\",NOT(ISBLANK(Input_PS!$B17)),Input_PS!C17>0),PS_Intermediate!C17,0)/IF(Input_PS!C53=\"\",VLOOKUP(\"Diesel\",Database_Tables!$C$1749:$J$1763,2,FALSE),VLOOKUP(Input_PS!C53,Database_Tables!$C$1749:$J$1763,2,FALSE))*IF(Input_PS!C53=\"\",VLOOKUP(\"Diesel\",Database_Tables!$C$1749:$J$1763,6,FALSE),VLOOKUP(Input_PS!C53,Database_Tables!$C$1749:$J$1763,6,FALSE))+IF(AND(Input_PS!D$33=\"Yes\",NOT(ISBLANK(Input_PS!$B17)),Input_PS!D17>0),PS_Intermediate!D17,0)/IF(Input_PS!E53=\"\",VLOOKUP(\"Diesel\",Database_Tables!$C$1749:$J$1763,2,FALSE),VLOOKUP(Input_PS!E53,Database_Tables!$C$1749:$J$1763,2,FALSE))*IF(Input_PS!E53=\"\",VLOOKUP(\"Diesel\",Database_Tables!$C$1749:$J$1763,6,FALSE),VLOOKUP(Input_PS!E53,Database_Tables!$C$1749:$J$1763,6,FALSE))+IF(AND(Input_PS!E$33=\"Yes\",NOT(ISBLANK(Input_PS!$B17)),Input_PS!E17>0),PS_Intermediate!E17,0)/IF(Input_PS!G53=\"\",VLOOKUP(\"Diesel\",Database_Tables!$C$1749:$J$1763,2,FALSE),VLOOKUP(Input_PS!G53,Database_Tables!$C$1749:$J$1763,2,FALSE))*IF(Input_PS!G53=\"\",VLOOKUP(\"Diesel\",Database_Tables!$C$1749:$J$1763,6,FALSE),VLOOKUP(Input_PS!G53,Database_Tables!$C$1749:$J$1763,6,FALSE))+IF(AND(Input_PS!F$33=\"Yes\",NOT(ISBLANK(Input_PS!$B17)),Input_PS!F17>0),PS_Intermediate!F17,0)/IF(Input_PS!I53=\"\",VLOOKUP(\"Diesel\",Database_Tables!$C$1749:$J$1763,2,FALSE),VLOOKUP(Input_PS!I53,Database_Tables!$C$1749:$J$1763,2,FALSE))*IF(Input_PS!I53=\"\",VLOOKUP(\"Diesel\",Database_Tables!$C$1749:$J$1763,6,FALSE),VLOOKUP(Input_PS!I53,Database_Tables!$C$1749:$J$1763,6,FALSE))+IF(AND(Input_PS!G$33=\"Yes\",NOT(ISBLANK(Input_PS!$B17)),Input_PS!G17>0),PS_Intermediate!G17,0)/IF(Input_PS!K53=\"\",VLOOKUP(Database_Tables!$C$1761,Database_Tables!$C$1749:$J$1763,2,FALSE),VLOOKUP(Input_PS!K53,Database_Tables!$C$1749:$J$1763,2,FALSE))*IF(Input_PS!K53=\"\",VLOOKUP(Database_Tables!$C$1761,Database_Tables!$C$1749:$J$1763,6,FALSE),VLOOKUP(Input_PS!K53,Database_Tables!$C$1749:$J$1763,6,FALSE))+IF(AND(Input_PS!H$33=\"Yes\",NOT(ISBLANK(Input_PS!$B17)),Input_PS!H17>0),PS_Intermediate!H17,0)/IF(Input_PS!L53=\"\",VLOOKUP(Database_Tables!$C$1762,Database_Tables!$C$1749:$J$1763,2,FALSE),VLOOKUP(Input_PS!L53,Database_Tables!$C$1749:$J$1763,2,FALSE))*IF(Input_PS!L53=\"\",VLOOKUP(Database_Tables!$C$1762,Database_Tables!$C$1749:$J$1763,6,FALSE),VLOOKUP(Input_PS!L53,Database_Tables!$C$1749:$J$1763,6,FALSE))+IF(AND(Input_PS!I$33=\"Yes\",NOT(ISBLANK(Input_PS!$B17)),Input_PS!I17>0),PS_Intermediate!I17,0)/IF(Input_PS!N53=\"\",VLOOKUP(Database_Tables!$C$1763,Database_Tables!$C$1749:$J$1763,2,FALSE),VLOOKUP(Input_PS!N53,Database_Tables!$C$1749:$J$1763,2,FALSE))*IF(Input_PS!N53=\"\",VLOOKUP(Database_Tables!$C$1763,Database_Tables!$C$1749:$J$1763,6,FALSE),VLOOKUP(Input_PS!N53,Database_Tables!$C$1749:$J$1763,6,FALSE)))","v":0},null,{"$f":"IF($B$48=\"Per Acre Inputs\",-1,-1*Input!$J$14)*(IF(AND(Input_PS!C$33=\"Yes\",NOT(ISBLANK(Input_PS!$B17)),Input_PS!C17>0),PS_Intermediate!C17,0)/IF(Input_PS!C53=\"\",VLOOKUP(\"Diesel\",Database_Tables!$C$1749:$J$1763,2,FALSE),VLOOKUP(Input_PS!C53,Database_Tables!$C$1749:$J$1763,2,FALSE))*IF(Input_PS!C53=\"\",VLOOKUP(\"Diesel\",Database_Tables!$C$1749:$J$1763,7,FALSE),VLOOKUP(Input_PS!C53,Database_Tables!$C$1749:$J$1763,7,FALSE))+IF(AND(Input_PS!D$33=\"Yes\",NOT(ISBLANK(Input_PS!$B17)),Input_PS!D17>0),PS_Intermediate!D17,0)/IF(Input_PS!E53=\"\",VLOOKUP(\"Diesel\",Database_Tables!$C$1749:$J$1763,2,FALSE),VLOOKUP(Input_PS!E53,Database_Tables!$C$1749:$J$1763,2,FALSE))*IF(Input_PS!E53=\"\",VLOOKUP(\"Diesel\",Database_Tables!$C$1749:$J$1763,7,FALSE),VLOOKUP(Input_PS!E53,Database_Tables!$C$1749:$J$1763,7,FALSE))+IF(AND(Input_PS!E$33=\"Yes\",NOT(ISBLANK(Input_PS!$B17)),Input_PS!E17>0),PS_Intermediate!E17,0)/IF(Input_PS!G53=\"\",VLOOKUP(\"Diesel\",Database_Tables!$C$1749:$J$1763,2,FALSE),VLOOKUP(Input_PS!G53,Database_Tables!$C$1749:$J$1763,2,FALSE))*IF(Input_PS!G53=\"\",VLOOKUP(\"Diesel\",Database_Tables!$C$1749:$J$1763,7,FALSE),VLOOKUP(Input_PS!G53,Database_Tables!$C$1749:$J$1763,7,FALSE))+IF(AND(Input_PS!F$33=\"Yes\",NOT(ISBLANK(Input_PS!$B17)),Input_PS!F17>0),PS_Intermediate!F17,0)/IF(Input_PS!I53=\"\",VLOOKUP(\"Diesel\",Database_Tables!$C$1749:$J$1763,2,FALSE),VLOOKUP(Input_PS!I53,Database_Tables!$C$1749:$J$1763,2,FALSE))*IF(Input_PS!I53=\"\",VLOOKUP(\"Diesel\",Database_Tables!$C$1749:$J$1763,7,FALSE),VLOOKUP(Input_PS!I53,Database_Tables!$C$1749:$J$1763,7,FALSE))+IF(AND(Input_PS!G$33=\"Yes\",NOT(ISBLANK(Input_PS!$B17)),Input_PS!G17>0),PS_Intermediate!G17,0)/IF(Input_PS!K53=\"\",VLOOKUP(Database_Tables!$C$1761,Database_Tables!$C$1749:$J$1763,2,FALSE),VLOOKUP(Input_PS!K53,Database_Tables!$C$1749:$J$1763,2,FALSE))*IF(Input_PS!K53=\"\",VLOOKUP(Database_Tables!$C$1761,Database_Tables!$C$1749:$J$1763,7,FALSE),VLOOKUP(Input_PS!K53,Database_Tables!$C$1749:$J$1763,7,FALSE))+IF(AND(Input_PS!H$33=\"Yes\",NOT(ISBLANK(Input_PS!$B17)),Input_PS!H17>0),PS_Intermediate!H17,0)/IF(Input_PS!L53=\"\",VLOOKUP(Database_Tables!$C$1762,Database_Tables!$C$1749:$J$1763,2,FALSE),VLOOKUP(Input_PS!L53,Database_Tables!$C$1749:$J$1763,2,FALSE))*IF(Input_PS!L53=\"\",VLOOKUP(Database_Tables!$C$1762,Database_Tables!$C$1749:$J$1763,7,FALSE),VLOOKUP(Input_PS!L53,Database_Tables!$C$1749:$J$1763,7,FALSE))+IF(AND(Input_PS!I$33=\"Yes\",NOT(ISBLANK(Input_PS!$B17)),Input_PS!I17>0),PS_Intermediate!I17,0)/IF(Input_PS!N53=\"\",VLOOKUP(Database_Tables!$C$1763,Database_Tables!$C$1749:$J$1763,2,FALSE),VLOOKUP(Input_PS!N53,Database_Tables!$C$1749:$J$1763,2,FALSE))*IF(Input_PS!N53=\"\",VLOOKUP(Database_Tables!$C$1763,Database_Tables!$C$1749:$J$1763,7,FALSE),VLOOKUP(Input_PS!N53,Database_Tables!$C$1749:$J$1763,7,FALSE)))","v":0},null,{"$f":"IF(ISNA(VLOOKUP(B52,Database_Tables!$I$1587:$J$1626,2,FALSE)),FALSE,TRUE)","v":false}]
[null,{"$f":"Input_PS!B18","v":0},{"$f":"IF($B$48=\"Per Acre Inputs\",-1,-1*Input!$J$14)*IF(B53=0,0,SUM(PS_Intermediate!C18:I18))*IF(C50=\"[MBTU]\",1000,1)","v":0},null,{"$f":"IF($B$48=\"Per Acre Inputs\",-1,-1*Input!$J$14)*(IF(AND(Input_PS!C$33=\"Yes\",NOT(ISBLANK(Input_PS!$B18)),Input_PS!C18>0),PS_Intermediate!C18,0)/IF(Input_PS!C54=\"\",VLOOKUP(\"Diesel\",Database_Tables!$C$1749:$J$1763,2,FALSE),VLOOKUP(Input_PS!C54,Database_Tables!$C$1749:$J$1763,2,FALSE))*IF(Input_PS!C54=\"\",VLOOKUP(\"Diesel\",Database_Tables!$C$1749:$J$1763,3,FALSE),VLOOKUP(Input_PS!C54,Database_Tables!$C$1749:$J$1763,3,FALSE))+IF(AND(Input_PS!D$33=\"Yes\",NOT(ISBLANK(Input_PS!$B18)),Input_PS!D18>0),PS_Intermediate!D18,0)/IF(Input_PS!E54=\"\",VLOOKUP(\"Diesel\",Database_Tables!$C$1749:$J$1763,2,FALSE),VLOOKUP(Input_PS!E54,Database_Tables!$C$1749:$J$1763,2,FALSE))*IF(Input_PS!E54=\"\",VLOOKUP(\"Diesel\",Database_Tables!$C$1749:$J$1763,3,FALSE),VLOOKUP(Input_PS!E54,Database_Tables!$C$1749:$J$1763,3,FALSE))+IF(AND(Input_PS!E$33=\"Yes\",NOT(ISBLANK(Input_PS!$B18)),Input_PS!E18>0),PS_Intermediate!E18,0)/IF(Input_PS!G54=\"\",VLOOKUP(\"Diesel\",Database_Tables!$C$1749:$J$1763,2,FALSE),VLOOKUP(Input_PS!G54,Database_Tables!$C$1749:$J$1763,2,FALSE))*IF(Input_PS!G54=\"\",VLOOKUP(\"Diesel\",Database_Tables!$C$1749:$J$1763,3,FALSE),VLOOKUP(Input_PS!G54,Database_Tables!$C$1749:$J$1763,3,FALSE))+IF(AND(Input_PS!F$33=\"Yes\",NOT(ISBLANK(Input_PS!$B18)),Input_PS!F18>0),PS_Intermediate!F18,0)/IF(Input_PS!I54=\"\",VLOOKUP(\"Diesel\",Database_Tables!$C$1749:$J$1763,2,FALSE),VLOOKUP(Input_PS!I54,Database_Tables!$C$1749:$J$1763,2,FALSE))*IF(Input_PS!I54=\"\",VLOOKUP(\"Diesel\",Database_Tables!$C$1749:$J$1763,3,FALSE),VLOOKUP(Input_PS!I54,Database_Tables!$C$1749:$J$1763,3,FALSE))+IF(AND(Input_PS!G$33=\"Yes\",NOT(ISBLANK(Input_PS!$B18)),Input_PS!G18>0),PS_Intermediate!G18,0)/IF(Input_PS!K54=\"\",VLOOKUP(Database_Tables!$C$1761,Database_Tables!$C$1749:$J$1763,2,FALSE),VLOOKUP(Input_PS!K54,Database_Tables!$C$1749:$J$1763,2,FALSE))*IF(Input_PS!K54=\"\",VLOOKUP(Database_Tables!$C$1761,Database_Tables!$C$1749:$J$1763,3,FALSE),VLOOKUP(Input_PS!K54,Database_Tables!$C$1749:$J$1763,3,FALSE))+IF(AND(Input_PS!H$33=\"Yes\",NOT(ISBLANK(Input_PS!$B18)),Input_PS!H18>0),PS_Intermediate!H18,0)/IF(Input_PS!L54=\"\",VLOOKUP(Database_Tables!$C$1762,Database_Tables!$C$1749:$J$1763,2,FALSE),VLOOKUP(Input_PS!L54,Database_Tables!$C$1749:$J$1763,2,FALSE))*IF(Input_PS!L54=\"\",VLOOKUP(Database_Tables!$C$1762,Database_Tables!$C$1749:$J$1763,3,FALSE),VLOOKUP(Input_PS!L54,Database_Tables!$C$1749:$J$1763,3,FALSE))+IF(AND(Input_PS!I$33=\"Yes\",NOT(ISBLANK(Input_PS!$B18)),Input_PS!I18>0),PS_Intermediate!I18,0)/IF(Input_PS!N54=\"\",VLOOKUP(Database_Tables!$C$1763,Database_Tables!$C$1749:$J$1763,2,FALSE),VLOOKUP(Input_PS!N54,Database_Tables!$C$1749:$J$1763,2,FALSE))*IF(Input_PS!N54=\"\",VLOOKUP(Database_Tables!$C$1763,Database_Tables!$C$1749:$J$1763,3,FALSE),VLOOKUP(Input_PS!N54,Database_Tables!$C$1749:$J$1763,3,FALSE)))","v":0},null,{"$f":"IF($B$48=\"Per Acre Inputs\",-1,-1*Input!$J$14)*(IF(AND(Input_PS!C$33=\"Yes\",NOT(ISBLANK(Input_PS!$B18)),Input_PS!C18>0),PS_Intermediate!C18,0)/IF(Input_PS!C54=\"\",VLOOKUP(\"Diesel\",Database_Tables!$C$1749:$J$1763,2,FALSE),VLOOKUP(Input_PS!C54,Database_Tables!$C$1749:$J$1763,2,FALSE))*IF(Input_PS!C54=\"\",VLOOKUP(\"Diesel\",Database_Tables!$C$1749:$J$1763,4,FALSE),VLOOKUP(Input_PS!C54,Database_Tables!$C$1749:$J$1763,4,FALSE))+IF(AND(Input_PS!D$33=\"Yes\",NOT(ISBLANK(Input_PS!$B18)),Input_PS!D18>0),PS_Intermediate!D18,0)/IF(Input_PS!E54=\"\",VLOOKUP(\"Diesel\",Database_Tables!$C$1749:$J$1763,2,FALSE),VLOOKUP(Input_PS!E54,Database_Tables!$C$1749:$J$1763,2,FALSE))*IF(Input_PS!E54=\"\",VLOOKUP(\"Diesel\",Database_Tables!$C$1749:$J$1763,4,FALSE),VLOOKUP(Input_PS!E54,Database_Tables!$C$1749:$J$1763,4,FALSE))+IF(AND(Input_PS!E$33=\"Yes\",NOT(ISBLANK(Input_PS!$B18)),Input_PS!E18>0),PS_Intermediate!E18,0)/IF(Input_PS!G54=\"\",VLOOKUP(\"Diesel\",Database_Tables!$C$1749:$J$1763,2,FALSE),VLOOKUP(Input_PS!G54,Database_Tables!$C$1749:$J$1763,2,FALSE))*IF(Input_PS!G54=\"\",VLOOKUP(\"Diesel\",Database_Tables!$C$1749:$J$1763,4,FALSE),VLOOKUP(Input_PS!G54,Database_Tables!$C$1749:$J$1763,4,FALSE))+IF(AND(Input_PS!F$33=\"Yes\",NOT(ISBLANK(Input_PS!$B18)),Input_PS!F18>0),PS_Intermediate!F18,0)/IF(Input_PS!I54=\"\",VLOOKUP(\"Diesel\",Database_Tables!$C$1749:$J$1763,2,FALSE),VLOOKUP(Input_PS!I54,Database_Tables!$C$1749:$J$1763,2,FALSE))*IF(Input_PS!I54=\"\",VLOOKUP(\"Diesel\",Database_Tables!$C$1749:$J$1763,4,FALSE),VLOOKUP(Input_PS!I54,Database_Tables!$C$1749:$J$1763,4,FALSE))+IF(AND(Input_PS!G$33=\"Yes\",NOT(ISBLANK(Input_PS!$B18)),Input_PS!G18>0),PS_Intermediate!G18,0)/IF(Input_PS!K54=\"\",VLOOKUP(Database_Tables!$C$1761,Database_Tables!$C$1749:$J$1763,2,FALSE),VLOOKUP(Input_PS!K54,Database_Tables!$C$1749:$J$1763,2,FALSE))*IF(Input_PS!K54=\"\",VLOOKUP(Database_Tables!$C$1761,Database_Tables!$C$1749:$J$1763,4,FALSE),VLOOKUP(Input_PS!K54,Database_Tables!$C$1749:$J$1763,4,FALSE))+IF(AND(Input_PS!H$33=\"Yes\",NOT(ISBLANK(Input_PS!$B18)),Input_PS!H18>0),PS_Intermediate!H18,0)/IF(Input_PS!L54=\"\",VLOOKUP(Database_Tables!$C$1762,Database_Tables!$C$1749:$J$1763,2,FALSE),VLOOKUP(Input_PS!L54,Database_Tables!$C$1749:$J$1763,2,FALSE))*IF(Input_PS!L54=\"\",VLOOKUP(Database_Tables!$C$1762,Database_Tables!$C$1749:$J$1763,4,FALSE),VLOOKUP(Input_PS!L54,Database_Tables!$C$1749:$J$1763,4,FALSE))+IF(AND(Input_PS!I$33=\"Yes\",NOT(ISBLANK(Input_PS!$B18)),Input_PS!I18>0),PS_Intermediate!I18,0)/IF(Input_PS!N54=\"\",VLOOKUP(Database_Tables!$C$1763,Database_Tables!$C$1749:$J$1763,2,FALSE),VLOOKUP(Input_PS!N54,Database_Tables!$C$1749:$J$1763,2,FALSE))*IF(Input_PS!N54=\"\",VLOOKUP(Database_Tables!$C$1763,Database_Tables!$C$1749:$J$1763,4,FALSE),VLOOKUP(Input_PS!N54,Database_Tables!$C$1749:$J$1763,4,FALSE)))","v":0},null,{"$f":"IF($B$48=\"Per Acre Inputs\",-1,-1*Input!$J$14)*(IF(AND(Input_PS!C$33=\"Yes\",NOT(ISBLANK(Input_PS!$B18)),Input_PS!C18>0),PS_Intermediate!C18,0)/IF(Input_PS!C54=\"\",VLOOKUP(\"Diesel\",Database_Tables!$C$1749:$J$1763,2,FALSE),VLOOKUP(Input_PS!C54,Database_Tables!$C$1749:$J$1763,2,FALSE))*IF(Input_PS!C54=\"\",VLOOKUP(\"Diesel\",Database_Tables!$C$1749:$J$1763,5,FALSE),VLOOKUP(Input_PS!C54,Database_Tables!$C$1749:$J$1763,5,FALSE))+IF(AND(Input_PS!D$33=\"Yes\",NOT(ISBLANK(Input_PS!$B18)),Input_PS!D18>0),PS_Intermediate!D18,0)/IF(Input_PS!E54=\"\",VLOOKUP(\"Diesel\",Database_Tables!$C$1749:$J$1763,2,FALSE),VLOOKUP(Input_PS!E54,Database_Tables!$C$1749:$J$1763,2,FALSE))*IF(Input_PS!E54=\"\",VLOOKUP(\"Diesel\",Database_Tables!$C$1749:$J$1763,5,FALSE),VLOOKUP(Input_PS!E54,Database_Tables!$C$1749:$J$1763,5,FALSE))+IF(AND(Input_PS!E$33=\"Yes\",NOT(ISBLANK(Input_PS!$B18)),Input_PS!E18>0),PS_Intermediate!E18,0)/IF(Input_PS!G54=\"\",VLOOKUP(\"Diesel\",Database_Tables!$C$1749:$J$1763,2,FALSE),VLOOKUP(Input_PS!G54,Database_Tables!$C$1749:$J$1763,2,FALSE))*IF(Input_PS!G54=\"\",VLOOKUP(\"Diesel\",Database_Tables!$C$1749:$J$1763,5,FALSE),VLOOKUP(Input_PS!G54,Database_Tables!$C$1749:$J$1763,5,FALSE))+IF(AND(Input_PS!F$33=\"Yes\",NOT(ISBLANK(Input_PS!$B18)),Input_PS!F18>0),PS_Intermediate!F18,0)/IF(Input_PS!I54=\"\",VLOOKUP(\"Diesel\",Database_Tables!$C$1749:$J$1763,2,FALSE),VLOOKUP(Input_PS!I54,Database_Tables!$C$1749:$J$1763,2,FALSE))*IF(Input_PS!I54=\"\",VLOOKUP(\"Diesel\",Database_Tables!$C$1749:$J$1763,5,FALSE),VLOOKUP(Input_PS!I54,Database_Tables!$C$1749:$J$1763,5,FALSE))+IF(AND(Input_PS!G$33=\"Yes\",NOT(ISBLANK(Input_PS!$B18)),Input_PS!G18>0),PS_Intermediate!G18,0)/IF(Input_PS!K54=\"\",VLOOKUP(Database_Tables!$C$1761,Database_Tables!$C$1749:$J$1763,2,FALSE),VLOOKUP(Input_PS!K54,Database_Tables!$C$1749:$J$1763,2,FALSE))*IF(Input_PS!K54=\"\",VLOOKUP(Database_Tables!$C$1761,Database_Tables!$C$1749:$J$1763,5,FALSE),VLOOKUP(Input_PS!K54,Database_Tables!$C$1749:$J$1763,5,FALSE))+IF(AND(Input_PS!H$33=\"Yes\",NOT(ISBLANK(Input_PS!$B18)),Input_PS!H18>0),PS_Intermediate!H18,0)/IF(Input_PS!L54=\"\",VLOOKUP(Database_Tables!$C$1762,Database_Tables!$C$1749:$J$1763,2,FALSE),VLOOKUP(Input_PS!L54,Database_Tables!$C$1749:$J$1763,2,FALSE))*IF(Input_PS!L54=\"\",VLOOKUP(Database_Tables!$C$1762,Database_Tables!$C$1749:$J$1763,5,FALSE),VLOOKUP(Input_PS!L54,Database_Tables!$C$1749:$J$1763,5,FALSE))+IF(AND(Input_PS!I$33=\"Yes\",NOT(ISBLANK(Input_PS!$B18)),Input_PS!I18>0),PS_Intermediate!I18,0)/IF(Input_PS!N54=\"\",VLOOKUP(Database_Tables!$C$1763,Database_Tables!$C$1749:$J$1763,2,FALSE),VLOOKUP(Input_PS!N54,Database_Tables!$C$1749:$J$1763,2,FALSE))*IF(Input_PS!N54=\"\",VLOOKUP(Database_Tables!$C$1763,Database_Tables!$C$1749:$J$1763,5,FALSE),VLOOKUP(Input_PS!N54,Database_Tables!$C$1749:$J$1763,5,FALSE)))","v":0},null,{"$f":"IF($B$48=\"Per Acre Inputs\",-1,-1*Input!$J$14)*(IF(AND(Input_PS!C$33=\"Yes\",NOT(ISBLANK(Input_PS!$B18)),Input_PS!C18>0),PS_Intermediate!C18,0)/IF(Input_PS!C54=\"\",VLOOKUP(\"Diesel\",Database_Tables!$C$1749:$J$1763,2,FALSE),VLOOKUP(Input_PS!C54,Database_Tables!$C$1749:$J$1763,2,FALSE))*IF(Input_PS!C54=\"\",VLOOKUP(\"Diesel\",Database_Tables!$C$1749:$J$1763,6,FALSE),VLOOKUP(Input_PS!C54,Database_Tables!$C$1749:$J$1763,6,FALSE))+IF(AND(Input_PS!D$33=\"Yes\",NOT(ISBLANK(Input_PS!$B18)),Input_PS!D18>0),PS_Intermediate!D18,0)/IF(Input_PS!E54=\"\",VLOOKUP(\"Diesel\",Database_Tables!$C$1749:$J$1763,2,FALSE),VLOOKUP(Input_PS!E54,Database_Tables!$C$1749:$J$1763,2,FALSE))*IF(Input_PS!E54=\"\",VLOOKUP(\"Diesel\",Database_Tables!$C$1749:$J$1763,6,FALSE),VLOOKUP(Input_PS!E54,Database_Tables!$C$1749:$J$1763,6,FALSE))+IF(AND(Input_PS!E$33=\"Yes\",NOT(ISBLANK(Input_PS!$B18)),Input_PS!E18>0),PS_Intermediate!E18,0)/IF(Input_PS!G54=\"\",VLOOKUP(\"Diesel\",Database_Tables!$C$1749:$J$1763,2,FALSE),VLOOKUP(Input_PS!G54,Database_Tables!$C$1749:$J$1763,2,FALSE))*IF(Input_PS!G54=\"\",VLOOKUP(\"Diesel\",Database_Tables!$C$1749:$J$1763,6,FALSE),VLOOKUP(Input_PS!G54,Database_Tables!$C$1749:$J$1763,6,FALSE))+IF(AND(Input_PS!F$33=\"Yes\",NOT(ISBLANK(Input_PS!$B18)),Input_PS!F18>0),PS_Intermediate!F18,0)/IF(Input_PS!I54=\"\",VLOOKUP(\"Diesel\",Database_Tables!$C$1749:$J$1763,2,FALSE),VLOOKUP(Input_PS!I54,Database_Tables!$C$1749:$J$1763,2,FALSE))*IF(Input_PS!I54=\"\",VLOOKUP(\"Diesel\",Database_Tables!$C$1749:$J$1763,6,FALSE),VLOOKUP(Input_PS!I54,Database_Tables!$C$1749:$J$1763,6,FALSE))+IF(AND(Input_PS!G$33=\"Yes\",NOT(ISBLANK(Input_PS!$B18)),Input_PS!G18>0),PS_Intermediate!G18,0)/IF(Input_PS!K54=\"\",VLOOKUP(Database_Tables!$C$1761,Database_Tables!$C$1749:$J$1763,2,FALSE),VLOOKUP(Input_PS!K54,Database_Tables!$C$1749:$J$1763,2,FALSE))*IF(Input_PS!K54=\"\",VLOOKUP(Database_Tables!$C$1761,Database_Tables!$C$1749:$J$1763,6,FALSE),VLOOKUP(Input_PS!K54,Database_Tables!$C$1749:$J$1763,6,FALSE))+IF(AND(Input_PS!H$33=\"Yes\",NOT(ISBLANK(Input_PS!$B18)),Input_PS!H18>0),PS_Intermediate!H18,0)/IF(Input_PS!L54=\"\",VLOOKUP(Database_Tables!$C$1762,Database_Tables!$C$1749:$J$1763,2,FALSE),VLOOKUP(Input_PS!L54,Database_Tables!$C$1749:$J$1763,2,FALSE))*IF(Input_PS!L54=\"\",VLOOKUP(Database_Tables!$C$1762,Database_Tables!$C$1749:$J$1763,6,FALSE),VLOOKUP(Input_PS!L54,Database_Tables!$C$1749:$J$1763,6,FALSE))+IF(AND(Input_PS!I$33=\"Yes\",NOT(ISBLANK(Input_PS!$B18)),Input_PS!I18>0),PS_Intermediate!I18,0)/IF(Input_PS!N54=\"\",VLOOKUP(Database_Tables!$C$1763,Database_Tables!$C$1749:$J$1763,2,FALSE),VLOOKUP(Input_PS!N54,Database_Tables!$C$1749:$J$1763,2,FALSE))*IF(Input_PS!N54=\"\",VLOOKUP(Database_Tables!$C$1763,Database_Tables!$C$1749:$J$1763,6,FALSE),VLOOKUP(Input_PS!N54,Database_Tables!$C$1749:$J$1763,6,FALSE)))","v":0},null,{"$f":"IF($B$48=\"Per Acre Inputs\",-1,-1*Input!$J$14)*(IF(AND(Input_PS!C$33=\"Yes\",NOT(ISBLANK(Input_PS!$B18)),Input_PS!C18>0),PS_Intermediate!C18,0)/IF(Input_PS!C54=\"\",VLOOKUP(\"Diesel\",Database_Tables!$C$1749:$J$1763,2,FALSE),VLOOKUP(Input_PS!C54,Database_Tables!$C$1749:$J$1763,2,FALSE))*IF(Input_PS!C54=\"\",VLOOKUP(\"Diesel\",Database_Tables!$C$1749:$J$1763,7,FALSE),VLOOKUP(Input_PS!C54,Database_Tables!$C$1749:$J$1763,7,FALSE))+IF(AND(Input_PS!D$33=\"Yes\",NOT(ISBLANK(Input_PS!$B18)),Input_PS!D18>0),PS_Intermediate!D18,0)/IF(Input_PS!E54=\"\",VLOOKUP(\"Diesel\",Database_Tables!$C$1749:$J$1763,2,FALSE),VLOOKUP(Input_PS!E54,Database_Tables!$C$1749:$J$1763,2,FALSE))*IF(Input_PS!E54=\"\",VLOOKUP(\"Diesel\",Database_Tables!$C$1749:$J$1763,7,FALSE),VLOOKUP(Input_PS!E54,Database_Tables!$C$1749:$J$1763,7,FALSE))+IF(AND(Input_PS!E$33=\"Yes\",NOT(ISBLANK(Input_PS!$B18)),Input_PS!E18>0),PS_Intermediate!E18,0)/IF(Input_PS!G54=\"\",VLOOKUP(\"Diesel\",Database_Tables!$C$1749:$J$1763,2,FALSE),VLOOKUP(Input_PS!G54,Database_Tables!$C$1749:$J$1763,2,FALSE))*IF(Input_PS!G54=\"\",VLOOKUP(\"Diesel\",Database_Tables!$C$1749:$J$1763,7,FALSE),VLOOKUP(Input_PS!G54,Database_Tables!$C$1749:$J$1763,7,FALSE))+IF(AND(Input_PS!F$33=\"Yes\",NOT(ISBLANK(Input_PS!$B18)),Input_PS!F18>0),PS_Intermediate!F18,0)/IF(Input_PS!I54=\"\",VLOOKUP(\"Diesel\",Database_Tables!$C$1749:$J$1763,2,FALSE),VLOOKUP(Input_PS!I54,Database_Tables!$C$1749:$J$1763,2,FALSE))*IF(Input_PS!I54=\"\",VLOOKUP(\"Diesel\",Database_Tables!$C$1749:$J$1763,7,FALSE),VLOOKUP(Input_PS!I54,Database_Tables!$C$1749:$J$1763,7,FALSE))+IF(AND(Input_PS!G$33=\"Yes\",NOT(ISBLANK(Input_PS!$B18)),Input_PS!G18>0),PS_Intermediate!G18,0)/IF(Input_PS!K54=\"\",VLOOKUP(Database_Tables!$C$1761,Database_Tables!$C$1749:$J$1763,2,FALSE),VLOOKUP(Input_PS!K54,Database_Tables!$C$1749:$J$1763,2,FALSE))*IF(Input_PS!K54=\"\",VLOOKUP(Database_Tables!$C$1761,Database_Tables!$C$1749:$J$1763,7,FALSE),VLOOKUP(Input_PS!K54,Database_Tables!$C$1749:$J$1763,7,FALSE))+IF(AND(Input_PS!H$33=\"Yes\",NOT(ISBLANK(Input_PS!$B18)),Input_PS!H18>0),PS_Intermediate!H18,0)/IF(Input_PS!L54=\"\",VLOOKUP(Database_Tables!$C$1762,Database_Tables!$C$1749:$J$1763,2,FALSE),VLOOKUP(Input_PS!L54,Database_Tables!$C$1749:$J$1763,2,FALSE))*IF(Input_PS!L54=\"\",VLOOKUP(Database_Tables!$C$1762,Database_Tables!$C$1749:$J$1763,7,FALSE),VLOOKUP(Input_PS!L54,Database_Tables!$C$1749:$J$1763,7,FALSE))+IF(AND(Input_PS!I$33=\"Yes\",NOT(ISBLANK(Input_PS!$B18)),Input_PS!I18>0),PS_Intermediate!I18,0)/IF(Input_PS!N54=\"\",VLOOKUP(Database_Tables!$C$1763,Database_Tables!$C$1749:$J$1763,2,FALSE),VLOOKUP(Input_PS!N54,Database_Tables!$C$1749:$J$1763,2,FALSE))*IF(Input_PS!N54=\"\",VLOOKUP(Database_Tables!$C$1763,Database_Tables!$C$1749:$J$1763,7,FALSE),VLOOKUP(Input_PS!N54,Database_Tables!$C$1749:$J$1763,7,FALSE)))","v":0},null,{"$f":"IF(ISNA(VLOOKUP(B53,Database_Tables!$I$1587:$J$1626,2,FALSE)),FALSE,TRUE)","v":false}]
[null,{"$f":"Input_PS!B19","v":0},{"$f":"IF($B$48=\"Per Acre Inputs\",-1,-1*Input!$J$14)*IF(B54=0,0,SUM(PS_Intermediate!C19:I19))*IF(C50=\"[MBTU]\",1000,1)","v":0},null,{"$f":"IF($B$48=\"Per Acre Inputs\",-1,-1*Input!$J$14)*(IF(AND(Input_PS!C$33=\"Yes\",NOT(ISBLANK(Input_PS!$B19)),Input_PS!C19>0),PS_Intermediate!C19,0)/IF(Input_PS!C55=\"\",VLOOKUP(\"Diesel\",Database_Tables!$C$1749:$J$1763,2,FALSE),VLOOKUP(Input_PS!C55,Database_Tables!$C$1749:$J$1763,2,FALSE))*IF(Input_PS!C55=\"\",VLOOKUP(\"Diesel\",Database_Tables!$C$1749:$J$1763,3,FALSE),VLOOKUP(Input_PS!C55,Database_Tables!$C$1749:$J$1763,3,FALSE))+IF(AND(Input_PS!D$33=\"Yes\",NOT(ISBLANK(Input_PS!$B19)),Input_PS!D19>0),PS_Intermediate!D19,0)/IF(Input_PS!E55=\"\",VLOOKUP(\"Diesel\",Database_Tables!$C$1749:$J$1763,2,FALSE),VLOOKUP(Input_PS!E55,Database_Tables!$C$1749:$J$1763,2,FALSE))*IF(Input_PS!E55=\"\",VLOOKUP(\"Diesel\",Database_Tables!$C$1749:$J$1763,3,FALSE),VLOOKUP(Input_PS!E55,Database_Tables!$C$1749:$J$1763,3,FALSE))+IF(AND(Input_PS!E$33=\"Yes\",NOT(ISBLANK(Input_PS!$B19)),Input_PS!E19>0),PS_Intermediate!E19,0)/IF(Input_PS!G55=\"\",VLOOKUP(\"Diesel\",Database_Tables!$C$1749:$J$1763,2,FALSE),VLOOKUP(Input_PS!G55,Database_Tables!$C$1749:$J$1763,2,FALSE))*IF(Input_PS!G55=\"\",VLOOKUP(\"Diesel\",Database_Tables!$C$1749:$J$1763,3,FALSE),VLOOKUP(Input_PS!G55,Database_Tables!$C$1749:$J$1763,3,FALSE))+IF(AND(Input_PS!F$33=\"Yes\",NOT(ISBLANK(Input_PS!$B19)),Input_PS!F19>0),PS_Intermediate!F19,0)/IF(Input_PS!I55=\"\",VLOOKUP(\"Diesel\",Database_Tables!$C$1749:$J$1763,2,FALSE),VLOOKUP(Input_PS!I55,Database_Tables!$C$1749:$J$1763,2,FALSE))*IF(Input_PS!I55=\"\",VLOOKUP(\"Diesel\",Database_Tables!$C$1749:$J$1763,3,FALSE),VLOOKUP(Input_PS!I55,Database_Tables!$C$1749:$J$1763,3,FALSE))+IF(AND(Input_PS!G$33=\"Yes\",NOT(ISBLANK(Input_PS!$B19)),Input_PS!G19>0),PS_Intermediate!G19,0)/IF(Input_PS!K55=\"\",VLOOKUP(Database_Tables!$C$1761,Database_Tables!$C$1749:$J$1763,2,FALSE),VLOOKUP(Input_PS!K55,Database_Tables!$C$1749:$J$1763,2,FALSE))*IF(Input_PS!K55=\"\",VLOOKUP(Database_Tables!$C$1761,Database_Tables!$C$1749:$J$1763,3,FALSE),VLOOKUP(Input_PS!K55,Database_Tables!$C$1749:$J$1763,3,FALSE))+IF(AND(Input_PS!H$33=\"Yes\",NOT(ISBLANK(Input_PS!$B19)),Input_PS!H19>0),PS_Intermediate!H19,0)/IF(Input_PS!L55=\"\",VLOOKUP(Database_Tables!$C$1762,Database_Tables!$C$1749:$J$1763,2,FALSE),VLOOKUP(Input_PS!L55,Database_Tables!$C$1749:$J$1763,2,FALSE))*IF(Input_PS!L55=\"\",VLOOKUP(Database_Tables!$C$1762,Database_Tables!$C$1749:$J$1763,3,FALSE),VLOOKUP(Input_PS!L55,Database_Tables!$C$1749:$J$1763,3,FALSE))+IF(AND(Input_PS!I$33=\"Yes\",NOT(ISBLANK(Input_PS!$B19)),Input_PS!I19>0),PS_Intermediate!I19,0)/IF(Input_PS!N55=\"\",VLOOKUP(Database_Tables!$C$1763,Database_Tables!$C$1749:$J$1763,2,FALSE),VLOOKUP(Input_PS!N55,Database_Tables!$C$1749:$J$1763,2,FALSE))*IF(Input_PS!N55=\"\",VLOOKUP(Database_Tables!$C$1763,Database_Tables!$C$1749:$J$1763,3,FALSE),VLOOKUP(Input_PS!N55,Database_Tables!$C$1749:$J$1763,3,FALSE)))","v":0},null,{"$f":"IF($B$48=\"Per Acre Inputs\",-1,-1*Input!$J$14)*(IF(AND(Input_PS!C$33=\"Yes\",NOT(ISBLANK(Input_PS!$B19)),Input_PS!C19>0),PS_Intermediate!C19,0)/IF(Input_PS!C55=\"\",VLOOKUP(\"Diesel\",Database_Tables!$C$1749:$J$1763,2,FALSE),VLOOKUP(Input_PS!C55,Database_Tables!$C$1749:$J$1763,2,FALSE))*IF(Input_PS!C55=\"\",VLOOKUP(\"Diesel\",Database_Tables!$C$1749:$J$1763,4,FALSE),VLOOKUP(Input_PS!C55,Database_Tables!$C$1749:$J$1763,4,FALSE))+IF(AND(Input_PS!D$33=\"Yes\",NOT(ISBLANK(Input_PS!$B19)),Input_PS!D19>0),PS_Intermediate!D19,0)/IF(Input_PS!E55=\"\",VLOOKUP(\"Diesel\",Database_Tables!$C$1749:$J$1763,2,FALSE),VLOOKUP(Input_PS!E55,Database_Tables!$C$1749:$J$1763,2,FALSE))*IF(Input_PS!E55=\"\",VLOOKUP(\"Diesel\",Database_Tables!$C$1749:$J$1763,4,FALSE),VLOOKUP(Input_PS!E55,Database_Tables!$C$1749:$J$1763,4,FALSE))+IF(AND(Input_PS!E$33=\"Yes\",NOT(ISBLANK(Input_PS!$B19)),Input_PS!E19>0),PS_Intermediate!E19,0)/IF(Input_PS!G55=\"\",VLOOKUP(\"Diesel\",Database_Tables!$C$1749:$J$1763,2,FALSE),VLOOKUP(Input_PS!G55,Database_Tables!$C$1749:$J$1763,2,FALSE))*IF(Input_PS!G55=\"\",VLOOKUP(\"Diesel\",Database_Tables!$C$1749:$J$1763,4,FALSE),VLOOKUP(Input_PS!G55,Database_Tables!$C$1749:$J$1763,4,FALSE))+IF(AND(Input_PS!F$33=\"Yes\",NOT(ISBLANK(Input_PS!$B19)),Input_PS!F19>0),PS_Intermediate!F19,0)/IF(Input_PS!I55=\"\",VLOOKUP(\"Diesel\",Database_Tables!$C$1749:$J$1763,2,FALSE),VLOOKUP(Input_PS!I55,Database_Tables!$C$1749:$J$1763,2,FALSE))*IF(Input_PS!I55=\"\",VLOOKUP(\"Diesel\",Database_Tables!$C$1749:$J$1763,4,FALSE),VLOOKUP(Input_PS!I55,Database_Tables!$C$1749:$J$1763,4,FALSE))+IF(AND(Input_PS!G$33=\"Yes\",NOT(ISBLANK(Input_PS!$B19)),Input_PS!G19>0),PS_Intermediate!G19,0)/IF(Input_PS!K55=\"\",VLOOKUP(Database_Tables!$C$1761,Database_Tables!$C$1749:$J$1763,2,FALSE),VLOOKUP(Input_PS!K55,Database_Tables!$C$1749:$J$1763,2,FALSE))*IF(Input_PS!K55=\"\",VLOOKUP(Database_Tables!$C$1761,Database_Tables!$C$1749:$J$1763,4,FALSE),VLOOKUP(Input_PS!K55,Database_Tables!$C$1749:$J$1763,4,FALSE))+IF(AND(Input_PS!H$33=\"Yes\",NOT(ISBLANK(Input_PS!$B19)),Input_PS!H19>0),PS_Intermediate!H19,0)/IF(Input_PS!L55=\"\",VLOOKUP(Database_Tables!$C$1762,Database_Tables!$C$1749:$J$1763,2,FALSE),VLOOKUP(Input_PS!L55,Database_Tables!$C$1749:$J$1763,2,FALSE))*IF(Input_PS!L55=\"\",VLOOKUP(Database_Tables!$C$1762,Database_Tables!$C$1749:$J$1763,4,FALSE),VLOOKUP(Input_PS!L55,Database_Tables!$C$1749:$J$1763,4,FALSE))+IF(AND(Input_PS!I$33=\"Yes\",NOT(ISBLANK(Input_PS!$B19)),Input_PS!I19>0),PS_Intermediate!I19,0)/IF(Input_PS!N55=\"\",VLOOKUP(Database_Tables!$C$1763,Database_Tables!$C$1749:$J$1763,2,FALSE),VLOOKUP(Input_PS!N55,Database_Tables!$C$1749:$J$1763,2,FALSE))*IF(Input_PS!N55=\"\",VLOOKUP(Database_Tables!$C$1763,Database_Tables!$C$1749:$J$1763,4,FALSE),VLOOKUP(Input_PS!N55,Database_Tables!$C$1749:$J$1763,4,FALSE)))","v":0},null,{"$f":"IF($B$48=\"Per Acre Inputs\",-1,-1*Input!$J$14)*(IF(AND(Input_PS!C$33=\"Yes\",NOT(ISBLANK(Input_PS!$B19)),Input_PS!C19>0),PS_Intermediate!C19,0)/IF(Input_PS!C55=\"\",VLOOKUP(\"Diesel\",Database_Tables!$C$1749:$J$1763,2,FALSE),VLOOKUP(Input_PS!C55,Database_Tables!$C$1749:$J$1763,2,FALSE))*IF(Input_PS!C55=\"\",VLOOKUP(\"Diesel\",Database_Tables!$C$1749:$J$1763,5,FALSE),VLOOKUP(Input_PS!C55,Database_Tables!$C$1749:$J$1763,5,FALSE))+IF(AND(Input_PS!D$33=\"Yes\",NOT(ISBLANK(Input_PS!$B19)),Input_PS!D19>0),PS_Intermediate!D19,0)/IF(Input_PS!E55=\"\",VLOOKUP(\"Diesel\",Database_Tables!$C$1749:$J$1763,2,FALSE),VLOOKUP(Input_PS!E55,Database_Tables!$C$1749:$J$1763,2,FALSE))*IF(Input_PS!E55=\"\",VLOOKUP(\"Diesel\",Database_Tables!$C$1749:$J$1763,5,FALSE),VLOOKUP(Input_PS!E55,Database_Tables!$C$1749:$J$1763,5,FALSE))+IF(AND(Input_PS!E$33=\"Yes\",NOT(ISBLANK(Input_PS!$B19)),Input_PS!E19>0),PS_Intermediate!E19,0)/IF(Input_PS!G55=\"\",VLOOKUP(\"Diesel\",Database_Tables!$C$1749:$J$1763,2,FALSE),VLOOKUP(Input_PS!G55,Database_Tables!$C$1749:$J$1763,2,FALSE))*IF(Input_PS!G55=\"\",VLOOKUP(\"Diesel\",Database_Tables!$C$1749:$J$1763,5,FALSE),VLOOKUP(Input_PS!G55,Database_Tables!$C$1749:$J$1763,5,FALSE))+IF(AND(Input_PS!F$33=\"Yes\",NOT(ISBLANK(Input_PS!$B19)),Input_PS!F19>0),PS_Intermediate!F19,0)/IF(Input_PS!I55=\"\",VLOOKUP(\"Diesel\",Database_Tables!$C$1749:$J$1763,2,FALSE),VLOOKUP(Input_PS!I55,Database_Tables!$C$1749:$J$1763,2,FALSE))*IF(Input_PS!I55=\"\",VLOOKUP(\"Diesel\",Database_Tables!$C$1749:$J$1763,5,FALSE),VLOOKUP(Input_PS!I55,Database_Tables!$C$1749:$J$1763,5,FALSE))+IF(AND(Input_PS!G$33=\"Yes\",NOT(ISBLANK(Input_PS!$B19)),Input_PS!G19>0),PS_Intermediate!G19,0)/IF(Input_PS!K55=\"\",VLOOKUP(Database_Tables!$C$1761,Database_Tables!$C$1749:$J$1763,2,FALSE),VLOOKUP(Input_PS!K55,Database_Tables!$C$1749:$J$1763,2,FALSE))*IF(Input_PS!K55=\"\",VLOOKUP(Database_Tables!$C$1761,Database_Tables!$C$1749:$J$1763,5,FALSE),VLOOKUP(Input_PS!K55,Database_Tables!$C$1749:$J$1763,5,FALSE))+IF(AND(Input_PS!H$33=\"Yes\",NOT(ISBLANK(Input_PS!$B19)),Input_PS!H19>0),PS_Intermediate!H19,0)/IF(Input_PS!L55=\"\",VLOOKUP(Database_Tables!$C$1762,Database_Tables!$C$1749:$J$1763,2,FALSE),VLOOKUP(Input_PS!L55,Database_Tables!$C$1749:$J$1763,2,FALSE))*IF(Input_PS!L55=\"\",VLOOKUP(Database_Tables!$C$1762,Database_Tables!$C$1749:$J$1763,5,FALSE),VLOOKUP(Input_PS!L55,Database_Tables!$C$1749:$J$1763,5,FALSE))+IF(AND(Input_PS!I$33=\"Yes\",NOT(ISBLANK(Input_PS!$B19)),Input_PS!I19>0),PS_Intermediate!I19,0)/IF(Input_PS!N55=\"\",VLOOKUP(Database_Tables!$C$1763,Database_Tables!$C$1749:$J$1763,2,FALSE),VLOOKUP(Input_PS!N55,Database_Tables!$C$1749:$J$1763,2,FALSE))*IF(Input_PS!N55=\"\",VLOOKUP(Database_Tables!$C$1763,Database_Tables!$C$1749:$J$1763,5,FALSE),VLOOKUP(Input_PS!N55,Database_Tables!$C$1749:$J$1763,5,FALSE)))","v":0},null,{"$f":"IF($B$48=\"Per Acre Inputs\",-1,-1*Input!$J$14)*(IF(AND(Input_PS!C$33=\"Yes\",NOT(ISBLANK(Input_PS!$B19)),Input_PS!C19>0),PS_Intermediate!C19,0)/IF(Input_PS!C55=\"\",VLOOKUP(\"Diesel\",Database_Tables!$C$1749:$J$1763,2,FALSE),VLOOKUP(Input_PS!C55,Database_Tables!$C$1749:$J$1763,2,FALSE))*IF(Input_PS!C55=\"\",VLOOKUP(\"Diesel\",Database_Tables!$C$1749:$J$1763,6,FALSE),VLOOKUP(Input_PS!C55,Database_Tables!$C$1749:$J$1763,6,FALSE))+IF(AND(Input_PS!D$33=\"Yes\",NOT(ISBLANK(Input_PS!$B19)),Input_PS!D19>0),PS_Intermediate!D19,0)/IF(Input_PS!E55=\"\",VLOOKUP(\"Diesel\",Database_Tables!$C$1749:$J$1763,2,FALSE),VLOOKUP(Input_PS!E55,Database_Tables!$C$1749:$J$1763,2,FALSE))*IF(Input_PS!E55=\"\",VLOOKUP(\"Diesel\",Database_Tables!$C$1749:$J$1763,6,FALSE),VLOOKUP(Input_PS!E55,Database_Tables!$C$1749:$J$1763,6,FALSE))+IF(AND(Input_PS!E$33=\"Yes\",NOT(ISBLANK(Input_PS!$B19)),Input_PS!E19>0),PS_Intermediate!E19,0)/IF(Input_PS!G55=\"\",VLOOKUP(\"Diesel\",Database_Tables!$C$1749:$J$1763,2,FALSE),VLOOKUP(Input_PS!G55,Database_Tables!$C$1749:$J$1763,2,FALSE))*IF(Input_PS!G55=\"\",VLOOKUP(\"Diesel\",Database_Tables!$C$1749:$J$1763,6,FALSE),VLOOKUP(Input_PS!G55,Database_Tables!$C$1749:$J$1763,6,FALSE))+IF(AND(Input_PS!F$33=\"Yes\",NOT(ISBLANK(Input_PS!$B19)),Input_PS!F19>0),PS_Intermediate!F19,0)/IF(Input_PS!I55=\"\",VLOOKUP(\"Diesel\",Database_Tables!$C$1749:$J$1763,2,FALSE),VLOOKUP(Input_PS!I55,Database_Tables!$C$1749:$J$1763,2,FALSE))*IF(Input_PS!I55=\"\",VLOOKUP(\"Diesel\",Database_Tables!$C$1749:$J$1763,6,FALSE),VLOOKUP(Input_PS!I55,Database_Tables!$C$1749:$J$1763,6,FALSE))+IF(AND(Input_PS!G$33=\"Yes\",NOT(ISBLANK(Input_PS!$B19)),Input_PS!G19>0),PS_Intermediate!G19,0)/IF(Input_PS!K55=\"\",VLOOKUP(Database_Tables!$C$1761,Database_Tables!$C$1749:$J$1763,2,FALSE),VLOOKUP(Input_PS!K55,Database_Tables!$C$1749:$J$1763,2,FALSE))*IF(Input_PS!K55=\"\",VLOOKUP(Database_Tables!$C$1761,Database_Tables!$C$1749:$J$1763,6,FALSE),VLOOKUP(Input_PS!K55,Database_Tables!$C$1749:$J$1763,6,FALSE))+IF(AND(Input_PS!H$33=\"Yes\",NOT(ISBLANK(Input_PS!$B19)),Input_PS!H19>0),PS_Intermediate!H19,0)/IF(Input_PS!L55=\"\",VLOOKUP(Database_Tables!$C$1762,Database_Tables!$C$1749:$J$1763,2,FALSE),VLOOKUP(Input_PS!L55,Database_Tables!$C$1749:$J$1763,2,FALSE))*IF(Input_PS!L55=\"\",VLOOKUP(Database_Tables!$C$1762,Database_Tables!$C$1749:$J$1763,6,FALSE),VLOOKUP(Input_PS!L55,Database_Tables!$C$1749:$J$1763,6,FALSE))+IF(AND(Input_PS!I$33=\"Yes\",NOT(ISBLANK(Input_PS!$B19)),Input_PS!I19>0),PS_Intermediate!I19,0)/IF(Input_PS!N55=\"\",VLOOKUP(Database_Tables!$C$1763,Database_Tables!$C$1749:$J$1763,2,FALSE),VLOOKUP(Input_PS!N55,Database_Tables!$C$1749:$J$1763,2,FALSE))*IF(Input_PS!N55=\"\",VLOOKUP(Database_Tables!$C$1763,Database_Tables!$C$1749:$J$1763,6,FALSE),VLOOKUP(Input_PS!N55,Database_Tables!$C$1749:$J$1763,6,FALSE)))","v":0},null,{"$f":"IF($B$48=\"Per Acre Inputs\",-1,-1*Input!$J$14)*(IF(AND(Input_PS!C$33=\"Yes\",NOT(ISBLANK(Input_PS!$B19)),Input_PS!C19>0),PS_Intermediate!C19,0)/IF(Input_PS!C55=\"\",VLOOKUP(\"Diesel\",Database_Tables!$C$1749:$J$1763,2,FALSE),VLOOKUP(Input_PS!C55,Database_Tables!$C$1749:$J$1763,2,FALSE))*IF(Input_PS!C55=\"\",VLOOKUP(\"Diesel\",Database_Tables!$C$1749:$J$1763,7,FALSE),VLOOKUP(Input_PS!C55,Database_Tables!$C$1749:$J$1763,7,FALSE))+IF(AND(Input_PS!D$33=\"Yes\",NOT(ISBLANK(Input_PS!$B19)),Input_PS!D19>0),PS_Intermediate!D19,0)/IF(Input_PS!E55=\"\",VLOOKUP(\"Diesel\",Database_Tables!$C$1749:$J$1763,2,FALSE),VLOOKUP(Input_PS!E55,Database_Tables!$C$1749:$J$1763,2,FALSE))*IF(Input_PS!E55=\"\",VLOOKUP(\"Diesel\",Database_Tables!$C$1749:$J$1763,7,FALSE),VLOOKUP(Input_PS!E55,Database_Tables!$C$1749:$J$1763,7,FALSE))+IF(AND(Input_PS!E$33=\"Yes\",NOT(ISBLANK(Input_PS!$B19)),Input_PS!E19>0),PS_Intermediate!E19,0)/IF(Input_PS!G55=\"\",VLOOKUP(\"Diesel\",Database_Tables!$C$1749:$J$1763,2,FALSE),VLOOKUP(Input_PS!G55,Database_Tables!$C$1749:$J$1763,2,FALSE))*IF(Input_PS!G55=\"\",VLOOKUP(\"Diesel\",Database_Tables!$C$1749:$J$1763,7,FALSE),VLOOKUP(Input_PS!G55,Database_Tables!$C$1749:$J$1763,7,FALSE))+IF(AND(Input_PS!F$33=\"Yes\",NOT(ISBLANK(Input_PS!$B19)),Input_PS!F19>0),PS_Intermediate!F19,0)/IF(Input_PS!I55=\"\",VLOOKUP(\"Diesel\",Database_Tables!$C$1749:$J$1763,2,FALSE),VLOOKUP(Input_PS!I55,Database_Tables!$C$1749:$J$1763,2,FALSE))*IF(Input_PS!I55=\"\",VLOOKUP(\"Diesel\",Database_Tables!$C$1749:$J$1763,7,FALSE),VLOOKUP(Input_PS!I55,Database_Tables!$C$1749:$J$1763,7,FALSE))+IF(AND(Input_PS!G$33=\"Yes\",NOT(ISBLANK(Input_PS!$B19)),Input_PS!G19>0),PS_Intermediate!G19,0)/IF(Input_PS!K55=\"\",VLOOKUP(Database_Tables!$C$1761,Database_Tables!$C$1749:$J$1763,2,FALSE),VLOOKUP(Input_PS!K55,Database_Tables!$C$1749:$J$1763,2,FALSE))*IF(Input_PS!K55=\"\",VLOOKUP(Database_Tables!$C$1761,Database_Tables!$C$1749:$J$1763,7,FALSE),VLOOKUP(Input_PS!K55,Database_Tables!$C$1749:$J$1763,7,FALSE))+IF(AND(Input_PS!H$33=\"Yes\",NOT(ISBLANK(Input_PS!$B19)),Input_PS!H19>0),PS_Intermediate!H19,0)/IF(Input_PS!L55=\"\",VLOOKUP(Database_Tables!$C$1762,Database_Tables!$C$1749:$J$1763,2,FALSE),VLOOKUP(Input_PS!L55,Database_Tables!$C$1749:$J$1763,2,FALSE))*IF(Input_PS!L55=\"\",VLOOKUP(Database_Tables!$C$1762,Database_Tables!$C$1749:$J$1763,7,FALSE),VLOOKUP(Input_PS!L55,Database_Tables!$C$1749:$J$1763,7,FALSE))+IF(AND(Input_PS!I$33=\"Yes\",NOT(ISBLANK(Input_PS!$B19)),Input_PS!I19>0),PS_Intermediate!I19,0)/IF(Input_PS!N55=\"\",VLOOKUP(Database_Tables!$C$1763,Database_Tables!$C$1749:$J$1763,2,FALSE),VLOOKUP(Input_PS!N55,Database_Tables!$C$1749:$J$1763,2,FALSE))*IF(Input_PS!N55=\"\",VLOOKUP(Database_Tables!$C$1763,Database_Tables!$C$1749:$J$1763,7,FALSE),VLOOKUP(Input_PS!N55,Database_Tables!$C$1749:$J$1763,7,FALSE)))","v":0},null,{"$f":"IF(ISNA(VLOOKUP(B54,Database_Tables!$I$1587:$J$1626,2,FALSE)),FALSE,TRUE)","v":false}]
[null,{"$f":"Input_PS!B20","v":0},{"$f":"IF($B$48=\"Per Acre Inputs\",-1,-1*Input!$J$14)*IF(B55=0,0,SUM(PS_Intermediate!C20:I20))*IF(C50=\"[MBTU]\",1000,1)","v":0},null,{"$f":"IF($B$48=\"Per Acre Inputs\",-1,-1*Input!$J$14)*(IF(AND(Input_PS!C$33=\"Yes\",NOT(ISBLANK(Input_PS!$B20)),Input_PS!C20>0),PS_Intermediate!C20,0)/IF(Input_PS!C56=\"\",VLOOKUP(\"Diesel\",Database_Tables!$C$1749:$J$1763,2,FALSE),VLOOKUP(Input_PS!C56,Database_Tables!$C$1749:$J$1763,2,FALSE))*IF(Input_PS!C56=\"\",VLOOKUP(\"Diesel\",Database_Tables!$C$1749:$J$1763,3,FALSE),VLOOKUP(Input_PS!C56,Database_Tables!$C$1749:$J$1763,3,FALSE))+IF(AND(Input_PS!D$33=\"Yes\",NOT(ISBLANK(Input_PS!$B20)),Input_PS!D20>0),PS_Intermediate!D20,0)/IF(Input_PS!E56=\"\",VLOOKUP(\"Diesel\",Database_Tables!$C$1749:$J$1763,2,FALSE),VLOOKUP(Input_PS!E56,Database_Tables!$C$1749:$J$1763,2,FALSE))*IF(Input_PS!E56=\"\",VLOOKUP(\"Diesel\",Database_Tables!$C$1749:$J$1763,3,FALSE),VLOOKUP(Input_PS!E56,Database_Tables!$C$1749:$J$1763,3,FALSE))+IF(AND(Input_PS!E$33=\"Yes\",NOT(ISBLANK(Input_PS!$B20)),Input_PS!E20>0),PS_Intermediate!E20,0)/IF(Input_PS!G56=\"\",VLOOKUP(\"Diesel\",Database_Tables!$C$1749:$J$1763,2,FALSE),VLOOKUP(Input_PS!G56,Database_Tables!$C$1749:$J$1763,2,FALSE))*IF(Input_PS!G56=\"\",VLOOKUP(\"Diesel\",Database_Tables!$C$1749:$J$1763,3,FALSE),VLOOKUP(Input_PS!G56,Database_Tables!$C$1749:$J$1763,3,FALSE))+IF(AND(Input_PS!F$33=\"Yes\",NOT(ISBLANK(Input_PS!$B20)),Input_PS!F20>0),PS_Intermediate!F20,0)/IF(Input_PS!I56=\"\",VLOOKUP(\"Diesel\",Database_Tables!$C$1749:$J$1763,2,FALSE),VLOOKUP(Input_PS!I56,Database_Tables!$C$1749:$J$1763,2,FALSE))*IF(Input_PS!I56=\"\",VLOOKUP(\"Diesel\",Database_Tables!$C$1749:$J$1763,3,FALSE),VLOOKUP(Input_PS!I56,Database_Tables!$C$1749:$J$1763,3,FALSE))+IF(AND(Input_PS!G$33=\"Yes\",NOT(ISBLANK(Input_PS!$B20)),Input_PS!G20>0),PS_Intermediate!G20,0)/IF(Input_PS!K56=\"\",VLOOKUP(Database_Tables!$C$1761,Database_Tables!$C$1749:$J$1763,2,FALSE),VLOOKUP(Input_PS!K56,Database_Tables!$C$1749:$J$1763,2,FALSE))*IF(Input_PS!K56=\"\",VLOOKUP(Database_Tables!$C$1761,Database_Tables!$C$1749:$J$1763,3,FALSE),VLOOKUP(Input_PS!K56,Database_Tables!$C$1749:$J$1763,3,FALSE))+IF(AND(Input_PS!H$33=\"Yes\",NOT(ISBLANK(Input_PS!$B20)),Input_PS!H20>0),PS_Intermediate!H20,0)/IF(Input_PS!L56=\"\",VLOOKUP(Database_Tables!$C$1762,Database_Tables!$C$1749:$J$1763,2,FALSE),VLOOKUP(Input_PS!L56,Database_Tables!$C$1749:$J$1763,2,FALSE))*IF(Input_PS!L56=\"\",VLOOKUP(Database_Tables!$C$1762,Database_Tables!$C$1749:$J$1763,3,FALSE),VLOOKUP(Input_PS!L56,Database_Tables!$C$1749:$J$1763,3,FALSE))+IF(AND(Input_PS!I$33=\"Yes\",NOT(ISBLANK(Input_PS!$B20)),Input_PS!I20>0),PS_Intermediate!I20,0)/IF(Input_PS!N56=\"\",VLOOKUP(Database_Tables!$C$1763,Database_Tables!$C$1749:$J$1763,2,FALSE),VLOOKUP(Input_PS!N56,Database_Tables!$C$1749:$J$1763,2,FALSE))*IF(Input_PS!N56=\"\",VLOOKUP(Database_Tables!$C$1763,Database_Tables!$C$1749:$J$1763,3,FALSE),VLOOKUP(Input_PS!N56,Database_Tables!$C$1749:$J$1763,3,FALSE)))","v":0},null,{"$f":"IF($B$48=\"Per Acre Inputs\",-1,-1*Input!$J$14)*(IF(AND(Input_PS!C$33=\"Yes\",NOT(ISBLANK(Input_PS!$B20)),Input_PS!C20>0),PS_Intermediate!C20,0)/IF(Input_PS!C56=\"\",VLOOKUP(\"Diesel\",Database_Tables!$C$1749:$J$1763,2,FALSE),VLOOKUP(Input_PS!C56,Database_Tables!$C$1749:$J$1763,2,FALSE))*IF(Input_PS!C56=\"\",VLOOKUP(\"Diesel\",Database_Tables!$C$1749:$J$1763,4,FALSE),VLOOKUP(Input_PS!C56,Database_Tables!$C$1749:$J$1763,4,FALSE))+IF(AND(Input_PS!D$33=\"Yes\",NOT(ISBLANK(Input_PS!$B20)),Input_PS!D20>0),PS_Intermediate!D20,0)/IF(Input_PS!E56=\"\",VLOOKUP(\"Diesel\",Database_Tables!$C$1749:$J$1763,2,FALSE),VLOOKUP(Input_PS!E56,Database_Tables!$C$1749:$J$1763,2,FALSE))*IF(Input_PS!E56=\"\",VLOOKUP(\"Diesel\",Database_Tables!$C$1749:$J$1763,4,FALSE),VLOOKUP(Input_PS!E56,Database_Tables!$C$1749:$J$1763,4,FALSE))+IF(AND(Input_PS!E$33=\"Yes\",NOT(ISBLANK(Input_PS!$B20)),Input_PS!E20>0),PS_Intermediate!E20,0)/IF(Input_PS!G56=\"\",VLOOKUP(\"Diesel\",Database_Tables!$C$1749:$J$1763,2,FALSE),VLOOKUP(Input_PS!G56,Database_Tables!$C$1749:$J$1763,2,FALSE))*IF(Input_PS!G56=\"\",VLOOKUP(\"Diesel\",Database_Tables!$C$1749:$J$1763,4,FALSE),VLOOKUP(Input_PS!G56,Database_Tables!$C$1749:$J$1763,4,FALSE))+IF(AND(Input_PS!F$33=\"Yes\",NOT(ISBLANK(Input_PS!$B20)),Input_PS!F20>0),PS_Intermediate!F20,0)/IF(Input_PS!I56=\"\",VLOOKUP(\"Diesel\",Database_Tables!$C$1749:$J$1763,2,FALSE),VLOOKUP(Input_PS!I56,Database_Tables!$C$1749:$J$1763,2,FALSE))*IF(Input_PS!I56=\"\",VLOOKUP(\"Diesel\",Database_Tables!$C$1749:$J$1763,4,FALSE),VLOOKUP(Input_PS!I56,Database_Tables!$C$1749:$J$1763,4,FALSE))+IF(AND(Input_PS!G$33=\"Yes\",NOT(ISBLANK(Input_PS!$B20)),Input_PS!G20>0),PS_Intermediate!G20,0)/IF(Input_PS!K56=\"\",VLOOKUP(Database_Tables!$C$1761,Database_Tables!$C$1749:$J$1763,2,FALSE),VLOOKUP(Input_PS!K56,Database_Tables!$C$1749:$J$1763,2,FALSE))*IF(Input_PS!K56=\"\",VLOOKUP(Database_Tables!$C$1761,Database_Tables!$C$1749:$J$1763,4,FALSE),VLOOKUP(Input_PS!K56,Database_Tables!$C$1749:$J$1763,4,FALSE))+IF(AND(Input_PS!H$33=\"Yes\",NOT(ISBLANK(Input_PS!$B20)),Input_PS!H20>0),PS_Intermediate!H20,0)/IF(Input_PS!L56=\"\",VLOOKUP(Database_Tables!$C$1762,Database_Tables!$C$1749:$J$1763,2,FALSE),VLOOKUP(Input_PS!L56,Database_Tables!$C$1749:$J$1763,2,FALSE))*IF(Input_PS!L56=\"\",VLOOKUP(Database_Tables!$C$1762,Database_Tables!$C$1749:$J$1763,4,FALSE),VLOOKUP(Input_PS!L56,Database_Tables!$C$1749:$J$1763,4,FALSE))+IF(AND(Input_PS!I$33=\"Yes\",NOT(ISBLANK(Input_PS!$B20)),Input_PS!I20>0),PS_Intermediate!I20,0)/IF(Input_PS!N56=\"\",VLOOKUP(Database_Tables!$C$1763,Database_Tables!$C$1749:$J$1763,2,FALSE),VLOOKUP(Input_PS!N56,Database_Tables!$C$1749:$J$1763,2,FALSE))*IF(Input_PS!N56=\"\",VLOOKUP(Database_Tables!$C$1763,Database_Tables!$C$1749:$J$1763,4,FALSE),VLOOKUP(Input_PS!N56,Database_Tables!$C$1749:$J$1763,4,FALSE)))","v":0},null,{"$f":"IF($B$48=\"Per Acre Inputs\",-1,-1*Input!$J$14)*(IF(AND(Input_PS!C$33=\"Yes\",NOT(ISBLANK(Input_PS!$B20)),Input_PS!C20>0),PS_Intermediate!C20,0)/IF(Input_PS!C56=\"\",VLOOKUP(\"Diesel\",Database_Tables!$C$1749:$J$1763,2,FALSE),VLOOKUP(Input_PS!C56,Database_Tables!$C$1749:$J$1763,2,FALSE))*IF(Input_PS!C56=\"\",VLOOKUP(\"Diesel\",Database_Tables!$C$1749:$J$1763,5,FALSE),VLOOKUP(Input_PS!C56,Database_Tables!$C$1749:$J$1763,5,FALSE))+IF(AND(Input_PS!D$33=\"Yes\",NOT(ISBLANK(Input_PS!$B20)),Input_PS!D20>0),PS_Intermediate!D20,0)/IF(Input_PS!E56=\"\",VLOOKUP(\"Diesel\",Database_Tables!$C$1749:$J$1763,2,FALSE),VLOOKUP(Input_PS!E56,Database_Tables!$C$1749:$J$1763,2,FALSE))*IF(Input_PS!E56=\"\",VLOOKUP(\"Diesel\",Database_Tables!$C$1749:$J$1763,5,FALSE),VLOOKUP(Input_PS!E56,Database_Tables!$C$1749:$J$1763,5,FALSE))+IF(AND(Input_PS!E$33=\"Yes\",NOT(ISBLANK(Input_PS!$B20)),Input_PS!E20>0),PS_Intermediate!E20,0)/IF(Input_PS!G56=\"\",VLOOKUP(\"Diesel\",Database_Tables!$C$1749:$J$1763,2,FALSE),VLOOKUP(Input_PS!G56,Database_Tables!$C$1749:$J$1763,2,FALSE))*IF(Input_PS!G56=\"\",VLOOKUP(\"Diesel\",Database_Tables!$C$1749:$J$1763,5,FALSE),VLOOKUP(Input_PS!G56,Database_Tables!$C$1749:$J$1763,5,FALSE))+IF(AND(Input_PS!F$33=\"Yes\",NOT(ISBLANK(Input_PS!$B20)),Input_PS!F20>0),PS_Intermediate!F20,0)/IF(Input_PS!I56=\"\",VLOOKUP(\"Diesel\",Database_Tables!$C$1749:$J$1763,2,FALSE),VLOOKUP(Input_PS!I56,Database_Tables!$C$1749:$J$1763,2,FALSE))*IF(Input_PS!I56=\"\",VLOOKUP(\"Diesel\",Database_Tables!$C$1749:$J$1763,5,FALSE),VLOOKUP(Input_PS!I56,Database_Tables!$C$1749:$J$1763,5,FALSE))+IF(AND(Input_PS!G$33=\"Yes\",NOT(ISBLANK(Input_PS!$B20)),Input_PS!G20>0),PS_Intermediate!G20,0)/IF(Input_PS!K56=\"\",VLOOKUP(Database_Tables!$C$1761,Database_Tables!$C$1749:$J$1763,2,FALSE),VLOOKUP(Input_PS!K56,Database_Tables!$C$1749:$J$1763,2,FALSE))*IF(Input_PS!K56=\"\",VLOOKUP(Database_Tables!$C$1761,Database_Tables!$C$1749:$J$1763,5,FALSE),VLOOKUP(Input_PS!K56,Database_Tables!$C$1749:$J$1763,5,FALSE))+IF(AND(Input_PS!H$33=\"Yes\",NOT(ISBLANK(Input_PS!$B20)),Input_PS!H20>0),PS_Intermediate!H20,0)/IF(Input_PS!L56=\"\",VLOOKUP(Database_Tables!$C$1762,Database_Tables!$C$1749:$J$1763,2,FALSE),VLOOKUP(Input_PS!L56,Database_Tables!$C$1749:$J$1763,2,FALSE))*IF(Input_PS!L56=\"\",VLOOKUP(Database_Tables!$C$1762,Database_Tables!$C$1749:$J$1763,5,FALSE),VLOOKUP(Input_PS!L56,Database_Tables!$C$1749:$J$1763,5,FALSE))+IF(AND(Input_PS!I$33=\"Yes\",NOT(ISBLANK(Input_PS!$B20)),Input_PS!I20>0),PS_Intermediate!I20,0)/IF(Input_PS!N56=\"\",VLOOKUP(Database_Tables!$C$1763,Database_Tables!$C$1749:$J$1763,2,FALSE),VLOOKUP(Input_PS!N56,Database_Tables!$C$1749:$J$1763,2,FALSE))*IF(Input_PS!N56=\"\",VLOOKUP(Database_Tables!$C$1763,Database_Tables!$C$1749:$J$1763,5,FALSE),VLOOKUP(Input_PS!N56,Database_Tables!$C$1749:$J$1763,5,FALSE)))","v":0},null,{"$f":"IF($B$48=\"Per Acre Inputs\",-1,-1*Input!$J$14)*(IF(AND(Input_PS!C$33=\"Yes\",NOT(ISBLANK(Input_PS!$B20)),Input_PS!C20>0),PS_Intermediate!C20,0)/IF(Input_PS!C56=\"\",VLOOKUP(\"Diesel\",Database_Tables!$C$1749:$J$1763,2,FALSE),VLOOKUP(Input_PS!C56,Database_Tables!$C$1749:$J$1763,2,FALSE))*IF(Input_PS!C56=\"\",VLOOKUP(\"Diesel\",Database_Tables!$C$1749:$J$1763,6,FALSE),VLOOKUP(Input_PS!C56,Database_Tables!$C$1749:$J$1763,6,FALSE))+IF(AND(Input_PS!D$33=\"Yes\",NOT(ISBLANK(Input_PS!$B20)),Input_PS!D20>0),PS_Intermediate!D20,0)/IF(Input_PS!E56=\"\",VLOOKUP(\"Diesel\",Database_Tables!$C$1749:$J$1763,2,FALSE),VLOOKUP(Input_PS!E56,Database_Tables!$C$1749:$J$1763,2,FALSE))*IF(Input_PS!E56=\"\",VLOOKUP(\"Diesel\",Database_Tables!$C$1749:$J$1763,6,FALSE),VLOOKUP(Input_PS!E56,Database_Tables!$C$1749:$J$1763,6,FALSE))+IF(AND(Input_PS!E$33=\"Yes\",NOT(ISBLANK(Input_PS!$B20)),Input_PS!E20>0),PS_Intermediate!E20,0)/IF(Input_PS!G56=\"\",VLOOKUP(\"Diesel\",Database_Tables!$C$1749:$J$1763,2,FALSE),VLOOKUP(Input_PS!G56,Database_Tables!$C$1749:$J$1763,2,FALSE))*IF(Input_PS!G56=\"\",VLOOKUP(\"Diesel\",Database_Tables!$C$1749:$J$1763,6,FALSE),VLOOKUP(Input_PS!G56,Database_Tables!$C$1749:$J$1763,6,FALSE))+IF(AND(Input_PS!F$33=\"Yes\",NOT(ISBLANK(Input_PS!$B20)),Input_PS!F20>0),PS_Intermediate!F20,0)/IF(Input_PS!I56=\"\",VLOOKUP(\"Diesel\",Database_Tables!$C$1749:$J$1763,2,FALSE),VLOOKUP(Input_PS!I56,Database_Tables!$C$1749:$J$1763,2,FALSE))*IF(Input_PS!I56=\"\",VLOOKUP(\"Diesel\",Database_Tables!$C$1749:$J$1763,6,FALSE),VLOOKUP(Input_PS!I56,Database_Tables!$C$1749:$J$1763,6,FALSE))+IF(AND(Input_PS!G$33=\"Yes\",NOT(ISBLANK(Input_PS!$B20)),Input_PS!G20>0),PS_Intermediate!G20,0)/IF(Input_PS!K56=\"\",VLOOKUP(Database_Tables!$C$1761,Database_Tables!$C$1749:$J$1763,2,FALSE),VLOOKUP(Input_PS!K56,Database_Tables!$C$1749:$J$1763,2,FALSE))*IF(Input_PS!K56=\"\",VLOOKUP(Database_Tables!$C$1761,Database_Tables!$C$1749:$J$1763,6,FALSE),VLOOKUP(Input_PS!K56,Database_Tables!$C$1749:$J$1763,6,FALSE))+IF(AND(Input_PS!H$33=\"Yes\",NOT(ISBLANK(Input_PS!$B20)),Input_PS!H20>0),PS_Intermediate!H20,0)/IF(Input_PS!L56=\"\",VLOOKUP(Database_Tables!$C$1762,Database_Tables!$C$1749:$J$1763,2,FALSE),VLOOKUP(Input_PS!L56,Database_Tables!$C$1749:$J$1763,2,FALSE))*IF(Input_PS!L56=\"\",VLOOKUP(Database_Tables!$C$1762,Database_Tables!$C$1749:$J$1763,6,FALSE),VLOOKUP(Input_PS!L56,Database_Tables!$C$1749:$J$1763,6,FALSE))+IF(AND(Input_PS!I$33=\"Yes\",NOT(ISBLANK(Input_PS!$B20)),Input_PS!I20>0),PS_Intermediate!I20,0)/IF(Input_PS!N56=\"\",VLOOKUP(Database_Tables!$C$1763,Database_Tables!$C$1749:$J$1763,2,FALSE),VLOOKUP(Input_PS!N56,Database_Tables!$C$1749:$J$1763,2,FALSE))*IF(Input_PS!N56=\"\",VLOOKUP(Database_Tables!$C$1763,Database_Tables!$C$1749:$J$1763,6,FALSE),VLOOKUP(Input_PS!N56,Database_Tables!$C$1749:$J$1763,6,FALSE)))","v":0},null,{"$f":"IF($B$48=\"Per Acre Inputs\",-1,-1*Input!$J$14)*(IF(AND(Input_PS!C$33=\"Yes\",NOT(ISBLANK(Input_PS!$B20)),Input_PS!C20>0),PS_Intermediate!C20,0)/IF(Input_PS!C56=\"\",VLOOKUP(\"Diesel\",Database_Tables!$C$1749:$J$1763,2,FALSE),VLOOKUP(Input_PS!C56,Database_Tables!$C$1749:$J$1763,2,FALSE))*IF(Input_PS!C56=\"\",VLOOKUP(\"Diesel\",Database_Tables!$C$1749:$J$1763,7,FALSE),VLOOKUP(Input_PS!C56,Database_Tables!$C$1749:$J$1763,7,FALSE))+IF(AND(Input_PS!D$33=\"Yes\",NOT(ISBLANK(Input_PS!$B20)),Input_PS!D20>0),PS_Intermediate!D20,0)/IF(Input_PS!E56=\"\",VLOOKUP(\"Diesel\",Database_Tables!$C$1749:$J$1763,2,FALSE),VLOOKUP(Input_PS!E56,Database_Tables!$C$1749:$J$1763,2,FALSE))*IF(Input_PS!E56=\"\",VLOOKUP(\"Diesel\",Database_Tables!$C$1749:$J$1763,7,FALSE),VLOOKUP(Input_PS!E56,Database_Tables!$C$1749:$J$1763,7,FALSE))+IF(AND(Input_PS!E$33=\"Yes\",NOT(ISBLANK(Input_PS!$B20)),Input_PS!E20>0),PS_Intermediate!E20,0)/IF(Input_PS!G56=\"\",VLOOKUP(\"Diesel\",Database_Tables!$C$1749:$J$1763,2,FALSE),VLOOKUP(Input_PS!G56,Database_Tables!$C$1749:$J$1763,2,FALSE))*IF(Input_PS!G56=\"\",VLOOKUP(\"Diesel\",Database_Tables!$C$1749:$J$1763,7,FALSE),VLOOKUP(Input_PS!G56,Database_Tables!$C$1749:$J$1763,7,FALSE))+IF(AND(Input_PS!F$33=\"Yes\",NOT(ISBLANK(Input_PS!$B20)),Input_PS!F20>0),PS_Intermediate!F20,0)/IF(Input_PS!I56=\"\",VLOOKUP(\"Diesel\",Database_Tables!$C$1749:$J$1763,2,FALSE),VLOOKUP(Input_PS!I56,Database_Tables!$C$1749:$J$1763,2,FALSE))*IF(Input_PS!I56=\"\",VLOOKUP(\"Diesel\",Database_Tables!$C$1749:$J$1763,7,FALSE),VLOOKUP(Input_PS!I56,Database_Tables!$C$1749:$J$1763,7,FALSE))+IF(AND(Input_PS!G$33=\"Yes\",NOT(ISBLANK(Input_PS!$B20)),Input_PS!G20>0),PS_Intermediate!G20,0)/IF(Input_PS!K56=\"\",VLOOKUP(Database_Tables!$C$1761,Database_Tables!$C$1749:$J$1763,2,FALSE),VLOOKUP(Input_PS!K56,Database_Tables!$C$1749:$J$1763,2,FALSE))*IF(Input_PS!K56=\"\",VLOOKUP(Database_Tables!$C$1761,Database_Tables!$C$1749:$J$1763,7,FALSE),VLOOKUP(Input_PS!K56,Database_Tables!$C$1749:$J$1763,7,FALSE))+IF(AND(Input_PS!H$33=\"Yes\",NOT(ISBLANK(Input_PS!$B20)),Input_PS!H20>0),PS_Intermediate!H20,0)/IF(Input_PS!L56=\"\",VLOOKUP(Database_Tables!$C$1762,Database_Tables!$C$1749:$J$1763,2,FALSE),VLOOKUP(Input_PS!L56,Database_Tables!$C$1749:$J$1763,2,FALSE))*IF(Input_PS!L56=\"\",VLOOKUP(Database_Tables!$C$1762,Database_Tables!$C$1749:$J$1763,7,FALSE),VLOOKUP(Input_PS!L56,Database_Tables!$C$1749:$J$1763,7,FALSE))+IF(AND(Input_PS!I$33=\"Yes\",NOT(ISBLANK(Input_PS!$B20)),Input_PS!I20>0),PS_Intermediate!I20,0)/IF(Input_PS!N56=\"\",VLOOKUP(Database_Tables!$C$1763,Database_Tables!$C$1749:$J$1763,2,FALSE),VLOOKUP(Input_PS!N56,Database_Tables!$C$1749:$J$1763,2,FALSE))*IF(Input_PS!N56=\"\",VLOOKUP(Database_Tables!$C$1763,Database_Tables!$C$1749:$J$1763,7,FALSE),VLOOKUP(Input_PS!N56,Database_Tables!$C$1749:$J$1763,7,FALSE)))","v":0},null,{"$f":"IF(ISNA(VLOOKUP(B55,Database_Tables!$I$1587:$J$1626,2,FALSE)),FALSE,TRUE)","v":false}]
[null,{"$f":"Input_PS!B21","v":0},{"$f":"IF($B$48=\"Per Acre Inputs\",-1,-1*Input!$J$14)*IF(B56=0,0,SUM(PS_Intermediate!C21:I21))*IF(C50=\"[MBTU]\",1000,1)","v":0},null,{"$f":"IF($B$48=\"Per Acre Inputs\",-1,-1*Input!$J$14)*(IF(AND(Input_PS!C$33=\"Yes\",NOT(ISBLANK(Input_PS!$B21)),Input_PS!C21>0),PS_Intermediate!C21,0)/IF(Input_PS!C57=\"\",VLOOKUP(\"Diesel\",Database_Tables!$C$1749:$J$1763,2,FALSE),VLOOKUP(Input_PS!C57,Database_Tables!$C$1749:$J$1763,2,FALSE))*IF(Input_PS!C57=\"\",VLOOKUP(\"Diesel\",Database_Tables!$C$1749:$J$1763,3,FALSE),VLOOKUP(Input_PS!C57,Database_Tables!$C$1749:$J$1763,3,FALSE))+IF(AND(Input_PS!D$33=\"Yes\",NOT(ISBLANK(Input_PS!$B21)),Input_PS!D21>0),PS_Intermediate!D21,0)/IF(Input_PS!E57=\"\",VLOOKUP(\"Diesel\",Database_Tables!$C$1749:$J$1763,2,FALSE),VLOOKUP(Input_PS!E57,Database_Tables!$C$1749:$J$1763,2,FALSE))*IF(Input_PS!E57=\"\",VLOOKUP(\"Diesel\",Database_Tables!$C$1749:$J$1763,3,FALSE),VLOOKUP(Input_PS!E57,Database_Tables!$C$1749:$J$1763,3,FALSE))+IF(AND(Input_PS!E$33=\"Yes\",NOT(ISBLANK(Input_PS!$B21)),Input_PS!E21>0),PS_Intermediate!E21,0)/IF(Input_PS!G57=\"\",VLOOKUP(\"Diesel\",Database_Tables!$C$1749:$J$1763,2,FALSE),VLOOKUP(Input_PS!G57,Database_Tables!$C$1749:$J$1763,2,FALSE))*IF(Input_PS!G57=\"\",VLOOKUP(\"Diesel\",Database_Tables!$C$1749:$J$1763,3,FALSE),VLOOKUP(Input_PS!G57,Database_Tables!$C$1749:$J$1763,3,FALSE))+IF(AND(Input_PS!F$33=\"Yes\",NOT(ISBLANK(Input_PS!$B21)),Input_PS!F21>0),PS_Intermediate!F21,0)/IF(Input_PS!I57=\"\",VLOOKUP(\"Diesel\",Database_Tables!$C$1749:$J$1763,2,FALSE),VLOOKUP(Input_PS!I57,Database_Tables!$C$1749:$J$1763,2,FALSE))*IF(Input_PS!I57=\"\",VLOOKUP(\"Diesel\",Database_Tables!$C$1749:$J$1763,3,FALSE),VLOOKUP(Input_PS!I57,Database_Tables!$C$1749:$J$1763,3,FALSE))+IF(AND(Input_PS!G$33=\"Yes\",NOT(ISBLANK(Input_PS!$B21)),Input_PS!G21>0),PS_Intermediate!G21,0)/IF(Input_PS!K57=\"\",VLOOKUP(Database_Tables!$C$1761,Database_Tables!$C$1749:$J$1763,2,FALSE),VLOOKUP(Input_PS!K57,Database_Tables!$C$1749:$J$1763,2,FALSE))*IF(Input_PS!K57=\"\",VLOOKUP(Database_Tables!$C$1761,Database_Tables!$C$1749:$J$1763,3,FALSE),VLOOKUP(Input_PS!K57,Database_Tables!$C$1749:$J$1763,3,FALSE))+IF(AND(Input_PS!H$33=\"Yes\",NOT(ISBLANK(Input_PS!$B21)),Input_PS!H21>0),PS_Intermediate!H21,0)/IF(Input_PS!L57=\"\",VLOOKUP(Database_Tables!$C$1762,Database_Tables!$C$1749:$J$1763,2,FALSE),VLOOKUP(Input_PS!L57,Database_Tables!$C$1749:$J$1763,2,FALSE))*IF(Input_PS!L57=\"\",VLOOKUP(Database_Tables!$C$1762,Database_Tables!$C$1749:$J$1763,3,FALSE),VLOOKUP(Input_PS!L57,Database_Tables!$C$1749:$J$1763,3,FALSE))+IF(AND(Input_PS!I$33=\"Yes\",NOT(ISBLANK(Input_PS!$B21)),Input_PS!I21>0),PS_Intermediate!I21,0)/IF(Input_PS!N57=\"\",VLOOKUP(Database_Tables!$C$1763,Database_Tables!$C$1749:$J$1763,2,FALSE),VLOOKUP(Input_PS!N57,Database_Tables!$C$1749:$J$1763,2,FALSE))*IF(Input_PS!N57=\"\",VLOOKUP(Database_Tables!$C$1763,Database_Tables!$C$1749:$J$1763,3,FALSE),VLOOKUP(Input_PS!N57,Database_Tables!$C$1749:$J$1763,3,FALSE)))","v":0},null,{"$f":"IF($B$48=\"Per Acre Inputs\",-1,-1*Input!$J$14)*(IF(AND(Input_PS!C$33=\"Yes\",NOT(ISBLANK(Input_PS!$B21)),Input_PS!C21>0),PS_Intermediate!C21,0)/IF(Input_PS!C57=\"\",VLOOKUP(\"Diesel\",Database_Tables!$C$1749:$J$1763,2,FALSE),VLOOKUP(Input_PS!C57,Database_Tables!$C$1749:$J$1763,2,FALSE))*IF(Input_PS!C57=\"\",VLOOKUP(\"Diesel\",Database_Tables!$C$1749:$J$1763,4,FALSE),VLOOKUP(Input_PS!C57,Database_Tables!$C$1749:$J$1763,4,FALSE))+IF(AND(Input_PS!D$33=\"Yes\",NOT(ISBLANK(Input_PS!$B21)),Input_PS!D21>0),PS_Intermediate!D21,0)/IF(Input_PS!E57=\"\",VLOOKUP(\"Diesel\",Database_Tables!$C$1749:$J$1763,2,FALSE),VLOOKUP(Input_PS!E57,Database_Tables!$C$1749:$J$1763,2,FALSE))*IF(Input_PS!E57=\"\",VLOOKUP(\"Diesel\",Database_Tables!$C$1749:$J$1763,4,FALSE),VLOOKUP(Input_PS!E57,Database_Tables!$C$1749:$J$1763,4,FALSE))+IF(AND(Input_PS!E$33=\"Yes\",NOT(ISBLANK(Input_PS!$B21)),Input_PS!E21>0),PS_Intermediate!E21,0)/IF(Input_PS!G57=\"\",VLOOKUP(\"Diesel\",Database_Tables!$C$1749:$J$1763,2,FALSE),VLOOKUP(Input_PS!G57,Database_Tables!$C$1749:$J$1763,2,FALSE))*IF(Input_PS!G57=\"\",VLOOKUP(\"Diesel\",Database_Tables!$C$1749:$J$1763,4,FALSE),VLOOKUP(Input_PS!G57,Database_Tables!$C$1749:$J$1763,4,FALSE))+IF(AND(Input_PS!F$33=\"Yes\",NOT(ISBLANK(Input_PS!$B21)),Input_PS!F21>0),PS_Intermediate!F21,0)/IF(Input_PS!I57=\"\",VLOOKUP(\"Diesel\",Database_Tables!$C$1749:$J$1763,2,FALSE),VLOOKUP(Input_PS!I57,Database_Tables!$C$1749:$J$1763,2,FALSE))*IF(Input_PS!I57=\"\",VLOOKUP(\"Diesel\",Database_Tables!$C$1749:$J$1763,4,FALSE),VLOOKUP(Input_PS!I57,Database_Tables!$C$1749:$J$1763,4,FALSE))+IF(AND(Input_PS!G$33=\"Yes\",NOT(ISBLANK(Input_PS!$B21)),Input_PS!G21>0),PS_Intermediate!G21,0)/IF(Input_PS!K57=\"\",VLOOKUP(Database_Tables!$C$1761,Database_Tables!$C$1749:$J$1763,2,FALSE),VLOOKUP(Input_PS!K57,Database_Tables!$C$1749:$J$1763,2,FALSE))*IF(Input_PS!K57=\"\",VLOOKUP(Database_Tables!$C$1761,Database_Tables!$C$1749:$J$1763,4,FALSE),VLOOKUP(Input_PS!K57,Database_Tables!$C$1749:$J$1763,4,FALSE))+IF(AND(Input_PS!H$33=\"Yes\",NOT(ISBLANK(Input_PS!$B21)),Input_PS!H21>0),PS_Intermediate!H21,0)/IF(Input_PS!L57=\"\",VLOOKUP(Database_Tables!$C$1762,Database_Tables!$C$1749:$J$1763,2,FALSE),VLOOKUP(Input_PS!L57,Database_Tables!$C$1749:$J$1763,2,FALSE))*IF(Input_PS!L57=\"\",VLOOKUP(Database_Tables!$C$1762,Database_Tables!$C$1749:$J$1763,4,FALSE),VLOOKUP(Input_PS!L57,Database_Tables!$C$1749:$J$1763,4,FALSE))+IF(AND(Input_PS!I$33=\"Yes\",NOT(ISBLANK(Input_PS!$B21)),Input_PS!I21>0),PS_Intermediate!I21,0)/IF(Input_PS!N57=\"\",VLOOKUP(Database_Tables!$C$1763,Database_Tables!$C$1749:$J$1763,2,FALSE),VLOOKUP(Input_PS!N57,Database_Tables!$C$1749:$J$1763,2,FALSE))*IF(Input_PS!N57=\"\",VLOOKUP(Database_Tables!$C$1763,Database_Tables!$C$1749:$J$1763,4,FALSE),VLOOKUP(Input_PS!N57,Database_Tables!$C$1749:$J$1763,4,FALSE)))","v":0},null,{"$f":"IF($B$48=\"Per Acre Inputs\",-1,-1*Input!$J$14)*(IF(AND(Input_PS!C$33=\"Yes\",NOT(ISBLANK(Input_PS!$B21)),Input_PS!C21>0),PS_Intermediate!C21,0)/IF(Input_PS!C57=\"\",VLOOKUP(\"Diesel\",Database_Tables!$C$1749:$J$1763,2,FALSE),VLOOKUP(Input_PS!C57,Database_Tables!$C$1749:$J$1763,2,FALSE))*IF(Input_PS!C57=\"\",VLOOKUP(\"Diesel\",Database_Tables!$C$1749:$J$1763,5,FALSE),VLOOKUP(Input_PS!C57,Database_Tables!$C$1749:$J$1763,5,FALSE))+IF(AND(Input_PS!D$33=\"Yes\",NOT(ISBLANK(Input_PS!$B21)),Input_PS!D21>0),PS_Intermediate!D21,0)/IF(Input_PS!E57=\"\",VLOOKUP(\"Diesel\",Database_Tables!$C$1749:$J$1763,2,FALSE),VLOOKUP(Input_PS!E57,Database_Tables!$C$1749:$J$1763,2,FALSE))*IF(Input_PS!E57=\"\",VLOOKUP(\"Diesel\",Database_Tables!$C$1749:$J$1763,5,FALSE),VLOOKUP(Input_PS!E57,Database_Tables!$C$1749:$J$1763,5,FALSE))+IF(AND(Input_PS!E$33=\"Yes\",NOT(ISBLANK(Input_PS!$B21)),Input_PS!E21>0),PS_Intermediate!E21,0)/IF(Input_PS!G57=\"\",VLOOKUP(\"Diesel\",Database_Tables!$C$1749:$J$1763,2,FALSE),VLOOKUP(Input_PS!G57,Database_Tables!$C$1749:$J$1763,2,FALSE))*IF(Input_PS!G57=\"\",VLOOKUP(\"Diesel\",Database_Tables!$C$1749:$J$1763,5,FALSE),VLOOKUP(Input_PS!G57,Database_Tables!$C$1749:$J$1763,5,FALSE))+IF(AND(Input_PS!F$33=\"Yes\",NOT(ISBLANK(Input_PS!$B21)),Input_PS!F21>0),PS_Intermediate!F21,0)/IF(Input_PS!I57=\"\",VLOOKUP(\"Diesel\",Database_Tables!$C$1749:$J$1763,2,FALSE),VLOOKUP(Input_PS!I57,Database_Tables!$C$1749:$J$1763,2,FALSE))*IF(Input_PS!I57=\"\",VLOOKUP(\"Diesel\",Database_Tables!$C$1749:$J$1763,5,FALSE),VLOOKUP(Input_PS!I57,Database_Tables!$C$1749:$J$1763,5,FALSE))+IF(AND(Input_PS!G$33=\"Yes\",NOT(ISBLANK(Input_PS!$B21)),Input_PS!G21>0),PS_Intermediate!G21,0)/IF(Input_PS!K57=\"\",VLOOKUP(Database_Tables!$C$1761,Database_Tables!$C$1749:$J$1763,2,FALSE),VLOOKUP(Input_PS!K57,Database_Tables!$C$1749:$J$1763,2,FALSE))*IF(Input_PS!K57=\"\",VLOOKUP(Database_Tables!$C$1761,Database_Tables!$C$1749:$J$1763,5,FALSE),VLOOKUP(Input_PS!K57,Database_Tables!$C$1749:$J$1763,5,FALSE))+IF(AND(Input_PS!H$33=\"Yes\",NOT(ISBLANK(Input_PS!$B21)),Input_PS!H21>0),PS_Intermediate!H21,0)/IF(Input_PS!L57=\"\",VLOOKUP(Database_Tables!$C$1762,Database_Tables!$C$1749:$J$1763,2,FALSE),VLOOKUP(Input_PS!L57,Database_Tables!$C$1749:$J$1763,2,FALSE))*IF(Input_PS!L57=\"\",VLOOKUP(Database_Tables!$C$1762,Database_Tables!$C$1749:$J$1763,5,FALSE),VLOOKUP(Input_PS!L57,Database_Tables!$C$1749:$J$1763,5,FALSE))+IF(AND(Input_PS!I$33=\"Yes\",NOT(ISBLANK(Input_PS!$B21)),Input_PS!I21>0),PS_Intermediate!I21,0)/IF(Input_PS!N57=\"\",VLOOKUP(Database_Tables!$C$1763,Database_Tables!$C$1749:$J$1763,2,FALSE),VLOOKUP(Input_PS!N57,Database_Tables!$C$1749:$J$1763,2,FALSE))*IF(Input_PS!N57=\"\",VLOOKUP(Database_Tables!$C$1763,Database_Tables!$C$1749:$J$1763,5,FALSE),VLOOKUP(Input_PS!N57,Database_Tables!$C$1749:$J$1763,5,FALSE)))","v":0},null,{"$f":"IF($B$48=\"Per Acre Inputs\",-1,-1*Input!$J$14)*(IF(AND(Input_PS!C$33=\"Yes\",NOT(ISBLANK(Input_PS!$B21)),Input_PS!C21>0),PS_Intermediate!C21,0)/IF(Input_PS!C57=\"\",VLOOKUP(\"Diesel\",Database_Tables!$C$1749:$J$1763,2,FALSE),VLOOKUP(Input_PS!C57,Database_Tables!$C$1749:$J$1763,2,FALSE))*IF(Input_PS!C57=\"\",VLOOKUP(\"Diesel\",Database_Tables!$C$1749:$J$1763,6,FALSE),VLOOKUP(Input_PS!C57,Database_Tables!$C$1749:$J$1763,6,FALSE))+IF(AND(Input_PS!D$33=\"Yes\",NOT(ISBLANK(Input_PS!$B21)),Input_PS!D21>0),PS_Intermediate!D21,0)/IF(Input_PS!E57=\"\",VLOOKUP(\"Diesel\",Database_Tables!$C$1749:$J$1763,2,FALSE),VLOOKUP(Input_PS!E57,Database_Tables!$C$1749:$J$1763,2,FALSE))*IF(Input_PS!E57=\"\",VLOOKUP(\"Diesel\",Database_Tables!$C$1749:$J$1763,6,FALSE),VLOOKUP(Input_PS!E57,Database_Tables!$C$1749:$J$1763,6,FALSE))+IF(AND(Input_PS!E$33=\"Yes\",NOT(ISBLANK(Input_PS!$B21)),Input_PS!E21>0),PS_Intermediate!E21,0)/IF(Input_PS!G57=\"\",VLOOKUP(\"Diesel\",Database_Tables!$C$1749:$J$1763,2,FALSE),VLOOKUP(Input_PS!G57,Database_Tables!$C$1749:$J$1763,2,FALSE))*IF(Input_PS!G57=\"\",VLOOKUP(\"Diesel\",Database_Tables!$C$1749:$J$1763,6,FALSE),VLOOKUP(Input_PS!G57,Database_Tables!$C$1749:$J$1763,6,FALSE))+IF(AND(Input_PS!F$33=\"Yes\",NOT(ISBLANK(Input_PS!$B21)),Input_PS!F21>0),PS_Intermediate!F21,0)/IF(Input_PS!I57=\"\",VLOOKUP(\"Diesel\",Database_Tables!$C$1749:$J$1763,2,FALSE),VLOOKUP(Input_PS!I57,Database_Tables!$C$1749:$J$1763,2,FALSE))*IF(Input_PS!I57=\"\",VLOOKUP(\"Diesel\",Database_Tables!$C$1749:$J$1763,6,FALSE),VLOOKUP(Input_PS!I57,Database_Tables!$C$1749:$J$1763,6,FALSE))+IF(AND(Input_PS!G$33=\"Yes\",NOT(ISBLANK(Input_PS!$B21)),Input_PS!G21>0),PS_Intermediate!G21,0)/IF(Input_PS!K57=\"\",VLOOKUP(Database_Tables!$C$1761,Database_Tables!$C$1749:$J$1763,2,FALSE),VLOOKUP(Input_PS!K57,Database_Tables!$C$1749:$J$1763,2,FALSE))*IF(Input_PS!K57=\"\",VLOOKUP(Database_Tables!$C$1761,Database_Tables!$C$1749:$J$1763,6,FALSE),VLOOKUP(Input_PS!K57,Database_Tables!$C$1749:$J$1763,6,FALSE))+IF(AND(Input_PS!H$33=\"Yes\",NOT(ISBLANK(Input_PS!$B21)),Input_PS!H21>0),PS_Intermediate!H21,0)/IF(Input_PS!L57=\"\",VLOOKUP(Database_Tables!$C$1762,Database_Tables!$C$1749:$J$1763,2,FALSE),VLOOKUP(Input_PS!L57,Database_Tables!$C$1749:$J$1763,2,FALSE))*IF(Input_PS!L57=\"\",VLOOKUP(Database_Tables!$C$1762,Database_Tables!$C$1749:$J$1763,6,FALSE),VLOOKUP(Input_PS!L57,Database_Tables!$C$1749:$J$1763,6,FALSE))+IF(AND(Input_PS!I$33=\"Yes\",NOT(ISBLANK(Input_PS!$B21)),Input_PS!I21>0),PS_Intermediate!I21,0)/IF(Input_PS!N57=\"\",VLOOKUP(Database_Tables!$C$1763,Database_Tables!$C$1749:$J$1763,2,FALSE),VLOOKUP(Input_PS!N57,Database_Tables!$C$1749:$J$1763,2,FALSE))*IF(Input_PS!N57=\"\",VLOOKUP(Database_Tables!$C$1763,Database_Tables!$C$1749:$J$1763,6,FALSE),VLOOKUP(Input_PS!N57,Database_Tables!$C$1749:$J$1763,6,FALSE)))","v":0},null,{"$f":"IF($B$48=\"Per Acre Inputs\",-1,-1*Input!$J$14)*(IF(AND(Input_PS!C$33=\"Yes\",NOT(ISBLANK(Input_PS!$B21)),Input_PS!C21>0),PS_Intermediate!C21,0)/IF(Input_PS!C57=\"\",VLOOKUP(\"Diesel\",Database_Tables!$C$1749:$J$1763,2,FALSE),VLOOKUP(Input_PS!C57,Database_Tables!$C$1749:$J$1763,2,FALSE))*IF(Input_PS!C57=\"\",VLOOKUP(\"Diesel\",Database_Tables!$C$1749:$J$1763,7,FALSE),VLOOKUP(Input_PS!C57,Database_Tables!$C$1749:$J$1763,7,FALSE))+IF(AND(Input_PS!D$33=\"Yes\",NOT(ISBLANK(Input_PS!$B21)),Input_PS!D21>0),PS_Intermediate!D21,0)/IF(Input_PS!E57=\"\",VLOOKUP(\"Diesel\",Database_Tables!$C$1749:$J$1763,2,FALSE),VLOOKUP(Input_PS!E57,Database_Tables!$C$1749:$J$1763,2,FALSE))*IF(Input_PS!E57=\"\",VLOOKUP(\"Diesel\",Database_Tables!$C$1749:$J$1763,7,FALSE),VLOOKUP(Input_PS!E57,Database_Tables!$C$1749:$J$1763,7,FALSE))+IF(AND(Input_PS!E$33=\"Yes\",NOT(ISBLANK(Input_PS!$B21)),Input_PS!E21>0),PS_Intermediate!E21,0)/IF(Input_PS!G57=\"\",VLOOKUP(\"Diesel\",Database_Tables!$C$1749:$J$1763,2,FALSE),VLOOKUP(Input_PS!G57,Database_Tables!$C$1749:$J$1763,2,FALSE))*IF(Input_PS!G57=\"\",VLOOKUP(\"Diesel\",Database_Tables!$C$1749:$J$1763,7,FALSE),VLOOKUP(Input_PS!G57,Database_Tables!$C$1749:$J$1763,7,FALSE))+IF(AND(Input_PS!F$33=\"Yes\",NOT(ISBLANK(Input_PS!$B21)),Input_PS!F21>0),PS_Intermediate!F21,0)/IF(Input_PS!I57=\"\",VLOOKUP(\"Diesel\",Database_Tables!$C$1749:$J$1763,2,FALSE),VLOOKUP(Input_PS!I57,Database_Tables!$C$1749:$J$1763,2,FALSE))*IF(Input_PS!I57=\"\",VLOOKUP(\"Diesel\",Database_Tables!$C$1749:$J$1763,7,FALSE),VLOOKUP(Input_PS!I57,Database_Tables!$C$1749:$J$1763,7,FALSE))+IF(AND(Input_PS!G$33=\"Yes\",NOT(ISBLANK(Input_PS!$B21)),Input_PS!G21>0),PS_Intermediate!G21,0)/IF(Input_PS!K57=\"\",VLOOKUP(Database_Tables!$C$1761,Database_Tables!$C$1749:$J$1763,2,FALSE),VLOOKUP(Input_PS!K57,Database_Tables!$C$1749:$J$1763,2,FALSE))*IF(Input_PS!K57=\"\",VLOOKUP(Database_Tables!$C$1761,Database_Tables!$C$1749:$J$1763,7,FALSE),VLOOKUP(Input_PS!K57,Database_Tables!$C$1749:$J$1763,7,FALSE))+IF(AND(Input_PS!H$33=\"Yes\",NOT(ISBLANK(Input_PS!$B21)),Input_PS!H21>0),PS_Intermediate!H21,0)/IF(Input_PS!L57=\"\",VLOOKUP(Database_Tables!$C$1762,Database_Tables!$C$1749:$J$1763,2,FALSE),VLOOKUP(Input_PS!L57,Database_Tables!$C$1749:$J$1763,2,FALSE))*IF(Input_PS!L57=\"\",VLOOKUP(Database_Tables!$C$1762,Database_Tables!$C$1749:$J$1763,7,FALSE),VLOOKUP(Input_PS!L57,Database_Tables!$C$1749:$J$1763,7,FALSE))+IF(AND(Input_PS!I$33=\"Yes\",NOT(ISBLANK(Input_PS!$B21)),Input_PS!I21>0),PS_Intermediate!I21,0)/IF(Input_PS!N57=\"\",VLOOKUP(Database_Tables!$C$1763,Database_Tables!$C$1749:$J$1763,2,FALSE),VLOOKUP(Input_PS!N57,Database_Tables!$C$1749:$J$1763,2,FALSE))*IF(Input_PS!N57=\"\",VLOOKUP(Database_Tables!$C$1763,Database_Tables!$C$1749:$J$1763,7,FALSE),VLOOKUP(Input_PS!N57,Database_Tables!$C$1749:$J$1763,7,FALSE)))","v":0},null,{"$f":"IF(ISNA(VLOOKUP(B56,Database_Tables!$I$1587:$J$1626,2,FALSE)),FALSE,TRUE)","v":false}]
[null,{"$f":"Input_PS!B22","v":0},{"$f":"IF($B$48=\"Per Acre Inputs\",-1,-1*Input!$J$14)*IF(B57=0,0,SUM(PS_Intermediate!C22:I22))*IF(C50=\"[MBTU]\",1000,1)","v":0},null,{"$f":"IF($B$48=\"Per Acre Inputs\",-1,-1*Input!$J$14)*(IF(AND(Input_PS!C$33=\"Yes\",NOT(ISBLANK(Input_PS!$B22)),Input_PS!C22>0),PS_Intermediate!C22,0)/IF(Input_PS!C58=\"\",VLOOKUP(\"Diesel\",Database_Tables!$C$1749:$J$1763,2,FALSE),VLOOKUP(Input_PS!C58,Database_Tables!$C$1749:$J$1763,2,FALSE))*IF(Input_PS!C58=\"\",VLOOKUP(\"Diesel\",Database_Tables!$C$1749:$J$1763,3,FALSE),VLOOKUP(Input_PS!C58,Database_Tables!$C$1749:$J$1763,3,FALSE))+IF(AND(Input_PS!D$33=\"Yes\",NOT(ISBLANK(Input_PS!$B22)),Input_PS!D22>0),PS_Intermediate!D22,0)/IF(Input_PS!E58=\"\",VLOOKUP(\"Diesel\",Database_Tables!$C$1749:$J$1763,2,FALSE),VLOOKUP(Input_PS!E58,Database_Tables!$C$1749:$J$1763,2,FALSE))*IF(Input_PS!E58=\"\",VLOOKUP(\"Diesel\",Database_Tables!$C$1749:$J$1763,3,FALSE),VLOOKUP(Input_PS!E58,Database_Tables!$C$1749:$J$1763,3,FALSE))+IF(AND(Input_PS!E$33=\"Yes\",NOT(ISBLANK(Input_PS!$B22)),Input_PS!E22>0),PS_Intermediate!E22,0)/IF(Input_PS!G58=\"\",VLOOKUP(\"Diesel\",Database_Tables!$C$1749:$J$1763,2,FALSE),VLOOKUP(Input_PS!G58,Database_Tables!$C$1749:$J$1763,2,FALSE))*IF(Input_PS!G58=\"\",VLOOKUP(\"Diesel\",Database_Tables!$C$1749:$J$1763,3,FALSE),VLOOKUP(Input_PS!G58,Database_Tables!$C$1749:$J$1763,3,FALSE))+IF(AND(Input_PS!F$33=\"Yes\",NOT(ISBLANK(Input_PS!$B22)),Input_PS!F22>0),PS_Intermediate!F22,0)/IF(Input_PS!I58=\"\",VLOOKUP(\"Diesel\",Database_Tables!$C$1749:$J$1763,2,FALSE),VLOOKUP(Input_PS!I58,Database_Tables!$C$1749:$J$1763,2,FALSE))*IF(Input_PS!I58=\"\",VLOOKUP(\"Diesel\",Database_Tables!$C$1749:$J$1763,3,FALSE),VLOOKUP(Input_PS!I58,Database_Tables!$C$1749:$J$1763,3,FALSE))+IF(AND(Input_PS!G$33=\"Yes\",NOT(ISBLANK(Input_PS!$B22)),Input_PS!G22>0),PS_Intermediate!G22,0)/IF(Input_PS!K58=\"\",VLOOKUP(Database_Tables!$C$1761,Database_Tables!$C$1749:$J$1763,2,FALSE),VLOOKUP(Input_PS!K58,Database_Tables!$C$1749:$J$1763,2,FALSE))*IF(Input_PS!K58=\"\",VLOOKUP(Database_Tables!$C$1761,Database_Tables!$C$1749:$J$1763,3,FALSE),VLOOKUP(Input_PS!K58,Database_Tables!$C$1749:$J$1763,3,FALSE))+IF(AND(Input_PS!H$33=\"Yes\",NOT(ISBLANK(Input_PS!$B22)),Input_PS!H22>0),PS_Intermediate!H22,0)/IF(Input_PS!L58=\"\",VLOOKUP(Database_Tables!$C$1762,Database_Tables!$C$1749:$J$1763,2,FALSE),VLOOKUP(Input_PS!L58,Database_Tables!$C$1749:$J$1763,2,FALSE))*IF(Input_PS!L58=\"\",VLOOKUP(Database_Tables!$C$1762,Database_Tables!$C$1749:$J$1763,3,FALSE),VLOOKUP(Input_PS!L58,Database_Tables!$C$1749:$J$1763,3,FALSE))+IF(AND(Input_PS!I$33=\"Yes\",NOT(ISBLANK(Input_PS!$B22)),Input_PS!I22>0),PS_Intermediate!I22,0)/IF(Input_PS!N58=\"\",VLOOKUP(Database_Tables!$C$1763,Database_Tables!$C$1749:$J$1763,2,FALSE),VLOOKUP(Input_PS!N58,Database_Tables!$C$1749:$J$1763,2,FALSE))*IF(Input_PS!N58=\"\",VLOOKUP(Database_Tables!$C$1763,Database_Tables!$C$1749:$J$1763,3,FALSE),VLOOKUP(Input_PS!N58,Database_Tables!$C$1749:$J$1763,3,FALSE)))","v":0},null,{"$f":"IF($B$48=\"Per Acre Inputs\",-1,-1*Input!$J$14)*(IF(AND(Input_PS!C$33=\"Yes\",NOT(ISBLANK(Input_PS!$B22)),Input_PS!C22>0),PS_Intermediate!C22,0)/IF(Input_PS!C58=\"\",VLOOKUP(\"Diesel\",Database_Tables!$C$1749:$J$1763,2,FALSE),VLOOKUP(Input_PS!C58,Database_Tables!$C$1749:$J$1763,2,FALSE))*IF(Input_PS!C58=\"\",VLOOKUP(\"Diesel\",Database_Tables!$C$1749:$J$1763,4,FALSE),VLOOKUP(Input_PS!C58,Database_Tables!$C$1749:$J$1763,4,FALSE))+IF(AND(Input_PS!D$33=\"Yes\",NOT(ISBLANK(Input_PS!$B22)),Input_PS!D22>0),PS_Intermediate!D22,0)/IF(Input_PS!E58=\"\",VLOOKUP(\"Diesel\",Database_Tables!$C$1749:$J$1763,2,FALSE),VLOOKUP(Input_PS!E58,Database_Tables!$C$1749:$J$1763,2,FALSE))*IF(Input_PS!E58=\"\",VLOOKUP(\"Diesel\",Database_Tables!$C$1749:$J$1763,4,FALSE),VLOOKUP(Input_PS!E58,Database_Tables!$C$1749:$J$1763,4,FALSE))+IF(AND(Input_PS!E$33=\"Yes\",NOT(ISBLANK(Input_PS!$B22)),Input_PS!E22>0),PS_Intermediate!E22,0)/IF(Input_PS!G58=\"\",VLOOKUP(\"Diesel\",Database_Tables!$C$1749:$J$1763,2,FALSE),VLOOKUP(Input_PS!G58,Database_Tables!$C$1749:$J$1763,2,FALSE))*IF(Input_PS!G58=\"\",VLOOKUP(\"Diesel\",Database_Tables!$C$1749:$J$1763,4,FALSE),VLOOKUP(Input_PS!G58,Database_Tables!$C$1749:$J$1763,4,FALSE))+IF(AND(Input_PS!F$33=\"Yes\",NOT(ISBLANK(Input_PS!$B22)),Input_PS!F22>0),PS_Intermediate!F22,0)/IF(Input_PS!I58=\"\",VLOOKUP(\"Diesel\",Database_Tables!$C$1749:$J$1763,2,FALSE),VLOOKUP(Input_PS!I58,Database_Tables!$C$1749:$J$1763,2,FALSE))*IF(Input_PS!I58=\"\",VLOOKUP(\"Diesel\",Database_Tables!$C$1749:$J$1763,4,FALSE),VLOOKUP(Input_PS!I58,Database_Tables!$C$1749:$J$1763,4,FALSE))+IF(AND(Input_PS!G$33=\"Yes\",NOT(ISBLANK(Input_PS!$B22)),Input_PS!G22>0),PS_Intermediate!G22,0)/IF(Input_PS!K58=\"\",VLOOKUP(Database_Tables!$C$1761,Database_Tables!$C$1749:$J$1763,2,FALSE),VLOOKUP(Input_PS!K58,Database_Tables!$C$1749:$J$1763,2,FALSE))*IF(Input_PS!K58=\"\",VLOOKUP(Database_Tables!$C$1761,Database_Tables!$C$1749:$J$1763,4,FALSE),VLOOKUP(Input_PS!K58,Database_Tables!$C$1749:$J$1763,4,FALSE))+IF(AND(Input_PS!H$33=\"Yes\",NOT(ISBLANK(Input_PS!$B22)),Input_PS!H22>0),PS_Intermediate!H22,0)/IF(Input_PS!L58=\"\",VLOOKUP(Database_Tables!$C$1762,Database_Tables!$C$1749:$J$1763,2,FALSE),VLOOKUP(Input_PS!L58,Database_Tables!$C$1749:$J$1763,2,FALSE))*IF(Input_PS!L58=\"\",VLOOKUP(Database_Tables!$C$1762,Database_Tables!$C$1749:$J$1763,4,FALSE),VLOOKUP(Input_PS!L58,Database_Tables!$C$1749:$J$1763,4,FALSE))+IF(AND(Input_PS!I$33=\"Yes\",NOT(ISBLANK(Input_PS!$B22)),Input_PS!I22>0),PS_Intermediate!I22,0)/IF(Input_PS!N58=\"\",VLOOKUP(Database_Tables!$C$1763,Database_Tables!$C$1749:$J$1763,2,FALSE),VLOOKUP(Input_PS!N58,Database_Tables!$C$1749:$J$1763,2,FALSE))*IF(Input_PS!N58=\"\",VLOOKUP(Database_Tables!$C$1763,Database_Tables!$C$1749:$J$1763,4,FALSE),VLOOKUP(Input_PS!N58,Database_Tables!$C$1749:$J$1763,4,FALSE)))","v":0},null,{"$f":"IF($B$48=\"Per Acre Inputs\",-1,-1*Input!$J$14)*(IF(AND(Input_PS!C$33=\"Yes\",NOT(ISBLANK(Input_PS!$B22)),Input_PS!C22>0),PS_Intermediate!C22,0)/IF(Input_PS!C58=\"\",VLOOKUP(\"Diesel\",Database_Tables!$C$1749:$J$1763,2,FALSE),VLOOKUP(Input_PS!C58,Database_Tables!$C$1749:$J$1763,2,FALSE))*IF(Input_PS!C58=\"\",VLOOKUP(\"Diesel\",Database_Tables!$C$1749:$J$1763,5,FALSE),VLOOKUP(Input_PS!C58,Database_Tables!$C$1749:$J$1763,5,FALSE))+IF(AND(Input_PS!D$33=\"Yes\",NOT(ISBLANK(Input_PS!$B22)),Input_PS!D22>0),PS_Intermediate!D22,0)/IF(Input_PS!E58=\"\",VLOOKUP(\"Diesel\",Database_Tables!$C$1749:$J$1763,2,FALSE),VLOOKUP(Input_PS!E58,Database_Tables!$C$1749:$J$1763,2,FALSE))*IF(Input_PS!E58=\"\",VLOOKUP(\"Diesel\",Database_Tables!$C$1749:$J$1763,5,FALSE),VLOOKUP(Input_PS!E58,Database_Tables!$C$1749:$J$1763,5,FALSE))+IF(AND(Input_PS!E$33=\"Yes\",NOT(ISBLANK(Input_PS!$B22)),Input_PS!E22>0),PS_Intermediate!E22,0)/IF(Input_PS!G58=\"\",VLOOKUP(\"Diesel\",Database_Tables!$C$1749:$J$1763,2,FALSE),VLOOKUP(Input_PS!G58,Database_Tables!$C$1749:$J$1763,2,FALSE))*IF(Input_PS!G58=\"\",VLOOKUP(\"Diesel\",Database_Tables!$C$1749:$J$1763,5,FALSE),VLOOKUP(Input_PS!G58,Database_Tables!$C$1749:$J$1763,5,FALSE))+IF(AND(Input_PS!F$33=\"Yes\",NOT(ISBLANK(Input_PS!$B22)),Input_PS!F22>0),PS_Intermediate!F22,0)/IF(Input_PS!I58=\"\",VLOOKUP(\"Diesel\",Database_Tables!$C$1749:$J$1763,2,FALSE),VLOOKUP(Input_PS!I58,Database_Tables!$C$1749:$J$1763,2,FALSE))*IF(Input_PS!I58=\"\",VLOOKUP(\"Diesel\",Database_Tables!$C$1749:$J$1763,5,FALSE),VLOOKUP(Input_PS!I58,Database_Tables!$C$1749:$J$1763,5,FALSE))+IF(AND(Input_PS!G$33=\"Yes\",NOT(ISBLANK(Input_PS!$B22)),Input_PS!G22>0),PS_Intermediate!G22,0)/IF(Input_PS!K58=\"\",VLOOKUP(Database_Tables!$C$1761,Database_Tables!$C$1749:$J$1763,2,FALSE),VLOOKUP(Input_PS!K58,Database_Tables!$C$1749:$J$1763,2,FALSE))*IF(Input_PS!K58=\"\",VLOOKUP(Database_Tables!$C$1761,Database_Tables!$C$1749:$J$1763,5,FALSE),VLOOKUP(Input_PS!K58,Database_Tables!$C$1749:$J$1763,5,FALSE))+IF(AND(Input_PS!H$33=\"Yes\",NOT(ISBLANK(Input_PS!$B22)),Input_PS!H22>0),PS_Intermediate!H22,0)/IF(Input_PS!L58=\"\",VLOOKUP(Database_Tables!$C$1762,Database_Tables!$C$1749:$J$1763,2,FALSE),VLOOKUP(Input_PS!L58,Database_Tables!$C$1749:$J$1763,2,FALSE))*IF(Input_PS!L58=\"\",VLOOKUP(Database_Tables!$C$1762,Database_Tables!$C$1749:$J$1763,5,FALSE),VLOOKUP(Input_PS!L58,Database_Tables!$C$1749:$J$1763,5,FALSE))+IF(AND(Input_PS!I$33=\"Yes\",NOT(ISBLANK(Input_PS!$B22)),Input_PS!I22>0),PS_Intermediate!I22,0)/IF(Input_PS!N58=\"\",VLOOKUP(Database_Tables!$C$1763,Database_Tables!$C$1749:$J$1763,2,FALSE),VLOOKUP(Input_PS!N58,Database_Tables!$C$1749:$J$1763,2,FALSE))*IF(Input_PS!N58=\"\",VLOOKUP(Database_Tables!$C$1763,Database_Tables!$C$1749:$J$1763,5,FALSE),VLOOKUP(Input_PS!N58,Database_Tables!$C$1749:$J$1763,5,FALSE)))","v":0},null,{"$f":"IF($B$48=\"Per Acre Inputs\",-1,-1*Input!$J$14)*(IF(AND(Input_PS!C$33=\"Yes\",NOT(ISBLANK(Input_PS!$B22)),Input_PS!C22>0),PS_Intermediate!C22,0)/IF(Input_PS!C58=\"\",VLOOKUP(\"Diesel\",Database_Tables!$C$1749:$J$1763,2,FALSE),VLOOKUP(Input_PS!C58,Database_Tables!$C$1749:$J$1763,2,FALSE))*IF(Input_PS!C58=\"\",VLOOKUP(\"Diesel\",Database_Tables!$C$1749:$J$1763,6,FALSE),VLOOKUP(Input_PS!C58,Database_Tables!$C$1749:$J$1763,6,FALSE))+IF(AND(Input_PS!D$33=\"Yes\",NOT(ISBLANK(Input_PS!$B22)),Input_PS!D22>0),PS_Intermediate!D22,0)/IF(Input_PS!E58=\"\",VLOOKUP(\"Diesel\",Database_Tables!$C$1749:$J$1763,2,FALSE),VLOOKUP(Input_PS!E58,Database_Tables!$C$1749:$J$1763,2,FALSE))*IF(Input_PS!E58=\"\",VLOOKUP(\"Diesel\",Database_Tables!$C$1749:$J$1763,6,FALSE),VLOOKUP(Input_PS!E58,Database_Tables!$C$1749:$J$1763,6,FALSE))+IF(AND(Input_PS!E$33=\"Yes\",NOT(ISBLANK(Input_PS!$B22)),Input_PS!E22>0),PS_Intermediate!E22,0)/IF(Input_PS!G58=\"\",VLOOKUP(\"Diesel\",Database_Tables!$C$1749:$J$1763,2,FALSE),VLOOKUP(Input_PS!G58,Database_Tables!$C$1749:$J$1763,2,FALSE))*IF(Input_PS!G58=\"\",VLOOKUP(\"Diesel\",Database_Tables!$C$1749:$J$1763,6,FALSE),VLOOKUP(Input_PS!G58,Database_Tables!$C$1749:$J$1763,6,FALSE))+IF(AND(Input_PS!F$33=\"Yes\",NOT(ISBLANK(Input_PS!$B22)),Input_PS!F22>0),PS_Intermediate!F22,0)/IF(Input_PS!I58=\"\",VLOOKUP(\"Diesel\",Database_Tables!$C$1749:$J$1763,2,FALSE),VLOOKUP(Input_PS!I58,Database_Tables!$C$1749:$J$1763,2,FALSE))*IF(Input_PS!I58=\"\",VLOOKUP(\"Diesel\",Database_Tables!$C$1749:$J$1763,6,FALSE),VLOOKUP(Input_PS!I58,Database_Tables!$C$1749:$J$1763,6,FALSE))+IF(AND(Input_PS!G$33=\"Yes\",NOT(ISBLANK(Input_PS!$B22)),Input_PS!G22>0),PS_Intermediate!G22,0)/IF(Input_PS!K58=\"\",VLOOKUP(Database_Tables!$C$1761,Database_Tables!$C$1749:$J$1763,2,FALSE),VLOOKUP(Input_PS!K58,Database_Tables!$C$1749:$J$1763,2,FALSE))*IF(Input_PS!K58=\"\",VLOOKUP(Database_Tables!$C$1761,Database_Tables!$C$1749:$J$1763,6,FALSE),VLOOKUP(Input_PS!K58,Database_Tables!$C$1749:$J$1763,6,FALSE))+IF(AND(Input_PS!H$33=\"Yes\",NOT(ISBLANK(Input_PS!$B22)),Input_PS!H22>0),PS_Intermediate!H22,0)/IF(Input_PS!L58=\"\",VLOOKUP(Database_Tables!$C$1762,Database_Tables!$C$1749:$J$1763,2,FALSE),VLOOKUP(Input_PS!L58,Database_Tables!$C$1749:$J$1763,2,FALSE))*IF(Input_PS!L58=\"\",VLOOKUP(Database_Tables!$C$1762,Database_Tables!$C$1749:$J$1763,6,FALSE),VLOOKUP(Input_PS!L58,Database_Tables!$C$1749:$J$1763,6,FALSE))+IF(AND(Input_PS!I$33=\"Yes\",NOT(ISBLANK(Input_PS!$B22)),Input_PS!I22>0),PS_Intermediate!I22,0)/IF(Input_PS!N58=\"\",VLOOKUP(Database_Tables!$C$1763,Database_Tables!$C$1749:$J$1763,2,FALSE),VLOOKUP(Input_PS!N58,Database_Tables!$C$1749:$J$1763,2,FALSE))*IF(Input_PS!N58=\"\",VLOOKUP(Database_Tables!$C$1763,Database_Tables!$C$1749:$J$1763,6,FALSE),VLOOKUP(Input_PS!N58,Database_Tables!$C$1749:$J$1763,6,FALSE)))","v":0},null,{"$f":"IF($B$48=\"Per Acre Inputs\",-1,-1*Input!$J$14)*(IF(AND(Input_PS!C$33=\"Yes\",NOT(ISBLANK(Input_PS!$B22)),Input_PS!C22>0),PS_Intermediate!C22,0)/IF(Input_PS!C58=\"\",VLOOKUP(\"Diesel\",Database_Tables!$C$1749:$J$1763,2,FALSE),VLOOKUP(Input_PS!C58,Database_Tables!$C$1749:$J$1763,2,FALSE))*IF(Input_PS!C58=\"\",VLOOKUP(\"Diesel\",Database_Tables!$C$1749:$J$1763,7,FALSE),VLOOKUP(Input_PS!C58,Database_Tables!$C$1749:$J$1763,7,FALSE))+IF(AND(Input_PS!D$33=\"Yes\",NOT(ISBLANK(Input_PS!$B22)),Input_PS!D22>0),PS_Intermediate!D22,0)/IF(Input_PS!E58=\"\",VLOOKUP(\"Diesel\",Database_Tables!$C$1749:$J$1763,2,FALSE),VLOOKUP(Input_PS!E58,Database_Tables!$C$1749:$J$1763,2,FALSE))*IF(Input_PS!E58=\"\",VLOOKUP(\"Diesel\",Database_Tables!$C$1749:$J$1763,7,FALSE),VLOOKUP(Input_PS!E58,Database_Tables!$C$1749:$J$1763,7,FALSE))+IF(AND(Input_PS!E$33=\"Yes\",NOT(ISBLANK(Input_PS!$B22)),Input_PS!E22>0),PS_Intermediate!E22,0)/IF(Input_PS!G58=\"\",VLOOKUP(\"Diesel\",Database_Tables!$C$1749:$J$1763,2,FALSE),VLOOKUP(Input_PS!G58,Database_Tables!$C$1749:$J$1763,2,FALSE))*IF(Input_PS!G58=\"\",VLOOKUP(\"Diesel\",Database_Tables!$C$1749:$J$1763,7,FALSE),VLOOKUP(Input_PS!G58,Database_Tables!$C$1749:$J$1763,7,FALSE))+IF(AND(Input_PS!F$33=\"Yes\",NOT(ISBLANK(Input_PS!$B22)),Input_PS!F22>0),PS_Intermediate!F22,0)/IF(Input_PS!I58=\"\",VLOOKUP(\"Diesel\",Database_Tables!$C$1749:$J$1763,2,FALSE),VLOOKUP(Input_PS!I58,Database_Tables!$C$1749:$J$1763,2,FALSE))*IF(Input_PS!I58=\"\",VLOOKUP(\"Diesel\",Database_Tables!$C$1749:$J$1763,7,FALSE),VLOOKUP(Input_PS!I58,Database_Tables!$C$1749:$J$1763,7,FALSE))+IF(AND(Input_PS!G$33=\"Yes\",NOT(ISBLANK(Input_PS!$B22)),Input_PS!G22>0),PS_Intermediate!G22,0)/IF(Input_PS!K58=\"\",VLOOKUP(Database_Tables!$C$1761,Database_Tables!$C$1749:$J$1763,2,FALSE),VLOOKUP(Input_PS!K58,Database_Tables!$C$1749:$J$1763,2,FALSE))*IF(Input_PS!K58=\"\",VLOOKUP(Database_Tables!$C$1761,Database_Tables!$C$1749:$J$1763,7,FALSE),VLOOKUP(Input_PS!K58,Database_Tables!$C$1749:$J$1763,7,FALSE))+IF(AND(Input_PS!H$33=\"Yes\",NOT(ISBLANK(Input_PS!$B22)),Input_PS!H22>0),PS_Intermediate!H22,0)/IF(Input_PS!L58=\"\",VLOOKUP(Database_Tables!$C$1762,Database_Tables!$C$1749:$J$1763,2,FALSE),VLOOKUP(Input_PS!L58,Database_Tables!$C$1749:$J$1763,2,FALSE))*IF(Input_PS!L58=\"\",VLOOKUP(Database_Tables!$C$1762,Database_Tables!$C$1749:$J$1763,7,FALSE),VLOOKUP(Input_PS!L58,Database_Tables!$C$1749:$J$1763,7,FALSE))+IF(AND(Input_PS!I$33=\"Yes\",NOT(ISBLANK(Input_PS!$B22)),Input_PS!I22>0),PS_Intermediate!I22,0)/IF(Input_PS!N58=\"\",VLOOKUP(Database_Tables!$C$1763,Database_Tables!$C$1749:$J$1763,2,FALSE),VLOOKUP(Input_PS!N58,Database_Tables!$C$1749:$J$1763,2,FALSE))*IF(Input_PS!N58=\"\",VLOOKUP(Database_Tables!$C$1763,Database_Tables!$C$1749:$J$1763,7,FALSE),VLOOKUP(Input_PS!N58,Database_Tables!$C$1749:$J$1763,7,FALSE)))","v":0},null,{"$f":"IF(ISNA(VLOOKUP(B57,Database_Tables!$I$1587:$J$1626,2,FALSE)),FALSE,TRUE)","v":false}]
[null,{"$f":"Input_PS!B23","v":0},{"$f":"IF($B$48=\"Per Acre Inputs\",-1,-1*Input!$J$14)*IF(B58=0,0,SUM(PS_Intermediate!C23:I23))*IF(C50=\"[MBTU]\",1000,1)","v":0},null,{"$f":"IF($B$48=\"Per Acre Inputs\",-1,-1*Input!$J$14)*(IF(AND(Input_PS!C$33=\"Yes\",NOT(ISBLANK(Input_PS!$B23)),Input_PS!C23>0),PS_Intermediate!C23,0)/IF(Input_PS!C59=\"\",VLOOKUP(\"Diesel\",Database_Tables!$C$1749:$J$1763,2,FALSE),VLOOKUP(Input_PS!C59,Database_Tables!$C$1749:$J$1763,2,FALSE))*IF(Input_PS!C59=\"\",VLOOKUP(\"Diesel\",Database_Tables!$C$1749:$J$1763,3,FALSE),VLOOKUP(Input_PS!C59,Database_Tables!$C$1749:$J$1763,3,FALSE))+IF(AND(Input_PS!D$33=\"Yes\",NOT(ISBLANK(Input_PS!$B23)),Input_PS!D23>0),PS_Intermediate!D23,0)/IF(Input_PS!E59=\"\",VLOOKUP(\"Diesel\",Database_Tables!$C$1749:$J$1763,2,FALSE),VLOOKUP(Input_PS!E59,Database_Tables!$C$1749:$J$1763,2,FALSE))*IF(Input_PS!E59=\"\",VLOOKUP(\"Diesel\",Database_Tables!$C$1749:$J$1763,3,FALSE),VLOOKUP(Input_PS!E59,Database_Tables!$C$1749:$J$1763,3,FALSE))+IF(AND(Input_PS!E$33=\"Yes\",NOT(ISBLANK(Input_PS!$B23)),Input_PS!E23>0),PS_Intermediate!E23,0)/IF(Input_PS!G59=\"\",VLOOKUP(\"Diesel\",Database_Tables!$C$1749:$J$1763,2,FALSE),VLOOKUP(Input_PS!G59,Database_Tables!$C$1749:$J$1763,2,FALSE))*IF(Input_PS!G59=\"\",VLOOKUP(\"Diesel\",Database_Tables!$C$1749:$J$1763,3,FALSE),VLOOKUP(Input_PS!G59,Database_Tables!$C$1749:$J$1763,3,FALSE))+IF(AND(Input_PS!F$33=\"Yes\",NOT(ISBLANK(Input_PS!$B23)),Input_PS!F23>0),PS_Intermediate!F23,0)/IF(Input_PS!I59=\"\",VLOOKUP(\"Diesel\",Database_Tables!$C$1749:$J$1763,2,FALSE),VLOOKUP(Input_PS!I59,Database_Tables!$C$1749:$J$1763,2,FALSE))*IF(Input_PS!I59=\"\",VLOOKUP(\"Diesel\",Database_Tables!$C$1749:$J$1763,3,FALSE),VLOOKUP(Input_PS!I59,Database_Tables!$C$1749:$J$1763,3,FALSE))+IF(AND(Input_PS!G$33=\"Yes\",NOT(ISBLANK(Input_PS!$B23)),Input_PS!G23>0),PS_Intermediate!G23,0)/IF(Input_PS!K59=\"\",VLOOKUP(Database_Tables!$C$1761,Database_Tables!$C$1749:$J$1763,2,FALSE),VLOOKUP(Input_PS!K59,Database_Tables!$C$1749:$J$1763,2,FALSE))*IF(Input_PS!K59=\"\",VLOOKUP(Database_Tables!$C$1761,Database_Tables!$C$1749:$J$1763,3,FALSE),VLOOKUP(Input_PS!K59,Database_Tables!$C$1749:$J$1763,3,FALSE))+IF(AND(Input_PS!H$33=\"Yes\",NOT(ISBLANK(Input_PS!$B23)),Input_PS!H23>0),PS_Intermediate!H23,0)/IF(Input_PS!L59=\"\",VLOOKUP(Database_Tables!$C$1762,Database_Tables!$C$1749:$J$1763,2,FALSE),VLOOKUP(Input_PS!L59,Database_Tables!$C$1749:$J$1763,2,FALSE))*IF(Input_PS!L59=\"\",VLOOKUP(Database_Tables!$C$1762,Database_Tables!$C$1749:$J$1763,3,FALSE),VLOOKUP(Input_PS!L59,Database_Tables!$C$1749:$J$1763,3,FALSE))+IF(AND(Input_PS!I$33=\"Yes\",NOT(ISBLANK(Input_PS!$B23)),Input_PS!I23>0),PS_Intermediate!I23,0)/IF(Input_PS!N59=\"\",VLOOKUP(Database_Tables!$C$1763,Database_Tables!$C$1749:$J$1763,2,FALSE),VLOOKUP(Input_PS!N59,Database_Tables!$C$1749:$J$1763,2,FALSE))*IF(Input_PS!N59=\"\",VLOOKUP(Database_Tables!$C$1763,Database_Tables!$C$1749:$J$1763,3,FALSE),VLOOKUP(Input_PS!N59,Database_Tables!$C$1749:$J$1763,3,FALSE)))","v":0},null,{"$f":"IF($B$48=\"Per Acre Inputs\",-1,-1*Input!$J$14)*(IF(AND(Input_PS!C$33=\"Yes\",NOT(ISBLANK(Input_PS!$B23)),Input_PS!C23>0),PS_Intermediate!C23,0)/IF(Input_PS!C59=\"\",VLOOKUP(\"Diesel\",Database_Tables!$C$1749:$J$1763,2,FALSE),VLOOKUP(Input_PS!C59,Database_Tables!$C$1749:$J$1763,2,FALSE))*IF(Input_PS!C59=\"\",VLOOKUP(\"Diesel\",Database_Tables!$C$1749:$J$1763,4,FALSE),VLOOKUP(Input_PS!C59,Database_Tables!$C$1749:$J$1763,4,FALSE))+IF(AND(Input_PS!D$33=\"Yes\",NOT(ISBLANK(Input_PS!$B23)),Input_PS!D23>0),PS_Intermediate!D23,0)/IF(Input_PS!E59=\"\",VLOOKUP(\"Diesel\",Database_Tables!$C$1749:$J$1763,2,FALSE),VLOOKUP(Input_PS!E59,Database_Tables!$C$1749:$J$1763,2,FALSE))*IF(Input_PS!E59=\"\",VLOOKUP(\"Diesel\",Database_Tables!$C$1749:$J$1763,4,FALSE),VLOOKUP(Input_PS!E59,Database_Tables!$C$1749:$J$1763,4,FALSE))+IF(AND(Input_PS!E$33=\"Yes\",NOT(ISBLANK(Input_PS!$B23)),Input_PS!E23>0),PS_Intermediate!E23,0)/IF(Input_PS!G59=\"\",VLOOKUP(\"Diesel\",Database_Tables!$C$1749:$J$1763,2,FALSE),VLOOKUP(Input_PS!G59,Database_Tables!$C$1749:$J$1763,2,FALSE))*IF(Input_PS!G59=\"\",VLOOKUP(\"Diesel\",Database_Tables!$C$1749:$J$1763,4,FALSE),VLOOKUP(Input_PS!G59,Database_Tables!$C$1749:$J$1763,4,FALSE))+IF(AND(Input_PS!F$33=\"Yes\",NOT(ISBLANK(Input_PS!$B23)),Input_PS!F23>0),PS_Intermediate!F23,0)/IF(Input_PS!I59=\"\",VLOOKUP(\"Diesel\",Database_Tables!$C$1749:$J$1763,2,FALSE),VLOOKUP(Input_PS!I59,Database_Tables!$C$1749:$J$1763,2,FALSE))*IF(Input_PS!I59=\"\",VLOOKUP(\"Diesel\",Database_Tables!$C$1749:$J$1763,4,FALSE),VLOOKUP(Input_PS!I59,Database_Tables!$C$1749:$J$1763,4,FALSE))+IF(AND(Input_PS!G$33=\"Yes\",NOT(ISBLANK(Input_PS!$B23)),Input_PS!G23>0),PS_Intermediate!G23,0)/IF(Input_PS!K59=\"\",VLOOKUP(Database_Tables!$C$1761,Database_Tables!$C$1749:$J$1763,2,FALSE),VLOOKUP(Input_PS!K59,Database_Tables!$C$1749:$J$1763,2,FALSE))*IF(Input_PS!K59=\"\",VLOOKUP(Database_Tables!$C$1761,Database_Tables!$C$1749:$J$1763,4,FALSE),VLOOKUP(Input_PS!K59,Database_Tables!$C$1749:$J$1763,4,FALSE))+IF(AND(Input_PS!H$33=\"Yes\",NOT(ISBLANK(Input_PS!$B23)),Input_PS!H23>0),PS_Intermediate!H23,0)/IF(Input_PS!L59=\"\",VLOOKUP(Database_Tables!$C$1762,Database_Tables!$C$1749:$J$1763,2,FALSE),VLOOKUP(Input_PS!L59,Database_Tables!$C$1749:$J$1763,2,FALSE))*IF(Input_PS!L59=\"\",VLOOKUP(Database_Tables!$C$1762,Database_Tables!$C$1749:$J$1763,4,FALSE),VLOOKUP(Input_PS!L59,Database_Tables!$C$1749:$J$1763,4,FALSE))+IF(AND(Input_PS!I$33=\"Yes\",NOT(ISBLANK(Input_PS!$B23)),Input_PS!I23>0),PS_Intermediate!I23,0)/IF(Input_PS!N59=\"\",VLOOKUP(Database_Tables!$C$1763,Database_Tables!$C$1749:$J$1763,2,FALSE),VLOOKUP(Input_PS!N59,Database_Tables!$C$1749:$J$1763,2,FALSE))*IF(Input_PS!N59=\"\",VLOOKUP(Database_Tables!$C$1763,Database_Tables!$C$1749:$J$1763,4,FALSE),VLOOKUP(Input_PS!N59,Database_Tables!$C$1749:$J$1763,4,FALSE)))","v":0},null,{"$f":"IF($B$48=\"Per Acre Inputs\",-1,-1*Input!$J$14)*(IF(AND(Input_PS!C$33=\"Yes\",NOT(ISBLANK(Input_PS!$B23)),Input_PS!C23>0),PS_Intermediate!C23,0)/IF(Input_PS!C59=\"\",VLOOKUP(\"Diesel\",Database_Tables!$C$1749:$J$1763,2,FALSE),VLOOKUP(Input_PS!C59,Database_Tables!$C$1749:$J$1763,2,FALSE))*IF(Input_PS!C59=\"\",VLOOKUP(\"Diesel\",Database_Tables!$C$1749:$J$1763,5,FALSE),VLOOKUP(Input_PS!C59,Database_Tables!$C$1749:$J$1763,5,FALSE))+IF(AND(Input_PS!D$33=\"Yes\",NOT(ISBLANK(Input_PS!$B23)),Input_PS!D23>0),PS_Intermediate!D23,0)/IF(Input_PS!E59=\"\",VLOOKUP(\"Diesel\",Database_Tables!$C$1749:$J$1763,2,FALSE),VLOOKUP(Input_PS!E59,Database_Tables!$C$1749:$J$1763,2,FALSE))*IF(Input_PS!E59=\"\",VLOOKUP(\"Diesel\",Database_Tables!$C$1749:$J$1763,5,FALSE),VLOOKUP(Input_PS!E59,Database_Tables!$C$1749:$J$1763,5,FALSE))+IF(AND(Input_PS!E$33=\"Yes\",NOT(ISBLANK(Input_PS!$B23)),Input_PS!E23>0),PS_Intermediate!E23,0)/IF(Input_PS!G59=\"\",VLOOKUP(\"Diesel\",Database_Tables!$C$1749:$J$1763,2,FALSE),VLOOKUP(Input_PS!G59,Database_Tables!$C$1749:$J$1763,2,FALSE))*IF(Input_PS!G59=\"\",VLOOKUP(\"Diesel\",Database_Tables!$C$1749:$J$1763,5,FALSE),VLOOKUP(Input_PS!G59,Database_Tables!$C$1749:$J$1763,5,FALSE))+IF(AND(Input_PS!F$33=\"Yes\",NOT(ISBLANK(Input_PS!$B23)),Input_PS!F23>0),PS_Intermediate!F23,0)/IF(Input_PS!I59=\"\",VLOOKUP(\"Diesel\",Database_Tables!$C$1749:$J$1763,2,FALSE),VLOOKUP(Input_PS!I59,Database_Tables!$C$1749:$J$1763,2,FALSE))*IF(Input_PS!I59=\"\",VLOOKUP(\"Diesel\",Database_Tables!$C$1749:$J$1763,5,FALSE),VLOOKUP(Input_PS!I59,Database_Tables!$C$1749:$J$1763,5,FALSE))+IF(AND(Input_PS!G$33=\"Yes\",NOT(ISBLANK(Input_PS!$B23)),Input_PS!G23>0),PS_Intermediate!G23,0)/IF(Input_PS!K59=\"\",VLOOKUP(Database_Tables!$C$1761,Database_Tables!$C$1749:$J$1763,2,FALSE),VLOOKUP(Input_PS!K59,Database_Tables!$C$1749:$J$1763,2,FALSE))*IF(Input_PS!K59=\"\",VLOOKUP(Database_Tables!$C$1761,Database_Tables!$C$1749:$J$1763,5,FALSE),VLOOKUP(Input_PS!K59,Database_Tables!$C$1749:$J$1763,5,FALSE))+IF(AND(Input_PS!H$33=\"Yes\",NOT(ISBLANK(Input_PS!$B23)),Input_PS!H23>0),PS_Intermediate!H23,0)/IF(Input_PS!L59=\"\",VLOOKUP(Database_Tables!$C$1762,Database_Tables!$C$1749:$J$1763,2,FALSE),VLOOKUP(Input_PS!L59,Database_Tables!$C$1749:$J$1763,2,FALSE))*IF(Input_PS!L59=\"\",VLOOKUP(Database_Tables!$C$1762,Database_Tables!$C$1749:$J$1763,5,FALSE),VLOOKUP(Input_PS!L59,Database_Tables!$C$1749:$J$1763,5,FALSE))+IF(AND(Input_PS!I$33=\"Yes\",NOT(ISBLANK(Input_PS!$B23)),Input_PS!I23>0),PS_Intermediate!I23,0)/IF(Input_PS!N59=\"\",VLOOKUP(Database_Tables!$C$1763,Database_Tables!$C$1749:$J$1763,2,FALSE),VLOOKUP(Input_PS!N59,Database_Tables!$C$1749:$J$1763,2,FALSE))*IF(Input_PS!N59=\"\",VLOOKUP(Database_Tables!$C$1763,Database_Tables!$C$1749:$J$1763,5,FALSE),VLOOKUP(Input_PS!N59,Database_Tables!$C$1749:$J$1763,5,FALSE)))","v":0},null,{"$f":"IF($B$48=\"Per Acre Inputs\",-1,-1*Input!$J$14)*(IF(AND(Input_PS!C$33=\"Yes\",NOT(ISBLANK(Input_PS!$B23)),Input_PS!C23>0),PS_Intermediate!C23,0)/IF(Input_PS!C59=\"\",VLOOKUP(\"Diesel\",Database_Tables!$C$1749:$J$1763,2,FALSE),VLOOKUP(Input_PS!C59,Database_Tables!$C$1749:$J$1763,2,FALSE))*IF(Input_PS!C59=\"\",VLOOKUP(\"Diesel\",Database_Tables!$C$1749:$J$1763,6,FALSE),VLOOKUP(Input_PS!C59,Database_Tables!$C$1749:$J$1763,6,FALSE))+IF(AND(Input_PS!D$33=\"Yes\",NOT(ISBLANK(Input_PS!$B23)),Input_PS!D23>0),PS_Intermediate!D23,0)/IF(Input_PS!E59=\"\",VLOOKUP(\"Diesel\",Database_Tables!$C$1749:$J$1763,2,FALSE),VLOOKUP(Input_PS!E59,Database_Tables!$C$1749:$J$1763,2,FALSE))*IF(Input_PS!E59=\"\",VLOOKUP(\"Diesel\",Database_Tables!$C$1749:$J$1763,6,FALSE),VLOOKUP(Input_PS!E59,Database_Tables!$C$1749:$J$1763,6,FALSE))+IF(AND(Input_PS!E$33=\"Yes\",NOT(ISBLANK(Input_PS!$B23)),Input_PS!E23>0),PS_Intermediate!E23,0)/IF(Input_PS!G59=\"\",VLOOKUP(\"Diesel\",Database_Tables!$C$1749:$J$1763,2,FALSE),VLOOKUP(Input_PS!G59,Database_Tables!$C$1749:$J$1763,2,FALSE))*IF(Input_PS!G59=\"\",VLOOKUP(\"Diesel\",Database_Tables!$C$1749:$J$1763,6,FALSE),VLOOKUP(Input_PS!G59,Database_Tables!$C$1749:$J$1763,6,FALSE))+IF(AND(Input_PS!F$33=\"Yes\",NOT(ISBLANK(Input_PS!$B23)),Input_PS!F23>0),PS_Intermediate!F23,0)/IF(Input_PS!I59=\"\",VLOOKUP(\"Diesel\",Database_Tables!$C$1749:$J$1763,2,FALSE),VLOOKUP(Input_PS!I59,Database_Tables!$C$1749:$J$1763,2,FALSE))*IF(Input_PS!I59=\"\",VLOOKUP(\"Diesel\",Database_Tables!$C$1749:$J$1763,6,FALSE),VLOOKUP(Input_PS!I59,Database_Tables!$C$1749:$J$1763,6,FALSE))+IF(AND(Input_PS!G$33=\"Yes\",NOT(ISBLANK(Input_PS!$B23)),Input_PS!G23>0),PS_Intermediate!G23,0)/IF(Input_PS!K59=\"\",VLOOKUP(Database_Tables!$C$1761,Database_Tables!$C$1749:$J$1763,2,FALSE),VLOOKUP(Input_PS!K59,Database_Tables!$C$1749:$J$1763,2,FALSE))*IF(Input_PS!K59=\"\",VLOOKUP(Database_Tables!$C$1761,Database_Tables!$C$1749:$J$1763,6,FALSE),VLOOKUP(Input_PS!K59,Database_Tables!$C$1749:$J$1763,6,FALSE))+IF(AND(Input_PS!H$33=\"Yes\",NOT(ISBLANK(Input_PS!$B23)),Input_PS!H23>0),PS_Intermediate!H23,0)/IF(Input_PS!L59=\"\",VLOOKUP(Database_Tables!$C$1762,Database_Tables!$C$1749:$J$1763,2,FALSE),VLOOKUP(Input_PS!L59,Database_Tables!$C$1749:$J$1763,2,FALSE))*IF(Input_PS!L59=\"\",VLOOKUP(Database_Tables!$C$1762,Database_Tables!$C$1749:$J$1763,6,FALSE),VLOOKUP(Input_PS!L59,Database_Tables!$C$1749:$J$1763,6,FALSE))+IF(AND(Input_PS!I$33=\"Yes\",NOT(ISBLANK(Input_PS!$B23)),Input_PS!I23>0),PS_Intermediate!I23,0)/IF(Input_PS!N59=\"\",VLOOKUP(Database_Tables!$C$1763,Database_Tables!$C$1749:$J$1763,2,FALSE),VLOOKUP(Input_PS!N59,Database_Tables!$C$1749:$J$1763,2,FALSE))*IF(Input_PS!N59=\"\",VLOOKUP(Database_Tables!$C$1763,Database_Tables!$C$1749:$J$1763,6,FALSE),VLOOKUP(Input_PS!N59,Database_Tables!$C$1749:$J$1763,6,FALSE)))","v":0},null,{"$f":"IF($B$48=\"Per Acre Inputs\",-1,-1*Input!$J$14)*(IF(AND(Input_PS!C$33=\"Yes\",NOT(ISBLANK(Input_PS!$B23)),Input_PS!C23>0),PS_Intermediate!C23,0)/IF(Input_PS!C59=\"\",VLOOKUP(\"Diesel\",Database_Tables!$C$1749:$J$1763,2,FALSE),VLOOKUP(Input_PS!C59,Database_Tables!$C$1749:$J$1763,2,FALSE))*IF(Input_PS!C59=\"\",VLOOKUP(\"Diesel\",Database_Tables!$C$1749:$J$1763,7,FALSE),VLOOKUP(Input_PS!C59,Database_Tables!$C$1749:$J$1763,7,FALSE))+IF(AND(Input_PS!D$33=\"Yes\",NOT(ISBLANK(Input_PS!$B23)),Input_PS!D23>0),PS_Intermediate!D23,0)/IF(Input_PS!E59=\"\",VLOOKUP(\"Diesel\",Database_Tables!$C$1749:$J$1763,2,FALSE),VLOOKUP(Input_PS!E59,Database_Tables!$C$1749:$J$1763,2,FALSE))*IF(Input_PS!E59=\"\",VLOOKUP(\"Diesel\",Database_Tables!$C$1749:$J$1763,7,FALSE),VLOOKUP(Input_PS!E59,Database_Tables!$C$1749:$J$1763,7,FALSE))+IF(AND(Input_PS!E$33=\"Yes\",NOT(ISBLANK(Input_PS!$B23)),Input_PS!E23>0),PS_Intermediate!E23,0)/IF(Input_PS!G59=\"\",VLOOKUP(\"Diesel\",Database_Tables!$C$1749:$J$1763,2,FALSE),VLOOKUP(Input_PS!G59,Database_Tables!$C$1749:$J$1763,2,FALSE))*IF(Input_PS!G59=\"\",VLOOKUP(\"Diesel\",Database_Tables!$C$1749:$J$1763,7,FALSE),VLOOKUP(Input_PS!G59,Database_Tables!$C$1749:$J$1763,7,FALSE))+IF(AND(Input_PS!F$33=\"Yes\",NOT(ISBLANK(Input_PS!$B23)),Input_PS!F23>0),PS_Intermediate!F23,0)/IF(Input_PS!I59=\"\",VLOOKUP(\"Diesel\",Database_Tables!$C$1749:$J$1763,2,FALSE),VLOOKUP(Input_PS!I59,Database_Tables!$C$1749:$J$1763,2,FALSE))*IF(Input_PS!I59=\"\",VLOOKUP(\"Diesel\",Database_Tables!$C$1749:$J$1763,7,FALSE),VLOOKUP(Input_PS!I59,Database_Tables!$C$1749:$J$1763,7,FALSE))+IF(AND(Input_PS!G$33=\"Yes\",NOT(ISBLANK(Input_PS!$B23)),Input_PS!G23>0),PS_Intermediate!G23,0)/IF(Input_PS!K59=\"\",VLOOKUP(Database_Tables!$C$1761,Database_Tables!$C$1749:$J$1763,2,FALSE),VLOOKUP(Input_PS!K59,Database_Tables!$C$1749:$J$1763,2,FALSE))*IF(Input_PS!K59=\"\",VLOOKUP(Database_Tables!$C$1761,Database_Tables!$C$1749:$J$1763,7,FALSE),VLOOKUP(Input_PS!K59,Database_Tables!$C$1749:$J$1763,7,FALSE))+IF(AND(Input_PS!H$33=\"Yes\",NOT(ISBLANK(Input_PS!$B23)),Input_PS!H23>0),PS_Intermediate!H23,0)/IF(Input_PS!L59=\"\",VLOOKUP(Database_Tables!$C$1762,Database_Tables!$C$1749:$J$1763,2,FALSE),VLOOKUP(Input_PS!L59,Database_Tables!$C$1749:$J$1763,2,FALSE))*IF(Input_PS!L59=\"\",VLOOKUP(Database_Tables!$C$1762,Database_Tables!$C$1749:$J$1763,7,FALSE),VLOOKUP(Input_PS!L59,Database_Tables!$C$1749:$J$1763,7,FALSE))+IF(AND(Input_PS!I$33=\"Yes\",NOT(ISBLANK(Input_PS!$B23)),Input_PS!I23>0),PS_Intermediate!I23,0)/IF(Input_PS!N59=\"\",VLOOKUP(Database_Tables!$C$1763,Database_Tables!$C$1749:$J$1763,2,FALSE),VLOOKUP(Input_PS!N59,Database_Tables!$C$1749:$J$1763,2,FALSE))*IF(Input_PS!N59=\"\",VLOOKUP(Database_Tables!$C$1763,Database_Tables!$C$1749:$J$1763,7,FALSE),VLOOKUP(Input_PS!N59,Database_Tables!$C$1749:$J$1763,7,FALSE)))","v":0},null,{"$f":"IF(ISNA(VLOOKUP(B58,Database_Tables!$I$1587:$J$1626,2,FALSE)),FALSE,TRUE)","v":false}]
[null,{"$f":"Input_PS!B24","v":0},{"$f":"IF($B$48=\"Per Acre Inputs\",-1,-1*Input!$J$14)*IF(B59=0,0,SUM(PS_Intermediate!C24:I24))*IF(C50=\"[MBTU]\",1000,1)","v":0},null,{"$f":"IF($B$48=\"Per Acre Inputs\",-1,-1*Input!$J$14)*(IF(AND(Input_PS!C$33=\"Yes\",NOT(ISBLANK(Input_PS!$B24)),Input_PS!C24>0),PS_Intermediate!C24,0)/IF(Input_PS!C60=\"\",VLOOKUP(\"Diesel\",Database_Tables!$C$1749:$J$1763,2,FALSE),VLOOKUP(Input_PS!C60,Database_Tables!$C$1749:$J$1763,2,FALSE))*IF(Input_PS!C60=\"\",VLOOKUP(\"Diesel\",Database_Tables!$C$1749:$J$1763,3,FALSE),VLOOKUP(Input_PS!C60,Database_Tables!$C$1749:$J$1763,3,FALSE))+IF(AND(Input_PS!D$33=\"Yes\",NOT(ISBLANK(Input_PS!$B24)),Input_PS!D24>0),PS_Intermediate!D24,0)/IF(Input_PS!E60=\"\",VLOOKUP(\"Diesel\",Database_Tables!$C$1749:$J$1763,2,FALSE),VLOOKUP(Input_PS!E60,Database_Tables!$C$1749:$J$1763,2,FALSE))*IF(Input_PS!E60=\"\",VLOOKUP(\"Diesel\",Database_Tables!$C$1749:$J$1763,3,FALSE),VLOOKUP(Input_PS!E60,Database_Tables!$C$1749:$J$1763,3,FALSE))+IF(AND(Input_PS!E$33=\"Yes\",NOT(ISBLANK(Input_PS!$B24)),Input_PS!E24>0),PS_Intermediate!E24,0)/IF(Input_PS!G60=\"\",VLOOKUP(\"Diesel\",Database_Tables!$C$1749:$J$1763,2,FALSE),VLOOKUP(Input_PS!G60,Database_Tables!$C$1749:$J$1763,2,FALSE))*IF(Input_PS!G60=\"\",VLOOKUP(\"Diesel\",Database_Tables!$C$1749:$J$1763,3,FALSE),VLOOKUP(Input_PS!G60,Database_Tables!$C$1749:$J$1763,3,FALSE))+IF(AND(Input_PS!F$33=\"Yes\",NOT(ISBLANK(Input_PS!$B24)),Input_PS!F24>0),PS_Intermediate!F24,0)/IF(Input_PS!I60=\"\",VLOOKUP(\"Diesel\",Database_Tables!$C$1749:$J$1763,2,FALSE),VLOOKUP(Input_PS!I60,Database_Tables!$C$1749:$J$1763,2,FALSE))*IF(Input_PS!I60=\"\",VLOOKUP(\"Diesel\",Database_Tables!$C$1749:$J$1763,3,FALSE),VLOOKUP(Input_PS!I60,Database_Tables!$C$1749:$J$1763,3,FALSE))+IF(AND(Input_PS!G$33=\"Yes\",NOT(ISBLANK(Input_PS!$B24)),Input_PS!G24>0),PS_Intermediate!G24,0)/IF(Input_PS!K60=\"\",VLOOKUP(Database_Tables!$C$1761,Database_Tables!$C$1749:$J$1763,2,FALSE),VLOOKUP(Input_PS!K60,Database_Tables!$C$1749:$J$1763,2,FALSE))*IF(Input_PS!K60=\"\",VLOOKUP(Database_Tables!$C$1761,Database_Tables!$C$1749:$J$1763,3,FALSE),VLOOKUP(Input_PS!K60,Database_Tables!$C$1749:$J$1763,3,FALSE))+IF(AND(Input_PS!H$33=\"Yes\",NOT(ISBLANK(Input_PS!$B24)),Input_PS!H24>0),PS_Intermediate!H24,0)/IF(Input_PS!L60=\"\",VLOOKUP(Database_Tables!$C$1762,Database_Tables!$C$1749:$J$1763,2,FALSE),VLOOKUP(Input_PS!L60,Database_Tables!$C$1749:$J$1763,2,FALSE))*IF(Input_PS!L60=\"\",VLOOKUP(Database_Tables!$C$1762,Database_Tables!$C$1749:$J$1763,3,FALSE),VLOOKUP(Input_PS!L60,Database_Tables!$C$1749:$J$1763,3,FALSE))+IF(AND(Input_PS!I$33=\"Yes\",NOT(ISBLANK(Input_PS!$B24)),Input_PS!I24>0),PS_Intermediate!I24,0)/IF(Input_PS!N60=\"\",VLOOKUP(Database_Tables!$C$1763,Database_Tables!$C$1749:$J$1763,2,FALSE),VLOOKUP(Input_PS!N60,Database_Tables!$C$1749:$J$1763,2,FALSE))*IF(Input_PS!N60=\"\",VLOOKUP(Database_Tables!$C$1763,Database_Tables!$C$1749:$J$1763,3,FALSE),VLOOKUP(Input_PS!N60,Database_Tables!$C$1749:$J$1763,3,FALSE)))","v":0},null,{"$f":"IF($B$48=\"Per Acre Inputs\",-1,-1*Input!$J$14)*(IF(AND(Input_PS!C$33=\"Yes\",NOT(ISBLANK(Input_PS!$B24)),Input_PS!C24>0),PS_Intermediate!C24,0)/IF(Input_PS!C60=\"\",VLOOKUP(\"Diesel\",Database_Tables!$C$1749:$J$1763,2,FALSE),VLOOKUP(Input_PS!C60,Database_Tables!$C$1749:$J$1763,2,FALSE))*IF(Input_PS!C60=\"\",VLOOKUP(\"Diesel\",Database_Tables!$C$1749:$J$1763,4,FALSE),VLOOKUP(Input_PS!C60,Database_Tables!$C$1749:$J$1763,4,FALSE))+IF(AND(Input_PS!D$33=\"Yes\",NOT(ISBLANK(Input_PS!$B24)),Input_PS!D24>0),PS_Intermediate!D24,0)/IF(Input_PS!E60=\"\",VLOOKUP(\"Diesel\",Database_Tables!$C$1749:$J$1763,2,FALSE),VLOOKUP(Input_PS!E60,Database_Tables!$C$1749:$J$1763,2,FALSE))*IF(Input_PS!E60=\"\",VLOOKUP(\"Diesel\",Database_Tables!$C$1749:$J$1763,4,FALSE),VLOOKUP(Input_PS!E60,Database_Tables!$C$1749:$J$1763,4,FALSE))+IF(AND(Input_PS!E$33=\"Yes\",NOT(ISBLANK(Input_PS!$B24)),Input_PS!E24>0),PS_Intermediate!E24,0)/IF(Input_PS!G60=\"\",VLOOKUP(\"Diesel\",Database_Tables!$C$1749:$J$1763,2,FALSE),VLOOKUP(Input_PS!G60,Database_Tables!$C$1749:$J$1763,2,FALSE))*IF(Input_PS!G60=\"\",VLOOKUP(\"Diesel\",Database_Tables!$C$1749:$J$1763,4,FALSE),VLOOKUP(Input_PS!G60,Database_Tables!$C$1749:$J$1763,4,FALSE))+IF(AND(Input_PS!F$33=\"Yes\",NOT(ISBLANK(Input_PS!$B24)),Input_PS!F24>0),PS_Intermediate!F24,0)/IF(Input_PS!I60=\"\",VLOOKUP(\"Diesel\",Database_Tables!$C$1749:$J$1763,2,FALSE),VLOOKUP(Input_PS!I60,Database_Tables!$C$1749:$J$1763,2,FALSE))*IF(Input_PS!I60=\"\",VLOOKUP(\"Diesel\",Database_Tables!$C$1749:$J$1763,4,FALSE),VLOOKUP(Input_PS!I60,Database_Tables!$C$1749:$J$1763,4,FALSE))+IF(AND(Input_PS!G$33=\"Yes\",NOT(ISBLANK(Input_PS!$B24)),Input_PS!G24>0),PS_Intermediate!G24,0)/IF(Input_PS!K60=\"\",VLOOKUP(Database_Tables!$C$1761,Database_Tables!$C$1749:$J$1763,2,FALSE),VLOOKUP(Input_PS!K60,Database_Tables!$C$1749:$J$1763,2,FALSE))*IF(Input_PS!K60=\"\",VLOOKUP(Database_Tables!$C$1761,Database_Tables!$C$1749:$J$1763,4,FALSE),VLOOKUP(Input_PS!K60,Database_Tables!$C$1749:$J$1763,4,FALSE))+IF(AND(Input_PS!H$33=\"Yes\",NOT(ISBLANK(Input_PS!$B24)),Input_PS!H24>0),PS_Intermediate!H24,0)/IF(Input_PS!L60=\"\",VLOOKUP(Database_Tables!$C$1762,Database_Tables!$C$1749:$J$1763,2,FALSE),VLOOKUP(Input_PS!L60,Database_Tables!$C$1749:$J$1763,2,FALSE))*IF(Input_PS!L60=\"\",VLOOKUP(Database_Tables!$C$1762,Database_Tables!$C$1749:$J$1763,4,FALSE),VLOOKUP(Input_PS!L60,Database_Tables!$C$1749:$J$1763,4,FALSE))+IF(AND(Input_PS!I$33=\"Yes\",NOT(ISBLANK(Input_PS!$B24)),Input_PS!I24>0),PS_Intermediate!I24,0)/IF(Input_PS!N60=\"\",VLOOKUP(Database_Tables!$C$1763,Database_Tables!$C$1749:$J$1763,2,FALSE),VLOOKUP(Input_PS!N60,Database_Tables!$C$1749:$J$1763,2,FALSE))*IF(Input_PS!N60=\"\",VLOOKUP(Database_Tables!$C$1763,Database_Tables!$C$1749:$J$1763,4,FALSE),VLOOKUP(Input_PS!N60,Database_Tables!$C$1749:$J$1763,4,FALSE)))","v":0},null,{"$f":"IF($B$48=\"Per Acre Inputs\",-1,-1*Input!$J$14)*(IF(AND(Input_PS!C$33=\"Yes\",NOT(ISBLANK(Input_PS!$B24)),Input_PS!C24>0),PS_Intermediate!C24,0)/IF(Input_PS!C60=\"\",VLOOKUP(\"Diesel\",Database_Tables!$C$1749:$J$1763,2,FALSE),VLOOKUP(Input_PS!C60,Database_Tables!$C$1749:$J$1763,2,FALSE))*IF(Input_PS!C60=\"\",VLOOKUP(\"Diesel\",Database_Tables!$C$1749:$J$1763,5,FALSE),VLOOKUP(Input_PS!C60,Database_Tables!$C$1749:$J$1763,5,FALSE))+IF(AND(Input_PS!D$33=\"Yes\",NOT(ISBLANK(Input_PS!$B24)),Input_PS!D24>0),PS_Intermediate!D24,0)/IF(Input_PS!E60=\"\",VLOOKUP(\"Diesel\",Database_Tables!$C$1749:$J$1763,2,FALSE),VLOOKUP(Input_PS!E60,Database_Tables!$C$1749:$J$1763,2,FALSE))*IF(Input_PS!E60=\"\",VLOOKUP(\"Diesel\",Database_Tables!$C$1749:$J$1763,5,FALSE),VLOOKUP(Input_PS!E60,Database_Tables!$C$1749:$J$1763,5,FALSE))+IF(AND(Input_PS!E$33=\"Yes\",NOT(ISBLANK(Input_PS!$B24)),Input_PS!E24>0),PS_Intermediate!E24,0)/IF(Input_PS!G60=\"\",VLOOKUP(\"Diesel\",Database_Tables!$C$1749:$J$1763,2,FALSE),VLOOKUP(Input_PS!G60,Database_Tables!$C$1749:$J$1763,2,FALSE))*IF(Input_PS!G60=\"\",VLOOKUP(\"Diesel\",Database_Tables!$C$1749:$J$1763,5,FALSE),VLOOKUP(Input_PS!G60,Database_Tables!$C$1749:$J$1763,5,FALSE))+IF(AND(Input_PS!F$33=\"Yes\",NOT(ISBLANK(Input_PS!$B24)),Input_PS!F24>0),PS_Intermediate!F24,0)/IF(Input_PS!I60=\"\",VLOOKUP(\"Diesel\",Database_Tables!$C$1749:$J$1763,2,FALSE),VLOOKUP(Input_PS!I60,Database_Tables!$C$1749:$J$1763,2,FALSE))*IF(Input_PS!I60=\"\",VLOOKUP(\"Diesel\",Database_Tables!$C$1749:$J$1763,5,FALSE),VLOOKUP(Input_PS!I60,Database_Tables!$C$1749:$J$1763,5,FALSE))+IF(AND(Input_PS!G$33=\"Yes\",NOT(ISBLANK(Input_PS!$B24)),Input_PS!G24>0),PS_Intermediate!G24,0)/IF(Input_PS!K60=\"\",VLOOKUP(Database_Tables!$C$1761,Database_Tables!$C$1749:$J$1763,2,FALSE),VLOOKUP(Input_PS!K60,Database_Tables!$C$1749:$J$1763,2,FALSE))*IF(Input_PS!K60=\"\",VLOOKUP(Database_Tables!$C$1761,Database_Tables!$C$1749:$J$1763,5,FALSE),VLOOKUP(Input_PS!K60,Database_Tables!$C$1749:$J$1763,5,FALSE))+IF(AND(Input_PS!H$33=\"Yes\",NOT(ISBLANK(Input_PS!$B24)),Input_PS!H24>0),PS_Intermediate!H24,0)/IF(Input_PS!L60=\"\",VLOOKUP(Database_Tables!$C$1762,Database_Tables!$C$1749:$J$1763,2,FALSE),VLOOKUP(Input_PS!L60,Database_Tables!$C$1749:$J$1763,2,FALSE))*IF(Input_PS!L60=\"\",VLOOKUP(Database_Tables!$C$1762,Database_Tables!$C$1749:$J$1763,5,FALSE),VLOOKUP(Input_PS!L60,Database_Tables!$C$1749:$J$1763,5,FALSE))+IF(AND(Input_PS!I$33=\"Yes\",NOT(ISBLANK(Input_PS!$B24)),Input_PS!I24>0),PS_Intermediate!I24,0)/IF(Input_PS!N60=\"\",VLOOKUP(Database_Tables!$C$1763,Database_Tables!$C$1749:$J$1763,2,FALSE),VLOOKUP(Input_PS!N60,Database_Tables!$C$1749:$J$1763,2,FALSE))*IF(Input_PS!N60=\"\",VLOOKUP(Database_Tables!$C$1763,Database_Tables!$C$1749:$J$1763,5,FALSE),VLOOKUP(Input_PS!N60,Database_Tables!$C$1749:$J$1763,5,FALSE)))","v":0},null,{"$f":"IF($B$48=\"Per Acre Inputs\",-1,-1*Input!$J$14)*(IF(AND(Input_PS!C$33=\"Yes\",NOT(ISBLANK(Input_PS!$B24)),Input_PS!C24>0),PS_Intermediate!C24,0)/IF(Input_PS!C60=\"\",VLOOKUP(\"Diesel\",Database_Tables!$C$1749:$J$1763,2,FALSE),VLOOKUP(Input_PS!C60,Database_Tables!$C$1749:$J$1763,2,FALSE))*IF(Input_PS!C60=\"\",VLOOKUP(\"Diesel\",Database_Tables!$C$1749:$J$1763,6,FALSE),VLOOKUP(Input_PS!C60,Database_Tables!$C$1749:$J$1763,6,FALSE))+IF(AND(Input_PS!D$33=\"Yes\",NOT(ISBLANK(Input_PS!$B24)),Input_PS!D24>0),PS_Intermediate!D24,0)/IF(Input_PS!E60=\"\",VLOOKUP(\"Diesel\",Database_Tables!$C$1749:$J$1763,2,FALSE),VLOOKUP(Input_PS!E60,Database_Tables!$C$1749:$J$1763,2,FALSE))*IF(Input_PS!E60=\"\",VLOOKUP(\"Diesel\",Database_Tables!$C$1749:$J$1763,6,FALSE),VLOOKUP(Input_PS!E60,Database_Tables!$C$1749:$J$1763,6,FALSE))+IF(AND(Input_PS!E$33=\"Yes\",NOT(ISBLANK(Input_PS!$B24)),Input_PS!E24>0),PS_Intermediate!E24,0)/IF(Input_PS!G60=\"\",VLOOKUP(\"Diesel\",Database_Tables!$C$1749:$J$1763,2,FALSE),VLOOKUP(Input_PS!G60,Database_Tables!$C$1749:$J$1763,2,FALSE))*IF(Input_PS!G60=\"\",VLOOKUP(\"Diesel\",Database_Tables!$C$1749:$J$1763,6,FALSE),VLOOKUP(Input_PS!G60,Database_Tables!$C$1749:$J$1763,6,FALSE))+IF(AND(Input_PS!F$33=\"Yes\",NOT(ISBLANK(Input_PS!$B24)),Input_PS!F24>0),PS_Intermediate!F24,0)/IF(Input_PS!I60=\"\",VLOOKUP(\"Diesel\",Database_Tables!$C$1749:$J$1763,2,FALSE),VLOOKUP(Input_PS!I60,Database_Tables!$C$1749:$J$1763,2,FALSE))*IF(Input_PS!I60=\"\",VLOOKUP(\"Diesel\",Database_Tables!$C$1749:$J$1763,6,FALSE),VLOOKUP(Input_PS!I60,Database_Tables!$C$1749:$J$1763,6,FALSE))+IF(AND(Input_PS!G$33=\"Yes\",NOT(ISBLANK(Input_PS!$B24)),Input_PS!G24>0),PS_Intermediate!G24,0)/IF(Input_PS!K60=\"\",VLOOKUP(Database_Tables!$C$1761,Database_Tables!$C$1749:$J$1763,2,FALSE),VLOOKUP(Input_PS!K60,Database_Tables!$C$1749:$J$1763,2,FALSE))*IF(Input_PS!K60=\"\",VLOOKUP(Database_Tables!$C$1761,Database_Tables!$C$1749:$J$1763,6,FALSE),VLOOKUP(Input_PS!K60,Database_Tables!$C$1749:$J$1763,6,FALSE))+IF(AND(Input_PS!H$33=\"Yes\",NOT(ISBLANK(Input_PS!$B24)),Input_PS!H24>0),PS_Intermediate!H24,0)/IF(Input_PS!L60=\"\",VLOOKUP(Database_Tables!$C$1762,Database_Tables!$C$1749:$J$1763,2,FALSE),VLOOKUP(Input_PS!L60,Database_Tables!$C$1749:$J$1763,2,FALSE))*IF(Input_PS!L60=\"\",VLOOKUP(Database_Tables!$C$1762,Database_Tables!$C$1749:$J$1763,6,FALSE),VLOOKUP(Input_PS!L60,Database_Tables!$C$1749:$J$1763,6,FALSE))+IF(AND(Input_PS!I$33=\"Yes\",NOT(ISBLANK(Input_PS!$B24)),Input_PS!I24>0),PS_Intermediate!I24,0)/IF(Input_PS!N60=\"\",VLOOKUP(Database_Tables!$C$1763,Database_Tables!$C$1749:$J$1763,2,FALSE),VLOOKUP(Input_PS!N60,Database_Tables!$C$1749:$J$1763,2,FALSE))*IF(Input_PS!N60=\"\",VLOOKUP(Database_Tables!$C$1763,Database_Tables!$C$1749:$J$1763,6,FALSE),VLOOKUP(Input_PS!N60,Database_Tables!$C$1749:$J$1763,6,FALSE)))","v":0},null,{"$f":"IF($B$48=\"Per Acre Inputs\",-1,-1*Input!$J$14)*(IF(AND(Input_PS!C$33=\"Yes\",NOT(ISBLANK(Input_PS!$B24)),Input_PS!C24>0),PS_Intermediate!C24,0)/IF(Input_PS!C60=\"\",VLOOKUP(\"Diesel\",Database_Tables!$C$1749:$J$1763,2,FALSE),VLOOKUP(Input_PS!C60,Database_Tables!$C$1749:$J$1763,2,FALSE))*IF(Input_PS!C60=\"\",VLOOKUP(\"Diesel\",Database_Tables!$C$1749:$J$1763,7,FALSE),VLOOKUP(Input_PS!C60,Database_Tables!$C$1749:$J$1763,7,FALSE))+IF(AND(Input_PS!D$33=\"Yes\",NOT(ISBLANK(Input_PS!$B24)),Input_PS!D24>0),PS_Intermediate!D24,0)/IF(Input_PS!E60=\"\",VLOOKUP(\"Diesel\",Database_Tables!$C$1749:$J$1763,2,FALSE),VLOOKUP(Input_PS!E60,Database_Tables!$C$1749:$J$1763,2,FALSE))*IF(Input_PS!E60=\"\",VLOOKUP(\"Diesel\",Database_Tables!$C$1749:$J$1763,7,FALSE),VLOOKUP(Input_PS!E60,Database_Tables!$C$1749:$J$1763,7,FALSE))+IF(AND(Input_PS!E$33=\"Yes\",NOT(ISBLANK(Input_PS!$B24)),Input_PS!E24>0),PS_Intermediate!E24,0)/IF(Input_PS!G60=\"\",VLOOKUP(\"Diesel\",Database_Tables!$C$1749:$J$1763,2,FALSE),VLOOKUP(Input_PS!G60,Database_Tables!$C$1749:$J$1763,2,FALSE))*IF(Input_PS!G60=\"\",VLOOKUP(\"Diesel\",Database_Tables!$C$1749:$J$1763,7,FALSE),VLOOKUP(Input_PS!G60,Database_Tables!$C$1749:$J$1763,7,FALSE))+IF(AND(Input_PS!F$33=\"Yes\",NOT(ISBLANK(Input_PS!$B24)),Input_PS!F24>0),PS_Intermediate!F24,0)/IF(Input_PS!I60=\"\",VLOOKUP(\"Diesel\",Database_Tables!$C$1749:$J$1763,2,FALSE),VLOOKUP(Input_PS!I60,Database_Tables!$C$1749:$J$1763,2,FALSE))*IF(Input_PS!I60=\"\",VLOOKUP(\"Diesel\",Database_Tables!$C$1749:$J$1763,7,FALSE),VLOOKUP(Input_PS!I60,Database_Tables!$C$1749:$J$1763,7,FALSE))+IF(AND(Input_PS!G$33=\"Yes\",NOT(ISBLANK(Input_PS!$B24)),Input_PS!G24>0),PS_Intermediate!G24,0)/IF(Input_PS!K60=\"\",VLOOKUP(Database_Tables!$C$1761,Database_Tables!$C$1749:$J$1763,2,FALSE),VLOOKUP(Input_PS!K60,Database_Tables!$C$1749:$J$1763,2,FALSE))*IF(Input_PS!K60=\"\",VLOOKUP(Database_Tables!$C$1761,Database_Tables!$C$1749:$J$1763,7,FALSE),VLOOKUP(Input_PS!K60,Database_Tables!$C$1749:$J$1763,7,FALSE))+IF(AND(Input_PS!H$33=\"Yes\",NOT(ISBLANK(Input_PS!$B24)),Input_PS!H24>0),PS_Intermediate!H24,0)/IF(Input_PS!L60=\"\",VLOOKUP(Database_Tables!$C$1762,Database_Tables!$C$1749:$J$1763,2,FALSE),VLOOKUP(Input_PS!L60,Database_Tables!$C$1749:$J$1763,2,FALSE))*IF(Input_PS!L60=\"\",VLOOKUP(Database_Tables!$C$1762,Database_Tables!$C$1749:$J$1763,7,FALSE),VLOOKUP(Input_PS!L60,Database_Tables!$C$1749:$J$1763,7,FALSE))+IF(AND(Input_PS!I$33=\"Yes\",NOT(ISBLANK(Input_PS!$B24)),Input_PS!I24>0),PS_Intermediate!I24,0)/IF(Input_PS!N60=\"\",VLOOKUP(Database_Tables!$C$1763,Database_Tables!$C$1749:$J$1763,2,FALSE),VLOOKUP(Input_PS!N60,Database_Tables!$C$1749:$J$1763,2,FALSE))*IF(Input_PS!N60=\"\",VLOOKUP(Database_Tables!$C$1763,Database_Tables!$C$1749:$J$1763,7,FALSE),VLOOKUP(Input_PS!N60,Database_Tables!$C$1749:$J$1763,7,FALSE)))","v":0},null,{"$f":"IF(ISNA(VLOOKUP(B59,Database_Tables!$I$1587:$J$1626,2,FALSE)),FALSE,TRUE)","v":false}]
[null,{"$f":"Input_PS!B25","v":0},{"$f":"IF($B$48=\"Per Acre Inputs\",-1,-1*Input!$J$14)*IF(B60=0,0,SUM(PS_Intermediate!C25:I25))*IF(C50=\"[MBTU]\",1000,1)","v":0},null,{"$f":"IF($B$48=\"Per Acre Inputs\",-1,-1*Input!$J$14)*(IF(AND(Input_PS!C$33=\"Yes\",NOT(ISBLANK(Input_PS!$B25)),Input_PS!C25>0),PS_Intermediate!C25,0)/IF(Input_PS!C61=\"\",VLOOKUP(\"Diesel\",Database_Tables!$C$1749:$J$1763,2,FALSE),VLOOKUP(Input_PS!C61,Database_Tables!$C$1749:$J$1763,2,FALSE))*IF(Input_PS!C61=\"\",VLOOKUP(\"Diesel\",Database_Tables!$C$1749:$J$1763,3,FALSE),VLOOKUP(Input_PS!C61,Database_Tables!$C$1749:$J$1763,3,FALSE))+IF(AND(Input_PS!D$33=\"Yes\",NOT(ISBLANK(Input_PS!$B25)),Input_PS!D25>0),PS_Intermediate!D25,0)/IF(Input_PS!E61=\"\",VLOOKUP(\"Diesel\",Database_Tables!$C$1749:$J$1763,2,FALSE),VLOOKUP(Input_PS!E61,Database_Tables!$C$1749:$J$1763,2,FALSE))*IF(Input_PS!E61=\"\",VLOOKUP(\"Diesel\",Database_Tables!$C$1749:$J$1763,3,FALSE),VLOOKUP(Input_PS!E61,Database_Tables!$C$1749:$J$1763,3,FALSE))+IF(AND(Input_PS!E$33=\"Yes\",NOT(ISBLANK(Input_PS!$B25)),Input_PS!E25>0),PS_Intermediate!E25,0)/IF(Input_PS!G61=\"\",VLOOKUP(\"Diesel\",Database_Tables!$C$1749:$J$1763,2,FALSE),VLOOKUP(Input_PS!G61,Database_Tables!$C$1749:$J$1763,2,FALSE))*IF(Input_PS!G61=\"\",VLOOKUP(\"Diesel\",Database_Tables!$C$1749:$J$1763,3,FALSE),VLOOKUP(Input_PS!G61,Database_Tables!$C$1749:$J$1763,3,FALSE))+IF(AND(Input_PS!F$33=\"Yes\",NOT(ISBLANK(Input_PS!$B25)),Input_PS!F25>0),PS_Intermediate!F25,0)/IF(Input_PS!I61=\"\",VLOOKUP(\"Diesel\",Database_Tables!$C$1749:$J$1763,2,FALSE),VLOOKUP(Input_PS!I61,Database_Tables!$C$1749:$J$1763,2,FALSE))*IF(Input_PS!I61=\"\",VLOOKUP(\"Diesel\",Database_Tables!$C$1749:$J$1763,3,FALSE),VLOOKUP(Input_PS!I61,Database_Tables!$C$1749:$J$1763,3,FALSE))+IF(AND(Input_PS!G$33=\"Yes\",NOT(ISBLANK(Input_PS!$B25)),Input_PS!G25>0),PS_Intermediate!G25,0)/IF(Input_PS!K61=\"\",VLOOKUP(Database_Tables!$C$1761,Database_Tables!$C$1749:$J$1763,2,FALSE),VLOOKUP(Input_PS!K61,Database_Tables!$C$1749:$J$1763,2,FALSE))*IF(Input_PS!K61=\"\",VLOOKUP(Database_Tables!$C$1761,Database_Tables!$C$1749:$J$1763,3,FALSE),VLOOKUP(Input_PS!K61,Database_Tables!$C$1749:$J$1763,3,FALSE))+IF(AND(Input_PS!H$33=\"Yes\",NOT(ISBLANK(Input_PS!$B25)),Input_PS!H25>0),PS_Intermediate!H25,0)/IF(Input_PS!L61=\"\",VLOOKUP(Database_Tables!$C$1762,Database_Tables!$C$1749:$J$1763,2,FALSE),VLOOKUP(Input_PS!L61,Database_Tables!$C$1749:$J$1763,2,FALSE))*IF(Input_PS!L61=\"\",VLOOKUP(Database_Tables!$C$1762,Database_Tables!$C$1749:$J$1763,3,FALSE),VLOOKUP(Input_PS!L61,Database_Tables!$C$1749:$J$1763,3,FALSE))+IF(AND(Input_PS!I$33=\"Yes\",NOT(ISBLANK(Input_PS!$B25)),Input_PS!I25>0),PS_Intermediate!I25,0)/IF(Input_PS!N61=\"\",VLOOKUP(Database_Tables!$C$1763,Database_Tables!$C$1749:$J$1763,2,FALSE),VLOOKUP(Input_PS!N61,Database_Tables!$C$1749:$J$1763,2,FALSE))*IF(Input_PS!N61=\"\",VLOOKUP(Database_Tables!$C$1763,Database_Tables!$C$1749:$J$1763,3,FALSE),VLOOKUP(Input_PS!N61,Database_Tables!$C$1749:$J$1763,3,FALSE)))","v":0},null,{"$f":"IF($B$48=\"Per Acre Inputs\",-1,-1*Input!$J$14)*(IF(AND(Input_PS!C$33=\"Yes\",NOT(ISBLANK(Input_PS!$B25)),Input_PS!C25>0),PS_Intermediate!C25,0)/IF(Input_PS!C61=\"\",VLOOKUP(\"Diesel\",Database_Tables!$C$1749:$J$1763,2,FALSE),VLOOKUP(Input_PS!C61,Database_Tables!$C$1749:$J$1763,2,FALSE))*IF(Input_PS!C61=\"\",VLOOKUP(\"Diesel\",Database_Tables!$C$1749:$J$1763,4,FALSE),VLOOKUP(Input_PS!C61,Database_Tables!$C$1749:$J$1763,4,FALSE))+IF(AND(Input_PS!D$33=\"Yes\",NOT(ISBLANK(Input_PS!$B25)),Input_PS!D25>0),PS_Intermediate!D25,0)/IF(Input_PS!E61=\"\",VLOOKUP(\"Diesel\",Database_Tables!$C$1749:$J$1763,2,FALSE),VLOOKUP(Input_PS!E61,Database_Tables!$C$1749:$J$1763,2,FALSE))*IF(Input_PS!E61=\"\",VLOOKUP(\"Diesel\",Database_Tables!$C$1749:$J$1763,4,FALSE),VLOOKUP(Input_PS!E61,Database_Tables!$C$1749:$J$1763,4,FALSE))+IF(AND(Input_PS!E$33=\"Yes\",NOT(ISBLANK(Input_PS!$B25)),Input_PS!E25>0),PS_Intermediate!E25,0)/IF(Input_PS!G61=\"\",VLOOKUP(\"Diesel\",Database_Tables!$C$1749:$J$1763,2,FALSE),VLOOKUP(Input_PS!G61,Database_Tables!$C$1749:$J$1763,2,FALSE))*IF(Input_PS!G61=\"\",VLOOKUP(\"Diesel\",Database_Tables!$C$1749:$J$1763,4,FALSE),VLOOKUP(Input_PS!G61,Database_Tables!$C$1749:$J$1763,4,FALSE))+IF(AND(Input_PS!F$33=\"Yes\",NOT(ISBLANK(Input_PS!$B25)),Input_PS!F25>0),PS_Intermediate!F25,0)/IF(Input_PS!I61=\"\",VLOOKUP(\"Diesel\",Database_Tables!$C$1749:$J$1763,2,FALSE),VLOOKUP(Input_PS!I61,Database_Tables!$C$1749:$J$1763,2,FALSE))*IF(Input_PS!I61=\"\",VLOOKUP(\"Diesel\",Database_Tables!$C$1749:$J$1763,4,FALSE),VLOOKUP(Input_PS!I61,Database_Tables!$C$1749:$J$1763,4,FALSE))+IF(AND(Input_PS!G$33=\"Yes\",NOT(ISBLANK(Input_PS!$B25)),Input_PS!G25>0),PS_Intermediate!G25,0)/IF(Input_PS!K61=\"\",VLOOKUP(Database_Tables!$C$1761,Database_Tables!$C$1749:$J$1763,2,FALSE),VLOOKUP(Input_PS!K61,Database_Tables!$C$1749:$J$1763,2,FALSE))*IF(Input_PS!K61=\"\",VLOOKUP(Database_Tables!$C$1761,Database_Tables!$C$1749:$J$1763,4,FALSE),VLOOKUP(Input_PS!K61,Database_Tables!$C$1749:$J$1763,4,FALSE))+IF(AND(Input_PS!H$33=\"Yes\",NOT(ISBLANK(Input_PS!$B25)),Input_PS!H25>0),PS_Intermediate!H25,0)/IF(Input_PS!L61=\"\",VLOOKUP(Database_Tables!$C$1762,Database_Tables!$C$1749:$J$1763,2,FALSE),VLOOKUP(Input_PS!L61,Database_Tables!$C$1749:$J$1763,2,FALSE))*IF(Input_PS!L61=\"\",VLOOKUP(Database_Tables!$C$1762,Database_Tables!$C$1749:$J$1763,4,FALSE),VLOOKUP(Input_PS!L61,Database_Tables!$C$1749:$J$1763,4,FALSE))+IF(AND(Input_PS!I$33=\"Yes\",NOT(ISBLANK(Input_PS!$B25)),Input_PS!I25>0),PS_Intermediate!I25,0)/IF(Input_PS!N61=\"\",VLOOKUP(Database_Tables!$C$1763,Database_Tables!$C$1749:$J$1763,2,FALSE),VLOOKUP(Input_PS!N61,Database_Tables!$C$1749:$J$1763,2,FALSE))*IF(Input_PS!N61=\"\",VLOOKUP(Database_Tables!$C$1763,Database_Tables!$C$1749:$J$1763,4,FALSE),VLOOKUP(Input_PS!N61,Database_Tables!$C$1749:$J$1763,4,FALSE)))","v":0},null,{"$f":"IF($B$48=\"Per Acre Inputs\",-1,-1*Input!$J$14)*(IF(AND(Input_PS!C$33=\"Yes\",NOT(ISBLANK(Input_PS!$B25)),Input_PS!C25>0),PS_Intermediate!C25,0)/IF(Input_PS!C61=\"\",VLOOKUP(\"Diesel\",Database_Tables!$C$1749:$J$1763,2,FALSE),VLOOKUP(Input_PS!C61,Database_Tables!$C$1749:$J$1763,2,FALSE))*IF(Input_PS!C61=\"\",VLOOKUP(\"Diesel\",Database_Tables!$C$1749:$J$1763,5,FALSE),VLOOKUP(Input_PS!C61,Database_Tables!$C$1749:$J$1763,5,FALSE))+IF(AND(Input_PS!D$33=\"Yes\",NOT(ISBLANK(Input_PS!$B25)),Input_PS!D25>0),PS_Intermediate!D25,0)/IF(Input_PS!E61=\"\",VLOOKUP(\"Diesel\",Database_Tables!$C$1749:$J$1763,2,FALSE),VLOOKUP(Input_PS!E61,Database_Tables!$C$1749:$J$1763,2,FALSE))*IF(Input_PS!E61=\"\",VLOOKUP(\"Diesel\",Database_Tables!$C$1749:$J$1763,5,FALSE),VLOOKUP(Input_PS!E61,Database_Tables!$C$1749:$J$1763,5,FALSE))+IF(AND(Input_PS!E$33=\"Yes\",NOT(ISBLANK(Input_PS!$B25)),Input_PS!E25>0),PS_Intermediate!E25,0)/IF(Input_PS!G61=\"\",VLOOKUP(\"Diesel\",Database_Tables!$C$1749:$J$1763,2,FALSE),VLOOKUP(Input_PS!G61,Database_Tables!$C$1749:$J$1763,2,FALSE))*IF(Input_PS!G61=\"\",VLOOKUP(\"Diesel\",Database_Tables!$C$1749:$J$1763,5,FALSE),VLOOKUP(Input_PS!G61,Database_Tables!$C$1749:$J$1763,5,FALSE))+IF(AND(Input_PS!F$33=\"Yes\",NOT(ISBLANK(Input_PS!$B25)),Input_PS!F25>0),PS_Intermediate!F25,0)/IF(Input_PS!I61=\"\",VLOOKUP(\"Diesel\",Database_Tables!$C$1749:$J$1763,2,FALSE),VLOOKUP(Input_PS!I61,Database_Tables!$C$1749:$J$1763,2,FALSE))*IF(Input_PS!I61=\"\",VLOOKUP(\"Diesel\",Database_Tables!$C$1749:$J$1763,5,FALSE),VLOOKUP(Input_PS!I61,Database_Tables!$C$1749:$J$1763,5,FALSE))+IF(AND(Input_PS!G$33=\"Yes\",NOT(ISBLANK(Input_PS!$B25)),Input_PS!G25>0),PS_Intermediate!G25,0)/IF(Input_PS!K61=\"\",VLOOKUP(Database_Tables!$C$1761,Database_Tables!$C$1749:$J$1763,2,FALSE),VLOOKUP(Input_PS!K61,Database_Tables!$C$1749:$J$1763,2,FALSE))*IF(Input_PS!K61=\"\",VLOOKUP(Database_Tables!$C$1761,Database_Tables!$C$1749:$J$1763,5,FALSE),VLOOKUP(Input_PS!K61,Database_Tables!$C$1749:$J$1763,5,FALSE))+IF(AND(Input_PS!H$33=\"Yes\",NOT(ISBLANK(Input_PS!$B25)),Input_PS!H25>0),PS_Intermediate!H25,0)/IF(Input_PS!L61=\"\",VLOOKUP(Database_Tables!$C$1762,Database_Tables!$C$1749:$J$1763,2,FALSE),VLOOKUP(Input_PS!L61,Database_Tables!$C$1749:$J$1763,2,FALSE))*IF(Input_PS!L61=\"\",VLOOKUP(Database_Tables!$C$1762,Database_Tables!$C$1749:$J$1763,5,FALSE),VLOOKUP(Input_PS!L61,Database_Tables!$C$1749:$J$1763,5,FALSE))+IF(AND(Input_PS!I$33=\"Yes\",NOT(ISBLANK(Input_PS!$B25)),Input_PS!I25>0),PS_Intermediate!I25,0)/IF(Input_PS!N61=\"\",VLOOKUP(Database_Tables!$C$1763,Database_Tables!$C$1749:$J$1763,2,FALSE),VLOOKUP(Input_PS!N61,Database_Tables!$C$1749:$J$1763,2,FALSE))*IF(Input_PS!N61=\"\",VLOOKUP(Database_Tables!$C$1763,Database_Tables!$C$1749:$J$1763,5,FALSE),VLOOKUP(Input_PS!N61,Database_Tables!$C$1749:$J$1763,5,FALSE)))","v":0},null,{"$f":"IF($B$48=\"Per Acre Inputs\",-1,-1*Input!$J$14)*(IF(AND(Input_PS!C$33=\"Yes\",NOT(ISBLANK(Input_PS!$B25)),Input_PS!C25>0),PS_Intermediate!C25,0)/IF(Input_PS!C61=\"\",VLOOKUP(\"Diesel\",Database_Tables!$C$1749:$J$1763,2,FALSE),VLOOKUP(Input_PS!C61,Database_Tables!$C$1749:$J$1763,2,FALSE))*IF(Input_PS!C61=\"\",VLOOKUP(\"Diesel\",Database_Tables!$C$1749:$J$1763,6,FALSE),VLOOKUP(Input_PS!C61,Database_Tables!$C$1749:$J$1763,6,FALSE))+IF(AND(Input_PS!D$33=\"Yes\",NOT(ISBLANK(Input_PS!$B25)),Input_PS!D25>0),PS_Intermediate!D25,0)/IF(Input_PS!E61=\"\",VLOOKUP(\"Diesel\",Database_Tables!$C$1749:$J$1763,2,FALSE),VLOOKUP(Input_PS!E61,Database_Tables!$C$1749:$J$1763,2,FALSE))*IF(Input_PS!E61=\"\",VLOOKUP(\"Diesel\",Database_Tables!$C$1749:$J$1763,6,FALSE),VLOOKUP(Input_PS!E61,Database_Tables!$C$1749:$J$1763,6,FALSE))+IF(AND(Input_PS!E$33=\"Yes\",NOT(ISBLANK(Input_PS!$B25)),Input_PS!E25>0),PS_Intermediate!E25,0)/IF(Input_PS!G61=\"\",VLOOKUP(\"Diesel\",Database_Tables!$C$1749:$J$1763,2,FALSE),VLOOKUP(Input_PS!G61,Database_Tables!$C$1749:$J$1763,2,FALSE))*IF(Input_PS!G61=\"\",VLOOKUP(\"Diesel\",Database_Tables!$C$1749:$J$1763,6,FALSE),VLOOKUP(Input_PS!G61,Database_Tables!$C$1749:$J$1763,6,FALSE))+IF(AND(Input_PS!F$33=\"Yes\",NOT(ISBLANK(Input_PS!$B25)),Input_PS!F25>0),PS_Intermediate!F25,0)/IF(Input_PS!I61=\"\",VLOOKUP(\"Diesel\",Database_Tables!$C$1749:$J$1763,2,FALSE),VLOOKUP(Input_PS!I61,Database_Tables!$C$1749:$J$1763,2,FALSE))*IF(Input_PS!I61=\"\",VLOOKUP(\"Diesel\",Database_Tables!$C$1749:$J$1763,6,FALSE),VLOOKUP(Input_PS!I61,Database_Tables!$C$1749:$J$1763,6,FALSE))+IF(AND(Input_PS!G$33=\"Yes\",NOT(ISBLANK(Input_PS!$B25)),Input_PS!G25>0),PS_Intermediate!G25,0)/IF(Input_PS!K61=\"\",VLOOKUP(Database_Tables!$C$1761,Database_Tables!$C$1749:$J$1763,2,FALSE),VLOOKUP(Input_PS!K61,Database_Tables!$C$1749:$J$1763,2,FALSE))*IF(Input_PS!K61=\"\",VLOOKUP(Database_Tables!$C$1761,Database_Tables!$C$1749:$J$1763,6,FALSE),VLOOKUP(Input_PS!K61,Database_Tables!$C$1749:$J$1763,6,FALSE))+IF(AND(Input_PS!H$33=\"Yes\",NOT(ISBLANK(Input_PS!$B25)),Input_PS!H25>0),PS_Intermediate!H25,0)/IF(Input_PS!L61=\"\",VLOOKUP(Database_Tables!$C$1762,Database_Tables!$C$1749:$J$1763,2,FALSE),VLOOKUP(Input_PS!L61,Database_Tables!$C$1749:$J$1763,2,FALSE))*IF(Input_PS!L61=\"\",VLOOKUP(Database_Tables!$C$1762,Database_Tables!$C$1749:$J$1763,6,FALSE),VLOOKUP(Input_PS!L61,Database_Tables!$C$1749:$J$1763,6,FALSE))+IF(AND(Input_PS!I$33=\"Yes\",NOT(ISBLANK(Input_PS!$B25)),Input_PS!I25>0),PS_Intermediate!I25,0)/IF(Input_PS!N61=\"\",VLOOKUP(Database_Tables!$C$1763,Database_Tables!$C$1749:$J$1763,2,FALSE),VLOOKUP(Input_PS!N61,Database_Tables!$C$1749:$J$1763,2,FALSE))*IF(Input_PS!N61=\"\",VLOOKUP(Database_Tables!$C$1763,Database_Tables!$C$1749:$J$1763,6,FALSE),VLOOKUP(Input_PS!N61,Database_Tables!$C$1749:$J$1763,6,FALSE)))","v":0},null,{"$f":"IF($B$48=\"Per Acre Inputs\",-1,-1*Input!$J$14)*(IF(AND(Input_PS!C$33=\"Yes\",NOT(ISBLANK(Input_PS!$B25)),Input_PS!C25>0),PS_Intermediate!C25,0)/IF(Input_PS!C61=\"\",VLOOKUP(\"Diesel\",Database_Tables!$C$1749:$J$1763,2,FALSE),VLOOKUP(Input_PS!C61,Database_Tables!$C$1749:$J$1763,2,FALSE))*IF(Input_PS!C61=\"\",VLOOKUP(\"Diesel\",Database_Tables!$C$1749:$J$1763,7,FALSE),VLOOKUP(Input_PS!C61,Database_Tables!$C$1749:$J$1763,7,FALSE))+IF(AND(Input_PS!D$33=\"Yes\",NOT(ISBLANK(Input_PS!$B25)),Input_PS!D25>0),PS_Intermediate!D25,0)/IF(Input_PS!E61=\"\",VLOOKUP(\"Diesel\",Database_Tables!$C$1749:$J$1763,2,FALSE),VLOOKUP(Input_PS!E61,Database_Tables!$C$1749:$J$1763,2,FALSE))*IF(Input_PS!E61=\"\",VLOOKUP(\"Diesel\",Database_Tables!$C$1749:$J$1763,7,FALSE),VLOOKUP(Input_PS!E61,Database_Tables!$C$1749:$J$1763,7,FALSE))+IF(AND(Input_PS!E$33=\"Yes\",NOT(ISBLANK(Input_PS!$B25)),Input_PS!E25>0),PS_Intermediate!E25,0)/IF(Input_PS!G61=\"\",VLOOKUP(\"Diesel\",Database_Tables!$C$1749:$J$1763,2,FALSE),VLOOKUP(Input_PS!G61,Database_Tables!$C$1749:$J$1763,2,FALSE))*IF(Input_PS!G61=\"\",VLOOKUP(\"Diesel\",Database_Tables!$C$1749:$J$1763,7,FALSE),VLOOKUP(Input_PS!G61,Database_Tables!$C$1749:$J$1763,7,FALSE))+IF(AND(Input_PS!F$33=\"Yes\",NOT(ISBLANK(Input_PS!$B25)),Input_PS!F25>0),PS_Intermediate!F25,0)/IF(Input_PS!I61=\"\",VLOOKUP(\"Diesel\",Database_Tables!$C$1749:$J$1763,2,FALSE),VLOOKUP(Input_PS!I61,Database_Tables!$C$1749:$J$1763,2,FALSE))*IF(Input_PS!I61=\"\",VLOOKUP(\"Diesel\",Database_Tables!$C$1749:$J$1763,7,FALSE),VLOOKUP(Input_PS!I61,Database_Tables!$C$1749:$J$1763,7,FALSE))+IF(AND(Input_PS!G$33=\"Yes\",NOT(ISBLANK(Input_PS!$B25)),Input_PS!G25>0),PS_Intermediate!G25,0)/IF(Input_PS!K61=\"\",VLOOKUP(Database_Tables!$C$1761,Database_Tables!$C$1749:$J$1763,2,FALSE),VLOOKUP(Input_PS!K61,Database_Tables!$C$1749:$J$1763,2,FALSE))*IF(Input_PS!K61=\"\",VLOOKUP(Database_Tables!$C$1761,Database_Tables!$C$1749:$J$1763,7,FALSE),VLOOKUP(Input_PS!K61,Database_Tables!$C$1749:$J$1763,7,FALSE))+IF(AND(Input_PS!H$33=\"Yes\",NOT(ISBLANK(Input_PS!$B25)),Input_PS!H25>0),PS_Intermediate!H25,0)/IF(Input_PS!L61=\"\",VLOOKUP(Database_Tables!$C$1762,Database_Tables!$C$1749:$J$1763,2,FALSE),VLOOKUP(Input_PS!L61,Database_Tables!$C$1749:$J$1763,2,FALSE))*IF(Input_PS!L61=\"\",VLOOKUP(Database_Tables!$C$1762,Database_Tables!$C$1749:$J$1763,7,FALSE),VLOOKUP(Input_PS!L61,Database_Tables!$C$1749:$J$1763,7,FALSE))+IF(AND(Input_PS!I$33=\"Yes\",NOT(ISBLANK(Input_PS!$B25)),Input_PS!I25>0),PS_Intermediate!I25,0)/IF(Input_PS!N61=\"\",VLOOKUP(Database_Tables!$C$1763,Database_Tables!$C$1749:$J$1763,2,FALSE),VLOOKUP(Input_PS!N61,Database_Tables!$C$1749:$J$1763,2,FALSE))*IF(Input_PS!N61=\"\",VLOOKUP(Database_Tables!$C$1763,Database_Tables!$C$1749:$J$1763,7,FALSE),VLOOKUP(Input_PS!N61,Database_Tables!$C$1749:$J$1763,7,FALSE)))","v":0},null,{"$f":"IF(ISNA(VLOOKUP(B60,Database_Tables!$I$1587:$J$1626,2,FALSE)),FALSE,TRUE)","v":false}]
[null,{"$f":"Input_PS!B26","v":"Energy percentage not accounted for in a practice standard"},{"$f":"IF($B$48=\"Per Acre Inputs\",-1,-1*Input!$J$14)*SUM(PS_Intermediate!C26:I26)*IF(C50=\"[MBTU]\",1000,1)","v":0},null,{"$f":"IF($B$48=\"Per Acre Inputs\",-1,-1*Input!$J$14)*(IF(AND(Input_PS!C$33=\"Yes\",NOT(ISBLANK(Input_PS!$B26)),Input_PS!C26>0),PS_Intermediate!C26,0)/IF(Input_PS!C62=\"\",VLOOKUP(\"Diesel\",Database_Tables!$C$1749:$J$1763,2,FALSE),VLOOKUP(Input_PS!C62,Database_Tables!$C$1749:$J$1763,2,FALSE))*IF(Input_PS!C62=\"\",VLOOKUP(\"Diesel\",Database_Tables!$C$1749:$J$1763,3,FALSE),VLOOKUP(Input_PS!C62,Database_Tables!$C$1749:$J$1763,3,FALSE))+IF(AND(Input_PS!D$33=\"Yes\",NOT(ISBLANK(Input_PS!$B26)),Input_PS!D26>0),PS_Intermediate!D26,0)/IF(Input_PS!E62=\"\",VLOOKUP(\"Diesel\",Database_Tables!$C$1749:$J$1763,2,FALSE),VLOOKUP(Input_PS!E62,Database_Tables!$C$1749:$J$1763,2,FALSE))*IF(Input_PS!E62=\"\",VLOOKUP(\"Diesel\",Database_Tables!$C$1749:$J$1763,3,FALSE),VLOOKUP(Input_PS!E62,Database_Tables!$C$1749:$J$1763,3,FALSE))+IF(AND(Input_PS!E$33=\"Yes\",NOT(ISBLANK(Input_PS!$B26)),Input_PS!E26>0),PS_Intermediate!E26,0)/IF(Input_PS!G62=\"\",VLOOKUP(\"Diesel\",Database_Tables!$C$1749:$J$1763,2,FALSE),VLOOKUP(Input_PS!G62,Database_Tables!$C$1749:$J$1763,2,FALSE))*IF(Input_PS!G62=\"\",VLOOKUP(\"Diesel\",Database_Tables!$C$1749:$J$1763,3,FALSE),VLOOKUP(Input_PS!G62,Database_Tables!$C$1749:$J$1763,3,FALSE))+IF(AND(Input_PS!F$33=\"Yes\",NOT(ISBLANK(Input_PS!$B26)),Input_PS!F26>0),PS_Intermediate!F26,0)/IF(Input_PS!I62=\"\",VLOOKUP(\"Diesel\",Database_Tables!$C$1749:$J$1763,2,FALSE),VLOOKUP(Input_PS!I62,Database_Tables!$C$1749:$J$1763,2,FALSE))*IF(Input_PS!I62=\"\",VLOOKUP(\"Diesel\",Database_Tables!$C$1749:$J$1763,3,FALSE),VLOOKUP(Input_PS!I62,Database_Tables!$C$1749:$J$1763,3,FALSE))+IF(AND(Input_PS!G$33=\"Yes\",NOT(ISBLANK(Input_PS!$B26)),Input_PS!G26>0),PS_Intermediate!G26,0)/IF(Input_PS!K62=\"\",VLOOKUP(Database_Tables!$C$1761,Database_Tables!$C$1749:$J$1763,2,FALSE),VLOOKUP(Input_PS!K62,Database_Tables!$C$1749:$J$1763,2,FALSE))*IF(Input_PS!K62=\"\",VLOOKUP(Database_Tables!$C$1761,Database_Tables!$C$1749:$J$1763,3,FALSE),VLOOKUP(Input_PS!K62,Database_Tables!$C$1749:$J$1763,3,FALSE))+IF(AND(Input_PS!H$33=\"Yes\",NOT(ISBLANK(Input_PS!$B26)),Input_PS!H26>0),PS_Intermediate!H26,0)/IF(Input_PS!L62=\"\",VLOOKUP(Database_Tables!$C$1762,Database_Tables!$C$1749:$J$1763,2,FALSE),VLOOKUP(Input_PS!L62,Database_Tables!$C$1749:$J$1763,2,FALSE))*IF(Input_PS!L62=\"\",VLOOKUP(Database_Tables!$C$1762,Database_Tables!$C$1749:$J$1763,3,FALSE),VLOOKUP(Input_PS!L62,Database_Tables!$C$1749:$J$1763,3,FALSE))+IF(AND(Input_PS!I$33=\"Yes\",NOT(ISBLANK(Input_PS!$B26)),Input_PS!I26>0),PS_Intermediate!I26,0)/IF(Input_PS!N62=\"\",VLOOKUP(Database_Tables!$C$1763,Database_Tables!$C$1749:$J$1763,2,FALSE),VLOOKUP(Input_PS!N62,Database_Tables!$C$1749:$J$1763,2,FALSE))*IF(Input_PS!N62=\"\",VLOOKUP(Database_Tables!$C$1763,Database_Tables!$C$1749:$J$1763,3,FALSE),VLOOKUP(Input_PS!N62,Database_Tables!$C$1749:$J$1763,3,FALSE)))","v":0},null,{"$f":"IF($B$48=\"Per Acre Inputs\",-1,-1*Input!$J$14)*(IF(AND(Input_PS!C$33=\"Yes\",NOT(ISBLANK(Input_PS!$B26)),Input_PS!C26>0),PS_Intermediate!C26,0)/IF(Input_PS!C62=\"\",VLOOKUP(\"Diesel\",Database_Tables!$C$1749:$J$1763,2,FALSE),VLOOKUP(Input_PS!C62,Database_Tables!$C$1749:$J$1763,2,FALSE))*IF(Input_PS!C62=\"\",VLOOKUP(\"Diesel\",Database_Tables!$C$1749:$J$1763,4,FALSE),VLOOKUP(Input_PS!C62,Database_Tables!$C$1749:$J$1763,4,FALSE))+IF(AND(Input_PS!D$33=\"Yes\",NOT(ISBLANK(Input_PS!$B26)),Input_PS!D26>0),PS_Intermediate!D26,0)/IF(Input_PS!E62=\"\",VLOOKUP(\"Diesel\",Database_Tables!$C$1749:$J$1763,2,FALSE),VLOOKUP(Input_PS!E62,Database_Tables!$C$1749:$J$1763,2,FALSE))*IF(Input_PS!E62=\"\",VLOOKUP(\"Diesel\",Database_Tables!$C$1749:$J$1763,4,FALSE),VLOOKUP(Input_PS!E62,Database_Tables!$C$1749:$J$1763,4,FALSE))+IF(AND(Input_PS!E$33=\"Yes\",NOT(ISBLANK(Input_PS!$B26)),Input_PS!E26>0),PS_Intermediate!E26,0)/IF(Input_PS!G62=\"\",VLOOKUP(\"Diesel\",Database_Tables!$C$1749:$J$1763,2,FALSE),VLOOKUP(Input_PS!G62,Database_Tables!$C$1749:$J$1763,2,FALSE))*IF(Input_PS!G62=\"\",VLOOKUP(\"Diesel\",Database_Tables!$C$1749:$J$1763,4,FALSE),VLOOKUP(Input_PS!G62,Database_Tables!$C$1749:$J$1763,4,FALSE))+IF(AND(Input_PS!F$33=\"Yes\",NOT(ISBLANK(Input_PS!$B26)),Input_PS!F26>0),PS_Intermediate!F26,0)/IF(Input_PS!I62=\"\",VLOOKUP(\"Diesel\",Database_Tables!$C$1749:$J$1763,2,FALSE),VLOOKUP(Input_PS!I62,Database_Tables!$C$1749:$J$1763,2,FALSE))*IF(Input_PS!I62=\"\",VLOOKUP(\"Diesel\",Database_Tables!$C$1749:$J$1763,4,FALSE),VLOOKUP(Input_PS!I62,Database_Tables!$C$1749:$J$1763,4,FALSE))+IF(AND(Input_PS!G$33=\"Yes\",NOT(ISBLANK(Input_PS!$B26)),Input_PS!G26>0),PS_Intermediate!G26,0)/IF(Input_PS!K62=\"\",VLOOKUP(Database_Tables!$C$1761,Database_Tables!$C$1749:$J$1763,2,FALSE),VLOOKUP(Input_PS!K62,Database_Tables!$C$1749:$J$1763,2,FALSE))*IF(Input_PS!K62=\"\",VLOOKUP(Database_Tables!$C$1761,Database_Tables!$C$1749:$J$1763,4,FALSE),VLOOKUP(Input_PS!K62,Database_Tables!$C$1749:$J$1763,4,FALSE))+IF(AND(Input_PS!H$33=\"Yes\",NOT(ISBLANK(Input_PS!$B26)),Input_PS!H26>0),PS_Intermediate!H26,0)/IF(Input_PS!L62=\"\",VLOOKUP(Database_Tables!$C$1762,Database_Tables!$C$1749:$J$1763,2,FALSE),VLOOKUP(Input_PS!L62,Database_Tables!$C$1749:$J$1763,2,FALSE))*IF(Input_PS!L62=\"\",VLOOKUP(Database_Tables!$C$1762,Database_Tables!$C$1749:$J$1763,4,FALSE),VLOOKUP(Input_PS!L62,Database_Tables!$C$1749:$J$1763,4,FALSE))+IF(AND(Input_PS!I$33=\"Yes\",NOT(ISBLANK(Input_PS!$B26)),Input_PS!I26>0),PS_Intermediate!I26,0)/IF(Input_PS!N62=\"\",VLOOKUP(Database_Tables!$C$1763,Database_Tables!$C$1749:$J$1763,2,FALSE),VLOOKUP(Input_PS!N62,Database_Tables!$C$1749:$J$1763,2,FALSE))*IF(Input_PS!N62=\"\",VLOOKUP(Database_Tables!$C$1763,Database_Tables!$C$1749:$J$1763,4,FALSE),VLOOKUP(Input_PS!N62,Database_Tables!$C$1749:$J$1763,4,FALSE)))","v":0},null,{"$f":"IF($B$48=\"Per Acre Inputs\",-1,-1*Input!$J$14)*(IF(AND(Input_PS!C$33=\"Yes\",NOT(ISBLANK(Input_PS!$B26)),Input_PS!C26>0),PS_Intermediate!C26,0)/IF(Input_PS!C62=\"\",VLOOKUP(\"Diesel\",Database_Tables!$C$1749:$J$1763,2,FALSE),VLOOKUP(Input_PS!C62,Database_Tables!$C$1749:$J$1763,2,FALSE))*IF(Input_PS!C62=\"\",VLOOKUP(\"Diesel\",Database_Tables!$C$1749:$J$1763,5,FALSE),VLOOKUP(Input_PS!C62,Database_Tables!$C$1749:$J$1763,5,FALSE))+IF(AND(Input_PS!D$33=\"Yes\",NOT(ISBLANK(Input_PS!$B26)),Input_PS!D26>0),PS_Intermediate!D26,0)/IF(Input_PS!E62=\"\",VLOOKUP(\"Diesel\",Database_Tables!$C$1749:$J$1763,2,FALSE),VLOOKUP(Input_PS!E62,Database_Tables!$C$1749:$J$1763,2,FALSE))*IF(Input_PS!E62=\"\",VLOOKUP(\"Diesel\",Database_Tables!$C$1749:$J$1763,5,FALSE),VLOOKUP(Input_PS!E62,Database_Tables!$C$1749:$J$1763,5,FALSE))+IF(AND(Input_PS!E$33=\"Yes\",NOT(ISBLANK(Input_PS!$B26)),Input_PS!E26>0),PS_Intermediate!E26,0)/IF(Input_PS!G62=\"\",VLOOKUP(\"Diesel\",Database_Tables!$C$1749:$J$1763,2,FALSE),VLOOKUP(Input_PS!G62,Database_Tables!$C$1749:$J$1763,2,FALSE))*IF(Input_PS!G62=\"\",VLOOKUP(\"Diesel\",Database_Tables!$C$1749:$J$1763,5,FALSE),VLOOKUP(Input_PS!G62,Database_Tables!$C$1749:$J$1763,5,FALSE))+IF(AND(Input_PS!F$33=\"Yes\",NOT(ISBLANK(Input_PS!$B26)),Input_PS!F26>0),PS_Intermediate!F26,0)/IF(Input_PS!I62=\"\",VLOOKUP(\"Diesel\",Database_Tables!$C$1749:$J$1763,2,FALSE),VLOOKUP(Input_PS!I62,Database_Tables!$C$1749:$J$1763,2,FALSE))*IF(Input_PS!I62=\"\",VLOOKUP(\"Diesel\",Database_Tables!$C$1749:$J$1763,5,FALSE),VLOOKUP(Input_PS!I62,Database_Tables!$C$1749:$J$1763,5,FALSE))+IF(AND(Input_PS!G$33=\"Yes\",NOT(ISBLANK(Input_PS!$B26)),Input_PS!G26>0),PS_Intermediate!G26,0)/IF(Input_PS!K62=\"\",VLOOKUP(Database_Tables!$C$1761,Database_Tables!$C$1749:$J$1763,2,FALSE),VLOOKUP(Input_PS!K62,Database_Tables!$C$1749:$J$1763,2,FALSE))*IF(Input_PS!K62=\"\",VLOOKUP(Database_Tables!$C$1761,Database_Tables!$C$1749:$J$1763,5,FALSE),VLOOKUP(Input_PS!K62,Database_Tables!$C$1749:$J$1763,5,FALSE))+IF(AND(Input_PS!H$33=\"Yes\",NOT(ISBLANK(Input_PS!$B26)),Input_PS!H26>0),PS_Intermediate!H26,0)/IF(Input_PS!L62=\"\",VLOOKUP(Database_Tables!$C$1762,Database_Tables!$C$1749:$J$1763,2,FALSE),VLOOKUP(Input_PS!L62,Database_Tables!$C$1749:$J$1763,2,FALSE))*IF(Input_PS!L62=\"\",VLOOKUP(Database_Tables!$C$1762,Database_Tables!$C$1749:$J$1763,5,FALSE),VLOOKUP(Input_PS!L62,Database_Tables!$C$1749:$J$1763,5,FALSE))+IF(AND(Input_PS!I$33=\"Yes\",NOT(ISBLANK(Input_PS!$B26)),Input_PS!I26>0),PS_Intermediate!I26,0)/IF(Input_PS!N62=\"\",VLOOKUP(Database_Tables!$C$1763,Database_Tables!$C$1749:$J$1763,2,FALSE),VLOOKUP(Input_PS!N62,Database_Tables!$C$1749:$J$1763,2,FALSE))*IF(Input_PS!N62=\"\",VLOOKUP(Database_Tables!$C$1763,Database_Tables!$C$1749:$J$1763,5,FALSE),VLOOKUP(Input_PS!N62,Database_Tables!$C$1749:$J$1763,5,FALSE)))","v":0},null,{"$f":"IF($B$48=\"Per Acre Inputs\",-1,-1*Input!$J$14)*(IF(AND(Input_PS!C$33=\"Yes\",NOT(ISBLANK(Input_PS!$B26)),Input_PS!C26>0),PS_Intermediate!C26,0)/IF(Input_PS!C62=\"\",VLOOKUP(\"Diesel\",Database_Tables!$C$1749:$J$1763,2,FALSE),VLOOKUP(Input_PS!C62,Database_Tables!$C$1749:$J$1763,2,FALSE))*IF(Input_PS!C62=\"\",VLOOKUP(\"Diesel\",Database_Tables!$C$1749:$J$1763,6,FALSE),VLOOKUP(Input_PS!C62,Database_Tables!$C$1749:$J$1763,6,FALSE))+IF(AND(Input_PS!D$33=\"Yes\",NOT(ISBLANK(Input_PS!$B26)),Input_PS!D26>0),PS_Intermediate!D26,0)/IF(Input_PS!E62=\"\",VLOOKUP(\"Diesel\",Database_Tables!$C$1749:$J$1763,2,FALSE),VLOOKUP(Input_PS!E62,Database_Tables!$C$1749:$J$1763,2,FALSE))*IF(Input_PS!E62=\"\",VLOOKUP(\"Diesel\",Database_Tables!$C$1749:$J$1763,6,FALSE),VLOOKUP(Input_PS!E62,Database_Tables!$C$1749:$J$1763,6,FALSE))+IF(AND(Input_PS!E$33=\"Yes\",NOT(ISBLANK(Input_PS!$B26)),Input_PS!E26>0),PS_Intermediate!E26,0)/IF(Input_PS!G62=\"\",VLOOKUP(\"Diesel\",Database_Tables!$C$1749:$J$1763,2,FALSE),VLOOKUP(Input_PS!G62,Database_Tables!$C$1749:$J$1763,2,FALSE))*IF(Input_PS!G62=\"\",VLOOKUP(\"Diesel\",Database_Tables!$C$1749:$J$1763,6,FALSE),VLOOKUP(Input_PS!G62,Database_Tables!$C$1749:$J$1763,6,FALSE))+IF(AND(Input_PS!F$33=\"Yes\",NOT(ISBLANK(Input_PS!$B26)),Input_PS!F26>0),PS_Intermediate!F26,0)/IF(Input_PS!I62=\"\",VLOOKUP(\"Diesel\",Database_Tables!$C$1749:$J$1763,2,FALSE),VLOOKUP(Input_PS!I62,Database_Tables!$C$1749:$J$1763,2,FALSE))*IF(Input_PS!I62=\"\",VLOOKUP(\"Diesel\",Database_Tables!$C$1749:$J$1763,6,FALSE),VLOOKUP(Input_PS!I62,Database_Tables!$C$1749:$J$1763,6,FALSE))+IF(AND(Input_PS!G$33=\"Yes\",NOT(ISBLANK(Input_PS!$B26)),Input_PS!G26>0),PS_Intermediate!G26,0)/IF(Input_PS!K62=\"\",VLOOKUP(Database_Tables!$C$1761,Database_Tables!$C$1749:$J$1763,2,FALSE),VLOOKUP(Input_PS!K62,Database_Tables!$C$1749:$J$1763,2,FALSE))*IF(Input_PS!K62=\"\",VLOOKUP(Database_Tables!$C$1761,Database_Tables!$C$1749:$J$1763,6,FALSE),VLOOKUP(Input_PS!K62,Database_Tables!$C$1749:$J$1763,6,FALSE))+IF(AND(Input_PS!H$33=\"Yes\",NOT(ISBLANK(Input_PS!$B26)),Input_PS!H26>0),PS_Intermediate!H26,0)/IF(Input_PS!L62=\"\",VLOOKUP(Database_Tables!$C$1762,Database_Tables!$C$1749:$J$1763,2,FALSE),VLOOKUP(Input_PS!L62,Database_Tables!$C$1749:$J$1763,2,FALSE))*IF(Input_PS!L62=\"\",VLOOKUP(Database_Tables!$C$1762,Database_Tables!$C$1749:$J$1763,6,FALSE),VLOOKUP(Input_PS!L62,Database_Tables!$C$1749:$J$1763,6,FALSE))+IF(AND(Input_PS!I$33=\"Yes\",NOT(ISBLANK(Input_PS!$B26)),Input_PS!I26>0),PS_Intermediate!I26,0)/IF(Input_PS!N62=\"\",VLOOKUP(Database_Tables!$C$1763,Database_Tables!$C$1749:$J$1763,2,FALSE),VLOOKUP(Input_PS!N62,Database_Tables!$C$1749:$J$1763,2,FALSE))*IF(Input_PS!N62=\"\",VLOOKUP(Database_Tables!$C$1763,Database_Tables!$C$1749:$J$1763,6,FALSE),VLOOKUP(Input_PS!N62,Database_Tables!$C$1749:$J$1763,6,FALSE)))","v":0},null,{"$f":"IF($B$48=\"Per Acre Inputs\",-1,-1*Input!$J$14)*(IF(AND(Input_PS!C$33=\"Yes\",NOT(ISBLANK(Input_PS!$B26)),Input_PS!C26>0),PS_Intermediate!C26,0)/IF(Input_PS!C62=\"\",VLOOKUP(\"Diesel\",Database_Tables!$C$1749:$J$1763,2,FALSE),VLOOKUP(Input_PS!C62,Database_Tables!$C$1749:$J$1763,2,FALSE))*IF(Input_PS!C62=\"\",VLOOKUP(\"Diesel\",Database_Tables!$C$1749:$J$1763,7,FALSE),VLOOKUP(Input_PS!C62,Database_Tables!$C$1749:$J$1763,7,FALSE))+IF(AND(Input_PS!D$33=\"Yes\",NOT(ISBLANK(Input_PS!$B26)),Input_PS!D26>0),PS_Intermediate!D26,0)/IF(Input_PS!E62=\"\",VLOOKUP(\"Diesel\",Database_Tables!$C$1749:$J$1763,2,FALSE),VLOOKUP(Input_PS!E62,Database_Tables!$C$1749:$J$1763,2,FALSE))*IF(Input_PS!E62=\"\",VLOOKUP(\"Diesel\",Database_Tables!$C$1749:$J$1763,7,FALSE),VLOOKUP(Input_PS!E62,Database_Tables!$C$1749:$J$1763,7,FALSE))+IF(AND(Input_PS!E$33=\"Yes\",NOT(ISBLANK(Input_PS!$B26)),Input_PS!E26>0),PS_Intermediate!E26,0)/IF(Input_PS!G62=\"\",VLOOKUP(\"Diesel\",Database_Tables!$C$1749:$J$1763,2,FALSE),VLOOKUP(Input_PS!G62,Database_Tables!$C$1749:$J$1763,2,FALSE))*IF(Input_PS!G62=\"\",VLOOKUP(\"Diesel\",Database_Tables!$C$1749:$J$1763,7,FALSE),VLOOKUP(Input_PS!G62,Database_Tables!$C$1749:$J$1763,7,FALSE))+IF(AND(Input_PS!F$33=\"Yes\",NOT(ISBLANK(Input_PS!$B26)),Input_PS!F26>0),PS_Intermediate!F26,0)/IF(Input_PS!I62=\"\",VLOOKUP(\"Diesel\",Database_Tables!$C$1749:$J$1763,2,FALSE),VLOOKUP(Input_PS!I62,Database_Tables!$C$1749:$J$1763,2,FALSE))*IF(Input_PS!I62=\"\",VLOOKUP(\"Diesel\",Database_Tables!$C$1749:$J$1763,7,FALSE),VLOOKUP(Input_PS!I62,Database_Tables!$C$1749:$J$1763,7,FALSE))+IF(AND(Input_PS!G$33=\"Yes\",NOT(ISBLANK(Input_PS!$B26)),Input_PS!G26>0),PS_Intermediate!G26,0)/IF(Input_PS!K62=\"\",VLOOKUP(Database_Tables!$C$1761,Database_Tables!$C$1749:$J$1763,2,FALSE),VLOOKUP(Input_PS!K62,Database_Tables!$C$1749:$J$1763,2,FALSE))*IF(Input_PS!K62=\"\",VLOOKUP(Database_Tables!$C$1761,Database_Tables!$C$1749:$J$1763,7,FALSE),VLOOKUP(Input_PS!K62,Database_Tables!$C$1749:$J$1763,7,FALSE))+IF(AND(Input_PS!H$33=\"Yes\",NOT(ISBLANK(Input_PS!$B26)),Input_PS!H26>0),PS_Intermediate!H26,0)/IF(Input_PS!L62=\"\",VLOOKUP(Database_Tables!$C$1762,Database_Tables!$C$1749:$J$1763,2,FALSE),VLOOKUP(Input_PS!L62,Database_Tables!$C$1749:$J$1763,2,FALSE))*IF(Input_PS!L62=\"\",VLOOKUP(Database_Tables!$C$1762,Database_Tables!$C$1749:$J$1763,7,FALSE),VLOOKUP(Input_PS!L62,Database_Tables!$C$1749:$J$1763,7,FALSE))+IF(AND(Input_PS!I$33=\"Yes\",NOT(ISBLANK(Input_PS!$B26)),Input_PS!I26>0),PS_Intermediate!I26,0)/IF(Input_PS!N62=\"\",VLOOKUP(Database_Tables!$C$1763,Database_Tables!$C$1749:$J$1763,2,FALSE),VLOOKUP(Input_PS!N62,Database_Tables!$C$1749:$J$1763,2,FALSE))*IF(Input_PS!N62=\"\",VLOOKUP(Database_Tables!$C$1763,Database_Tables!$C$1749:$J$1763,7,FALSE),VLOOKUP(Input_PS!N62,Database_Tables!$C$1749:$J$1763,7,FALSE)))","v":0}]
[]
[]
[null,"Practice Standard (Summary)","Energy",null,"Reduced Greenhouse Gas Emissions"]
[null,null,"Savings",null,"CO2",null,"N2O",null,"CH4",null,"SO2",null,"NOx"]
[null,null,{"$f":"C50","v":"[MMBTU]"},null,"[lb]",null,"[lb]",null,"[lb]",null,"[lb]",null,"[lb]"]
[null,"Energy Practice Standards",{"$f":"SUMIF($O$51:$O$60,TRUE,C51:D60)","v":0},null,{"$f":"SUMIF($O$51:$O$60,TRUE,E51:F60)","v":0},null,{"$f":"SUMIF($O$51:$O$60,TRUE,G51:H60)","v":0},null,{"$f":"SUMIF($O$51:$O$60,TRUE,I51:J60)","v":0},null,{"$f":"SUMIF($O$51:$O$60,TRUE,K51:L60)","v":0},null,{"$f":"SUMIF($O$51:$O$60,TRUE,M51:N60)","v":0}]
[null,"Non-Energy Practice Standards",{"$f":"SUMIF($O$51:$O$60,FALSE,C51:D60)","v":0},null,{"$f":"SUM(E51:F60)-E67","v":0},null,{"$f":"SUM(G51:H60)-G67","v":0},null,{"$f":"SUM(I51:J60)-I67","v":0},null,{"$f":"SUM(K51:L60)-K67","v":0},null,{"$f":"SUM(M51:N60)-M67","v":0}]
[null,{"$f":"B61","v":"Energy percentage not accounted for in a practice standard"},{"$f":"C61","v":0},null,{"$f":"E61","v":0},null,{"$f":"G61","v":0},null,{"$f":"I61","v":0},null,{"$f":"K61","v":0},null,{"$f":"M61","v":0}]
[null,"Total",{"$f":"SUM(C67:D69)","v":0},null,{"$f":"SUM(E67:F69)","v":0},null,{"$f":"SUM(G67:H69)","v":0},null,{"$f":"SUM(I67:J69)","v":0},null,{"$f":"SUM(K67:L69)","v":0},null,{"$f":"SUM(M67:N69)","v":0}]

{"sheet":"Equations","index":11,"n_rows":140,"n_cols":2,"rows_kept":140,"cut":false,"hidden":true,"merged":[]}
[]
[null,"NRCS"]
[null,"CROPLAND ENERGY ESTIMATION TOOL - EQUATIONS"]
[]
[]
[null,"Farming Equations"]
[]
[null,"Conversion crop yield harvested in pounds per acre to dry matter pounds per acre"]
[]
[]
[]
[]
[null,"Equations showing conversion of crops harvest by wet weight to dry matter"]
[]
[]
[]
[null,"Conversion of SOM in pounds per acre for the top 6-inches of soil to MMBTU per acre"]
[]
[]
[]
[]
[null,"Conversion of dry matter pounds per acre to million British thermal unit per acre"]
[]
[]
[]
[]
[null,"Conversion of a gallon of diesel used per acre to million British Thermal Units per acre"]
[]
[]
[]
[]
[null,"Conversion of labor of hours worked per acre to million British Thermal Units  per acre"]
[]
[]
[]
[null,"Conversion of pounds of nitrogen applied per acre to million British Thermal Unit per acre"]
[]
[]
[]
[null,"Conversion of pounds of phosphorus applied per acre to million British Thermal Units per acre"]
[]
[]
[]
[]
[null,"Conversion of pounds of potassium applied per acre to million British Thermal Units per acre"]
[]
[]
[]
[null,"Conversion of pounds of sulfur applied per acre to million British Thermal Units per acre"]
[]
[]
[]
[]
[]
[]
[null,"Conversion of ounces of herbicide applied per acre to million British Thermal Units per acre"]
[]
[]
[]
[null,"Conversion of ounces of pesticide applied per acre to million British Thermal Units per acre"]
[]
[]
[]
[]
[null,"Conversion of animal unit days grazed to dry matter pounds per acre"]
[]
[]
[]
[null,"Conversion of grazing applied excreted manure as animal unit days to dry matter pounds per acre"]
[]
[]
[]
[null,"Equation showing available surface residue calculation"]
[]
[]
[null,"Equation showing remaining surface residue calculation"]
[]
[]
[null,"Irrigation Equations"]
[]
[null,"Equation calculating horsepower of both the irrigation and other delivery energy needs"]
[]
[]
[]
[null,"Conversion of horsepower for the irrigation delivery energy needs to British Thermal Units per water gallon pumped"]
[]
[]
[]
[]
[null,"Equation calculating energy used in British Thermal Units to pump one gallon  for irrigation pump"]
[]
[]
[]
[]
[null,"Equation calculating million gallons pumped for irrigation delivery energy"]
[]
[]
[]
[]
[null,"Equation calculating energy used for irrigation pumping in million British Thermal Units per acre"]
[]
[]
[]
[]
[null,"Other Equations"]
[]
[null,"Conversion of horsepower for the other delivery power needs to British Thermal Units per water gallon pumped"]
[]
[]
[]
[]
[]
[null,"Energy used in British Thermal Units to pump one gallon for other pump"]
[]
[]
[]
[]
[null,"Equation calculating million gallons pumped for other delivery energy needs"]
[]
[]
[]
[]
[null,"Equation calculating energy used for other pumping in million British Thermal Units per acre"]
[]
[]
[]
[]
[null,"Report Equations"]
[]
[null,"Equation calculating energy gain index"]
[]
[]
[]
[]
[null,"Equation calculating output index"]
[]
[]
[]
[]
[null,"Equation calculating energy harvest index"]

{"sheet":"Definitions","index":12,"n_rows":78,"n_cols":5,"rows_kept":78,"cut":false,"hidden":true,"merged":[]}
[]
[null,"NRCS"]
[null,"CROPLAND ENERGY ESTIMATION TOOL - DEFINED VARIABLES"]
[]
[null,"Variable Label","Variable","Units","Description"]
[null,"Farming Variables"]
[null,"Animal Feed Organic Material","Aom","[DM lbs/acre]","Enter the amount of animal matter applied to the field. This value is the dry matter weight of organic-based feed supplements imported to the field, such as hay."]
[null,"Animal Unit Days","AUD","[AUD]","Animal unit days is number of days that a 1,000 pound animal grazes per day. (Assume 30 pounds of dry matter consumed per AUD)"]
[null,"Appiled Stored Manure","Asm","[DM lbs/acre]","Enter the amount of stored manure applied to the field. This value is the amount of dry matter applied to the field. The user needs to know the volume and moisture content of the manure to estimate this value."]
[null,"Available Surface Residue","Rar","[DM lbs/acre]","Available Surface Residue is automatically populated from a look-up table tied to RUSLE 2 vegetative table. This the available surface residue that can be grazed, baled or otherwise removed from the field after harvest."]
[null,"Beginning Rootmass","Rb","[DM lbs/acre]","This value is taken from RUSLE2 vegetation table and is used to comput the starting available energy value"]
[null,"Beginning Surface Residue","Rbr","[DM lbs/acre]","This value is taken from RUSLE2 vegetation table and is used to compute the starting available energy value "]
[null,"Biomass Yield Ratio","Byrat","[-]","This value is selected from look-up table tied to the RUSLE 2 vegetative table."]
[null,"Compost Organic Material","Com","[DM lbs/acre]","Enter the amount of compost applied to the field as dry matter pounds per acre. "]
[null,"Crop Harvest Moisture","Charm","[%]","Enter the moisture content of the crop when harvested. This is the moisture content of the crop at the time of harvest. This is used to determine the amount of dry matter of the crop. The landowner should know this, but if unknown, typical values can be used. Consult an agronomist or other available references for typical values."]
[null,"Crop Harvest Type","Charv","[-]","The crop harvest type selected from the pull down menu is either: (1) grazing, (2) forage, (3) commodity, or (4) multi-use. Grazing uses unit of Animal Unit Days instead of RUSLE2 units for the crop yield, since the crop is being grazed and not harvested. Forage (silage, hay etc.) and commodity (grains, fruits vegetables, etc.) use RUSLE2 units. Multi-Use consists of harvesting a crop and then allowing the crop residue (stubble) to be bales (Post Harvest Forage) and/or grazed (Post Harvest Grazing)."]
[null,"Crop Interval","Cint","[-]","This is the number of crop intervals or rotations being analyzed. It ranges from 1 to 5 rotations. An interval starts the day after harvest and goes through the harvest of the crop."]
[null,"Crop Name","Cnam","[-]","Select Crop name from pull down-menu. This is selected from crops the listed in the RUSLE 2 vegetation table"]
[null,"Crop Yield","Cyld","[yield/acre]","Enter the crop yield in units specified by \"Yield Units\" (Column G). The landowner should specify this value."]
[null,"Date","D","[-]","Enter the date the plan was created."]
[null,"Delivery Type","Dtype","[-]","The \"Irrigation Delivery\" pump is the primary pump used for irrigating the crop. For this pump, the irrigation application can be selected in units of gallons per minute, inches per day, and cubic feet per second. The type of \"Other Delivery\" pumps is selected below as: dairy wastes, wind break, stockwater, booster or other. Application units for these pumps are selected below as either gallons per field, gallons per minute or cubic feet per second. Application amounts for both \"Irrigation Delivery\" pump and \"Other Delivery\" pumps are entered in the table below."]
[null,"Diesel Use","Duse","[gal/acre]","Diesel use is automatically selected from a look-up table tied to RUSLE 2 operations table."]
[null,"Dry Matter","DM","[lb]","The amount of dry matter contained in a crop, applied organics , or other organic matter after all moisture is removed."]
[null,"End Date","Edate","[-]","Select the end date from a drop-down menu. The end date is the day the crop is harvested. For example if a small grain crop was harvested on August 15, the end date would be August 15."]
[null,"Field Acres","Fac","[acres]","Enter the number of acres. The field acres value is used to convert energy use per field (MMBTU/field) to energy use per acre (MMBTU/acre)."]
[null,"Field Description","Fdesc","[-]","Enter field description. This input value describes the benchmark field and the planned changes. As an example, the field description could be Wheat – Conventional Tillage to Direct Seed."]
[null,"Field ID","Fid","[-]","Enter field identification number. Field ID appears on the headings of most reports defining the individual field or group of fields."]
[null,"Frequency","Fnt","[-]","Enter the frequency or number of times this operation occurs per crop interval. This value is used if the same operation occurs multiple times during the interval. If the value is left blank, the tool assumes the operation occurs one time during the interval. The user can also account for use of GPS technology to reduce the number of passes. For example, if planting with a 40’ drill there is typically a 1’ overlap but with GPS the overlap is no longer needed. This would reduce the number of passes by 1/40 or a 2.5%. A value of 0.975 could be used."]
[null,"Herbicide","Hrb","[oz/acre]","Enter the amount of herbicide active ingredient (AI) applied to the field in ounces per acre. This is the amount of active ingredient contained in all herbicides applied to the field. The chemical container provides the active ingredient for the herbicide."]
[null,"Labor","Lbr","[hrs/acre]","Enter human labor in hours per acre. This is the number of hours per acre needed to produce the specified crop for the field. Hours should include farming (planting, tillage, spraying, harvesting, etc.) and irrigation."]
[null,"Landowner","Lown","[-]","Enter the landowner, organization or other descriptive information."]
[null,"Latitude","LLat","[dec deg]","Enter the latitude of the project in decimal degrees. This will be used in future GIS applications."]
[null,"Longitude","LLon","[dec deg]","Enter the longitude of the project in decimal degrees. This will be used in future GIS applications."]
[null,"Moisture Content","Mc","[%]","The moisture content of a crop, applied organics, or soil organics"]
[null,"Nitrogen Application","Napp","[lbs/acre]","Enter the amount of nitrogen applied to the field in pounds per acre. This value is the weight in pounds of nitrogen applied to the field. The tool assumes a value of 20,000 BTU/lb of nitrogen."]
[null,"Operation Description","Odes","[-]","Enter the operation description from the pull-down menu. This value is selected from the RUSLE 2 operations table."]
[null,"Operation, (Application, Harvest, Planting, Tillage, Other, Manual Input)","Oper","[-]","Enter the type of operation from the pull down menu. The operation variable filters the RUSLE 2 Operation Table values, based on five categories: application, tillage, planting, harvest and other."]
[null,"Other Applied Organic Material","Oom","[DM lbs/acre]","Enter the amount of any other organic matter applied to the field. This value is the dry matter weight of any other organic based materials such as mulching materials or wood chips imported to the field."]
[null,"Pesticide Application","Pst","[oz/acre]","Enter the amount of pesticide active ingredient (AI) applied to the field in ounces per acre. This is the amount of active ingredient contained in all other chemicals applied that are not accounted for in the herbicide input value. The chemical container provides the active ingredient for the pesticide."]
[null,"Phosphorus Application","Papp","[lbs/acre]","Enter the amount of phosphorus applied to the field in pounds per acre.This value is the weight in pounds of phosphorus or P2O5 applied to the field in pounds per acre. The tool assumes a value of 7,000 BTU/lb of P2O5."]
[null,"Post Harvest Forage Removed","Fphrem","[DM lbs/acre]","The post harvest forage removed is the amount forage removed after harvest. The Crop Harvest Type is labeled as \"multiple use\" otherwise  this value is not required and not used."]
[null,"Post Harvest Grazing Removed","Gphrem","[DM lbs/acre]","The amount of forage removed due to grazing after harvest based on animal unit days assuming 30 lbs of dry matter removed per AUD. The Crop Harvest Type needs to be labeled as \"Multiple Use\" otherwise the input cell is not active."]
[null,"Potassium Application","Kapp","[lbs/acre]","Enter the amount of potassium applied to the field in pounds per acre. This value is the weight in pounds of potassium or K2O applied to the field. The tool assumes a value of 5,500 BTU/lb of K2O."]
[null,"Remaining Surface Residue","Rrr","[DM lbs/acre]","The amount of surface residue remaining after the harvest and post harvest removal is complete. It will check to ensure that there is sufficient residue remaining for the specified post harvest operations (Available Surface Residue – Post Harvest Forage – Post Harvest Grazing > 0)."]
[null,"Rootmass","Rmass","[DM lbs/acre]","Rootmass is automatically populated from a look-up table tied to RUSLE 2 vegetative table."]
[null,"Seed, transplants, sprig, etc.","Setc","[DM lbs/acre]","Enter the amount of seeds, transplants, sprigs and/or any other matter required to establish the crop. This value is the dry weight of seed, transplants, sprigs, etc. applied to establish the crop during each crop interval"]
[null,"Specific Crop Description","Cdes","[-]","Select crop description from pull-down menu. This is  selected from  RUSLE 2 vegetation table."]
[null,"Start Date","Sdate","[-]","Select the start date from a drop-down menu. The start date is the day after harvest of the previous crop. For example if a small grain crop was harvested on August 15, the start date would be August 16."]
[null,"Sulfur applied","Sapp","[lbs/acre]","Enter the amount of sulfur applied to the field in pounds per acre. This value is the weight in pounds of sulfur applied to the field. The tool assumes a value of 2,000 BTU/lb of sulfur."]
[null,"Total Weight","Tw","[lbs]","The measured total weight of the crop"]
[null,"Weight of Water","Ww","[lbs]","The weight of water in the crop"]
[null,"Year Crop Harvested","Cyr","[year]","Enter the year the crop was harvested"]
[null,"Yield Units","Yu","[varies]","Yield units are automatically populated from a look-up table tied to the RUSLE 2 vegetative table."]
[null,"Irrigation and Other Pumping Variables"]
[null,"Actual Delivery Power","PHPa","[HP]","This value checks that the current pump is properly sized. It is not required for tool operation."]
[null,"Amount Used by Crop","Ausd","[varies]","This is the amount of water delivered to the crop. It can be input as either net or gross applied and has units of inches. The input value is then converted to a volume of water applied by multiplying the number of inches by the number of acres. For the other delivery power, the tool allows unit flexibility, so the planner should check that this value corresponds to the unit rate selected and the days of operation."]
[null,"Application Efficiency","Eapp","[%]","Enter the application efficiency of the irrigation system. This is the application efficiency of the system. It is the difference between the gross and net applied, or what is actually available to the crop. For example, a side roll may have an application efficiency of 70% or 7 out of 10 gallons pumped are available for the crop. The other 3 gallons were lost due to non-uniformity, deep percolation, evaporation, spray drift, or pipe leakage."]
[null,"Average Days of Operation","Davop","[days]","This is the average number of days of irrigation the system must run per season to supply the necessary amount of irrigation water (Gross Application)."]
[null,"Computed Delivery Power","PHPc","[HP]","This value is the horsepower required for the system to operate. It is a function of the operating pressure, hours of operation, irrigation application, and field acres. It will not compute unless these are populated."]
[null,"Days of Operation","Dop","[days]","This is the number of days the pump is operated. This applies only to the other delivery power needs (other pumps)."]
[null,"Delivery/Pumping Plant Efficiency","Peff","[%]","The pumping plant efficiency is the efficiency of the pump and motor. To get an accurate pump efficiency requires a pump test. Since this may not be available, the following resources may be helpful: obtain a pump curve; ask an irrigation engineer, specialists or manufacturer; and use the tables in NEH Part 652 Irrigation Guide – Chapter 12 and/or other irrigation resources."]
[null,"Energy Use Rate","Ieu/Oeu","[BTU/gal]","Energy Use Rate is the computed value taken from the intermediate worksheet calculations. The energy use rate is the amount of energy in BTU required to pump 1 gallon of water.\n"]
[null,"Gross Application","Agross","[in]","The gross amount of irrigation applied to the field. Net Application/Uniformity of Application"]
[null,"Hours of Operation","Hoper","[hrs]","Enter the hours per day the pump operates. This is the number of hours the pump operates each day and is used to determine the horsepower of the pump."]
[null,"Irrigation Application","Iapp","[in/day],[gpm] or [cfs]","This is the rate at which the water is applied to the field. It can be in units of inches/day, cubic feet per second, or gallons per minute. The pump may have this value. It is used to determine horsepower of the pump. (typical 0.2 to 0.6 in/day)"]
[null,"Million British Thermal Units","MMBTU","[Million BTU]","The unit of energy used by practice standard and reported for this tool. "]
[null,"Million gallons pumped","Pmgal","[Mgal]","The amount irrigation water pumped in million gallons"]
[null,"Net Application","Anet","[in]","The net amount of irrigation applied to the field."]
[null,"Operating Pressue","Opres","[psi]","Enter the operating pressure of the pump. This is the pressure required to lift the water from the source and apply it onto the field. For example if the pressure gage at the pump reads 50 psi and the water depth in the well is 23 feet (10 psi) below the pump. The operating pressure should be entered as 60 psi (50psi + 10psi).\n"]
[null,"Pumping Description","Pdesc","[-]","For the main irrigation delivery system, select either gross or net applied. The gross amount applied is the amount pumped and the net is the amount available to the crop. This allows the user the flexibility to input either number. For the other pumping, select the type of pump as either booster, dairy, stock, windbreak or other. This is for documentation and as a check that all pumping has been discussed and input."]
[null,"Pumping Type","Ptyp","[-]","Input the pumping type as either irrigation or other pumping. Other pumping type could include a booster pump, stock water, windbreak or dairy pump."]
[null,"Pumping Units","Qgpm","[gpm]","Number of gallon pumped per minute"]
[null,null,"Qfield","[gal/field]","Number of gallons pumped per field per season"]
[null,null,"Qcfs","[cfs]","Number of cubic feet per second pumped"]
[null,"Report Variables"]
[null,"Enegy gain index","EGI","[-]","Index ratio showing energy gained per energy unit added to the field. (Total Biomass Produced/Energy Input)"]
[null,"Energy harvest index","EHI","[-]","Index ratio showing energy harvested from the field versus energy input to the field. (Harvested/Energy Input)"]
[null,"Output index","OI","[-]","Index ratio showing energy harvested from the field versus the total biomass produced (Harvested/Total Biomass Produced)"]

{"sheet":"Database_Tables","index":13,"n_rows":4952,"n_cols":40,"rows_kept":4952,"cut":false,"hidden":true,"merged":[]}
["TABLE CREATED FROM RUSLE 2 VEGETATION DATABASE. DATA RETRIEVED APRIL, 2013",null,null,null,null,null,null,null,null,null,null,null,null,null,null,null,"DON'T MOVE OR REMOVE THESE TABLES, THEY ARE TIED TO VLOOKUPS IN INPUT TAB",null,null,null,null,null,null,null,null,"DON'T MOVE OR REMOVE THESE TABLES, THEY ARE TIED TO VLOOKUPS IN INPUT TAB"]
["Count","* Crop","* Specific Crop Description","Crop","Relative","*Yield in","* Weight of","Assumed","Above Ground","* Biomass","Max Root",null,null,null,null,null,1,"Do Not Delete",null,"Crop_1","Crop_2","Crop_3","Crop_4","Crop_5",null,"Plan_Crop_1","Plan_Crop_2","Plan_Crop_3","Plan_Crop_4","Plan_Crop_5",null,"Beg_Crop",null,"Crop","Est Rooting Depth"]
[null,"Name",null,"Code","Moisture","Measured","One","Yield","Biomass at Max.","Yield","Biomass from"]
[null,null,null,null,"Depletion","Units","Unit","# of Units","Canopy","Ratio","Growth",null,null,null,null,null,"Number "]
[null,null,null,null,"Rate",null,"[lb]",null,"[lb/ac]",null,"Curve Table",{"$f":"MAX(L6:L1005)","v":87},null,null,null,null,null,"Crops",null,"Select Specific Crop Type","Select Specific Crop Type","Select Specific Crop Type","Select Specific Crop Type","Select Specific Crop Type",null,"Select Specific Crop Type","Select Specific Crop Type","Select Specific Crop Type","Select Specific Crop Type","Select Specific Crop Type",null,"Select Specific Crop Type"]
[{"$f":"ROW(B6)","v":6},"Alfalfa brome","Alfalfa brome, fall seed senes to yr2 regrowth ",1,0.5,"tons",2000,1.5,3000,1,2500,{"$f":"LEN(C6)","v":47},null,null,null,null,{"$f":"COUNTIF($B$6:$B$1004,R6)","v":12},"Alfalfa brome",{"$f":"VLOOKUP(R6,$B$6:$D$1005,3,FALSE)+5","v":6},{"$f":"IF((VLOOKUP(Input!D25,Database_Tables!$R$6:$S$138,2,FALSE))+0>=(COUNTIF($B$6:$B$1005,Input!D25))+(VLOOKUP(Input!D25,Database_Tables!$R$6:$S$138,2,FALSE)),\"\",VLOOKUP((VLOOKUP(Input!D25,Database_Tables!$R$6:$S$138,2,FALSE))+0,$A$6:$C$1005,3,FALSE))","v":{"$error":"#N/A"}},{"$f":"IF((VLOOKUP(Input!D26,Database_Tables!$R$6:$S$138,2,FALSE))+0>=(COUNTIF($B$6:$B$1005,Input!D26))+(VLOOKUP(Input!D26,Database_Tables!$R$6:$S$138,2,FALSE)),\"\",VLOOKUP((VLOOKUP(Input!D26,Database_Tables!$R$6:$S$138,2,FALSE))+0,$A$6:$C$1005,3,FALSE))","v":{"$error":"#N/A"}},{"$f":"IF((VLOOKUP(Input!D27,Database_Tables!$R$6:$S$138,2,FALSE))+0>=(COUNTIF($B$6:$B$1005,Input!D27))+(VLOOKUP(Input!D27,Database_Tables!$R$6:$S$138,2,FALSE)),\"\",VLOOKUP((VLOOKUP(Input!D27,Database_Tables!$R$6:$S$138,2,FALSE))+0,$A$6:$C$1005,3,FALSE))","v":{"$error":"#N/A"}},{"$f":"IF((VLOOKUP(Input!D28,Database_Tables!$R$6:$S$138,2,FALSE))+0>=(COUNTIF($B$6:$B$1005,Input!D28))+(VLOOKUP(Input!D28,Database_Tables!$R$6:$S$138,2,FALSE)),\"\",VLOOKUP((VLOOKUP(Input!D28,Database_Tables!$R$6:$S$138,2,FALSE))+0,$A$6:$C$1005,3,FALSE))","v":{"$error":"#N/A"}},{"$f":"IF((VLOOKUP(Input!D29,Database_Tables!$R$6:$S$138,2,FALSE))+0>=(COUNTIF($B$6:$B$1005,Input!D29))+(VLOOKUP(Input!D29,Database_Tables!$R$6:$S$138,2,FALSE)),\"\",VLOOKUP((VLOOKUP(Input!D29,Database_Tables!$R$6:$S$138,2,FALSE))+0,$A$6:$C$1005,3,FALSE))","v":{"$error":"#N/A"}},null,{"$f":"IF((VLOOKUP(Input!R25,Database_Tables!$R$6:$S$138,2,FALSE))+0>=(COUNTIF($B$6:$B$1005,Input!R25))+(VLOOKUP(Input!R25,Database_Tables!$R$6:$S$138,2,FALSE)),\"\",VLOOKUP((VLOOKUP(Input!R25,Database_Tables!$R$6:$S$138,2,FALSE))+0,$A$6:$C$1005,3,FALSE))","v":{"$error":"#N/A"}},{"$f":"IF((VLOOKUP(Input!R26,Database_Tables!$R$6:$S$138,2,FALSE))+0>=(COUNTIF($B$6:$B$1005,Input!R26))+(VLOOKUP(Input!R26,Database_Tables!$R$6:$S$138,2,FALSE)),\"\",VLOOKUP((VLOOKUP(Input!R26,Database_Tables!$R$6:$S$138,2,FALSE))+0,$A$6:$C$1005,3,FALSE))","v":{"$error":"#N/A"}},{"$f":"IF((VLOOKUP(Input!R27,Database_Tables!$R$6:$S$138,2,FALSE))+0>=(COUNTIF($B$6:$B$1005,Input!R27))+(VLOOKUP(Input!R27,Database_Tables!$R$6:$S$138,2,FALSE)),\"\",VLOOKUP((VLOOKUP(Input!R27,Database_Tables!$R$6:$S$138,2,FALSE))+0,$A$6:$C$1005,3,FALSE))","v":{"$error":"#N/A"}},{"$f":"IF((VLOOKUP(Input!R28,Database_Tables!$R$6:$S$138,2,FALSE))+0>=(COUNTIF($B$6:$B$1005,Input!R28))+(VLOOKUP(Input!R28,Database_Tables!$R$6:$S$138,2,FALSE)),\"\",VLOOKUP((VLOOKUP(Input!R28,Database_Tables!$R$6:$S$138,2,FALSE))+0,$A$6:$C$1005,3,FALSE))","v":{"$error":"#N/A"}},{"$f":"IF((VLOOKUP(Input!R29,Database_Tables!$R$6:$S$138,2,FALSE))+0>=(COUNTIF($B$6:$B$1005,Input!R29))+(VLOOKUP(Input!R29,Database_Tables!$R$6:$S$138,2,FALSE)),\"\",VLOOKUP((VLOOKUP(Input!R29,Database_Tables!$R$6:$S$138,2,FALSE))+0,$A$6:$C$1005,3,FALSE))","v":{"$error":"#N/A"}},null,{"$f":"IF((VLOOKUP(Input!#REF!,Database_Tables!$R$6:$S$138,2,FALSE))+0>=(COUNTIF($B$6:$B$1005,Input!#REF!))+(VLOOKUP(Input!#REF!,Database_Tables!$R$6:$S$138,2,FALSE)),\"\",VLOOKUP((VLOOKUP(Input!#REF!,Database_Tables!$R$6:$S$138,2,FALSE))+0,$A$6:$C$1005,3,FALSE))","v":{"$error":"#REF!"}},null,"Alfalfa brome"]
[{"$f":"ROW(B7)","v":7},"Alfalfa brome","Alfalfa brome, fall seed senes to yr2 regrowth",2,0.5,"tons",2000,1.5,3000,1,2500,{"$f":"LEN(C7)","v":46},null,null,null,null,4,"Alf-brome-oat",18,{"$f":"IF((VLOOKUP(Input!D25,Database_Tables!$R$6:$S$138,2,FALSE))+1>=(COUNTIF($B$6:$B$1005,Input!D25))+(VLOOKUP(Input!D25,Database_Tables!$R$6:$S$138,2,FALSE)),\"\",VLOOKUP((VLOOKUP(Input!D25,Database_Tables!$R$6:$S$138,2,FALSE))+1,$A$6:$C$1005,3,FALSE))","v":{"$error":"#N/A"}},{"$f":"IF((VLOOKUP(Input!D26,Database_Tables!$R$6:$S$138,2,FALSE))+1>=(COUNTIF($B$6:$B$1005,Input!D26))+(VLOOKUP(Input!D26,Database_Tables!$R$6:$S$138,2,FALSE)),\"\",VLOOKUP((VLOOKUP(Input!D26,Database_Tables!$R$6:$S$138,2,FALSE))+1,$A$6:$C$1005,3,FALSE))","v":{"$error":"#N/A"}},{"$f":"IF((VLOOKUP(Input!D27,Database_Tables!$R$6:$S$138,2,FALSE))+1>=(COUNTIF($B$6:$B$1005,Input!D27))+(VLOOKUP(Input!D27,Database_Tables!$R$6:$S$138,2,FALSE)),\"\",VLOOKUP((VLOOKUP(Input!D27,Database_Tables!$R$6:$S$138,2,FALSE))+1,$A$6:$C$1005,3,FALSE))","v":{"$error":"#N/A"}},{"$f":"IF((VLOOKUP(Input!D28,Database_Tables!$R$6:$S$138,2,FALSE))+1>=(COUNTIF($B$6:$B$1005,Input!D28))+(VLOOKUP(Input!D28,Database_Tables!$R$6:$S$138,2,FALSE)),\"\",VLOOKUP((VLOOKUP(Input!D28,Database_Tables!$R$6:$S$138,2,FALSE))+1,$A$6:$C$1005,3,FALSE))","v":{"$error":"#N/A"}},{"$f":"IF((VLOOKUP(Input!D29,Database_Tables!$R$6:$S$138,2,FALSE))+1>=(COUNTIF($B$6:$B$1005,Input!D29))+(VLOOKUP(Input!D29,Database_Tables!$R$6:$S$138,2,FALSE)),\"\",VLOOKUP((VLOOKUP(Input!D29,Database_Tables!$R$6:$S$138,2,FALSE))+1,$A$6:$C$1005,3,FALSE))","v":{"$error":"#N/A"}},null,{"$f":"IF((VLOOKUP(Input!R25,Database_Tables!$R$6:$S$138,2,FALSE))+1>=(COUNTIF($B$6:$B$1005,Input!R25))+(VLOOKUP(Input!R25,Database_Tables!$R$6:$S$138,2,FALSE)),\"\",VLOOKUP((VLOOKUP(Input!R25,Database_Tables!$R$6:$S$138,2,FALSE))+1,$A$6:$C$1005,3,FALSE))","v":{"$error":"#N/A"}},{"$f":"IF((VLOOKUP(Input!R26,Database_Tables!$R$6:$S$138,2,FALSE))+1>=(COUNTIF($B$6:$B$1005,Input!R26))+(VLOOKUP(Input!R26,Database_Tables!$R$6:$S$138,2,FALSE)),\"\",VLOOKUP((VLOOKUP(Input!R26,Database_Tables!$R$6:$S$138,2,FALSE))+1,$A$6:$C$1005,3,FALSE))","v":{"$error":"#N/A"}},{"$f":"IF((VLOOKUP(Input!R27,Database_Tables!$R$6:$S$138,2,FALSE))+1>=(COUNTIF($B$6:$B$1005,Input!R27))+(VLOOKUP(Input!R27,Database_Tables!$R$6:$S$138,2,FALSE)),\"\",VLOOKUP((VLOOKUP(Input!R27,Database_Tables!$R$6:$S$138,2,FALSE))+1,$A$6:$C$1005,3,FALSE))","v":{"$error":"#N/A"}},{"$f":"IF((VLOOKUP(Input!R28,Database_Tables!$R$6:$S$138,2,FALSE))+1>=(COUNTIF($B$6:$B$1005,Input!R28))+(VLOOKUP(Input!R28,Database_Tables!$R$6:$S$138,2,FALSE)),\"\",VLOOKUP((VLOOKUP(Input!R28,Database_Tables!$R$6:$S$138,2,FALSE))+1,$A$6:$C$1005,3,FALSE))","v":{"$error":"#N/A"}},{"$f":"IF((VLOOKUP(Input!R29,Database_Tables!$R$6:$S$138,2,FALSE))+1>=(COUNTIF($B$6:$B$1005,Input!R29))+(VLOOKUP(Input!R29,Database_Tables!$R$6:$S$138,2,FALSE)),\"\",VLOOKUP((VLOOKUP(Input!R29,Database_Tables!$R$6:$S$138,2,FALSE))+1,$A$6:$C$1005,3,FALSE))","v":{"$error":"#N/A"}},null,null,null,"Alf-brome-oat"]
[8,"Alfalfa brome","Alfalfa brome, spring seed ",3,0.5,"tons",2000,1.5,3000,1,1500,27,null,null,null,null,7,"Alfalfa seed",22,{"$f":"IF((VLOOKUP(Input!D25,Database_Tables!$R$6:$S$138,2,FALSE))+2>=(COUNTIF($B$6:$B$1005,Input!D25))+(VLOOKUP(Input!D25,Database_Tables!$R$6:$S$138,2,FALSE)),\"\",VLOOKUP((VLOOKUP(Input!D25,Database_Tables!$R$6:$S$138,2,FALSE))+2,$A$6:$C$1005,3,FALSE))","v":{"$error":"#N/A"}},{"$f":"IF((VLOOKUP(Input!D26,Database_Tables!$R$6:$S$138,2,FALSE))+2>=(COUNTIF($B$6:$B$1005,Input!D26))+(VLOOKUP(Input!D26,Database_Tables!$R$6:$S$138,2,FALSE)),\"\",VLOOKUP((VLOOKUP(Input!D26,Database_Tables!$R$6:$S$138,2,FALSE))+2,$A$6:$C$1005,3,FALSE))","v":{"$error":"#N/A"}},{"$f":"IF((VLOOKUP(Input!D27,Database_Tables!$R$6:$S$138,2,FALSE))+2>=(COUNTIF($B$6:$B$1005,Input!D27))+(VLOOKUP(Input!D27,Database_Tables!$R$6:$S$138,2,FALSE)),\"\",VLOOKUP((VLOOKUP(Input!D27,Database_Tables!$R$6:$S$138,2,FALSE))+2,$A$6:$C$1005,3,FALSE))","v":{"$error":"#N/A"}},{"$f":"IF((VLOOKUP(Input!D28,Database_Tables!$R$6:$S$138,2,FALSE))+2>=(COUNTIF($B$6:$B$1005,Input!D28))+(VLOOKUP(Input!D28,Database_Tables!$R$6:$S$138,2,FALSE)),\"\",VLOOKUP((VLOOKUP(Input!D28,Database_Tables!$R$6:$S$138,2,FALSE))+2,$A$6:$C$1005,3,FALSE))","v":{"$error":"#N/A"}},{"$f":"IF((VLOOKUP(Input!D29,Database_Tables!$R$6:$S$138,2,FALSE))+2>=(COUNTIF($B$6:$B$1005,Input!D29))+(VLOOKUP(Input!D29,Database_Tables!$R$6:$S$138,2,FALSE)),\"\",VLOOKUP((VLOOKUP(Input!D29,Database_Tables!$R$6:$S$138,2,FALSE))+2,$A$6:$C$1005,3,FALSE))","v":{"$error":"#N/A"}},null,{"$f":"IF((VLOOKUP(Input!R25,Database_Tables!$R$6:$S$138,2,FALSE))+2>=(COUNTIF($B$6:$B$1005,Input!R25))+(VLOOKUP(Input!R25,Database_Tables!$R$6:$S$138,2,FALSE)),\"\",VLOOKUP((VLOOKUP(Input!R25,Database_Tables!$R$6:$S$138,2,FALSE))+2,$A$6:$C$1005,3,FALSE))","v":{"$error":"#N/A"}},{"$f":"IF((VLOOKUP(Input!R26,Database_Tables!$R$6:$S$138,2,FALSE))+2>=(COUNTIF($B$6:$B$1005,Input!R26))+(VLOOKUP(Input!R26,Database_Tables!$R$6:$S$138,2,FALSE)),\"\",VLOOKUP((VLOOKUP(Input!R26,Database_Tables!$R$6:$S$138,2,FALSE))+2,$A$6:$C$1005,3,FALSE))","v":{"$error":"#N/A"}},{"$f":"IF((VLOOKUP(Input!R27,Database_Tables!$R$6:$S$138,2,FALSE))+2>=(COUNTIF($B$6:$B$1005,Input!R27))+(VLOOKUP(Input!R27,Database_Tables!$R$6:$S$138,2,FALSE)),\"\",VLOOKUP((VLOOKUP(Input!R27,Database_Tables!$R$6:$S$138,2,FALSE))+2,$A$6:$C$1005,3,FALSE))","v":{"$error":"#N/A"}},{"$f":"IF((VLOOKUP(Input!R28,Database_Tables!$R$6:$S$138,2,FALSE))+2>=(COUNTIF($B$6:$B$1005,Input!R28))+(VLOOKUP(Input!R28,Database_Tables!$R$6:$S$138,2,FALSE)),\"\",VLOOKUP((VLOOKUP(Input!R28,Database_Tables!$R$6:$S$138,2,FALSE))+2,$A$6:$C$1005,3,FALSE))","v":{"$error":"#N/A"}},{"$f":"IF((VLOOKUP(Input!R29,Database_Tables!$R$6:$S$138,2,FALSE))+2>=(COUNTIF($B$6:$B$1005,Input!R29))+(VLOOKUP(Input!R29,Database_Tables!$R$6:$S$138,2,FALSE)),\"\",VLOOKUP((VLOOKUP(Input!R29,Database_Tables!$R$6:$S$138,2,FALSE))+2,$A$6:$C$1005,3,FALSE))","v":{"$error":"#N/A"}},null,null,null,"Alfalfa seed"]
[9,"Alfalfa brome","Alfalfa brome, spring seed regrowth after cut ",4,0.5,"tons",2000,1.5,3000,1,1500,46,null,null,null,null,29,"Alfalfa",29,{"$f":"IF((VLOOKUP(Input!D25,Database_Tables!$R$6:$S$138,2,FALSE))+3>=(COUNTIF($B$6:$B$1005,Input!D25))+(VLOOKUP(Input!D25,Database_Tables!$R$6:$S$138,2,FALSE)),\"\",VLOOKUP((VLOOKUP(Input!D25,Database_Tables!$R$6:$S$138,2,FALSE))+3,$A$6:$C$1005,3,FALSE))","v":{"$error":"#N/A"}},{"$f":"IF((VLOOKUP(Input!D26,Database_Tables!$R$6:$S$138,2,FALSE))+3>=(COUNTIF($B$6:$B$1005,Input!D26))+(VLOOKUP(Input!D26,Database_Tables!$R$6:$S$138,2,FALSE)),\"\",VLOOKUP((VLOOKUP(Input!D26,Database_Tables!$R$6:$S$138,2,FALSE))+3,$A$6:$C$1005,3,FALSE))","v":{"$error":"#N/A"}},{"$f":"IF((VLOOKUP(Input!D27,Database_Tables!$R$6:$S$138,2,FALSE))+3>=(COUNTIF($B$6:$B$1005,Input!D27))+(VLOOKUP(Input!D27,Database_Tables!$R$6:$S$138,2,FALSE)),\"\",VLOOKUP((VLOOKUP(Input!D27,Database_Tables!$R$6:$S$138,2,FALSE))+3,$A$6:$C$1005,3,FALSE))","v":{"$error":"#N/A"}},{"$f":"IF((VLOOKUP(Input!D28,Database_Tables!$R$6:$S$138,2,FALSE))+3>=(COUNTIF($B$6:$B$1005,Input!D28))+(VLOOKUP(Input!D28,Database_Tables!$R$6:$S$138,2,FALSE)),\"\",VLOOKUP((VLOOKUP(Input!D28,Database_Tables!$R$6:$S$138,2,FALSE))+3,$A$6:$C$1005,3,FALSE))","v":{"$error":"#N/A"}},{"$f":"IF((VLOOKUP(Input!D29,Database_Tables!$R$6:$S$138,2,FALSE))+3>=(COUNTIF($B$6:$B$1005,Input!D29))+(VLOOKUP(Input!D29,Database_Tables!$R$6:$S$138,2,FALSE)),\"\",VLOOKUP((VLOOKUP(Input!D29,Database_Tables!$R$6:$S$138,2,FALSE))+3,$A$6:$C$1005,3,FALSE))","v":{"$error":"#N/A"}},null,{"$f":"IF((VLOOKUP(Input!R25,Database_Tables!$R$6:$S$138,2,FALSE))+3>=(COUNTIF($B$6:$B$1005,Input!R25))+(VLOOKUP(Input!R25,Database_Tables!$R$6:$S$138,2,FALSE)),\"\",VLOOKUP((VLOOKUP(Input!R25,Database_Tables!$R$6:$S$138,2,FALSE))+3,$A$6:$C$1005,3,FALSE))","v":{"$error":"#N/A"}},{"$f":"IF((VLOOKUP(Input!R26,Database_Tables!$R$6:$S$138,2,FALSE))+3>=(COUNTIF($B$6:$B$1005,Input!R26))+(VLOOKUP(Input!R26,Database_Tables!$R$6:$S$138,2,FALSE)),\"\",VLOOKUP((VLOOKUP(Input!R26,Database_Tables!$R$6:$S$138,2,FALSE))+3,$A$6:$C$1005,3,FALSE))","v":{"$error":"#N/A"}},{"$f":"IF((VLOOKUP(Input!R27,Database_Tables!$R$6:$S$138,2,FALSE))+3>=(COUNTIF($B$6:$B$1005,Input!R27))+(VLOOKUP(Input!R27,Database_Tables!$R$6:$S$138,2,FALSE)),\"\",VLOOKUP((VLOOKUP(Input!R27,Database_Tables!$R$6:$S$138,2,FALSE))+3,$A$6:$C$1005,3,FALSE))","v":{"$error":"#N/A"}},{"$f":"IF((VLOOKUP(Input!R28,Database_Tables!$R$6:$S$138,2,FALSE))+3>=(COUNTIF($B$6:$B$1005,Input!R28))+(VLOOKUP(Input!R28,Database_Tables!$R$6:$S$138,2,FALSE)),\"\",VLOOKUP((VLOOKUP(Input!R28,Database_Tables!$R$6:$S$138,2,FALSE))+3,$A$6:$C$1005,3,FALSE))","v":{"$error":"#N/A"}},{"$f":"IF((VLOOKUP(Input!R29,Database_Tables!$R$6:$S$138,2,FALSE))+3>=(COUNTIF($B$6:$B$1005,Input!R29))+(VLOOKUP(Input!R29,Database_Tables!$R$6:$S$138,2,FALSE)),\"\",VLOOKUP((VLOOKUP(Input!R29,Database_Tables!$R$6:$S$138,2,FALSE))+3,$A$6:$C$1005,3,FALSE))","v":{"$error":"#N/A"}},null,null,null,"Alfalfa"]
[10,"Alfalfa brome","Alfalfa brome, spring seed senes to y2 regrowth ",5,0.5,"tons",2000,1.5,3000,1,4300,48,null,null,null,null,4,"Alfalfa-oat",58,{"$f":"IF((VLOOKUP(Input!D25,Database_Tables!$R$6:$S$138,2,FALSE))+4>=(COUNTIF($B$6:$B$1005,Input!D25))+(VLOOKUP(Input!D25,Database_Tables!$R$6:$S$138,2,FALSE)),\"\",VLOOKUP((VLOOKUP(Input!D25,Database_Tables!$R$6:$S$138,2,FALSE))+4,$A$6:$C$1005,3,FALSE))","v":{"$error":"#N/A"}},{"$f":"IF((VLOOKUP(Input!D26,Database_Tables!$R$6:$S$138,2,FALSE))+4>=(COUNTIF($B$6:$B$1005,Input!D26))+(VLOOKUP(Input!D26,Database_Tables!$R$6:$S$138,2,FALSE)),\"\",VLOOKUP((VLOOKUP(Input!D26,Database_Tables!$R$6:$S$138,2,FALSE))+4,$A$6:$C$1005,3,FALSE))","v":{"$error":"#N/A"}},{"$f":"IF((VLOOKUP(Input!D27,Database_Tables!$R$6:$S$138,2,FALSE))+4>=(COUNTIF($B$6:$B$1005,Input!D27))+(VLOOKUP(Input!D27,Database_Tables!$R$6:$S$138,2,FALSE)),\"\",VLOOKUP((VLOOKUP(Input!D27,Database_Tables!$R$6:$S$138,2,FALSE))+4,$A$6:$C$1005,3,FALSE))","v":{"$error":"#N/A"}},{"$f":"IF((VLOOKUP(Input!D28,Database_Tables!$R$6:$S$138,2,FALSE))+4>=(COUNTIF($B$6:$B$1005,Input!D28))+(VLOOKUP(Input!D28,Database_Tables!$R$6:$S$138,2,FALSE)),\"\",VLOOKUP((VLOOKUP(Input!D28,Database_Tables!$R$6:$S$138,2,FALSE))+4,$A$6:$C$1005,3,FALSE))","v":{"$error":"#N/A"}},{"$f":"IF((VLOOKUP(Input!D29,Database_Tables!$R$6:$S$138,2,FALSE))+4>=(COUNTIF($B$6:$B$1005,Input!D29))+(VLOOKUP(Input!D29,Database_Tables!$R$6:$S$138,2,FALSE)),\"\",VLOOKUP((VLOOKUP(Input!D29,Database_Tables!$R$6:$S$138,2,FALSE))+4,$A$6:$C$1005,3,FALSE))","v":{"$error":"#N/A"}},null,{"$f":"IF((VLOOKUP(Input!R25,Database_Tables!$R$6:$S$138,2,FALSE))+4>=(COUNTIF($B$6:$B$1005,Input!R25))+(VLOOKUP(Input!R25,Database_Tables!$R$6:$S$138,2,FALSE)),\"\",VLOOKUP((VLOOKUP(Input!R25,Database_Tables!$R$6:$S$138,2,FALSE))+4,$A$6:$C$1005,3,FALSE))","v":{"$error":"#N/A"}},{"$f":"IF((VLOOKUP(Input!R26,Database_Tables!$R$6:$S$138,2,FALSE))+4>=(COUNTIF($B$6:$B$1005,Input!R26))+(VLOOKUP(Input!R26,Database_Tables!$R$6:$S$138,2,FALSE)),\"\",VLOOKUP((VLOOKUP(Input!R26,Database_Tables!$R$6:$S$138,2,FALSE))+4,$A$6:$C$1005,3,FALSE))","v":{"$error":"#N/A"}},{"$f":"IF((VLOOKUP(Input!R27,Database_Tables!$R$6:$S$138,2,FALSE))+4>=(COUNTIF($B$6:$B$1005,Input!R27))+(VLOOKUP(Input!R27,Database_Tables!$R$6:$S$138,2,FALSE)),\"\",VLOOKUP((VLOOKUP(Input!R27,Database_Tables!$R$6:$S$138,2,FALSE))+4,$A$6:$C$1005,3,FALSE))","v":{"$error":"#N/A"}},{"$f":"IF((VLOOKUP(Input!R28,Database_Tables!$R$6:$S$138,2,FALSE))+4>=(COUNTIF($B$6:$B$1005,Input!R28))+(VLOOKUP(Input!R28,Database_Tables!$R$6:$S$138,2,FALSE)),\"\",VLOOKUP((VLOOKUP(Input!R28,Database_Tables!$R$6:$S$138,2,FALSE))+4,$A$6:$C$1005,3,FALSE))","v":{"$error":"#N/A"}},{"$f":"IF((VLOOKUP(Input!R29,Database_Tables!$R$6:$S$138,2,FALSE))+4>=(COUNTIF($B$6:$B$1005,Input!R29))+(VLOOKUP(Input!R29,Database_Tables!$R$6:$S$138,2,FALSE)),\"\",VLOOKUP((VLOOKUP(Input!R29,Database_Tables!$R$6:$S$138,2,FALSE))+4,$A$6:$C$1005,3,FALSE))","v":{"$error":"#N/A"}},null,null,null,"Alfalfa-oat"]
[11,"Alfalfa brome","Alfalfa brome, spring seed senes winter graze to y2 regrowth ",6,0.5,"tons",2000,1.5,3000,1,4300,61,null,null,null,null,4,"Almond",62,{"$f":"IF((VLOOKUP(Input!D25,Database_Tables!$R$6:$S$138,2,FALSE))+5>=(COUNTIF($B$6:$B$1005,Input!D25))+(VLOOKUP(Input!D25,Database_Tables!$R$6:$S$138,2,FALSE)),\"\",VLOOKUP((VLOOKUP(Input!D25,Database_Tables!$R$6:$S$138,2,FALSE))+5,$A$6:$C$1005,3,FALSE))","v":{"$error":"#N/A"}},{"$f":"IF((VLOOKUP(Input!D26,Database_Tables!$R$6:$S$138,2,FALSE))+5>=(COUNTIF($B$6:$B$1005,Input!D26))+(VLOOKUP(Input!D26,Database_Tables!$R$6:$S$138,2,FALSE)),\"\",VLOOKUP((VLOOKUP(Input!D26,Database_Tables!$R$6:$S$138,2,FALSE))+5,$A$6:$C$1005,3,FALSE))","v":{"$error":"#N/A"}},{"$f":"IF((VLOOKUP(Input!D27,Database_Tables!$R$6:$S$138,2,FALSE))+5>=(COUNTIF($B$6:$B$1005,Input!D27))+(VLOOKUP(Input!D27,Database_Tables!$R$6:$S$138,2,FALSE)),\"\",VLOOKUP((VLOOKUP(Input!D27,Database_Tables!$R$6:$S$138,2,FALSE))+5,$A$6:$C$1005,3,FALSE))","v":{"$error":"#N/A"}},{"$f":"IF((VLOOKUP(Input!D28,Database_Tables!$R$6:$S$138,2,FALSE))+5>=(COUNTIF($B$6:$B$1005,Input!D28))+(VLOOKUP(Input!D28,Database_Tables!$R$6:$S$138,2,FALSE)),\"\",VLOOKUP((VLOOKUP(Input!D28,Database_Tables!$R$6:$S$138,2,FALSE))+5,$A$6:$C$1005,3,FALSE))","v":{"$error":"#N/A"}},{"$f":"IF((VLOOKUP(Input!D29,Database_Tables!$R$6:$S$138,2,FALSE))+5>=(COUNTIF($B$6:$B$1005,Input!D29))+(VLOOKUP(Input!D29,Database_Tables!$R$6:$S$138,2,FALSE)),\"\",VLOOKUP((VLOOKUP(Input!D29,Database_Tables!$R$6:$S$138,2,FALSE))+5,$A$6:$C$1005,3,FALSE))","v":{"$error":"#N/A"}},null,{"$f":"IF((VLOOKUP(Input!R25,Database_Tables!$R$6:$S$138,2,FALSE))+5>=(COUNTIF($B$6:$B$1005,Input!R25))+(VLOOKUP(Input!R25,Database_Tables!$R$6:$S$138,2,FALSE)),\"\",VLOOKUP((VLOOKUP(Input!R25,Database_Tables!$R$6:$S$138,2,FALSE))+5,$A$6:$C$1005,3,FALSE))","v":{"$error":"#N/A"}},{"$f":"IF((VLOOKUP(Input!R26,Database_Tables!$R$6:$S$138,2,FALSE))+5>=(COUNTIF($B$6:$B$1005,Input!R26))+(VLOOKUP(Input!R26,Database_Tables!$R$6:$S$138,2,FALSE)),\"\",VLOOKUP((VLOOKUP(Input!R26,Database_Tables!$R$6:$S$138,2,FALSE))+5,$A$6:$C$1005,3,FALSE))","v":{"$error":"#N/A"}},{"$f":"IF((VLOOKUP(Input!R27,Database_Tables!$R$6:$S$138,2,FALSE))+5>=(COUNTIF($B$6:$B$1005,Input!R27))+(VLOOKUP(Input!R27,Database_Tables!$R$6:$S$138,2,FALSE)),\"\",VLOOKUP((VLOOKUP(Input!R27,Database_Tables!$R$6:$S$138,2,FALSE))+5,$A$6:$C$1005,3,FALSE))","v":{"$error":"#N/A"}},{"$f":"IF((VLOOKUP(Input!R28,Database_Tables!$R$6:$S$138,2,FALSE))+5>=(COUNTIF($B$6:$B$1005,Input!R28))+(VLOOKUP(Input!R28,Database_Tables!$R$6:$S$138,2,FALSE)),\"\",VLOOKUP((VLOOKUP(Input!R28,Database_Tables!$R$6:$S$138,2,FALSE))+5,$A$6:$C$1005,3,FALSE))","v":{"$error":"#N/A"}},{"$f":"IF((VLOOKUP(Input!R29,Database_Tables!$R$6:$S$138,2,FALSE))+5>=(COUNTIF($B$6:$B$1005,Input!R29))+(VLOOKUP(Input!R29,Database_Tables!$R$6:$S$138,2,FALSE)),\"\",VLOOKUP((VLOOKUP(Input!R29,Database_Tables!$R$6:$S$138,2,FALSE))+5,$A$6:$C$1005,3,FALSE))","v":{"$error":"#N/A"}},null,null,null,"Almond"]
[12,"Alfalfa brome","Alfalfa brome, yr2 regrowth after cut",7,0.5,"tons",2000,1.5,3000,1,4300,37,null,null,null,null,1,"Amaranth",66,{"$f":"IF((VLOOKUP(Input!D25,Database_Tables!$R$6:$S$138,2,FALSE))+6>=(COUNTIF($B$6:$B$1005,Input!D25))+(VLOOKUP(Input!D25,Database_Tables!$R$6:$S$138,2,FALSE)),\"\",VLOOKUP((VLOOKUP(Input!D25,Database_Tables!$R$6:$S$138,2,FALSE))+6,$A$6:$C$1005,3,FALSE))","v":{"$error":"#N/A"}},{"$f":"IF((VLOOKUP(Input!D26,Database_Tables!$R$6:$S$138,2,FALSE))+6>=(COUNTIF($B$6:$B$1005,Input!D26))+(VLOOKUP(Input!D26,Database_Tables!$R$6:$S$138,2,FALSE)),\"\",VLOOKUP((VLOOKUP(Input!D26,Database_Tables!$R$6:$S$138,2,FALSE))+6,$A$6:$C$1005,3,FALSE))","v":{"$error":"#N/A"}},{"$f":"IF((VLOOKUP(Input!D27,Database_Tables!$R$6:$S$138,2,FALSE))+6>=(COUNTIF($B$6:$B$1005,Input!D27))+(VLOOKUP(Input!D27,Database_Tables!$R$6:$S$138,2,FALSE)),\"\",VLOOKUP((VLOOKUP(Input!D27,Database_Tables!$R$6:$S$138,2,FALSE))+6,$A$6:$C$1005,3,FALSE))","v":{"$error":"#N/A"}},{"$f":"IF((VLOOKUP(Input!D28,Database_Tables!$R$6:$S$138,2,FALSE))+6>=(COUNTIF($B$6:$B$1005,Input!D28))+(VLOOKUP(Input!D28,Database_Tables!$R$6:$S$138,2,FALSE)),\"\",VLOOKUP((VLOOKUP(Input!D28,Database_Tables!$R$6:$S$138,2,FALSE))+6,$A$6:$C$1005,3,FALSE))","v":{"$error":"#N/A"}},{"$f":"IF((VLOOKUP(Input!D29,Database_Tables!$R$6:$S$138,2,FALSE))+6>=(COUNTIF($B$6:$B$1005,Input!D29))+(VLOOKUP(Input!D29,Database_Tables!$R$6:$S$138,2,FALSE)),\"\",VLOOKUP((VLOOKUP(Input!D29,Database_Tables!$R$6:$S$138,2,FALSE))+6,$A$6:$C$1005,3,FALSE))","v":{"$error":"#N/A"}},null,{"$f":"IF((VLOOKUP(Input!R25,Database_Tables!$R$6:$S$138,2,FALSE))+6>=(COUNTIF($B$6:$B$1005,Input!R25))+(VLOOKUP(Input!R25,Database_Tables!$R$6:$S$138,2,FALSE)),\"\",VLOOKUP((VLOOKUP(Input!R25,Database_Tables!$R$6:$S$138,2,FALSE))+6,$A$6:$C$1005,3,FALSE))","v":{"$error":"#N/A"}},{"$f":"IF((VLOOKUP(Input!R26,Database_Tables!$R$6:$S$138,2,FALSE))+6>=(COUNTIF($B$6:$B$1005,Input!R26))+(VLOOKUP(Input!R26,Database_Tables!$R$6:$S$138,2,FALSE)),\"\",VLOOKUP((VLOOKUP(Input!R26,Database_Tables!$R$6:$S$138,2,FALSE))+6,$A$6:$C$1005,3,FALSE))","v":{"$error":"#N/A"}},{"$f":"IF((VLOOKUP(Input!R27,Database_Tables!$R$6:$S$138,2,FALSE))+6>=(COUNTIF($B$6:$B$1005,Input!R27))+(VLOOKUP(Input!R27,Database_Tables!$R$6:$S$138,2,FALSE)),\"\",VLOOKUP((VLOOKUP(Input!R27,Database_Tables!$R$6:$S$138,2,FALSE))+6,$A$6:$C$1005,3,FALSE))","v":{"$error":"#N/A"}},{"$f":"IF((VLOOKUP(Input!R28,Database_Tables!$R$6:$S$138,2,FALSE))+6>=(COUNTIF($B$6:$B$1005,Input!R28))+(VLOOKUP(Input!R28,Database_Tables!$R$6:$S$138,2,FALSE)),\"\",VLOOKUP((VLOOKUP(Input!R28,Database_Tables!$R$6:$S$138,2,FALSE))+6,$A$6:$C$1005,3,FALSE))","v":{"$error":"#N/A"}},{"$f":"IF((VLOOKUP(Input!R29,Database_Tables!$R$6:$S$138,2,FALSE))+6>=(COUNTIF($B$6:$B$1005,Input!R29))+(VLOOKUP(Input!R29,Database_Tables!$R$6:$S$138,2,FALSE)),\"\",VLOOKUP((VLOOKUP(Input!R29,Database_Tables!$R$6:$S$138,2,FALSE))+6,$A$6:$C$1005,3,FALSE))","v":{"$error":"#N/A"}},null,null,null,"Amaranth"]
[13,"Alfalfa brome","Alfalfa brome, yr2 senes to yr3 regrowth",8,0.5,"tons",2000,2.25,4500,1,4900,40,null,null,null,null,4,"Artichoke",67,{"$f":"IF((VLOOKUP(Input!D25,Database_Tables!$R$6:$S$138,2,FALSE))+7>=(COUNTIF($B$6:$B$1005,Input!D25))+(VLOOKUP(Input!D25,Database_Tables!$R$6:$S$138,2,FALSE)),\"\",VLOOKUP((VLOOKUP(Input!D25,Database_Tables!$R$6:$S$138,2,FALSE))+7,$A$6:$C$1005,3,FALSE))","v":{"$error":"#N/A"}},{"$f":"IF((VLOOKUP(Input!D26,Database_Tables!$R$6:$S$138,2,FALSE))+7>=(COUNTIF($B$6:$B$1005,Input!D26))+(VLOOKUP(Input!D26,Database_Tables!$R$6:$S$138,2,FALSE)),\"\",VLOOKUP((VLOOKUP(Input!D26,Database_Tables!$R$6:$S$138,2,FALSE))+7,$A$6:$C$1005,3,FALSE))","v":{"$error":"#N/A"}},{"$f":"IF((VLOOKUP(Input!D27,Database_Tables!$R$6:$S$138,2,FALSE))+7>=(COUNTIF($B$6:$B$1005,Input!D27))+(VLOOKUP(Input!D27,Database_Tables!$R$6:$S$138,2,FALSE)),\"\",VLOOKUP((VLOOKUP(Input!D27,Database_Tables!$R$6:$S$138,2,FALSE))+7,$A$6:$C$1005,3,FALSE))","v":{"$error":"#N/A"}},{"$f":"IF((VLOOKUP(Input!D28,Database_Tables!$R$6:$S$138,2,FALSE))+7>=(COUNTIF($B$6:$B$1005,Input!D28))+(VLOOKUP(Input!D28,Database_Tables!$R$6:$S$138,2,FALSE)),\"\",VLOOKUP((VLOOKUP(Input!D28,Database_Tables!$R$6:$S$138,2,FALSE))+7,$A$6:$C$1005,3,FALSE))","v":{"$error":"#N/A"}},{"$f":"IF((VLOOKUP(Input!D29,Database_Tables!$R$6:$S$138,2,FALSE))+7>=(COUNTIF($B$6:$B$1005,Input!D29))+(VLOOKUP(Input!D29,Database_Tables!$R$6:$S$138,2,FALSE)),\"\",VLOOKUP((VLOOKUP(Input!D29,Database_Tables!$R$6:$S$138,2,FALSE))+7,$A$6:$C$1005,3,FALSE))","v":{"$error":"#N/A"}},null,{"$f":"IF((VLOOKUP(Input!R25,Database_Tables!$R$6:$S$138,2,FALSE))+7>=(COUNTIF($B$6:$B$1005,Input!R25))+(VLOOKUP(Input!R25,Database_Tables!$R$6:$S$138,2,FALSE)),\"\",VLOOKUP((VLOOKUP(Input!R25,Database_Tables!$R$6:$S$138,2,FALSE))+7,$A$6:$C$1005,3,FALSE))","v":{"$error":"#N/A"}},{"$f":"IF((VLOOKUP(Input!R26,Database_Tables!$R$6:$S$138,2,FALSE))+7>=(COUNTIF($B$6:$B$1005,Input!R26))+(VLOOKUP(Input!R26,Database_Tables!$R$6:$S$138,2,FALSE)),\"\",VLOOKUP((VLOOKUP(Input!R26,Database_Tables!$R$6:$S$138,2,FALSE))+7,$A$6:$C$1005,3,FALSE))","v":{"$error":"#N/A"}},{"$f":"IF((VLOOKUP(Input!R27,Database_Tables!$R$6:$S$138,2,FALSE))+7>=(COUNTIF($B$6:$B$1005,Input!R27))+(VLOOKUP(Input!R27,Database_Tables!$R$6:$S$138,2,FALSE)),\"\",VLOOKUP((VLOOKUP(Input!R27,Database_Tables!$R$6:$S$138,2,FALSE))+7,$A$6:$C$1005,3,FALSE))","v":{"$error":"#N/A"}},{"$f":"IF((VLOOKUP(Input!R28,Database_Tables!$R$6:$S$138,2,FALSE))+7>=(COUNTIF($B$6:$B$1005,Input!R28))+(VLOOKUP(Input!R28,Database_Tables!$R$6:$S$138,2,FALSE)),\"\",VLOOKUP((VLOOKUP(Input!R28,Database_Tables!$R$6:$S$138,2,FALSE))+7,$A$6:$C$1005,3,FALSE))","v":{"$error":"#N/A"}},{"$f":"IF((VLOOKUP(Input!R29,Database_Tables!$R$6:$S$138,2,FALSE))+7>=(COUNTIF($B$6:$B$1005,Input!R29))+(VLOOKUP(Input!R29,Database_Tables!$R$6:$S$138,2,FALSE)),\"\",VLOOKUP((VLOOKUP(Input!R29,Database_Tables!$R$6:$S$138,2,FALSE))+7,$A$6:$C$1005,3,FALSE))","v":{"$error":"#N/A"}},null,null,null,"Artichoke"]
[14,"Alfalfa brome","Alfalfa brome, yr2 senes winter graze to yr3 regrowth",9,0.5,"tons",2000,2.25,4500,1,4900,53,null,null,null,null,6,"Asparagus",71,{"$f":"IF((VLOOKUP(Input!D25,Database_Tables!$R$6:$S$138,2,FALSE))+8>=(COUNTIF($B$6:$B$1005,Input!D25))+(VLOOKUP(Input!D25,Database_Tables!$R$6:$S$138,2,FALSE)),\"\",VLOOKUP((VLOOKUP(Input!D25,Database_Tables!$R$6:$S$138,2,FALSE))+8,$A$6:$C$1005,3,FALSE))","v":{"$error":"#N/A"}},{"$f":"IF((VLOOKUP(Input!D26,Database_Tables!$R$6:$S$138,2,FALSE))+8>=(COUNTIF($B$6:$B$1005,Input!D26))+(VLOOKUP(Input!D26,Database_Tables!$R$6:$S$138,2,FALSE)),\"\",VLOOKUP((VLOOKUP(Input!D26,Database_Tables!$R$6:$S$138,2,FALSE))+8,$A$6:$C$1005,3,FALSE))","v":{"$error":"#N/A"}},{"$f":"IF((VLOOKUP(Input!D27,Database_Tables!$R$6:$S$138,2,FALSE))+8>=(COUNTIF($B$6:$B$1005,Input!D27))+(VLOOKUP(Input!D27,Database_Tables!$R$6:$S$138,2,FALSE)),\"\",VLOOKUP((VLOOKUP(Input!D27,Database_Tables!$R$6:$S$138,2,FALSE))+8,$A$6:$C$1005,3,FALSE))","v":{"$error":"#N/A"}},{"$f":"IF((VLOOKUP(Input!D28,Database_Tables!$R$6:$S$138,2,FALSE))+8>=(COUNTIF($B$6:$B$1005,Input!D28))+(VLOOKUP(Input!D28,Database_Tables!$R$6:$S$138,2,FALSE)),\"\",VLOOKUP((VLOOKUP(Input!D28,Database_Tables!$R$6:$S$138,2,FALSE))+8,$A$6:$C$1005,3,FALSE))","v":{"$error":"#N/A"}},{"$f":"IF((VLOOKUP(Input!D29,Database_Tables!$R$6:$S$138,2,FALSE))+8>=(COUNTIF($B$6:$B$1005,Input!D29))+(VLOOKUP(Input!D29,Database_Tables!$R$6:$S$138,2,FALSE)),\"\",VLOOKUP((VLOOKUP(Input!D29,Database_Tables!$R$6:$S$138,2,FALSE))+8,$A$6:$C$1005,3,FALSE))","v":{"$error":"#N/A"}},null,{"$f":"IF((VLOOKUP(Input!R25,Database_Tables!$R$6:$S$138,2,FALSE))+8>=(COUNTIF($B$6:$B$1005,Input!R25))+(VLOOKUP(Input!R25,Database_Tables!$R$6:$S$138,2,FALSE)),\"\",VLOOKUP((VLOOKUP(Input!R25,Database_Tables!$R$6:$S$138,2,FALSE))+8,$A$6:$C$1005,3,FALSE))","v":{"$error":"#N/A"}},{"$f":"IF((VLOOKUP(Input!R26,Database_Tables!$R$6:$S$138,2,FALSE))+8>=(COUNTIF($B$6:$B$1005,Input!R26))+(VLOOKUP(Input!R26,Database_Tables!$R$6:$S$138,2,FALSE)),\"\",VLOOKUP((VLOOKUP(Input!R26,Database_Tables!$R$6:$S$138,2,FALSE))+8,$A$6:$C$1005,3,FALSE))","v":{"$error":"#N/A"}},{"$f":"IF((VLOOKUP(Input!R27,Database_Tables!$R$6:$S$138,2,FALSE))+8>=(COUNTIF($B$6:$B$1005,Input!R27))+(VLOOKUP(Input!R27,Database_Tables!$R$6:$S$138,2,FALSE)),\"\",VLOOKUP((VLOOKUP(Input!R27,Database_Tables!$R$6:$S$138,2,FALSE))+8,$A$6:$C$1005,3,FALSE))","v":{"$error":"#N/A"}},{"$f":"IF((VLOOKUP(Input!R28,Database_Tables!$R$6:$S$138,2,FALSE))+8>=(COUNTIF($B$6:$B$1005,Input!R28))+(VLOOKUP(Input!R28,Database_Tables!$R$6:$S$138,2,FALSE)),\"\",VLOOKUP((VLOOKUP(Input!R28,Database_Tables!$R$6:$S$138,2,FALSE))+8,$A$6:$C$1005,3,FALSE))","v":{"$error":"#N/A"}},{"$f":"IF((VLOOKUP(Input!R29,Database_Tables!$R$6:$S$138,2,FALSE))+8>=(COUNTIF($B$6:$B$1005,Input!R29))+(VLOOKUP(Input!R29,Database_Tables!$R$6:$S$138,2,FALSE)),\"\",VLOOKUP((VLOOKUP(Input!R29,Database_Tables!$R$6:$S$138,2,FALSE))+8,$A$6:$C$1005,3,FALSE))","v":{"$error":"#N/A"}},null,null,null,"Asparagus"]
[15,"Alfalfa brome","Alfalfa brome, yr3 regrowth  after cut",10,0.5,"tons",2000,1.7,3400,1,4900,38,null,null,null,null,3,"Bahiagrass",77,{"$f":"IF((VLOOKUP(Input!D25,Database_Tables!$R$6:$S$138,2,FALSE))+9>=(COUNTIF($B$6:$B$1005,Input!D25))+(VLOOKUP(Input!D25,Database_Tables!$R$6:$S$138,2,FALSE)),\"\",VLOOKUP((VLOOKUP(Input!D25,Database_Tables!$R$6:$S$138,2,FALSE))+9,$A$6:$C$1005,3,FALSE))","v":{"$error":"#N/A"}},{"$f":"IF((VLOOKUP(Input!D26,Database_Tables!$R$6:$S$138,2,FALSE))+9>=(COUNTIF($B$6:$B$1005,Input!D26))+(VLOOKUP(Input!D26,Database_Tables!$R$6:$S$138,2,FALSE)),\"\",VLOOKUP((VLOOKUP(Input!D26,Database_Tables!$R$6:$S$138,2,FALSE))+9,$A$6:$C$1005,3,FALSE))","v":{"$error":"#N/A"}},{"$f":"IF((VLOOKUP(Input!D27,Database_Tables!$R$6:$S$138,2,FALSE))+9>=(COUNTIF($B$6:$B$1005,Input!D27))+(VLOOKUP(Input!D27,Database_Tables!$R$6:$S$138,2,FALSE)),\"\",VLOOKUP((VLOOKUP(Input!D27,Database_Tables!$R$6:$S$138,2,FALSE))+9,$A$6:$C$1005,3,FALSE))","v":{"$error":"#N/A"}},{"$f":"IF((VLOOKUP(Input!D28,Database_Tables!$R$6:$S$138,2,FALSE))+9>=(COUNTIF($B$6:$B$1005,Input!D28))+(VLOOKUP(Input!D28,Database_Tables!$R$6:$S$138,2,FALSE)),\"\",VLOOKUP((VLOOKUP(Input!D28,Database_Tables!$R$6:$S$138,2,FALSE))+9,$A$6:$C$1005,3,FALSE))","v":{"$error":"#N/A"}},{"$f":"IF((VLOOKUP(Input!D29,Database_Tables!$R$6:$S$138,2,FALSE))+9>=(COUNTIF($B$6:$B$1005,Input!D29))+(VLOOKUP(Input!D29,Database_Tables!$R$6:$S$138,2,FALSE)),\"\",VLOOKUP((VLOOKUP(Input!D29,Database_Tables!$R$6:$S$138,2,FALSE))+9,$A$6:$C$1005,3,FALSE))","v":{"$error":"#N/A"}},null,{"$f":"IF((VLOOKUP(Input!R25,Database_Tables!$R$6:$S$138,2,FALSE))+9>=(COUNTIF($B$6:$B$1005,Input!R25))+(VLOOKUP(Input!R25,Database_Tables!$R$6:$S$138,2,FALSE)),\"\",VLOOKUP((VLOOKUP(Input!R25,Database_Tables!$R$6:$S$138,2,FALSE))+9,$A$6:$C$1005,3,FALSE))","v":{"$error":"#N/A"}},{"$f":"IF((VLOOKUP(Input!R26,Database_Tables!$R$6:$S$138,2,FALSE))+9>=(COUNTIF($B$6:$B$1005,Input!R26))+(VLOOKUP(Input!R26,Database_Tables!$R$6:$S$138,2,FALSE)),\"\",VLOOKUP((VLOOKUP(Input!R26,Database_Tables!$R$6:$S$138,2,FALSE))+9,$A$6:$C$1005,3,FALSE))","v":{"$error":"#N/A"}},{"$f":"IF((VLOOKUP(Input!R27,Database_Tables!$R$6:$S$138,2,FALSE))+9>=(COUNTIF($B$6:$B$1005,Input!R27))+(VLOOKUP(Input!R27,Database_Tables!$R$6:$S$138,2,FALSE)),\"\",VLOOKUP((VLOOKUP(Input!R27,Database_Tables!$R$6:$S$138,2,FALSE))+9,$A$6:$C$1005,3,FALSE))","v":{"$error":"#N/A"}},{"$f":"IF((VLOOKUP(Input!R28,Database_Tables!$R$6:$S$138,2,FALSE))+9>=(COUNTIF($B$6:$B$1005,Input!R28))+(VLOOKUP(Input!R28,Database_Tables!$R$6:$S$138,2,FALSE)),\"\",VLOOKUP((VLOOKUP(Input!R28,Database_Tables!$R$6:$S$138,2,FALSE))+9,$A$6:$C$1005,3,FALSE))","v":{"$error":"#N/A"}},{"$f":"IF((VLOOKUP(Input!R29,Database_Tables!$R$6:$S$138,2,FALSE))+9>=(COUNTIF($B$6:$B$1005,Input!R29))+(VLOOKUP(Input!R29,Database_Tables!$R$6:$S$138,2,FALSE)),\"\",VLOOKUP((VLOOKUP(Input!R29,Database_Tables!$R$6:$S$138,2,FALSE))+9,$A$6:$C$1005,3,FALSE))","v":{"$error":"#N/A"}},null,null,null,"Bahiagrass"]
[16,"Alfalfa brome","Alfalfa brome, yr3 senes to yr4 regrowth",11,0.5,"tons",2000,2.5,5000,1,4900,40,null,null,null,null,14,"Barley",80,{"$f":"IF((VLOOKUP(Input!D25,Database_Tables!$R$6:$S$138,2,FALSE))+10>=(COUNTIF($B$6:$B$1005,Input!D25))+(VLOOKUP(Input!D25,Database_Tables!$R$6:$S$138,2,FALSE)),\"\",VLOOKUP((VLOOKUP(Input!D25,Database_Tables!$R$6:$S$138,2,FALSE))+10,$A$6:$C$1005,3,FALSE))","v":{"$error":"#N/A"}},{"$f":"IF((VLOOKUP(Input!D26,Database_Tables!$R$6:$S$138,2,FALSE))+10>=(COUNTIF($B$6:$B$1005,Input!D26))+(VLOOKUP(Input!D26,Database_Tables!$R$6:$S$138,2,FALSE)),\"\",VLOOKUP((VLOOKUP(Input!D26,Database_Tables!$R$6:$S$138,2,FALSE))+10,$A$6:$C$1005,3,FALSE))","v":{"$error":"#N/A"}},{"$f":"IF((VLOOKUP(Input!D27,Database_Tables!$R$6:$S$138,2,FALSE))+10>=(COUNTIF($B$6:$B$1005,Input!D27))+(VLOOKUP(Input!D27,Database_Tables!$R$6:$S$138,2,FALSE)),\"\",VLOOKUP((VLOOKUP(Input!D27,Database_Tables!$R$6:$S$138,2,FALSE))+10,$A$6:$C$1005,3,FALSE))","v":{"$error":"#N/A"}},{"$f":"IF((VLOOKUP(Input!D28,Database_Tables!$R$6:$S$138,2,FALSE))+10>=(COUNTIF($B$6:$B$1005,Input!D28))+(VLOOKUP(Input!D28,Database_Tables!$R$6:$S$138,2,FALSE)),\"\",VLOOKUP((VLOOKUP(Input!D28,Database_Tables!$R$6:$S$138,2,FALSE))+10,$A$6:$C$1005,3,FALSE))","v":{"$error":"#N/A"}},{"$f":"IF((VLOOKUP(Input!D29,Database_Tables!$R$6:$S$138,2,FALSE))+10>=(COUNTIF($B$6:$B$1005,Input!D29))+(VLOOKUP(Input!D29,Database_Tables!$R$6:$S$138,2,FALSE)),\"\",VLOOKUP((VLOOKUP(Input!D29,Database_Tables!$R$6:$S$138,2,FALSE))+10,$A$6:$C$1005,3,FALSE))","v":{"$error":"#N/A"}},null,{"$f":"IF((VLOOKUP(Input!R25,Database_Tables!$R$6:$S$138,2,FALSE))+10>=(COUNTIF($B$6:$B$1005,Input!R25))+(VLOOKUP(Input!R25,Database_Tables!$R$6:$S$138,2,FALSE)),\"\",VLOOKUP((VLOOKUP(Input!R25,Database_Tables!$R$6:$S$138,2,FALSE))+10,$A$6:$C$1005,3,FALSE))","v":{"$error":"#N/A"}},{"$f":"IF((VLOOKUP(Input!R26,Database_Tables!$R$6:$S$138,2,FALSE))+10>=(COUNTIF($B$6:$B$1005,Input!R26))+(VLOOKUP(Input!R26,Database_Tables!$R$6:$S$138,2,FALSE)),\"\",VLOOKUP((VLOOKUP(Input!R26,Database_Tables!$R$6:$S$138,2,FALSE))+10,$A$6:$C$1005,3,FALSE))","v":{"$error":"#N/A"}},{"$f":"IF((VLOOKUP(Input!R27,Database_Tables!$R$6:$S$138,2,FALSE))+10>=(COUNTIF($B$6:$B$1005,Input!R27))+(VLOOKUP(Input!R27,Database_Tables!$R$6:$S$138,2,FALSE)),\"\",VLOOKUP((VLOOKUP(Input!R27,Database_Tables!$R$6:$S$138,2,FALSE))+10,$A$6:$C$1005,3,FALSE))","v":{"$error":"#N/A"}},{"$f":"IF((VLOOKUP(Input!R28,Database_Tables!$R$6:$S$138,2,FALSE))+10>=(COUNTIF($B$6:$B$1005,Input!R28))+(VLOOKUP(Input!R28,Database_Tables!$R$6:$S$138,2,FALSE)),\"\",VLOOKUP((VLOOKUP(Input!R28,Database_Tables!$R$6:$S$138,2,FALSE))+10,$A$6:$C$1005,3,FALSE))","v":{"$error":"#N/A"}},{"$f":"IF((VLOOKUP(Input!R29,Database_Tables!$R$6:$S$138,2,FALSE))+10>=(COUNTIF($B$6:$B$1005,Input!R29))+(VLOOKUP(Input!R29,Database_Tables!$R$6:$S$138,2,FALSE)),\"\",VLOOKUP((VLOOKUP(Input!R29,Database_Tables!$R$6:$S$138,2,FALSE))+10,$A$6:$C$1005,3,FALSE))","v":{"$error":"#N/A"}},null,null,null,"Barley"]
[17,"Alfalfa brome","Alfalfa brome, yr3 senes winter graze to yr4 regrowth",12,0.5,"tons",2000,2.5,5000,1,4900,53,null,null,null,null,9,"Beans",94,{"$f":"IF((VLOOKUP(Input!D25,Database_Tables!$R$6:$S$138,2,FALSE))+11>=(COUNTIF($B$6:$B$1005,Input!D25))+(VLOOKUP(Input!D25,Database_Tables!$R$6:$S$138,2,FALSE)),\"\",VLOOKUP((VLOOKUP(Input!D25,Database_Tables!$R$6:$S$138,2,FALSE))+11,$A$6:$C$1005,3,FALSE))","v":{"$error":"#N/A"}},{"$f":"IF((VLOOKUP(Input!D26,Database_Tables!$R$6:$S$138,2,FALSE))+11>=(COUNTIF($B$6:$B$1005,Input!D26))+(VLOOKUP(Input!D26,Database_Tables!$R$6:$S$138,2,FALSE)),\"\",VLOOKUP((VLOOKUP(Input!D26,Database_Tables!$R$6:$S$138,2,FALSE))+11,$A$6:$C$1005,3,FALSE))","v":{"$error":"#N/A"}},{"$f":"IF((VLOOKUP(Input!D27,Database_Tables!$R$6:$S$138,2,FALSE))+11>=(COUNTIF($B$6:$B$1005,Input!D27))+(VLOOKUP(Input!D27,Database_Tables!$R$6:$S$138,2,FALSE)),\"\",VLOOKUP((VLOOKUP(Input!D27,Database_Tables!$R$6:$S$138,2,FALSE))+11,$A$6:$C$1005,3,FALSE))","v":{"$error":"#N/A"}},{"$f":"IF((VLOOKUP(Input!D28,Database_Tables!$R$6:$S$138,2,FALSE))+11>=(COUNTIF($B$6:$B$1005,Input!D28))+(VLOOKUP(Input!D28,Database_Tables!$R$6:$S$138,2,FALSE)),\"\",VLOOKUP((VLOOKUP(Input!D28,Database_Tables!$R$6:$S$138,2,FALSE))+11,$A$6:$C$1005,3,FALSE))","v":{"$error":"#N/A"}},{"$f":"IF((VLOOKUP(Input!D29,Database_Tables!$R$6:$S$138,2,FALSE))+11>=(COUNTIF($B$6:$B$1005,Input!D29))+(VLOOKUP(Input!D29,Database_Tables!$R$6:$S$138,2,FALSE)),\"\",VLOOKUP((VLOOKUP(Input!D29,Database_Tables!$R$6:$S$138,2,FALSE))+11,$A$6:$C$1005,3,FALSE))","v":{"$error":"#N/A"}},null,{"$f":"IF((VLOOKUP(Input!R25,Database_Tables!$R$6:$S$138,2,FALSE))+11>=(COUNTIF($B$6:$B$1005,Input!R25))+(VLOOKUP(Input!R25,Database_Tables!$R$6:$S$138,2,FALSE)),\"\",VLOOKUP((VLOOKUP(Input!R25,Database_Tables!$R$6:$S$138,2,FALSE))+11,$A$6:$C$1005,3,FALSE))","v":{"$error":"#N/A"}},{"$f":"IF((VLOOKUP(Input!R26,Database_Tables!$R$6:$S$138,2,FALSE))+11>=(COUNTIF($B$6:$B$1005,Input!R26))+(VLOOKUP(Input!R26,Database_Tables!$R$6:$S$138,2,FALSE)),\"\",VLOOKUP((VLOOKUP(Input!R26,Database_Tables!$R$6:$S$138,2,FALSE))+11,$A$6:$C$1005,3,FALSE))","v":{"$error":"#N/A"}},{"$f":"IF((VLOOKUP(Input!R27,Database_Tables!$R$6:$S$138,2,FALSE))+11>=(COUNTIF($B$6:$B$1005,Input!R27))+(VLOOKUP(Input!R27,Database_Tables!$R$6:$S$138,2,FALSE)),\"\",VLOOKUP((VLOOKUP(Input!R27,Database_Tables!$R$6:$S$138,2,FALSE))+11,$A$6:$C$1005,3,FALSE))","v":{"$error":"#N/A"}},{"$f":"IF((VLOOKUP(Input!R28,Database_Tables!$R$6:$S$138,2,FALSE))+11>=(COUNTIF($B$6:$B$1005,Input!R28))+(VLOOKUP(Input!R28,Database_Tables!$R$6:$S$138,2,FALSE)),\"\",VLOOKUP((VLOOKUP(Input!R28,Database_Tables!$R$6:$S$138,2,FALSE))+11,$A$6:$C$1005,3,FALSE))","v":{"$error":"#N/A"}},{"$f":"IF((VLOOKUP(Input!R29,Database_Tables!$R$6:$S$138,2,FALSE))+11>=(COUNTIF($B$6:$B$1005,Input!R29))+(VLOOKUP(Input!R29,Database_Tables!$R$6:$S$138,2,FALSE)),\"\",VLOOKUP((VLOOKUP(Input!R29,Database_Tables!$R$6:$S$138,2,FALSE))+11,$A$6:$C$1005,3,FALSE))","v":{"$error":"#N/A"}},null,null,null,"Beans"]
[18,"Alf-brome-oat","Alfalfa brome-oat silage, harv to yr2  1st cut",13,0.5,"tons",2000,1.5,3000,1,4300,46,null,null,null,null,1,"Beets",103,{"$f":"IF((VLOOKUP(Input!D25,Database_Tables!$R$6:$S$138,2,FALSE))+12>=(COUNTIF($B$6:$B$1005,Input!D25))+(VLOOKUP(Input!D25,Database_Tables!$R$6:$S$138,2,FALSE)),\"\",VLOOKUP((VLOOKUP(Input!D25,Database_Tables!$R$6:$S$138,2,FALSE))+12,$A$6:$C$1005,3,FALSE))","v":{"$error":"#N/A"}},{"$f":"IF((VLOOKUP(Input!D26,Database_Tables!$R$6:$S$138,2,FALSE))+12>=(COUNTIF($B$6:$B$1005,Input!D26))+(VLOOKUP(Input!D26,Database_Tables!$R$6:$S$138,2,FALSE)),\"\",VLOOKUP((VLOOKUP(Input!D26,Database_Tables!$R$6:$S$138,2,FALSE))+12,$A$6:$C$1005,3,FALSE))","v":{"$error":"#N/A"}},{"$f":"IF((VLOOKUP(Input!D27,Database_Tables!$R$6:$S$138,2,FALSE))+12>=(COUNTIF($B$6:$B$1005,Input!D27))+(VLOOKUP(Input!D27,Database_Tables!$R$6:$S$138,2,FALSE)),\"\",VLOOKUP((VLOOKUP(Input!D27,Database_Tables!$R$6:$S$138,2,FALSE))+12,$A$6:$C$1005,3,FALSE))","v":{"$error":"#N/A"}},{"$f":"IF((VLOOKUP(Input!D28,Database_Tables!$R$6:$S$138,2,FALSE))+12>=(COUNTIF($B$6:$B$1005,Input!D28))+(VLOOKUP(Input!D28,Database_Tables!$R$6:$S$138,2,FALSE)),\"\",VLOOKUP((VLOOKUP(Input!D28,Database_Tables!$R$6:$S$138,2,FALSE))+12,$A$6:$C$1005,3,FALSE))","v":{"$error":"#N/A"}},{"$f":"IF((VLOOKUP(Input!D29,Database_Tables!$R$6:$S$138,2,FALSE))+12>=(COUNTIF($B$6:$B$1005,Input!D29))+(VLOOKUP(Input!D29,Database_Tables!$R$6:$S$138,2,FALSE)),\"\",VLOOKUP((VLOOKUP(Input!D29,Database_Tables!$R$6:$S$138,2,FALSE))+12,$A$6:$C$1005,3,FALSE))","v":{"$error":"#N/A"}},null,{"$f":"IF((VLOOKUP(Input!R25,Database_Tables!$R$6:$S$138,2,FALSE))+12>=(COUNTIF($B$6:$B$1005,Input!R25))+(VLOOKUP(Input!R25,Database_Tables!$R$6:$S$138,2,FALSE)),\"\",VLOOKUP((VLOOKUP(Input!R25,Database_Tables!$R$6:$S$138,2,FALSE))+12,$A$6:$C$1005,3,FALSE))","v":{"$error":"#N/A"}},{"$f":"IF((VLOOKUP(Input!R26,Database_Tables!$R$6:$S$138,2,FALSE))+12>=(COUNTIF($B$6:$B$1005,Input!R26))+(VLOOKUP(Input!R26,Database_Tables!$R$6:$S$138,2,FALSE)),\"\",VLOOKUP((VLOOKUP(Input!R26,Database_Tables!$R$6:$S$138,2,FALSE))+12,$A$6:$C$1005,3,FALSE))","v":{"$error":"#N/A"}},{"$f":"IF((VLOOKUP(Input!R27,Database_Tables!$R$6:$S$138,2,FALSE))+12>=(COUNTIF($B$6:$B$1005,Input!R27))+(VLOOKUP(Input!R27,Database_Tables!$R$6:$S$138,2,FALSE)),\"\",VLOOKUP((VLOOKUP(Input!R27,Database_Tables!$R$6:$S$138,2,FALSE))+12,$A$6:$C$1005,3,FALSE))","v":{"$error":"#N/A"}},{"$f":"IF((VLOOKUP(Input!R28,Database_Tables!$R$6:$S$138,2,FALSE))+12>=(COUNTIF($B$6:$B$1005,Input!R28))+(VLOOKUP(Input!R28,Database_Tables!$R$6:$S$138,2,FALSE)),\"\",VLOOKUP((VLOOKUP(Input!R28,Database_Tables!$R$6:$S$138,2,FALSE))+12,$A$6:$C$1005,3,FALSE))","v":{"$error":"#N/A"}},{"$f":"IF((VLOOKUP(Input!R29,Database_Tables!$R$6:$S$138,2,FALSE))+12>=(COUNTIF($B$6:$B$1005,Input!R29))+(VLOOKUP(Input!R29,Database_Tables!$R$6:$S$138,2,FALSE)),\"\",VLOOKUP((VLOOKUP(Input!R29,Database_Tables!$R$6:$S$138,2,FALSE))+12,$A$6:$C$1005,3,FALSE))","v":{"$error":"#N/A"}},null,null,null,"Beets"]
[19,"Alf-brome-oat","Alfalfa brome-oat silage, spring seed ",14,0.5,"tons",2000,12,7200,0.3,1500,38,null,null,null,null,2,"Belladonna",104,{"$f":"IF((VLOOKUP(Input!D25,Database_Tables!$R$6:$S$138,2,FALSE))+13>=(COUNTIF($B$6:$B$1005,Input!D25))+(VLOOKUP(Input!D25,Database_Tables!$R$6:$S$138,2,FALSE)),\"\",VLOOKUP((VLOOKUP(Input!D25,Database_Tables!$R$6:$S$138,2,FALSE))+13,$A$6:$C$1005,3,FALSE))","v":{"$error":"#N/A"}},{"$f":"IF((VLOOKUP(Input!D26,Database_Tables!$R$6:$S$138,2,FALSE))+13>=(COUNTIF($B$6:$B$1005,Input!D26))+(VLOOKUP(Input!D26,Database_Tables!$R$6:$S$138,2,FALSE)),\"\",VLOOKUP((VLOOKUP(Input!D26,Database_Tables!$R$6:$S$138,2,FALSE))+13,$A$6:$C$1005,3,FALSE))","v":{"$error":"#N/A"}},{"$f":"IF((VLOOKUP(Input!D27,Database_Tables!$R$6:$S$138,2,FALSE))+13>=(COUNTIF($B$6:$B$1005,Input!D27))+(VLOOKUP(Input!D27,Database_Tables!$R$6:$S$138,2,FALSE)),\"\",VLOOKUP((VLOOKUP(Input!D27,Database_Tables!$R$6:$S$138,2,FALSE))+13,$A$6:$C$1005,3,FALSE))","v":{"$error":"#N/A"}},{"$f":"IF((VLOOKUP(Input!D28,Database_Tables!$R$6:$S$138,2,FALSE))+13>=(COUNTIF($B$6:$B$1005,Input!D28))+(VLOOKUP(Input!D28,Database_Tables!$R$6:$S$138,2,FALSE)),\"\",VLOOKUP((VLOOKUP(Input!D28,Database_Tables!$R$6:$S$138,2,FALSE))+13,$A$6:$C$1005,3,FALSE))","v":{"$error":"#N/A"}},{"$f":"IF((VLOOKUP(Input!D29,Database_Tables!$R$6:$S$138,2,FALSE))+13>=(COUNTIF($B$6:$B$1005,Input!D29))+(VLOOKUP(Input!D29,Database_Tables!$R$6:$S$138,2,FALSE)),\"\",VLOOKUP((VLOOKUP(Input!D29,Database_Tables!$R$6:$S$138,2,FALSE))+13,$A$6:$C$1005,3,FALSE))","v":{"$error":"#N/A"}},null,{"$f":"IF((VLOOKUP(Input!R25,Database_Tables!$R$6:$S$138,2,FALSE))+13>=(COUNTIF($B$6:$B$1005,Input!R25))+(VLOOKUP(Input!R25,Database_Tables!$R$6:$S$138,2,FALSE)),\"\",VLOOKUP((VLOOKUP(Input!R25,Database_Tables!$R$6:$S$138,2,FALSE))+13,$A$6:$C$1005,3,FALSE))","v":{"$error":"#N/A"}},{"$f":"IF((VLOOKUP(Input!R26,Database_Tables!$R$6:$S$138,2,FALSE))+13>=(COUNTIF($B$6:$B$1005,Input!R26))+(VLOOKUP(Input!R26,Database_Tables!$R$6:$S$138,2,FALSE)),\"\",VLOOKUP((VLOOKUP(Input!R26,Database_Tables!$R$6:$S$138,2,FALSE))+13,$A$6:$C$1005,3,FALSE))","v":{"$error":"#N/A"}},{"$f":"IF((VLOOKUP(Input!R27,Database_Tables!$R$6:$S$138,2,FALSE))+13>=(COUNTIF($B$6:$B$1005,Input!R27))+(VLOOKUP(Input!R27,Database_Tables!$R$6:$S$138,2,FALSE)),\"\",VLOOKUP((VLOOKUP(Input!R27,Database_Tables!$R$6:$S$138,2,FALSE))+13,$A$6:$C$1005,3,FALSE))","v":{"$error":"#N/A"}},{"$f":"IF((VLOOKUP(Input!R28,Database_Tables!$R$6:$S$138,2,FALSE))+13>=(COUNTIF($B$6:$B$1005,Input!R28))+(VLOOKUP(Input!R28,Database_Tables!$R$6:$S$138,2,FALSE)),\"\",VLOOKUP((VLOOKUP(Input!R28,Database_Tables!$R$6:$S$138,2,FALSE))+13,$A$6:$C$1005,3,FALSE))","v":{"$error":"#N/A"}},{"$f":"IF((VLOOKUP(Input!R29,Database_Tables!$R$6:$S$138,2,FALSE))+13>=(COUNTIF($B$6:$B$1005,Input!R29))+(VLOOKUP(Input!R29,Database_Tables!$R$6:$S$138,2,FALSE)),\"\",VLOOKUP((VLOOKUP(Input!R29,Database_Tables!$R$6:$S$138,2,FALSE))+13,$A$6:$C$1005,3,FALSE))","v":{"$error":"#N/A"}},null,null,null,"Belladonna"]
[20,"Alf-brome-oat","Alfalfa brome-oat,  seed ",15,0.5,"bu",32,60,3840,2,1700,25,null,null,null,null,8,"Bermudagrass",106,{"$f":"IF((VLOOKUP(Input!D25,Database_Tables!$R$6:$S$138,2,FALSE))+14>=(COUNTIF($B$6:$B$1005,Input!D25))+(VLOOKUP(Input!D25,Database_Tables!$R$6:$S$138,2,FALSE)),\"\",VLOOKUP((VLOOKUP(Input!D25,Database_Tables!$R$6:$S$138,2,FALSE))+14,$A$6:$C$1005,3,FALSE))","v":{"$error":"#N/A"}},{"$f":"IF((VLOOKUP(Input!D26,Database_Tables!$R$6:$S$138,2,FALSE))+14>=(COUNTIF($B$6:$B$1005,Input!D26))+(VLOOKUP(Input!D26,Database_Tables!$R$6:$S$138,2,FALSE)),\"\",VLOOKUP((VLOOKUP(Input!D26,Database_Tables!$R$6:$S$138,2,FALSE))+14,$A$6:$C$1005,3,FALSE))","v":{"$error":"#N/A"}},{"$f":"IF((VLOOKUP(Input!D27,Database_Tables!$R$6:$S$138,2,FALSE))+14>=(COUNTIF($B$6:$B$1005,Input!D27))+(VLOOKUP(Input!D27,Database_Tables!$R$6:$S$138,2,FALSE)),\"\",VLOOKUP((VLOOKUP(Input!D27,Database_Tables!$R$6:$S$138,2,FALSE))+14,$A$6:$C$1005,3,FALSE))","v":{"$error":"#N/A"}},{"$f":"IF((VLOOKUP(Input!D28,Database_Tables!$R$6:$S$138,2,FALSE))+14>=(COUNTIF($B$6:$B$1005,Input!D28))+(VLOOKUP(Input!D28,Database_Tables!$R$6:$S$138,2,FALSE)),\"\",VLOOKUP((VLOOKUP(Input!D28,Database_Tables!$R$6:$S$138,2,FALSE))+14,$A$6:$C$1005,3,FALSE))","v":{"$error":"#N/A"}},{"$f":"IF((VLOOKUP(Input!D29,Database_Tables!$R$6:$S$138,2,FALSE))+14>=(COUNTIF($B$6:$B$1005,Input!D29))+(VLOOKUP(Input!D29,Database_Tables!$R$6:$S$138,2,FALSE)),\"\",VLOOKUP((VLOOKUP(Input!D29,Database_Tables!$R$6:$S$138,2,FALSE))+14,$A$6:$C$1005,3,FALSE))","v":{"$error":"#N/A"}},null,{"$f":"IF((VLOOKUP(Input!R25,Database_Tables!$R$6:$S$138,2,FALSE))+14>=(COUNTIF($B$6:$B$1005,Input!R25))+(VLOOKUP(Input!R25,Database_Tables!$R$6:$S$138,2,FALSE)),\"\",VLOOKUP((VLOOKUP(Input!R25,Database_Tables!$R$6:$S$138,2,FALSE))+14,$A$6:$C$1005,3,FALSE))","v":{"$error":"#N/A"}},{"$f":"IF((VLOOKUP(Input!R26,Database_Tables!$R$6:$S$138,2,FALSE))+14>=(COUNTIF($B$6:$B$1005,Input!R26))+(VLOOKUP(Input!R26,Database_Tables!$R$6:$S$138,2,FALSE)),\"\",VLOOKUP((VLOOKUP(Input!R26,Database_Tables!$R$6:$S$138,2,FALSE))+14,$A$6:$C$1005,3,FALSE))","v":{"$error":"#N/A"}},{"$f":"IF((VLOOKUP(Input!R27,Database_Tables!$R$6:$S$138,2,FALSE))+14>=(COUNTIF($B$6:$B$1005,Input!R27))+(VLOOKUP(Input!R27,Database_Tables!$R$6:$S$138,2,FALSE)),\"\",VLOOKUP((VLOOKUP(Input!R27,Database_Tables!$R$6:$S$138,2,FALSE))+14,$A$6:$C$1005,3,FALSE))","v":{"$error":"#N/A"}},{"$f":"IF((VLOOKUP(Input!R28,Database_Tables!$R$6:$S$138,2,FALSE))+14>=(COUNTIF($B$6:$B$1005,Input!R28))+(VLOOKUP(Input!R28,Database_Tables!$R$6:$S$138,2,FALSE)),\"\",VLOOKUP((VLOOKUP(Input!R28,Database_Tables!$R$6:$S$138,2,FALSE))+14,$A$6:$C$1005,3,FALSE))","v":{"$error":"#N/A"}},{"$f":"IF((VLOOKUP(Input!R29,Database_Tables!$R$6:$S$138,2,FALSE))+14>=(COUNTIF($B$6:$B$1005,Input!R29))+(VLOOKUP(Input!R29,Database_Tables!$R$6:$S$138,2,FALSE)),\"\",VLOOKUP((VLOOKUP(Input!R29,Database_Tables!$R$6:$S$138,2,FALSE))+14,$A$6:$C$1005,3,FALSE))","v":{"$error":"#N/A"}},null,null,null,"Bermudagrass"]
[21,"Alf-brome-oat","Alfalfa brome-oat, harv to yr2  1st cut",16,0.5,"tons",2000,1.5,3000,1,4300,39,null,null,null,null,5,"Blueberry",114,{"$f":"IF((VLOOKUP(Input!D25,Database_Tables!$R$6:$S$138,2,FALSE))+15>=(COUNTIF($B$6:$B$1005,Input!D25))+(VLOOKUP(Input!D25,Database_Tables!$R$6:$S$138,2,FALSE)),\"\",VLOOKUP((VLOOKUP(Input!D25,Database_Tables!$R$6:$S$138,2,FALSE))+15,$A$6:$C$1005,3,FALSE))","v":{"$error":"#N/A"}},{"$f":"IF((VLOOKUP(Input!D26,Database_Tables!$R$6:$S$138,2,FALSE))+15>=(COUNTIF($B$6:$B$1005,Input!D26))+(VLOOKUP(Input!D26,Database_Tables!$R$6:$S$138,2,FALSE)),\"\",VLOOKUP((VLOOKUP(Input!D26,Database_Tables!$R$6:$S$138,2,FALSE))+15,$A$6:$C$1005,3,FALSE))","v":{"$error":"#N/A"}},{"$f":"IF((VLOOKUP(Input!D27,Database_Tables!$R$6:$S$138,2,FALSE))+15>=(COUNTIF($B$6:$B$1005,Input!D27))+(VLOOKUP(Input!D27,Database_Tables!$R$6:$S$138,2,FALSE)),\"\",VLOOKUP((VLOOKUP(Input!D27,Database_Tables!$R$6:$S$138,2,FALSE))+15,$A$6:$C$1005,3,FALSE))","v":{"$error":"#N/A"}},{"$f":"IF((VLOOKUP(Input!D28,Database_Tables!$R$6:$S$138,2,FALSE))+15>=(COUNTIF($B$6:$B$1005,Input!D28))+(VLOOKUP(Input!D28,Database_Tables!$R$6:$S$138,2,FALSE)),\"\",VLOOKUP((VLOOKUP(Input!D28,Database_Tables!$R$6:$S$138,2,FALSE))+15,$A$6:$C$1005,3,FALSE))","v":{"$error":"#N/A"}},{"$f":"IF((VLOOKUP(Input!D29,Database_Tables!$R$6:$S$138,2,FALSE))+15>=(COUNTIF($B$6:$B$1005,Input!D29))+(VLOOKUP(Input!D29,Database_Tables!$R$6:$S$138,2,FALSE)),\"\",VLOOKUP((VLOOKUP(Input!D29,Database_Tables!$R$6:$S$138,2,FALSE))+15,$A$6:$C$1005,3,FALSE))","v":{"$error":"#N/A"}},null,{"$f":"IF((VLOOKUP(Input!R25,Database_Tables!$R$6:$S$138,2,FALSE))+15>=(COUNTIF($B$6:$B$1005,Input!R25))+(VLOOKUP(Input!R25,Database_Tables!$R$6:$S$138,2,FALSE)),\"\",VLOOKUP((VLOOKUP(Input!R25,Database_Tables!$R$6:$S$138,2,FALSE))+15,$A$6:$C$1005,3,FALSE))","v":{"$error":"#N/A"}},{"$f":"IF((VLOOKUP(Input!R26,Database_Tables!$R$6:$S$138,2,FALSE))+15>=(COUNTIF($B$6:$B$1005,Input!R26))+(VLOOKUP(Input!R26,Database_Tables!$R$6:$S$138,2,FALSE)),\"\",VLOOKUP((VLOOKUP(Input!R26,Database_Tables!$R$6:$S$138,2,FALSE))+15,$A$6:$C$1005,3,FALSE))","v":{"$error":"#N/A"}},{"$f":"IF((VLOOKUP(Input!R27,Database_Tables!$R$6:$S$138,2,FALSE))+15>=(COUNTIF($B$6:$B$1005,Input!R27))+(VLOOKUP(Input!R27,Database_Tables!$R$6:$S$138,2,FALSE)),\"\",VLOOKUP((VLOOKUP(Input!R27,Database_Tables!$R$6:$S$138,2,FALSE))+15,$A$6:$C$1005,3,FALSE))","v":{"$error":"#N/A"}},{"$f":"IF((VLOOKUP(Input!R28,Database_Tables!$R$6:$S$138,2,FALSE))+15>=(COUNTIF($B$6:$B$1005,Input!R28))+(VLOOKUP(Input!R28,Database_Tables!$R$6:$S$138,2,FALSE)),\"\",VLOOKUP((VLOOKUP(Input!R28,Database_Tables!$R$6:$S$138,2,FALSE))+15,$A$6:$C$1005,3,FALSE))","v":{"$error":"#N/A"}},{"$f":"IF((VLOOKUP(Input!R29,Database_Tables!$R$6:$S$138,2,FALSE))+15>=(COUNTIF($B$6:$B$1005,Input!R29))+(VLOOKUP(Input!R29,Database_Tables!$R$6:$S$138,2,FALSE)),\"\",VLOOKUP((VLOOKUP(Input!R29,Database_Tables!$R$6:$S$138,2,FALSE))+15,$A$6:$C$1005,3,FALSE))","v":{"$error":"#N/A"}},null,null,null,"Blueberry"]
[22,"Alfalfa seed","Alfalfa seed nw, fall plant senes to yr2 clipback",17,0.5,"tons",2000,0.5,1000,1,2000,49,null,null,null,null,2,"Bluestem",119,{"$f":"IF((VLOOKUP(Input!D25,Database_Tables!$R$6:$S$138,2,FALSE))+16>=(COUNTIF($B$6:$B$1005,Input!D25))+(VLOOKUP(Input!D25,Database_Tables!$R$6:$S$138,2,FALSE)),\"\",VLOOKUP((VLOOKUP(Input!D25,Database_Tables!$R$6:$S$138,2,FALSE))+16,$A$6:$C$1005,3,FALSE))","v":{"$error":"#N/A"}},{"$f":"IF((VLOOKUP(Input!D26,Database_Tables!$R$6:$S$138,2,FALSE))+16>=(COUNTIF($B$6:$B$1005,Input!D26))+(VLOOKUP(Input!D26,Database_Tables!$R$6:$S$138,2,FALSE)),\"\",VLOOKUP((VLOOKUP(Input!D26,Database_Tables!$R$6:$S$138,2,FALSE))+16,$A$6:$C$1005,3,FALSE))","v":{"$error":"#N/A"}},{"$f":"IF((VLOOKUP(Input!D27,Database_Tables!$R$6:$S$138,2,FALSE))+16>=(COUNTIF($B$6:$B$1005,Input!D27))+(VLOOKUP(Input!D27,Database_Tables!$R$6:$S$138,2,FALSE)),\"\",VLOOKUP((VLOOKUP(Input!D27,Database_Tables!$R$6:$S$138,2,FALSE))+16,$A$6:$C$1005,3,FALSE))","v":{"$error":"#N/A"}},{"$f":"IF((VLOOKUP(Input!D28,Database_Tables!$R$6:$S$138,2,FALSE))+16>=(COUNTIF($B$6:$B$1005,Input!D28))+(VLOOKUP(Input!D28,Database_Tables!$R$6:$S$138,2,FALSE)),\"\",VLOOKUP((VLOOKUP(Input!D28,Database_Tables!$R$6:$S$138,2,FALSE))+16,$A$6:$C$1005,3,FALSE))","v":{"$error":"#N/A"}},{"$f":"IF((VLOOKUP(Input!D29,Database_Tables!$R$6:$S$138,2,FALSE))+16>=(COUNTIF($B$6:$B$1005,Input!D29))+(VLOOKUP(Input!D29,Database_Tables!$R$6:$S$138,2,FALSE)),\"\",VLOOKUP((VLOOKUP(Input!D29,Database_Tables!$R$6:$S$138,2,FALSE))+16,$A$6:$C$1005,3,FALSE))","v":{"$error":"#N/A"}},null,{"$f":"IF((VLOOKUP(Input!R25,Database_Tables!$R$6:$S$138,2,FALSE))+16>=(COUNTIF($B$6:$B$1005,Input!R25))+(VLOOKUP(Input!R25,Database_Tables!$R$6:$S$138,2,FALSE)),\"\",VLOOKUP((VLOOKUP(Input!R25,Database_Tables!$R$6:$S$138,2,FALSE))+16,$A$6:$C$1005,3,FALSE))","v":{"$error":"#N/A"}},{"$f":"IF((VLOOKUP(Input!R26,Database_Tables!$R$6:$S$138,2,FALSE))+16>=(COUNTIF($B$6:$B$1005,Input!R26))+(VLOOKUP(Input!R26,Database_Tables!$R$6:$S$138,2,FALSE)),\"\",VLOOKUP((VLOOKUP(Input!R26,Database_Tables!$R$6:$S$138,2,FALSE))+16,$A$6:$C$1005,3,FALSE))","v":{"$error":"#N/A"}},{"$f":"IF((VLOOKUP(Input!R27,Database_Tables!$R$6:$S$138,2,FALSE))+16>=(COUNTIF($B$6:$B$1005,Input!R27))+(VLOOKUP(Input!R27,Database_Tables!$R$6:$S$138,2,FALSE)),\"\",VLOOKUP((VLOOKUP(Input!R27,Database_Tables!$R$6:$S$138,2,FALSE))+16,$A$6:$C$1005,3,FALSE))","v":{"$error":"#N/A"}},{"$f":"IF((VLOOKUP(Input!R28,Database_Tables!$R$6:$S$138,2,FALSE))+16>=(COUNTIF($B$6:$B$1005,Input!R28))+(VLOOKUP(Input!R28,Database_Tables!$R$6:$S$138,2,FALSE)),\"\",VLOOKUP((VLOOKUP(Input!R28,Database_Tables!$R$6:$S$138,2,FALSE))+16,$A$6:$C$1005,3,FALSE))","v":{"$error":"#N/A"}},{"$f":"IF((VLOOKUP(Input!R29,Database_Tables!$R$6:$S$138,2,FALSE))+16>=(COUNTIF($B$6:$B$1005,Input!R29))+(VLOOKUP(Input!R29,Database_Tables!$R$6:$S$138,2,FALSE)),\"\",VLOOKUP((VLOOKUP(Input!R29,Database_Tables!$R$6:$S$138,2,FALSE))+16,$A$6:$C$1005,3,FALSE))","v":{"$error":"#N/A"}},null,null,null,"Bluestem"]
[23,"Alfalfa seed","Alfalfa seed nw, spring plant",18,0.5,"lbs",1,350,3255,9.3000000000000007,2500,29,null,null,null,null,2,"Brassica",121,{"$f":"IF((VLOOKUP(Input!D25,Database_Tables!$R$6:$S$138,2,FALSE))+17>=(COUNTIF($B$6:$B$1005,Input!D25))+(VLOOKUP(Input!D25,Database_Tables!$R$6:$S$138,2,FALSE)),\"\",VLOOKUP((VLOOKUP(Input!D25,Database_Tables!$R$6:$S$138,2,FALSE))+17,$A$6:$C$1005,3,FALSE))","v":{"$error":"#N/A"}},{"$f":"IF((VLOOKUP(Input!D26,Database_Tables!$R$6:$S$138,2,FALSE))+17>=(COUNTIF($B$6:$B$1005,Input!D26))+(VLOOKUP(Input!D26,Database_Tables!$R$6:$S$138,2,FALSE)),\"\",VLOOKUP((VLOOKUP(Input!D26,Database_Tables!$R$6:$S$138,2,FALSE))+17,$A$6:$C$1005,3,FALSE))","v":{"$error":"#N/A"}},{"$f":"IF((VLOOKUP(Input!D27,Database_Tables!$R$6:$S$138,2,FALSE))+17>=(COUNTIF($B$6:$B$1005,Input!D27))+(VLOOKUP(Input!D27,Database_Tables!$R$6:$S$138,2,FALSE)),\"\",VLOOKUP((VLOOKUP(Input!D27,Database_Tables!$R$6:$S$138,2,FALSE))+17,$A$6:$C$1005,3,FALSE))","v":{"$error":"#N/A"}},{"$f":"IF((VLOOKUP(Input!D28,Database_Tables!$R$6:$S$138,2,FALSE))+17>=(COUNTIF($B$6:$B$1005,Input!D28))+(VLOOKUP(Input!D28,Database_Tables!$R$6:$S$138,2,FALSE)),\"\",VLOOKUP((VLOOKUP(Input!D28,Database_Tables!$R$6:$S$138,2,FALSE))+17,$A$6:$C$1005,3,FALSE))","v":{"$error":"#N/A"}},{"$f":"IF((VLOOKUP(Input!D29,Database_Tables!$R$6:$S$138,2,FALSE))+17>=(COUNTIF($B$6:$B$1005,Input!D29))+(VLOOKUP(Input!D29,Database_Tables!$R$6:$S$138,2,FALSE)),\"\",VLOOKUP((VLOOKUP(Input!D29,Database_Tables!$R$6:$S$138,2,FALSE))+17,$A$6:$C$1005,3,FALSE))","v":{"$error":"#N/A"}},null,{"$f":"IF((VLOOKUP(Input!R25,Database_Tables!$R$6:$S$138,2,FALSE))+17>=(COUNTIF($B$6:$B$1005,Input!R25))+(VLOOKUP(Input!R25,Database_Tables!$R$6:$S$138,2,FALSE)),\"\",VLOOKUP((VLOOKUP(Input!R25,Database_Tables!$R$6:$S$138,2,FALSE))+17,$A$6:$C$1005,3,FALSE))","v":{"$error":"#N/A"}},{"$f":"IF((VLOOKUP(Input!R26,Database_Tables!$R$6:$S$138,2,FALSE))+17>=(COUNTIF($B$6:$B$1005,Input!R26))+(VLOOKUP(Input!R26,Database_Tables!$R$6:$S$138,2,FALSE)),\"\",VLOOKUP((VLOOKUP(Input!R26,Database_Tables!$R$6:$S$138,2,FALSE))+17,$A$6:$C$1005,3,FALSE))","v":{"$error":"#N/A"}},{"$f":"IF((VLOOKUP(Input!R27,Database_Tables!$R$6:$S$138,2,FALSE))+17>=(COUNTIF($B$6:$B$1005,Input!R27))+(VLOOKUP(Input!R27,Database_Tables!$R$6:$S$138,2,FALSE)),\"\",VLOOKUP((VLOOKUP(Input!R27,Database_Tables!$R$6:$S$138,2,FALSE))+17,$A$6:$C$1005,3,FALSE))","v":{"$error":"#N/A"}},{"$f":"IF((VLOOKUP(Input!R28,Database_Tables!$R$6:$S$138,2,FALSE))+17>=(COUNTIF($B$6:$B$1005,Input!R28))+(VLOOKUP(Input!R28,Database_Tables!$R$6:$S$138,2,FALSE)),\"\",VLOOKUP((VLOOKUP(Input!R28,Database_Tables!$R$6:$S$138,2,FALSE))+17,$A$6:$C$1005,3,FALSE))","v":{"$error":"#N/A"}},{"$f":"IF((VLOOKUP(Input!R29,Database_Tables!$R$6:$S$138,2,FALSE))+17>=(COUNTIF($B$6:$B$1005,Input!R29))+(VLOOKUP(Input!R29,Database_Tables!$R$6:$S$138,2,FALSE)),\"\",VLOOKUP((VLOOKUP(Input!R29,Database_Tables!$R$6:$S$138,2,FALSE))+17,$A$6:$C$1005,3,FALSE))","v":{"$error":"#N/A"}},null,null,null,"Brassica"]
[24,"Alfalfa seed","Alfalfa seed nw, yr2 regrowth after clipback",19,0.5,"lbs",1,350,3237.5,9.25,2500,44,null,null,null,null,4,"Brocolli",123,{"$f":"IF((VLOOKUP(Input!D25,Database_Tables!$R$6:$S$138,2,FALSE))+18>=(COUNTIF($B$6:$B$1005,Input!D25))+(VLOOKUP(Input!D25,Database_Tables!$R$6:$S$138,2,FALSE)),\"\",VLOOKUP((VLOOKUP(Input!D25,Database_Tables!$R$6:$S$138,2,FALSE))+18,$A$6:$C$1005,3,FALSE))","v":{"$error":"#N/A"}},{"$f":"IF((VLOOKUP(Input!D26,Database_Tables!$R$6:$S$138,2,FALSE))+18>=(COUNTIF($B$6:$B$1005,Input!D26))+(VLOOKUP(Input!D26,Database_Tables!$R$6:$S$138,2,FALSE)),\"\",VLOOKUP((VLOOKUP(Input!D26,Database_Tables!$R$6:$S$138,2,FALSE))+18,$A$6:$C$1005,3,FALSE))","v":{"$error":"#N/A"}},{"$f":"IF((VLOOKUP(Input!D27,Database_Tables!$R$6:$S$138,2,FALSE))+18>=(COUNTIF($B$6:$B$1005,Input!D27))+(VLOOKUP(Input!D27,Database_Tables!$R$6:$S$138,2,FALSE)),\"\",VLOOKUP((VLOOKUP(Input!D27,Database_Tables!$R$6:$S$138,2,FALSE))+18,$A$6:$C$1005,3,FALSE))","v":{"$error":"#N/A"}},{"$f":"IF((VLOOKUP(Input!D28,Database_Tables!$R$6:$S$138,2,FALSE))+18>=(COUNTIF($B$6:$B$1005,Input!D28))+(VLOOKUP(Input!D28,Database_Tables!$R$6:$S$138,2,FALSE)),\"\",VLOOKUP((VLOOKUP(Input!D28,Database_Tables!$R$6:$S$138,2,FALSE))+18,$A$6:$C$1005,3,FALSE))","v":{"$error":"#N/A"}},{"$f":"IF((VLOOKUP(Input!D29,Database_Tables!$R$6:$S$138,2,FALSE))+18>=(COUNTIF($B$6:$B$1005,Input!D29))+(VLOOKUP(Input!D29,Database_Tables!$R$6:$S$138,2,FALSE)),\"\",VLOOKUP((VLOOKUP(Input!D29,Database_Tables!$R$6:$S$138,2,FALSE))+18,$A$6:$C$1005,3,FALSE))","v":{"$error":"#N/A"}},null,{"$f":"IF((VLOOKUP(Input!R25,Database_Tables!$R$6:$S$138,2,FALSE))+18>=(COUNTIF($B$6:$B$1005,Input!R25))+(VLOOKUP(Input!R25,Database_Tables!$R$6:$S$138,2,FALSE)),\"\",VLOOKUP((VLOOKUP(Input!R25,Database_Tables!$R$6:$S$138,2,FALSE))+18,$A$6:$C$1005,3,FALSE))","v":{"$error":"#N/A"}},{"$f":"IF((VLOOKUP(Input!R26,Database_Tables!$R$6:$S$138,2,FALSE))+18>=(COUNTIF($B$6:$B$1005,Input!R26))+(VLOOKUP(Input!R26,Database_Tables!$R$6:$S$138,2,FALSE)),\"\",VLOOKUP((VLOOKUP(Input!R26,Database_Tables!$R$6:$S$138,2,FALSE))+18,$A$6:$C$1005,3,FALSE))","v":{"$error":"#N/A"}},{"$f":"IF((VLOOKUP(Input!R27,Database_Tables!$R$6:$S$138,2,FALSE))+18>=(COUNTIF($B$6:$B$1005,Input!R27))+(VLOOKUP(Input!R27,Database_Tables!$R$6:$S$138,2,FALSE)),\"\",VLOOKUP((VLOOKUP(Input!R27,Database_Tables!$R$6:$S$138,2,FALSE))+18,$A$6:$C$1005,3,FALSE))","v":{"$error":"#N/A"}},{"$f":"IF((VLOOKUP(Input!R28,Database_Tables!$R$6:$S$138,2,FALSE))+18>=(COUNTIF($B$6:$B$1005,Input!R28))+(VLOOKUP(Input!R28,Database_Tables!$R$6:$S$138,2,FALSE)),\"\",VLOOKUP((VLOOKUP(Input!R28,Database_Tables!$R$6:$S$138,2,FALSE))+18,$A$6:$C$1005,3,FALSE))","v":{"$error":"#N/A"}},{"$f":"IF((VLOOKUP(Input!R29,Database_Tables!$R$6:$S$138,2,FALSE))+18>=(COUNTIF($B$6:$B$1005,Input!R29))+(VLOOKUP(Input!R29,Database_Tables!$R$6:$S$138,2,FALSE)),\"\",VLOOKUP((VLOOKUP(Input!R29,Database_Tables!$R$6:$S$138,2,FALSE))+18,$A$6:$C$1005,3,FALSE))","v":{"$error":"#N/A"}},null,null,null,"Brocolli"]
[25,"Alfalfa seed","Alfalfa seed nw, yr2 senes to yr3 regrowth",20,0.5,"tons",2000,0.5,1000,1,2500,42,null,null,null,null,1,"Brome",127,{"$f":"IF((VLOOKUP(Input!D25,Database_Tables!$R$6:$S$138,2,FALSE))+19>=(COUNTIF($B$6:$B$1005,Input!D25))+(VLOOKUP(Input!D25,Database_Tables!$R$6:$S$138,2,FALSE)),\"\",VLOOKUP((VLOOKUP(Input!D25,Database_Tables!$R$6:$S$138,2,FALSE))+19,$A$6:$C$1005,3,FALSE))","v":{"$error":"#N/A"}},{"$f":"IF((VLOOKUP(Input!D26,Database_Tables!$R$6:$S$138,2,FALSE))+19>=(COUNTIF($B$6:$B$1005,Input!D26))+(VLOOKUP(Input!D26,Database_Tables!$R$6:$S$138,2,FALSE)),\"\",VLOOKUP((VLOOKUP(Input!D26,Database_Tables!$R$6:$S$138,2,FALSE))+19,$A$6:$C$1005,3,FALSE))","v":{"$error":"#N/A"}},{"$f":"IF((VLOOKUP(Input!D27,Database_Tables!$R$6:$S$138,2,FALSE))+19>=(COUNTIF($B$6:$B$1005,Input!D27))+(VLOOKUP(Input!D27,Database_Tables!$R$6:$S$138,2,FALSE)),\"\",VLOOKUP((VLOOKUP(Input!D27,Database_Tables!$R$6:$S$138,2,FALSE))+19,$A$6:$C$1005,3,FALSE))","v":{"$error":"#N/A"}},{"$f":"IF((VLOOKUP(Input!D28,Database_Tables!$R$6:$S$138,2,FALSE))+19>=(COUNTIF($B$6:$B$1005,Input!D28))+(VLOOKUP(Input!D28,Database_Tables!$R$6:$S$138,2,FALSE)),\"\",VLOOKUP((VLOOKUP(Input!D28,Database_Tables!$R$6:$S$138,2,FALSE))+19,$A$6:$C$1005,3,FALSE))","v":{"$error":"#N/A"}},{"$f":"IF((VLOOKUP(Input!D29,Database_Tables!$R$6:$S$138,2,FALSE))+19>=(COUNTIF($B$6:$B$1005,Input!D29))+(VLOOKUP(Input!D29,Database_Tables!$R$6:$S$138,2,FALSE)),\"\",VLOOKUP((VLOOKUP(Input!D29,Database_Tables!$R$6:$S$138,2,FALSE))+19,$A$6:$C$1005,3,FALSE))","v":{"$error":"#N/A"}},null,{"$f":"IF((VLOOKUP(Input!R25,Database_Tables!$R$6:$S$138,2,FALSE))+19>=(COUNTIF($B$6:$B$1005,Input!R25))+(VLOOKUP(Input!R25,Database_Tables!$R$6:$S$138,2,FALSE)),\"\",VLOOKUP((VLOOKUP(Input!R25,Database_Tables!$R$6:$S$138,2,FALSE))+19,$A$6:$C$1005,3,FALSE))","v":{"$error":"#N/A"}},{"$f":"IF((VLOOKUP(Input!R26,Database_Tables!$R$6:$S$138,2,FALSE))+19>=(COUNTIF($B$6:$B$1005,Input!R26))+(VLOOKUP(Input!R26,Database_Tables!$R$6:$S$138,2,FALSE)),\"\",VLOOKUP((VLOOKUP(Input!R26,Database_Tables!$R$6:$S$138,2,FALSE))+19,$A$6:$C$1005,3,FALSE))","v":{"$error":"#N/A"}},{"$f":"IF((VLOOKUP(Input!R27,Database_Tables!$R$6:$S$138,2,FALSE))+19>=(COUNTIF($B$6:$B$1005,Input!R27))+(VLOOKUP(Input!R27,Database_Tables!$R$6:$S$138,2,FALSE)),\"\",VLOOKUP((VLOOKUP(Input!R27,Database_Tables!$R$6:$S$138,2,FALSE))+19,$A$6:$C$1005,3,FALSE))","v":{"$error":"#N/A"}},{"$f":"IF((VLOOKUP(Input!R28,Database_Tables!$R$6:$S$138,2,FALSE))+19>=(COUNTIF($B$6:$B$1005,Input!R28))+(VLOOKUP(Input!R28,Database_Tables!$R$6:$S$138,2,FALSE)),\"\",VLOOKUP((VLOOKUP(Input!R28,Database_Tables!$R$6:$S$138,2,FALSE))+19,$A$6:$C$1005,3,FALSE))","v":{"$error":"#N/A"}},{"$f":"IF((VLOOKUP(Input!R29,Database_Tables!$R$6:$S$138,2,FALSE))+19>=(COUNTIF($B$6:$B$1005,Input!R29))+(VLOOKUP(Input!R29,Database_Tables!$R$6:$S$138,2,FALSE)),\"\",VLOOKUP((VLOOKUP(Input!R29,Database_Tables!$R$6:$S$138,2,FALSE))+19,$A$6:$C$1005,3,FALSE))","v":{"$error":"#N/A"}},null,null,null,"Brome"]
[26,"Alfalfa seed","Alfalfa seed sw, fall plant senes to yr2 clipback",21,0.5,"tons",2000,1,2000,1,2500,49,null,null,null,null,10,"Bromegrass",128,{"$f":"IF((VLOOKUP(Input!D25,Database_Tables!$R$6:$S$138,2,FALSE))+20>=(COUNTIF($B$6:$B$1005,Input!D25))+(VLOOKUP(Input!D25,Database_Tables!$R$6:$S$138,2,FALSE)),\"\",VLOOKUP((VLOOKUP(Input!D25,Database_Tables!$R$6:$S$138,2,FALSE))+20,$A$6:$C$1005,3,FALSE))","v":{"$error":"#N/A"}},{"$f":"IF((VLOOKUP(Input!D26,Database_Tables!$R$6:$S$138,2,FALSE))+20>=(COUNTIF($B$6:$B$1005,Input!D26))+(VLOOKUP(Input!D26,Database_Tables!$R$6:$S$138,2,FALSE)),\"\",VLOOKUP((VLOOKUP(Input!D26,Database_Tables!$R$6:$S$138,2,FALSE))+20,$A$6:$C$1005,3,FALSE))","v":{"$error":"#N/A"}},{"$f":"IF((VLOOKUP(Input!D27,Database_Tables!$R$6:$S$138,2,FALSE))+20>=(COUNTIF($B$6:$B$1005,Input!D27))+(VLOOKUP(Input!D27,Database_Tables!$R$6:$S$138,2,FALSE)),\"\",VLOOKUP((VLOOKUP(Input!D27,Database_Tables!$R$6:$S$138,2,FALSE))+20,$A$6:$C$1005,3,FALSE))","v":{"$error":"#N/A"}},{"$f":"IF((VLOOKUP(Input!D28,Database_Tables!$R$6:$S$138,2,FALSE))+20>=(COUNTIF($B$6:$B$1005,Input!D28))+(VLOOKUP(Input!D28,Database_Tables!$R$6:$S$138,2,FALSE)),\"\",VLOOKUP((VLOOKUP(Input!D28,Database_Tables!$R$6:$S$138,2,FALSE))+20,$A$6:$C$1005,3,FALSE))","v":{"$error":"#N/A"}},{"$f":"IF((VLOOKUP(Input!D29,Database_Tables!$R$6:$S$138,2,FALSE))+20>=(COUNTIF($B$6:$B$1005,Input!D29))+(VLOOKUP(Input!D29,Database_Tables!$R$6:$S$138,2,FALSE)),\"\",VLOOKUP((VLOOKUP(Input!D29,Database_Tables!$R$6:$S$138,2,FALSE))+20,$A$6:$C$1005,3,FALSE))","v":{"$error":"#N/A"}},null,{"$f":"IF((VLOOKUP(Input!R25,Database_Tables!$R$6:$S$138,2,FALSE))+20>=(COUNTIF($B$6:$B$1005,Input!R25))+(VLOOKUP(Input!R25,Database_Tables!$R$6:$S$138,2,FALSE)),\"\",VLOOKUP((VLOOKUP(Input!R25,Database_Tables!$R$6:$S$138,2,FALSE))+20,$A$6:$C$1005,3,FALSE))","v":{"$error":"#N/A"}},{"$f":"IF((VLOOKUP(Input!R26,Database_Tables!$R$6:$S$138,2,FALSE))+20>=(COUNTIF($B$6:$B$1005,Input!R26))+(VLOOKUP(Input!R26,Database_Tables!$R$6:$S$138,2,FALSE)),\"\",VLOOKUP((VLOOKUP(Input!R26,Database_Tables!$R$6:$S$138,2,FALSE))+20,$A$6:$C$1005,3,FALSE))","v":{"$error":"#N/A"}},{"$f":"IF((VLOOKUP(Input!R27,Database_Tables!$R$6:$S$138,2,FALSE))+20>=(COUNTIF($B$6:$B$1005,Input!R27))+(VLOOKUP(Input!R27,Database_Tables!$R$6:$S$138,2,FALSE)),\"\",VLOOKUP((VLOOKUP(Input!R27,Database_Tables!$R$6:$S$138,2,FALSE))+20,$A$6:$C$1005,3,FALSE))","v":{"$error":"#N/A"}},{"$f":"IF((VLOOKUP(Input!R28,Database_Tables!$R$6:$S$138,2,FALSE))+20>=(COUNTIF($B$6:$B$1005,Input!R28))+(VLOOKUP(Input!R28,Database_Tables!$R$6:$S$138,2,FALSE)),\"\",VLOOKUP((VLOOKUP(Input!R28,Database_Tables!$R$6:$S$138,2,FALSE))+20,$A$6:$C$1005,3,FALSE))","v":{"$error":"#N/A"}},{"$f":"IF((VLOOKUP(Input!R29,Database_Tables!$R$6:$S$138,2,FALSE))+20>=(COUNTIF($B$6:$B$1005,Input!R29))+(VLOOKUP(Input!R29,Database_Tables!$R$6:$S$138,2,FALSE)),\"\",VLOOKUP((VLOOKUP(Input!R29,Database_Tables!$R$6:$S$138,2,FALSE))+20,$A$6:$C$1005,3,FALSE))","v":{"$error":"#N/A"}},null,null,null,"Bromegrass"]
[27,"Alfalfa seed","Alfalfa seed sw, yr2 regrowth after clipback",22,0.5,"lbs",1,500,4625,9.25,2500,44,null,null,null,null,1,"Buckwheat",138,{"$f":"IF((VLOOKUP(Input!D25,Database_Tables!$R$6:$S$138,2,FALSE))+21>=(COUNTIF($B$6:$B$1005,Input!D25))+(VLOOKUP(Input!D25,Database_Tables!$R$6:$S$138,2,FALSE)),\"\",VLOOKUP((VLOOKUP(Input!D25,Database_Tables!$R$6:$S$138,2,FALSE))+21,$A$6:$C$1005,3,FALSE))","v":{"$error":"#N/A"}},{"$f":"IF((VLOOKUP(Input!D26,Database_Tables!$R$6:$S$138,2,FALSE))+21>=(COUNTIF($B$6:$B$1005,Input!D26))+(VLOOKUP(Input!D26,Database_Tables!$R$6:$S$138,2,FALSE)),\"\",VLOOKUP((VLOOKUP(Input!D26,Database_Tables!$R$6:$S$138,2,FALSE))+21,$A$6:$C$1005,3,FALSE))","v":{"$error":"#N/A"}},{"$f":"IF((VLOOKUP(Input!D27,Database_Tables!$R$6:$S$138,2,FALSE))+21>=(COUNTIF($B$6:$B$1005,Input!D27))+(VLOOKUP(Input!D27,Database_Tables!$R$6:$S$138,2,FALSE)),\"\",VLOOKUP((VLOOKUP(Input!D27,Database_Tables!$R$6:$S$138,2,FALSE))+21,$A$6:$C$1005,3,FALSE))","v":{"$error":"#N/A"}},{"$f":"IF((VLOOKUP(Input!D28,Database_Tables!$R$6:$S$138,2,FALSE))+21>=(COUNTIF($B$6:$B$1005,Input!D28))+(VLOOKUP(Input!D28,Database_Tables!$R$6:$S$138,2,FALSE)),\"\",VLOOKUP((VLOOKUP(Input!D28,Database_Tables!$R$6:$S$138,2,FALSE))+21,$A$6:$C$1005,3,FALSE))","v":{"$error":"#N/A"}},{"$f":"IF((VLOOKUP(Input!D29,Database_Tables!$R$6:$S$138,2,FALSE))+21>=(COUNTIF($B$6:$B$1005,Input!D29))+(VLOOKUP(Input!D29,Database_Tables!$R$6:$S$138,2,FALSE)),\"\",VLOOKUP((VLOOKUP(Input!D29,Database_Tables!$R$6:$S$138,2,FALSE))+21,$A$6:$C$1005,3,FALSE))","v":{"$error":"#N/A"}},null,{"$f":"IF((VLOOKUP(Input!R25,Database_Tables!$R$6:$S$138,2,FALSE))+21>=(COUNTIF($B$6:$B$1005,Input!R25))+(VLOOKUP(Input!R25,Database_Tables!$R$6:$S$138,2,FALSE)),\"\",VLOOKUP((VLOOKUP(Input!R25,Database_Tables!$R$6:$S$138,2,FALSE))+21,$A$6:$C$1005,3,FALSE))","v":{"$error":"#N/A"}},{"$f":"IF((VLOOKUP(Input!R26,Database_Tables!$R$6:$S$138,2,FALSE))+21>=(COUNTIF($B$6:$B$1005,Input!R26))+(VLOOKUP(Input!R26,Database_Tables!$R$6:$S$138,2,FALSE)),\"\",VLOOKUP((VLOOKUP(Input!R26,Database_Tables!$R$6:$S$138,2,FALSE))+21,$A$6:$C$1005,3,FALSE))","v":{"$error":"#N/A"}},{"$f":"IF((VLOOKUP(Input!R27,Database_Tables!$R$6:$S$138,2,FALSE))+21>=(COUNTIF($B$6:$B$1005,Input!R27))+(VLOOKUP(Input!R27,Database_Tables!$R$6:$S$138,2,FALSE)),\"\",VLOOKUP((VLOOKUP(Input!R27,Database_Tables!$R$6:$S$138,2,FALSE))+21,$A$6:$C$1005,3,FALSE))","v":{"$error":"#N/A"}},{"$f":"IF((VLOOKUP(Input!R28,Database_Tables!$R$6:$S$138,2,FALSE))+21>=(COUNTIF($B$6:$B$1005,Input!R28))+(VLOOKUP(Input!R28,Database_Tables!$R$6:$S$138,2,FALSE)),\"\",VLOOKUP((VLOOKUP(Input!R28,Database_Tables!$R$6:$S$138,2,FALSE))+21,$A$6:$C$1005,3,FALSE))","v":{"$error":"#N/A"}},{"$f":"IF((VLOOKUP(Input!R29,Database_Tables!$R$6:$S$138,2,FALSE))+21>=(COUNTIF($B$6:$B$1005,Input!R29))+(VLOOKUP(Input!R29,Database_Tables!$R$6:$S$138,2,FALSE)),\"\",VLOOKUP((VLOOKUP(Input!R29,Database_Tables!$R$6:$S$138,2,FALSE))+21,$A$6:$C$1005,3,FALSE))","v":{"$error":"#N/A"}},null,null,null,"Buckwheat"]
[28,"Alfalfa seed","Alfalfa seed sw, yr2 senes to yr3 regrowth",23,0.5,"tons",2000,0.5,1000,1,2500,42,null,null,null,null,1,"Bulbs",139,{"$f":"IF((VLOOKUP(Input!D25,Database_Tables!$R$6:$S$138,2,FALSE))+22>=(COUNTIF($B$6:$B$1005,Input!D25))+(VLOOKUP(Input!D25,Database_Tables!$R$6:$S$138,2,FALSE)),\"\",VLOOKUP((VLOOKUP(Input!D25,Database_Tables!$R$6:$S$138,2,FALSE))+22,$A$6:$C$1005,3,FALSE))","v":{"$error":"#N/A"}},{"$f":"IF((VLOOKUP(Input!D26,Database_Tables!$R$6:$S$138,2,FALSE))+22>=(COUNTIF($B$6:$B$1005,Input!D26))+(VLOOKUP(Input!D26,Database_Tables!$R$6:$S$138,2,FALSE)),\"\",VLOOKUP((VLOOKUP(Input!D26,Database_Tables!$R$6:$S$138,2,FALSE))+22,$A$6:$C$1005,3,FALSE))","v":{"$error":"#N/A"}},{"$f":"IF((VLOOKUP(Input!D27,Database_Tables!$R$6:$S$138,2,FALSE))+22>=(COUNTIF($B$6:$B$1005,Input!D27))+(VLOOKUP(Input!D27,Database_Tables!$R$6:$S$138,2,FALSE)),\"\",VLOOKUP((VLOOKUP(Input!D27,Database_Tables!$R$6:$S$138,2,FALSE))+22,$A$6:$C$1005,3,FALSE))","v":{"$error":"#N/A"}},{"$f":"IF((VLOOKUP(Input!D28,Database_Tables!$R$6:$S$138,2,FALSE))+22>=(COUNTIF($B$6:$B$1005,Input!D28))+(VLOOKUP(Input!D28,Database_Tables!$R$6:$S$138,2,FALSE)),\"\",VLOOKUP((VLOOKUP(Input!D28,Database_Tables!$R$6:$S$138,2,FALSE))+22,$A$6:$C$1005,3,FALSE))","v":{"$error":"#N/A"}},{"$f":"IF((VLOOKUP(Input!D29,Database_Tables!$R$6:$S$138,2,FALSE))+22>=(COUNTIF($B$6:$B$1005,Input!D29))+(VLOOKUP(Input!D29,Database_Tables!$R$6:$S$138,2,FALSE)),\"\",VLOOKUP((VLOOKUP(Input!D29,Database_Tables!$R$6:$S$138,2,FALSE))+22,$A$6:$C$1005,3,FALSE))","v":{"$error":"#N/A"}},null,{"$f":"IF((VLOOKUP(Input!R25,Database_Tables!$R$6:$S$138,2,FALSE))+22>=(COUNTIF($B$6:$B$1005,Input!R25))+(VLOOKUP(Input!R25,Database_Tables!$R$6:$S$138,2,FALSE)),\"\",VLOOKUP((VLOOKUP(Input!R25,Database_Tables!$R$6:$S$138,2,FALSE))+22,$A$6:$C$1005,3,FALSE))","v":{"$error":"#N/A"}},{"$f":"IF((VLOOKUP(Input!R26,Database_Tables!$R$6:$S$138,2,FALSE))+22>=(COUNTIF($B$6:$B$1005,Input!R26))+(VLOOKUP(Input!R26,Database_Tables!$R$6:$S$138,2,FALSE)),\"\",VLOOKUP((VLOOKUP(Input!R26,Database_Tables!$R$6:$S$138,2,FALSE))+22,$A$6:$C$1005,3,FALSE))","v":{"$error":"#N/A"}},{"$f":"IF((VLOOKUP(Input!R27,Database_Tables!$R$6:$S$138,2,FALSE))+22>=(COUNTIF($B$6:$B$1005,Input!R27))+(VLOOKUP(Input!R27,Database_Tables!$R$6:$S$138,2,FALSE)),\"\",VLOOKUP((VLOOKUP(Input!R27,Database_Tables!$R$6:$S$138,2,FALSE))+22,$A$6:$C$1005,3,FALSE))","v":{"$error":"#N/A"}},{"$f":"IF((VLOOKUP(Input!R28,Database_Tables!$R$6:$S$138,2,FALSE))+22>=(COUNTIF($B$6:$B$1005,Input!R28))+(VLOOKUP(Input!R28,Database_Tables!$R$6:$S$138,2,FALSE)),\"\",VLOOKUP((VLOOKUP(Input!R28,Database_Tables!$R$6:$S$138,2,FALSE))+22,$A$6:$C$1005,3,FALSE))","v":{"$error":"#N/A"}},{"$f":"IF((VLOOKUP(Input!R29,Database_Tables!$R$6:$S$138,2,FALSE))+22>=(COUNTIF($B$6:$B$1005,Input!R29))+(VLOOKUP(Input!R29,Database_Tables!$R$6:$S$138,2,FALSE)),\"\",VLOOKUP((VLOOKUP(Input!R29,Database_Tables!$R$6:$S$138,2,FALSE))+22,$A$6:$C$1005,3,FALSE))","v":{"$error":"#N/A"}},null,null,null,"Bulbs"]
[29,"Alfalfa","Alfalfa, fall seed senes to yr2 regrowth ",24,0.5,"tons",2000,1.5,3000,1,2500,41,null,null,null,null,3,"Cabbage",140,{"$f":"IF((VLOOKUP(Input!D25,Database_Tables!$R$6:$S$138,2,FALSE))+23>=(COUNTIF($B$6:$B$1005,Input!D25))+(VLOOKUP(Input!D25,Database_Tables!$R$6:$S$138,2,FALSE)),\"\",VLOOKUP((VLOOKUP(Input!D25,Database_Tables!$R$6:$S$138,2,FALSE))+23,$A$6:$C$1005,3,FALSE))","v":{"$error":"#N/A"}},{"$f":"IF((VLOOKUP(Input!D26,Database_Tables!$R$6:$S$138,2,FALSE))+23>=(COUNTIF($B$6:$B$1005,Input!D26))+(VLOOKUP(Input!D26,Database_Tables!$R$6:$S$138,2,FALSE)),\"\",VLOOKUP((VLOOKUP(Input!D26,Database_Tables!$R$6:$S$138,2,FALSE))+23,$A$6:$C$1005,3,FALSE))","v":{"$error":"#N/A"}},{"$f":"IF((VLOOKUP(Input!D27,Database_Tables!$R$6:$S$138,2,FALSE))+23>=(COUNTIF($B$6:$B$1005,Input!D27))+(VLOOKUP(Input!D27,Database_Tables!$R$6:$S$138,2,FALSE)),\"\",VLOOKUP((VLOOKUP(Input!D27,Database_Tables!$R$6:$S$138,2,FALSE))+23,$A$6:$C$1005,3,FALSE))","v":{"$error":"#N/A"}},{"$f":"IF((VLOOKUP(Input!D28,Database_Tables!$R$6:$S$138,2,FALSE))+23>=(COUNTIF($B$6:$B$1005,Input!D28))+(VLOOKUP(Input!D28,Database_Tables!$R$6:$S$138,2,FALSE)),\"\",VLOOKUP((VLOOKUP(Input!D28,Database_Tables!$R$6:$S$138,2,FALSE))+23,$A$6:$C$1005,3,FALSE))","v":{"$error":"#N/A"}},{"$f":"IF((VLOOKUP(Input!D29,Database_Tables!$R$6:$S$138,2,FALSE))+23>=(COUNTIF($B$6:$B$1005,Input!D29))+(VLOOKUP(Input!D29,Database_Tables!$R$6:$S$138,2,FALSE)),\"\",VLOOKUP((VLOOKUP(Input!D29,Database_Tables!$R$6:$S$138,2,FALSE))+23,$A$6:$C$1005,3,FALSE))","v":{"$error":"#N/A"}},null,{"$f":"IF((VLOOKUP(Input!R25,Database_Tables!$R$6:$S$138,2,FALSE))+23>=(COUNTIF($B$6:$B$1005,Input!R25))+(VLOOKUP(Input!R25,Database_Tables!$R$6:$S$138,2,FALSE)),\"\",VLOOKUP((VLOOKUP(Input!R25,Database_Tables!$R$6:$S$138,2,FALSE))+23,$A$6:$C$1005,3,FALSE))","v":{"$error":"#N/A"}},{"$f":"IF((VLOOKUP(Input!R26,Database_Tables!$R$6:$S$138,2,FALSE))+23>=(COUNTIF($B$6:$B$1005,Input!R26))+(VLOOKUP(Input!R26,Database_Tables!$R$6:$S$138,2,FALSE)),\"\",VLOOKUP((VLOOKUP(Input!R26,Database_Tables!$R$6:$S$138,2,FALSE))+23,$A$6:$C$1005,3,FALSE))","v":{"$error":"#N/A"}},{"$f":"IF((VLOOKUP(Input!R27,Database_Tables!$R$6:$S$138,2,FALSE))+23>=(COUNTIF($B$6:$B$1005,Input!R27))+(VLOOKUP(Input!R27,Database_Tables!$R$6:$S$138,2,FALSE)),\"\",VLOOKUP((VLOOKUP(Input!R27,Database_Tables!$R$6:$S$138,2,FALSE))+23,$A$6:$C$1005,3,FALSE))","v":{"$error":"#N/A"}},{"$f":"IF((VLOOKUP(Input!R28,Database_Tables!$R$6:$S$138,2,FALSE))+23>=(COUNTIF($B$6:$B$1005,Input!R28))+(VLOOKUP(Input!R28,Database_Tables!$R$6:$S$138,2,FALSE)),\"\",VLOOKUP((VLOOKUP(Input!R28,Database_Tables!$R$6:$S$138,2,FALSE))+23,$A$6:$C$1005,3,FALSE))","v":{"$error":"#N/A"}},{"$f":"IF((VLOOKUP(Input!R29,Database_Tables!$R$6:$S$138,2,FALSE))+23>=(COUNTIF($B$6:$B$1005,Input!R29))+(VLOOKUP(Input!R29,Database_Tables!$R$6:$S$138,2,FALSE)),\"\",VLOOKUP((VLOOKUP(Input!R29,Database_Tables!$R$6:$S$138,2,FALSE))+23,$A$6:$C$1005,3,FALSE))","v":{"$error":"#N/A"}},null,null,null,"Cabbage"]
[30,"Alfalfa","Alfalfa, NW fall seeding, senes to yr2 regrowth",25,0.5,"tons",2000,2,4000,1,2500,47,null,null,null,null,1,"Camelina",143,{"$f":"IF((VLOOKUP(Input!D25,Database_Tables!$R$6:$S$138,2,FALSE))+24>=(COUNTIF($B$6:$B$1005,Input!D25))+(VLOOKUP(Input!D25,Database_Tables!$R$6:$S$138,2,FALSE)),\"\",VLOOKUP((VLOOKUP(Input!D25,Database_Tables!$R$6:$S$138,2,FALSE))+24,$A$6:$C$1005,3,FALSE))","v":{"$error":"#N/A"}},{"$f":"IF((VLOOKUP(Input!D26,Database_Tables!$R$6:$S$138,2,FALSE))+24>=(COUNTIF($B$6:$B$1005,Input!D26))+(VLOOKUP(Input!D26,Database_Tables!$R$6:$S$138,2,FALSE)),\"\",VLOOKUP((VLOOKUP(Input!D26,Database_Tables!$R$6:$S$138,2,FALSE))+24,$A$6:$C$1005,3,FALSE))","v":{"$error":"#N/A"}},{"$f":"IF((VLOOKUP(Input!D27,Database_Tables!$R$6:$S$138,2,FALSE))+24>=(COUNTIF($B$6:$B$1005,Input!D27))+(VLOOKUP(Input!D27,Database_Tables!$R$6:$S$138,2,FALSE)),\"\",VLOOKUP((VLOOKUP(Input!D27,Database_Tables!$R$6:$S$138,2,FALSE))+24,$A$6:$C$1005,3,FALSE))","v":{"$error":"#N/A"}},{"$f":"IF((VLOOKUP(Input!D28,Database_Tables!$R$6:$S$138,2,FALSE))+24>=(COUNTIF($B$6:$B$1005,Input!D28))+(VLOOKUP(Input!D28,Database_Tables!$R$6:$S$138,2,FALSE)),\"\",VLOOKUP((VLOOKUP(Input!D28,Database_Tables!$R$6:$S$138,2,FALSE))+24,$A$6:$C$1005,3,FALSE))","v":{"$error":"#N/A"}},{"$f":"IF((VLOOKUP(Input!D29,Database_Tables!$R$6:$S$138,2,FALSE))+24>=(COUNTIF($B$6:$B$1005,Input!D29))+(VLOOKUP(Input!D29,Database_Tables!$R$6:$S$138,2,FALSE)),\"\",VLOOKUP((VLOOKUP(Input!D29,Database_Tables!$R$6:$S$138,2,FALSE))+24,$A$6:$C$1005,3,FALSE))","v":{"$error":"#N/A"}},null,{"$f":"IF((VLOOKUP(Input!R25,Database_Tables!$R$6:$S$138,2,FALSE))+24>=(COUNTIF($B$6:$B$1005,Input!R25))+(VLOOKUP(Input!R25,Database_Tables!$R$6:$S$138,2,FALSE)),\"\",VLOOKUP((VLOOKUP(Input!R25,Database_Tables!$R$6:$S$138,2,FALSE))+24,$A$6:$C$1005,3,FALSE))","v":{"$error":"#N/A"}},{"$f":"IF((VLOOKUP(Input!R26,Database_Tables!$R$6:$S$138,2,FALSE))+24>=(COUNTIF($B$6:$B$1005,Input!R26))+(VLOOKUP(Input!R26,Database_Tables!$R$6:$S$138,2,FALSE)),\"\",VLOOKUP((VLOOKUP(Input!R26,Database_Tables!$R$6:$S$138,2,FALSE))+24,$A$6:$C$1005,3,FALSE))","v":{"$error":"#N/A"}},{"$f":"IF((VLOOKUP(Input!R27,Database_Tables!$R$6:$S$138,2,FALSE))+24>=(COUNTIF($B$6:$B$1005,Input!R27))+(VLOOKUP(Input!R27,Database_Tables!$R$6:$S$138,2,FALSE)),\"\",VLOOKUP((VLOOKUP(Input!R27,Database_Tables!$R$6:$S$138,2,FALSE))+24,$A$6:$C$1005,3,FALSE))","v":{"$error":"#N/A"}},{"$f":"IF((VLOOKUP(Input!R28,Database_Tables!$R$6:$S$138,2,FALSE))+24>=(COUNTIF($B$6:$B$1005,Input!R28))+(VLOOKUP(Input!R28,Database_Tables!$R$6:$S$138,2,FALSE)),\"\",VLOOKUP((VLOOKUP(Input!R28,Database_Tables!$R$6:$S$138,2,FALSE))+24,$A$6:$C$1005,3,FALSE))","v":{"$error":"#N/A"}},{"$f":"IF((VLOOKUP(Input!R29,Database_Tables!$R$6:$S$138,2,FALSE))+24>=(COUNTIF($B$6:$B$1005,Input!R29))+(VLOOKUP(Input!R29,Database_Tables!$R$6:$S$138,2,FALSE)),\"\",VLOOKUP((VLOOKUP(Input!R29,Database_Tables!$R$6:$S$138,2,FALSE))+24,$A$6:$C$1005,3,FALSE))","v":{"$error":"#N/A"}},null,null,null,"Camelina"]
[31,"Alfalfa","Alfalfa, NW spring seeding, senes to yr2 regrowth",26,0.5,"tons",2000,2.5,5000,1,2500,49,null,null,null,null,2,"Canola",144,{"$f":"IF((VLOOKUP(Input!D25,Database_Tables!$R$6:$S$138,2,FALSE))+25>=(COUNTIF($B$6:$B$1005,Input!D25))+(VLOOKUP(Input!D25,Database_Tables!$R$6:$S$138,2,FALSE)),\"\",VLOOKUP((VLOOKUP(Input!D25,Database_Tables!$R$6:$S$138,2,FALSE))+25,$A$6:$C$1005,3,FALSE))","v":{"$error":"#N/A"}},{"$f":"IF((VLOOKUP(Input!D26,Database_Tables!$R$6:$S$138,2,FALSE))+25>=(COUNTIF($B$6:$B$1005,Input!D26))+(VLOOKUP(Input!D26,Database_Tables!$R$6:$S$138,2,FALSE)),\"\",VLOOKUP((VLOOKUP(Input!D26,Database_Tables!$R$6:$S$138,2,FALSE))+25,$A$6:$C$1005,3,FALSE))","v":{"$error":"#N/A"}},{"$f":"IF((VLOOKUP(Input!D27,Database_Tables!$R$6:$S$138,2,FALSE))+25>=(COUNTIF($B$6:$B$1005,Input!D27))+(VLOOKUP(Input!D27,Database_Tables!$R$6:$S$138,2,FALSE)),\"\",VLOOKUP((VLOOKUP(Input!D27,Database_Tables!$R$6:$S$138,2,FALSE))+25,$A$6:$C$1005,3,FALSE))","v":{"$error":"#N/A"}},{"$f":"IF((VLOOKUP(Input!D28,Database_Tables!$R$6:$S$138,2,FALSE))+25>=(COUNTIF($B$6:$B$1005,Input!D28))+(VLOOKUP(Input!D28,Database_Tables!$R$6:$S$138,2,FALSE)),\"\",VLOOKUP((VLOOKUP(Input!D28,Database_Tables!$R$6:$S$138,2,FALSE))+25,$A$6:$C$1005,3,FALSE))","v":{"$error":"#N/A"}},{"$f":"IF((VLOOKUP(Input!D29,Database_Tables!$R$6:$S$138,2,FALSE))+25>=(COUNTIF($B$6:$B$1005,Input!D29))+(VLOOKUP(Input!D29,Database_Tables!$R$6:$S$138,2,FALSE)),\"\",VLOOKUP((VLOOKUP(Input!D29,Database_Tables!$R$6:$S$138,2,FALSE))+25,$A$6:$C$1005,3,FALSE))","v":{"$error":"#N/A"}},null,{"$f":"IF((VLOOKUP(Input!R25,Database_Tables!$R$6:$S$138,2,FALSE))+25>=(COUNTIF($B$6:$B$1005,Input!R25))+(VLOOKUP(Input!R25,Database_Tables!$R$6:$S$138,2,FALSE)),\"\",VLOOKUP((VLOOKUP(Input!R25,Database_Tables!$R$6:$S$138,2,FALSE))+25,$A$6:$C$1005,3,FALSE))","v":{"$error":"#N/A"}},{"$f":"IF((VLOOKUP(Input!R26,Database_Tables!$R$6:$S$138,2,FALSE))+25>=(COUNTIF($B$6:$B$1005,Input!R26))+(VLOOKUP(Input!R26,Database_Tables!$R$6:$S$138,2,FALSE)),\"\",VLOOKUP((VLOOKUP(Input!R26,Database_Tables!$R$6:$S$138,2,FALSE))+25,$A$6:$C$1005,3,FALSE))","v":{"$error":"#N/A"}},{"$f":"IF((VLOOKUP(Input!R27,Database_Tables!$R$6:$S$138,2,FALSE))+25>=(COUNTIF($B$6:$B$1005,Input!R27))+(VLOOKUP(Input!R27,Database_Tables!$R$6:$S$138,2,FALSE)),\"\",VLOOKUP((VLOOKUP(Input!R27,Database_Tables!$R$6:$S$138,2,FALSE))+25,$A$6:$C$1005,3,FALSE))","v":{"$error":"#N/A"}},{"$f":"IF((VLOOKUP(Input!R28,Database_Tables!$R$6:$S$138,2,FALSE))+25>=(COUNTIF($B$6:$B$1005,Input!R28))+(VLOOKUP(Input!R28,Database_Tables!$R$6:$S$138,2,FALSE)),\"\",VLOOKUP((VLOOKUP(Input!R28,Database_Tables!$R$6:$S$138,2,FALSE))+25,$A$6:$C$1005,3,FALSE))","v":{"$error":"#N/A"}},{"$f":"IF((VLOOKUP(Input!R29,Database_Tables!$R$6:$S$138,2,FALSE))+25>=(COUNTIF($B$6:$B$1005,Input!R29))+(VLOOKUP(Input!R29,Database_Tables!$R$6:$S$138,2,FALSE)),\"\",VLOOKUP((VLOOKUP(Input!R29,Database_Tables!$R$6:$S$138,2,FALSE))+25,$A$6:$C$1005,3,FALSE))","v":{"$error":"#N/A"}},null,null,null,"Canola"]
[32,"Alfalfa","Alfalfa, NW yr2 regrowth after cutting ",27,0.5,"tons",2000,1.5,3000,1,2500,39,null,null,null,null,2,"Cantaloupe",146,{"$f":"IF((VLOOKUP(Input!D25,Database_Tables!$R$6:$S$138,2,FALSE))+26>=(COUNTIF($B$6:$B$1005,Input!D25))+(VLOOKUP(Input!D25,Database_Tables!$R$6:$S$138,2,FALSE)),\"\",VLOOKUP((VLOOKUP(Input!D25,Database_Tables!$R$6:$S$138,2,FALSE))+26,$A$6:$C$1005,3,FALSE))","v":{"$error":"#N/A"}},{"$f":"IF((VLOOKUP(Input!D26,Database_Tables!$R$6:$S$138,2,FALSE))+26>=(COUNTIF($B$6:$B$1005,Input!D26))+(VLOOKUP(Input!D26,Database_Tables!$R$6:$S$138,2,FALSE)),\"\",VLOOKUP((VLOOKUP(Input!D26,Database_Tables!$R$6:$S$138,2,FALSE))+26,$A$6:$C$1005,3,FALSE))","v":{"$error":"#N/A"}},{"$f":"IF((VLOOKUP(Input!D27,Database_Tables!$R$6:$S$138,2,FALSE))+26>=(COUNTIF($B$6:$B$1005,Input!D27))+(VLOOKUP(Input!D27,Database_Tables!$R$6:$S$138,2,FALSE)),\"\",VLOOKUP((VLOOKUP(Input!D27,Database_Tables!$R$6:$S$138,2,FALSE))+26,$A$6:$C$1005,3,FALSE))","v":{"$error":"#N/A"}},{"$f":"IF((VLOOKUP(Input!D28,Database_Tables!$R$6:$S$138,2,FALSE))+26>=(COUNTIF($B$6:$B$1005,Input!D28))+(VLOOKUP(Input!D28,Database_Tables!$R$6:$S$138,2,FALSE)),\"\",VLOOKUP((VLOOKUP(Input!D28,Database_Tables!$R$6:$S$138,2,FALSE))+26,$A$6:$C$1005,3,FALSE))","v":{"$error":"#N/A"}},{"$f":"IF((VLOOKUP(Input!D29,Database_Tables!$R$6:$S$138,2,FALSE))+26>=(COUNTIF($B$6:$B$1005,Input!D29))+(VLOOKUP(Input!D29,Database_Tables!$R$6:$S$138,2,FALSE)),\"\",VLOOKUP((VLOOKUP(Input!D29,Database_Tables!$R$6:$S$138,2,FALSE))+26,$A$6:$C$1005,3,FALSE))","v":{"$error":"#N/A"}},null,{"$f":"IF((VLOOKUP(Input!R25,Database_Tables!$R$6:$S$138,2,FALSE))+26>=(COUNTIF($B$6:$B$1005,Input!R25))+(VLOOKUP(Input!R25,Database_Tables!$R$6:$S$138,2,FALSE)),\"\",VLOOKUP((VLOOKUP(Input!R25,Database_Tables!$R$6:$S$138,2,FALSE))+26,$A$6:$C$1005,3,FALSE))","v":{"$error":"#N/A"}},{"$f":"IF((VLOOKUP(Input!R26,Database_Tables!$R$6:$S$138,2,FALSE))+26>=(COUNTIF($B$6:$B$1005,Input!R26))+(VLOOKUP(Input!R26,Database_Tables!$R$6:$S$138,2,FALSE)),\"\",VLOOKUP((VLOOKUP(Input!R26,Database_Tables!$R$6:$S$138,2,FALSE))+26,$A$6:$C$1005,3,FALSE))","v":{"$error":"#N/A"}},{"$f":"IF((VLOOKUP(Input!R27,Database_Tables!$R$6:$S$138,2,FALSE))+26>=(COUNTIF($B$6:$B$1005,Input!R27))+(VLOOKUP(Input!R27,Database_Tables!$R$6:$S$138,2,FALSE)),\"\",VLOOKUP((VLOOKUP(Input!R27,Database_Tables!$R$6:$S$138,2,FALSE))+26,$A$6:$C$1005,3,FALSE))","v":{"$error":"#N/A"}},{"$f":"IF((VLOOKUP(Input!R28,Database_Tables!$R$6:$S$138,2,FALSE))+26>=(COUNTIF($B$6:$B$1005,Input!R28))+(VLOOKUP(Input!R28,Database_Tables!$R$6:$S$138,2,FALSE)),\"\",VLOOKUP((VLOOKUP(Input!R28,Database_Tables!$R$6:$S$138,2,FALSE))+26,$A$6:$C$1005,3,FALSE))","v":{"$error":"#N/A"}},{"$f":"IF((VLOOKUP(Input!R29,Database_Tables!$R$6:$S$138,2,FALSE))+26>=(COUNTIF($B$6:$B$1005,Input!R29))+(VLOOKUP(Input!R29,Database_Tables!$R$6:$S$138,2,FALSE)),\"\",VLOOKUP((VLOOKUP(Input!R29,Database_Tables!$R$6:$S$138,2,FALSE))+26,$A$6:$C$1005,3,FALSE))","v":{"$error":"#N/A"}},null,null,null,"Cantaloupe"]
[33,"Alfalfa","Alfalfa, NW yr2 senes to yr3 regrowth",28,0.5,"tons",2000,2.5,5000,1,3000,37,null,null,null,null,5,"Carrot",148,{"$f":"IF((VLOOKUP(Input!D25,Database_Tables!$R$6:$S$138,2,FALSE))+27>=(COUNTIF($B$6:$B$1005,Input!D25))+(VLOOKUP(Input!D25,Database_Tables!$R$6:$S$138,2,FALSE)),\"\",VLOOKUP((VLOOKUP(Input!D25,Database_Tables!$R$6:$S$138,2,FALSE))+27,$A$6:$C$1005,3,FALSE))","v":{"$error":"#N/A"}},{"$f":"IF((VLOOKUP(Input!D26,Database_Tables!$R$6:$S$138,2,FALSE))+27>=(COUNTIF($B$6:$B$1005,Input!D26))+(VLOOKUP(Input!D26,Database_Tables!$R$6:$S$138,2,FALSE)),\"\",VLOOKUP((VLOOKUP(Input!D26,Database_Tables!$R$6:$S$138,2,FALSE))+27,$A$6:$C$1005,3,FALSE))","v":{"$error":"#N/A"}},{"$f":"IF((VLOOKUP(Input!D27,Database_Tables!$R$6:$S$138,2,FALSE))+27>=(COUNTIF($B$6:$B$1005,Input!D27))+(VLOOKUP(Input!D27,Database_Tables!$R$6:$S$138,2,FALSE)),\"\",VLOOKUP((VLOOKUP(Input!D27,Database_Tables!$R$6:$S$138,2,FALSE))+27,$A$6:$C$1005,3,FALSE))","v":{"$error":"#N/A"}},{"$f":"IF((VLOOKUP(Input!D28,Database_Tables!$R$6:$S$138,2,FALSE))+27>=(COUNTIF($B$6:$B$1005,Input!D28))+(VLOOKUP(Input!D28,Database_Tables!$R$6:$S$138,2,FALSE)),\"\",VLOOKUP((VLOOKUP(Input!D28,Database_Tables!$R$6:$S$138,2,FALSE))+27,$A$6:$C$1005,3,FALSE))","v":{"$error":"#N/A"}},{"$f":"IF((VLOOKUP(Input!D29,Database_Tables!$R$6:$S$138,2,FALSE))+27>=(COUNTIF($B$6:$B$1005,Input!D29))+(VLOOKUP(Input!D29,Database_Tables!$R$6:$S$138,2,FALSE)),\"\",VLOOKUP((VLOOKUP(Input!D29,Database_Tables!$R$6:$S$138,2,FALSE))+27,$A$6:$C$1005,3,FALSE))","v":{"$error":"#N/A"}},null,{"$f":"IF((VLOOKUP(Input!R25,Database_Tables!$R$6:$S$138,2,FALSE))+27>=(COUNTIF($B$6:$B$1005,Input!R25))+(VLOOKUP(Input!R25,Database_Tables!$R$6:$S$138,2,FALSE)),\"\",VLOOKUP((VLOOKUP(Input!R25,Database_Tables!$R$6:$S$138,2,FALSE))+27,$A$6:$C$1005,3,FALSE))","v":{"$error":"#N/A"}},{"$f":"IF((VLOOKUP(Input!R26,Database_Tables!$R$6:$S$138,2,FALSE))+27>=(COUNTIF($B$6:$B$1005,Input!R26))+(VLOOKUP(Input!R26,Database_Tables!$R$6:$S$138,2,FALSE)),\"\",VLOOKUP((VLOOKUP(Input!R26,Database_Tables!$R$6:$S$138,2,FALSE))+27,$A$6:$C$1005,3,FALSE))","v":{"$error":"#N/A"}},{"$f":"IF((VLOOKUP(Input!R27,Database_Tables!$R$6:$S$138,2,FALSE))+27>=(COUNTIF($B$6:$B$1005,Input!R27))+(VLOOKUP(Input!R27,Database_Tables!$R$6:$S$138,2,FALSE)),\"\",VLOOKUP((VLOOKUP(Input!R27,Database_Tables!$R$6:$S$138,2,FALSE))+27,$A$6:$C$1005,3,FALSE))","v":{"$error":"#N/A"}},{"$f":"IF((VLOOKUP(Input!R28,Database_Tables!$R$6:$S$138,2,FALSE))+27>=(COUNTIF($B$6:$B$1005,Input!R28))+(VLOOKUP(Input!R28,Database_Tables!$R$6:$S$138,2,FALSE)),\"\",VLOOKUP((VLOOKUP(Input!R28,Database_Tables!$R$6:$S$138,2,FALSE))+27,$A$6:$C$1005,3,FALSE))","v":{"$error":"#N/A"}},{"$f":"IF((VLOOKUP(Input!R29,Database_Tables!$R$6:$S$138,2,FALSE))+27>=(COUNTIF($B$6:$B$1005,Input!R29))+(VLOOKUP(Input!R29,Database_Tables!$R$6:$S$138,2,FALSE)),\"\",VLOOKUP((VLOOKUP(Input!R29,Database_Tables!$R$6:$S$138,2,FALSE))+27,$A$6:$C$1005,3,FALSE))","v":{"$error":"#N/A"}},null,null,null,"Carrot"]
[34,"Alfalfa","Alfalfa, NW yr3 regrowth after cutting ",29,0.5,"tons",2000,1.7,3400,1,3000,39,null,null,null,null,2,"Cauliflower",153,{"$f":"IF((VLOOKUP(Input!D25,Database_Tables!$R$6:$S$138,2,FALSE))+28>=(COUNTIF($B$6:$B$1005,Input!D25))+(VLOOKUP(Input!D25,Database_Tables!$R$6:$S$138,2,FALSE)),\"\",VLOOKUP((VLOOKUP(Input!D25,Database_Tables!$R$6:$S$138,2,FALSE))+28,$A$6:$C$1005,3,FALSE))","v":{"$error":"#N/A"}},{"$f":"IF((VLOOKUP(Input!D26,Database_Tables!$R$6:$S$138,2,FALSE))+28>=(COUNTIF($B$6:$B$1005,Input!D26))+(VLOOKUP(Input!D26,Database_Tables!$R$6:$S$138,2,FALSE)),\"\",VLOOKUP((VLOOKUP(Input!D26,Database_Tables!$R$6:$S$138,2,FALSE))+28,$A$6:$C$1005,3,FALSE))","v":{"$error":"#N/A"}},{"$f":"IF((VLOOKUP(Input!D27,Database_Tables!$R$6:$S$138,2,FALSE))+28>=(COUNTIF($B$6:$B$1005,Input!D27))+(VLOOKUP(Input!D27,Database_Tables!$R$6:$S$138,2,FALSE)),\"\",VLOOKUP((VLOOKUP(Input!D27,Database_Tables!$R$6:$S$138,2,FALSE))+28,$A$6:$C$1005,3,FALSE))","v":{"$error":"#N/A"}},{"$f":"IF((VLOOKUP(Input!D28,Database_Tables!$R$6:$S$138,2,FALSE))+28>=(COUNTIF($B$6:$B$1005,Input!D28))+(VLOOKUP(Input!D28,Database_Tables!$R$6:$S$138,2,FALSE)),\"\",VLOOKUP((VLOOKUP(Input!D28,Database_Tables!$R$6:$S$138,2,FALSE))+28,$A$6:$C$1005,3,FALSE))","v":{"$error":"#N/A"}},{"$f":"IF((VLOOKUP(Input!D29,Database_Tables!$R$6:$S$138,2,FALSE))+28>=(COUNTIF($B$6:$B$1005,Input!D29))+(VLOOKUP(Input!D29,Database_Tables!$R$6:$S$138,2,FALSE)),\"\",VLOOKUP((VLOOKUP(Input!D29,Database_Tables!$R$6:$S$138,2,FALSE))+28,$A$6:$C$1005,3,FALSE))","v":{"$error":"#N/A"}},null,{"$f":"IF((VLOOKUP(Input!R25,Database_Tables!$R$6:$S$138,2,FALSE))+28>=(COUNTIF($B$6:$B$1005,Input!R25))+(VLOOKUP(Input!R25,Database_Tables!$R$6:$S$138,2,FALSE)),\"\",VLOOKUP((VLOOKUP(Input!R25,Database_Tables!$R$6:$S$138,2,FALSE))+28,$A$6:$C$1005,3,FALSE))","v":{"$error":"#N/A"}},{"$f":"IF((VLOOKUP(Input!R26,Database_Tables!$R$6:$S$138,2,FALSE))+28>=(COUNTIF($B$6:$B$1005,Input!R26))+(VLOOKUP(Input!R26,Database_Tables!$R$6:$S$138,2,FALSE)),\"\",VLOOKUP((VLOOKUP(Input!R26,Database_Tables!$R$6:$S$138,2,FALSE))+28,$A$6:$C$1005,3,FALSE))","v":{"$error":"#N/A"}},{"$f":"IF((VLOOKUP(Input!R27,Database_Tables!$R$6:$S$138,2,FALSE))+28>=(COUNTIF($B$6:$B$1005,Input!R27))+(VLOOKUP(Input!R27,Database_Tables!$R$6:$S$138,2,FALSE)),\"\",VLOOKUP((VLOOKUP(Input!R27,Database_Tables!$R$6:$S$138,2,FALSE))+28,$A$6:$C$1005,3,FALSE))","v":{"$error":"#N/A"}},{"$f":"IF((VLOOKUP(Input!R28,Database_Tables!$R$6:$S$138,2,FALSE))+28>=(COUNTIF($B$6:$B$1005,Input!R28))+(VLOOKUP(Input!R28,Database_Tables!$R$6:$S$138,2,FALSE)),\"\",VLOOKUP((VLOOKUP(Input!R28,Database_Tables!$R$6:$S$138,2,FALSE))+28,$A$6:$C$1005,3,FALSE))","v":{"$error":"#N/A"}},{"$f":"IF((VLOOKUP(Input!R29,Database_Tables!$R$6:$S$138,2,FALSE))+28>=(COUNTIF($B$6:$B$1005,Input!R29))+(VLOOKUP(Input!R29,Database_Tables!$R$6:$S$138,2,FALSE)),\"\",VLOOKUP((VLOOKUP(Input!R29,Database_Tables!$R$6:$S$138,2,FALSE))+28,$A$6:$C$1005,3,FALSE))","v":{"$error":"#N/A"}},null,null,null,"Cauliflower"]
[35,"Alfalfa","Alfalfa, NW yr3 senes to yr4 regrowth",30,0.5,"tons",2000,2.5,5000,1,3500,37,null,null,null,null,2,"Celery",155,{"$f":"IF((VLOOKUP(Input!D25,Database_Tables!$R$6:$S$138,2,FALSE))+29>=(COUNTIF($B$6:$B$1005,Input!D25))+(VLOOKUP(Input!D25,Database_Tables!$R$6:$S$138,2,FALSE)),\"\",VLOOKUP((VLOOKUP(Input!D25,Database_Tables!$R$6:$S$138,2,FALSE))+29,$A$6:$C$1005,3,FALSE))","v":{"$error":"#N/A"}},{"$f":"IF((VLOOKUP(Input!D26,Database_Tables!$R$6:$S$138,2,FALSE))+29>=(COUNTIF($B$6:$B$1005,Input!D26))+(VLOOKUP(Input!D26,Database_Tables!$R$6:$S$138,2,FALSE)),\"\",VLOOKUP((VLOOKUP(Input!D26,Database_Tables!$R$6:$S$138,2,FALSE))+29,$A$6:$C$1005,3,FALSE))","v":{"$error":"#N/A"}},{"$f":"IF((VLOOKUP(Input!D27,Database_Tables!$R$6:$S$138,2,FALSE))+29>=(COUNTIF($B$6:$B$1005,Input!D27))+(VLOOKUP(Input!D27,Database_Tables!$R$6:$S$138,2,FALSE)),\"\",VLOOKUP((VLOOKUP(Input!D27,Database_Tables!$R$6:$S$138,2,FALSE))+29,$A$6:$C$1005,3,FALSE))","v":{"$error":"#N/A"}},{"$f":"IF((VLOOKUP(Input!D28,Database_Tables!$R$6:$S$138,2,FALSE))+29>=(COUNTIF($B$6:$B$1005,Input!D28))+(VLOOKUP(Input!D28,Database_Tables!$R$6:$S$138,2,FALSE)),\"\",VLOOKUP((VLOOKUP(Input!D28,Database_Tables!$R$6:$S$138,2,FALSE))+29,$A$6:$C$1005,3,FALSE))","v":{"$error":"#N/A"}},{"$f":"IF((VLOOKUP(Input!D29,Database_Tables!$R$6:$S$138,2,FALSE))+29>=(COUNTIF($B$6:$B$1005,Input!D29))+(VLOOKUP(Input!D29,Database_Tables!$R$6:$S$138,2,FALSE)),\"\",VLOOKUP((VLOOKUP(Input!D29,Database_Tables!$R$6:$S$138,2,FALSE))+29,$A$6:$C$1005,3,FALSE))","v":{"$error":"#N/A"}},null,{"$f":"IF((VLOOKUP(Input!R25,Database_Tables!$R$6:$S$138,2,FALSE))+29>=(COUNTIF($B$6:$B$1005,Input!R25))+(VLOOKUP(Input!R25,Database_Tables!$R$6:$S$138,2,FALSE)),\"\",VLOOKUP((VLOOKUP(Input!R25,Database_Tables!$R$6:$S$138,2,FALSE))+29,$A$6:$C$1005,3,FALSE))","v":{"$error":"#N/A"}},{"$f":"IF((VLOOKUP(Input!R26,Database_Tables!$R$6:$S$138,2,FALSE))+29>=(COUNTIF($B$6:$B$1005,Input!R26))+(VLOOKUP(Input!R26,Database_Tables!$R$6:$S$138,2,FALSE)),\"\",VLOOKUP((VLOOKUP(Input!R26,Database_Tables!$R$6:$S$138,2,FALSE))+29,$A$6:$C$1005,3,FALSE))","v":{"$error":"#N/A"}},{"$f":"IF((VLOOKUP(Input!R27,Database_Tables!$R$6:$S$138,2,FALSE))+29>=(COUNTIF($B$6:$B$1005,Input!R27))+(VLOOKUP(Input!R27,Database_Tables!$R$6:$S$138,2,FALSE)),\"\",VLOOKUP((VLOOKUP(Input!R27,Database_Tables!$R$6:$S$138,2,FALSE))+29,$A$6:$C$1005,3,FALSE))","v":{"$error":"#N/A"}},{"$f":"IF((VLOOKUP(Input!R28,Database_Tables!$R$6:$S$138,2,FALSE))+29>=(COUNTIF($B$6:$B$1005,Input!R28))+(VLOOKUP(Input!R28,Database_Tables!$R$6:$S$138,2,FALSE)),\"\",VLOOKUP((VLOOKUP(Input!R28,Database_Tables!$R$6:$S$138,2,FALSE))+29,$A$6:$C$1005,3,FALSE))","v":{"$error":"#N/A"}},{"$f":"IF((VLOOKUP(Input!R29,Database_Tables!$R$6:$S$138,2,FALSE))+29>=(COUNTIF($B$6:$B$1005,Input!R29))+(VLOOKUP(Input!R29,Database_Tables!$R$6:$S$138,2,FALSE)),\"\",VLOOKUP((VLOOKUP(Input!R29,Database_Tables!$R$6:$S$138,2,FALSE))+29,$A$6:$C$1005,3,FALSE))","v":{"$error":"#N/A"}},null,null,null,"Celery"]
[36,"Alfalfa","Alfalfa, South, fall seed senes to yr2 regrowth",31,0.5,"tons",2000,1.5,3000,1,2500,47,null,null,null,null,1,"Chickpea ",157,{"$f":"IF((VLOOKUP(Input!D25,Database_Tables!$R$6:$S$138,2,FALSE))+30>=(COUNTIF($B$6:$B$1005,Input!D25))+(VLOOKUP(Input!D25,Database_Tables!$R$6:$S$138,2,FALSE)),\"\",VLOOKUP((VLOOKUP(Input!D25,Database_Tables!$R$6:$S$138,2,FALSE))+30,$A$6:$C$1005,3,FALSE))","v":{"$error":"#N/A"}},{"$f":"IF((VLOOKUP(Input!D26,Database_Tables!$R$6:$S$138,2,FALSE))+30>=(COUNTIF($B$6:$B$1005,Input!D26))+(VLOOKUP(Input!D26,Database_Tables!$R$6:$S$138,2,FALSE)),\"\",VLOOKUP((VLOOKUP(Input!D26,Database_Tables!$R$6:$S$138,2,FALSE))+30,$A$6:$C$1005,3,FALSE))","v":{"$error":"#N/A"}},{"$f":"IF((VLOOKUP(Input!D27,Database_Tables!$R$6:$S$138,2,FALSE))+30>=(COUNTIF($B$6:$B$1005,Input!D27))+(VLOOKUP(Input!D27,Database_Tables!$R$6:$S$138,2,FALSE)),\"\",VLOOKUP((VLOOKUP(Input!D27,Database_Tables!$R$6:$S$138,2,FALSE))+30,$A$6:$C$1005,3,FALSE))","v":{"$error":"#N/A"}},{"$f":"IF((VLOOKUP(Input!D28,Database_Tables!$R$6:$S$138,2,FALSE))+30>=(COUNTIF($B$6:$B$1005,Input!D28))+(VLOOKUP(Input!D28,Database_Tables!$R$6:$S$138,2,FALSE)),\"\",VLOOKUP((VLOOKUP(Input!D28,Database_Tables!$R$6:$S$138,2,FALSE))+30,$A$6:$C$1005,3,FALSE))","v":{"$error":"#N/A"}},{"$f":"IF((VLOOKUP(Input!D29,Database_Tables!$R$6:$S$138,2,FALSE))+30>=(COUNTIF($B$6:$B$1005,Input!D29))+(VLOOKUP(Input!D29,Database_Tables!$R$6:$S$138,2,FALSE)),\"\",VLOOKUP((VLOOKUP(Input!D29,Database_Tables!$R$6:$S$138,2,FALSE))+30,$A$6:$C$1005,3,FALSE))","v":{"$error":"#N/A"}},null,{"$f":"IF((VLOOKUP(Input!R25,Database_Tables!$R$6:$S$138,2,FALSE))+30>=(COUNTIF($B$6:$B$1005,Input!R25))+(VLOOKUP(Input!R25,Database_Tables!$R$6:$S$138,2,FALSE)),\"\",VLOOKUP((VLOOKUP(Input!R25,Database_Tables!$R$6:$S$138,2,FALSE))+30,$A$6:$C$1005,3,FALSE))","v":{"$error":"#N/A"}},{"$f":"IF((VLOOKUP(Input!R26,Database_Tables!$R$6:$S$138,2,FALSE))+30>=(COUNTIF($B$6:$B$1005,Input!R26))+(VLOOKUP(Input!R26,Database_Tables!$R$6:$S$138,2,FALSE)),\"\",VLOOKUP((VLOOKUP(Input!R26,Database_Tables!$R$6:$S$138,2,FALSE))+30,$A$6:$C$1005,3,FALSE))","v":{"$error":"#N/A"}},{"$f":"IF((VLOOKUP(Input!R27,Database_Tables!$R$6:$S$138,2,FALSE))+30>=(COUNTIF($B$6:$B$1005,Input!R27))+(VLOOKUP(Input!R27,Database_Tables!$R$6:$S$138,2,FALSE)),\"\",VLOOKUP((VLOOKUP(Input!R27,Database_Tables!$R$6:$S$138,2,FALSE))+30,$A$6:$C$1005,3,FALSE))","v":{"$error":"#N/A"}},{"$f":"IF((VLOOKUP(Input!R28,Database_Tables!$R$6:$S$138,2,FALSE))+30>=(COUNTIF($B$6:$B$1005,Input!R28))+(VLOOKUP(Input!R28,Database_Tables!$R$6:$S$138,2,FALSE)),\"\",VLOOKUP((VLOOKUP(Input!R28,Database_Tables!$R$6:$S$138,2,FALSE))+30,$A$6:$C$1005,3,FALSE))","v":{"$error":"#N/A"}},{"$f":"IF((VLOOKUP(Input!R29,Database_Tables!$R$6:$S$138,2,FALSE))+30>=(COUNTIF($B$6:$B$1005,Input!R29))+(VLOOKUP(Input!R29,Database_Tables!$R$6:$S$138,2,FALSE)),\"\",VLOOKUP((VLOOKUP(Input!R29,Database_Tables!$R$6:$S$138,2,FALSE))+30,$A$6:$C$1005,3,FALSE))","v":{"$error":"#N/A"}},null,null,null,"Chickpea "]
[37,"Alfalfa","Alfalfa, South, spring seed senes to y2 regrowth",32,0.5,"tons",2000,1.5,3000,1,1600,48,null,null,null,null,2,"Chicory",158,{"$f":"IF((VLOOKUP(Input!D25,Database_Tables!$R$6:$S$138,2,FALSE))+31>=(COUNTIF($B$6:$B$1005,Input!D25))+(VLOOKUP(Input!D25,Database_Tables!$R$6:$S$138,2,FALSE)),\"\",VLOOKUP((VLOOKUP(Input!D25,Database_Tables!$R$6:$S$138,2,FALSE))+31,$A$6:$C$1005,3,FALSE))","v":{"$error":"#N/A"}},{"$f":"IF((VLOOKUP(Input!D26,Database_Tables!$R$6:$S$138,2,FALSE))+31>=(COUNTIF($B$6:$B$1005,Input!D26))+(VLOOKUP(Input!D26,Database_Tables!$R$6:$S$138,2,FALSE)),\"\",VLOOKUP((VLOOKUP(Input!D26,Database_Tables!$R$6:$S$138,2,FALSE))+31,$A$6:$C$1005,3,FALSE))","v":{"$error":"#N/A"}},{"$f":"IF((VLOOKUP(Input!D27,Database_Tables!$R$6:$S$138,2,FALSE))+31>=(COUNTIF($B$6:$B$1005,Input!D27))+(VLOOKUP(Input!D27,Database_Tables!$R$6:$S$138,2,FALSE)),\"\",VLOOKUP((VLOOKUP(Input!D27,Database_Tables!$R$6:$S$138,2,FALSE))+31,$A$6:$C$1005,3,FALSE))","v":{"$error":"#N/A"}},{"$f":"IF((VLOOKUP(Input!D28,Database_Tables!$R$6:$S$138,2,FALSE))+31>=(COUNTIF($B$6:$B$1005,Input!D28))+(VLOOKUP(Input!D28,Database_Tables!$R$6:$S$138,2,FALSE)),\"\",VLOOKUP((VLOOKUP(Input!D28,Database_Tables!$R$6:$S$138,2,FALSE))+31,$A$6:$C$1005,3,FALSE))","v":{"$error":"#N/A"}},{"$f":"IF((VLOOKUP(Input!D29,Database_Tables!$R$6:$S$138,2,FALSE))+31>=(COUNTIF($B$6:$B$1005,Input!D29))+(VLOOKUP(Input!D29,Database_Tables!$R$6:$S$138,2,FALSE)),\"\",VLOOKUP((VLOOKUP(Input!D29,Database_Tables!$R$6:$S$138,2,FALSE))+31,$A$6:$C$1005,3,FALSE))","v":{"$error":"#N/A"}},null,{"$f":"IF((VLOOKUP(Input!R25,Database_Tables!$R$6:$S$138,2,FALSE))+31>=(COUNTIF($B$6:$B$1005,Input!R25))+(VLOOKUP(Input!R25,Database_Tables!$R$6:$S$138,2,FALSE)),\"\",VLOOKUP((VLOOKUP(Input!R25,Database_Tables!$R$6:$S$138,2,FALSE))+31,$A$6:$C$1005,3,FALSE))","v":{"$error":"#N/A"}},{"$f":"IF((VLOOKUP(Input!R26,Database_Tables!$R$6:$S$138,2,FALSE))+31>=(COUNTIF($B$6:$B$1005,Input!R26))+(VLOOKUP(Input!R26,Database_Tables!$R$6:$S$138,2,FALSE)),\"\",VLOOKUP((VLOOKUP(Input!R26,Database_Tables!$R$6:$S$138,2,FALSE))+31,$A$6:$C$1005,3,FALSE))","v":{"$error":"#N/A"}},{"$f":"IF((VLOOKUP(Input!R27,Database_Tables!$R$6:$S$138,2,FALSE))+31>=(COUNTIF($B$6:$B$1005,Input!R27))+(VLOOKUP(Input!R27,Database_Tables!$R$6:$S$138,2,FALSE)),\"\",VLOOKUP((VLOOKUP(Input!R27,Database_Tables!$R$6:$S$138,2,FALSE))+31,$A$6:$C$1005,3,FALSE))","v":{"$error":"#N/A"}},{"$f":"IF((VLOOKUP(Input!R28,Database_Tables!$R$6:$S$138,2,FALSE))+31>=(COUNTIF($B$6:$B$1005,Input!R28))+(VLOOKUP(Input!R28,Database_Tables!$R$6:$S$138,2,FALSE)),\"\",VLOOKUP((VLOOKUP(Input!R28,Database_Tables!$R$6:$S$138,2,FALSE))+31,$A$6:$C$1005,3,FALSE))","v":{"$error":"#N/A"}},{"$f":"IF((VLOOKUP(Input!R29,Database_Tables!$R$6:$S$138,2,FALSE))+31>=(COUNTIF($B$6:$B$1005,Input!R29))+(VLOOKUP(Input!R29,Database_Tables!$R$6:$S$138,2,FALSE)),\"\",VLOOKUP((VLOOKUP(Input!R29,Database_Tables!$R$6:$S$138,2,FALSE))+31,$A$6:$C$1005,3,FALSE))","v":{"$error":"#N/A"}},null,null,null,"Chicory"]
[38,"Alfalfa","Alfalfa, South, yr2 regrowth after cutting",33,0.5,"tons",2000,1.5,3000,1,2500,42,null,null,null,null,3,"Citrus",{"$f":"VLOOKUP(R38,$B$6:$D$1005,3,FALSE)+5","v":160},{"$f":"IF((VLOOKUP(Input!D25,Database_Tables!$R$6:$S$138,2,FALSE))+32>=(COUNTIF($B$6:$B$1005,Input!D25))+(VLOOKUP(Input!D25,Database_Tables!$R$6:$S$138,2,FALSE)),\"\",VLOOKUP((VLOOKUP(Input!D25,Database_Tables!$R$6:$S$138,2,FALSE))+32,$A$6:$C$1005,3,FALSE))","v":{"$error":"#N/A"}},{"$f":"IF((VLOOKUP(Input!D26,Database_Tables!$R$6:$S$138,2,FALSE))+32>=(COUNTIF($B$6:$B$1005,Input!D26))+(VLOOKUP(Input!D26,Database_Tables!$R$6:$S$138,2,FALSE)),\"\",VLOOKUP((VLOOKUP(Input!D26,Database_Tables!$R$6:$S$138,2,FALSE))+32,$A$6:$C$1005,3,FALSE))","v":{"$error":"#N/A"}},{"$f":"IF((VLOOKUP(Input!D27,Database_Tables!$R$6:$S$138,2,FALSE))+32>=(COUNTIF($B$6:$B$1005,Input!D27))+(VLOOKUP(Input!D27,Database_Tables!$R$6:$S$138,2,FALSE)),\"\",VLOOKUP((VLOOKUP(Input!D27,Database_Tables!$R$6:$S$138,2,FALSE))+32,$A$6:$C$1005,3,FALSE))","v":{"$error":"#N/A"}},{"$f":"IF((VLOOKUP(Input!D28,Database_Tables!$R$6:$S$138,2,FALSE))+32>=(COUNTIF($B$6:$B$1005,Input!D28))+(VLOOKUP(Input!D28,Database_Tables!$R$6:$S$138,2,FALSE)),\"\",VLOOKUP((VLOOKUP(Input!D28,Database_Tables!$R$6:$S$138,2,FALSE))+32,$A$6:$C$1005,3,FALSE))","v":{"$error":"#N/A"}},{"$f":"IF((VLOOKUP(Input!D29,Database_Tables!$R$6:$S$138,2,FALSE))+32>=(COUNTIF($B$6:$B$1005,Input!D29))+(VLOOKUP(Input!D29,Database_Tables!$R$6:$S$138,2,FALSE)),\"\",VLOOKUP((VLOOKUP(Input!D29,Database_Tables!$R$6:$S$138,2,FALSE))+32,$A$6:$C$1005,3,FALSE))","v":{"$error":"#N/A"}},null,{"$f":"IF((VLOOKUP(Input!R25,Database_Tables!$R$6:$S$138,2,FALSE))+32>=(COUNTIF($B$6:$B$1005,Input!R25))+(VLOOKUP(Input!R25,Database_Tables!$R$6:$S$138,2,FALSE)),\"\",VLOOKUP((VLOOKUP(Input!R25,Database_Tables!$R$6:$S$138,2,FALSE))+32,$A$6:$C$1005,3,FALSE))","v":{"$error":"#N/A"}},{"$f":"IF((VLOOKUP(Input!R26,Database_Tables!$R$6:$S$138,2,FALSE))+32>=(COUNTIF($B$6:$B$1005,Input!R26))+(VLOOKUP(Input!R26,Database_Tables!$R$6:$S$138,2,FALSE)),\"\",VLOOKUP((VLOOKUP(Input!R26,Database_Tables!$R$6:$S$138,2,FALSE))+32,$A$6:$C$1005,3,FALSE))","v":{"$error":"#N/A"}},{"$f":"IF((VLOOKUP(Input!R27,Database_Tables!$R$6:$S$138,2,FALSE))+32>=(COUNTIF($B$6:$B$1005,Input!R27))+(VLOOKUP(Input!R27,Database_Tables!$R$6:$S$138,2,FALSE)),\"\",VLOOKUP((VLOOKUP(Input!R27,Database_Tables!$R$6:$S$138,2,FALSE))+32,$A$6:$C$1005,3,FALSE))","v":{"$error":"#N/A"}},{"$f":"IF((VLOOKUP(Input!R28,Database_Tables!$R$6:$S$138,2,FALSE))+32>=(COUNTIF($B$6:$B$1005,Input!R28))+(VLOOKUP(Input!R28,Database_Tables!$R$6:$S$138,2,FALSE)),\"\",VLOOKUP((VLOOKUP(Input!R28,Database_Tables!$R$6:$S$138,2,FALSE))+32,$A$6:$C$1005,3,FALSE))","v":{"$error":"#N/A"}},{"$f":"IF((VLOOKUP(Input!R29,Database_Tables!$R$6:$S$138,2,FALSE))+32>=(COUNTIF($B$6:$B$1005,Input!R29))+(VLOOKUP(Input!R29,Database_Tables!$R$6:$S$138,2,FALSE)),\"\",VLOOKUP((VLOOKUP(Input!R29,Database_Tables!$R$6:$S$138,2,FALSE))+32,$A$6:$C$1005,3,FALSE))","v":{"$error":"#N/A"}},null,null,null,"Citrus"]
[39,"Alfalfa","Alfalfa, South, yr2 senes to yr3 regrowth",34,0.5,"tons",2000,2.25,4500,1,3000,41,null,null,null,null,38,"Clover",163,{"$f":"IF((VLOOKUP(Input!D25,Database_Tables!$R$6:$S$138,2,FALSE))+33>=(COUNTIF($B$6:$B$1005,Input!D25))+(VLOOKUP(Input!D25,Database_Tables!$R$6:$S$138,2,FALSE)),\"\",VLOOKUP((VLOOKUP(Input!D25,Database_Tables!$R$6:$S$138,2,FALSE))+33,$A$6:$C$1005,3,FALSE))","v":{"$error":"#N/A"}},{"$f":"IF((VLOOKUP(Input!D26,Database_Tables!$R$6:$S$138,2,FALSE))+33>=(COUNTIF($B$6:$B$1005,Input!D26))+(VLOOKUP(Input!D26,Database_Tables!$R$6:$S$138,2,FALSE)),\"\",VLOOKUP((VLOOKUP(Input!D26,Database_Tables!$R$6:$S$138,2,FALSE))+33,$A$6:$C$1005,3,FALSE))","v":{"$error":"#N/A"}},{"$f":"IF((VLOOKUP(Input!D27,Database_Tables!$R$6:$S$138,2,FALSE))+33>=(COUNTIF($B$6:$B$1005,Input!D27))+(VLOOKUP(Input!D27,Database_Tables!$R$6:$S$138,2,FALSE)),\"\",VLOOKUP((VLOOKUP(Input!D27,Database_Tables!$R$6:$S$138,2,FALSE))+33,$A$6:$C$1005,3,FALSE))","v":{"$error":"#N/A"}},{"$f":"IF((VLOOKUP(Input!D28,Database_Tables!$R$6:$S$138,2,FALSE))+33>=(COUNTIF($B$6:$B$1005,Input!D28))+(VLOOKUP(Input!D28,Database_Tables!$R$6:$S$138,2,FALSE)),\"\",VLOOKUP((VLOOKUP(Input!D28,Database_Tables!$R$6:$S$138,2,FALSE))+33,$A$6:$C$1005,3,FALSE))","v":{"$error":"#N/A"}},{"$f":"IF((VLOOKUP(Input!D29,Database_Tables!$R$6:$S$138,2,FALSE))+33>=(COUNTIF($B$6:$B$1005,Input!D29))+(VLOOKUP(Input!D29,Database_Tables!$R$6:$S$138,2,FALSE)),\"\",VLOOKUP((VLOOKUP(Input!D29,Database_Tables!$R$6:$S$138,2,FALSE))+33,$A$6:$C$1005,3,FALSE))","v":{"$error":"#N/A"}},null,{"$f":"IF((VLOOKUP(Input!R25,Database_Tables!$R$6:$S$138,2,FALSE))+33>=(COUNTIF($B$6:$B$1005,Input!R25))+(VLOOKUP(Input!R25,Database_Tables!$R$6:$S$138,2,FALSE)),\"\",VLOOKUP((VLOOKUP(Input!R25,Database_Tables!$R$6:$S$138,2,FALSE))+33,$A$6:$C$1005,3,FALSE))","v":{"$error":"#N/A"}},{"$f":"IF((VLOOKUP(Input!R26,Database_Tables!$R$6:$S$138,2,FALSE))+33>=(COUNTIF($B$6:$B$1005,Input!R26))+(VLOOKUP(Input!R26,Database_Tables!$R$6:$S$138,2,FALSE)),\"\",VLOOKUP((VLOOKUP(Input!R26,Database_Tables!$R$6:$S$138,2,FALSE))+33,$A$6:$C$1005,3,FALSE))","v":{"$error":"#N/A"}},{"$f":"IF((VLOOKUP(Input!R27,Database_Tables!$R$6:$S$138,2,FALSE))+33>=(COUNTIF($B$6:$B$1005,Input!R27))+(VLOOKUP(Input!R27,Database_Tables!$R$6:$S$138,2,FALSE)),\"\",VLOOKUP((VLOOKUP(Input!R27,Database_Tables!$R$6:$S$138,2,FALSE))+33,$A$6:$C$1005,3,FALSE))","v":{"$error":"#N/A"}},{"$f":"IF((VLOOKUP(Input!R28,Database_Tables!$R$6:$S$138,2,FALSE))+33>=(COUNTIF($B$6:$B$1005,Input!R28))+(VLOOKUP(Input!R28,Database_Tables!$R$6:$S$138,2,FALSE)),\"\",VLOOKUP((VLOOKUP(Input!R28,Database_Tables!$R$6:$S$138,2,FALSE))+33,$A$6:$C$1005,3,FALSE))","v":{"$error":"#N/A"}},{"$f":"IF((VLOOKUP(Input!R29,Database_Tables!$R$6:$S$138,2,FALSE))+33>=(COUNTIF($B$6:$B$1005,Input!R29))+(VLOOKUP(Input!R29,Database_Tables!$R$6:$S$138,2,FALSE)),\"\",VLOOKUP((VLOOKUP(Input!R29,Database_Tables!$R$6:$S$138,2,FALSE))+33,$A$6:$C$1005,3,FALSE))","v":{"$error":"#N/A"}},null,null,null,"Clover"]
[40,"Alfalfa","Alfalfa, South, yr3 regrowth after cutting",35,0.5,"tons",2000,1.7,3400,1,3000,42,null,null,null,null,2,"Collard",201,{"$f":"IF((VLOOKUP(Input!D25,Database_Tables!$R$6:$S$138,2,FALSE))+34>=(COUNTIF($B$6:$B$1005,Input!D25))+(VLOOKUP(Input!D25,Database_Tables!$R$6:$S$138,2,FALSE)),\"\",VLOOKUP((VLOOKUP(Input!D25,Database_Tables!$R$6:$S$138,2,FALSE))+34,$A$6:$C$1005,3,FALSE))","v":{"$error":"#N/A"}},{"$f":"IF((VLOOKUP(Input!D26,Database_Tables!$R$6:$S$138,2,FALSE))+34>=(COUNTIF($B$6:$B$1005,Input!D26))+(VLOOKUP(Input!D26,Database_Tables!$R$6:$S$138,2,FALSE)),\"\",VLOOKUP((VLOOKUP(Input!D26,Database_Tables!$R$6:$S$138,2,FALSE))+34,$A$6:$C$1005,3,FALSE))","v":{"$error":"#N/A"}},{"$f":"IF((VLOOKUP(Input!D27,Database_Tables!$R$6:$S$138,2,FALSE))+34>=(COUNTIF($B$6:$B$1005,Input!D27))+(VLOOKUP(Input!D27,Database_Tables!$R$6:$S$138,2,FALSE)),\"\",VLOOKUP((VLOOKUP(Input!D27,Database_Tables!$R$6:$S$138,2,FALSE))+34,$A$6:$C$1005,3,FALSE))","v":{"$error":"#N/A"}},{"$f":"IF((VLOOKUP(Input!D28,Database_Tables!$R$6:$S$138,2,FALSE))+34>=(COUNTIF($B$6:$B$1005,Input!D28))+(VLOOKUP(Input!D28,Database_Tables!$R$6:$S$138,2,FALSE)),\"\",VLOOKUP((VLOOKUP(Input!D28,Database_Tables!$R$6:$S$138,2,FALSE))+34,$A$6:$C$1005,3,FALSE))","v":{"$error":"#N/A"}},{"$f":"IF((VLOOKUP(Input!D29,Database_Tables!$R$6:$S$138,2,FALSE))+34>=(COUNTIF($B$6:$B$1005,Input!D29))+(VLOOKUP(Input!D29,Database_Tables!$R$6:$S$138,2,FALSE)),\"\",VLOOKUP((VLOOKUP(Input!D29,Database_Tables!$R$6:$S$138,2,FALSE))+34,$A$6:$C$1005,3,FALSE))","v":{"$error":"#N/A"}},null,{"$f":"IF((VLOOKUP(Input!R25,Database_Tables!$R$6:$S$138,2,FALSE))+34>=(COUNTIF($B$6:$B$1005,Input!R25))+(VLOOKUP(Input!R25,Database_Tables!$R$6:$S$138,2,FALSE)),\"\",VLOOKUP((VLOOKUP(Input!R25,Database_Tables!$R$6:$S$138,2,FALSE))+34,$A$6:$C$1005,3,FALSE))","v":{"$error":"#N/A"}},{"$f":"IF((VLOOKUP(Input!R26,Database_Tables!$R$6:$S$138,2,FALSE))+34>=(COUNTIF($B$6:$B$1005,Input!R26))+(VLOOKUP(Input!R26,Database_Tables!$R$6:$S$138,2,FALSE)),\"\",VLOOKUP((VLOOKUP(Input!R26,Database_Tables!$R$6:$S$138,2,FALSE))+34,$A$6:$C$1005,3,FALSE))","v":{"$error":"#N/A"}},{"$f":"IF((VLOOKUP(Input!R27,Database_Tables!$R$6:$S$138,2,FALSE))+34>=(COUNTIF($B$6:$B$1005,Input!R27))+(VLOOKUP(Input!R27,Database_Tables!$R$6:$S$138,2,FALSE)),\"\",VLOOKUP((VLOOKUP(Input!R27,Database_Tables!$R$6:$S$138,2,FALSE))+34,$A$6:$C$1005,3,FALSE))","v":{"$error":"#N/A"}},{"$f":"IF((VLOOKUP(Input!R28,Database_Tables!$R$6:$S$138,2,FALSE))+34>=(COUNTIF($B$6:$B$1005,Input!R28))+(VLOOKUP(Input!R28,Database_Tables!$R$6:$S$138,2,FALSE)),\"\",VLOOKUP((VLOOKUP(Input!R28,Database_Tables!$R$6:$S$138,2,FALSE))+34,$A$6:$C$1005,3,FALSE))","v":{"$error":"#N/A"}},{"$f":"IF((VLOOKUP(Input!R29,Database_Tables!$R$6:$S$138,2,FALSE))+34>=(COUNTIF($B$6:$B$1005,Input!R29))+(VLOOKUP(Input!R29,Database_Tables!$R$6:$S$138,2,FALSE)),\"\",VLOOKUP((VLOOKUP(Input!R29,Database_Tables!$R$6:$S$138,2,FALSE))+34,$A$6:$C$1005,3,FALSE))","v":{"$error":"#N/A"}},null,null,null,"Collard"]
[41,"Alfalfa","Alfalfa, South, yr3 senes to yr4 regrowth",36,0.5,"tons",2000,2.5,5000,1,3500,41,null,null,null,null,1,"Conifer",203,{"$f":"IF((VLOOKUP(Input!D25,Database_Tables!$R$6:$S$138,2,FALSE))+35>=(COUNTIF($B$6:$B$1005,Input!D25))+(VLOOKUP(Input!D25,Database_Tables!$R$6:$S$138,2,FALSE)),\"\",VLOOKUP((VLOOKUP(Input!D25,Database_Tables!$R$6:$S$138,2,FALSE))+35,$A$6:$C$1005,3,FALSE))","v":{"$error":"#N/A"}},{"$f":"IF((VLOOKUP(Input!D26,Database_Tables!$R$6:$S$138,2,FALSE))+35>=(COUNTIF($B$6:$B$1005,Input!D26))+(VLOOKUP(Input!D26,Database_Tables!$R$6:$S$138,2,FALSE)),\"\",VLOOKUP((VLOOKUP(Input!D26,Database_Tables!$R$6:$S$138,2,FALSE))+35,$A$6:$C$1005,3,FALSE))","v":{"$error":"#N/A"}},{"$f":"IF((VLOOKUP(Input!D27,Database_Tables!$R$6:$S$138,2,FALSE))+35>=(COUNTIF($B$6:$B$1005,Input!D27))+(VLOOKUP(Input!D27,Database_Tables!$R$6:$S$138,2,FALSE)),\"\",VLOOKUP((VLOOKUP(Input!D27,Database_Tables!$R$6:$S$138,2,FALSE))+35,$A$6:$C$1005,3,FALSE))","v":{"$error":"#N/A"}},{"$f":"IF((VLOOKUP(Input!D28,Database_Tables!$R$6:$S$138,2,FALSE))+35>=(COUNTIF($B$6:$B$1005,Input!D28))+(VLOOKUP(Input!D28,Database_Tables!$R$6:$S$138,2,FALSE)),\"\",VLOOKUP((VLOOKUP(Input!D28,Database_Tables!$R$6:$S$138,2,FALSE))+35,$A$6:$C$1005,3,FALSE))","v":{"$error":"#N/A"}},{"$f":"IF((VLOOKUP(Input!D29,Database_Tables!$R$6:$S$138,2,FALSE))+35>=(COUNTIF($B$6:$B$1005,Input!D29))+(VLOOKUP(Input!D29,Database_Tables!$R$6:$S$138,2,FALSE)),\"\",VLOOKUP((VLOOKUP(Input!D29,Database_Tables!$R$6:$S$138,2,FALSE))+35,$A$6:$C$1005,3,FALSE))","v":{"$error":"#N/A"}},null,{"$f":"IF((VLOOKUP(Input!R25,Database_Tables!$R$6:$S$138,2,FALSE))+35>=(COUNTIF($B$6:$B$1005,Input!R25))+(VLOOKUP(Input!R25,Database_Tables!$R$6:$S$138,2,FALSE)),\"\",VLOOKUP((VLOOKUP(Input!R25,Database_Tables!$R$6:$S$138,2,FALSE))+35,$A$6:$C$1005,3,FALSE))","v":{"$error":"#N/A"}},{"$f":"IF((VLOOKUP(Input!R26,Database_Tables!$R$6:$S$138,2,FALSE))+35>=(COUNTIF($B$6:$B$1005,Input!R26))+(VLOOKUP(Input!R26,Database_Tables!$R$6:$S$138,2,FALSE)),\"\",VLOOKUP((VLOOKUP(Input!R26,Database_Tables!$R$6:$S$138,2,FALSE))+35,$A$6:$C$1005,3,FALSE))","v":{"$error":"#N/A"}},{"$f":"IF((VLOOKUP(Input!R27,Database_Tables!$R$6:$S$138,2,FALSE))+35>=(COUNTIF($B$6:$B$1005,Input!R27))+(VLOOKUP(Input!R27,Database_Tables!$R$6:$S$138,2,FALSE)),\"\",VLOOKUP((VLOOKUP(Input!R27,Database_Tables!$R$6:$S$138,2,FALSE))+35,$A$6:$C$1005,3,FALSE))","v":{"$error":"#N/A"}},{"$f":"IF((VLOOKUP(Input!R28,Database_Tables!$R$6:$S$138,2,FALSE))+35>=(COUNTIF($B$6:$B$1005,Input!R28))+(VLOOKUP(Input!R28,Database_Tables!$R$6:$S$138,2,FALSE)),\"\",VLOOKUP((VLOOKUP(Input!R28,Database_Tables!$R$6:$S$138,2,FALSE))+35,$A$6:$C$1005,3,FALSE))","v":{"$error":"#N/A"}},{"$f":"IF((VLOOKUP(Input!R29,Database_Tables!$R$6:$S$138,2,FALSE))+35>=(COUNTIF($B$6:$B$1005,Input!R29))+(VLOOKUP(Input!R29,Database_Tables!$R$6:$S$138,2,FALSE)),\"\",VLOOKUP((VLOOKUP(Input!R29,Database_Tables!$R$6:$S$138,2,FALSE))+35,$A$6:$C$1005,3,FALSE))","v":{"$error":"#N/A"}},null,null,null,"Conifer"]
[42,"Alfalfa","Alfalfa, South, yr4 regrowth after cutting",37,0.5,"tons",2000,1.75,3500,1,3500,42,null,null,null,null,28,"Corn",204,{"$f":"IF((VLOOKUP(Input!D25,Database_Tables!$R$6:$S$138,2,FALSE))+36>=(COUNTIF($B$6:$B$1005,Input!D25))+(VLOOKUP(Input!D25,Database_Tables!$R$6:$S$138,2,FALSE)),\"\",VLOOKUP((VLOOKUP(Input!D25,Database_Tables!$R$6:$S$138,2,FALSE))+36,$A$6:$C$1005,3,FALSE))","v":{"$error":"#N/A"}},{"$f":"IF((VLOOKUP(Input!D26,Database_Tables!$R$6:$S$138,2,FALSE))+36>=(COUNTIF($B$6:$B$1005,Input!D26))+(VLOOKUP(Input!D26,Database_Tables!$R$6:$S$138,2,FALSE)),\"\",VLOOKUP((VLOOKUP(Input!D26,Database_Tables!$R$6:$S$138,2,FALSE))+36,$A$6:$C$1005,3,FALSE))","v":{"$error":"#N/A"}},{"$f":"IF((VLOOKUP(Input!D27,Database_Tables!$R$6:$S$138,2,FALSE))+36>=(COUNTIF($B$6:$B$1005,Input!D27))+(VLOOKUP(Input!D27,Database_Tables!$R$6:$S$138,2,FALSE)),\"\",VLOOKUP((VLOOKUP(Input!D27,Database_Tables!$R$6:$S$138,2,FALSE))+36,$A$6:$C$1005,3,FALSE))","v":{"$error":"#N/A"}},{"$f":"IF((VLOOKUP(Input!D28,Database_Tables!$R$6:$S$138,2,FALSE))+36>=(COUNTIF($B$6:$B$1005,Input!D28))+(VLOOKUP(Input!D28,Database_Tables!$R$6:$S$138,2,FALSE)),\"\",VLOOKUP((VLOOKUP(Input!D28,Database_Tables!$R$6:$S$138,2,FALSE))+36,$A$6:$C$1005,3,FALSE))","v":{"$error":"#N/A"}},{"$f":"IF((VLOOKUP(Input!D29,Database_Tables!$R$6:$S$138,2,FALSE))+36>=(COUNTIF($B$6:$B$1005,Input!D29))+(VLOOKUP(Input!D29,Database_Tables!$R$6:$S$138,2,FALSE)),\"\",VLOOKUP((VLOOKUP(Input!D29,Database_Tables!$R$6:$S$138,2,FALSE))+36,$A$6:$C$1005,3,FALSE))","v":{"$error":"#N/A"}},null,{"$f":"IF((VLOOKUP(Input!R25,Database_Tables!$R$6:$S$138,2,FALSE))+36>=(COUNTIF($B$6:$B$1005,Input!R25))+(VLOOKUP(Input!R25,Database_Tables!$R$6:$S$138,2,FALSE)),\"\",VLOOKUP((VLOOKUP(Input!R25,Database_Tables!$R$6:$S$138,2,FALSE))+36,$A$6:$C$1005,3,FALSE))","v":{"$error":"#N/A"}},{"$f":"IF((VLOOKUP(Input!R26,Database_Tables!$R$6:$S$138,2,FALSE))+36>=(COUNTIF($B$6:$B$1005,Input!R26))+(VLOOKUP(Input!R26,Database_Tables!$R$6:$S$138,2,FALSE)),\"\",VLOOKUP((VLOOKUP(Input!R26,Database_Tables!$R$6:$S$138,2,FALSE))+36,$A$6:$C$1005,3,FALSE))","v":{"$error":"#N/A"}},{"$f":"IF((VLOOKUP(Input!R27,Database_Tables!$R$6:$S$138,2,FALSE))+36>=(COUNTIF($B$6:$B$1005,Input!R27))+(VLOOKUP(Input!R27,Database_Tables!$R$6:$S$138,2,FALSE)),\"\",VLOOKUP((VLOOKUP(Input!R27,Database_Tables!$R$6:$S$138,2,FALSE))+36,$A$6:$C$1005,3,FALSE))","v":{"$error":"#N/A"}},{"$f":"IF((VLOOKUP(Input!R28,Database_Tables!$R$6:$S$138,2,FALSE))+36>=(COUNTIF($B$6:$B$1005,Input!R28))+(VLOOKUP(Input!R28,Database_Tables!$R$6:$S$138,2,FALSE)),\"\",VLOOKUP((VLOOKUP(Input!R28,Database_Tables!$R$6:$S$138,2,FALSE))+36,$A$6:$C$1005,3,FALSE))","v":{"$error":"#N/A"}},{"$f":"IF((VLOOKUP(Input!R29,Database_Tables!$R$6:$S$138,2,FALSE))+36>=(COUNTIF($B$6:$B$1005,Input!R29))+(VLOOKUP(Input!R29,Database_Tables!$R$6:$S$138,2,FALSE)),\"\",VLOOKUP((VLOOKUP(Input!R29,Database_Tables!$R$6:$S$138,2,FALSE))+36,$A$6:$C$1005,3,FALSE))","v":{"$error":"#N/A"}},null,null,null,"Corn"]
[43,"Alfalfa","Alfalfa, South, yr4 senes to yr5 regrowth",38,0.5,"tons",2000,2,4000,1,3500,41,null,null,null,null,7,"Cotton",232,{"$f":"IF((VLOOKUP(Input!D25,Database_Tables!$R$6:$S$138,2,FALSE))+37>=(COUNTIF($B$6:$B$1005,Input!D25))+(VLOOKUP(Input!D25,Database_Tables!$R$6:$S$138,2,FALSE)),\"\",VLOOKUP((VLOOKUP(Input!D25,Database_Tables!$R$6:$S$138,2,FALSE))+37,$A$6:$C$1005,3,FALSE))","v":{"$error":"#N/A"}},{"$f":"IF((VLOOKUP(Input!D26,Database_Tables!$R$6:$S$138,2,FALSE))+37>=(COUNTIF($B$6:$B$1005,Input!D26))+(VLOOKUP(Input!D26,Database_Tables!$R$6:$S$138,2,FALSE)),\"\",VLOOKUP((VLOOKUP(Input!D26,Database_Tables!$R$6:$S$138,2,FALSE))+37,$A$6:$C$1005,3,FALSE))","v":{"$error":"#N/A"}},{"$f":"IF((VLOOKUP(Input!D27,Database_Tables!$R$6:$S$138,2,FALSE))+37>=(COUNTIF($B$6:$B$1005,Input!D27))+(VLOOKUP(Input!D27,Database_Tables!$R$6:$S$138,2,FALSE)),\"\",VLOOKUP((VLOOKUP(Input!D27,Database_Tables!$R$6:$S$138,2,FALSE))+37,$A$6:$C$1005,3,FALSE))","v":{"$error":"#N/A"}},{"$f":"IF((VLOOKUP(Input!D28,Database_Tables!$R$6:$S$138,2,FALSE))+37>=(COUNTIF($B$6:$B$1005,Input!D28))+(VLOOKUP(Input!D28,Database_Tables!$R$6:$S$138,2,FALSE)),\"\",VLOOKUP((VLOOKUP(Input!D28,Database_Tables!$R$6:$S$138,2,FALSE))+37,$A$6:$C$1005,3,FALSE))","v":{"$error":"#N/A"}},{"$f":"IF((VLOOKUP(Input!D29,Database_Tables!$R$6:$S$138,2,FALSE))+37>=(COUNTIF($B$6:$B$1005,Input!D29))+(VLOOKUP(Input!D29,Database_Tables!$R$6:$S$138,2,FALSE)),\"\",VLOOKUP((VLOOKUP(Input!D29,Database_Tables!$R$6:$S$138,2,FALSE))+37,$A$6:$C$1005,3,FALSE))","v":{"$error":"#N/A"}},null,{"$f":"IF((VLOOKUP(Input!R25,Database_Tables!$R$6:$S$138,2,FALSE))+37>=(COUNTIF($B$6:$B$1005,Input!R25))+(VLOOKUP(Input!R25,Database_Tables!$R$6:$S$138,2,FALSE)),\"\",VLOOKUP((VLOOKUP(Input!R25,Database_Tables!$R$6:$S$138,2,FALSE))+37,$A$6:$C$1005,3,FALSE))","v":{"$error":"#N/A"}},{"$f":"IF((VLOOKUP(Input!R26,Database_Tables!$R$6:$S$138,2,FALSE))+37>=(COUNTIF($B$6:$B$1005,Input!R26))+(VLOOKUP(Input!R26,Database_Tables!$R$6:$S$138,2,FALSE)),\"\",VLOOKUP((VLOOKUP(Input!R26,Database_Tables!$R$6:$S$138,2,FALSE))+37,$A$6:$C$1005,3,FALSE))","v":{"$error":"#N/A"}},{"$f":"IF((VLOOKUP(Input!R27,Database_Tables!$R$6:$S$138,2,FALSE))+37>=(COUNTIF($B$6:$B$1005,Input!R27))+(VLOOKUP(Input!R27,Database_Tables!$R$6:$S$138,2,FALSE)),\"\",VLOOKUP((VLOOKUP(Input!R27,Database_Tables!$R$6:$S$138,2,FALSE))+37,$A$6:$C$1005,3,FALSE))","v":{"$error":"#N/A"}},{"$f":"IF((VLOOKUP(Input!R28,Database_Tables!$R$6:$S$138,2,FALSE))+37>=(COUNTIF($B$6:$B$1005,Input!R28))+(VLOOKUP(Input!R28,Database_Tables!$R$6:$S$138,2,FALSE)),\"\",VLOOKUP((VLOOKUP(Input!R28,Database_Tables!$R$6:$S$138,2,FALSE))+37,$A$6:$C$1005,3,FALSE))","v":{"$error":"#N/A"}},{"$f":"IF((VLOOKUP(Input!R29,Database_Tables!$R$6:$S$138,2,FALSE))+37>=(COUNTIF($B$6:$B$1005,Input!R29))+(VLOOKUP(Input!R29,Database_Tables!$R$6:$S$138,2,FALSE)),\"\",VLOOKUP((VLOOKUP(Input!R29,Database_Tables!$R$6:$S$138,2,FALSE))+37,$A$6:$C$1005,3,FALSE))","v":{"$error":"#N/A"}},null,null,null,"Cotton"]
[44,"Alfalfa","Alfalfa, spring seed ",39,0.5,"tons",2000,1.5,3000,1,1500,21,null,null,null,null,1,"Cow pea",239,{"$f":"IF((VLOOKUP(Input!D25,Database_Tables!$R$6:$S$138,2,FALSE))+38>=(COUNTIF($B$6:$B$1005,Input!D25))+(VLOOKUP(Input!D25,Database_Tables!$R$6:$S$138,2,FALSE)),\"\",VLOOKUP((VLOOKUP(Input!D25,Database_Tables!$R$6:$S$138,2,FALSE))+38,$A$6:$C$1005,3,FALSE))","v":{"$error":"#N/A"}},{"$f":"IF((VLOOKUP(Input!D26,Database_Tables!$R$6:$S$138,2,FALSE))+38>=(COUNTIF($B$6:$B$1005,Input!D26))+(VLOOKUP(Input!D26,Database_Tables!$R$6:$S$138,2,FALSE)),\"\",VLOOKUP((VLOOKUP(Input!D26,Database_Tables!$R$6:$S$138,2,FALSE))+38,$A$6:$C$1005,3,FALSE))","v":{"$error":"#N/A"}},{"$f":"IF((VLOOKUP(Input!D27,Database_Tables!$R$6:$S$138,2,FALSE))+38>=(COUNTIF($B$6:$B$1005,Input!D27))+(VLOOKUP(Input!D27,Database_Tables!$R$6:$S$138,2,FALSE)),\"\",VLOOKUP((VLOOKUP(Input!D27,Database_Tables!$R$6:$S$138,2,FALSE))+38,$A$6:$C$1005,3,FALSE))","v":{"$error":"#N/A"}},{"$f":"IF((VLOOKUP(Input!D28,Database_Tables!$R$6:$S$138,2,FALSE))+38>=(COUNTIF($B$6:$B$1005,Input!D28))+(VLOOKUP(Input!D28,Database_Tables!$R$6:$S$138,2,FALSE)),\"\",VLOOKUP((VLOOKUP(Input!D28,Database_Tables!$R$6:$S$138,2,FALSE))+38,$A$6:$C$1005,3,FALSE))","v":{"$error":"#N/A"}},{"$f":"IF((VLOOKUP(Input!D29,Database_Tables!$R$6:$S$138,2,FALSE))+38>=(COUNTIF($B$6:$B$1005,Input!D29))+(VLOOKUP(Input!D29,Database_Tables!$R$6:$S$138,2,FALSE)),\"\",VLOOKUP((VLOOKUP(Input!D29,Database_Tables!$R$6:$S$138,2,FALSE))+38,$A$6:$C$1005,3,FALSE))","v":{"$error":"#N/A"}},null,{"$f":"IF((VLOOKUP(Input!R25,Database_Tables!$R$6:$S$138,2,FALSE))+38>=(COUNTIF($B$6:$B$1005,Input!R25))+(VLOOKUP(Input!R25,Database_Tables!$R$6:$S$138,2,FALSE)),\"\",VLOOKUP((VLOOKUP(Input!R25,Database_Tables!$R$6:$S$138,2,FALSE))+38,$A$6:$C$1005,3,FALSE))","v":{"$error":"#N/A"}},{"$f":"IF((VLOOKUP(Input!R26,Database_Tables!$R$6:$S$138,2,FALSE))+38>=(COUNTIF($B$6:$B$1005,Input!R26))+(VLOOKUP(Input!R26,Database_Tables!$R$6:$S$138,2,FALSE)),\"\",VLOOKUP((VLOOKUP(Input!R26,Database_Tables!$R$6:$S$138,2,FALSE))+38,$A$6:$C$1005,3,FALSE))","v":{"$error":"#N/A"}},{"$f":"IF((VLOOKUP(Input!R27,Database_Tables!$R$6:$S$138,2,FALSE))+38>=(COUNTIF($B$6:$B$1005,Input!R27))+(VLOOKUP(Input!R27,Database_Tables!$R$6:$S$138,2,FALSE)),\"\",VLOOKUP((VLOOKUP(Input!R27,Database_Tables!$R$6:$S$138,2,FALSE))+38,$A$6:$C$1005,3,FALSE))","v":{"$error":"#N/A"}},{"$f":"IF((VLOOKUP(Input!R28,Database_Tables!$R$6:$S$138,2,FALSE))+38>=(COUNTIF($B$6:$B$1005,Input!R28))+(VLOOKUP(Input!R28,Database_Tables!$R$6:$S$138,2,FALSE)),\"\",VLOOKUP((VLOOKUP(Input!R28,Database_Tables!$R$6:$S$138,2,FALSE))+38,$A$6:$C$1005,3,FALSE))","v":{"$error":"#N/A"}},{"$f":"IF((VLOOKUP(Input!R29,Database_Tables!$R$6:$S$138,2,FALSE))+38>=(COUNTIF($B$6:$B$1005,Input!R29))+(VLOOKUP(Input!R29,Database_Tables!$R$6:$S$138,2,FALSE)),\"\",VLOOKUP((VLOOKUP(Input!R29,Database_Tables!$R$6:$S$138,2,FALSE))+38,$A$6:$C$1005,3,FALSE))","v":{"$error":"#N/A"}},null,null,null,"Cow pea"]
[45,"Alfalfa","Alfalfa, spring seed regrowth after cutting ",40,0.5,"tons",2000,1.5,3000,1,1500,44,null,null,null,null,1,"Crambe",240,{"$f":"IF((VLOOKUP(Input!D25,Database_Tables!$R$6:$S$138,2,FALSE))+39>=(COUNTIF($B$6:$B$1005,Input!D25))+(VLOOKUP(Input!D25,Database_Tables!$R$6:$S$138,2,FALSE)),\"\",VLOOKUP((VLOOKUP(Input!D25,Database_Tables!$R$6:$S$138,2,FALSE))+39,$A$6:$C$1005,3,FALSE))","v":{"$error":"#N/A"}},{"$f":"IF((VLOOKUP(Input!D26,Database_Tables!$R$6:$S$138,2,FALSE))+39>=(COUNTIF($B$6:$B$1005,Input!D26))+(VLOOKUP(Input!D26,Database_Tables!$R$6:$S$138,2,FALSE)),\"\",VLOOKUP((VLOOKUP(Input!D26,Database_Tables!$R$6:$S$138,2,FALSE))+39,$A$6:$C$1005,3,FALSE))","v":{"$error":"#N/A"}},{"$f":"IF((VLOOKUP(Input!D27,Database_Tables!$R$6:$S$138,2,FALSE))+39>=(COUNTIF($B$6:$B$1005,Input!D27))+(VLOOKUP(Input!D27,Database_Tables!$R$6:$S$138,2,FALSE)),\"\",VLOOKUP((VLOOKUP(Input!D27,Database_Tables!$R$6:$S$138,2,FALSE))+39,$A$6:$C$1005,3,FALSE))","v":{"$error":"#N/A"}},{"$f":"IF((VLOOKUP(Input!D28,Database_Tables!$R$6:$S$138,2,FALSE))+39>=(COUNTIF($B$6:$B$1005,Input!D28))+(VLOOKUP(Input!D28,Database_Tables!$R$6:$S$138,2,FALSE)),\"\",VLOOKUP((VLOOKUP(Input!D28,Database_Tables!$R$6:$S$138,2,FALSE))+39,$A$6:$C$1005,3,FALSE))","v":{"$error":"#N/A"}},{"$f":"IF((VLOOKUP(Input!D29,Database_Tables!$R$6:$S$138,2,FALSE))+39>=(COUNTIF($B$6:$B$1005,Input!D29))+(VLOOKUP(Input!D29,Database_Tables!$R$6:$S$138,2,FALSE)),\"\",VLOOKUP((VLOOKUP(Input!D29,Database_Tables!$R$6:$S$138,2,FALSE))+39,$A$6:$C$1005,3,FALSE))","v":{"$error":"#N/A"}},null,{"$f":"IF((VLOOKUP(Input!R25,Database_Tables!$R$6:$S$138,2,FALSE))+39>=(COUNTIF($B$6:$B$1005,Input!R25))+(VLOOKUP(Input!R25,Database_Tables!$R$6:$S$138,2,FALSE)),\"\",VLOOKUP((VLOOKUP(Input!R25,Database_Tables!$R$6:$S$138,2,FALSE))+39,$A$6:$C$1005,3,FALSE))","v":{"$error":"#N/A"}},{"$f":"IF((VLOOKUP(Input!R26,Database_Tables!$R$6:$S$138,2,FALSE))+39>=(COUNTIF($B$6:$B$1005,Input!R26))+(VLOOKUP(Input!R26,Database_Tables!$R$6:$S$138,2,FALSE)),\"\",VLOOKUP((VLOOKUP(Input!R26,Database_Tables!$R$6:$S$138,2,FALSE))+39,$A$6:$C$1005,3,FALSE))","v":{"$error":"#N/A"}},{"$f":"IF((VLOOKUP(Input!R27,Database_Tables!$R$6:$S$138,2,FALSE))+39>=(COUNTIF($B$6:$B$1005,Input!R27))+(VLOOKUP(Input!R27,Database_Tables!$R$6:$S$138,2,FALSE)),\"\",VLOOKUP((VLOOKUP(Input!R27,Database_Tables!$R$6:$S$138,2,FALSE))+39,$A$6:$C$1005,3,FALSE))","v":{"$error":"#N/A"}},{"$f":"IF((VLOOKUP(Input!R28,Database_Tables!$R$6:$S$138,2,FALSE))+39>=(COUNTIF($B$6:$B$1005,Input!R28))+(VLOOKUP(Input!R28,Database_Tables!$R$6:$S$138,2,FALSE)),\"\",VLOOKUP((VLOOKUP(Input!R28,Database_Tables!$R$6:$S$138,2,FALSE))+39,$A$6:$C$1005,3,FALSE))","v":{"$error":"#N/A"}},{"$f":"IF((VLOOKUP(Input!R29,Database_Tables!$R$6:$S$138,2,FALSE))+39>=(COUNTIF($B$6:$B$1005,Input!R29))+(VLOOKUP(Input!R29,Database_Tables!$R$6:$S$138,2,FALSE)),\"\",VLOOKUP((VLOOKUP(Input!R29,Database_Tables!$R$6:$S$138,2,FALSE))+39,$A$6:$C$1005,3,FALSE))","v":{"$error":"#N/A"}},null,null,null,"Crambe"]
[46,"Alfalfa","Alfalfa, spring seed senes to y2 regrowth",41,0.5,"tons",2000,1.5,3000,1,2500,41,null,null,null,null,2,"Cranberries",241,{"$f":"IF((VLOOKUP(Input!D25,Database_Tables!$R$6:$S$138,2,FALSE))+40>=(COUNTIF($B$6:$B$1005,Input!D25))+(VLOOKUP(Input!D25,Database_Tables!$R$6:$S$138,2,FALSE)),\"\",VLOOKUP((VLOOKUP(Input!D25,Database_Tables!$R$6:$S$138,2,FALSE))+40,$A$6:$C$1005,3,FALSE))","v":{"$error":"#N/A"}},{"$f":"IF((VLOOKUP(Input!D26,Database_Tables!$R$6:$S$138,2,FALSE))+40>=(COUNTIF($B$6:$B$1005,Input!D26))+(VLOOKUP(Input!D26,Database_Tables!$R$6:$S$138,2,FALSE)),\"\",VLOOKUP((VLOOKUP(Input!D26,Database_Tables!$R$6:$S$138,2,FALSE))+40,$A$6:$C$1005,3,FALSE))","v":{"$error":"#N/A"}},{"$f":"IF((VLOOKUP(Input!D27,Database_Tables!$R$6:$S$138,2,FALSE))+40>=(COUNTIF($B$6:$B$1005,Input!D27))+(VLOOKUP(Input!D27,Database_Tables!$R$6:$S$138,2,FALSE)),\"\",VLOOKUP((VLOOKUP(Input!D27,Database_Tables!$R$6:$S$138,2,FALSE))+40,$A$6:$C$1005,3,FALSE))","v":{"$error":"#N/A"}},{"$f":"IF((VLOOKUP(Input!D28,Database_Tables!$R$6:$S$138,2,FALSE))+40>=(COUNTIF($B$6:$B$1005,Input!D28))+(VLOOKUP(Input!D28,Database_Tables!$R$6:$S$138,2,FALSE)),\"\",VLOOKUP((VLOOKUP(Input!D28,Database_Tables!$R$6:$S$138,2,FALSE))+40,$A$6:$C$1005,3,FALSE))","v":{"$error":"#N/A"}},{"$f":"IF((VLOOKUP(Input!D29,Database_Tables!$R$6:$S$138,2,FALSE))+40>=(COUNTIF($B$6:$B$1005,Input!D29))+(VLOOKUP(Input!D29,Database_Tables!$R$6:$S$138,2,FALSE)),\"\",VLOOKUP((VLOOKUP(Input!D29,Database_Tables!$R$6:$S$138,2,FALSE))+40,$A$6:$C$1005,3,FALSE))","v":{"$error":"#N/A"}},null,{"$f":"IF((VLOOKUP(Input!R25,Database_Tables!$R$6:$S$138,2,FALSE))+40>=(COUNTIF($B$6:$B$1005,Input!R25))+(VLOOKUP(Input!R25,Database_Tables!$R$6:$S$138,2,FALSE)),\"\",VLOOKUP((VLOOKUP(Input!R25,Database_Tables!$R$6:$S$138,2,FALSE))+40,$A$6:$C$1005,3,FALSE))","v":{"$error":"#N/A"}},{"$f":"IF((VLOOKUP(Input!R26,Database_Tables!$R$6:$S$138,2,FALSE))+40>=(COUNTIF($B$6:$B$1005,Input!R26))+(VLOOKUP(Input!R26,Database_Tables!$R$6:$S$138,2,FALSE)),\"\",VLOOKUP((VLOOKUP(Input!R26,Database_Tables!$R$6:$S$138,2,FALSE))+40,$A$6:$C$1005,3,FALSE))","v":{"$error":"#N/A"}},{"$f":"IF((VLOOKUP(Input!R27,Database_Tables!$R$6:$S$138,2,FALSE))+40>=(COUNTIF($B$6:$B$1005,Input!R27))+(VLOOKUP(Input!R27,Database_Tables!$R$6:$S$138,2,FALSE)),\"\",VLOOKUP((VLOOKUP(Input!R27,Database_Tables!$R$6:$S$138,2,FALSE))+40,$A$6:$C$1005,3,FALSE))","v":{"$error":"#N/A"}},{"$f":"IF((VLOOKUP(Input!R28,Database_Tables!$R$6:$S$138,2,FALSE))+40>=(COUNTIF($B$6:$B$1005,Input!R28))+(VLOOKUP(Input!R28,Database_Tables!$R$6:$S$138,2,FALSE)),\"\",VLOOKUP((VLOOKUP(Input!R28,Database_Tables!$R$6:$S$138,2,FALSE))+40,$A$6:$C$1005,3,FALSE))","v":{"$error":"#N/A"}},{"$f":"IF((VLOOKUP(Input!R29,Database_Tables!$R$6:$S$138,2,FALSE))+40>=(COUNTIF($B$6:$B$1005,Input!R29))+(VLOOKUP(Input!R29,Database_Tables!$R$6:$S$138,2,FALSE)),\"\",VLOOKUP((VLOOKUP(Input!R29,Database_Tables!$R$6:$S$138,2,FALSE))+40,$A$6:$C$1005,3,FALSE))","v":{"$error":"#N/A"}},null,null,null,"Cranberries"]
[47,"Alfalfa","Alfalfa, spring seed senes winter graze to y2 regrowth",42,0.5,"tons",2000,1.5,3000,1,2500,54,null,null,null,null,2,"Cucumber",243,{"$f":"IF((VLOOKUP(Input!D25,Database_Tables!$R$6:$S$138,2,FALSE))+41>=(COUNTIF($B$6:$B$1005,Input!D25))+(VLOOKUP(Input!D25,Database_Tables!$R$6:$S$138,2,FALSE)),\"\",VLOOKUP((VLOOKUP(Input!D25,Database_Tables!$R$6:$S$138,2,FALSE))+41,$A$6:$C$1005,3,FALSE))","v":{"$error":"#N/A"}},{"$f":"IF((VLOOKUP(Input!D26,Database_Tables!$R$6:$S$138,2,FALSE))+41>=(COUNTIF($B$6:$B$1005,Input!D26))+(VLOOKUP(Input!D26,Database_Tables!$R$6:$S$138,2,FALSE)),\"\",VLOOKUP((VLOOKUP(Input!D26,Database_Tables!$R$6:$S$138,2,FALSE))+41,$A$6:$C$1005,3,FALSE))","v":{"$error":"#N/A"}},{"$f":"IF((VLOOKUP(Input!D27,Database_Tables!$R$6:$S$138,2,FALSE))+41>=(COUNTIF($B$6:$B$1005,Input!D27))+(VLOOKUP(Input!D27,Database_Tables!$R$6:$S$138,2,FALSE)),\"\",VLOOKUP((VLOOKUP(Input!D27,Database_Tables!$R$6:$S$138,2,FALSE))+41,$A$6:$C$1005,3,FALSE))","v":{"$error":"#N/A"}},{"$f":"IF((VLOOKUP(Input!D28,Database_Tables!$R$6:$S$138,2,FALSE))+41>=(COUNTIF($B$6:$B$1005,Input!D28))+(VLOOKUP(Input!D28,Database_Tables!$R$6:$S$138,2,FALSE)),\"\",VLOOKUP((VLOOKUP(Input!D28,Database_Tables!$R$6:$S$138,2,FALSE))+41,$A$6:$C$1005,3,FALSE))","v":{"$error":"#N/A"}},{"$f":"IF((VLOOKUP(Input!D29,Database_Tables!$R$6:$S$138,2,FALSE))+41>=(COUNTIF($B$6:$B$1005,Input!D29))+(VLOOKUP(Input!D29,Database_Tables!$R$6:$S$138,2,FALSE)),\"\",VLOOKUP((VLOOKUP(Input!D29,Database_Tables!$R$6:$S$138,2,FALSE))+41,$A$6:$C$1005,3,FALSE))","v":{"$error":"#N/A"}},null,{"$f":"IF((VLOOKUP(Input!R25,Database_Tables!$R$6:$S$138,2,FALSE))+41>=(COUNTIF($B$6:$B$1005,Input!R25))+(VLOOKUP(Input!R25,Database_Tables!$R$6:$S$138,2,FALSE)),\"\",VLOOKUP((VLOOKUP(Input!R25,Database_Tables!$R$6:$S$138,2,FALSE))+41,$A$6:$C$1005,3,FALSE))","v":{"$error":"#N/A"}},{"$f":"IF((VLOOKUP(Input!R26,Database_Tables!$R$6:$S$138,2,FALSE))+41>=(COUNTIF($B$6:$B$1005,Input!R26))+(VLOOKUP(Input!R26,Database_Tables!$R$6:$S$138,2,FALSE)),\"\",VLOOKUP((VLOOKUP(Input!R26,Database_Tables!$R$6:$S$138,2,FALSE))+41,$A$6:$C$1005,3,FALSE))","v":{"$error":"#N/A"}},{"$f":"IF((VLOOKUP(Input!R27,Database_Tables!$R$6:$S$138,2,FALSE))+41>=(COUNTIF($B$6:$B$1005,Input!R27))+(VLOOKUP(Input!R27,Database_Tables!$R$6:$S$138,2,FALSE)),\"\",VLOOKUP((VLOOKUP(Input!R27,Database_Tables!$R$6:$S$138,2,FALSE))+41,$A$6:$C$1005,3,FALSE))","v":{"$error":"#N/A"}},{"$f":"IF((VLOOKUP(Input!R28,Database_Tables!$R$6:$S$138,2,FALSE))+41>=(COUNTIF($B$6:$B$1005,Input!R28))+(VLOOKUP(Input!R28,Database_Tables!$R$6:$S$138,2,FALSE)),\"\",VLOOKUP((VLOOKUP(Input!R28,Database_Tables!$R$6:$S$138,2,FALSE))+41,$A$6:$C$1005,3,FALSE))","v":{"$error":"#N/A"}},{"$f":"IF((VLOOKUP(Input!R29,Database_Tables!$R$6:$S$138,2,FALSE))+41>=(COUNTIF($B$6:$B$1005,Input!R29))+(VLOOKUP(Input!R29,Database_Tables!$R$6:$S$138,2,FALSE)),\"\",VLOOKUP((VLOOKUP(Input!R29,Database_Tables!$R$6:$S$138,2,FALSE))+41,$A$6:$C$1005,3,FALSE))","v":{"$error":"#N/A"}},null,null,null,"Cucumber"]
[48,"Alfalfa","Alfalfa, yr2 regrowth after cutting ",43,0.5,"tons",2000,1.5,3000,1,2500,36,null,null,null,null,{"$f":"COUNTIF($B$6:$B$1005,R48)","v":1},"Delayed germination",245,{"$f":"IF((VLOOKUP(Input!D25,Database_Tables!$R$6:$S$138,2,FALSE))+42>=(COUNTIF($B$6:$B$1005,Input!D25))+(VLOOKUP(Input!D25,Database_Tables!$R$6:$S$138,2,FALSE)),\"\",VLOOKUP((VLOOKUP(Input!D25,Database_Tables!$R$6:$S$138,2,FALSE))+42,$A$6:$C$1005,3,FALSE))","v":{"$error":"#N/A"}},{"$f":"IF((VLOOKUP(Input!D26,Database_Tables!$R$6:$S$138,2,FALSE))+42>=(COUNTIF($B$6:$B$1005,Input!D26))+(VLOOKUP(Input!D26,Database_Tables!$R$6:$S$138,2,FALSE)),\"\",VLOOKUP((VLOOKUP(Input!D26,Database_Tables!$R$6:$S$138,2,FALSE))+42,$A$6:$C$1005,3,FALSE))","v":{"$error":"#N/A"}},{"$f":"IF((VLOOKUP(Input!D27,Database_Tables!$R$6:$S$138,2,FALSE))+42>=(COUNTIF($B$6:$B$1005,Input!D27))+(VLOOKUP(Input!D27,Database_Tables!$R$6:$S$138,2,FALSE)),\"\",VLOOKUP((VLOOKUP(Input!D27,Database_Tables!$R$6:$S$138,2,FALSE))+42,$A$6:$C$1005,3,FALSE))","v":{"$error":"#N/A"}},{"$f":"IF((VLOOKUP(Input!D28,Database_Tables!$R$6:$S$138,2,FALSE))+42>=(COUNTIF($B$6:$B$1005,Input!D28))+(VLOOKUP(Input!D28,Database_Tables!$R$6:$S$138,2,FALSE)),\"\",VLOOKUP((VLOOKUP(Input!D28,Database_Tables!$R$6:$S$138,2,FALSE))+42,$A$6:$C$1005,3,FALSE))","v":{"$error":"#N/A"}},{"$f":"IF((VLOOKUP(Input!D29,Database_Tables!$R$6:$S$138,2,FALSE))+42>=(COUNTIF($B$6:$B$1005,Input!D29))+(VLOOKUP(Input!D29,Database_Tables!$R$6:$S$138,2,FALSE)),\"\",VLOOKUP((VLOOKUP(Input!D29,Database_Tables!$R$6:$S$138,2,FALSE))+42,$A$6:$C$1005,3,FALSE))","v":{"$error":"#N/A"}},null,{"$f":"IF((VLOOKUP(Input!R25,Database_Tables!$R$6:$S$138,2,FALSE))+42>=(COUNTIF($B$6:$B$1005,Input!R25))+(VLOOKUP(Input!R25,Database_Tables!$R$6:$S$138,2,FALSE)),\"\",VLOOKUP((VLOOKUP(Input!R25,Database_Tables!$R$6:$S$138,2,FALSE))+42,$A$6:$C$1005,3,FALSE))","v":{"$error":"#N/A"}},{"$f":"IF((VLOOKUP(Input!R26,Database_Tables!$R$6:$S$138,2,FALSE))+42>=(COUNTIF($B$6:$B$1005,Input!R26))+(VLOOKUP(Input!R26,Database_Tables!$R$6:$S$138,2,FALSE)),\"\",VLOOKUP((VLOOKUP(Input!R26,Database_Tables!$R$6:$S$138,2,FALSE))+42,$A$6:$C$1005,3,FALSE))","v":{"$error":"#N/A"}},{"$f":"IF((VLOOKUP(Input!R27,Database_Tables!$R$6:$S$138,2,FALSE))+42>=(COUNTIF($B$6:$B$1005,Input!R27))+(VLOOKUP(Input!R27,Database_Tables!$R$6:$S$138,2,FALSE)),\"\",VLOOKUP((VLOOKUP(Input!R27,Database_Tables!$R$6:$S$138,2,FALSE))+42,$A$6:$C$1005,3,FALSE))","v":{"$error":"#N/A"}},{"$f":"IF((VLOOKUP(Input!R28,Database_Tables!$R$6:$S$138,2,FALSE))+42>=(COUNTIF($B$6:$B$1005,Input!R28))+(VLOOKUP(Input!R28,Database_Tables!$R$6:$S$138,2,FALSE)),\"\",VLOOKUP((VLOOKUP(Input!R28,Database_Tables!$R$6:$S$138,2,FALSE))+42,$A$6:$C$1005,3,FALSE))","v":{"$error":"#N/A"}},{"$f":"IF((VLOOKUP(Input!R29,Database_Tables!$R$6:$S$138,2,FALSE))+42>=(COUNTIF($B$6:$B$1005,Input!R29))+(VLOOKUP(Input!R29,Database_Tables!$R$6:$S$138,2,FALSE)),\"\",VLOOKUP((VLOOKUP(Input!R29,Database_Tables!$R$6:$S$138,2,FALSE))+42,$A$6:$C$1005,3,FALSE))","v":{"$error":"#N/A"}},null,null,null,"Delayed germination"]
[49,"Alfalfa","Alfalfa, yr2 senes to yr3 regrowth",44,0.5,"tons",2000,2.25,4500,1,3000,34,null,null,null,null,{"$f":"COUNTIF($B$6:$B$1004,R49)","v":2},"Dichondra",246,{"$f":"IF((VLOOKUP(Input!D25,Database_Tables!$R$6:$S$138,2,FALSE))+43>=(COUNTIF($B$6:$B$1005,Input!D25))+(VLOOKUP(Input!D25,Database_Tables!$R$6:$S$138,2,FALSE)),\"\",VLOOKUP((VLOOKUP(Input!D25,Database_Tables!$R$6:$S$138,2,FALSE))+43,$A$6:$C$1005,3,FALSE))","v":{"$error":"#N/A"}},{"$f":"IF((VLOOKUP(Input!D26,Database_Tables!$R$6:$S$138,2,FALSE))+43>=(COUNTIF($B$6:$B$1005,Input!D26))+(VLOOKUP(Input!D26,Database_Tables!$R$6:$S$138,2,FALSE)),\"\",VLOOKUP((VLOOKUP(Input!D26,Database_Tables!$R$6:$S$138,2,FALSE))+43,$A$6:$C$1005,3,FALSE))","v":{"$error":"#N/A"}},{"$f":"IF((VLOOKUP(Input!D27,Database_Tables!$R$6:$S$138,2,FALSE))+43>=(COUNTIF($B$6:$B$1005,Input!D27))+(VLOOKUP(Input!D27,Database_Tables!$R$6:$S$138,2,FALSE)),\"\",VLOOKUP((VLOOKUP(Input!D27,Database_Tables!$R$6:$S$138,2,FALSE))+43,$A$6:$C$1005,3,FALSE))","v":{"$error":"#N/A"}},{"$f":"IF((VLOOKUP(Input!D28,Database_Tables!$R$6:$S$138,2,FALSE))+43>=(COUNTIF($B$6:$B$1005,Input!D28))+(VLOOKUP(Input!D28,Database_Tables!$R$6:$S$138,2,FALSE)),\"\",VLOOKUP((VLOOKUP(Input!D28,Database_Tables!$R$6:$S$138,2,FALSE))+43,$A$6:$C$1005,3,FALSE))","v":{"$error":"#N/A"}},{"$f":"IF((VLOOKUP(Input!D29,Database_Tables!$R$6:$S$138,2,FALSE))+43>=(COUNTIF($B$6:$B$1005,Input!D29))+(VLOOKUP(Input!D29,Database_Tables!$R$6:$S$138,2,FALSE)),\"\",VLOOKUP((VLOOKUP(Input!D29,Database_Tables!$R$6:$S$138,2,FALSE))+43,$A$6:$C$1005,3,FALSE))","v":{"$error":"#N/A"}},null,{"$f":"IF((VLOOKUP(Input!R25,Database_Tables!$R$6:$S$138,2,FALSE))+43>=(COUNTIF($B$6:$B$1005,Input!R25))+(VLOOKUP(Input!R25,Database_Tables!$R$6:$S$138,2,FALSE)),\"\",VLOOKUP((VLOOKUP(Input!R25,Database_Tables!$R$6:$S$138,2,FALSE))+43,$A$6:$C$1005,3,FALSE))","v":{"$error":"#N/A"}},{"$f":"IF((VLOOKUP(Input!R26,Database_Tables!$R$6:$S$138,2,FALSE))+43>=(COUNTIF($B$6:$B$1005,Input!R26))+(VLOOKUP(Input!R26,Database_Tables!$R$6:$S$138,2,FALSE)),\"\",VLOOKUP((VLOOKUP(Input!R26,Database_Tables!$R$6:$S$138,2,FALSE))+43,$A$6:$C$1005,3,FALSE))","v":{"$error":"#N/A"}},{"$f":"IF((VLOOKUP(Input!R27,Database_Tables!$R$6:$S$138,2,FALSE))+43>=(COUNTIF($B$6:$B$1005,Input!R27))+(VLOOKUP(Input!R27,Database_Tables!$R$6:$S$138,2,FALSE)),\"\",VLOOKUP((VLOOKUP(Input!R27,Database_Tables!$R$6:$S$138,2,FALSE))+43,$A$6:$C$1005,3,FALSE))","v":{"$error":"#N/A"}},{"$f":"IF((VLOOKUP(Input!R28,Database_Tables!$R$6:$S$138,2,FALSE))+43>=(COUNTIF($B$6:$B$1005,Input!R28))+(VLOOKUP(Input!R28,Database_Tables!$R$6:$S$138,2,FALSE)),\"\",VLOOKUP((VLOOKUP(Input!R28,Database_Tables!$R$6:$S$138,2,FALSE))+43,$A$6:$C$1005,3,FALSE))","v":{"$error":"#N/A"}},{"$f":"IF((VLOOKUP(Input!R29,Database_Tables!$R$6:$S$138,2,FALSE))+43>=(COUNTIF($B$6:$B$1005,Input!R29))+(VLOOKUP(Input!R29,Database_Tables!$R$6:$S$138,2,FALSE)),\"\",VLOOKUP((VLOOKUP(Input!R29,Database_Tables!$R$6:$S$138,2,FALSE))+43,$A$6:$C$1005,3,FALSE))","v":{"$error":"#N/A"}},null,null,null,"Dichondra"]
[50,"Alfalfa","Alfalfa, yr2 senes winter graze to yr3 regrowth",45,0.5,"tons",2000,2.25,4500,1,3000,47,null,null,null,null,2,"Eggplant",248,{"$f":"IF((VLOOKUP(Input!D25,Database_Tables!$R$6:$S$138,2,FALSE))+44>=(COUNTIF($B$6:$B$1005,Input!D25))+(VLOOKUP(Input!D25,Database_Tables!$R$6:$S$138,2,FALSE)),\"\",VLOOKUP((VLOOKUP(Input!D25,Database_Tables!$R$6:$S$138,2,FALSE))+44,$A$6:$C$1005,3,FALSE))","v":{"$error":"#N/A"}},{"$f":"IF((VLOOKUP(Input!D26,Database_Tables!$R$6:$S$138,2,FALSE))+44>=(COUNTIF($B$6:$B$1005,Input!D26))+(VLOOKUP(Input!D26,Database_Tables!$R$6:$S$138,2,FALSE)),\"\",VLOOKUP((VLOOKUP(Input!D26,Database_Tables!$R$6:$S$138,2,FALSE))+44,$A$6:$C$1005,3,FALSE))","v":{"$error":"#N/A"}},{"$f":"IF((VLOOKUP(Input!D27,Database_Tables!$R$6:$S$138,2,FALSE))+44>=(COUNTIF($B$6:$B$1005,Input!D27))+(VLOOKUP(Input!D27,Database_Tables!$R$6:$S$138,2,FALSE)),\"\",VLOOKUP((VLOOKUP(Input!D27,Database_Tables!$R$6:$S$138,2,FALSE))+44,$A$6:$C$1005,3,FALSE))","v":{"$error":"#N/A"}},{"$f":"IF((VLOOKUP(Input!D28,Database_Tables!$R$6:$S$138,2,FALSE))+44>=(COUNTIF($B$6:$B$1005,Input!D28))+(VLOOKUP(Input!D28,Database_Tables!$R$6:$S$138,2,FALSE)),\"\",VLOOKUP((VLOOKUP(Input!D28,Database_Tables!$R$6:$S$138,2,FALSE))+44,$A$6:$C$1005,3,FALSE))","v":{"$error":"#N/A"}},{"$f":"IF((VLOOKUP(Input!D29,Database_Tables!$R$6:$S$138,2,FALSE))+44>=(COUNTIF($B$6:$B$1005,Input!D29))+(VLOOKUP(Input!D29,Database_Tables!$R$6:$S$138,2,FALSE)),\"\",VLOOKUP((VLOOKUP(Input!D29,Database_Tables!$R$6:$S$138,2,FALSE))+44,$A$6:$C$1005,3,FALSE))","v":{"$error":"#N/A"}},null,{"$f":"IF((VLOOKUP(Input!R25,Database_Tables!$R$6:$S$138,2,FALSE))+44>=(COUNTIF($B$6:$B$1005,Input!R25))+(VLOOKUP(Input!R25,Database_Tables!$R$6:$S$138,2,FALSE)),\"\",VLOOKUP((VLOOKUP(Input!R25,Database_Tables!$R$6:$S$138,2,FALSE))+44,$A$6:$C$1005,3,FALSE))","v":{"$error":"#N/A"}},{"$f":"IF((VLOOKUP(Input!R26,Database_Tables!$R$6:$S$138,2,FALSE))+44>=(COUNTIF($B$6:$B$1005,Input!R26))+(VLOOKUP(Input!R26,Database_Tables!$R$6:$S$138,2,FALSE)),\"\",VLOOKUP((VLOOKUP(Input!R26,Database_Tables!$R$6:$S$138,2,FALSE))+44,$A$6:$C$1005,3,FALSE))","v":{"$error":"#N/A"}},{"$f":"IF((VLOOKUP(Input!R27,Database_Tables!$R$6:$S$138,2,FALSE))+44>=(COUNTIF($B$6:$B$1005,Input!R27))+(VLOOKUP(Input!R27,Database_Tables!$R$6:$S$138,2,FALSE)),\"\",VLOOKUP((VLOOKUP(Input!R27,Database_Tables!$R$6:$S$138,2,FALSE))+44,$A$6:$C$1005,3,FALSE))","v":{"$error":"#N/A"}},{"$f":"IF((VLOOKUP(Input!R28,Database_Tables!$R$6:$S$138,2,FALSE))+44>=(COUNTIF($B$6:$B$1005,Input!R28))+(VLOOKUP(Input!R28,Database_Tables!$R$6:$S$138,2,FALSE)),\"\",VLOOKUP((VLOOKUP(Input!R28,Database_Tables!$R$6:$S$138,2,FALSE))+44,$A$6:$C$1005,3,FALSE))","v":{"$error":"#N/A"}},{"$f":"IF((VLOOKUP(Input!R29,Database_Tables!$R$6:$S$138,2,FALSE))+44>=(COUNTIF($B$6:$B$1005,Input!R29))+(VLOOKUP(Input!R29,Database_Tables!$R$6:$S$138,2,FALSE)),\"\",VLOOKUP((VLOOKUP(Input!R29,Database_Tables!$R$6:$S$138,2,FALSE))+44,$A$6:$C$1005,3,FALSE))","v":{"$error":"#N/A"}},null,null,null,"Eggplant"]
[51,"Alfalfa","Alfalfa, yr3 regrowth after cutting ",46,0.5,"tons",2000,1.7,3400,1,3000,36,null,null,null,null,0,"Fallow",1005,{"$f":"IF((VLOOKUP(Input!D25,Database_Tables!$R$6:$S$138,2,FALSE))+45>=(COUNTIF($B$6:$B$1005,Input!D25))+(VLOOKUP(Input!D25,Database_Tables!$R$6:$S$138,2,FALSE)),\"\",VLOOKUP((VLOOKUP(Input!D25,Database_Tables!$R$6:$S$138,2,FALSE))+45,$A$6:$C$1005,3,FALSE))","v":{"$error":"#N/A"}},{"$f":"IF((VLOOKUP(Input!D26,Database_Tables!$R$6:$S$138,2,FALSE))+45>=(COUNTIF($B$6:$B$1005,Input!D26))+(VLOOKUP(Input!D26,Database_Tables!$R$6:$S$138,2,FALSE)),\"\",VLOOKUP((VLOOKUP(Input!D26,Database_Tables!$R$6:$S$138,2,FALSE))+45,$A$6:$C$1005,3,FALSE))","v":{"$error":"#N/A"}},{"$f":"IF((VLOOKUP(Input!D27,Database_Tables!$R$6:$S$138,2,FALSE))+45>=(COUNTIF($B$6:$B$1005,Input!D27))+(VLOOKUP(Input!D27,Database_Tables!$R$6:$S$138,2,FALSE)),\"\",VLOOKUP((VLOOKUP(Input!D27,Database_Tables!$R$6:$S$138,2,FALSE))+45,$A$6:$C$1005,3,FALSE))","v":{"$error":"#N/A"}},{"$f":"IF((VLOOKUP(Input!D28,Database_Tables!$R$6:$S$138,2,FALSE))+45>=(COUNTIF($B$6:$B$1005,Input!D28))+(VLOOKUP(Input!D28,Database_Tables!$R$6:$S$138,2,FALSE)),\"\",VLOOKUP((VLOOKUP(Input!D28,Database_Tables!$R$6:$S$138,2,FALSE))+45,$A$6:$C$1005,3,FALSE))","v":{"$error":"#N/A"}},{"$f":"IF((VLOOKUP(Input!D29,Database_Tables!$R$6:$S$138,2,FALSE))+45>=(COUNTIF($B$6:$B$1005,Input!D29))+(VLOOKUP(Input!D29,Database_Tables!$R$6:$S$138,2,FALSE)),\"\",VLOOKUP((VLOOKUP(Input!D29,Database_Tables!$R$6:$S$138,2,FALSE))+45,$A$6:$C$1005,3,FALSE))","v":{"$error":"#N/A"}},null,{"$f":"IF((VLOOKUP(Input!R25,Database_Tables!$R$6:$S$138,2,FALSE))+45>=(COUNTIF($B$6:$B$1005,Input!R25))+(VLOOKUP(Input!R25,Database_Tables!$R$6:$S$138,2,FALSE)),\"\",VLOOKUP((VLOOKUP(Input!R25,Database_Tables!$R$6:$S$138,2,FALSE))+45,$A$6:$C$1005,3,FALSE))","v":{"$error":"#N/A"}},{"$f":"IF((VLOOKUP(Input!R26,Database_Tables!$R$6:$S$138,2,FALSE))+45>=(COUNTIF($B$6:$B$1005,Input!R26))+(VLOOKUP(Input!R26,Database_Tables!$R$6:$S$138,2,FALSE)),\"\",VLOOKUP((VLOOKUP(Input!R26,Database_Tables!$R$6:$S$138,2,FALSE))+45,$A$6:$C$1005,3,FALSE))","v":{"$error":"#N/A"}},{"$f":"IF((VLOOKUP(Input!R27,Database_Tables!$R$6:$S$138,2,FALSE))+45>=(COUNTIF($B$6:$B$1005,Input!R27))+(VLOOKUP(Input!R27,Database_Tables!$R$6:$S$138,2,FALSE)),\"\",VLOOKUP((VLOOKUP(Input!R27,Database_Tables!$R$6:$S$138,2,FALSE))+45,$A$6:$C$1005,3,FALSE))","v":{"$error":"#N/A"}},{"$f":"IF((VLOOKUP(Input!R28,Database_Tables!$R$6:$S$138,2,FALSE))+45>=(COUNTIF($B$6:$B$1005,Input!R28))+(VLOOKUP(Input!R28,Database_Tables!$R$6:$S$138,2,FALSE)),\"\",VLOOKUP((VLOOKUP(Input!R28,Database_Tables!$R$6:$S$138,2,FALSE))+45,$A$6:$C$1005,3,FALSE))","v":{"$error":"#N/A"}},{"$f":"IF((VLOOKUP(Input!R29,Database_Tables!$R$6:$S$138,2,FALSE))+45>=(COUNTIF($B$6:$B$1005,Input!R29))+(VLOOKUP(Input!R29,Database_Tables!$R$6:$S$138,2,FALSE)),\"\",VLOOKUP((VLOOKUP(Input!R29,Database_Tables!$R$6:$S$138,2,FALSE))+45,$A$6:$C$1005,3,FALSE))","v":{"$error":"#N/A"}},null,null,null,"Fallow"]
[52,"Alfalfa","Alfalfa, yr3 regrowth after seed harvest ",47,0.5,"tons",2000,1.7,3400,1,3000,41,null,null,null,null,3,"Fescue",250,{"$f":"IF((VLOOKUP(Input!D25,Database_Tables!$R$6:$S$138,2,FALSE))+46>=(COUNTIF($B$6:$B$1005,Input!D25))+(VLOOKUP(Input!D25,Database_Tables!$R$6:$S$138,2,FALSE)),\"\",VLOOKUP((VLOOKUP(Input!D25,Database_Tables!$R$6:$S$138,2,FALSE))+46,$A$6:$C$1005,3,FALSE))","v":{"$error":"#N/A"}},{"$f":"IF((VLOOKUP(Input!D26,Database_Tables!$R$6:$S$138,2,FALSE))+46>=(COUNTIF($B$6:$B$1005,Input!D26))+(VLOOKUP(Input!D26,Database_Tables!$R$6:$S$138,2,FALSE)),\"\",VLOOKUP((VLOOKUP(Input!D26,Database_Tables!$R$6:$S$138,2,FALSE))+46,$A$6:$C$1005,3,FALSE))","v":{"$error":"#N/A"}},{"$f":"IF((VLOOKUP(Input!D27,Database_Tables!$R$6:$S$138,2,FALSE))+46>=(COUNTIF($B$6:$B$1005,Input!D27))+(VLOOKUP(Input!D27,Database_Tables!$R$6:$S$138,2,FALSE)),\"\",VLOOKUP((VLOOKUP(Input!D27,Database_Tables!$R$6:$S$138,2,FALSE))+46,$A$6:$C$1005,3,FALSE))","v":{"$error":"#N/A"}},{"$f":"IF((VLOOKUP(Input!D28,Database_Tables!$R$6:$S$138,2,FALSE))+46>=(COUNTIF($B$6:$B$1005,Input!D28))+(VLOOKUP(Input!D28,Database_Tables!$R$6:$S$138,2,FALSE)),\"\",VLOOKUP((VLOOKUP(Input!D28,Database_Tables!$R$6:$S$138,2,FALSE))+46,$A$6:$C$1005,3,FALSE))","v":{"$error":"#N/A"}},{"$f":"IF((VLOOKUP(Input!D29,Database_Tables!$R$6:$S$138,2,FALSE))+46>=(COUNTIF($B$6:$B$1005,Input!D29))+(VLOOKUP(Input!D29,Database_Tables!$R$6:$S$138,2,FALSE)),\"\",VLOOKUP((VLOOKUP(Input!D29,Database_Tables!$R$6:$S$138,2,FALSE))+46,$A$6:$C$1005,3,FALSE))","v":{"$error":"#N/A"}},null,{"$f":"IF((VLOOKUP(Input!R25,Database_Tables!$R$6:$S$138,2,FALSE))+46>=(COUNTIF($B$6:$B$1005,Input!R25))+(VLOOKUP(Input!R25,Database_Tables!$R$6:$S$138,2,FALSE)),\"\",VLOOKUP((VLOOKUP(Input!R25,Database_Tables!$R$6:$S$138,2,FALSE))+46,$A$6:$C$1005,3,FALSE))","v":{"$error":"#N/A"}},{"$f":"IF((VLOOKUP(Input!R26,Database_Tables!$R$6:$S$138,2,FALSE))+46>=(COUNTIF($B$6:$B$1005,Input!R26))+(VLOOKUP(Input!R26,Database_Tables!$R$6:$S$138,2,FALSE)),\"\",VLOOKUP((VLOOKUP(Input!R26,Database_Tables!$R$6:$S$138,2,FALSE))+46,$A$6:$C$1005,3,FALSE))","v":{"$error":"#N/A"}},{"$f":"IF((VLOOKUP(Input!R27,Database_Tables!$R$6:$S$138,2,FALSE))+46>=(COUNTIF($B$6:$B$1005,Input!R27))+(VLOOKUP(Input!R27,Database_Tables!$R$6:$S$138,2,FALSE)),\"\",VLOOKUP((VLOOKUP(Input!R27,Database_Tables!$R$6:$S$138,2,FALSE))+46,$A$6:$C$1005,3,FALSE))","v":{"$error":"#N/A"}},{"$f":"IF((VLOOKUP(Input!R28,Database_Tables!$R$6:$S$138,2,FALSE))+46>=(COUNTIF($B$6:$B$1005,Input!R28))+(VLOOKUP(Input!R28,Database_Tables!$R$6:$S$138,2,FALSE)),\"\",VLOOKUP((VLOOKUP(Input!R28,Database_Tables!$R$6:$S$138,2,FALSE))+46,$A$6:$C$1005,3,FALSE))","v":{"$error":"#N/A"}},{"$f":"IF((VLOOKUP(Input!R29,Database_Tables!$R$6:$S$138,2,FALSE))+46>=(COUNTIF($B$6:$B$1005,Input!R29))+(VLOOKUP(Input!R29,Database_Tables!$R$6:$S$138,2,FALSE)),\"\",VLOOKUP((VLOOKUP(Input!R29,Database_Tables!$R$6:$S$138,2,FALSE))+46,$A$6:$C$1005,3,FALSE))","v":{"$error":"#N/A"}},null,null,null,"Fescue"]
[53,"Alfalfa","Alfalfa, yr3 senes to yr4 regrowth",48,0.5,"tons",2000,2.5,5000,1,3500,34,null,null,null,null,2,"Filbert",253,{"$f":"IF((VLOOKUP(Input!D25,Database_Tables!$R$6:$S$138,2,FALSE))+47>=(COUNTIF($B$6:$B$1005,Input!D25))+(VLOOKUP(Input!D25,Database_Tables!$R$6:$S$138,2,FALSE)),\"\",VLOOKUP((VLOOKUP(Input!D25,Database_Tables!$R$6:$S$138,2,FALSE))+47,$A$6:$C$1005,3,FALSE))","v":{"$error":"#N/A"}},{"$f":"IF((VLOOKUP(Input!D26,Database_Tables!$R$6:$S$138,2,FALSE))+47>=(COUNTIF($B$6:$B$1005,Input!D26))+(VLOOKUP(Input!D26,Database_Tables!$R$6:$S$138,2,FALSE)),\"\",VLOOKUP((VLOOKUP(Input!D26,Database_Tables!$R$6:$S$138,2,FALSE))+47,$A$6:$C$1005,3,FALSE))","v":{"$error":"#N/A"}},{"$f":"IF((VLOOKUP(Input!D27,Database_Tables!$R$6:$S$138,2,FALSE))+47>=(COUNTIF($B$6:$B$1005,Input!D27))+(VLOOKUP(Input!D27,Database_Tables!$R$6:$S$138,2,FALSE)),\"\",VLOOKUP((VLOOKUP(Input!D27,Database_Tables!$R$6:$S$138,2,FALSE))+47,$A$6:$C$1005,3,FALSE))","v":{"$error":"#N/A"}},{"$f":"IF((VLOOKUP(Input!D28,Database_Tables!$R$6:$S$138,2,FALSE))+47>=(COUNTIF($B$6:$B$1005,Input!D28))+(VLOOKUP(Input!D28,Database_Tables!$R$6:$S$138,2,FALSE)),\"\",VLOOKUP((VLOOKUP(Input!D28,Database_Tables!$R$6:$S$138,2,FALSE))+47,$A$6:$C$1005,3,FALSE))","v":{"$error":"#N/A"}},{"$f":"IF((VLOOKUP(Input!D29,Database_Tables!$R$6:$S$138,2,FALSE))+47>=(COUNTIF($B$6:$B$1005,Input!D29))+(VLOOKUP(Input!D29,Database_Tables!$R$6:$S$138,2,FALSE)),\"\",VLOOKUP((VLOOKUP(Input!D29,Database_Tables!$R$6:$S$138,2,FALSE))+47,$A$6:$C$1005,3,FALSE))","v":{"$error":"#N/A"}},null,{"$f":"IF((VLOOKUP(Input!R25,Database_Tables!$R$6:$S$138,2,FALSE))+47>=(COUNTIF($B$6:$B$1005,Input!R25))+(VLOOKUP(Input!R25,Database_Tables!$R$6:$S$138,2,FALSE)),\"\",VLOOKUP((VLOOKUP(Input!R25,Database_Tables!$R$6:$S$138,2,FALSE))+47,$A$6:$C$1005,3,FALSE))","v":{"$error":"#N/A"}},{"$f":"IF((VLOOKUP(Input!R26,Database_Tables!$R$6:$S$138,2,FALSE))+47>=(COUNTIF($B$6:$B$1005,Input!R26))+(VLOOKUP(Input!R26,Database_Tables!$R$6:$S$138,2,FALSE)),\"\",VLOOKUP((VLOOKUP(Input!R26,Database_Tables!$R$6:$S$138,2,FALSE))+47,$A$6:$C$1005,3,FALSE))","v":{"$error":"#N/A"}},{"$f":"IF((VLOOKUP(Input!R27,Database_Tables!$R$6:$S$138,2,FALSE))+47>=(COUNTIF($B$6:$B$1005,Input!R27))+(VLOOKUP(Input!R27,Database_Tables!$R$6:$S$138,2,FALSE)),\"\",VLOOKUP((VLOOKUP(Input!R27,Database_Tables!$R$6:$S$138,2,FALSE))+47,$A$6:$C$1005,3,FALSE))","v":{"$error":"#N/A"}},{"$f":"IF((VLOOKUP(Input!R28,Database_Tables!$R$6:$S$138,2,FALSE))+47>=(COUNTIF($B$6:$B$1005,Input!R28))+(VLOOKUP(Input!R28,Database_Tables!$R$6:$S$138,2,FALSE)),\"\",VLOOKUP((VLOOKUP(Input!R28,Database_Tables!$R$6:$S$138,2,FALSE))+47,$A$6:$C$1005,3,FALSE))","v":{"$error":"#N/A"}},{"$f":"IF((VLOOKUP(Input!R29,Database_Tables!$R$6:$S$138,2,FALSE))+47>=(COUNTIF($B$6:$B$1005,Input!R29))+(VLOOKUP(Input!R29,Database_Tables!$R$6:$S$138,2,FALSE)),\"\",VLOOKUP((VLOOKUP(Input!R29,Database_Tables!$R$6:$S$138,2,FALSE))+47,$A$6:$C$1005,3,FALSE))","v":{"$error":"#N/A"}},null,null,null,"Filbert"]
[54,"Alfalfa","Alfalfa, yr3 senes winter graze to yr4 regrowth",49,0.5,"tons",2000,2.5,5000,1,3500,47,null,null,null,null,2,"Flax ",255,{"$f":"IF((VLOOKUP(Input!D25,Database_Tables!$R$6:$S$138,2,FALSE))+48>=(COUNTIF($B$6:$B$1005,Input!D25))+(VLOOKUP(Input!D25,Database_Tables!$R$6:$S$138,2,FALSE)),\"\",VLOOKUP((VLOOKUP(Input!D25,Database_Tables!$R$6:$S$138,2,FALSE))+48,$A$6:$C$1005,3,FALSE))","v":{"$error":"#N/A"}},{"$f":"IF((VLOOKUP(Input!D26,Database_Tables!$R$6:$S$138,2,FALSE))+48>=(COUNTIF($B$6:$B$1005,Input!D26))+(VLOOKUP(Input!D26,Database_Tables!$R$6:$S$138,2,FALSE)),\"\",VLOOKUP((VLOOKUP(Input!D26,Database_Tables!$R$6:$S$138,2,FALSE))+48,$A$6:$C$1005,3,FALSE))","v":{"$error":"#N/A"}},{"$f":"IF((VLOOKUP(Input!D27,Database_Tables!$R$6:$S$138,2,FALSE))+48>=(COUNTIF($B$6:$B$1005,Input!D27))+(VLOOKUP(Input!D27,Database_Tables!$R$6:$S$138,2,FALSE)),\"\",VLOOKUP((VLOOKUP(Input!D27,Database_Tables!$R$6:$S$138,2,FALSE))+48,$A$6:$C$1005,3,FALSE))","v":{"$error":"#N/A"}},{"$f":"IF((VLOOKUP(Input!D28,Database_Tables!$R$6:$S$138,2,FALSE))+48>=(COUNTIF($B$6:$B$1005,Input!D28))+(VLOOKUP(Input!D28,Database_Tables!$R$6:$S$138,2,FALSE)),\"\",VLOOKUP((VLOOKUP(Input!D28,Database_Tables!$R$6:$S$138,2,FALSE))+48,$A$6:$C$1005,3,FALSE))","v":{"$error":"#N/A"}},{"$f":"IF((VLOOKUP(Input!D29,Database_Tables!$R$6:$S$138,2,FALSE))+48>=(COUNTIF($B$6:$B$1005,Input!D29))+(VLOOKUP(Input!D29,Database_Tables!$R$6:$S$138,2,FALSE)),\"\",VLOOKUP((VLOOKUP(Input!D29,Database_Tables!$R$6:$S$138,2,FALSE))+48,$A$6:$C$1005,3,FALSE))","v":{"$error":"#N/A"}},null,{"$f":"IF((VLOOKUP(Input!R25,Database_Tables!$R$6:$S$138,2,FALSE))+48>=(COUNTIF($B$6:$B$1005,Input!R25))+(VLOOKUP(Input!R25,Database_Tables!$R$6:$S$138,2,FALSE)),\"\",VLOOKUP((VLOOKUP(Input!R25,Database_Tables!$R$6:$S$138,2,FALSE))+48,$A$6:$C$1005,3,FALSE))","v":{"$error":"#N/A"}},{"$f":"IF((VLOOKUP(Input!R26,Database_Tables!$R$6:$S$138,2,FALSE))+48>=(COUNTIF($B$6:$B$1005,Input!R26))+(VLOOKUP(Input!R26,Database_Tables!$R$6:$S$138,2,FALSE)),\"\",VLOOKUP((VLOOKUP(Input!R26,Database_Tables!$R$6:$S$138,2,FALSE))+48,$A$6:$C$1005,3,FALSE))","v":{"$error":"#N/A"}},{"$f":"IF((VLOOKUP(Input!R27,Database_Tables!$R$6:$S$138,2,FALSE))+48>=(COUNTIF($B$6:$B$1005,Input!R27))+(VLOOKUP(Input!R27,Database_Tables!$R$6:$S$138,2,FALSE)),\"\",VLOOKUP((VLOOKUP(Input!R27,Database_Tables!$R$6:$S$138,2,FALSE))+48,$A$6:$C$1005,3,FALSE))","v":{"$error":"#N/A"}},{"$f":"IF((VLOOKUP(Input!R28,Database_Tables!$R$6:$S$138,2,FALSE))+48>=(COUNTIF($B$6:$B$1005,Input!R28))+(VLOOKUP(Input!R28,Database_Tables!$R$6:$S$138,2,FALSE)),\"\",VLOOKUP((VLOOKUP(Input!R28,Database_Tables!$R$6:$S$138,2,FALSE))+48,$A$6:$C$1005,3,FALSE))","v":{"$error":"#N/A"}},{"$f":"IF((VLOOKUP(Input!R29,Database_Tables!$R$6:$S$138,2,FALSE))+48>=(COUNTIF($B$6:$B$1005,Input!R29))+(VLOOKUP(Input!R29,Database_Tables!$R$6:$S$138,2,FALSE)),\"\",VLOOKUP((VLOOKUP(Input!R29,Database_Tables!$R$6:$S$138,2,FALSE))+48,$A$6:$C$1005,3,FALSE))","v":{"$error":"#N/A"}},null,null,null,"Flax "]
[55,"Alfalfa","Alfalfa, yr4 regrowth after cutting ",50,0.5,"tons",2000,1.75,3500,1,3500,36,null,null,null,null,2,"Flowers",257,{"$f":"IF((VLOOKUP(Input!D25,Database_Tables!$R$6:$S$138,2,FALSE))+49>=(COUNTIF($B$6:$B$1005,Input!D25))+(VLOOKUP(Input!D25,Database_Tables!$R$6:$S$138,2,FALSE)),\"\",VLOOKUP((VLOOKUP(Input!D25,Database_Tables!$R$6:$S$138,2,FALSE))+49,$A$6:$C$1005,3,FALSE))","v":{"$error":"#N/A"}},{"$f":"IF((VLOOKUP(Input!D26,Database_Tables!$R$6:$S$138,2,FALSE))+49>=(COUNTIF($B$6:$B$1005,Input!D26))+(VLOOKUP(Input!D26,Database_Tables!$R$6:$S$138,2,FALSE)),\"\",VLOOKUP((VLOOKUP(Input!D26,Database_Tables!$R$6:$S$138,2,FALSE))+49,$A$6:$C$1005,3,FALSE))","v":{"$error":"#N/A"}},{"$f":"IF((VLOOKUP(Input!D27,Database_Tables!$R$6:$S$138,2,FALSE))+49>=(COUNTIF($B$6:$B$1005,Input!D27))+(VLOOKUP(Input!D27,Database_Tables!$R$6:$S$138,2,FALSE)),\"\",VLOOKUP((VLOOKUP(Input!D27,Database_Tables!$R$6:$S$138,2,FALSE))+49,$A$6:$C$1005,3,FALSE))","v":{"$error":"#N/A"}},{"$f":"IF((VLOOKUP(Input!D28,Database_Tables!$R$6:$S$138,2,FALSE))+49>=(COUNTIF($B$6:$B$1005,Input!D28))+(VLOOKUP(Input!D28,Database_Tables!$R$6:$S$138,2,FALSE)),\"\",VLOOKUP((VLOOKUP(Input!D28,Database_Tables!$R$6:$S$138,2,FALSE))+49,$A$6:$C$1005,3,FALSE))","v":{"$error":"#N/A"}},{"$f":"IF((VLOOKUP(Input!D29,Database_Tables!$R$6:$S$138,2,FALSE))+49>=(COUNTIF($B$6:$B$1005,Input!D29))+(VLOOKUP(Input!D29,Database_Tables!$R$6:$S$138,2,FALSE)),\"\",VLOOKUP((VLOOKUP(Input!D29,Database_Tables!$R$6:$S$138,2,FALSE))+49,$A$6:$C$1005,3,FALSE))","v":{"$error":"#N/A"}},null,{"$f":"IF((VLOOKUP(Input!R25,Database_Tables!$R$6:$S$138,2,FALSE))+49>=(COUNTIF($B$6:$B$1005,Input!R25))+(VLOOKUP(Input!R25,Database_Tables!$R$6:$S$138,2,FALSE)),\"\",VLOOKUP((VLOOKUP(Input!R25,Database_Tables!$R$6:$S$138,2,FALSE))+49,$A$6:$C$1005,3,FALSE))","v":{"$error":"#N/A"}},{"$f":"IF((VLOOKUP(Input!R26,Database_Tables!$R$6:$S$138,2,FALSE))+49>=(COUNTIF($B$6:$B$1005,Input!R26))+(VLOOKUP(Input!R26,Database_Tables!$R$6:$S$138,2,FALSE)),\"\",VLOOKUP((VLOOKUP(Input!R26,Database_Tables!$R$6:$S$138,2,FALSE))+49,$A$6:$C$1005,3,FALSE))","v":{"$error":"#N/A"}},{"$f":"IF((VLOOKUP(Input!R27,Database_Tables!$R$6:$S$138,2,FALSE))+49>=(COUNTIF($B$6:$B$1005,Input!R27))+(VLOOKUP(Input!R27,Database_Tables!$R$6:$S$138,2,FALSE)),\"\",VLOOKUP((VLOOKUP(Input!R27,Database_Tables!$R$6:$S$138,2,FALSE))+49,$A$6:$C$1005,3,FALSE))","v":{"$error":"#N/A"}},{"$f":"IF((VLOOKUP(Input!R28,Database_Tables!$R$6:$S$138,2,FALSE))+49>=(COUNTIF($B$6:$B$1005,Input!R28))+(VLOOKUP(Input!R28,Database_Tables!$R$6:$S$138,2,FALSE)),\"\",VLOOKUP((VLOOKUP(Input!R28,Database_Tables!$R$6:$S$138,2,FALSE))+49,$A$6:$C$1005,3,FALSE))","v":{"$error":"#N/A"}},{"$f":"IF((VLOOKUP(Input!R29,Database_Tables!$R$6:$S$138,2,FALSE))+49>=(COUNTIF($B$6:$B$1005,Input!R29))+(VLOOKUP(Input!R29,Database_Tables!$R$6:$S$138,2,FALSE)),\"\",VLOOKUP((VLOOKUP(Input!R29,Database_Tables!$R$6:$S$138,2,FALSE))+49,$A$6:$C$1005,3,FALSE))","v":{"$error":"#N/A"}},null,null,null,"Flowers"]
[56,"Alfalfa","Alfalfa, yr4 senes to yr5 regrowth",51,0.5,"tons",2000,2,4000,1,3500,34,null,null,null,null,1,"Garlic",259,{"$f":"IF((VLOOKUP(Input!D25,Database_Tables!$R$6:$S$138,2,FALSE))+50>=(COUNTIF($B$6:$B$1005,Input!D25))+(VLOOKUP(Input!D25,Database_Tables!$R$6:$S$138,2,FALSE)),\"\",VLOOKUP((VLOOKUP(Input!D25,Database_Tables!$R$6:$S$138,2,FALSE))+50,$A$6:$C$1005,3,FALSE))","v":{"$error":"#N/A"}},{"$f":"IF((VLOOKUP(Input!D26,Database_Tables!$R$6:$S$138,2,FALSE))+50>=(COUNTIF($B$6:$B$1005,Input!D26))+(VLOOKUP(Input!D26,Database_Tables!$R$6:$S$138,2,FALSE)),\"\",VLOOKUP((VLOOKUP(Input!D26,Database_Tables!$R$6:$S$138,2,FALSE))+50,$A$6:$C$1005,3,FALSE))","v":{"$error":"#N/A"}},{"$f":"IF((VLOOKUP(Input!D27,Database_Tables!$R$6:$S$138,2,FALSE))+50>=(COUNTIF($B$6:$B$1005,Input!D27))+(VLOOKUP(Input!D27,Database_Tables!$R$6:$S$138,2,FALSE)),\"\",VLOOKUP((VLOOKUP(Input!D27,Database_Tables!$R$6:$S$138,2,FALSE))+50,$A$6:$C$1005,3,FALSE))","v":{"$error":"#N/A"}},{"$f":"IF((VLOOKUP(Input!D28,Database_Tables!$R$6:$S$138,2,FALSE))+50>=(COUNTIF($B$6:$B$1005,Input!D28))+(VLOOKUP(Input!D28,Database_Tables!$R$6:$S$138,2,FALSE)),\"\",VLOOKUP((VLOOKUP(Input!D28,Database_Tables!$R$6:$S$138,2,FALSE))+50,$A$6:$C$1005,3,FALSE))","v":{"$error":"#N/A"}},{"$f":"IF((VLOOKUP(Input!D29,Database_Tables!$R$6:$S$138,2,FALSE))+50>=(COUNTIF($B$6:$B$1005,Input!D29))+(VLOOKUP(Input!D29,Database_Tables!$R$6:$S$138,2,FALSE)),\"\",VLOOKUP((VLOOKUP(Input!D29,Database_Tables!$R$6:$S$138,2,FALSE))+50,$A$6:$C$1005,3,FALSE))","v":{"$error":"#N/A"}},null,{"$f":"IF((VLOOKUP(Input!R25,Database_Tables!$R$6:$S$138,2,FALSE))+50>=(COUNTIF($B$6:$B$1005,Input!R25))+(VLOOKUP(Input!R25,Database_Tables!$R$6:$S$138,2,FALSE)),\"\",VLOOKUP((VLOOKUP(Input!R25,Database_Tables!$R$6:$S$138,2,FALSE))+50,$A$6:$C$1005,3,FALSE))","v":{"$error":"#N/A"}},{"$f":"IF((VLOOKUP(Input!R26,Database_Tables!$R$6:$S$138,2,FALSE))+50>=(COUNTIF($B$6:$B$1005,Input!R26))+(VLOOKUP(Input!R26,Database_Tables!$R$6:$S$138,2,FALSE)),\"\",VLOOKUP((VLOOKUP(Input!R26,Database_Tables!$R$6:$S$138,2,FALSE))+50,$A$6:$C$1005,3,FALSE))","v":{"$error":"#N/A"}},{"$f":"IF((VLOOKUP(Input!R27,Database_Tables!$R$6:$S$138,2,FALSE))+50>=(COUNTIF($B$6:$B$1005,Input!R27))+(VLOOKUP(Input!R27,Database_Tables!$R$6:$S$138,2,FALSE)),\"\",VLOOKUP((VLOOKUP(Input!R27,Database_Tables!$R$6:$S$138,2,FALSE))+50,$A$6:$C$1005,3,FALSE))","v":{"$error":"#N/A"}},{"$f":"IF((VLOOKUP(Input!R28,Database_Tables!$R$6:$S$138,2,FALSE))+50>=(COUNTIF($B$6:$B$1005,Input!R28))+(VLOOKUP(Input!R28,Database_Tables!$R$6:$S$138,2,FALSE)),\"\",VLOOKUP((VLOOKUP(Input!R28,Database_Tables!$R$6:$S$138,2,FALSE))+50,$A$6:$C$1005,3,FALSE))","v":{"$error":"#N/A"}},{"$f":"IF((VLOOKUP(Input!R29,Database_Tables!$R$6:$S$138,2,FALSE))+50>=(COUNTIF($B$6:$B$1005,Input!R29))+(VLOOKUP(Input!R29,Database_Tables!$R$6:$S$138,2,FALSE)),\"\",VLOOKUP((VLOOKUP(Input!R29,Database_Tables!$R$6:$S$138,2,FALSE))+50,$A$6:$C$1005,3,FALSE))","v":{"$error":"#N/A"}},null,null,null,"Garlic"]
[57,"Alfalfa","Alfalfa, yr4 senes winter graze to yr5 regrowth",52,0.5,"tons",2000,2,4000,1,3500,47,null,null,null,null,4,"Ginseng",260,{"$f":"IF((VLOOKUP(Input!D25,Database_Tables!$R$6:$S$138,2,FALSE))+51>=(COUNTIF($B$6:$B$1005,Input!D25))+(VLOOKUP(Input!D25,Database_Tables!$R$6:$S$138,2,FALSE)),\"\",VLOOKUP((VLOOKUP(Input!D25,Database_Tables!$R$6:$S$138,2,FALSE))+51,$A$6:$C$1005,3,FALSE))","v":{"$error":"#N/A"}},{"$f":"IF((VLOOKUP(Input!D26,Database_Tables!$R$6:$S$138,2,FALSE))+51>=(COUNTIF($B$6:$B$1005,Input!D26))+(VLOOKUP(Input!D26,Database_Tables!$R$6:$S$138,2,FALSE)),\"\",VLOOKUP((VLOOKUP(Input!D26,Database_Tables!$R$6:$S$138,2,FALSE))+51,$A$6:$C$1005,3,FALSE))","v":{"$error":"#N/A"}},{"$f":"IF((VLOOKUP(Input!D27,Database_Tables!$R$6:$S$138,2,FALSE))+51>=(COUNTIF($B$6:$B$1005,Input!D27))+(VLOOKUP(Input!D27,Database_Tables!$R$6:$S$138,2,FALSE)),\"\",VLOOKUP((VLOOKUP(Input!D27,Database_Tables!$R$6:$S$138,2,FALSE))+51,$A$6:$C$1005,3,FALSE))","v":{"$error":"#N/A"}},{"$f":"IF((VLOOKUP(Input!D28,Database_Tables!$R$6:$S$138,2,FALSE))+51>=(COUNTIF($B$6:$B$1005,Input!D28))+(VLOOKUP(Input!D28,Database_Tables!$R$6:$S$138,2,FALSE)),\"\",VLOOKUP((VLOOKUP(Input!D28,Database_Tables!$R$6:$S$138,2,FALSE))+51,$A$6:$C$1005,3,FALSE))","v":{"$error":"#N/A"}},{"$f":"IF((VLOOKUP(Input!D29,Database_Tables!$R$6:$S$138,2,FALSE))+51>=(COUNTIF($B$6:$B$1005,Input!D29))+(VLOOKUP(Input!D29,Database_Tables!$R$6:$S$138,2,FALSE)),\"\",VLOOKUP((VLOOKUP(Input!D29,Database_Tables!$R$6:$S$138,2,FALSE))+51,$A$6:$C$1005,3,FALSE))","v":{"$error":"#N/A"}},null,{"$f":"IF((VLOOKUP(Input!R25,Database_Tables!$R$6:$S$138,2,FALSE))+51>=(COUNTIF($B$6:$B$1005,Input!R25))+(VLOOKUP(Input!R25,Database_Tables!$R$6:$S$138,2,FALSE)),\"\",VLOOKUP((VLOOKUP(Input!R25,Database_Tables!$R$6:$S$138,2,FALSE))+51,$A$6:$C$1005,3,FALSE))","v":{"$error":"#N/A"}},{"$f":"IF((VLOOKUP(Input!R26,Database_Tables!$R$6:$S$138,2,FALSE))+51>=(COUNTIF($B$6:$B$1005,Input!R26))+(VLOOKUP(Input!R26,Database_Tables!$R$6:$S$138,2,FALSE)),\"\",VLOOKUP((VLOOKUP(Input!R26,Database_Tables!$R$6:$S$138,2,FALSE))+51,$A$6:$C$1005,3,FALSE))","v":{"$error":"#N/A"}},{"$f":"IF((VLOOKUP(Input!R27,Database_Tables!$R$6:$S$138,2,FALSE))+51>=(COUNTIF($B$6:$B$1005,Input!R27))+(VLOOKUP(Input!R27,Database_Tables!$R$6:$S$138,2,FALSE)),\"\",VLOOKUP((VLOOKUP(Input!R27,Database_Tables!$R$6:$S$138,2,FALSE))+51,$A$6:$C$1005,3,FALSE))","v":{"$error":"#N/A"}},{"$f":"IF((VLOOKUP(Input!R28,Database_Tables!$R$6:$S$138,2,FALSE))+51>=(COUNTIF($B$6:$B$1005,Input!R28))+(VLOOKUP(Input!R28,Database_Tables!$R$6:$S$138,2,FALSE)),\"\",VLOOKUP((VLOOKUP(Input!R28,Database_Tables!$R$6:$S$138,2,FALSE))+51,$A$6:$C$1005,3,FALSE))","v":{"$error":"#N/A"}},{"$f":"IF((VLOOKUP(Input!R29,Database_Tables!$R$6:$S$138,2,FALSE))+51>=(COUNTIF($B$6:$B$1005,Input!R29))+(VLOOKUP(Input!R29,Database_Tables!$R$6:$S$138,2,FALSE)),\"\",VLOOKUP((VLOOKUP(Input!R29,Database_Tables!$R$6:$S$138,2,FALSE))+51,$A$6:$C$1005,3,FALSE))","v":{"$error":"#N/A"}},null,null,null,"Ginseng"]
[58,"Alfalfa-oat","Alfalfa-oat(silage), spring seed",53,0.5,"tons",2000,8,5000,0.3125,1400,32,null,null,null,null,1,"Gladiola",264,{"$f":"IF((VLOOKUP(Input!D25,Database_Tables!$R$6:$S$138,2,FALSE))+52>=(COUNTIF($B$6:$B$1005,Input!D25))+(VLOOKUP(Input!D25,Database_Tables!$R$6:$S$138,2,FALSE)),\"\",VLOOKUP((VLOOKUP(Input!D25,Database_Tables!$R$6:$S$138,2,FALSE))+52,$A$6:$C$1005,3,FALSE))","v":{"$error":"#N/A"}},{"$f":"IF((VLOOKUP(Input!D26,Database_Tables!$R$6:$S$138,2,FALSE))+52>=(COUNTIF($B$6:$B$1005,Input!D26))+(VLOOKUP(Input!D26,Database_Tables!$R$6:$S$138,2,FALSE)),\"\",VLOOKUP((VLOOKUP(Input!D26,Database_Tables!$R$6:$S$138,2,FALSE))+52,$A$6:$C$1005,3,FALSE))","v":{"$error":"#N/A"}},{"$f":"IF((VLOOKUP(Input!D27,Database_Tables!$R$6:$S$138,2,FALSE))+52>=(COUNTIF($B$6:$B$1005,Input!D27))+(VLOOKUP(Input!D27,Database_Tables!$R$6:$S$138,2,FALSE)),\"\",VLOOKUP((VLOOKUP(Input!D27,Database_Tables!$R$6:$S$138,2,FALSE))+52,$A$6:$C$1005,3,FALSE))","v":{"$error":"#N/A"}},{"$f":"IF((VLOOKUP(Input!D28,Database_Tables!$R$6:$S$138,2,FALSE))+52>=(COUNTIF($B$6:$B$1005,Input!D28))+(VLOOKUP(Input!D28,Database_Tables!$R$6:$S$138,2,FALSE)),\"\",VLOOKUP((VLOOKUP(Input!D28,Database_Tables!$R$6:$S$138,2,FALSE))+52,$A$6:$C$1005,3,FALSE))","v":{"$error":"#N/A"}},{"$f":"IF((VLOOKUP(Input!D29,Database_Tables!$R$6:$S$138,2,FALSE))+52>=(COUNTIF($B$6:$B$1005,Input!D29))+(VLOOKUP(Input!D29,Database_Tables!$R$6:$S$138,2,FALSE)),\"\",VLOOKUP((VLOOKUP(Input!D29,Database_Tables!$R$6:$S$138,2,FALSE))+52,$A$6:$C$1005,3,FALSE))","v":{"$error":"#N/A"}},null,{"$f":"IF((VLOOKUP(Input!R25,Database_Tables!$R$6:$S$138,2,FALSE))+52>=(COUNTIF($B$6:$B$1005,Input!R25))+(VLOOKUP(Input!R25,Database_Tables!$R$6:$S$138,2,FALSE)),\"\",VLOOKUP((VLOOKUP(Input!R25,Database_Tables!$R$6:$S$138,2,FALSE))+52,$A$6:$C$1005,3,FALSE))","v":{"$error":"#N/A"}},{"$f":"IF((VLOOKUP(Input!R26,Database_Tables!$R$6:$S$138,2,FALSE))+52>=(COUNTIF($B$6:$B$1005,Input!R26))+(VLOOKUP(Input!R26,Database_Tables!$R$6:$S$138,2,FALSE)),\"\",VLOOKUP((VLOOKUP(Input!R26,Database_Tables!$R$6:$S$138,2,FALSE))+52,$A$6:$C$1005,3,FALSE))","v":{"$error":"#N/A"}},{"$f":"IF((VLOOKUP(Input!R27,Database_Tables!$R$6:$S$138,2,FALSE))+52>=(COUNTIF($B$6:$B$1005,Input!R27))+(VLOOKUP(Input!R27,Database_Tables!$R$6:$S$138,2,FALSE)),\"\",VLOOKUP((VLOOKUP(Input!R27,Database_Tables!$R$6:$S$138,2,FALSE))+52,$A$6:$C$1005,3,FALSE))","v":{"$error":"#N/A"}},{"$f":"IF((VLOOKUP(Input!R28,Database_Tables!$R$6:$S$138,2,FALSE))+52>=(COUNTIF($B$6:$B$1005,Input!R28))+(VLOOKUP(Input!R28,Database_Tables!$R$6:$S$138,2,FALSE)),\"\",VLOOKUP((VLOOKUP(Input!R28,Database_Tables!$R$6:$S$138,2,FALSE))+52,$A$6:$C$1005,3,FALSE))","v":{"$error":"#N/A"}},{"$f":"IF((VLOOKUP(Input!R29,Database_Tables!$R$6:$S$138,2,FALSE))+52>=(COUNTIF($B$6:$B$1005,Input!R29))+(VLOOKUP(Input!R29,Database_Tables!$R$6:$S$138,2,FALSE)),\"\",VLOOKUP((VLOOKUP(Input!R29,Database_Tables!$R$6:$S$138,2,FALSE))+52,$A$6:$C$1005,3,FALSE))","v":{"$error":"#N/A"}},null,null,null,"Gladiola"]
[59,"Alfalfa-oat","Alfalfa-oat, grwth after oat harv to y2 regrth",54,0.5,"tons",2000,1.5,3000,1,2500,46,null,null,null,null,3,"Grama",265,null,null,null,null,null,null,null,null,null,null,null,null,null,null,"Grama"]
[60,"Alfalfa-oat","Alfalfa-oat, nurse crop spring seed",55,0.5,"bu",32,60,3840,2,1800,35,null,null,null,null,14,"Grass seed",268,null,null,null,null,null,null,null,null,null,null,null,null,null,null,"Grass seed"]
[61,"Alfalfa-oat","Alfalfa-oat, silage harv to yr2  1st cut",56,0.5,"tons",2000,1.5,3000,1,2500,40,null,null,null,null,15,"Grass",282,null,null,null,null,null,null,null,null,null,null,null,null,null,null,"Grass"]
[62,"Almond","Almond, Pistachio; bare ground",57,0.5,"lbs",1,2000,2000,1,300,30,null,null,null,null,1,"Greens",297,null,null,null,null,null,null,null,null,null,null,null,null,null,null,"Greens"]
[63,"Almond","Almond, Pistachio; fall sm grain cov crop",58,0.5,"lbs",1,2000,2000,1,1100,41,null,null,null,null,1,"Guar",298,null,null,null,null,null,null,null,null,null,null,null,null,null,null,"Guar"]
[64,"Almond","Almond, Pistachio; permanent grass cov crop",59,0.5,"lbs",1,2000,2000,1,6800,43,null,null,null,null,3,"Hardwood",299,null,null,null,null,null,null,null,null,null,null,null,null,null,null,"Hardwood"]
[65,"Almond","Almond, Pistachio; weeds annual cover",60,0.5,"lbs",1,2000,2000,1,1270,37,null,null,null,null,3,"Hops",302,null,null,null,null,null,null,null,null,null,null,null,null,null,null,"Hops"]
[66,"Amaranth","Amaranth",61,0.5,"lbs",1,1500,1650,1.1000000000000001,1100,8,null,null,null,null,1,"Horseradish",305,null,null,null,null,null,null,null,null,null,null,null,null,null,null,"Horseradish"]
[67,"Artichoke","Artichoke, annual",62,0.5,"boxes",22,450,1800,0.182,600,17,null,null,null,null,2,"Kale",306,null,null,null,null,null,null,null,null,null,null,null,null,null,null,"Kale"]
[68,"Artichoke","Artichoke, perennial, established",63,0.5,"boxes",22,450,1800,0.182,600,33,null,null,null,null,1,"Kenaf",308,null,null,null,null,null,null,null,null,null,null,null,null,null,null,"Kenaf"]
[69,"Artichoke","Artichoke, perennial, transplants or sprigs",64,0.5,"boxes",22,450,1800,0.182,600,43,null,null,null,null,1,"Lavender",309,null,null,null,null,null,null,null,null,null,null,null,null,null,null,"Lavender"]
[70,"Artichoke","Artichoke, perennial",65,0.5,"boxes",22,450,1800,0.182,600,20,null,null,null,null,1,"Legume",{"$f":"VLOOKUP(R70,$B$6:$D$1005,3,FALSE)+5","v":310},null,null,null,null,null,null,null,null,null,null,null,null,null,null,"Legume"]
[{"$f":"ROW(B71)","v":71},"Asparagus","Asparagus, yr1 and 2",66,0.5,"lbs",1,500,500,1,200,{"$f":"LEN(C71)","v":20},null,null,null,null,3,"Lentils",311,null,null,null,null,null,null,null,null,null,null,null,null,null,null,"Lentils"]
[72,"Asparagus","Asparagus, yr1 cover crop",67,0.5,"lbs",1,500,500,1,420,25,null,null,null,null,4,"Lettuce",314,null,null,null,null,null,null,null,null,null,null,null,null,null,null,"Lettuce"]
[73,"Asparagus","Asparagus, yr2 cover crop",68,0.5,"lbs",1,1000,1000,1,430,25,null,null,null,null,4,"Lily",318,null,null,null,null,null,null,null,null,null,null,null,null,null,null,"Lily"]
[74,"Asparagus","Asparagus, yr3+  HI PROD",69,0.5,"lbs",1,3300,3000,0.91,240,24,null,null,null,null,1,"Meadowfoam",322,null,null,null,null,null,null,null,null,null,null,null,null,null,null,"Meadowfoam"]
[75,"Asparagus","Asparagus, yr3+ cover crop",70,0.5,"lbs",1,2000,2000,1,520,26,null,null,null,null,1,"Millet",323,null,null,null,null,null,null,null,null,null,null,null,null,null,null,"Millet"]
[76,"Asparagus","Asparagus, yr3+",71,0.5,"lbs",1,2000,2000,1,200,15,null,null,null,null,10,"Mint",324,null,null,null,null,null,null,null,null,null,null,null,null,null,null,"Mint"]
[77,"Bahiagrass","Bahiagrass, y2+ senesc thru  yr3 + greenup",72,0.5,"lbs",1,4000,4000,1,1900,42,null,null,null,null,4,"Miscanthus",334,null,null,null,null,null,null,null,null,null,null,null,null,null,null,"Mungbean"]
[78,"Bahiagrass","Bahiagrass, yr1 spring seeded",73,0.5,"lbs",1,4000,4000,1,1400,29,null,null,null,null,1,"Mungbean",338,null,null,null,null,null,null,null,null,null,null,null,null,null,null,"Muskmelon"]
[79,"Bahiagrass","Bahiagrass, yr2+ regrowth",74,0.5,"lbs",1,4000,4000,1,1900,25,null,null,null,null,1,"Muskmelon",339,null,null,null,null,null,null,null,null,null,null,null,null,null,null,"Mustard"]
[80,"Barley","Barley, annual winter vineyard cover, CA, 3 mowings",75,0.75,"lbs",1,3000,3000,1,1050,51,null,null,null,null,4,"Mustard",340,null,null,null,null,null,null,null,null,null,null,null,null,null,null,"Oats"]
[81,"Barley","Barley, annual winter vineyard cover, CA",76,0.75,"lbs",1,3000,3000,1,1050,40,null,null,null,null,{"$f":"COUNTIF($B$6:$B$1004,R81)","v":15},"Oats",344,null,null,null,null,null,null,null,null,null,null,null,null,null,null,"Okra"]
[82,"Barley","Barley, annual winter, cover crop, CA",77,0.75,"lbs",1,3000,3000,1,950,37,null,null,null,null,2,"Okra",359,null,null,null,null,null,null,null,null,null,null,null,null,null,null,"Onion"]
[83,"Barley","Barley, annual winter, grain, CA",78,0.75,"lbs",1,2150,3010,1.4,893,32,null,null,null,null,6,"Onion",361,null,null,null,null,null,null,null,null,null,null,null,null,null,null,"Orchard"]
[84,"Barley","Barley, regrowth after forage harvest",79,0.5,"tons",2000,0.4,800,1,1000,37,null,null,null,null,15,"Orchard",367,null,null,null,null,null,null,null,null,null,null,null,null,null,null,"Orchardgrass"]
[85,"Barley","Barley, spring, CMZ 10, 10 in. spac.",80,0.75,"lbs",1,3000,3090,1.03,780,36,null,null,null,null,6,"Orchardgrass",382,null,null,null,null,null,null,null,null,null,null,null,null,null,null,"Palm"]
[86,"Barley","Barley, spring, CMZ 47, 7 in. spac.",81,0.75,"lbs",1,2500,2800,1.1200000000000001,676,35,null,null,null,null,2,"Palm",388,null,null,null,null,null,null,null,null,null,null,null,null,null,null,"Peanut"]
[87,"Barley","Barley, spring, CMZ 50, 7 in. spac.",82,0.75,"tons",2000,2,4400,1.1000000000000001,1100,35,null,null,null,null,2,"Peanut",390,null,null,null,null,null,null,null,null,null,null,null,null,null,null,"Peas"]
[88,"Barley","Barley, spring, hay",83,0.75,"bu",48,55,3960,1.5,1100,19,null,null,null,null,10,"Peas",392,null,null,null,null,null,null,null,null,null,null,null,null,null,null,"Pecan"]
[89,"Barley","Barley, spring",84,1,"lbs",1,2500,3400,1.36,852,14,null,null,null,null,4,"Pecan",402,null,null,null,null,null,null,null,null,null,null,null,null,null,null,"Peppers"]
[90,"Barley","Barley, winter, CMZ 10, 10 in. spac.",85,1,"lbs",1,3000,3800,1.2666666666666699,1111,36,null,null,null,null,4,"Peppers",406,null,null,null,null,null,null,null,null,null,null,null,null,null,null,"Pine bluegrass"]
[91,"Barley","Barley, winter, CMZ 47, 7 in. spac.",86,0.5,"tons",2000,3,6500,1.0833333333333299,1510,35,null,null,null,null,2,"Pine bluegrass",410,null,null,null,null,null,null,null,null,null,null,null,null,null,null,"Pine blugrass"]
[92,"Barley","Barley, winter, hay",87,0.5,"bu",48,90,6480,1.5,1510,19,null,null,null,null,2,"Pine",412,null,null,null,null,null,null,null,null,null,null,null,null,null,null,"Pine"]
[93,"Barley","Barley, winter",88,0.75,"lbs",1,1400,1400,1,260,14,null,null,null,null,4,"Potato",414,null,null,null,null,null,null,null,null,null,null,null,null,null,null,"Potato"]
[94,"Beans","Bean, field 30in rows",89,0.75,"lbs",1,1400,1400,1,290,21,null,null,null,null,1,"Pumpkin",418,null,null,null,null,null,null,null,null,null,null,null,null,null,null,"Pumpkin"]
[95,"Beans","Bean, field 7in rows",90,0.5,"lbs",1,4000,2400,0.6,130,20,null,null,null,null,8,"Radish",419,null,null,null,null,null,null,null,null,null,null,null,null,null,null,"Radish"]
[96,"Beans","Bean, green snap hand pick",91,0.5,"lbs",1,8100,2430,0.3,140,26,null,null,null,null,9,"Range",427,null,null,null,null,null,null,null,null,null,null,null,null,null,null,"Range"]
[97,"Beans","Bean, green snap mech harv HI PROD",92,0.5,"lbs",1,5000,2000,0.4,120,34,null,null,null,null,3,"Raspberry",436,null,null,null,null,null,null,null,null,null,null,null,null,null,null,"Raspberry"]
[98,"Beans","Bean, green snap mech harv",93,0.5,"tons",2000,1.2,1000,0.41666666666666702,850,26,null,null,null,null,10,"Rice",439,null,null,null,null,null,null,null,null,null,null,null,null,null,null,"Rice"]
[99,"Beans","Bean, lima processing",94,0.5,"lbs",1,2400,1000,0.41666666666666702,850,21,null,null,null,null,19,"Rye",449,null,null,null,null,null,null,null,null,null,null,null,null,null,null,"Rye"]
[100,"Beans","Bean, lima",95,0.5,"lbs",1,750,750,1,300,10,null,null,null,null,10,"Ryegrass",468,null,null,null,null,null,null,null,null,null,null,null,null,null,null,"Ryegrass"]
[101,"Beans","Bean, pinto",96,0.5,"lbs",1,1200,1680,1.4,210,11,null,null,null,null,1,"Safflower",478,null,null,null,null,null,null,null,null,null,null,null,null,null,null,"Safflower"]
[102,"Beans","Beans, garbonzo",97,0.5,"lbs",1,29000,1044,3.5999999999999997E-2,130,15,null,null,null,null,1,"Sericean Lespedeza",{"$f":"VLOOKUP(R102,$B$6:$D$1005,3,FALSE)+5","v":479},null,null,null,null,null,null,null,null,null,null,null,null,null,null,"Sericean Lespedeza"]
[103,"Beets","Beet, red garden var",98,0.5,"lbs",1,430,1720,4,320,20,null,null,null,null,2,"Sesame",480,null,null,null,null,null,null,null,null,null,null,null,null,null,null,"Sesame"]
[104,"Belladonna","Belladonna, yr1",99,0.5,"lbs",1,1000,2500,2.5,520,15,null,null,null,null,1,"Silvopasture",482,null,null,null,null,null,null,null,null,null,null,null,null,null,null,"Silvopasture"]
[105,"Belladonna","Belladonna, yr2",100,0.5,"lbs",1,2000,2000,1,1300,15,null,null,null,null,4,"Small grain",483,null,null,null,null,null,null,null,null,null,null,null,null,null,null,"Small grain"]
[106,"Bermudagrass","Bermudagrass, 1st yr",101,0.5,"lbs",1,2000,2000,1,3900,20,null,null,null,null,12,"Sorghum",487,null,null,null,null,null,null,null,null,null,null,null,null,null,null,"Sorghum"]
[107,"Bermudagrass","Bermudagrass, coastal regrowth yr2+",102,0.5,"lbs",1,2000,2000,1,3900,35,null,null,null,null,19,"Soybean",499,null,null,null,null,null,null,null,null,null,null,null,null,null,null,"Soybean"]
[108,"Bermudagrass","Bermudagrass, coastal spring seeded 1st year",103,0.5,"lbs",1,4000,4000,1,3900,44,null,null,null,null,3,"Spinach",518,null,null,null,null,null,null,null,null,null,null,null,null,null,null,"Spinach"]
[109,"Bermudagrass","Bermudagrass, coastal, y2+ senesc thru  yr3 + greenup",104,0.5,"lbs",1,1500,1500,1,3400,53,null,null,null,null,2,"Squash",521,null,null,null,null,null,null,null,null,null,null,null,null,null,null,"Squash"]
[110,"Bermudagrass","Bermudagrass, common regrowth yr2+",105,0.5,"lbs",1,2000,2000,1,3400,34,null,null,null,null,7,"Strawberry",523,null,null,null,null,null,null,null,null,null,null,null,null,null,null,"Strawberry"]
[111,"Bermudagrass","Bermudagrass, common spring seeded 1st year",106,0.5,"lbs",1,4000,4000,1,3400,43,null,null,null,null,2,"Sugarbeet",530,null,null,null,null,null,null,null,null,null,null,null,null,null,null,"Sugarbeet"]
[112,"Bermudagrass","Bermudagrass, common, y1 regrowth and senesc thru  yr2 greenup",107,0.5,"lbs",1,4000,4000,1,3400,62,null,null,null,null,1,"Sugarbush",532,null,null,null,null,null,null,null,null,null,null,null,null,null,null,"Sugarbush"]
[113,"Bermudagrass","Bermudagrass, common, y2+ senesc thru  yr3 + greenup",108,0.5,"lbs",1,4000,4000,1,3730,52,null,null,null,null,{"$f":"COUNTIF($B$6:$B$1004,R113)","v":10},"Sugarcane",533,null,null,null,null,null,null,null,null,null,null,null,null,null,null,"Sugarcane"]
[114,"Blueberry","Blueberry, low bush, cov crop",109,0.5,"lbs",1,4000,3000,0.75,770,29,null,null,null,null,1,"Sunflower",543,null,null,null,null,null,null,null,null,null,null,null,null,null,null,"Sunflower"]
[115,"Blueberry","Blueberry, low bush",110,0.5,"lbs",1,4000,3200,0.8,700,19,null,null,null,null,3,"Switchgrass",544,null,null,null,null,null,null,null,null,null,null,null,null,null,null,"Switchgrass"]
[116,"Blueberry","Blueberry, med bush",111,0.5,"lbs",1,4000,3400,0.85,630,19,null,null,null,null,16,"Tall fescue",547,null,null,null,null,null,null,null,null,null,null,null,null,null,null,"Tall fescue"]
[117,"Blueberry","Blueberry, tall bush",112,0.5,"lbs",1,6000,3000,0.5,1155,20,null,null,null,null,3,"Teff",563,null,null,null,null,null,null,null,null,null,null,null,null,null,null,"Teff"]
[118,"Blueberry","Blueberry, wild, low bush",113,0.5,"tons",2000,0.75,1500,1,2500,25,null,null,null,null,7,"Timothy",566,null,null,null,null,null,null,null,null,null,null,null,null,null,null,"Timothy"]
[119,"Bluestem","Bluestem, old world, established,  regrowth after grazing or hay",114,0.5,"tons",2000,1.25,2500,1,2500,64,null,null,null,null,3,"Tobacco",573,null,null,null,null,null,null,null,null,null,null,null,null,null,null,"Tobacco"]
[120,"Bluestem","Bluestem, old world, established, senesc thru spring regrowth",115,1,"tons",2000,1.6,2400,0.75,1680,61,null,null,null,null,1,"Tomatilla",576,null,null,null,null,null,null,null,null,null,null,null,null,null,null,"Tomatilla"]
[121,"Brassica","Brassica pasture, forage turnip",116,1,"tons",2000,1.6,2400,0.75,1680,31,null,null,null,null,3,"Tomato",577,null,null,null,null,null,null,null,null,null,null,null,null,null,null,"Tomato"]
[122,"Brassica","Brassica, winter cover crop,  forage turnip",117,0.5,"lbs",1,300,2100,7,300,null,null,null,null,null,23,"Tree",580,null,null,null,null,null,null,null,null,null,null,null,null,null,null,"Tree"]
[123,"Brocolli","Brocolli and Cabbage seed",118,0.5,"lbs",1,4100,1800,0.439,200,null,null,null,null,null,3,"Triticale",603,null,null,null,null,null,null,null,null,null,null,null,null,null,null,"Triticale"]
[124,"Brocolli","Brocolli, fall",119,0.5,"lbs",1,15000,2880,0.192,250,null,null,null,null,null,30,"Turfgrass",606,null,null,null,null,null,null,null,null,null,null,null,null,null,null,"Turfgrass"]
[125,"Brocolli","Brocolli, HI PROD",120,0.5,"lbs",1,4100,1800,0.439,200,null,null,null,null,null,2,"Turnip",636,null,null,null,null,null,null,null,null,null,null,null,null,null,null,"Turnip"]
[126,"Brocolli","Brocolli, spring",121,0.75,"lbs",1,3000,3000,1,1900,null,null,null,null,null,7,"Vetch",638,null,null,null,null,null,null,null,null,null,null,null,null,null,null,"Vetch"]
[127,"Brome","Brome, annual (Blando), winter vineyard cover, CA",122,0.5,"lbs",1,3000,3000,1,7000,null,null,null,null,null,13,"Vineyard",645,null,null,null,null,null,null,null,null,null,null,null,null,null,null,"Vineyard"]
[128,"Bromegrass","Brome, California, established vineyard cover, CA",123,0.75,"lbs",1,3000,3000,1,3000,null,null,null,null,null,2,"Watermelon",658,null,null,null,null,null,null,null,null,null,null,null,null,null,null,"Watermelon"]
[129,"Bromegrass","Brome, California, seeding period, vineyard cover, CA",124,0.5,"tons",2000,0.7,1400,1,4000,null,null,null,null,null,9,"Weeds",660,null,null,null,null,null,null,null,null,null,null,null,null,null,null,"Weeds"]
[130,"Bromegrass","Bromegrass, fall seed senes to yr2 regrowth ",125,0.5,"tons",2000,2,4000,1,4500,null,null,null,null,null,50,"Wheat",669,null,null,null,null,null,null,null,null,null,null,null,null,null,null,"Wheat"]
[131,"Bromegrass","Bromegrass, hay, yr2 overwinter to yr3 regrowth after fall aftermath removal",126,0.5,"tons",2000,1.5,3000,1,4000,null,null,null,null,null,1,"Yarrow",719,null,null,null,null,null,null,null,null,null,null,null,null,null,null,"Yarrow"]
[132,"Bromegrass","Bromegrass, hay, yr2 regrowth after cut",127,0.5,"tons",2000,2,4000,1,4700,null,null,null,null,null,40,"Alaska Crops",722,null,null,null,null,null,null,null,null,null,null,null,null,null,null,"Alaska Crops"]
[133,"Bromegrass","Bromegrass, hay, yr2 senes to yr3 regrowth",128,0.5,"tons",2000,2,4000,1,4500,null,null,null,null,null,32,"Forest Range",762,null,null,null,null,null,null,null,null,null,null,null,null,null,null,"Forest Range"]
[134,"Bromegrass","Bromegrass, hay, yr3 plus, overwinter to yr4 plus, regrowth after fall aftermath removal",129,0.5,"tons",2000,1.5,3000,1,4500,null,null,null,null,null,53,"Perm. Cover",{"$f":"VLOOKUP(R134,$B$6:$D$1005,3,FALSE)+5","v":794},null,null,null,null,null,null,null,null,null,null,null,null,null,null,"Perm. Cover"]
[135,"Bromegrass","Bromegrass, hay, yr3 regrowth after cut ",130,0.5,"tons",2000,2.25,4500,1,4500,null,null,null,null,null,50,"Tropical A-D",847,null,null,null,null,null,null,null,null,null,null,null,null,null,null,"Tropical A-D"]
[136,"Bromegrass","Bromegrass, hay, yr3 senes to yr4 regrowth",131,0.5,"tons",2000,1.5,3000,1,4000,null,null,null,null,null,36,"Tropical E-O",897,null,null,null,null,null,null,null,null,null,null,null,null,null,null,"Tropical E-O"]
[137,"Bromegrass","Bromegrass, spring seed 1st yr",132,0.5,"bu",48,25,1800,1.5,80,30,null,null,null,null,47,"Tropical P-S",933,null,null,null,null,null,null,null,null,null,null,null,null,null,null,"Tropical P-S"]
[138,"Buckwheat","Buckwheat",133,0.5,"lbs",1,17600,4930,0.28000000000000003,280,9,null,null,null,null,25,"Tropical T-Z",980]
[139,"Bulbs","Bulbs, lilly",134,0.5,"lbs",1,52800,5850,0.111,400,12]
[null,"Cabbage","Cabbage, for kraut",135,0.5,"lbs",1,39000,4260,0.10923076923076901,410]
[null,"Cabbage","Cabbage, HI PROD",136,0.5,"lbs",1,23000,2550,0.110869565217391,347.95299999999997]
[null,"Cabbage","Cabbage",137]
[143,"Camelina","Camelina",138,0.5,"lbs",1,1500,2144.19,1.42946,850,8]
[144,"Canola","Canola, spring ",139,1,"lbs",1,1200,2400,2,1680,15]
[145,"Canola","Canola, winter ",140,1,"lbs",1,1100,2200,2,1100,15]
[146,"Cantaloupe","Cantaloupe, HI PROD",141,0.5,"lbs",1,24800,2160,8.6999999999999994E-2,240,19]
[147,"Cantaloupe","Cantaloupe",142,0.5,"lbs",1,14100,1800,0.128,200,10]
[148,"Carrot","Carrot and Onion seed",143,0.5,"lbs",1,300,1100,3.6666666666666701,240,21]
[149,"Carrot","Carrot, fresh market",144,0.5,"lbs",1,28400,600,2.1126760563380299E-2,130,20]
[150,"Carrot","Carrot, hybrid seed production",145,0.5,"lbs",1,350,1100,3.1428571428571401,280,30]
[151,"Carrot","Carrot, processing after small grain cover",146,0.5,"tons",2000,30,900,1.4999999999999999E-2,190,42]
[152,"Carrot","Carrot, processing",147,0.5,"tons",2000,30,900,1.4999999999999999E-2,190,18]
[{"$f":"ROW(B153)","v":153},"Cauliflower","Cauliflower, HI PROD",148,0.5,"lbs",1,18300,20300,1.1100000000000001,270,{"$f":"LEN(C153)","v":20}]
[154,"Cauliflower","Cauliflower",149,0.5,"lbs",1,10300,11100,1.08,270,11]
[155,"Celery","Celery, HI PROD",150,0.5,"lbs",1,69000,71100,1.0304347826086999,3180,15]
[156,"Celery","Celery",151,0.5,"lbs",1,48000,49700,1.0362499999999999,2700,6]
[157,"Chickpea ","Chickpea ",152,0.66,"lbs",1,1680,3696,2.2000000000000002,290,9]
[158,"Chicory","Chicory; seed Yr 1",153,0.5,"lbs",1,1600,4000,2.5,1100,18]
[159,"Chicory","Chicory; seed Yr 2",154,0.5,"lbs",1,1600,4000,2.5,1100,18]
[160,"Citrus","Citrus, bare ground",155,0.5,"lbs",1,20000,200,0.01,400,19]
[161,"Citrus","Citrus, cover in alley",156,0.5,"lbs",1,20000,200,0.01,1500,22]
[162,"Citrus","Citrus, full cover",157,0.5,"lbs",1,20000,200,0.01,3500,18]
[163,"Clover","Clover white seed; estb regrowth to seed harv.",158,0.5,"lbs",1,350,3500,10,2100,46]
[164,"Clover","Clover white seed; fall plant sens. to 2yr. hay or graze",159,0.5,"tons",2000,1,2000,1,2100,56]
[165,"Clover","Clover white seed; fall planted",160,0.5,"lbs",1,350,525,1.5,1600,31]
[166,"Clover","Clover white seed; spring planted",161,0.5,"lbs",1,500,750,1.5,2100,33]
[167,"Clover","Clover, annual",{"$f":"D166+1","v":162},0.5,"lbs",1,800,1200,1.5,1000,14]
[168,"Clover","Clover, annual, early Aug seeded",163,0.5,"tons",2000,1.5,3000,1,850,32]
[169,"Clover","Clover, annual, fall cover crop, early Aug seeded",164,0.5,"lbs",1,1500,1500,1,850,49]
[170,"Clover","Clover, annual, fall cover crop, mid Sept seeded",165,0.5,"lbs",1,750,750,1,300,48]
[171,"Clover","Clover, annual released growing cover after fall crop harvest",166,0.5,"tons",2000,1,2000,1,2100]
[172,"Clover","Clover, annual, seed",167,0.5,"lbs",1,800,1200,1.5,1000,20]
[173,"Clover","Clover, annual, summer seeded",168,0.5,"tons",2000,1.5,3000,1,850,29]
[174,"Clover","Clover, red  spring seed",169,0.5,"tons",2000,1.5,3000,1,770,24]
[175,"Clover","Clover, red , released growing cover after corn havest",170,0.5,"tons",2000,1.5,3000,1,2100,54]
[176,"Clover","Clover, red late summer seed senes to yr2 regrowth",171,0.5,"tons",2000,1.5,3000,1,2100,50]
[177,"Clover","Clover, red y1 regrowth after cut ",172,0.5,"tons",2000,1.5,3000,1,1500,34]
[178,"Clover","Clover, red y1 regrowth after small grain havest",173,0.5,"tons",2000,1.5,3000,1,2100,48]
[179,"Clover","Clover, red y1 senesc to y2 regrow",174,0.5,"tons",2000,1.5,3000,1,2100,34]
[180,"Clover","Clover, red y2 regrow after cut",175,0.5,"tons",2000,1.5,3000,1,2100,31]
[181,"Clover","Clover, red, NW spr seed, harv seed",176,0.5,"lbs",1,300,6000,20,1000,35]
[182,"Clover","Clover, red, NW spr seed, senes to yr2 regrowth",177,0.5,"tons",2000,3,6000,1,2100,47]
[183,"Clover","Clover, red, NW yr2 regrowth to seed harv",178,0.5,"lbs",1,600,6000,10,2100,41]
[184,"Clover","Clover, red, y2 senesc to yr3 regrowth",179,0.5,"tons",2000,1.5,3000,1,2300,38]
[185,"Clover","Clover, red, y3 regrow after cut",180,0.5,"tons",2000,1.3,2600,1,1900,32]
[186,"Clover","Clover, red, y3 senesc to spring greenup",181,0.5,"tons",2000,2,4000,1,1900,40]
[187,"Clover","Clover, red-oat nurse crop spring seed",182,0.5,"bu",32,60,3840,2,800,38]
[188,"Clover","Clover, red-timothy, fall seed senes to yr2 regrowth",183,0.5,"tons",2000,1.5,3000,1,2500,52]
[189,"Clover","Clover, red-timothy, spring seed",184,0.5,"tons",2000,1.5,3000,1,1500,32]
[190,"Clover","Clover, red-timothy, spring seed regrowth after cut",185,0.5,"tons",2000,1.5,3000,1,1500,51]
[191,"Clover","Clover, red-timothy, spring seed senes to y2 regrowth",186,0.5,"tons",2000,1.5,3000,1,2500,53]
[192,"Clover","Clover, red-timothy, y2 regrow after cut",187,0.5,"tons",2000,1.5,3000,1,2500,40]
[193,"Clover","Clover, red-timothy, y2 senesc to yr3 regrowth",188,0.5,"tons",2000,1.5,3000,1,2900,46]
[194,"Clover","Clover, red-timothy-oat nurse crop spring seed",189,0.5,"bu",32,60,3840,2,1500,46]
[195,"Clover","Clover, sweet, for seed or green manure",190,0.5,"tons",2000,1.5,3000,1,2700,39]
[196,"Clover","Clover, sweet, spring seed ",191,0.5,"tons",2000,1.5,3000,1,1000,27]
[197,"Clover","Clover, sweet, spring seed regrowth after cutting ",192,0.5,"tons",2000,1.5,3000,1,1100,50]
[198,"Clover","Clover, sweet, spring seed senes to y2 regrowth",193,0.5,"tons",2000,1.5,3000,1,2500,47]
[199,"Clover","Clover, sweet, yr2 regrowth after cutting ",194,0.5,"tons",2000,1.5,3000,1,2500,42]
[200,"Clover","Clover, sweet, yr2 senescence and death ",195,0.5,"tons",2000,1.5,3000,1,2500,40]
[201,"Collard","Collard greens, HI PROD",196,0.5,"lbs",1,16000,1800,0.1125,210,23]
[202,"Collard","Collard, greens",197,0.5,"lbs",1,8900,1000,0.112,190,15]
[203,"Conifer","Conifer, established",198,0.5,"cords",5350,75,401250,1,1142.4565169080299,20]
[204,"Corn","Corn, grain",199,0.5,"bu",56,112,6272,1,950,11]
[205,"Corn","Corn, grain  18 in rows",200,0.5,"bu",56,112,6272,1,950,23]
[206,"Corn","Corn, grain  18 in rows with interseeded cover",201,0.5,"bu",56,112,6272,1,950,46]
[207,"Corn","Corn, grain with grass weeds",202,0.5,"bu",56,112,6680,1.06505102040816,1012.38479262673,28]
[208,"Corn","Corn, grain with interseed oil seed radish cover",203,0.5,"bu",56,112,6272,1,1300,48]
[209,"Corn","Corn, grain with interseed Rye cover",204,0.5,"bu",56,112,6272,1,1300,36]
[210,"Corn","Corn, grain with interseed small grain cover",205,0.5,"bu",56,112,6272,1,1300,44]
[211,"Corn","Corn, grain with interseeded legume cover",206,0.5,"bu",56,112,6272,1,1300,41]
[212,"Corn","Corn, grain, 38 in rows",207,0.5,"bu",56,112,6272,1,900,23]
[213,"Corn","Corn, grain, high yield",208,0.5,"bu",56,200,10006.08,0.89339999999999997,1600,23]
[214,"Corn","Corn, pop",209,0.5,"lbs",1,3400,3060,0.9,489.91215437787997,9]
[215,"Corn","Corn, seed",210,0.5,"bu",56,60,2184,0.65,540,10]
[216,"Corn","Corn, seed, with interseeded cover",211,0.5,"bu",56,60,2184,0.65,950,34]
[217,"Corn","Corn, silage ",212,0.5,"tons",2000,23,16100,0.35,950,13]
[{"$f":"ROW(B218)","v":218},"Corn","Corn, silage  18 in rows ",213,0.5,"tons",2000,23,11600,0.35,950,{"$f":"LEN(C218)","v":25}]
[219,"Corn","Corn, silage 18 in. rows with interseed Rye cover ",214,0.5,"tons",2000,23,11500,0.25,1300,50]
[220,"Corn","Corn, silage and grass cover",215,0.5,"tons",2000,23,15000,0.32608695652173902,1300,28]
[221,"Corn","Corn, silage and legume cover",216,0.5,"tons",2000,23,14000,0.30434782608695699,1300,29]
[222,"Corn","Corn, silage with grass weeds",217,0.5,"tons",2000,23,12000,0.26086956521739102,1000,29]
[223,"Corn","Corn, silage with interseed oil seed radish cover",218,0.5,"tons",2000,23,16100,0.35,1300,49]
[224,"Corn","Corn, silage with interseed Rye cover ",219,0.5,"tons",2000,23,11500,0.25,1300,38]
[225,"Corn","Corn, silage with interseed small grain cover",220,0.5,"tons",2000,23,16100,0.35,1300,45]
[226,"Corn","Corn, silage with interseeded legume cover",221,0.5,"tons",2000,23,46000,1,1300,42]
[227,"Corn","Corn, sweet ",222,0.5,"lbs",1,7300,3400,0.465753424657534,820]
[228,"Corn","Corn, sweet HI PROD",223,0.5,"lbs",1,14560,4080,0.28021978021978,970]
[229,"Corn","Corn, with interseed Rye cover ",224,0.5,"bu",56,112,6272,1,1300]
[230,"Corn","Corn, with Squash and Beans",225,0.5,"bu",56,112,7000,1.1160714285714299,1300,27]
[231,"Corn","Corn, with Squash and Beans yield lbs",226,0.5,"lbs",1,1000,1000,1,228.87323943662,37]
[232,"Cotton","Cotton, CA Hi Prod",227,0.5,"lbs",1,1200,5000,4.1666666666666696,400,18]
[233,"Cotton","Cotton, delta",228,0.5,"lbs",1,750,4500,6,360,13]
[234,"Cotton","Cotton, southern upland",229,0.5,"lbs",1,750,3375,4.5,360,23]
[235,"Cotton","Cotton, stripper skip 1 row",230,0.5,"lbs",1,420,1260,3,210,27]
[236,"Cotton","Cotton, stripper skip 2 rows",231,0.5,"lbs",1,340,1020,3,170,28]
[237,"Cotton","Cotton, stripper",232,0.5,"lbs",1,500,1500,3,250,16]
[238,"Cotton","Cotton, ultra narrow row",233,0.5,"lbs",1,750,3375,4.5,360,24]
[239,"Cow pea","Cow pea",234,0.5,"lbs",1,6550,3406,0.52,210,7]
[240,"Crambe","Crambe",235,0.75,"lbs",1,2000,2400,1.2,800,6]
[241,"Cranberries","Cranberries, 3 year establishment",236,0.5,"lbs",1,16500,12400,0.75,784,33]
[242,"Cranberries","Cranberries, established stand",237,0.5,"lbs",1,16500,12400,0.75,784,30]
[243,"Cucumber","Cucumber, HI PROD",238,0.5,"lbs",1,28200,2160,7.6595744680851105E-2,35,17]
[244,"Cucumber","Cucumber",239,0.5,"bu",50,600,1800,0.06,30,8]
[245,"Delayed germination","Delayed germination",240,0.5,"lbs",1,1,1,1,0,19]
[246,"Dichondra","Dichondra, establishment",241,0.5,"lbs",1,650,975,1.5,500,24]
[247,"Dichondra","Dichondra, overwinter and spring regrowth",242,0.5,"lbs",1,650,975,1.5,500,41]
[248,"Eggplant","Eggplant, HI PROD",243,0.5,"lbs",1,22100,4320,0.195475113122172,520,17]
[249,"Eggplant","Eggplant",244,0.5,"lbs",1,11670,2270,0.194275921165381,440,8]
[250,"Fescue","Fescue, annual (Zorro), winter vineyard cover, CA",245,0.75,"lbs",1,3000,3000,1,3500,49]
[251,"Fescue","Fescue, red, established vineyard cover, CA",246,0.5,"lbs",1,2000,2000,1,6500,43]
[252,"Fescue","Fescue, red, seeding period, vineyard cover, CA",247,0.75,"lbs",1,3000,3000,1,3000,47]
[253,"Filbert","Filbert, full cover",248,0.5,"cwt",100,20,2000,1,3500,19]
[254,"Filbert","Filbert, no cover",249,0.5,"cwt",100,20,2000,1,3500,17]
[255,"Flax ","Flax (lbs)",250,0.5,"lbs",1,840,1200.75,1.4294642857142901,500,10]
[256,"Flax ","Flax ",251,0.5,"bu",56,15,1200.75,1.4294642857142901,500,5]
[257,"Flowers","Flowers, seed",252,0.5,"lbs",1,200,1320,6.6,270,13]
[258,"Flowers","Flowers",253,0.5,"lbs",1,1000,1200,1.2,270,7]
[259,"Garlic","Garlic seed production",254,0.5,"lbs",1,17000,1100,6.4705882352941196E-2,320,22]
[260,"Ginseng","Ginseng, lath cover, 3 yr stand",255,0.75,"lbs",1,1300,4030,3.1,3000,31]
[261,"Ginseng","Ginseng, lath cover, 4 yr stand",256,0.75,"lbs",1,1400,4340,3.1,3500,31]
[262,"Ginseng","Ginseng, mesh cover, 3 yr stand",257,0.75,"lbs",1,1300,4030,3.1,3000,31]
[263,"Ginseng","Ginseng, mesh cover, 4 yr stand",258,0.75,"lbs",1,1400,4340,3.1,3500,31]
[264,"Gladiola","Gladiola",259,0.5,"lbs",1,600,2700,4.5,320,8]
[265,"Grama","Grama, yr 1",260,0.5,"lbs",1,300,300,1,390,11]
[266,"Grama","Grama, yr 2",261,0.5,"lbs",1,500,500,1,650,11]
[267,"Grama","Grama, yr 3+",262,0.5,"lbs",1,600,600,1,780,12]
[268,"Grass seed","Grass seed, established, senescence",263,0.5,"lbs",1,1200,5400,4.5,5000,35]
[269,"Grass seed","Grass seed, fall seeding",264,0.5,"lbs",1,500,2250,4.5,5000,24]
[270,"Grass seed","Grass seed, interseeded growing crop",265,0.5,"lbs",1,1200,5400,4.5,5000,36]
[271,"Grass seed","Grass seed, per. ryegrass fall plant late",266,0.5,"lbs",1,924,4160,4.5,3000,41]
[272,"Grass seed","Grass seed, per. ryegrass late plant, established, senescence",267,0.5,"lbs",1,1200,5400,4.5,5000,61]
[273,"Grass seed","Grass seed, per. ryegrass yr2 regrowth, to yr3 seed harvest",268,0.5,"lbs",1,1200,5400,4.5,5000,59]
[274,"Grass seed","Grass seed, spring seeded",269,0.5,"lbs",1,1000,2000,2,5000,25]
[275,"Grass seed","Grass seed, warm season, late summer seeding",270,0.5,"lbs",1,350,840,2.4,3000,44]
[276,"Grass seed","Grass seed, warm season, spring seeding",271,0.5,"lbs",1,400,960,2.4,3000,39]
[277,"Grass seed","Grass seed, warm season, y2 senesc to yr3 seed harvest",272,0.5,"lbs",1,500,4000,8,6000,54]
[278,"Grass seed","Grass seed, warm season, yr3+ , senesc to next seed harvest",273,0.5,"lbs",1,500,4000,8,9000,59]
[279,"Grass seed","Grass seed, y2 and later regrowth after clipping to seed harvest",274,0.5,"lbs",1,1200,5400,4.5,5000,64]
[280,"Grass seed","Grass seed, y2 and later regrowth to seed harvest",275,0.5,"lbs",1,1200,5400,4.5,5000]
[281,"Grass seed","Grass seed, yr2 senescence",276,0.5,"lbs",1,1200,5400,4.5,5000]
[282,"Grass","Grass, cool season pasture, regrowth after grazing",277,0.5,"tons",2000,1,2000,1,7000,50]
[283,"Grass","Grass, cool season pasture, senesc to regrowth",278,0.5,"tons",2000,2,4000,1,7000,46]
[284,"Grass","Grass, cool season pasture, slow regrowth after grazing",279,0.5,"tons",2000,1,2000,1,7000,55]
[285,"Grass","Grass, cool season, fall seed senes to yr2 regrowth SE",280,0.5,"tons",2000,1,2000,1,4800,54]
[286,"Grass","Grass, cool season, fall seeded ",281,0.5,"tons",2000,1,2000,1,3000,32]
[{"$f":"ROW(B287)","v":287},"Grass","Grass, cool season, spring seeded ",282,0.5,"tons",2000,1.5,3000,1,3000,{"$f":"LEN(C287)","v":34}]
[288,"Grass","Grass, cool season, y2+ senesc thru  yr3 + greenup SE",283,0.5,"tons",2000,2,4000,1,6900,53]
[289,"Grass","Grass, dense,  senesc to 1st cut",284,0.5,"tons",2000,2,4000,1,5900,32]
[290,"Grass","Grass, dense, regrowth after cut",285,0.5,"tons",2000,2,4000,1,5900,32]
[291,"Grass","Grass, warm season pasture yr2, regrowth after grazing",286,0.5,"lbs",1,1500,1500,1,5000,54]
[292,"Grass","Grass, warm season pasture, spring seeded ",287,0.5,"lbs",1,1200,1200,1,3000,42]
[293,"Grass","Grass, warm season pasture, y2 senesc to yr3 regrowth",288,0.5,"lbs",1,4000,4000,1,6000,53]
[294,"Grass","Grass, warm season pasture, yr3+ , senesc to regrowth",289,0.5,"lbs",1,4000,4000,1,9000,53]
[295,"Grass","Grass, warm season pasture, yr3+,  regrowth after grazing",290,0.5,"lbs",1,1500,1500,1,8000,57]
[296,"Grass","Grass, warm season pasture, yr3+,  slow regrowth after grazing",291,0.5,"lbs",1,1500,1500,1,8000,62]
[297,"Greens","Greens, baby leaf HI PROD",292,0.5,"lbs",1,2000,2207.1428571428601,1.10357142857143,250,25]
[298,"Guar","Guar",293,0.5,"lbs",1,1735,1735,1,190,4]
[299,"Hardwood","Hardwood, established stands",294,0.5,"cords-lbs",1,100000,125000,1.25,2350,28]
[300,"Hardwood","Hardwood, Five year old stand",295,0.5,"cords-lbs",1,5000,6250,1.25,2350,29]
[301,"Hardwood","Hardwood, planted stands",296,0.5,"cords-lbs",1,100000,125000,1.25,2350,24]
[302,"Hops","Hops, 3 yr establishment period",297,0.5,"bales",200,2,400,1,1200,31]
[303,"Hops","Hops, established",298,1,"bales",200,13,4000,1.5384615384615401,1600,17]
[304,"Hops","Hops, establishment period",299,1,"bales",200,4,4000,5,1600,26]
[305,"Horseradish","Horseradish",300,0.5,"lbs",1,18000,1620,0.09,1000,11]
[306,"Kale","Kale, HI PROD",301,0.5,"lbs",1,20600,2260,0.11,190,13]
[307,"Kale","Kale",302,0.5,"lbs",1,11000,1230,0.112,160,4]
[308,"Kenaf","Kenaf",303,0.5,"tons",2000,6,12000,1,630,5]
[309,"Lavender","Lavender, established stand",304,0.5,"bundles",0.5,20000,18000,1.8,1900,27]
[310,"Legume","Legume, released growing cover after corn harvest",305,0.5,"tons",2000,1.5,3000,1,2100,49]
[311,"Lentils","Lentils, fall",306,0.66,"lbs",1,2500,4216.68,1.6866719999999999,350,13]
[312,"Lentils","Lentils, grazed out",307,0.66,"tons",2000,1,1500,0.75,310,19]
[313,"Lentils","Lentils",308,0.66,"lbs",1,1500,2160,1.44,310,7]
[314,"Lettuce","Lettuce, head HI PROD",309,0.5,"lbs",1,35300,3860,0.109348441926346,35,21]
[315,"Lettuce","Lettuce, head",310,0.5,"lbs",1,19200,2080,0.108333333333333,30,13]
[316,"Lettuce","Lettuce, leaf HI PROD",311,0.5,"lbs",1,25200,2781,0.110357142857143,100,21]
[317,"Lettuce","Lettuce, leaf",312,0.5,"lbs",1,16600,1774,0.10686746987951801,80,13]
[318,"Lily","Lily, Cala yr1",313,0.5,"lbs",1,30,300,10,320,14]
[319,"Lily","Lily, Cala yr2",314,0.5,"lbs",1,60,600,10,320,14]
[320,"Lily","Lily, Cala yr3",315,0.5,"lbs",1,80,800,10,900,14]
[321,"Lily","Lily, Cala yr4+",316,0.5,"lbs",1,110,1100,10,1070,15]
[322,"Meadowfoam","Meadowfoam, seed",317,0.5,"lbs",1,700,1680,2.4,1700,16]
[323,"Millet","Millet, proso ",318,0.5,"bu",56,35,2802,1.42959183673469,1200,14]
[324,"Mint","Mint, fall seed",319,0.5,"lbs",1,1800,1800,1,2400,15]
[325,"Mint","Mint, spring seed ",320,0.5,"lbs",1,1100,1100,1,1500,18]
[326,"Mint","Mint, spring seed regrowth after cutting ",321,0.5,"lbs",1,1300,1300,1,1500,41]
[327,"Mint","Mint, spring seed senes to y2 regrowth ",322,0.5,"lbs",1,1900,1900,1,2500,39]
[328,"Mint","Mint, yr2 regrowth after cutting ",323,0.5,"lbs",1,1800,1800,1,2500,33]
[329,"Mint","Mint, yr2 senes to yr3 regrowth ",324,0.5,"lbs",1,1900,1900,1,3000,32]
[330,"Mint","Mint, yr3 regrowth after cutting ",325,0.5,"lbs",1,1800,1800,1,3000,33]
[331,"Mint","Mint, yr3 senes to yr4 regrowth ",326,0.5,"lbs",1,1900,1900,1,3500,32]
[332,"Mint","Mint, yr4 regrowth after cutting ",327,0.5,"lbs",1,1800,1800,1,3500,33]
[333,"Mint","Mint, yr4 senes to yr5 regrowth ",328,0.5,"lbs",1,1800,1800,1,3500,32]
[334,"Miscanthus","Miscanthus biomass prod yr1 overwinter, and yr2 regrowth",329,0.5,"tons",2000,6,12000,1,5000]
[335,"Miscanthus","Miscanthus biomass prod, sprigged in spring",330,0.5,"tons",2000,2,4000,1,1300]
[336,"Miscanthus","Miscanthus, biomass prod. yr2 overwinter and yr3",331,0.5,"tons",2000,12,24000,1,6000]
[337,"Miscanthus","Miscanthus, sprigged with red clover nurse crop spring seeded",332,0.5,"tons",2000,2,4000,1,800]
[338,"Mungbean","Mungbean",333,0.5,"lbs",1,6550,3406,0.52,210,8]
[339,"Muskmelon","Muskmelon",334,0.5,"lbs",1,8000,1800,0.22500000000000001,200,9]
[340,"Mustard","Mustard greens, fall",335,0.5,"lbs",1,7400,844,0.114,320,20]
[341,"Mustard","Mustard greens, HI PROD",336,0.5,"lbs",1,16250,1840,0.113,380,23]
[342,"Mustard","Mustard greens, spring",337,0.5,"lbs",1,7000,799,0.114,320,22]
[343,"Mustard","Mustard seed, spring ",338,1,"lbs",1,1200,2400,2,1680,21]
[344,"Oats","Oat forage, fall seed to 1st cut or graze, deep south",339,0.75,"lbs",1,2800,2800,1,950,53]
[345,"Oats","Oat forage, regrowth, deep south",340,0.5,"lbs",1,1500,1500,1,950,32]
[346,"Oats","Oats, fall cover crop, early Aug seeding",341,0.75,"lbs",1,2000,2000,1,800,40]
[347,"Oats","Oats, fall cover crop, mid Sept seeding",342,0.75,"lbs",1,1000,1000,1,330,39]
[348,"Oats","Oats, fall seeded cover ",343,0.5,"lbs",1,2000,900,0.45,400,24]
[349,"Oats","Oats, fall seeded, hay ",344,1,"tons",2000,2,4500,1.125,970,23]
[350,"Oats","Oats, hay regrowth after cut",345,0.5,"tons",2000,1.5,3000,1,500,28]
[351,"Oats","Oats, spring ",346,0.75,"bu",32,60,3840,2,800,13]
[352,"Oats","Oats, spring hay",347,0.5,"tons",2000,2.5,5500,1.1000000000000001,800,16]
[353,"Oats","Oats, spring silage",348,0.5,"tons",2000,8,5500,0.34375,800,19]
[354,"Oats","Oats, spring silage or hay",349,0.5,"tons",2000,4,2750,0.34375,800,26]
[{"$f":"ROW(B355)","v":355},"Oats","Oats, spring silage-hay",350,0.5,"tons",2000,4,2750,0.34375,800,{"$f":"LEN(C355)","v":23}]
[356,"Oats","Oats, spring silage-hay 2",351,0.5,"tons",2000,4,9600,1.2,400,25]
[357,"Oats","Oats, winter cover crop S.E.",352,0.5,"lbs",1,3840,3840,1,1070,28]
[358,"Oats","Oats, winter S.E.",353,0.5,"bu",32,60,3840,2,1070]
[359,"Okra","Okra, HI PROD",354,0.5,"lbs",1,8350,9400,1.12574850299401,890,13]
[360,"Okra","Okra",355,0.5,"lbs",1,2650,7344.5614035087701,2.7715326050976499,750,4]
[361,"Onion","Onion seed production",356,0.5,"lbs",1,300,1100,3.6666666666666701,280,21]
[362,"Onion","Onion, after sm grain",357,0.5,"cwt",100,310,1240,0.04,240,21]
[363,"Onion","Onion, bulb dry HI PROD",358,0.5,"lbs",1,44000,1490,3.3863636363636401E-2,290,23]
[364,"Onion","Onion, bulb dry",359,0.5,"cwt",100,310,1240,0.04,240,15]
[365,"Onion","Onion, dry bulb, Vidalia-type",360,0.5,"cwt",100,435,1935,4.4482758620689698E-2,370,29]
[366,"Onion","Onion, green bunch",361,0.5,"lbs",1,18200,1100,6.0439560439560398E-2,240,18]
[367,"Orchard","Orchard, bare ground",362,0.5,"cwt",100,300,990,3.3000000000000002E-2,300,20]
[368,"Orchard","Orchard, cover betw rows 50-50",363,0.5,"cwt",100,300,990,3.3000000000000002E-2,3400,30]
[369,"Orchard","Orchard, cover betw rows 80-20",364,0.5,"cwt",100,300,990,3.3000000000000002E-2,4640,30]
[370,"Orchard","Orchard, cover betw rows 90-10",365,0.5,"cwt",100,300,990,3.3000000000000002E-2,5880,30]
[371,"Orchard","Orchard, cover betw rows",366,0.5,"cwt",100,300,990,3.3000000000000002E-2,4020,24]
[372,"Orchard","Orchard, cover betw rows70-30",367,0.5,"cwt",100,300,990,3.3000000000000002E-2,4640,29]
[373,"Orchard","Orchard, dwarf varieties",368,0.5,"cwt",100,300,990,3.3000000000000002E-2,1500,24]
[374,"Orchard","Orchard, fall small grain cover crop",369,0.5,"cwt",100,300,990,3.3000000000000002E-2,1350,36]
[375,"Orchard","Orchard, full cover",370,0.5,"cwt",100,300,990,3.3000000000000002E-2,3500,19]
[376,"Orchard","Orchard, new yr1",371,0.5,"lbs",1,1,100,100,300,16]
[377,"Orchard","Orchard, new yr2",372,0.5,"lbs",1,1,200,200,390,16]
[378,"Orchard","Orchard, new yr3",373,0.5,"lbs",1,1,300,300,480,16]
[379,"Orchard","Orchard, new yr4",374,0.5,"lbs",1,1,400,400,630,16]
[380,"Orchard","Orchard, new yr5",375,0.5,"lbs",1,1000,500,0.5,770,16]
[381,"Orchard","Orchard, weeds annual cover",376,0.5,"cwt",100,300,1000,3.3000000000000002E-2,1270,27]
[382,"Orchardgrass","Orchardgrass, fall seed senes to yr2 regrowth ",377,0.5,"tons",2000,1.5,3000,1,4800,46]
[383,"Orchardgrass","Orchardgrass, seeding ",378,0.5,"tons",2000,1.5,3000,1,4800,22]
[384,"Orchardgrass","Orchardgrass, y2 regrowth after cut",379,0.5,"tons",2000,1.5,3000,1,4800,35]
[385,"Orchardgrass","Orchardgrass, y2 senesc to 1st cut yr3",380,0.5,"tons",2000,2.25,4500,1,5900,38]
[386,"Orchardgrass","Orchardgrass, y3 regrowth after cut",381,0.5,"tons",2000,1.7,3400,1,5900,35]
[387,"Orchardgrass","Orchardgrass, y3 senesc to 1st cut yr4",382,0.5,"tons",2000,2.5,5000,1,5900,38]
[388,"Palm","Palm, date, mature stand",383,1,"tons",2000,4.5,35000,3.8888888888888902,993,24]
[389,"Palm","Palm, date, young stand-tree row",384,1,"tons",2000,2,17100,4.2777777777777803,993,32]
[390,"Peanut","Peanut, runner, twin-row",385,0.75,"lbs",1,3450,4485,1.3,408.6,24]
[391,"Peanut","Peanut, runner",386,0.75,"lbs",1,3000,3900,1.3,360,14]
[392,"Peas","Peas, Austrian winter, northern climate",387,0.5,"lbs",1,2000,2140,1.07,700,39]
[393,"Peas","Peas, Austrian winter",388,0.5,"lbs",1,2500,2500,1,1400,21]
[394,"Peas","Peas, field 7in rows",389,0.67,"bu",60,30,1728,0.96,290,20]
[395,"Peas","Peas, green HI PROD",390,0.5,"lbs",1,10000,930,9.2999999999999999E-2,180,19]
[396,"Peas","Peas, green, drilled",391,0.5,"lbs",1,3400,714,0.21,140,20]
[397,"Peas","Peas, green, rows",392,0.5,"lbs",1,2860,600.6,0.21,120,17]
[398,"Peas","Peas, southern",393,0.5,"lbs",1,6550,3406,0.52,210,14]
[399,"Peas","Peas, spring, grazed out",394,0.67,"tons",2000,1,1700,0.85,290,24]
[400,"Peas","Peas, spring, hay",395,0.66,"tons",2000,1,2180,1.0900000000000001,290,17]
[401,"Peas","Peas, spring, NWRR",396,0.66,"lbs",1,2000,2180,1.0900000000000001,290,18]
[402,"Pecan","Pecan, Walnut; bare ground",397,0.5,"lbs",1,2100,2630,1.25,300,26]
[403,"Pecan","Pecan, Walnut; fall sm. grain cover crop",398,0.5,"lbs",1,2100,2730,1.3,1200,40]
[404,"Pecan","Pecan, Walnut; perm. grass cover crop",399,0.5,"lbs",1,2100,2730,1.3,6800,37]
[405,"Pecan","Pecan, Walnut; weeds annual cover",400,0.5,"lbs",1,2100,2630,1.25,1270,33]
[406,"Peppers","Peppers, bell HI PROD",401,0.5,"lbs",1,31800,3816,0.12,470,21]
[407,"Peppers","Peppers, bell",402,0.5,"lbs",1,17500,3570,0.20399999999999999,400,13]
[408,"Peppers","Peppers, chili HI PROD",403,0.5,"lbs",1,22800,2736,0.12,400,22]
[409,"Peppers","Peppers, hot",404,0.5,"lbs",1,7900,900,0.113924050632911,90,12]
[410,"Pine bluegrass","Pine bluegrass, seeding period, vineyard cover, CA",405,0.5,"lbs",1,1000,1000,1,3000,50]
[411,"Pine bluegrass","Pine blugrass,  established perennial vineyard cover, CA",406,0.5,"lbs",1,2000,2000,1,4800,56]
[412,"Pine","Pine, longleaf planted stands",407,0.5,"cords",5350,25,160517.38750000001,1.2001299999999999,1142,29]
[413,"Pine","Pine, planted stands",408,0.5,"cords",5350,29,186200,1.2001289075088599,2350,20]
[414,"Potato","Potato, high yield",409,0.5,"cwt",100,600,2100,3.5000000000000003E-2,110,18]
[415,"Potato","Potato, Irish",410,0.5,"cwt",100,260,3120,0.12,110,13]
[416,"Potato","Potato, seed production",411,0.5,"cwt",100,500,750,1.4999999999999999E-2,1000,23]
[417,"Potato","Potato, sweet",412,0.5,"lbs",1,22000,2500,0.114,250,13]
[418,"Pumpkin","Pumpkin",413,0.5,"lbs",1,31700,2000,6.3100000000000003E-2,100,7]
[419,"Radish","Radish, HI PROD",414,0.5,"lbs",1,24000,900,3.7499999999999999E-2,65,15]
[{"$f":"ROW(B420)","v":420},"Radish","Radish, oil seed, released growing cover after main crop havest",415,0.5,"lbs",1,3000,3000,1,1680,{"$f":"LEN(C420)","v":63}]
[421,"Radish","Radish, oilseed, cover crop, midsouth",416,1,"lbs",1,3000,3000,1,5000,37]
[422,"Radish","Radish, oilseed, cover crop",417,1,"lbs",1,3000,3000,1,3000,27]
[423,"Radish","Radish, oilseed, fall cover crop, early Aug seeding",418,1,"lbs",1,3000,3000,1,2800,51]
[424,"Radish","Radish, oilseed, fall cover crop, mid Sept seeding",419,1,"lbs",1,1500,1500,1,600,50]
[425,"Radish","Radish, oilseed",420,1,"lbs",1,1200,2400,2,1680,15]
[426,"Radish","Radish",421,0.5,"lbs",1,7420,816,0.11,50,6]
[427,"Range","Range Desert grassland",422,1,"lbs",1,600,600,1,648,22]
[428,"Range","Range Northern desert shrub",423,1,"lbs",1,200,200,1,1300,27]
[429,"Range","Range Northern mixed grass prairie seeding",424,1,"lbs",1,600,600,1,600,42]
[430,"Range","Range Northern mixed grass prairie",425,1,"lbs",1,600,600,1,720,34]
[431,"Range","Range Short grass prairie",426,1,"lbs",1,750,750,1,450,25]
[432,"Range","Range Southern desert shrub",427,1,"lbs",1,200,200,1,1136,27]
[433,"Range","Range Southern mixed grass prairie seeding",428,1,"lbs",1,150,150,1,176,42]
[434,"Range","Range Southern mixed grass prairie",429,0.5,"lbs",1,150,150,1,264.005,34]
[435,"Range","Range Tall grass prairie",430,0.5,"lbs",1,1000,1000,1,180,24]
[436,"Raspberry","Raspberry, black ",431,0.5,"lbs",1,4000,4000,1,2000,17]
[437,"Raspberry","Raspberry, black, cov crop",432,0.5,"lbs",1,4000,4000,1,2040,26]
[438,"Raspberry","Raspberry, black, perm cov",433,0.5,"lbs",1,4000,4000,1,5500,26]
[439,"Rice","Rice, AR, flooded",434,0.5,"bu",45,110,10642.5,2.15,830,17]
[440,"Rice","Rice, CA, flooded, semi-dwarf varieties",435,0.5,"sacks",100,75,9000,1.2,830,39]
[441,"Rice","Rice, CA, flooded, tall varieties",436,0.5,"sacks",100,55,12650,2.2999999999999998,830,33]
[442,"Rice","Rice, CA, winter flooded , semi-dwarf varieties",437,0.5,"sacks",100,75,9000,1.2,830,47]
[443,"Rice","Rice, CA, winter flooded, tall varieties",438,0.5,"sacks",100,55,12650,2.2999999999999998,830,40]
[444,"Rice","Rice, dwarf var. CA, flooded",439,0.5,"sacks",100,90,8100,0.9,988.09523809523796,28]
[445,"Rice","Rice, dwarf var. CA, winter flooded",440,0.5,"sacks",100,90,8100,0.9,830,35]
[446,"Rice","Rice, dwarf var. CA",441,0.5,"sacks",100,90,8100,0.9,988.09523809523796,19]
[447,"Rice","Rice, ratoon crop, AR, flooded",442,0.5,"bu",45,54,5224.5,2.15,1000,30]
[448,"Rice","Rice, wild",443,0.5,"lbs",1,1500,2550,1.7,1080,10]
[449,"Rye","Rye and hairy vetch, released growing cover after fall crop harvest",444,0.5,"lbs",1,5000,5000,1,1320,67]
[450,"Rye","Rye and Hairy vetch, winter cover ",445,0.75,"lbs",1,5000,5000,1,2000,34]
[451,"Rye","Rye and Hairy vetch, winter cover, mid south",446,0.75,"lbs",1,5000,5000,1,2100,44]
[452,"Rye","Rye, cereal ",447,0.75,"bu",56,40,3360,1.5,1320,12]
[453,"Rye","Rye, cereal forage, fall seed to 1st cut or graze, deep south",448,0.75,"lbs",1,3000,3000,1,1000,61]
[454,"Rye","Rye, cereal forage, regrowth, deep south",449,0.75,"lbs",1,3000,3000,1,1200,40]
[455,"Rye","Rye, cereal interseeded growing cover",450,0.75,"lbs",1,3000,3000,1,1320,37]
[456,"Rye","Rye, cereal silage",451,0.75,"tons",2000,15,9000,0.3,1100,18]
[457,"Rye","Rye, cereal, mid south",452,0.75,"bu",56,40,3360,1.5,1320,22]
[458,"Rye","Rye, spring 7in rows",453,0.75,"bu",60,30,2340,1.3,970,20]
[459,"Rye","Rye, winter cover ",454,0.75,"lbs",1,2240,2240,1,1320,18]
[460,"Rye","Rye, winter cover crop, early Aug seeding",455,0.75,"lbs",1,4500,4500,1,1700,41]
[461,"Rye","Rye, winter cover crop, mid Oct seeding",456,0.75,"lbs",1,1000,1000,1,500,39]
[462,"Rye","Rye, winter cover crop, mid Sept seeding",457,0.75,"lbs",1,3300,3300,1,1600,40]
[463,"Rye","Rye, winter cover S.E.",458,0.75,"lbs",1,4200,4200,1,1000,22]
[464,"Rye","Rye, winter cover, mid south",459,0.75,"lbs",1,4000,4000,1,1320,28]
[465,"Rye","Rye, winter grazed S.E.",460,0.75,"lbs",1,2800,2800,1,700,23]
[466,"Rye","Rye, winter, grain S.E.",461,0.75,"bu",56,40,4211.2,1.88,1000,23]
[467,"Rye","Rye, winter, silage, SE",462,0.75,"tons",2000,15,9000,0.3,1000]
[468,"Ryegrass","Ryegrass, ann, seed prod, regrowth",463,0.5,"lbs",1,1200,5960,4.97,1600,34]
[469,"Ryegrass","Ryegrass, ann, seed prod",464,0.5,"lbs",1,1775,7460,4.2,1600,24]
[470,"Ryegrass","Ryegrass, annual, fall cover crop, early Aug seeding",465,0.75,"lbs",1,2000,2000,1,800,52]
[471,"Ryegrass","Ryegrass, annual, fall cover crop, mid Sept seeding",466,0.75,"lbs",1,1000,1000,1,330,51]
[472,"Ryegrass","Ryegrass, annual, fall interseeded in established bermudagrass",467,0.5,"lbs",1,7000,7000,1,5100,62]
[473,"Ryegrass","Ryegrass, annual, fall seeding, deep south",468,0.5,"lbs",1,3500,3500,1,2200,42]
[474,"Ryegrass","Ryegrass, annual, regrowth after grazing or hay, deep south",469,0.5,"lbs",1,3500,3500,1,2200,59]
[475,"Ryegrass","Ryegrass, annual, regrowth",470,0.5,"tons",2000,1.5,1800,0.6,1600,26]
[476,"Ryegrass","Ryegrass, annual, seeding yr",471,0.5,"tons",2000,2,4000,1,1600,28]
[477,"Ryegrass","Ryegrass, peren. interseeded growing cover",472,0.5,"lbs",1,4000,4000,1,1600,42]
[478,"Safflower","Safflower",473,0.5,"lbs",1,1400,2100,1.5,550,9]
[479,"Sericean Lespedeza","Sericean Lespedeza, hay",474,0.5,"tons",2000,3,6000,1,1900,23]
[480,"Sesame","Sesame, seed",475,0.5,"lbs",1,2600,3900,1.5,1240,12]
[481,"Sesame","Sesame",476,0.5,"lbs",1,8940,8940,1,1240,6]
[482,"Silvopasture","Silvopasture",477,0.5,"cords",5350,6,48150,1.5,5840,12]
[483,"Small grain","Small grain cover, regrowth after mowing",478,0.5,"lbs",1,800,800,1,1000,40]
[484,"Small grain","Small grain interseeded growing cover",479,0.5,"lbs",1,3000,3000,1,1320,37]
[{"$f":"ROW(B485)","v":485},"Small grain","Small grain, spring, hay",480,0.75,"tons",2000,2,4400,1.1000000000000001,1100,{"$f":"LEN(C485)","v":24}]
[486,"Small grain","Small grain, winter, hay",481,0.5,"tons",2000,3,6500,1.0833333333333299,1510,24]
[487,"Sorghum","Sorghum, forage fall regrowth",482,1,"tons",2000,10,8000,0.4,2120,29]
[488,"Sorghum","Sorghum, forage regrowth",483,1,"tons",2000,10,8000,0.4,2120,24]
[489,"Sorghum","Sorghum, forage seeding to 1st cut",484,1,"tons",2000,10,8000,0.4,2120,34]
[490,"Sorghum","Sorghum, forage, grazed",485,1,"tons",2000,20,40000,1,1060,23]
[491,"Sorghum","Sorghum, grain ",486,1,"bu",56,60,3360,1,980,15]
[492,"Sorghum","Sorghum, grain 18 inch rows",487,1,"bu",56,60,3360,1,980,27]
[493,"Sorghum","Sorghum, grain South 135day",488,1,"bu",56,65,5096,1.4,980,27]
[494,"Sorghum","Sorghum, grain, hi biomass var.",489,1,"bu",56,70,3920,1,980,31]
[495,"Sorghum","Sorghum, grain, South, shrt seasn hi density",490,1,"bu",56,60,4764.9551515151497,1.4181414141414099,1312.8044830050601,44]
[496,"Sorghum","Sorghum, silage ",491,1,"tons",2000,20,8000,0.2,1060,16]
[497,"Sorghum","Sorghum, sudangrass, 7in rows regrowth after cut",492,1,"tons",2000,15,8000,0.266666666666667,2120,48]
[498,"Sorghum","Sorghum, sudangrass, 7in rows, seeding to 1st cut",493,1,"tons",2000,15,8000,0.266666666666667,2120,49]
[499,"Soybean","Soybean, 15 in with interseeded clover or oil seed radish cover",494,0.5,"bu",60,30,2700,1.5,600,63]
[500,"Soybean","Soybean, 15 in with interseeded rye cover",495,0.5,"bu",60,30,2700,1.5,600,41]
[501,"Soybean","Soybean, 30 in with interseeded clover or oil seed radish cover",496,0.5,"bu",60,30,2700,1.5,600,63]
[502,"Soybean","Soybean, 30 in with interseeded rye cover",497,0.5,"bu",60,30,2700,1.5,600,41]
[503,"Soybean","Soybean, 7 in with interseeded cover",498,0.5,"bu",60,30,2700,1.5,600,36]
[504,"Soybean","Soybean, group 0 and I,  30in rows",499,0.75,"bu",60,20,1200,1,280,34]
[505,"Soybean","Soybean, group 0 and I,  7in rows",500,0.75,"bu",60,20,1200,1,280,33]
[506,"Soybean","Soybean, group II, III and IV 30 in rows",501,0.5,"bu",60,30,2700,1.5,320,40]
[507,"Soybean","Soybean, group II, III and IV,  7in rows",502,0.75,"bu",60,20,1800,1.5,280,40]
[508,"Soybean","Soybean, groups V, VI, VII, and VIII 30 in rows",503,0.75,"bu",60,25,3000,2,310,47]
[509,"Soybean","Soybean, groups V, VI, VII, and VIII 7in rows",504,0.75,"bu",60,20,2400,2,370,45]
[510,"Soybean","Soybean, millet hay ",505,0.5,"tons",2000,4,8000,1,1600,20]
[511,"Soybean","Soybean, mw 15 - 20 in rows",506,0.5,"bu",60,25,2250,1.5,280,27]
[512,"Soybean","Soybean, mw 30 in rows, relay cropped",507,0.5,"bu",60,30,2700,1.5,320,37]
[513,"Soybean","Soybean, mw 30 in rows",508,0.5,"bu",60,30,2700,1.5,320,22]
[514,"Soybean","Soybean, mw 7in rows",509,0.75,"bu",60,20,1800,1.5,280,20]
[515,"Soybean","Soybean, southern 15-20 in rows",510,0.75,"bu",60,20,2400,2,330,31]
[516,"Soybean","Soybean, southern 30 in rows",511,0.75,"bu",60,25,3000,2,310,28]
[517,"Soybean","Soybean, southern 7in rows ",512,0.75,"bu",60,20,2400,2,370,27]
[518,"Spinach","Spinach, HI PROD",513,0.5,"lbs",1,17500,1992,0.113828571428571,50,16]
[519,"Spinach","Spinach, regrowth after harv",514,0.5,"lbs",1,8100,9190,1.13456790123457,60,28]
[520,"Spinach","Spinach",515,0.5,"lbs",1,8100,919,0.113456790123457,40,7]
[521,"Squash","Squash, HI PROD",516,0.5,"lbs",1,21300,3310.02,0.15540000000000001,95,15]
[522,"Squash","Squash",517,0.5,"lbs",1,11600,2749.2,0.23699999999999999,80,6]
[523,"Strawberry","Strawberry, annual,1st pick Ca and FL",518,0.5,"lbs",1,20000,2450,0.1225,400,37]
[524,"Strawberry","Strawberry, annual,2nd and later pick Ca and FL",519,0.5,"lbs",1,20000,3000,0.15,400,47]
[525,"Strawberry","Strawberry, establishment  yr",520,0.5,"lbs",1,1,1000,1000,400,29]
[526,"Strawberry","Strawberry, high yield , yr2+",521,0.5,"lbs",1,20000,3000,0.15,400,29]
[527,"Strawberry","Strawberry, high yield, yr1",522,0.5,"lbs",1,16000,2000,0.125,400,27]
[528,"Strawberry","Strawberry, Southeast, high yield, yr1",523,0.5,"lbs",1,18000,2225,0.124,400,38]
[529,"Strawberry","Strawberry, yr2+",524,0.5,"lbs",1,4700,2021,0.43,400]
[530,"Sugarbeet","Sugarbeet, seed",525,0.5,"lbs",1,2600,6240,2.4,1000,15]
[531,"Sugarbeet","Sugarbeet, sugar",526,0.5,"tons",2000,20,4000,0.1,1000,16]
[532,"Sugarbush","Sugarbush, established stands",527,0.5,"cords-lbs",1,100000,125000,1.25,2350,29]
[533,"Sugarcane","Sugarcane establishment to 1st harvest",528,0.5,"tons",2000,34,88400,1.3,610,38]
[534,"Sugarcane","Sugarcane, 1st ratoon",529,0.5,"tons",2000,34,87087.5,1.2806985294117601,610,21]
[535,"Sugarcane","Sugarcane, 2nd ratoon",530,0.5,"tons",2000,34,87087.5,1.2806985294117601,610,21]
[536,"Sugarcane","Sugarcane, 3rd ratoon",531,0.5,"tons",2000,34,87087.5,1.2806985294117601,610,21]
[537,"Sugarcane","Sugarcane, 4th ratoon",532,0.5,"tons",2000,34,87087.5,1.2806985294117601,610,21]
[538,"Sugarcane","Sugarcane, plus weeds, 1st ratoon",533,0.5,"tons",2000,34,88400,1.3,785,33]
[539,"Sugarcane","Sugarcane, plus weeds, 2nd ratoon",534,0.5,"tons",2000,34,88400,1.3,1050,33]
[540,"Sugarcane","Sugarcane, plus weeds, 3rd ratoon",535,0.5,"tons",2000,34,88400,1.3,1050,33]
[541,"Sugarcane","Sugarcane, plus weeds, 4th ratoon",536,0.5,"tons",2000,34,88400,1.3,1050,33]
[542,"Sugarcane","Sugarcane, plus weeds, planting to 1st harvest ",537,0.5,"tons",2000,34,85000,1.25,1120,47]
[543,"Sunflower","Sunflower",538,1,"lbs",1,1400,2940,2.1,500,9]
[544,"Switchgrass","Switchgrass bimass prod, spring seeded ",539,0.5,"tons",2000,1,2000,1,1300,39]
[545,"Switchgrass","Switchgrass biomass prod yr1 overwinter, and yr2 regrowth ",540,0.5,"tons",2000,2.5,5000,1,5000,58]
[546,"Switchgrass","Switchgrass, biomass prod. yr2 overwinter and yr3",541,0.5,"tons",2000,5,10000,1,6000,49]
[547,"Tall fescue","Tall Fescue pasture,  senesc to regrowth",542,0.5,"lbs",1,2000,2000,1,7000,40]
[548,"Tall fescue","Tall fescue pasture, regrowth after grazing SE",543,0.5,"lbs",1,1500,1500,1,7000,46]
[549,"Tall fescue","Tall fescue pasture, regrowth after grazing",544,0.5,"lbs",1,1500,1500,1,7000,43]
[{"$f":"ROW(B550)","v":550},"Tall fescue","Tall fescue pasture, slow regrowth after grazing",545,0.5,"lbs",1,2000,2000,1,7000,{"$f":"LEN(C550)","v":48}]
[551,"Tall fescue","Tall Fescue pasture, summer dormancy to fall regrowth South",546,0.5,"lbs",1,1200,1200,1,7000,59]
[552,"Tall fescue","Tall fescue y3+, regrowth after cut",547,0.5,"lbs",1,3000,3000,1,7000,35]
[553,"Tall Fescue","Tall Fescue, fall seed senes to yr2 regrowth ",548,0.5,"lbs",1,3000,3000,1,4000,45]
[554,"Tall Fescue","Tall Fescue, fall seed senes to yr2 regrowth SE",549,0.5,"lbs",1,3000,3000,1,4800,47]
[555,"Tall fescue","Tall fescue, release growth after nurse crop harvest",550,0.5,"lbs",1,4000,4000,1,4800,52]
[556,"Tall fescue","Tall fescue, spring seed 1st year",551,0.5,"lbs",1,4000,4000,1,4800,33]
[557,"Tall fescue","Tall fescue, y2 regrowth after cut SE",552,0.5,"lbs",1,3000,3000,1,4800,37]
[558,"Tall fescue","Tall fescue, y2 regrowth after cut",553,0.5,"lbs",1,3000,3000,1,4800,34]
[559,"Tall fescue","Tall fescue, y2 senesc thru  yr3 greenup",554,0.5,"lbs",1,4000,4000,1,7000,40]
[560,"Tall fescue","Tall fescue, y2+ senesc thru  yr3 + greenup SE",555,0.5,"lbs",1,4000,4000,1,6900,46]
[561,"Tall fescue","Tall fescue, y3 regrowth after cut SE",556,0.5,"lbs",1,3000,3000,1,7000,37]
[562,"Tall fescue","Tall Fescue-Wheat, winter, grain S.E.",557,0.5,"bu",60,40,4080,1.7,4800,37]
[563,"Teff","Teff; hay production, 2nd cutting",558,0.5,"tons",2000,2,4000,1,2100,33]
[564,"Teff","Teff; hay production, planting to 1st cut",559,0.5,"tons",2000,3,6000,1,1000,41]
[565,"Teff","Teff; seed production",560,0.5,"lbs",1,850,5100,6,2100,21]
[566,"Timothy","Timothy, fall seed senes to yr2 regrowth ",561,0.5,"tons",2000,1.5,3000,1,2500,41]
[567,"Timothy","Timothy, release growth after nurse crop harvest",562,0.5,"tons",2000,2,4000,1,2300,48]
[568,"Timothy","Timothy, spring seed senesc to yr2 regrowth",563,0.5,"tons",2000,1.5,3000,1,2300,43]
[569,"Timothy","Timothy, yr2 regrowth after cut",564,0.5,"tons",2000,1.5,3000,1,2300,31]
[570,"Timothy","Timothy, yr2 senesc to yr3 1st cut",565,0.5,"tons",2000,2,4000,1,2900,34]
[571,"Timothy","Timothy, yr3 regrowth after cuts",566,0.5,"tons",2000,1.5,3000,1,2900,32]
[572,"Timothy","Timothy, yr3 senesc to yr4 regrowth",567,0.5,"tons",2000,2,4000,1,2900,35]
[573,"Tobacco","Tobacco, burley",568,1,"lbs",1,2500,3250,1.3,1250,15]
[574,"Tobacco","Tobacco, dark",569,1,"lbs",1,2500,3250,1.3,1250,13]
[575,"Tobacco","Tobacco, flue cured",570,1,"lbs",1,2100,2730,1.3,1250,19]
[576,"Tomatilla","Tomatilla, staked",571,0.5,"lbs",1,25000,4300,0.17199999999999999,220,17]
[577,"Tomato","Tomato, fresh mkt staked",572,0.5,"cwt",100,300,2410,8.0299999999999996E-2,110,24]
[578,"Tomato","Tomato, fresh mkt",573,0.5,"cwt",100,300,2410,8.0299999999999996E-2,110,17]
[579,"Tomato","Tomato, processing",574,0.5,"tons",2000,25,2300,4.5999999999999999E-2,110,18]
[580,"Tree","Tree nurs, bare rt, fall pl, cov yr1",575,0.5,"lbs",1,200,200,1,1040,36]
[581,"Tree","Tree nurs, bare rt, fall pl, cov yr2",576,0.5,"lbs",1,1000,1000,1,2810,36]
[582,"Tree","Tree nurs, bare rt, fall pl, cov yr3",577,0.5,"lbs",1,2000,2000,1,3050,36]
[583,"Tree","Tree nurs, bare rt, fall pl, yr1",578,0.5,"lbs",1,200,200,1,1050,32]
[584,"Tree","Tree nurs, bare rt, fall pl, yr2",579,0.5,"lbs",1,1000,1000,1,1790,32]
[585,"Tree","Tree nurs, bare rt, fall pl, yr3",580,0.5,"lbs",1,2000,2000,1,2420,32]
[586,"Tree","Tree nurs, bare rt, fall pl, yr4",581,0.5,"lbs",1,4000,4000,1,2740,32]
[587,"Tree","Tree nurs, bare rt, spr pl, cov, yr1",582,0.5,"lbs",1,1000,1000,1,1890,36]
[588,"Tree","Tree nurs, bare rt, spr pl, cov, yr2",583,0.5,"lbs",1,1000,1000,1,2250,36]
[589,"Tree","Tree nurs, bare rt, spr pl, yr1",584,0.5,"lbs",1,1000,1000,1,1690,31]
[590,"Tree","Tree nurs, bare rt, spr pl, yr2",585,0.5,"lbs",1,1000,1000,1,2200,31]
[591,"Tree","Tree nurs, bare rt, spr pl, yr3",586,0.5,"lbs",1,1000,1000,1,2690,31]
[592,"Tree","Tree, nursery clean till",587,0.5,"no.",40,500,19750,0.98750000000000004,1500,24]
[593,"Tree","Trees, Christmas grass strip, established stand, selective cut",588,0.5,"no.",40,500,19750,0.98750000000000004,5100,62]
[594,"Tree","Trees, Christmas grass strip",589,0.5,"no.",40,500,19750,0.98750000000000004,5500,28]
[595,"Tree","Trees, Christmas yr1",590,0.5,"lbs",1,20,20,1,100,20]
[596,"Tree","Trees, Christmas yr2",591,0.5,"lbs",1,20,20,1,200,20]
[597,"Tree","Trees, Christmas yr3",592,0.5,"lbs",1,50,50,1,200,20]
[598,"Tree","Trees, Christmas yr4",593,0.5,"lbs",1,200,200,1,100,20]
[599,"Tree","Trees, Christmas yr5",594,0.5,"lbs",1,500,500,1,100,20]
[600,"Tree","Trees, Christmas yr6",595,0.5,"lbs",1,500,500,1,100,20]
[601,"Tree","Trees, Christmas yr7",596,0.5,"lbs",1,500,500,1,100,20]
[602,"Tree","Trees, Christmas yr8",597,0.5,"lbs",1,20,20,1,150,20]
[603,"Triticale","Triticale, hay",598,0.75,"tons",2000,3,6000,1,1100,14]
[604,"Triticale","Triticale, silage",599,0.75,"tons",2000,15,9000,0.3,1100,17]
[605,"Triticale","Triticale",600,0.5,"bu",60,40,4080,1.7,1320,9]
[606,"Turfgrass","Turfgrass established, Northern climate",601,0.5,"tons",2000,1,2000,1,4800,39]
[607,"Turfgrass","Turfgrass established",602,0.5,"tons",2000,1,2000,1,4800,21]
[608,"Turfgrass","Turfgrass, April seeding, thru yr 2, CMZ 04",603,0.5,"tons",2000,1.5,3000,1,4800,43]
[609,"Turfgrass","Turfgrass, August seed, thru yr 2, CMZ 01",604,0.5,"tons",2000,1.5,3000,1,4800,41]
[610,"Turfgrass","Turfgrass, August seed, thru yr 2, non irrigated, CMZ 01",605,0.5,"tons",2000,1.5,3000,1,4800,56]
[611,"Turfgrass","Turfgrass, August seed, thru yr2, CMZ 04",606,0.5,"tons",2000,1.5,3000,1,4800,40]
[612,"Turfgrass","Turfgrass, August seed, thru yr2, non irrigated, CMZ 04",607,0.5,"tons",2000,1.5,3000,1,4800,55]
[613,"Turfgrass","Turfgrass, bermuda spring seed",608,0.5,"tons",2000,1.5,3000,1,1600,30]
[{"$f":"ROW(B614)","v":614},"Turfgrass","Turfgrass, December dormant seed, thru yr 2, CMZ 01",609,0.5,"tons",2000,1.5,3000,1,4800,{"$f":"LEN(C614)","v":51}]
[615,"Turfgrass","Turfgrass, December dormant seed, thru yr 2, CMZ 04",610,0.5,"tons",2000,1.5,3000,1,4800,51]
[616,"Turfgrass","Turfgrass, fall seed",611,0.5,"tons",2000,1.5,3000,1,3200,20]
[617,"Turfgrass","Turfgrass, February dormant seed, thru yr 2, CMZ 01",612,0.5,"tons",2000,1.5,3000,1,4800,51]
[618,"Turfgrass","Turfgrass, February dormant seed, thru yr 2, CMZ 04",613,0.5,"tons",2000,1.5,3000,1,4800,51]
[619,"Turfgrass","Turfgrass, January dormant seed, thru yr 2, CMZ 01",614,0.5,"tons",2000,1.5,3000,1,4800,50]
[620,"Turfgrass","Turfgrass, January dormant seed, thru yr 2, CMZ 04",615,0.5,"tons",2000,1.5,3000,1,4800,50]
[621,"Turfgrass","Turfgrass, July seed, thru yr 2, CMZ 01",616,0.5,"tons",2000,1.5,3000,1,4800,39]
[622,"Turfgrass","Turfgrass, July seed, thru yr 2, CMZ 04",617,0.5,"tons",2000,1.5,3000,1,4800,39]
[623,"Turfgrass","Turfgrass, July seed, thru yr 2, Nonirrigated CMZ 01",618,0.5,"tons",2000,1.5,3000,1,4800,52]
[624,"Turfgrass","Turfgrass, July seed, thru yr 2, Nonirrigated CMZ 04",619,0.5,"tons",2000,1.5,3000,1,4800,52]
[625,"Turfgrass","Turfgrass, June seed, thru yr 2, CMZ 01",620,0.5,"tons",2000,1.5,3000,1,4800,39]
[626,"Turfgrass","Turfgrass, June seed, thru yr 2, CMZ 04",621,0.5,"tons",2000,1.5,3000,1,4800,39]
[627,"Turfgrass","Turfgrass, March dormant seed, thru yr 2, CMZ 01",622,0.5,"tons",2000,1.5,3000,1,4800,48]
[628,"Turfgrass","Turfgrass, March dormant seed, thru yr 2, CMZ 04",623,0.5,"tons",2000,1.5,3000,1,4800,48]
[629,"Turfgrass","Turfgrass, May seed, thru yr 2, CMZ 01",624,0.5,"tons",2000,1.5,3000,1,4800,38]
[630,"Turfgrass","Turfgrass, May seeding, thru yr 2, CMZ 04",625,0.5,"tons",2000,1.5,3000,1,4800,41]
[631,"Turfgrass","Turfgrass, November dormant seed, thru yr 2, CMZ 01",626,0.5,"tons",2000,1.5,3000,1,4800,51]
[632,"Turfgrass","Turfgrass, November dormant seed, thru yr 2, CMZ 04",627,0.5,"tons",2000,1.5,3000,1,4800,51]
[633,"Turfgrass","Turfgrass, September seed, thru yr 2, CMZ 01",628,0.5,"tons",2000,1.5,3000,1,4800,44]
[634,"Turfgrass","Turfgrass, September seed, thru yr 2, CMZ 04",629,0.5,"tons",2000,1.5,3000,1,4800,44]
[635,"Turfgrass","Turfgrass, spring seed",630,0.5,"tons",2000,1.5,3000,1,3200,22]
[636,"Turnip","Turnip, fall",631,0.5,"lbs",1,15500,1400,0.09,25,12]
[637,"Turnip","Turnip, spring",632,0.5,"lbs",1,18000,1620,0.09,25,14]
[638,"Vetch","Vetch, hairy, deep south",633,0.5,"lbs",1,4500,4500,1,1430,24]
[639,"Vetch","Vetch, hairy, fall cover crop, early Aug seeding",634,0.5,"lbs",1,5000,5000,1,2500,48]
[640,"Vetch","Vetch, hairy, fall cover crop, mid Sept seeding",635,0.5,"lbs",1,3000,3000,1,1500,47]
[641,"Vetch","Vetch, hairy, Midwest",636,0.5,"lbs",1,1200,1200,1,501.4,21]
[642,"Vetch","Vetch, hairy, northern climate, summer seeded",637,0.5,"tons",2000,2,4000,1,2100,45]
[643,"Vetch","Vetch, hairy, released growing cover after early fall havest",638,0.5,"tons",2000,1.5,3000,1,2100,60]
[644,"Vetch","Vetch, hairy",639,0.5,"lbs",1,4200,4200,1,1430,12]
[645,"Vineyard","Vineyard, clean till yr 1",640,0.5,"lbs",1,65,65,1,520,25]
[646,"Vineyard","Vineyard, clean till yr 2+",641,0.5,"lbs",1,65,65,1,620,26]
[647,"Vineyard","Vineyard, cover betw rows 9ft spac",642,0.5,"lbs",1,12000,1200,0.1,1500,34]
[648,"Vineyard","Vineyard, cover crop",643,0.5,"cwt",100,300,900,0.03,4500,20]
[649,"Vineyard","Vineyard, cover in alley",644,0.5,"cwt",100,300,900,0.03,1500,24]
[650,"Vineyard","Vineyard, established vine row, bare ground overwinter",645,0.5,"tons",2000,4,420,5.2499999999999998E-2,620,54]
[651,"Vineyard","Vineyard, established vine row, grass or weed cover overwinter",646,0.5,"tons",2000,4,1500,0.1875,2000,62]
[652,"Vineyard","Vineyard, establishment year to yr 4, vinerow, bare ground overwinter",647,0.5,"tons",2000,1,210,0.105,620,69]
[653,"Vineyard","Vineyard, establishment year to yr 4, vinerow, grass or weed cover overwinter",648,0.5,"tons",2000,1,210,0.105,620,77]
[654,"Vineyard","Vineyard, full cover",649,0.5,"cwt",100,300,900,0.03,2000,20]
[655,"Vineyard","Vineyard, vine row clean till yr 2+",650,0.5,"lbs",1,65,650,10,620,35]
[656,"Vineyard","Vineyard, yr1 cover",651,0.5,"lbs",1,65,65,1,1300,19]
[657,"Vineyard","Vineyard, yr1",652,0.5,"lbs",1,65,65,1,1000,13]
[658,"Watermelon","Watermelon, HI PROD",653,0.5,"lbs",1,39700,1620,4.0806045340050397E-2,24,19]
[659,"Watermelon","Watermelon",654,0.5,"lbs",1,17800,1350,7.5842696629213502E-2,20,10]
[660,"Weeds","Weeds, 12+ months",655,0.5,"lbs",1,2500,2500,1,1000,17]
[661,"Weeds","Weeds, exposed after harvest less than 3 mo growth",656,0.5,"lbs",1,500,500,1,500,50]
[662,"Weeds","Weeds, less than 3 mo growth",657,0.5,"lbs",1,500,500,1,500,28]
[663,"Weeds","Weeds, less than 6 mo growth",658,0.5,"lbs",1,1500,1500,1,1100,28]
[664,"Weeds","Weeds, less than 9 mo growth",659,0.5,"lbs",1,3000,3000,1,1700,28]
[665,"Weeds","Weeds, regrowth after mowing",660,0.5,"lbs",1,500,500,1,500,28]
[666,"Weeds","Weeds, winter, Central",661,0.5,"lbs",1,1120,1120,1,620,22]
[667,"Weeds","Weeds, winter, Deep SO",662,0.5,"lbs",1,1820,1820,1,970,22]
[668,"Weeds","Weeds, winter, Mid South",663,0.5,"lbs",1,1400,1400,1,750,24]
[669,"Wheat","Wheat, regrowth after winter grazing",664,0.5,"lbs",1,800,800,1,1000,36]
[670,"Wheat","Wheat, spring 14in rows",665,0.75,"bu",60,35,2730,1.3,950,23]
[671,"Wheat","Wheat, spring 7in rows",666,0.75,"bu",60,30,2340,1.3,970,22]
[672,"Wheat","Wheat, spring graze grain",667,0.75,"bu",60,30,2340,1.3,970,25]
[673,"Wheat","Wheat, spring graze out",668,0.75,"lbs",1,2300,2300,1,720,23]
[674,"Wheat","Wheat, spring, CMZ 10, 10 in. spac.",669,1,"bu",60,40,3500,1.4583333333333299,844,35]
[675,"Wheat","Wheat, spring, CMZ 47, 7 in. spac.",670,1,"bu",60,60,4600,1.2777777777777799,1051,34]
[676,"Wheat","Wheat, spring, CMZ 50, 7-10 in. spac.",671,0.5,"bu",60,50,4100,1.36666666666667,908,37]
[677,"Wheat","Wheat, spring, hay, 7in rows",672,0.75,"tons",2000,1,2000,1,970,28]
[678,"Wheat","Wheat, winter 10in 2-1 skip row",673,0.5,"bu",60,40,4080,1.7,1200,31]
[679,"Wheat","Wheat, winter 14in rows",674,0.75,"bu",60,45,4590,1.7,1200,23]
[680,"Wheat","Wheat, winter 7in rows irrigated",675,0.5,"bu",60,80,6288,1.31,2210,32]
[681,"Wheat","Wheat, winter 7in rows",676,0.5,"bu",60,40,4080,1.7,1080,22]
[682,"Wheat","Wheat, winter cover crop, mid Oct seeding",677,0.75,"lbs",1,600,600,1,650,41]
[683,"Wheat","Wheat, winter cover crop, mid Sept seeding",678,0.75,"lbs",1,2240,2240,1,1320,42]
[684,"Wheat","Wheat, winter cover",679,0.5,"lbs",1,4000,4000,1,400,19]
[685,"Wheat","Wheat, winter graze out South",680,0.5,"lbs",1,800,800,1,1000,29]
[686,"Wheat","Wheat, winter graze, grain",681,0.5,"bu",60,30,3060,1.7,850,26]
[687,"Wheat","Wheat, winter grazed forage",682,0.75,"lbs",1,2000,400,0.2,660,27]
[688,"Wheat","Wheat, winter nurse crop  with red clover",683,0.5,"bu",60,40,4080,1.7,1400,41]
[689,"Wheat","Wheat, winter silage S.E.",684,0.75,"tons",2000,11,6800,0.30909090909090903,1070,25]
[690,"Wheat","Wheat, winter silage",685,0.75,"tons",2000,11,6800,0.30909090909090903,1000,20]
[691,"Wheat","Wheat, winter south 7in rows",686,0.5,"bu",60,30,3060,1.7,837,28]
[692,"Wheat","Wheat, winter, 10in rows and relay intercropped soybeans",687,0.5,"bu",60,40,4080,1.7,1160,56]
[693,"Wheat","Wheat, winter, CMZ 10, 10 in. spac. delayed germ.",688,1,"bu",60,30,2700,1.5,639,49]
[694,"Wheat","Wheat, winter, CMZ 10, 10 in. spac. early plant",689,1,"bu",60,40,3600,1.5,715,47]
[695,"Wheat","Wheat, winter, CMZ 10, 10 in. spac. late plant",690,1,"bu",60,40,3600,1.5,639,46]
[696,"Wheat","Wheat, winter, CMZ 47, 7-10 in. spac. late plant",691,1,"bu",60,80,6300,1.3125,1336,48]
[697,"Wheat","Wheat, winter, CMZ 47, 7-10 in.spac. early plant",692,1,"bu",60,80,6300,1.3125,1445,48]
[698,"Wheat","Wheat, winter, CMZ 50 hi ppt, 14-16 in. spac. early plant",693,1,"bu",60,80,6300,1.3125,1671,57]
[699,"Wheat","Wheat, winter, CMZ 50 hi ppt, 14-16 in. spac. late plant old",694,1,"bu",60,80,6300,1.3125,1445,60]
[700,"Wheat","Wheat, winter, CMZ 50 hi ppt, 14-16 in. spac. late plant",695,1,"bu",60,80,6300,1.3125,1445,56]
[701,"Wheat","Wheat, winter, CMZ 50 hi ppt, 7-10 in. spac. early plant",696,1,"bu",60,80,6300,1.3125,1545,56]
[702,"Wheat","Wheat, winter, CMZ 50 hi ppt, 7-10 in. spac. late plant",697,1,"bu",60,80,6300,1.3125,1445,55]
[703,"Wheat","Wheat, winter, CMZ 50 lo ppt, 16-18 in. spac. early plant",698,1,"bu",60,60,5000,1.3888888888888899,1115,57]
[704,"Wheat","Wheat, winter, CMZ 50 lo ppt, 16-18 in.spac. late plant",699,1,"bu",60,60,5000,1.3888888888888899,1018,55]
[705,"Wheat","Wheat, winter, cover S.E.",700,0.75,"lbs",1,4080,4080,1,1070,25]
[706,"Wheat","Wheat, winter, grain and timothy",701,0.5,"bu",60,40,4080,1.7,1930,32]
[707,"Wheat","Wheat, winter, grain S.E.",702,0.5,"bu",60,40,4080,1.7,1070,25]
[708,"Wheat","Wheat, winter, grain with timothy",703,0.5,"bu",60,40,4080,1.7,1930,33]
[709,"Wheat","Wheat, winter, grain, regrowth after winter grazing",704,0.5,"bu",60,30,3060,1.7,1000,51]
[710,"Wheat","Wheat, winter, hay or silage, CMZ 10, 10 in. spac.",705,1,"tons",2000,6,3600,0.3,665,50]
[711,"Wheat","Wheat, winter, hay, 7in rows",706,0.5,"tons",2000,2,4000,1,900,28]
[712,"Wheat","Wheat, winter, mid-south",707,0.5,"bu",60,40,3810,1.5874999999999999,1100,24]
[713,"Wheat","Wheat, winter, regrowth during continuous winter grazing",708,0.5,"lbs",1,800,800,1,600,56]
[714,"Wheat","Wheat, winter, silage, mid south, 7in rows",709,0.5,"tons",2000,7,4500,0.32142857142857101,837,42]
[715,"Wheat","Wheat, winter, west coast",710,0.5,"bu",60,60,5184,1.44,1500,25]
[716,"Wheat","Wheat, winter, with winter peas, CMZ 50 hi ppt, 14-16 in. spac. late plant",711,1,"bu",60,80,6300,1.3125,1445,74]
[717,"Wheat","Wheat, winter, with winter peas, CMZ 50 hi ppt, 7-10 in. spac. late plant",712,1,"bu",60,80,6300,1.3125,1445,73]
[718,"Wheat","Wheat, winter, with winter peas, CMZ 50 lo ppt, 16-18 in.spac. late plant",713,1,"bu",60,60,5000,1.3888888888888899,1018,73]
[719,"Yarrow","Yarrow",714,0.5,"lbs",1,625,2500,4,300,6]
[720,"zdefault","zdefault, winter annual",715,1,"bu",60,40,3157.3043478260902,1.3155434782608699,1445,23]
[721,"zdefault","zdefault",716,0.5,"bu",56,200,200,1.7899999999999999E-2,200,8]
[722,"Alaska Crops","Barley, hay senes.,  AK",717,0.5,"tons",2000,0.75,1500,1,830,23]
[723,"Alaska Crops","Barley, spring,  AK",718,0.5,"bu",48,30,2160,1.5,830,19]
[724,"Alaska Crops","Barley, spring,  hay AK",719,0.5,"tons",2000,2,2200,0.55000000000000004,830,23]
[725,"Alaska Crops","Broccoli,  AK",720,0.5,"lbs",1,9500,2900,0.30526315789473701,250,13]
[726,"Alaska Crops","Bromegrass, seedng  yr,  AK",721,0.5,"tons",2000,1.5,3000,1,1700,27]
[727,"Alaska Crops","Bromegrass, y2 regrowth after cut,  AK",722,0.5,"tons",2000,1,2000,1,1700,38]
[728,"Alaska Crops","Bromegrass, y2 senesc to yr3 regrowth,  AK",723,0.5,"tons",2000,1,2000,1,2500,42]
[729,"Alaska Crops","Bromegrass, y3 regrowth after cut,  AK",724,0.5,"tons",2000,1,2000,1,2500,38]
[730,"Alaska Crops","Bromegrass, yr3 senesc to yr4 regrow,  AK",725,0.5,"tons",2000,1,2000,1,2500,41]
[731,"Alaska Crops","Bromegrass, yr3 senesc to yr4 regrowth,  AK",726,0.5,"tons",2000,1,2000,1,2500,43]
[732,"Alaska Crops","Cabbage,  AK",727,0.5,"cwt",100,230,25600,1.11304347826087,240,12]
[733,"Alaska Crops","Canola, spring,  AK",728,0.5,"bu",50,25,3000,2.4,800,19]
[734,"Alaska Crops","Cauliflower,  AK",729,0.5,"lbs",1,10300,12360,1.2,290,16]
[735,"Alaska Crops","Grass, seed, short var, spring plant AK",730,0.5,"lbs",1,1000,2000,2,1400,39]
[736,"Alaska Crops","Grass, seed, short var, yr2 regrow AK",731,0.5,"lbs",1,1000,3000,3,1400,37]
[737,"Alaska Crops","Grass, seed, short var, yr2 senes AK",732,0.5,"lbs",1,1000,4000,4,3000,36]
[738,"Alaska Crops","Grass, seed, short var, yr3 regrow AK",733,0.5,"lbs",1,1000,4000,4,3000,37]
[739,"Alaska Crops","Grass, seed, short var, yr3 senes AK",734,0.5,"lbs",1,1000,4000,4,4000,36]
[740,"Alaska Crops","Grass, seed, short var, yr4 regrow AK",735,0.5,"lbs",1,1000,4000,4,4000,37]
[741,"Alaska Crops","Grass, seed, short var, yr4 senes AK",736,0.5,"lbs",1,1000,4000,4,4000,36]
[742,"Alaska Crops","Grass, seed, tall var, spring plant AK",737,0.5,"lbs",1,1000,2000,2,1400,38]
[743,"Alaska Crops","Grass, seed, tall var, yr2 regrow AK",738,0.5,"lbs",1,1000,3000,3,800,36]
[744,"Alaska Crops","Grass, seed, tall var, yr2 senes AK",739,0.5,"lbs",1,1000,4000,4,3000,35]
[745,"Alaska Crops","Grass, seed, tall var, yr3 regrow AK",740,0.5,"lbs",1,1000,4000,4,3000,36]
[746,"Alaska Crops","Grass, seed, tall var, yr3 senes AK",741,0.5,"lbs",1,1000,4000,4,4000,35]
[747,"Alaska Crops","Grass, seed, tall var, yr4 regrow AK",742,0.5,"lbs",1,1000,4000,4,4000,36]
[748,"Alaska Crops","Grass, seed, tall var, yr4 senes AK",743,0.5,"lbs",1,1000,4000,4,4000,35]
[749,"Alaska Crops","Greens,  AK",744,0.5,"lbs",1,9765,1450,0.14848950332821301,160,11]
[750,"Alaska Crops","Lettuce,  AK",745,0.5,"lbs",1,4400,5400,1.22727272727273,80,12]
[751,"Alaska Crops","Oats, hay senes.,  AK",746,0.5,"tons",2000,0.75,1500,1,640,21]
[752,"Alaska Crops","Oats, hay,  AK",747,0.5,"tons",2000,2,4480,1.1200000000000001,640,14]
[753,"Alaska Crops","Potato, Irish,  AK",748,0.5,"cwt",100,260,3120,0.12,110,18]
[754,"Alaska Crops","Radish,  AK",749,0.5,"lbs",1,6275,700.00099999999998,0.11155394422310801,50,11]
[755,"Alaska Crops","Squash,  AK",750,0.5,"cwt",100,180,2700,0.15,80,11]
[756,"Alaska Crops","Timothy, seeding yr.,  AK",751,0.5,"tons",2000,0.6,1200,1,280,25]
[757,"Alaska Crops","Timothy, y2 regro & senesc to yr3 cut,  AK",752,0.5,"tons",2000,1,2000,1,1700,42]
[758,"Alaska Crops","Timothy, y2 regro and senesc to yr3 cut,  AK",753,0.5,"tons",2000,1,2000,1,1700,44]
[759,"Alaska Crops","Timothy, y3 regro, senesc, to yr4 cut,  AK",754,0.5,"tons",2000,1,2000,1,1700,42]
[760,"Alaska Crops","Vegetables, mixed, AK",755,0.5,"cwt",100,130,1300,0.1,65,21]
[761,"Alaska Crops","zdefault",756,0.5,"bu",56,200,200,1.7899999999999999E-2,200,8]
[762,"Forest Range","Established forest, conifer",757,0.5,"lbs",1,100000,125000,1.25,2350,27]
[763,"Forest Range","Established forest, Hardwood",758,0.5,"cords-lbs",1,100000,125000,1.25,2350,28]
[764,"Forest Range","Grass, cool season permanent not harvested 2yr establishment, sp",759,0.5,"tons",2000,1.5,3000,1,4000,64]
[765,"Forest Range","Grass, cool season permanent not harvested, mid south",760,0.5,"tons",2000,2.5,5000,1,4800,53]
[766,"Forest Range","Grass, cool season permanent not harvested",761,0.5,"tons",2000,2.5,5000,1,7000,42]
[767,"Forest Range","Grass, cool season, not harvested with killed strips",762,0.5,"tons",2000,3,6000,1,3600,52]
[768,"Forest Range","Grass, warm season permanent, not harvested poor condition",763,0.5,"tons",2000,1.5,3000,1,6000,58]
[769,"Forest Range","Grass, warm season permanent, not harvested, excellent condition",764,0.5,"tons",2000,5,10000,1,20000,64]
[770,"Forest Range","Grass, warm season permanent, not harvested, good condition",765,0.5,"tons",2000,3,6000,1,12000,59]
[771,"Forest Range","Grass, warm season permanent, not harvested",766,0.5,"tons",2000,3,6000,1,12000,43]
[772,"Forest Range","Grass, warm season, permanent, establishment period, poor condit",767,0.5,"tons",2000,0.5,1000,1,1333.3333333333301,64]
[773,"Forest Range","Grass, warm season, permanent, not harvested, 3yr establishment,",768,0.5,"tons",2000,3,6000,1,8000,64]
[774,"Forest Range","Hardwood, established stands",769,0.5,"cords-lbs",1,100000,125000,1.25,2350,28]
[775,"Forest Range","Hardwood, Five year old stand",770,0.5,"cords-lbs",1,5000,6250,1.25,2350,29]
[776,"Forest Range","Hardwood, planted stands",771,0.5,"cords-lbs",1,100000,125000,1.25,2350,24]
[777,"Forest Range","Heyman Burn site veg",772,0.5,"bu",56,1000,1000,1.7899999999999999E-2,200,20]
[778,"Forest Range","Kentucky Bluegrass, not harvested",773,0.5,"tons",2000,3,6000,1,4800,33]
[779,"Forest Range","Pine, longleaf planted stands",774,0.5,"cords",5350,25,160517.38750000001,1.2001299999999999,1142.4565169080299,29]
[780,"Forest Range","Pine, planted stands",775,0.5,"cords",5350,29,186200,1.2001289075088599,2350,20]
[781,"Forest Range","Range Desert grassland",776,1,"lbs",1,600,600,1,648,22]
[782,"Forest Range","Range Northern desert shrub",777,1,"lbs",1,200,200,1,1300,27]
[783,"Forest Range","Range Northern mixed grass prairie seeding",778,1,"lbs",1,600,600,1,600.00199999999995,42]
[784,"Forest Range","Range Northern mixed grass prairie",779,1,"lbs",1,600,600,1,720,34]
[785,"Forest Range","Range Short grass prairie",780,1,"lbs",1,750,750,1,450,25]
[786,"Forest Range","Range Southern desert shrub",781,1,"lbs",1,200,200,1,1136,27]
[787,"Forest Range","Range Southern mixed grass prairie seeding",782,1,"lbs",1,150,150,1,176.00299999999999,42]
[788,"Forest Range","Range Southern mixed grass prairie",783,0.5,"lbs",1,150,150,1,264.005,34]
[789,"Forest Range","Range Tall grass prairie",784,0.5,"lbs",1,1000,1000,1,180,24]
[790,"Forest Range","Shrub Willow, planting to harvest in yr4",785,0.5,"dry tons",2000,4,8000,1,2700]
[{"$f":"ROW(B791)","v":791},"Forest Range","Shrub Willow, regrowth after harvest",786,0.5,"dry tons",2000,8,16000,1,3000]
[792,"Forest Range","Silvopasture",787,0.5,"cords",5350,6,48150,1.5,5840,12]
[793,"Forest Range","zdefault",788,0.5,"bu",56,200,200,1.7899999999999999E-2,200,8]
[794,"Perm. Cover","Bahiagrass,  not harvested",789,0.5,"lbs",1,8000,8000,1,1920,26]
[795,"Perm. Cover","Barley, annual winter cover, CA",790,0.75,"lbs",1,3000,3000,1,800,31]
[796,"Perm. Cover","Bermudagrass, common, not harvested",791,0.5,"lbs",1,6000,6000,1,2400,35]
[797,"Perm. Cover","Brome, annual (Blando), winter cover, CA",792,0.75,"lbs",1,3000,3000,1,1000,40]
[798,"Perm. Cover","Brome, California, established cover, CA",793,0.5,"lbs",1,3000,3000,1,7000,40]
[799,"Perm. Cover","Brome, California, regrowth after cut, high cover, CA",794,0.5,"tons",2000,2,4000,1,7000,53]
[800,"Perm. Cover","Brome, California, regrowth after cut, low cover, CA",795,0.5,"tons",2000,1.5,3000,1,7000,52]
[801,"Perm. Cover","Brome, California, seeding period, CA",796,0.75,"lbs",1,3000,3000,1,2500,37]
[802,"Perm. Cover","Crownvetch, established, not harvested",797,0.5,"tons",2000,3,6000,1,1900,38]
[803,"Perm. Cover","Fescue, annual (Zorro), winter cover, CA",798,0.75,"lbs",1,3000,3000,1,1200,40]
[804,"Perm. Cover","Fescue, red, established, CA",799,0.5,"lbs",1,2000,2000,1,6500,28]
[805,"Perm. Cover","Fescue, red, regrowth after cut, high cover, CA",800,0.5,"tons",2000,2,4000,1,6500,47]
[806,"Perm. Cover","Fescue, red, regrowth after cut, low cover, CA",801,0.5,"tons",2000,1.5,3000,1,6500,46]
[807,"Perm. Cover","Fescue, red, seeding period, CA",802,0.75,"lbs",1,3000,3000,1,2500,31]
[808,"Perm. Cover","Grass, Cool season permanent cover, August 1st seeding, thru yr 2, CMZ 64",803,0.5,"tons",2000,1.5,3000,1,4800,73]
[809,"Perm. Cover","Grass, Cool season permanent cover, March 1st seeding, thru yr 2, CMZ 64",804,0.5,"tons",2000,1.5,3000,1,4800,72]
[810,"Perm. Cover","Grass, Cool season permanent cover, March 1st seeding, thru yr 2, CMZ 67",805,0.5,"tons",2000,1.5,3000,1,4800,72]
[811,"Perm. Cover","Grass, Cool season permanent cover, May 1st seeding, thru yr 2, CMZ 64",806,0.5,"tons",2000,1.5,3000,1,4800,70]
[812,"Perm. Cover","Grass, Cool season permanent cover, Mid Dec. dormant seeding, thru yr 2, CMZ 64",807,0.5,"tons",2000,1.5,3000,1,4800,79]
[813,"Perm. Cover","Grass, Cool season permanent cover, October 1st seeding, thru yr 2, CMZ 64",808,0.5,"tons",2000,1.5,3000,1,4600,74]
[814,"Perm. Cover","Grass, cool season permanent not harvested 2yr establishment, spring seeded",809,0.5,"tons",2000,1.5,3000,1,4000,75]
[815,"Perm. Cover","Grass, cool season permanent not harvested, mid south",810,0.5,"tons",2000,2.5,5000,1,4800,53]
[816,"Perm. Cover","Grass, cool season permanent not harvested",811,0.5,"tons",2000,2.5,5000,1,7000,42]
[817,"Perm. Cover","Grass, cool season, not harvested with killed strips",812,0.5,"tons",2000,3,6000,1,3600,52]
[818,"Perm. Cover","Grass, warm season permanent, not harvested",813,0.5,"tons",2000,3,6000,1,12000,43]
[819,"Perm. Cover","Grass, warm season permanent, not harvested fall mowed",814,0.5,"tons",2000,3,6000,1,12000,54]
[820,"Perm. Cover","Grass, warm season permanent, not harvested poor condition",815,0.5,"tons",2000,1.5,3000,1,6000,58]
[821,"Perm. Cover","Grass, warm season permanent, not harvested, excellent condition",816,0.5,"tons",2000,5,10000,1,20000,64]
[822,"Perm. Cover","Grass, warm season permanent, not harvested, good condition",817,0.5,"tons",2000,3,6000,1,12000,59]
[823,"Perm. Cover","Grass, warm season, permanent, establishment period, poor condition",818,0.5,"tons",2000,0.5,1000,1,1333.3333333333301,67]
[{"$f":"ROW(B824)","v":824},"Perm. Cover","Grass, warm season, permanent, not harvested, 3yr establishment, spring seeded",819,0.5,"tons",2000,3,6000,1,8000]
[825,"Perm. Cover","Kentucky Bluegrass, not harvested",820,0.5,"tons",2000,3,6000,1,4800,33]
[826,"Perm. Cover","Pine bluegrass, California, regrowth after cut, high cover, CA",821,0.5,"tons",2000,2,4000,1,4800,62]
[827,"Perm. Cover","Pine bluegrass, California, regrowth after cut, low cover, CA",822,0.5,"tons",2000,1.5,3000,1,4800,61]
[828,"Perm. Cover","Pine bluegrass, seeding period, CA",823,0.5,"lbs",1,1000,1000,1,2500,34]
[829,"Perm. Cover","Pine blugrass,  established perennial cover, CA",824,0.5,"lbs",1,2000,2000,1,4800,47]
[830,"Perm. Cover","Sericea Lespedeza, not harvested",825,0.5,"tons",2000,3,6000,1,1900,32]
[831,"Perm. Cover","silt fence",826,0.5,"lbs",1,50,50,1,100,10]
[832,"Perm. Cover","straw bale barrier",827,0.5,"lbs",1,50,50,1,100,18]
[833,"Perm. Cover","Vegetation, grass and shrub mixed vegetation, established, CA climate",828,0.5,"lbs",1,3000,7800,2.6,4000,69]
[834,"Perm. Cover","Vegetation, grass and shrub mixed vegetation, new planting, CA climate",829,0.5,"lbs",1,1500,3900,2.6,3600,70]
[835,"Perm. Cover","Vegetation, grass, established CA climate",830,0.5,"lbs",1,3000,3000,1,6000,41]
[836,"Perm. Cover","Vegetation, grass, seeding and establishment CA climate",831,0.75,"lbs",1,2000,2000,1,3666.6666666666702,55]
[837,"Perm. Cover","Vegetation, shrub, established, CA climate",832,0.5,"lbs",1,5000,33000,6.6,13204,42]
[838,"Perm. Cover","Vegetation, shrub, planting and establishment period, CA climate",833,0.5,"lbs",1,2000,13200,6.6,13203.853633519901,64]
[839,"Perm. Cover","Vegetation, woody, established, CA climate",834,0.5,"lbs",1,5000,6500,1.3,2601,42]
[840,"Perm. Cover","Vegetation, woody, planted or volunteer, CA climate",835,0.5,"lbs",1,2000,2600,1.3,2600,51]
[841,"Perm. Cover","Vegetative Barrier permanent, not harvested, excellent condition",836,0.5,"tons",2000,13.5,27000,1,12000,64]
[842,"Perm. Cover","Vegetative Barrier permanent, not harvested, fair condition",837,0.5,"tons",2000,7,14000,1,6222.2222222222199,59]
[843,"Perm. Cover","Vegetative Barrier permanent, not harvested, good condition",838,0.5,"tons",2000,10,20000,1,8888.8888888888905,59]
[844,"Perm. Cover","Vegetative Barrier permanent, not harvested",839,0.5,"tons",2000,13.5,27000,1,12000,43]
[845,"Perm. Cover","Vetiver grass barrier",840,0.5,"lbs",1,27000,27000,1,12000,21]
[846,"Perm. Cover","Weeping lovegrass, not harvested",841,0.5,"tons",2000,3,6000,1,4800,32]
[847,"Tropical A-D","Agroforestry 30pct canopy",842,0.5,"lbs",1,20000,20000,1,1007,25]
[848,"Tropical A-D","Agroforestry 50pct canopy",843,0.5,"lbs",1,20000,20000,1,1679,25]
[849,"Tropical A-D","Agroforestry 90pct canopy",844,0.5,"lbs",1,20000,20000,1,3021,25]
[850,"Tropical A-D","Agroforestry tropical hardwoods",845,0.5,"cords-lbs",1,100000,125000,1.25,2350,31]
[851,"Tropical A-D","Agroforestry",846,0.5,"lbs",1,20000,20000,1,2350,12]
[852,"Tropical A-D","Asparagus, tropical, 2+ years",847,0.5,"lbs",1,2000,2000,1,200,29]
[853,"Tropical A-D","Asparagus, tropical, first year",848,0.5,"lbs",1,2000,2000,1,200,31]
[854,"Tropical A-D","Bahiagrass, mature",849,0.5,"lbs",1,8000,8000,1,1300,18]
[855,"Tropical A-D","Bahiagrass, new seeding, tropics",850,0.5,"tons",2000,2,4000,1,1300,32]
[856,"Tropical A-D","Bahiagrass, seeding",851,0.5,"tons",2000,2,4000,1,1300,19]
[857,"Tropical A-D","Banana, + grass yr1",852,0.5,"lbs",1,19300,23160,1.2,4530,19]
[858,"Tropical A-D","Banana, + grass yr2",853,0.5,"lbs",1,27000,32400,1.2,4530,19]
[859,"Tropical A-D","Banana, + grass yr3+",854,0.5,"lbs",1,20000,24000,1.2,4530,20]
[860,"Tropical A-D","Banana, yr1",855,0.5,"lbs",1,19300,23160,1.2,1530,11]
[861,"Tropical A-D","Banana, yr2",856,0.5,"lbs",1,27000,32400,1.2,3070,11]
[862,"Tropical A-D","Banana, yr3+",857,0.5,"lbs",1,20000,24000,1.2,3070,12]
[863,"Tropical A-D","Basil, tropics",858,0.5,"lbs",1,600,3000,5,1240,14]
[864,"Tropical A-D","Beans, fresh",859,0.5,"lbs",1,5000,1400,0.28000000000000003,250,12]
[865,"Tropical A-D","Beans, trellis",860,0.5,"lbs",1,5000,2900,0.57999999999999996,530,14]
[866,"Tropical A-D","Bermudagrass, common spring seeded 1st year",861,0.5,"lbs",1,2000,2000,1,3400,43]
[867,"Tropical A-D","Bittermelon, trellis",862,0.5,"lbs",1,15000,2500,0.16666666666666699,200,20]
[868,"Tropical A-D","Broccoli",863,0.5,"lbs",1,4100,1804,0.44,200,8]
[869,"Tropical A-D","Buckwheat, cover crop tropics",864,0.5,"tons",2000,1.5,3000,1,80,29]
[870,"Tropical A-D","Cabbage, 6 ft rows",865,0.5,"lbs",1,10500,19950,1.9,250,{"$f":"LEN(C870)","v":18}]
[{"$f":"ROW(B871)","v":871},"Tropical A-D","Cabbage, Chinese 21 day",866,0.5,"lbs",1,7500,9530,1.2706666666666699,150,23]
[872,"Tropical A-D","Cabbage, Chinese 60 day",867,0.5,"lbs",1,20000,25400,1.27,220,23]
[873,"Tropical A-D","Cabbage, head",868,0.5,"lbs",1,27000,34300,1.27,350,13]
[874,"Tropical A-D","Cassava, + grass",869,0.5,"lbs",1,26000,2600,0.1,1700,16]
[875,"Tropical A-D","Cassava",870,0.5,"lbs",1,26000,2600,0.1,1700,7]
[876,"Tropical A-D","Cauliflower, 60 day",871,0.5,"lbs",1,13000,13000,1,350,19]
[877,"Tropical A-D","Cauliflower, 75 day",872,0.5,"lbs",1,15000,15000,1,375,19]
[878,"Tropical A-D","Clover, annual, established",873,0.5,"tons",2000,1.5,4500,1.5,1000,27]
[879,"Tropical A-D","Clover, sweet, cover crop, tropics",874,0.5,"tons",2000,1.5,3000,1,2200,34]
[880,"Tropical A-D","Clover, white, new seeding",875,0.5,"tons",2000,1.5,3000,1,850,26]
[881,"Tropical A-D","Coffee, + grass yr1",876,0.5,"lbs",1,2000,2000,1,1940,19]
[882,"Tropical A-D","Coffee, + grass yr2",877,0.5,"lbs",1,2000,2000,1,4940,19]
[883,"Tropical A-D","Coffee, + grass yr3+",878,0.5,"lbs",1,2000,2000,1,5570,20]
[884,"Tropical A-D","Coffee, yr1",879,0.5,"lbs",1,2000,2000,1,1200,11]
[885,"Tropical A-D","Coffee, yr2, no live surf. cover",880,0.5,"lbs",1,2000,2000,1,2300,32]
[886,"Tropical A-D","Coffee, yr2",881,0.5,"lbs",1,2000,2000,1,2300,11]
[887,"Tropical A-D","Coffee, yr3+, no live surf. cover",882,0.5,"lbs",1,2000,2000,1,3200,33]
[888,"Tropical A-D","Coffee, yr3+",883,0.5,"lbs",1,2000,2000,1,3200,12]
[889,"Tropical A-D","Coffee-plantain; yr 1",884,0.5,"lbs",1,18150,18150,1,4400,21]
[890,"Tropical A-D","Coffee-plantain; yr 2",885,0.5,"lbs",1,18150,18150,1,4400,21]
[891,"Tropical A-D","Cow pea, cover crop, tropics",886,0.5,"tons",2000,2,4000,1,210,28]
[892,"Tropical A-D","Cucumber, crawl seeded",887,0.5,"lbs",1,15000,2250,0.15,700,22]
[893,"Tropical A-D","Cucumber, crawl transplant",888,0.5,"lbs",1,15000,2250,0.15,800,26]
[894,"Tropical A-D","Cucumber, trellis seeded",889,0.5,"lbs",1,20000,3000,0.15,600,24]
[895,"Tropical A-D","Cucumber, trellis transplant",890,0.5,"lbs",1,20000,3000,0.15,60,28]
[896,"Tropical A-D","Dracena",891,0.5,"lbs",1,4000,4000,1,2000,7]
[897,"Tropical E-O","Eggplant, + grass",892,0.5,"lbs",1,20000,5400,0.27,1390,17]
[898,"Tropical E-O","Eggplant, trellis",893,0.5,"lbs",1,10000,2000,0.2,1700,17]
[899,"Tropical E-O","Eggplant",894,0.5,"lbs",1,20000,3600,0.18,390,8]
[900,"Tropical E-O","Eucalyptus plantation",895,0.5,"cords",5350,29,186200,1.2001289075088599,2350,21]
[901,"Tropical E-O","Forbs, tropical groundcover, new seeding, tropics",896,0.5,"tons",2000,1.5,3000,1,850,49]
[902,"Tropical E-O","Forbs, tropical groundcover",897,0.5,"lbs",1,800,1200,1.5,600,27]
[903,"Tropical E-O","Ginger, hi density",898,0.5,"lbs",1,46000,6000,0.13043478260869601,500,18]
[904,"Tropical E-O","Grass and Shrub mixed tropical vegetation, established",899,0.5,"lbs",1,30000,30000,1,2400,54]
[905,"Tropical E-O","Grass and Shrub mixed tropical vegetation, new planting, tropics",900,0.5,"lbs",1,6000,6000,1,2400,64]
[906,"Tropical E-O","Grass, warm season, permanent, not harvested, 3yr establishment, spring seeded, tropics",901,0.5,"tons",2000,3,6000,1,8000,87]
[907,"Tropical E-O","Lettuce, head 15 to 18 in rows",902,0.5,"tons",2000,9,18800,1.0444444444444401,40,30]
[908,"Tropical E-O","Lettuce, romaine",903,0.5,"lbs",1,12000,12500,1.04,80,16]
[909,"Tropical E-O","Macadamia nut, yr01",904,0.5,"lbs",1,2000,2000,1,50,19]
[910,"Tropical E-O","Macadamia nut, yr02",905,0.5,"lbs",1,2000,2000,1,80,19]
[911,"Tropical E-O","Macadamia nut, yr03",906,0.5,"lbs",1,2000,2000,1,1150,19]
[912,"Tropical E-O","Macadamia nut, yr04",907,0.5,"lbs",1,2000,2000,1,1380,19]
[913,"Tropical E-O","Macadamia nut, yr05",908,0.5,"lbs",1,2000,2000,1,1800,19]
[914,"Tropical E-O","Macadamia nut, yr06",909,0.5,"lbs",1,2000,2000,1,2050,19]
[915,"Tropical E-O","Macadamia nut, yr07",910,0.5,"lbs",1,2000,2000,1,2300,19]
[916,"Tropical E-O","Macadamia nut, yr08",911,0.5,"lbs",1,2000,2000,1,2750,19]
[917,"Tropical E-O","Macadamia nut, yr09",912,0.5,"lbs",1,2000,2000,1,3200,19]
[918,"Tropical E-O","Macadamia nut, yr10",913,0.5,"lbs",1,2000,2000,1,3400,19]
[919,"Tropical E-O","Macadamia nut",914,0.5,"lbs",1,2000,2000,1,3400,13]
[920,"Tropical E-O","Millet, cover crop, tropics",915,0.5,"tons",2000,2,4000,1,1200,27]
[921,"Tropical E-O","Mungbean, cover crop, tropics",916,0.5,"tons",2000,1.5,3000,1,210,29]
[922,"Tropical E-O","Native grass, new seeding, tropics",917,0.5,"tons",2000,6,12000,1,1900,34]
[923,"Tropical E-O","Oats, cover crop, tropics",918,0.5,"tons",2000,1.5,3000,1,400,25]
[924,"Tropical E-O","Onion, green seeded",919,0.5,"lbs",1,9000,1530,0.17,370,19]
[925,"Tropical E-O","Onion, green transplant",920,0.5,"lbs",1,9000,1530,0.17,370,23]
[926,"Tropical E-O","Orchard, tropical, bare ground",921,0.5,"cwt",100,300,990,3.3000000000000002E-2,375,30]
[927,"Tropical E-O","Orchard, tropical, cover betw rows",922,0.5,"cwt",100,300,990,3.3000000000000002E-2,1750,34]
[928,"Tropical E-O","Orchard, tropical, full cover",923,0.5,"cwt",100,300,990,3.3000000000000002E-2,3960,29]
[929,"Tropical E-O","Orchard, tropical, new",924,0.5,"lbs",1,1,100,100,630,22]
[930,"Tropical E-O","Ornamental ground cover, established, tropics",925,0.5,"tons",2000,3,6000,1,1430,45]
[931,"Tropical E-O","Ornamental ground cover, new planting, tropics",926,0.5,"tons",2000,2.5,5000,1,1191.6666666666699,46]
[932,"Tropical E-O","Ornamental ground cover, Oct planting, tropics",927,0.5,"tons",2000,2.5,5000,1,1191.6666666666699,46]
[933,"Tropical P-S","Papaya, + weeds",928,0.5,"lbs",1,26000,9100,0.35,2080,15]
[934,"Tropical P-S","Papaya, yr1",929,0.5,"lbs",1,26000,9100,0.35,1530,{"$f":"LEN(C934)","v":11}]
[{"$f":"ROW(B935)","v":935},"Tropical P-S","Papaya, yr2+",930,0.5,"lbs",1,26000,9100,0.35,1530,12]
[936,"Tropical P-S","Peppers, bell",931,0.5,"lbs",1,14000,3600,0.25714285714285701,400,13]
[937,"Tropical P-S","Pigeon peas, + weeds",932,0.5,"lbs",1,1500,6750,4.5,1200,20]
[938,"Tropical P-S","Pigeon peas, cover crop, tropics",933,0.5,"tons",2000,2.5,5000,1,900,32]
[939,"Tropical P-S","Pigeon peas, short season",934,0.5,"lbs",1,3000,12000,4,900,25]
[940,"Tropical P-S","Pigeon peas",935,0.5,"lbs",1,1500,6000,4,700,11]
[941,"Tropical P-S","Pineapple, yr 1",936,0.5,"tons",2000,16,10000,0.3125,3670,15]
[942,"Tropical P-S","Pineapple, yr 2",937,0.5,"tons",2000,16,10000,0.3125,3390,15]
[943,"Tropical P-S","Pineapple, yr 3+",938,0.5,"tons",2000,16,10000,0.3125,3200,16]
[944,"Tropical P-S","Plantain, + weeds yr1",939,0.5,"lbs",1,19300,23160,1.2,4530,21]
[945,"Tropical P-S","Plantain, + weeds yr2+",940,0.5,"lbs",1,27000,32400,1.2,4530,22]
[946,"Tropical P-S","Plantain, yr1",941,0.5,"lbs",1,19300,23160,1.2,1530,13]
[947,"Tropical P-S","Plantain, yr2",942,0.5,"lbs",1,27000,32400,1.2,3070,13]
[948,"Tropical P-S","Plantain, yr3+",943,0.5,"lbs",1,20000,24000,1.2,3070,14]
[949,"Tropical P-S","Potato, sweet + weeds",944,0.5,"lbs",1,10000,3250,0.32500000000000001,600,21]
[950,"Tropical P-S","Pumpkin, + weeds",945,0.5,"cwt",100,320,1600,0.05,280,16]
[951,"Tropical P-S","Radish, daikon + weeds",946,0.5,"lbs",1,11000,2200,0.2,530,22]
[952,"Tropical P-S","Radish, daikon",947,0.5,"lbs",1,11000,1710,0.155,130,14]
[953,"Tropical P-S","Rye, cover crop, tropics",948,0.75,"tons",2000,1.5,3000,1,970,24]
[954,"Tropical P-S","Ryegrass, annual, cover crop, tropics",949,0.75,"tons",2000,1,2000,1,970,37]
[955,"Tropical P-S","Sakau",950,0.5,"lbs",1,8000,2400,0.3,1500,5]
[956,"Tropical P-S","Sorghum, cover crop, tropics",951,1,"tons",2000,3,6000,1,1060,28]
[957,"Tropical P-S","Soybean, cover crop, tropics",952,0.75,"tons",2000,1.5,3000,1,310,28]
[958,"Tropical P-S","Squash, + weeds",953,0.5,"lbs",1,10500,1500,0.14285714285714299,250,15]
[959,"Tropical P-S","Star or Pangola grass hay, spring seeded",954,0.5,"lbs",1,5760,5760,1,3840,40]
[960,"Tropical P-S","Star or Pangola grass hay, yr2 regrowth after hay harv.",955,0.5,"lbs",1,4800,4800,1,3840,55]
[961,"Tropical P-S","Star or Pangola grass hay, yr2, regrowth during dormancy",956,0.5,"lbs",1,4800,4800,1,6700,56]
[962,"Tropical P-S","Star or Pangola grass hay, yr3+regrowth after hay harv.",957,0.5,"lbs",1,4800,4800,1,6700,55]
[963,"Tropical P-S","Star or Pangola grass hay, yr3, regrowth during dormancy",958,0.5,"lbs",1,4800,4800,1,9600,56]
[964,"Tropical P-S","Star or Pangola grass pasture sprig, spring seeded",959,0.5,"lbs",1,3840,3840,1,2720,50]
[965,"Tropical P-S","Star or Pangola grass pasture, spring seeded",960,0.5,"lbs",1,3840,3840,1,2720,44]
[966,"Tropical P-S","Star or Pangola grass pasture, yr1graze_regrowth Dec. thru Jan.",961,0.5,"lbs",1,1920,1920,1,3145,63]
[967,"Tropical P-S","Star or Pangola grass pasture, yr1graze_regrowth Feb. thru Mar.",962,0.5,"lbs",1,1920,1920,1,3840,63]
[968,"Tropical P-S","Star or Pangola grass pasture, yr2 graze_regrowth Apr - Nov.",963,0.5,"lbs",1,3840,3840,1,3840,60]
[969,"Tropical P-S","Star or Pangola grass pasture, yr2 graze_regrowth Dec. thru Jan.",964,0.5,"lbs",1,2400,2400,1,4440,64]
[970,"Tropical P-S","Star or Pangola grass pasture, yr2 graze_regrowth Feb. thru Mar.",965,0.5,"lbs",1,2400,2400,1,5340,64]
[971,"Tropical P-S","Star or Pangola grass pasture, yr3+ graze_regrowth Apr - Nov.",966,0.5,"lbs",1,3840,3840,1,5340,61]
[972,"Tropical P-S","Star or Pangola grass pasture, yr3+ graze_regrowth Dec. thru Jan.",967,0.5,"lbs",1,1920,1920,1,6200,65]
[973,"Tropical P-S","Star or Pangola grass pasture, yr3+ graze_regrowth Feb. thru Mar.",968,0.5,"lbs",1,1920,1920,1,7200,65]
[974,"Tropical P-S","Star or Pangola grass, spring seeded, tropics",969,0.5,"lbs",1,3840,3840,1,2720,45]
[975,"Tropical P-S","Strawberry, tropical, annual, Hawaii",970,0.5,"lbs",1,20000,2500,0.125,490,36]
[976,"Tropical P-S","Sugarcane, 1st ratoon PR",971,0.5,"tons",2000,27,70200,1.3,610,24]
[977,"Tropical P-S","Sugarcane, yr1",972,0.5,"tons sugar",2000,10,112000,5.6,650,14]
[978,"Tropical P-S","Sugarcane, yr2",973,0.5,"tons sugar",2000,10,112000,5.6,920,14]
[979,"Tropical P-S","Sunn Hemp",974,0.5,"tons",2000,3,6000,1,500,9]
[980,"Tropical T-Z","Taro, Bunglong + weeds, regrowth",975,0.5,"lbs",1,5500,1100,0.2,1960,32]
[981,"Tropical T-Z","Taro, Bunglong + weeds, second regrowth",976,0.5,"lbs",1,5500,1100,0.2,1580,39]
[982,"Tropical T-Z","Taro, Bunglong + weeds",977,0.5,"lbs",1,17000,3400,0.2,2020,22]
[983,"Tropical T-Z","Taro, Bunglong tilled hi density",978,0.5,"lbs",1,17000,3400,0.2,500,32]
[984,"Tropical T-Z","Taro, Bunglong tilled lo density 30pct canopy",979,0.5,"lbs",1,15000,3000,0.2,103,45]
[985,"Tropical T-Z","Taro, Bunglong tilled lo density 50pct canopy",980,0.5,"lbs",1,15000,3000,0.2,172,45]
[986,"Tropical T-Z","Taro, Bunglong tilled lo density 70pct canopy",981,0.5,"lbs",1,15000,3000,0.2,241,45]
[987,"Tropical T-Z","Taro, Bunglong tilled lo density",982,0.5,"lbs",1,15000,3000,0.2,310,32]
[988,"Tropical T-Z","Taro, Bunglong weeds controlled",983,0.5,"lbs",1,17000,3400,0.2,1020,31]
[989,"Tropical T-Z","Tomato, fresh + weeds",984,0.5,"lbs",1,20000,3000,0.15,1050,21]
[990,"Tropical T-Z","Tropic lalo, Paspalum sp.",985,0.5,"tons",2000,4,8000,1,1300,25]
[991,"Tropical T-Z","Tuberose",986,0.5,"lbs",1,2000,2000,1,2250,8]
[992,"Tropical T-Z","Turf grass, new seeding, tropics",987,0.5,"lbs",1,2000,2000,1,3400,32]
[993,"Tropical T-Z","Turf grass, new sod placement, tropics",988,0.5,"lbs",1,2000,2000,1,3400,38]
[994,"Tropical T-Z","Vetch, cover crop, tropics",989,0.5,"tons",2000,3,6000,1,210,26]
[995,"Tropical T-Z","Vetiver grass",990,0.5,"lbs",1,27000,27000,1,12000,13]
[996,"Tropical T-Z","Volunteer vegetation, grass",991,0.5,"lbs",1,20000,20000,1,3770,27]
[997,"Tropical T-Z","Volunteer vegetation, mixed shrub",992,0.5,"lbs",1,30000,30000,1,2450,33]
[998,"Tropical T-Z","Volunteer vegetation, woody",993,0.5,"lbs",1,40000,40000,1,1885,{"$f":"LEN(C998)","v":27}]
[{"$f":"ROW(B999)","v":999},"Tropical T-Z","Watermelon, + weeds",994,0.5,"lbs",1,18000,1800,0.1,750,19]
[1000,"Tropical T-Z","Watermelon",995,0.5,"lbs",1,20000,1800,0.09,195,10]
[1001,"Tropical T-Z","Weeds, released from crop understory, tropics",996,0.5,"lbs",1,4000,4000,1,1700,45]
[1002,"Tropical T-Z","Weedy vegetation, mature, high productivity, tropics",997,0.5,"lbs",1,8000,8000,1,2000,52]
[1003,"Tropical T-Z","Wheat, cover crop, tropics",998,0.75,"tons",2000,1.5,3000,1,970,26]
[1004,"Tropical T-Z","Yams",999,0.5,"cwt",100,200,5000,0.25,1542,4]
[1005,"Fallow","Fallow",1000,0.5,"lbs",0,0,0,0,0,6]
["Not part of RUSLE 2"]
[null,null,null,null,null,null,null,null,null,null,null,null,null,null,null,null,null,null,null,null,1]
[]
[null,null,null,null,null,null,null,null,null,null,null,null,null,null,null,null,null,null,null,null,"DON'T MOVE OR REMOVE THESE TABLES, THEY ARE TIED TO VLOOKUPS IN INPUT TAB"]
[null,null,"RUSLE 2 Operations Table",null,null,null,null,null,null,null,null,null,null,null,null,null,null,null,null,null,null,"Operations Validation Tables"]
["TABLE CREATED FROM RUSLE 2 OPERATIONS DATABASE. DATA RETRIEVED APRIL, 2013",null,null,null,null,null,null,null,null,null,null,null,null,null,null,null,null,null,null,null,null,"Harvested",null,null,null,"Tillage",null,null,null,"Application",null,null,null,"Planting",null,null,null,"Other"]
["Count",null,"Description","Diesel Use","Description",null,null,null,null,null,null,null,null,null,null,null,null,null,null,null,null,0,"Select Operation Description",0,null,0,"Select Operation Description",0,null,0,"Select Operation Description",0,null,0,"Select Operation Description",0,null,0,"Select Operation Description",0]
[null,null,null,"gal/area",null,null,null,null,null,null,null,null,null,null,null,null,null,null,null,null,null,null,"Bale combine windrows",null,null,null,"Aerator, field surface, ground driven",null,null,null,"Add mulch",null,null,null,"Aerial interseeding",null,null,null,"Bale combine windrows"]
[1,null,"Add mulch",1E-8,"Use to apply mulch cover.  Internally defaults to straw mulch at 2000 pounds per acre.  Adjust in individual run or in management screen to other mulch type or amount.   101009DTL",null,null,null,null,null,1,null,101,"x","Burrowing, heavy, Prairie dog",null,null,null,null,null,null,null,"Bale Corn husk, cob and chaff windrows",null,null,null,"Aerator, field surface, ground driven 0 degree offset",null,null,null,"Add PAM",null,null,null,"Aerial seeding",null,null,null,"Bale Corn husk, cob and chaff windrows"]
[2,null,"Add PAM",1E-8,"WI-Construction; add polyacrylimide",null,null,null,null,null,1,null,102,"x","Burrowing, light, Prairie dog",null,null,null,null,null,null,null,"Bale Corn stalk strips",null,null,null,"Aerator, field surface, ground driven 10 degree offset",null,null,null,"BFM applicaton",null,null,null,"Cover crop underseeder",null,null,null,"Bale Corn stalk strips"]
[3,null,"Aerator, field surface, ground driven",0.45,"AerWay tool .  5 degree gang angle setting.  Ground driven  8\" knife-tines mounted on a rotating shaft pulled across the soil, punch holes and shatter soil sideways as the blades rotate out of the soil.  Little inversion or residue burial.  10/11/01 DTL",null,null,null,null,null,1,null,103,"x","Burrowing, moderate, Prairie dog",null,null,null,null,null,null,null,"Bale corn stover",null,null,null,"Aerator, field surface, ground driven 5 degree offset",null,null,null,"Drip tape injection shank",null,null,null,"Drill or air seeder single disk openers 7-10 in spac.",null,null,null,"Bale corn stover"]
[4,null,"Aerator, field surface, ground driven 0 degree offset",0.35,"AerWay tool .  Ground driven 8\" knife-tines mounted on a rotating shaft pulled across the soil, punch holes and shatter soil sideways as the blades rotate out of the soil.  Little inversion or residue burial.  0 degree offset gang angle.  060605 DTL",null,null,null,null,null,1,null,163,"x","Kill crop",null,null,null,null,null,null,null,"Bale straw or residue",null,null,null,"Aerator, single drum, lugs, angle 0",null,null,null,"Drip tape injection shank on beds",null,null,null,"Drill or air seeder single disk openers, + fert. opnrs 7-10 in spac.",null,null,null,"Bale straw or residue"]
[5,null,"Aerator, field surface, ground driven 10 degree offset",0.55000000000000004,"AerWay tool .  Ground driven 8\" knife-tines mounted on a rotating shaft pulled across the soil, punch holes and shatter soil sideways as the blades rotate out of the soil.  Moderate inversion and residue burial.  10 degree offset gang angle.  060605 DTL",null,null,null,null,null,1,null,1,"x","Bale Corn stalk strips",null,null,null,null,null,null,null,"Harvest, banana",null,null,null,"Aerator, tandem drum, lugs, angle 10",null,null,null,"Drip tape injector bed shaper",null,null,null,"Drill or air seeder tee slot openers 7-10 in spac.",null,null,null,"Begin growth"]
[6,null,"Aerator, field surface, ground driven 5 degree offset",0.45,"AerWay tool .  5 degree gang angle setting.  Ground driven  8\" knife-tines mounted on a rotating shaft pulled across the soil, punch holes and shatter soil sideways as the blades rotate out of the soil.  Little inversion or residue burial.  10/11/01 DTL",null,null,null,null,null,1,null,2,"X","Bale straw or residue",null,null,null,null,null,null,null,"Harvest, banana remove stem",null,null,null,"Aerator, tandem drum, lugs, angle 5",null,null,null,"Erosion blanket applicaton",null,null,null,"Drill or air seeder, combo field cult, dd openers",null,null,null,"Begin new growth"]
[7,null,"Aerator, single drum, lugs, angle 0",0.35,"Drum aerator typified by the Lawson Single Drum Pasture Aerator .  Ground driven  roller drum with 6\" blade lugs attached to a large roller drum mounted on a rotating shaft pulled across the soil. Punches holes and shatters soil as the blades rotate out of the soil.  Moderate soil disturbance, inversion and residue burial.  Drum is perpendicular to direction of travel with blade lugs mounted in a spiral fashion to reduce bounce.  020309 DTL",null,null,null,null,null,1,null,73,"X","Shredder, flail or rotary ",null,null,null,null,null,null,null,"Harvest, broccoli and cauliflower",null,null,null,"Bed shaper",null,null,null,"Fert applic. anhyd knife 12 in",null,null,null,"Drill or air seeder, combo single disk-hoe openers, 10 in spac",null,null,null,"Begin weed growth"]
[8,null,"Aerator, tandem drum, lugs, angle 10",0.65,"Tandem Drum aerator typified by the Lawson Tandem Pasture Aerator .  Tandem ground driven  roller drums with 6\" blade lugs attached to large roller drums mounted on a rotating shaft pulled across the soil. Punches holes and shatters soil as the blades rotate out of the soil.  Total soil disturbance with moderate inversion and residue burial.  10 degree offset gang angle.  020309 DTL",null,null,null,null,null,1,null,74,"X","Shredder, flail or rotary, add other cover ",null,null,null,null,null,null,null,"Harvest, cabbage and head lettuce ",null,null,null,"Bed shaper high disturbance",null,null,null,"Fert applic. anhyd knife 12 in, coil tine har",null,null,null,"Drill or air seeder, hoe opener in hvy residue",null,null,null,"Bulldozer, clearing-cutting"]
[9,null,"Aerator, tandem drum, lugs, angle 5",0.55000000000000004,"Tandem Drum aerator typified by the Lawson Tandem Pasture Aerator .  Tandem ground driven  roller drums with 6\" blade lugs attached to large roller drums mounted on a rotating shaft pulled across the soil. Punches holes and shatters soil as the blades rotate out of the soil.  Significantl soil disturbance with moderate inversion and residue burial.  5 degree offset gang angle.  020309 DTL",null,null,null,null,null,1,null,76,"X","Shredder, rotary mower ",null,null,null,null,null,null,null,"Harvest, cabbage and head lettuce, hand",null,null,null,"Bed shaper, 12 in",null,null,null,"Fert applic. broadcast by hand",null,null,null,"Drill or air seeder, hoe opener in hvy residue with fert openers",null,null,null,"Bulldozer, clearing-cutting light"]
[10,null,"Aerial interseeding",1E-8,"Aerial interseeding.   Although used for interseeding cover crops, etc. by aircraft into live growing crops such as corn , corn silage and soybeans this operation doesn't actually do anything other than serve as a placeholder for energy calculation. The crop growth curve called in by the planter contains the legume understory growth and canopy.  0400308 DTL",null,null,null,null,null,1,null,77,"X","Shredder, rotary, regrow veg",null,null,null,null,null,null,null,"Harvest, combine windrows",null,null,null,"Bed shaper, 12 in, low flattening",null,null,null,"Fert applic. coulter, high press. inject  12 in",null,null,null,"Drill or air seeder, hoe-chisel openers 12-15 in spac.",null,null,null,"Bulldozer, filling-leveling"]
[11,null,"Aerial seeding",1E-8,"Aerial seeding. Begins growth with no soil disturbance.   Used for seeding cover crops, etc. by aircraft.  11/17/01 DTL",null,null,null,null,null,1,null,78,"X","Shredder, rotary, remove residue",null,null,null,null,null,null,null,"Harvest, corn cobbage or earlage",null,null,null,"Bed shaper, low flattening, high disturbance",null,null,null,"Fert applic. deep plcmt hvy shnk",null,null,null,"Drill or air seeder, hoe-chisel openers 12-15 in spac. with; fert openers",null,null,null,"Burn residue"]
[12,null,"Bale combine windrows",0.38,"Bale straw or residue windrows directly behind the combine. Revised flattening fractions. Affects all residue 022509 DTL",null,null,null,null,null,1,null,92,"x","Bulldozer, clearing/cutting",null,null,null,null,null,null,null,"Harvest, corn grain and 60pct of residue mass",null,null,null,"Bedder, hipper, disk hiller",null,null,null,"Fert applic. shank low disturbance, 12 in",null,null,null,"Drill or air seeder, hoe-chisel openers 6-12 in spac.",null,null,null,"Burn residue, high intensity"]
[13,null,"Bale Corn husk, cob and chaff windrows",0.38,"Bale corn husks, cobs and chaff windrows behind combine.  The combine chaff speader is removed and husks,cobs and chaff are dropped out of back of combine on center rows of the header swath.  Baler removes primnarily only the loose residue over these rows.  Other rows are skipped.  021109 DTL",null,null,null,null,null,1,null,93,"x","Bulldozer, clearing/cutting light",null,null,null,null,null,null,null,"Harvest, corn grain and cobs",null,null,null,"Bedder, hipper, hiller 12 in high",null,null,null,"Fert applic. shank low disturbance, 12 in, coil tine har",null,null,null,"Drill or air seeder, hoe-chisel openers 6-12 in spac. with; fert openers",null,null,null,"Burn residue, low intensity"]
[14,null,"Bale Corn stalk strips",0.38,"Bale cornstalks in strips  where only part of the residue is harvested. 021109 DTL",null,null,null,null,null,1,null,94,"x","Bulldozer, filling/leveling",null,null,null,null,null,null,null,"Harvest, corn grain and part of stover, 14 inch stubble",null,null,null,"Bedder, hipper, hiller 15 in high",null,null,null,"Fert applic. shank low disturbance, 15 in spacing",null,null,null,"Drill or air seeder, paired, opposing single disk openers 6x9 in spac.",null,null,null,"Burn residue, mod. high intensity"]
[15,null,"Bale corn stover",0.38,"Bale corn stover. Revised flattening fractions. Affects only current residue 012210 DTL",null,null,null,null,null,1,null,95,"x","Burn residue",null,null,null,null,null,null,null,"Harvest, corn silage with cover crop",null,null,null,"Bedder, hipper, hiller 18 in high",null,null,null,"Fert applic. side-dress, liquid",null,null,null,"Drill or airseeder, dble disk opnr with fluted coult 5x10 paired row",null,null,null,"Burn residue, moderate intensity"]
[16,null,"Bale straw or residue",0.38,"Bale straw or residue. Revised flattening fractions. Affects all residue 022509 DTL",null,null,null,null,null,1,null,201,"x","Scraper/pan/grader, clearing/cutting",null,null,null,null,null,null,null,"Harvest, cotton",null,null,null,"Burn residue",null,null,null,"Fert applic. surface broadcast",null,null,null,"Drill or airseeder, double disk  ",null,null,null,"Burn sugarcane"]
[17,null,"Bed shaper",0.38,"Bed shaping operation on existing beds.  May include drip tape installation. 10/28/01 DTL",null,null,null,null,null,1,null,257,"x","Land plane",null,null,null,null,null,null,null,"Harvest, cotton and shred",null,null,null,"Burn residue, high intensity",null,null,null,"Fert applic., aerial",null,null,null,"Drill or airseeder, double disk opener, with fert openers ",null,null,null,"Burrowing, heavy, Prairie dog"]
[18,null,"Bed shaper high disturbance",0.45,"Bed shaping operation on existing beds with high disturbance.  (Similar to Sundance wide bed disk and Rome Pegasus machines).    Rev040805 DTL",null,null,null,null,null,1,null,258,"x","Land plane; orchard and vine crops",null,null,null,null,null,null,null,"Harvest, cranberries",null,null,null,"Burn residue, low intensity",null,null,null,"Fert. applic. anhyd knife 15 in spacing",null,null,null,"Drill or airseeder, double disk, with fluted coulters",null,null,null,"Burrowing, light, Prairie dog"]
[19,null,"Bed shaper, 12 in",0.45,"Bed shaping operation on existing 12\" high beds.  May include drip tape installation.  11/18/01 DTL",null,null,null,null,null,1,null,259,"x","Laser Land leveler",null,null,null,null,null,null,null,"Harvest, cut flowers",null,null,null,"Burn residue, mod. high intensity",null,null,null,"Fert. applic. anhyd knife 15 in spacing high disturbance",null,null,null,"Drill or airseeder, offset double disk openers",null,null,null,"Burrowing, moderate, Prairie dog"]
[20,null,"Bed shaper, 12 in, low flattening",0.45,"Bed shaping operation on existing 12\" high beds in standing row crop residue.  Since no crop was planted in the furrows the residue flattening is minimal.   When reshaping beds following drilled or broadcast crops use Bed shaper, 12 in  03112010 DTL",null,null,null,null,null,1,null,358,"x","Detasseler, seed corn",null,null,null,null,null,null,null,"Harvest, dig root crops 12 in depth res. buried",null,null,null,"Burn residue, moderate intensity",null,null,null,"Fert. applic. anhyd knife 15 in spacing high disturbance, coil tine har",null,null,null,"Drill, air seeder, 4 inch stealth openers on 12 in spac",null,null,null,"Detasseler, seed corn"]
[21,null,"Bed shaper, low flattening, high disturbance",0.45,"Bed shaping operation on existing 10\" high beds in standing row crop residue.  Since no crop is planted in the furrows the residue flattening is minimal.  When reshaping beds following drilled or broadcast crops use Bed shaper, 12 in  03112010 DTL   Bed shaping operation on existing beds with high disturbance.  (Similar to Middle Buster machines) with inversion tillage.  Cloned from Bed shaper high disturbance.  Flattening changed to 0.1 because the machine is run in row middles and leaves the standing residue on the bed. 3-11-10 MAS",null,null,null,null,null,1,null,359,"x","Drip tape extractor",null,null,null,null,null,null,null,"Harvest, dig root crops 12 in depth res. on surf",null,null,null,"Burn sugarcane",null,null,null,"Fert. applic. anhyd knife 15 in spacing, coil tine har",null,null,null,"Drill, air seeder, 6 inch stealth openers on 12 in spac",null,null,null,"Drip tape extractor"]
[22,null,"Bedder, hipper, disk hiller",0.45,"10/26/01 DTL",null,null,null,null,null,1,null,360,"x","Graze, continuous ",null,null,null,null,null,null,null,"Harvest, dig root crops res. buried",null,null,null,"Burrowing, heavy, Prairie dog",null,null,null,"Fert. applic. anhyd knife 30 in",null,null,null,"Drill, air seeder, sweep or band opener",null,null,null,"Germination of dormant seeding"]
[23,null,"Bedder, hipper, hiller 12 in high",0.5,"Bedder/hipper/ridger with high 12\" ridges. 11/08/01 DTL",null,null,null,null,null,1,null,361,"x","Graze, continuous overgrazing",null,null,null,null,null,null,null,"Harvest, dig root crops res. buried 10in ridge",null,null,null,"Burrowing, light, Prairie dog",null,null,null,"Fert. applic. anhyd knife 30 in, bedded",null,null,null,"Drill, deep furrow  12 to 18 in spacing",null,null,null,"Graze, continuous "]
[24,null,"Bedder, hipper, hiller 15 in high",0.6,"Bedder/hipper/ridger with high 15 inch ridges.02-28-02 DTL",null,null,null,null,null,1,null,362,"x","Graze, continuous, heavy hoof traffic",null,null,null,null,null,null,null,"Harvest, dig root crops res. on surf ",null,null,null,"Burrowing, moderate, Prairie dog",null,null,null,"Fert. applic. anhyd, liq, dry, minimal dist. precision placmnt, 30 in",null,null,null,"Drill, deep furrow  7 to 10 in spacing",null,null,null,"Graze, continuous overgrazing"]
[25,null,"Bedder, hipper, hiller 18 in high",0.75,"Bedder/hipper/ridger with high 18 inch ridges. 2-28-02 DTL",null,null,null,null,null,1,null,363,"x","Graze, intensive rotational ",null,null,null,null,null,null,null,"Harvest, forage sorghum",null,null,null,"Chisel plow, coulter, st. pts.",null,null,null,"Fert. applic. anhyd, low dist. single disk opener, 30 in",null,null,null,"Drill, double disk, 7-8 in packer C",null,null,null,"Graze, continuous, heavy hoof traffic"]
[26,null,"Begin growth",1E-8,"060701 DTL",null,null,null,null,null,1,null,364,"x","Graze, rotational ",null,null,null,null,null,null,null,"Harvest, fruit crops",null,null,null,"Chisel plow, coulter, st. pts., cover disks",null,null,null,"Fert. applic. double shot knife 15 in spacing high disturbance",null,null,null,"Drill, double disk, orchard vineyard cover",null,null,null,"Graze, continuous, light hoof traffic"]
[27,null,"Begin new growth",1E-8,"Use to initiate growth of a new crop or weed record in cases where a planter, drill or seeding operation is not used.",null,null,null,null,null,1,null,365,"x","Graze, stubble or residue",null,null,null,null,null,null,null,"Harvest, grain, grow cover",null,null,null,"Chisel plow, coulter, st. pts., cover disks, rlng basket",null,null,null,"Fert. applic. shallow anhyd knife 38 in",null,null,null,"Drill, heavy, direct seed, dbl disk opnr ",null,null,null,"Graze, continuous, moderate hoof traffic"]
[28,null,"Begin weed growth",1E-8,"Weed growth initiated after harvest.  10/28/01 DTL",null,null,null,null,null,1,null,366,"x","Graze, stubble or residue 25 pct",null,null,null,null,null,null,null,"Harvest, grass or legume seed, burn forage",null,null,null,"Chisel plow, coulter, sweeps",null,null,null,"Fert. applic. single disk opener, low disturbance, 30 inch spac",null,null,null,"Drill, heavy, direct seed, dbl disk opnr with row cleaners",null,null,null,"Graze, intensive rotational "]
[29,null,"BFM applicaton",1E-8,"Bonded Fiber Matrix mulch (BFM) application covering 100% of the surface. Applied after seeding operation such as drill, cultipacker roller seeder or broadcast seeder.  Specify residue type and specify the dry weight of material being applied.  06-24-03 DTL",null,null,null,null,null,1,null,367,"x","Graze, stubble or residue 50 pct",null,null,null,null,null,null,null,"Harvest, grass or legume seed, leave forage",null,null,null,"Chisel plow, coulter, twst. pts.",null,null,null,"Fert. applic. sugarcane",null,null,null,"Drill, range",null,null,null,"Graze, rotational "]
[30,null,"Bulldozer, clearing-cutting",0.5,"Clearing and or cutting with a bulldozer  101009 DTL",null,null,null,null,null,1,null,368,"x","Graze, stubble or residue 75 pct",null,null,null,null,null,null,null,"Harvest, grass or legume seed, remove forage",null,null,null,"Chisel plow, coulter, twst. pts., cover disks",null,null,null,"Fert. applic., strip-till 30 in",null,null,null,"Drill, semi-deep furrow  12 to 18 in spacing",null,null,null,"Graze, stubble or residue"]
[31,null,"Bulldozer, clearing-cutting light",0.5,"Bulldozer, clearing/cutting light.  Grader or dozer blade for cutting and clearing vegetation.  Clears amd removes surface material with little to moderate disturbance of soil and roots.  06/26/03 DTL",null,null,null,null,null,1,null,369,"x","Log skidder",null,null,null,null,null,null,null,"Harvest, grass seed, remove forage ",null,null,null,"Chisel plow, disk, st. pts.",null,null,null,"Install Compost Sock",null,null,null,"Hydro-seeder",null,null,null,"Graze, stubble or residue 25 pct"]
[32,null,"Bulldozer, filling-leveling",0.6,"Grader or dozer blade for filling and leveling material.  ",null,null,null,null,null,1,null,372,"x","No operation",null,null,null,null,null,null,null,"Harvest, hand pick",null,null,null,"Chisel plow, disk, st. pts., cover disks",null,null,null,"Install Silt Fence",null,null,null,"Planter, double disk opener on 12 inch high beds",null,null,null,"Graze, stubble or residue 50 pct"]
[33,null,"Burn residue",1E-8,"6/7/01 DTL",null,null,null,null,null,1,null,373,"x","Paving",null,null,null,null,null,null,null,"Harvest, hand pick ",null,null,null,"Chisel plow, disk, twst. pts.",null,null,null,"Install Straw Bale",null,null,null,"Planter, double disk opener on 15 inch high beds",null,null,null,"Graze, stubble or residue 75 pct"]
[34,null,"Burn residue, high intensity",1E-8,"Burn residue 92.5% of flat biomass and 100% of standing residue affected 11/08/01 DTL",null,null,null,null,null,1,null,374,"x","Water mulch; off",null,null,null,null,null,null,null,"Harvest, hand pick multiple times",null,null,null,"Chisel plow, disk, twst. pts., cover disks",null,null,null,"Manure injector, liquid high disturb.30 inch",null,null,null,"Planter, double disk opener on 18 inch high beds",null,null,null,"Grazing set season, time on, time off, rate"]
[35,null,"Burn residue, low intensity",1E-8,"Burn residue 50% of flat biomass and 80% of standing residue affected 11/08/01 DTL",null,null,null,null,null,1,null,375,"x","Water mulch; on",null,null,null,null,null,null,null,"Harvest, hand pick vegetables",null,null,null,"Chisel, 12-16 in. low crown sweep 3 to 4  in. depth",null,null,null,"Manure injector, liquid low disturb.15 inch",null,null,null,"Planter, double disk opener on 8 inch high beds",null,null,null,"Grazing, continuous, high traffic, set season, rate"]
[36,null,"Burn residue, mod. high intensity",1E-8,"Burn residue 100% standing stubble and 85% flat. 020904 DTL",null,null,null,null,null,1,null,376,"x","Begin growth",null,null,null,null,null,null,null,"Harvest, hand pull",null,null,null,"Chisel, st. pt. ",null,null,null,"Manure injector, liquid low disturb.30 inch",null,null,null,"Planter, double disk opnr ",null,null,null,"Grazing, continuous, set season, rate"]
[37,null,"Burn residue, moderate intensity",1E-8,"Burn residue 100% standing stubble and 75% flat. 020904 DTL",null,null,null,null,null,1,null,377,"x","Begin new growth",null,null,null,null,null,null,null,"Harvest, hay set date",null,null,null,"Chisel, st. pt. 12 in deep",null,null,null,"Manure injector, low disturb.15 inch",null,null,null,"Planter, double disk opnr with fluted coulter ",null,null,null,"Grazing, continuous, severe hoof traffic, set season, rate"]
[38,null,"Burn sugarcane",1E-8,"Burn standing sugarcane prior to harvest.  111605 DTL",null,null,null,null,null,1,null,378,"x","Begin weed growth",null,null,null,null,null,null,null,"Harvest, hay set season, start and end ht",null,null,null,"Chisel, st. pt. 15 in deep",null,null,null,"Manure injector, low disturb.30 inch",null,null,null,"Planter, double disk opnr with fluted coulter with starter fertilizer",null,null,null,"Grazing, continuous, time on, time off, rate"]
[39,null,"Burrowing, heavy, Prairie dog",1E-8,"Prairie dog burrowing high infestation.  062205 DTL",null,null,null,null,null,1,null,379,"x","default",null,null,null,null,null,null,null,"Harvest, hay, grass",null,null,null,"Chisel, st. pt. 5 in deep",null,null,null,"Manure spreader, liquid",null,null,null,"Planter, double disk opnr with fluted coulter, 15 inch row spacing",null,null,null,"Grazing, frost kill"]
[40,null,"Burrowing, light, Prairie dog",1E-8,"Prairie dog burrowing light infestation.  062205 DTL",null,null,null,null,null,1,null,382,"x","Germination of dormant seeding",null,null,null,null,null,null,null,"Harvest, hay, legume ",null,null,null,"Chisel, st. pt. 5 in deep, coil tine har",null,null,null,"Manure spreader, slurry",null,null,null,"Planter, double disk opnr with starter fertilizer",null,null,null,"Grazing, set end ht, and rate"]
[41,null,"Burrowing, moderate, Prairie dog",1E-8,"Prairie dog burrowing moderate infestation.  062205 DTL",null,null,null,null,null,1,null,385,"x","Regrow",null,null,null,null,null,null,null,"Harvest, hay, no regrowth",null,null,null,"Chisel, st. pt., coil tine har",null,null,null,"Manure spreader, solid and semi-solid",null,null,null,"Planter, double disk opnr, 15 inch row spacing",null,null,null,"Grazing, set end ht, and time on"]
[42,null,"Chisel plow, coulter, st. pts.",1.2,"Chisel plow with coulters and straight points  062806 DTL REV 110207 DTL",null,null,null,null,null,1,null,386,"x","Sand fighter",null,null,null,null,null,null,null,"Harvest, hops",null,null,null,"Chisel, sweep shovel ",null,null,null,"Manure, liquid irrigation",null,null,null,"Planter, double disk opnr, 18 in rows",null,null,null,"Grazing, set harvest portion and time on"]
[43,null,"Chisel plow, coulter, st. pts., cover disks",1.4,"Coulter chisel plow with straight points and covering disks. 061206 DTL REV 110207 DTL",null,null,null,null,null,1,null,215,null,"Seeder, corrugated packer ",null,null,null,null,null,null,null,"Harvest, kenaf",null,null,null,"Chisel, sweep shovel 5 in. depth",null,null,null,"Permeable weed barrier applicator",null,null,null,"Planter, double disk opnr, 40 in rows",null,null,null,"Grazing, set harvest portion, and removal rate"]
[44,null,"Chisel plow, coulter, st. pts., cover disks, rlng basket",1.8,"Coulter caddy chisel plow with straight points or winged straight points, 2 ranks of leveling disks and a rolling basket incorporator. May be equipped with Phillips harrow in front of coulters.  Typical of the Krause \"Dominator\"  033109 DTL  modified energy use 092711 LOS",null,null,null,null,null,1,null,216,null,"Seeder, dormant, corrugated packer",null,null,null,null,null,null,null,"Harvest, killing crop 10pct standing stubble",null,null,null,"Chisel, sweep shovel 5 in. depth, coil tine har",null,null,null,"Plastic hoop tunnel installation 100 percent cover",null,null,null,"Planter, furrow opener in 4 inch deep furrows",null,null,null,"Grazing, set season, harvest portion, removal rate and start mass"]
[45,null,"Chisel plow, coulter, sweeps",1.3,"Coulter chisel plow with sweeps. 061206 DTL REV 110207 DTL",null,null,null,null,null,1,null,217,null,"Seeder, high density vegetable",null,null,null,null,null,null,null,"Harvest, killing crop 20pct standing stubble",null,null,null,"Chisel, sweep shovel, coil tine har",null,null,null,"Plastic hoop tunnel installation 50 percent cover",null,null,null,"Planter, furrow opener in 6 inch deep furrows",null,null,null,"Grazing, set season, start ht, end ht, rate"]
[46,null,"Chisel plow, coulter, twst. pts.",1.3,"Coulter chisel plow with twisted points. 061206 DTL REV 110207 DTL",null,null,null,null,null,1,null,301,null,"Aerial seeding",null,null,null,null,null,null,null,"Harvest, killing crop 20pct standing stubble, release cover crop",null,null,null,"Chisel, twisted shovel ",null,null,null,"Plastic hoop tunnel installation 75 percent cover",null,null,null,"Planter, furrow opener in 8 inch deep furrows",null,null,null,"Grazing, set season, start ht, end ht, rate, then mowed"]
[47,null,"Chisel plow, coulter, twst. pts., cover disks",1.5,"Coulter chisel plow with twisted points and covering disks. 061206 DTL rev 110207 DTL",null,null,null,null,null,1,null,302,null,"Drill or air seeder single disk openers 7-10 in spac.",null,null,null,null,null,null,null,"Harvest, killing crop 30pct standing stubble",null,null,null,"Chisel, twisted shovel, coil tine har",null,null,null,"Plastic hoop tunnel installation on beds 50 percent cover",null,null,null,"Planter, in-row subsoiler",null,null,null,"Grazing, set season, start ht, end ht, time on"]
[48,null,"Chisel plow, disk, st. pts.",1.5,"Disk chisel plow with straight points. 061206 DTL REV 110207 DTL",null,null,null,null,null,1,null,303,null,"Drill or air seeder single disk openers, + fert. opnrs 7-10 in spac.",null,null,null,null,null,null,null,"Harvest, killing crop 50pct standing stubble",null,null,null,"Chisel, winged with furrow diker",null,null,null,"Plastic hoop tunnel installation on beds 75 percent cover",null,null,null,"Planter, in-row subsoiler low disturbace",null,null,null,"Grazing, set season, start ht, end ht, time on, then mowed"]
[49,null,"Chisel plow, disk, st. pts., cover disks",1.5,"Disk chisel plow with straight points and covering disks. 061206 DTL REV 110207 DTL revised fuel use 92711 LOS",null,null,null,null,null,1,null,304,null,"Drill or air seeder tee slot openers 7-10 in spac.",null,null,null,null,null,null,null,"Harvest, killing crop 50pct standing stubble, release cover crop",null,null,null,"Chop veg. with machete",null,null,null,"Plastic hoop tunnel removal on beds",null,null,null,"Planter, in-row subsoiler with residue mgr.",null,null,null,"Grazing,set season, harvest portion, start mass, and time on"]
[50,null,"Chisel plow, disk, twst. pts.",1.75,"Disk chisel plow with twisted points. 061206 DTL rev 110207 DTL",null,null,null,null,null,1,null,305,null,"Drill or air seeder, hoe opener in hvy residue",null,null,null,null,null,null,null,"Harvest, killing crop 60pct standing stubble",null,null,null,"Continuous disturbance and smoothing",null,null,null,"Plastic hoop tunnel, removal",null,null,null,"Planter, narrow slot with smooth or rippled coulter ",null,null,null,"Kill crop"]
[51,null,"Chisel plow, disk, twst. pts., cover disks",1.87,"Disk chisel plow with twisted points and covering disks. 061206 DTL REV 110207 DTL revised energy use 092711 LOS",null,null,null,null,null,1,null,306,null,"Drill or air seeder, hoe/chisel openers 12-15 in spac.",null,null,null,null,null,null,null,"Harvest, killing crop 70pct standing stubble",null,null,null,"Coulter caddy, dbl gang with fluted coulters",null,null,null,"Plastic mulch applic. 40 inch beds 100 percent cover",null,null,null,"Planter, potato, 6 in beds",null,null,null,"Land plane"]
[52,null,"Chisel, 12-16 in. low crown sweep 3 to 4  in. depth",0.74,"Chisel plow with 12 to 16 inch low crown sweeps operating at 3 to 4 inch depth 022806 DTL",null,null,null,null,null,1,null,307,null,"Drill or air seeder, hoe/chisel openers 6-12 in spac.",null,null,null,null,null,null,null,"Harvest, knife, windrow, combine",null,null,null,"Coulter caddy, with fluted coulters",null,null,null,"Plastic mulch applic. 40 inch beds 75 percent cover",null,null,null,"Planter, RELAY INTERCROP,  double disk opnr with fluted coulter",null,null,null,"Land plane; orchard and vine crops"]
[53,null,"Chisel, st. pt. ",1,"060701 DTL",null,null,null,null,null,1,null,308,null,"Drill or air seeder, paired, opposing single disk openers 6x9 in spac.",null,null,null,null,null,null,null,"Harvest, lavender bundles",null,null,null,"Coulter caddy, with smooth coulters",null,null,null,"Plastic mulch applic. 48 inch beds 100 percent cover",null,null,null,"Planter, RELAY INTERCROP,  double disk opnr with fluted coulter",null,null,null,"Laser Land leveler"]
[54,null,"Chisel, st. pt. 12 in deep",1.1000000000000001,"Chisel plow with straight points at 12 inch operating depth  02-28-02  DTL REV 110207 DTL",null,null,null,null,null,1,null,309,null,"Drill or airseeder, dble disk opnr w/ fluted coult 5x10 paired row",null,null,null,null,null,null,null,"Harvest, leafy veg.",null,null,null,"Coulter tiller and spike harrow",null,null,null,"Plastic mulch applic. 48 inch beds 80 percent cover",null,null,null,"Planter, ridge till",null,null,null,"Log skidder"]
[55,null,"Chisel, st. pt. 15 in deep",1.3,"Chisel plow with straight points at 15 inch operating depth  02-28-02  DTL rev 110207 DTL",null,null,null,null,null,1,null,310,null,"Drill or airseeder, double disk  ",null,null,null,null,null,null,null,"Harvest, leafy veg. mechanical",null,null,null,"Coulter tiller, 10 degree angle, coiled tine harrow, rolling basket",null,null,null,"Plastic mulch applic. 54 inch beds 100 percent cover",null,null,null,"Planter, runner opener",null,null,null,"Mow pasture"]
[56,null,"Chisel, st. pt. 5 in deep",0.74,"Chisel plow with straight points operated at 5 inch depth.  012605 DTL",null,null,null,null,null,1,null,311,null,"Drill or airseeder, double disk opener, w/ fert openers ",null,null,null,null,null,null,null,"Harvest, legume seed, remove forage ",null,null,null,"Cultipacker, roller",null,null,null,"Plastic mulch applic. 54 inch beds 80 percent cover",null,null,null,"Planter, small veg seed",null,null,null,"No operation"]
[57,null,"Chisel, st. pt. 5 in deep, coil tine har",0.96,"Chisel plow with straight points operated at 5 inch depth.  012605 DTL with a coiled tine harrow dragged behind 09-13-11 GGF",null,null,null,null,null,1,null,312,null,"Drill or airseeder, double disk, w/ fluted coulters",null,null,null,null,null,null,null,"Harvest, onions",null,null,null,"Cultivate, manually",null,null,null,"Plastic mulch applic. 64 inch beds 100 percent cover",null,null,null,"Planter, small veg seed on 8 inch high beds",null,null,null,"Paving"]
[58,null,"Chisel, st. pt., coil tine har",1.2,"Chisel st pt 060701 DTL with a coiled tine harrow dragged behind 09-13-11 GGF",null,null,null,null,null,1,null,313,null,"Drill or airseeder, offset double disk openers",null,null,null,null,null,null,null,"Harvest, orchard and nut crops",null,null,null,"Cultivate, manually, low intensity",null,null,null,"Plastic mulch applic. 64 inch beds 85 percent cover",null,null,null,"Planter, sprig conventional",null,null,null,"Regrow"]
[59,null,"Chisel, sweep shovel ",1.1000000000000001,"060701 DTL REV 10/4/01 DTL",null,null,null,null,null,1,null,314,null,"Drill, air seeder, sweep or band opener",null,null,null,null,null,null,null,"Harvest, peanut digger ",null,null,null,"Cultivate, manually, moderate intensity",null,null,null,"Plastic mulch applicator 100 percent cover",null,null,null,"Planter, sprig, no-till",null,null,null,"Sand fighter"]
[60,null,"Chisel, sweep shovel 5 in. depth",0.8,"Chisel plow with sweeps operating at 5 inch depth 012605 DTL",null,null,null,null,null,1,null,315,null,"Drill, deep furrow  12 to 18 in spacing",null,null,null,null,null,null,null,"Harvest, plantains,stalks left",null,null,null,"Cultivate, rows manually",null,null,null,"Plastic mulch applicator 40 percent cover",null,null,null,"Planter, sprigs on beds",null,null,null,"Scraper-pan-grader, clearing-cutting"]
[61,null,"Chisel, sweep shovel 5 in. depth, coil tine har",1,"Chisel plow with sweeps operating at 5 inch depth 012605 DTL with a coiled tine harrow dragged behind 09-13-11 GGF",null,null,null,null,null,1,null,316,null,"Drill, deep furrow  7 to 10 in spacing",null,null,null,null,null,null,null,"Harvest, plantains,stalks removed",null,null,null,"Cultivator, between beds, add residue",null,null,null,"Plastic mulch applicator 50 percent cover",null,null,null,"Planter, strip till",null,null,null,"Shred residue, 6 inch stubble"]
[62,null,"Chisel, sweep shovel, coil tine har",1.3,"Chisel, sweep shovel 060701 DTL REV 10/4/01 DTL with a coiled tine harrow dragged behind 09-13-11 GGF",null,null,null,null,null,1,null,317,null,"Drill, double disk, 7-8 in packer C",null,null,null,null,null,null,null,"Harvest, residue, forage chopper, complete",null,null,null,"Cultivator, field 6-12 in shovels C",null,null,null,"Plastic mulch applicator 75 percent cover",null,null,null,"Planter, strip till, 22 inch",null,null,null,"Shred standing residue in live cover crop"]
[63,null,"Chisel, twisted shovel ",1.1000000000000001,"060701 DTL",null,null,null,null,null,1,null,318,null,"Drill, heavy, direct seed, dbl disk opnr ",null,null,null,null,null,null,null,"Harvest, residue, forage chopper, incomplete",null,null,null,"Cultivator, field 6-12 in sweeps",null,null,null,"Plastic mulch, 05 percent removal ",null,null,null,"Planter, strip till, shallow subsoiler",null,null,null,"Shredder, flail or rotary "]
[64,null,"Chisel, twisted shovel, coil tine har",1.3,"Chisel, twisted shovel 060701 DTL with a coiled tine harrow dragged behind 09-13-11 GGF",null,null,null,null,null,1,null,319,null,"Drill, heavy, direct seed, dbl disk opnr w/row cleaners  ",null,null,null,null,null,null,null,"Harvest, residue, forage chopper, intermediate",null,null,null,"Cultivator, field 6-12 in sweeps, coil tine har",null,null,null,"Plastic mulch, 10 percent removal ",null,null,null,"Planter, strip till, subsoiler",null,null,null,"Shredder, flail or rotary, add other cover "]
[65,null,"Chisel, winged with furrow diker",1,"Chisel plow shanks on 30 inch spacing with winged straight points and a furrow diker.  071211 DTL",null,null,null,null,null,1,null,320,null,"Drill, range",null,null,null,null,null,null,null,"Harvest, rootcrops, manually ",null,null,null,"Cultivator, field with spike points",null,null,null,"Plastic mulch, 25 percent removal ",null,null,null,"Planter, sugarcane ",null,null,null,"Shredder, rotary mower "]
[66,null,"Chop veg. with machete",1E-8,"Selective cutting of weeds with a machete between rows of crop plants.   11-30-01 DTL Revised to reduce operation speed . Revised to insert default weeds 3 to 6 months and default of 500 pounds 043008DTL",null,null,null,null,null,1,null,321,null,"Drill, semi-deep furrow  12 to 18 in spacing",null,null,null,null,null,null,null,"Harvest, rootcrops, manually, 25pct of field disturbed",null,null,null,"Cultivator, field with spike points, coil tine har",null,null,null,"Plastic mulch, 50 percent  removal ",null,null,null,"Planter, transplanter, vegetable ",null,null,null,"Shredder, rotary, regrow veg"]
[67,null,"Continuous disturbance and smoothing",2.1,"Not a real operation.  For use in continous disturbance for Potential erodibility estimation purposes only 092408 DTL",null,null,null,null,null,1,null,322,null,"Hydro-seeder",null,null,null,null,null,null,null,"Harvest, rootcrops, manually, 33pct of field disturbed",null,null,null,"Cultivator, flame",null,null,null,"Plastic mulch, remove",null,null,null,"Planter, transplanter, vegetable on 8 inch high beds",null,null,null,"Shredder, rotary, remove residue"]
[68,null,"Coulter caddy, dbl gang with fluted coulters",0.35,"Coulter Caddy fluted coulters with two offset gangs on 10 inch spacing with effective spacing of 5 inches.  Typified by the Great Plains Turbo-till without attachments.  103107 DTL",null,null,null,null,null,1,null,323,null,"Planter, double disk opener on 12 inch high beds",null,null,null,null,null,null,null,"Harvest, rootcrops, manually, 50pct of field disturbed",null,null,null,"Cultivator, hipper, disk hiller on beds",null,null,null,"Plastic weed barrier 40 inch beds 100 percent cover",null,null,null,"Planter, transplanter, vegetable, no-till ",null,null,null,"Stop Grazing"]
[69,null,"Coulter caddy, with fluted coulters",0.35,"Coulter Caddy fluted coulters on 7 to 10 inch spacing.  040405 DTL rev 103107DTL",null,null,null,null,null,1,null,324,null,"Planter, double disk opener on 15 inch high beds",null,null,null,null,null,null,null,"Harvest, rootcrops, manually, one third",null,null,null,"Cultivator, off bar with disk hillers on beds",null,null,null,"Plastic weed barrier 40 inch beds 50 percent cover",null,null,null,"Planter, tree, mechanical transplanter ",null,null,null,"Water mulch; off"]
[70,null,"Coulter caddy, with smooth coulters",0.35,"Coulter Caddy smooth coulters on 7 to 10 inch spacing.  101706 DTL",null,null,null,null,null,1,null,325,null,"Planter, double disk opener on 18 inch high beds",null,null,null,null,null,null,null,"Harvest, seed heads by hand",null,null,null,"Cultivator, rotary",null,null,null,"Plastic weed barrier 40 inch beds 75 percent cover",null,null,null,"Planting, broadcast interseeder",null,null,null,"Water mulch; on"]
[71,null,"Coulter tiller and spike harrow",0.85,"Like tubo-till machine with two gangs of fluted Coulters and a spike harrow.     103107 DTL",null,null,null,null,null,1,null,326,null,"Planter, double disk opener on 8 inch high beds",null,null,null,null,null,null,null,"Harvest, silage ",null,null,null,"Cultivator, rotary on beds",null,null,null,"Plastic weed barrier applicator 100 percent cover",null,null,null,"Planting, broadcast seeder",null,null,null,"zdefault"]
[72,null,"Coulter tiller, 10 degree angle, coiled tine harrow, rolling basket",0.85,"Like Salford RTS machine with multiple ranks of staggered   fluted coulters preloaded on a 10 degree angle followed by a coiled tine harrow and a rolling basket.     103107 DTL",null,null,null,null,null,1,null,327,null,"Planter, double disk opnr ",null,null,null,null,null,null,null,"Harvest, silage 3ft stubble",null,null,null,"Cultivator, rotary on beds, Bedder, hipper, disk hiller",null,null,null,"Plastic weed barrier applicator 50 percent cover",null,null,null,"Planting, hand 10 percent dist.",null,null,null,"ztemp"]
[73,null,"Cover crop underseeder",0.35,"A tool bar with Drill or Air seeder units with two single disk no-till openers spaced about 10 inches apart and operated in standing corn or wide row soybean at about a month to 5 weeks after planting to interseed a cover crop. 071310 DTL",null,null,null,null,null,1,null,328,null,"Planter, double disk opnr w/fluted coulter ",null,null,null,null,null,null,null,"Harvest, small grain haylage 5 in ht",null,null,null,"Cultivator, row - 1st pass ridge till",null,null,null,"Plastic weed barrier applicator 75 percent cover",null,null,null,"Planting, hand 5 percent dist."]
[74,null,"Cultipacker, roller",0.62,"Based on core Cultipacker Roller finishing tool.  Consists of an inline gang of ridged rollers followed by one or more rows of staggered field cultivator shanks, followed by a second row of ridged rollers. When the gang of sping cultivator teeth are raised out of the ground use operation \"Roller, corregated packer\". 112806 DTL",null,null,null,null,null,1,null,329,null,"Planter, double disk opnr w/fluted coulter, 15 inch row spacing",null,null,null,null,null,null,null,"Harvest, small grain silage with cover crop",null,null,null,"Cultivator, row - 2nd pass ridge till ",null,null,null,"Pruning",null,null,null,"Planting, manual"]
[75,null,"Cultivate, manually",1E-8,"gaw 01-22-02 Manually till small fields with hoe or similar hand tool. Use this operation before planting, as all veg. killed.",null,null,null,null,null,1,null,330,null,"Planter, double disk opnr, 15 inch row spacing",null,null,null,null,null,null,null,"Harvest, small grain, release understory",null,null,null,"Cultivator, row 1 in ridge ",null,null,null,"Remove Compost Sock",null,null,null,"Planting, manual on 8 inch high beds"]
[76,null,"Cultivate, manually, low intensity",1E-8,"6/20/06 MPR Manually till small fields with hoe or similary hand tool at lower intensity (50% disturbance) than existing \"Cultivate, manually\"  and \"Cultivate, manually, moderate intensity\" files. Use this operation before planting, as all veg. killed.",null,null,null,null,null,1,null,331,null,"Planter, double disk opnr, 18 in rows",null,null,null,null,null,null,null,"Harvest, snapper header",null,null,null,"Cultivator, row 3 in ridge",null,null,null,"Remove Silt Fence",null,null,null,"Planting, no-til manually"]
[77,null,"Cultivate, manually, moderate intensity",1E-8,"6/20/06 MPR Manually till small fields with hoe or similary hand tool at less intensity (75% disturbance) than existing \"Cultivate, manually\" file. Use this operation before planting, as all veg. killed.",null,null,null,null,null,1,null,332,null,"Planter, furrow opener in 4 inch deep furrows",null,null,null,null,null,null,null,"Harvest, sprig rototiller digger",null,null,null,"Cultivator, row between beds",null,null,null,"Remove Straw Bale",null,null,null,"Seeder, corrugated packer "]
[78,null,"Cultivate, rows manually",1E-8,"Manually cultivate between crop rows in small fields with hoe or similar hand tool. 102109 DTL",null,null,null,null,null,1,null,333,null,"Planter, furrow opener in 6 inch deep furrows",null,null,null,null,null,null,null,"Harvest, stalk chopping corn header",null,null,null,"Cultivator, row, high residue ",null,null,null,"Road grader",null,null,null,"Seeder, dormant, corrugated packer"]
[79,null,"Cultivator, between beds, add residue",0.43,"Cultivator used on beds covered with plastic mulch.  This operation cultivates between the beds and adds other cover.  User must specify type of residue cover, ie., \"weed residue\"  and dry weight.  Rev 043008 DTL",null,null,null,null,null,1,null,334,null,"Planter, furrow opener in 8 inch deep furrows",null,null,null,null,null,null,null,"Harvest, stripper header",null,null,null,"Disk, inter row strips",null,null,null,"Spray, glysophate on resistant growing crop",null,null,null,"Seeder, high density vegetable"]
[80,null,"Cultivator, field 6-12 in shovels C",0.74,"060701 DTL",null,null,null,null,null,1,null,335,null,"Planter, in-row subsoiler",null,null,null,null,null,null,null,"Harvest, sugarcane, after burning ",null,null,null,"Disk, offset, heavy",null,null,null,"Sprayer, backpack, post emergence"]
[81,null,"Cultivator, field 6-12 in sweeps",0.74,"060701 DTL",null,null,null,null,null,1,null,336,null,"Planter, in-row subsoiler low disturbace",null,null,null,null,null,null,null,"Harvest, sugarcane, after burning, no regrowth",null,null,null,"Disk, offset, heavy 12 in depth",null,null,null,"Sprayer, defoliant"]
[82,null,"Cultivator, field 6-12 in sweeps, coil tine har",0.96,"Field cultivator w/ 6-12 inch sweeps 060701 DTL with a coil tine harrow dragged behind 09-13-11 GGF",null,null,null,null,null,1,null,337,null,"Planter, in-row subsoiler w/ residue mgr.",null,null,null,null,null,null,null,"Harvest, sugarcane, modern",null,null,null,"Disk, offset, heavy 15 in depth",null,null,null,"Sprayer, fungicide"]
[83,null,"Cultivator, field with spike points",0.74,"Field cultivator w/ spike points 01-03-02  DTL",null,null,null,null,null,1,null,338,null,"Planter, narrow slot w/smooth or rippled coulter ",null,null,null,null,null,null,null,"Harvest, sugarcane, old type",null,null,null,"Disk, offset, heavy, roller, corr packer",null,null,null,"Sprayer, fungicide and insecticide tank mix"]
[84,null,"Cultivator, field with spike points, coil tine har",0.96,"Field cultivator w/ spike points 01-03-02  DTL with a coiled tine harrow dragged behind 09-13-11 GGF",null,null,null,null,null,1,null,339,null,"Planter, RELAY INTERCROP,  double disk opnr w/fluted coulter",null,null,null,null,null,null,null,"Harvest, sugarcane, root rake",null,null,null,"Disk, offset, heavy, roller, smooth",null,null,null,"Sprayer, growth regulator"]
[85,null,"Cultivator, flame",1,"Flame cultivator on growing crop.  Crop is not killed.  In the management screen the user must select the kind of weeds killed in the growing crop as external residue. DO NOT LEAVE THE RESIDE TYPE SET TO \"DEFAULT\".  User must specify the amount of weed residue added in the \"adjust external residue\" box in the profile or worksheet screen when making the soil loss run.  02/23/06 DTL",null,null,null,null,null,1,null,340,null,"Planter, ridge till  ",null,null,null,null,null,null,null,"Harvest, timber remove tops",null,null,null,"Disk, oxen, strip 30 pct disturb",null,null,null,"Sprayer, insecticide post emergence"]
[86,null,"Cultivator, hipper, disk hiller on beds",0.43,"Cultivator used on beds covered with plastic mulch.  Adds other cover.  User must specify type of residue cover, ie., \"weed residue\"  and dry weight.  Rev 043008 DTL",null,null,null,null,null,1,null,341,null,"Planter, runner opener",null,null,null,null,null,null,null,"Harvest, tobacco, burley",null,null,null,"Disk, oxen, strip 60 pct disturb",null,null,null,"Sprayer, kill cover in growing crop"]
[87,null,"Cultivator, off bar with disk hillers on beds",0.43,"Off bar cultivator w/ opposing gangs of disk hillers.  12-18-01 DTL",null,null,null,null,null,1,null,342,null,"Planter, small veg seed",null,null,null,null,null,null,null,"Harvest, tobacco, burley, mechanical harvester",null,null,null,"Disk, single gang",null,null,null,"Sprayer, kill cover in growing vegetables"]
[88,null,"Cultivator, rotary",0.54,"Rotary row crop cultivator operated on preformed beds or flat planted with spider gangs typified by the Lilliston Rolling Cultivator.  082907 DTL",null,null,null,null,null,1,null,343,null,"Planter, small veg seed on 8 inch high beds",null,null,null,null,null,null,null,"Harvest, tobacco, flue cured",null,null,null,"Disk, tandem heavy primary op.",null,null,null,"Sprayer, kill crop"]
[89,null,"Cultivator, rotary on beds",0.54,"Rotary row crop cultivator operated on preformed beds with spider gangs typified by the Lilliston Rolling Cultivator.  082907 DTL",null,null,null,null,null,1,null,344,null,"Planter, sprig conventional",null,null,null,null,null,null,null,"Harvest, tobacco, flue cured, 1 pass mechanical",null,null,null,"Disk, tandem heavy primary op., roller, smooth",null,null,null,"Sprayer, kill strips"]
[90,null,"Cultivator, rotary on beds, Bedder, hipper, disk hiller",0.84,"Rotary row crop cultivator operated on preformed beds with spider gangs typified by the Lilliston Rolling Cultivator followed by shovels to reform furrow. 082907 DTL rev 91311 ggf;  revised to delete kill veg process since the bedder, hipper, disk hiller behind the row cultivators clean up the furrow during the growing season. 112211 los",null,null,null,null,null,1,null,345,null,"Planter, sprig, no-till",null,null,null,null,null,null,null,"Harvest, tobacco, flue cured, selective mechanical harvest",null,null,null,"Disk, tandem light finishing ",null,null,null,"Sprayer, post emergence"]
[91,null,"Cultivator, row - 1st pass ridge till",0.62,"060701 DTL",null,null,null,null,null,1,null,346,null,"Planter, strip till",null,null,null,null,null,null,null,"Harvest, tree buck",null,null,null,"Disk, tandem secondary op.",null,null,null,"Sprayer, post emergence and fert. tank mix"]
[92,null,"Cultivator, row - 2nd pass ridge till ",0.74,"Ridgetill cultivator second pass with ridging wings down.  051107 DTL",null,null,null,null,null,1,null,347,null,"Planter, sugarcane ",null,null,null,null,null,null,null,"Harvest, tree length logs",null,null,null,"Do all ",null,null,null,"Sprayer, pre-emergence"]
[93,null,"Cultivator, row 1 in ridge ",0.62,"Row crop cultivator w/ sweeps leaving a 1\" ridge 05-14-02 DTL",null,null,null,null,null,1,null,348,null,"Planter, transplanter, vegetable ",null,null,null,null,null,null,null,"Harvest, tree pulpwood cut",null,null,null,"Do all, on beds ",null,null,null,"Winter kill annual crop"]
[94,null,"Cultivator, row 3 in ridge",0.62,"Row crop cultivator w/ sweeps leaving a 3\" ridge 05-14-02 DTL",null,null,null,null,null,1,null,349,null,"Planter, transplanter, vegetable on 8 inch high beds",null,null,null,null,null,null,null,"Harvest, tree, Christmas grow cover ",null,null,null,"Dozer track walking"]
[95,null,"Cultivator, row between beds",0.62,"Cultivator w/ opposing gangs of disk hillers.  Used to cultivate between Sugarcane beds. 020106 DTL",null,null,null,null,null,1,null,350,null,"Planter, transplanter, vegetable, no-till ",null,null,null,null,null,null,null,"Harvest, trees, chipper",null,null,null,"Furrow diker"]
[96,null,"Cultivator, row, high residue ",0.43,"High residue cultivator w/ single 24\" sweep per row.  12-18-01 DTL",null,null,null,null,null,1,null,351,null,"Planter, tree, mechanical transplanter ",null,null,null,null,null,null,null,"Harvest, vine crops",null,null,null,"Furrow shaper, torpedo"]
[97,null,"Detasseler, seed corn",0.13,"Rotary or flail detasseling machine used to remove seed corn tassels.  When using this operation in a management record, specify corn residue and amount cut and placed on the surface.   rev 043008 DTL ",null,null,null,null,null,1,null,352,null,"Planting, broadcast seeder",null,null,null,null,null,null,null,"Harvest, vine crops, mechanical",null,null,null,"Harrow, coiled tine"]
[98,null,"Disk, inter row strips",0.45,"6/8/01 DTL; Revision 9/1/05 of Disk, tandem light finishing to represent a disk in orchards, nurseries, and  vineyards that does not kill the tree or vineyard vegetation.  Used to disk weeds or annual cover crops in the inter-row areas; tmg. Changed to 85% disturbance since row area of orchard is not disked.  rev 043008 DTL ",null,null,null,null,null,1,null,353,null,"Planting, hand 10 percent dist.",null,null,null,null,null,null,null,"Harvest, windrows",null,null,null,"Harrow, coiled tine weeder"]
[99,null,"Disk, offset, heavy",0.9,"6/8/01 DTL",null,null,null,null,null,1,null,354,null,"Planting, hand 5 percent dist.",null,null,null,null,null,null,null,"Harvest, woody biomass",null,null,null,"Harrow, disk chain"]
[100,null,"Disk, offset, heavy 12 in depth",1.1000000000000001,"Heavy or Offset disk at 12inch depth  101706 DTL",null,null,null,null,null,1,null,355,null,"Planting, manual",null,null,null,null,null,null,null,"Mower, swather, on stubble",null,null,null,"Harrow, heavy"]
[101,null,"Disk, offset, heavy 15 in depth",1.3,"Heavy or Offset disk at 15inch depth  082907DTL",null,null,null,null,null,1,null,356,null,"Planting, manual on 8 inch high beds",null,null,null,null,null,null,null,"Mower, swather, on stubble 4in",null,null,null,"Harrow, heavy on heavy resdue"]
[102,null,"Disk, offset, heavy, roller, corr packer",1.1499999999999999,"Heavy or Offset disk at 6-8 inch depth with corrugated roller packer.  Based on; Disk, offset, heavy , 6/8/01 DTL and Corregated packer roller   10-11-01 DTL  Fixed Burial ratios for packer component 101112 DTL",null,null,null,null,null,1,null,357,null,"Planting, no-til manually",null,null,null,null,null,null,null,"Mower, swather, windrower",null,null,null,"Harrow, rolling"]
[103,null,"Disk, offset, heavy, roller, smooth",1,"Disk, offset, heavy 6/8/01 DTL and smooth roller   09-16-11 GGF",null,null,null,null,null,1,null,244,null,"Add mulch",null,null,null,null,null,null,null,"Shred residue, 6 inch stubble",null,null,null,"Harrow, rotary"]
[104,null,"Disk, oxen, strip 30 pct disturb",1E-8," Disk pulled by oxen.30% disturbed in strips Puerto Rico.  082704 DTL",null,null,null,null,null,1,null,245,null,"Drip tape injection shank",null,null,null,null,null,null,null,"Shredder, flail or rotary ",null,null,null,"Harrow, rotary paddle wheel and spike gangs"]
[105,null,"Disk, oxen, strip 60 pct disturb",1E-8," Disk pulled by oxen.60% disturbed in strips Puerto Rico.  082704 DTL",null,null,null,null,null,1,null,246,null,"Drip tape injection shank on beds",null,null,null,null,null,null,null,"Shredder, flail or rotary, add other cover ",null,null,null,"Harrow, rotary, light, fluff fragile residue"]
[106,null,"Disk, single gang",0.38,"Single disk gang  101706 DTL",null,null,null,null,null,1,null,247,null,"Drip tape injector bed shaper",null,null,null,null,null,null,null,"Shredder, flail or rotary, filberts and pecans",null,null,null,"Harrow, rotary, light, fluff residue"]
[107,null,"Disk, tandem heavy primary op.",0.75,"6/8/01 DTL",null,null,null,null,null,1,null,248,null,"Erosion blanket applicaton",null,null,null,null,null,null,null,"Shredder, rotary mower ",null,null,null,"Harrow, spike tooth"]
[108,null,"Disk, tandem heavy primary op., roller, smooth",0.88,"Disk, tandem heavy primary op. 6/8/01 DTL and smooth roller   09-16-11 GGF",null,null,null,null,null,1,null,249,null,"Fert applic. anhyd knife 12 in",null,null,null,null,null,null,null,"Shredder, rotary, regrow veg",null,null,null,"Harrow, spike tooth, cover seed"]
[109,null,"Disk, tandem light finishing ",0.4,"6/8/01 DTL",null,null,null,null,null,1,null,250,null,"Fert applic. coulter, high press. inject  12 in",null,null,null,null,null,null,null,"Shredder, rotary, remove residue",null,null,null,"Harrow, tine, on beds"]
[110,null,"Disk, tandem secondary op.",0.48,"6/7/01 DTL",null,null,null,null,null,1,null,251,null,"Fert applic. deep plcmt hvy shnk",null,null,null,null,null,null,null,"Sod cutter",null,null,null,"Hilling, manual hoe"]
[111,null,"Do all ",1.5,"Do all  Seedbed finisher consisting of a single disk gang, field cultivator, coiled tine harrow and a rolling basket incorporator  120606 DTL",null,null,null,null,null,1,null,252,null,"Fert applic. shank low disturbance, 12 in",null,null,null,null,null,null,null,"Sod installation",null,null,null,"Kill crop"]
[112,null,"Do all, on beds ",1.33,"Do all on beds.  Same as Bed shaper high disturbance.  Beds are lightly tilled with a disk hiller or rotary cultivator and reshaped with a bed shaper in preparation for planting.  Rev120806 DTL",null,null,null,null,null,1,null,253,null,"Fert applic. surface broadcast",null,null,null,null,null,null,null,"Tree spade, holes left ",null,null,null,"Knife, windrow dry beans"]
[113,null,"Dozer track walking",0.6,"Represents ridges left by running bulldozer up and down a slope to create cleat marks laterally across the slope.  101009 DTL",null,null,null,null,null,1,null,254,null,"Fert. applic. anhyd knife 30 in",null,null,null,null,null,null,null,"Tree spade, holes plugged",null,null,null,"Lister, 30 in"]
[114,null,"Drill or air seeder single disk openers 7-10 in spac.",0.35,"Drill or Air seeder with single disk no-till openers  JD 750 or similar openers. (No-till air drill)  Based on Drill, no-till single disk 7-10\" spacing. 102403 DTL",null,null,null,null,null,1,null,255,null,"Fert. applic. sugarcane",null,null,null,null,null,null,null,"Winter kill annual crop",null,null,null,"Lister, 30 in with fert applic."]
[115,null,"Drill or air seeder single disk openers, + fert. opnrs 7-10 in spac.",0.48,"Drill or Air seeder with single disk no-till openers  JD 750 or similar openers plus fert. openers. (No-till air drill)  Based on Drill, no-till single disk 7-10\" spacing. 102403 DTL",null,null,null,null,null,1,null,256,null,"Fert. applic., strip-till 30 in",null,null,null,null,null,null,null,null,null,null,null,"Lister, 40 in"]
[116,null,"Drill or air seeder tee slot openers 7-10 in spac.",0.4,"Drill or Air seeder with tee slot or cross slot  or similar openers.102403DTL",null,null,null,null,null,1,null,260,null,"Manure injector, liquid high disturb.30 inch",null,null,null,null,null,null,null,null,null,null,null,"Lister, 40 in with fert applic."]
[117,null,"Drill or air seeder, combo field cult, dd openers",1.3,"Combination Seedbed finisher and double disk opener drill consisting of a field cultivator, a rolling basket incorporator and double disk opener drill.  Example: JD 730 Air disk drill.  05-11-11 DTL",null,null,null,null,null,1,null,261,null,"Manure injector, liquid low disturb.15 inch",null,null,null,null,null,null,null,null,null,null,null,"Middle buster, digger"]
[118,null,"Drill or air seeder, combo single disk-hoe openers, 10 in spac",0.74,"Drill or Airseeder, single disk openers with fertilizer in the row  using a combo single disk/hoe opener. 092409 DTL",null,null,null,null,null,1,null,262,null,"Manure injector, liquid low disturb.30 inch",null,null,null,null,null,null,null,null,null,null,null,"Mulch crimper"]
[119,null,"Drill or air seeder, hoe opener in hvy residue",0.74,"Airseeder, hoe opener on 10 to 15 \"row spacing and 3\"wide presswheels operated in sod or more than 4000# residue mass.  Based on Drill, hoe opener. 01-10-02 DTL",null,null,null,null,null,1,null,263,null,"Manure spreader, liquid",null,null,null,null,null,null,null,null,null,null,null,"Mulch treader"]
[120,null,"Drill or air seeder, hoe opener in hvy residue with fert openers",1.34,"Airseeder, hoe opener on 10 to 15 \"row spacing and 3\"wide presswheels operated in sod or more than 4000# residue mass.  Based on Drill, hoe opener. 01-10-02 DTL with fertilizer openers 09-16-11  GGF rev order of processes of combination tool 121311 LOS",null,null,null,null,null,1,null,264,null,"Manure spreader, slurry",null,null,null,null,null,null,null,null,null,null,null,"Para-plow or para-till"]
[121,null,"Drill or air seeder, hoe-chisel openers 12-15 in spac.",0.74,"Drill or Airseeder, hoe or chisel openers 12-15 inch spacing and 3\"wide presswheels.   060403 DTL",null,null,null,null,null,1,null,265,null,"Manure spreader, solid and semi-solid",null,null,null,null,null,null,null,null,null,null,null,"Pasture renovator"]
[122,null,"Drill or air seeder, hoe-chisel openers 12-15 in spac. with; fert openers",1.3,"Drill or Airseeder, hoe or chisel openers 12-15 inch spacing and 3\"wide presswheels.   060403 DTL with fertilizer openers 09-16-11  GGF rev order of processes for combination tool 121311 LOS",null,null,null,null,null,1,null,266,null,"Manure, liquid irrigation",null,null,null,null,null,null,null,null,null,null,null,"Plow, deep, large, moldboard"]
[123,null,"Drill or air seeder, hoe-chisel openers 6-12 in spac.",0.74,"Drill or Airseeder, hoe or chisel openers and 3\"wide presswheels.   10/11/01 DTL",null,null,null,null,null,1,null,267,null,"Permeable weed barrier applicator",null,null,null,null,null,null,null,null,null,null,null,"Plow, disk"]
[124,null,"Drill or air seeder, hoe-chisel openers 6-12 in spac. with; fert openers",1.34,"Drill or Airseeder, hoe or chisel openers and 3\"wide presswheels.   10/11/01 DTL with fertilizer openers 09-16-11  GGF rev order of processes of combination tool 121311 LOS",null,null,null,null,null,1,null,268,null,"Plastic mulch applic. 40 inch beds 100 percent cover",null,null,null,null,null,null,null,null,null,null,null,"Plow, moldboard"]
[125,null,"Drill or air seeder, paired, opposing single disk openers 6x9 in spac.",0.74,"Drill or Air seeder with twin single disk no-till openers angled to pull soil toward each other.  Seed is dropped  behind each disk and covered by a presswheel running in the middle that pushes soil laterally against the undisturbed cutslope to form a pair of rows 6 inches apart with a 9 inch undisturbed area between  the next pair of twin rows.  Rev 121806 DTL",null,null,null,null,null,1,null,269,null,"Plastic mulch applic. 40 inch beds 75 percent cover",null,null,null,null,null,null,null,null,null,null,null,"Plow, moldboard 10 inch depth"]
[126,null,"Drill or airseeder, dble disk opnr with fluted coult 5x10 paired row",0.74,"Drill or airseeder with double disk openers and fluted coulters on 5x10 inch paired row spacing.  060403 DTL",null,null,null,null,null,1,null,270,null,"Plastic mulch applic. 48 inch beds 100 percent cover",null,null,null,null,null,null,null,null,null,null,null,"Plow, moldboard 6-7 inch depth"]
[127,null,"Drill or airseeder, double disk",0.36,"Drill or air seeder with double disk openers on 7 to 10 inch spacings.  Rev102403 DTL",null,null,null,null,null,1,null,271,null,"Plastic mulch applic. 48 inch beds 80 percent cover",null,null,null,null,null,null,null,null,null,null,null,"Plow, moldboard, conservation"]
[128,null,"Drill or airseeder, double disk opener, with fert openers ",0.43,"Drill or airseeder with double disk openers with fertilizer knives or openers on 7 -12 inch spacings.. ie., Ripper-shooter drill in the NWRR. High disturbance.  4-18-02. DTL ",null,null,null,null,null,1,null,272,null,"Plastic mulch applic. 54 inch beds 100 percent cover",null,null,null,null,null,null,null,null,null,null,null,"Plow, moldboard, up hill"]
[129,null,"Drill or airseeder, double disk, with fluted coulters",0.43,"Drill or airseeder with double disk openers and fluted coulters on 7 to 10 inch spacing.  REVISED102403 DTL",null,null,null,null,null,1,null,273,null,"Plastic mulch applic. 54 inch beds 80 percent cover",null,null,null,null,null,null,null,null,null,null,null,"Plow, oxen 12 in ridge"]
[130,null,"Drill or airseeder, offset double disk openers",0.32,"No-till drill or airseeder with narrow offset double disk openers 01-10-02  DTL",null,null,null,null,null,1,null,274,null,"Plastic mulch applic. 64 inch beds 100 percent cover",null,null,null,null,null,null,null,null,null,null,null,"Plow, oxen 18 in ridge"]
[131,null,"Drill, air seeder, 4 inch stealth openers on 12 in spac",0.43,"Airseeder with  Anderson openers or similar openers seeding 3-4\" bands of seed  on 12\" row spacing leaving  a similar bare inter-row area  as a conventional 7\" double disk opener drill.  10/28/01 DTL",null,null,null,null,null,1,null,275,null,"Plastic mulch applic. 64 inch beds 85 percent cover",null,null,null,null,null,null,null,null,null,null,null,"Plow, oxen on 6 in ridge"]
[132,null,"Drill, air seeder, 6 inch stealth openers on 12 in spac",0.43,"Airseeder with  6 inch stealth openers or similar openers seeding 3-4\" bands of seed  on 12\" row spacing.  122807 DTL",null,null,null,null,null,1,null,276,null,"Plastic mulch applicator 100 percent cover",null,null,null,null,null,null,null,null,null,null,null,"Plow, oxen, strip 30 pct disturb"]
[133,null,"Drill, air seeder, sweep or band opener",0.43,"Airseeder with  Anderson openers or similar openers seeding 3-4\" bands of seed  on 12\" row spacing leaving  a similar bare inter-row area  as a conventional 7\" double disk opener drill.  10/28/01 DTL",null,null,null,null,null,1,null,277,null,"Plastic mulch applicator 40 percent cover",null,null,null,null,null,null,null,null,null,null,null,"Plow, oxen, strip 60 pct disturb"]
[134,null,"Drill, deep furrow  12 to 18 in spacing",0.6,"Deep furrow drills on 12 to 18 inch spacing 04-18-02  DTL",null,null,null,null,null,1,null,278,null,"Plastic mulch applicator 50 percent cover",null,null,null,null,null,null,null,null,null,null,null,"Plow, reversable"]
[135,null,"Drill, deep furrow  7 to 10 in spacing",0.74,"Deep furrow drills on 7 to 10 inch spacing 031405  DTL",null,null,null,null,null,1,null,279,null,"Plastic mulch applicator 75 percent cover",null,null,null,null,null,null,null,null,null,null,null,"Power mulcher bed conditioner"]
[136,null,"Drill, double disk, 7-8 in packer C",0.36,"Drill or air seeder with double disk openers on 7 to 10 inch spacings.  060701",null,null,null,null,null,1,null,280,null,"Plastic mulch, 05 percent removal ",null,null,null,null,null,null,null,null,null,null,null,"Rake or windrower"]
[137,null,"Drill, double disk, orchard vineyard cover",0.36,"Drill used for orchard and vineyard managements that include vine and cover crop growth in the vegetation record.  Operation starts growth of vegetation record.  It does not kill vegetation.   tmg 1/17/07 Based on Drill or air seeder with double disk openers on 7 to 10 inch spacings.  Rev102403 DTL",null,null,null,null,null,1,null,281,null,"Plastic mulch, 10 percent removal ",null,null,null,null,null,null,null,null,null,null,null,"Reel disk vertical tiller"]
[138,null,"Drill, heavy, direct seed, dbl disk opnr ",1.1000000000000001,"Very Heavy direct seeding drill used for one pass seeding.   Surface disturbance is 85% and greater.  This drill is typified by the \"Yielder\" drills used in the Palouse area of the Pacific Nothwest.  REV. 04-17-02 DTL ",null,null,null,null,null,1,null,282,null,"Plastic mulch, 25 percent removal ",null,null,null,null,null,null,null,null,null,null,null,"Residue conditioner, coil tine har, rlng bskt"]
[139,null,"Drill, heavy, direct seed, dbl disk opnr with row cleaners",1.3,"Very Heavy direct seeding drill used for one pass seeding. Also equipped with disk or residue manager row cleaners ahead of the units.  Surface disturbance is 90% and greater.  This drill is typified by the \"Yielder\" drills used in the Palouse area of the Pacific Nothwest.  REV. 04-17-02 DTL ",null,null,null,null,null,1,null,283,null,"Plastic mulch, 50 percent  removal ",null,null,null,null,null,null,null,null,null,null,null,"Residue removal by wind"]
[140,null,"Drill, range",0.48,"Drill for seeding on rangeland. from RUSLE1.06. 062403 gaw.",null,null,null,null,null,1,null,284,null,"Plastic mulch, remove",null,null,null,null,null,null,null,null,null,null,null,"Residue, row cleaner"]
[141,null,"Drill, semi-deep furrow  12 to 18 in spacing",0.55000000000000004,"6/7/01 DTL",null,null,null,null,null,1,null,285,null,"Plastic weed barrier 40 inch beds 100 percent cover",null,null,null,null,null,null,null,null,null,null,null,"Rice residue stomper"]
[142,null,"Drip tape extractor",0.38,"Drip Tape extractor (similar to Sundance Tape extractor) rev 112707 DTL",null,null,null,null,null,1,null,286,null,"Plastic weed barrier 40 inch beds 50 percent cover",null,null,null,null,null,null,null,null,null,null,null,"Ripper, intra row"]
[143,null,"Drip tape injection shank",0.8,"Drip tape injection shank.  112707 DTL",null,null,null,null,null,1,null,287,null,"Plastic weed barrier 40 inch beds 75 percent cover",null,null,null,null,null,null,null,null,null,null,null,"Ripper, intra row and furrow diker"]
[144,null,"Drip tape injection shank on beds",0.8,"Drip tape injection shank on lister beds.  112707 DTL",null,null,null,null,null,1,null,288,null,"Plastic weed barrier applicator 100 percent cover",null,null,null,null,null,null,null,null,null,null,null,"Rodweeder"]
[145,null,"Drip tape injector bed shaper",0.45,"Drip Tape injector bed shaper (similar to Sundance Tape Injector) 112707 DTL",null,null,null,null,null,1,null,289,null,"Plastic weed barrier applicator 50 percent cover",null,null,null,null,null,null,null,null,null,null,null,"Rodweeder, harrow, spike tooth"]
[146,null,"Erosion blanket applicaton",1E-8,"Straw or curlex erosion control blanket application covering 100% of the surface. Applied after seeding operation such as drill, cultipacker roller seeder or broadcast seeder.  Specify mulch type and specify the dry weight of material being applied.  06-24-03 DTL",null,null,null,null,null,1,null,290,null,"Plastic weed barrier applicator 75 percent cover",null,null,null,null,null,null,null,null,null,null,null,"Roller harrow"]
[147,null,"Fert applic. anhyd knife 12 in",0.9,"6/7/01 DTL",null,null,null,null,null,1,null,292,null,"Pruning",null,null,null,null,null,null,null,null,null,null,null,"Roller, corrugated packer "]
[148,null,"Fert applic. anhyd knife 12 in, coil tine har",1.1000000000000001,"Fert applic. anhyd knife 12 in, 6/7/01, with coiled tine harrow. 09/16/11 GGF",null,null,null,null,null,1,null,293,null,"Sprayer, defoliant",null,null,null,null,null,null,null,null,null,null,null,"Roller, corrugated packer 6 by 16"]
[149,null,"Fert applic. broadcast by hand",1E-8,"Broadcast fertilizer by hand 033111 DTL",null,null,null,null,null,1,null,294,null,"Sprayer, insecticide post emergence",null,null,null,null,null,null,null,null,null,null,null,"Roller, crimp, covercrop"]
[150,null,"Fert applic. coulter, high press. inject  12 in",0.16,"6/7/01 DTL   12 inch spacing",null,null,null,null,null,1,null,295,null,"Sprayer, kill cover in growing crop",null,null,null,null,null,null,null,null,null,null,null,"Roller, on beds "]
[151,null,"Fert applic. deep plcmt hvy shnk",0.9,"6/7/01 DTL",null,null,null,null,null,1,null,296,null,"Sprayer, kill cover in growing vegetables",null,null,null,null,null,null,null,null,null,null,null,"Roller, residue "]
[152,null,"Fert applic. shank low disturbance, 12 in",0.9," Minimum disturbance fertilizer injector shank.012904 DTL",null,null,null,null,null,1,null,297,null,"Sprayer, kill crop",null,null,null,null,null,null,null,null,null,null,null,"Roller, residue incorporator"]
[153,null,"Fert applic. shank low disturbance, 12 in, coil tine har",1.1000000000000001," Minimum disturbance fertilizer injector shank.012904 DTL with coiled tine harrow.  091611 ggf",null,null,null,null,null,1,null,298,null,"Sprayer, kill strips",null,null,null,null,null,null,null,null,null,null,null,"Roller, row shaper"]
[154,null,"Fert applic. shank low disturbance, 15 in spacing",0.9," Minimum disturbance fertilizer injector shank.on 15 inch spacing.  Each injector typically has depth guage wheels that control the amount of disturbance and lateral soil splash.  About 3 inch wide disturbed area per shank.  122106 DTL",null,null,null,null,null,1,null,299,null,"Sprayer, post emergence",null,null,null,null,null,null,null,null,null,null,null,"Roller, smooth "]
[155,null,"Fert applic. side-dress, liquid",0.13,"Spray or dribble side-dress application of fertilizer into row crop.   Crop is not affected.  Created from DTL's \"Sprayer, insecticide post emergence\" record.  04/13/11 GGF",null,null,null,null,null,1,null,300,null,"Sprayer, pre-emergence",null,null,null,null,null,null,null,null,null,null,null,"Rolling basket incorporator"]
[156,null,"Fert applic. surface broadcast",0.16,"Broadcast fertilizer spreader.  Wheel traffic only.  rev 082107 DTL",null,null,null,null,null,1,null,82,null,"Aerator, field surface, ground driven",null,null,null,null,null,null,null,null,null,null,null,"Root rake"]
[157,null,"Fert applic., aerial",0.16,"Aerial broadcast fertilizer.  Although used for aerial application of Fertilizer into flooded rice fields or other situations where conditions prevent the operation of field equipment, this operation doesn't actually do anything other than serve as a placeholder for energy calculation. 11292011 DTL",null,null,null,null,null,1,null,83,null,"Aerator, field surface, ground driven 0 degree offset",null,null,null,null,null,null,null,null,null,null,null,"Rotary hoe"]
[158,null,"Fert. applic. anhyd knife 15 in spacing",0.9,"Anhydrous knife applicator on 15inch spacing.  About 6 inch wide disturbed area per shank.  122106 DTL",null,null,null,null,null,1,null,84,null,"Aerator, field surface, ground driven 10 degree offset",null,null,null,null,null,null,null,null,null,null,null,"Rotary hoe, on  heavy soil"]
[159,null,"Fert. applic. anhyd knife 15 in spacing high disturbance",0.9," Double shot liquid fertilizer knife applicator on 15inch spacing.  90 to 100 percent disturbance 112307 DTL",null,null,null,null,null,1,null,85,null,"Bed shaper",null,null,null,null,null,null,null,null,null,null,null,"Rotary hoe, residue"]
[160,null,"Fert. applic. anhyd knife 15 in spacing high disturbance, coil tine har",1.1000000000000001,"Fert. applic. anhyd knife 15 in spacing high disturbance  112307 DTL with coil tined harrow.  rev 091611 ggf",null,null,null,null,null,1,null,86,null,"Bed shaper high disturbance",null,null,null,null,null,null,null,null,null,null,null,"Rototiller, field"]
[161,null,"Fert. applic. anhyd knife 15 in spacing, coil tine har",1.1000000000000001,"Anhydrous knife applicator on 15inch spacing.  About 6 inch wide disturbed area per shank.  122106 DTL combined with coiled tine harrow rev 091611 ggf",null,null,null,null,null,1,null,87,null,"Bed shaper, 12 in",null,null,null,null,null,null,null,null,null,null,null,"Rototiller, field, add residue"]
[162,null,"Fert. applic. anhyd knife 30 in",0.8,"6/7/01 DTL",null,null,null,null,null,1,null,88,null,"Bedder, hipper, disk hiller",null,null,null,null,null,null,null,null,null,null,null,"Rototiller, on beds"]
[163,null,"Fert. applic. anhyd knife 30 in, bedded",0.8,"04/01/10 DTL",null,null,null,null,null,1,null,89,null,"Bedder, hipper, hiller 12 in high",null,null,null,null,null,null,null,null,null,null,null,"Rototiller, row cult add residue"]
[164,null,"Fert. applic. anhyd, liq, dry, minimal dist. precision placmnt, 30 in",0.8,null,null,null,null,null,null,1,null,90,null,"Bedder, hipper, hiller 15 in high",null,null,null,null,null,null,null,null,null,null,null,"Rototiller, row cultivator "]
[165,null,"Fert. applic. anhyd, low dist. single disk opener, 30 in",0.8,null,null,null,null,null,null,1,null,91,null,"Bedder, hipper, hiller 18 in high",null,null,null,null,null,null,null,null,null,null,null,"Scalper, tree"]
[166,null,"Fert. applic. double shot knife 15 in spacing high disturbance",0.9," Double shot liquid fertilizer knife applicator on 15inch spacing.  90 to 100 percent disturbance 112307 DTL",null,null,null,null,null,1,null,96,null,"Burn residue, high intensity",null,null,null,null,null,null,null,null,null,null,null,"Scarifier"]
[167,null,"Fert. applic. shallow anhyd knife 38 in",0.8,"Anhydrous knife or applicator on 38 inch spacing used to  apply side-dress fertilizer at a shallow depth into row crop.   Crop is not killed.  Created from Fert. applic. anhydrous knife 30 in.  110311 DTL ",null,null,null,null,null,1,null,97,null,"Burn residue, low intensity",null,null,null,null,null,null,null,null,null,null,null,"Seedbed conditioner, coil tine har, rlng bskt"]
[168,null,"Fert. applic. single disk opener, low disturbance, 30 inch spac",0.8,null,null,null,null,null,null,1,null,98,null,"Burn residue, mod. high intensity",null,null,null,null,null,null,null,null,null,null,null,"Seedbed conditioner, coulter caddy, coil tine har"]
[169,null,"Fert. applic. sugarcane",0.7,"Fertilizer applicator, sugarcane.  This applicator is similar to an anhydrous applicator except pairs of shanks are spaced 24 inches apart to run in the furrows between 48 inch wide sugarcane beds.   013106 DTL",null,null,null,null,null,1,null,99,null,"Burn residue, moderate intensity",null,null,null,null,null,null,null,null,null,null,null,"Seedbed conditioner, coulter caddy, coil tine har, rlng bskt"]
[170,null,"Fert. applic., strip-till 30 in",0.9,"Used to mark rows or apply fertilizer for strip till systems.  12-07-01 DTL",null,null,null,null,null,1,null,100,null,"Burn sugarcane",null,null,null,null,null,null,null,null,null,null,null,"Seedbed conditioner, coulter caddy, field cult, spike harrow"]
[171,null,"Furrow diker",0.35," Furrow Diker  creates dams in furrows between lister ridges or beds.  11/08/01 DTL",null,null,null,null,null,1,null,104,null,"Chisel plow, coulter, st. pts.",null,null,null,null,null,null,null,null,null,null,null,"Seedbed conditioner, coulter caddy, rtry har"]
[172,null,"Furrow shaper, torpedo",0.35,"Furrow shaping operation on existing beds.  Torpedo shaped device used to shape the furrows for furrow irrigation.  11/17/01 DTL",null,null,null,null,null,1,null,105,null,"Chisel plow, coulter, st. pts., cover disks",null,null,null,null,null,null,null,null,null,null,null,"Seedbed conditioner, coulter caddy, rtry har, rlng bskt"]
[173,null,"Germination of dormant seeding",1E-8,"Germination of dormant seeding.  Enter this operation on the date of spring germination of early winter or late winter dormant seeding.  102406 DTL",null,null,null,null,null,1,null,106,null,"Chisel plow, coulter, sweeps",null,null,null,null,null,null,null,null,null,null,null,"Seedbed conditioner, coulter caddy, spk har"]
[174,null,"Graze, continuous ",1E-8,"Continuous Grazing system. Long duration grazing periods 12-20-01 DTL",null,null,null,null,null,1,null,107,null,"Chisel plow, coulter, twst. pts.",null,null,null,null,null,null,null,null,null,null,null,"Seedbed conditioner, coulter caddy, spk har, rlng bskt"]
[175,null,"Graze, continuous overgrazing",1E-8,"Continuous Grazing system. Represents overgrazing.  Long duration grazing periods Rev 070904 DTL",null,null,null,null,null,1,null,108,null,"Chisel plow, coulter, twst. pts., cover disks",null,null,null,null,null,null,null,null,null,null,null,"Seedbed finisher"]
[176,null,"Graze, continuous, heavy hoof traffic",1E-8,"Graze continuous heavy hoof traffic.  Represents dairy night pastures or holding lots with daily heavy hoof traffic and overgrazing.  101506 DTL",null,null,null,null,null,1,null,109,null,"Chisel plow, disk, st. pts.",null,null,null,null,null,null,null,null,null,null,null,"Seedbed finisher"]
[177,null,"Graze, continuous, light hoof traffic",1E-8,"Continuous Grazing system. Long duration grazing periods 12-20-01 DTL",null,null,null,null,null,1,null,110,null,"Chisel plow, disk, st. pts., cover disks",null,null,null,null,null,null,null,null,null,null,null,"Seedbed finisher, fld cult, chop, spk har, rlng bskt"]
[178,null,"Graze, continuous, moderate hoof traffic",1E-8,"Continuous Grazing system. Long duration grazing periods 12-20-01 DTL",null,null,null,null,null,1,null,111,null,"Chisel plow, disk, twst. pts.",null,null,null,null,null,null,null,null,null,null,null,"Seedbed finisher, fld cult, coil tine har, rollng bskt"]
[179,null,"Graze, intensive rotational ",1E-8,"Intensive Rotatioal Grazing system with 85% of growth removed with each grazing cycle.12-20-01 DTL",null,null,null,null,null,1,null,112,null,"Chisel plow, disk, twst. pts., cover disks",null,null,null,null,null,null,null,null,null,null,null,"Seedbed finisher, fld cult, mlch trdr"]
[180,null,"Graze, rotational ",1E-8,"Rotational Grazing system with 50% of growth removed with each grazing cycle.12-20-01 DTL",null,null,null,null,null,1,null,113,null,"Chisel, 12-16 in. low crown sweep 3 to 4  in. depth",null,null,null,null,null,null,null,null,null,null,null,"Seedbed finisher, fld cult, rtry har"]
[181,null,"Graze, stubble or residue",1E-8,"Grazing of crop residue such as corn stalks or cotton.  10/26/01 DTL",null,null,null,null,null,1,null,114,null,"Chisel, st. pt. ",null,null,null,null,null,null,null,null,null,null,null,"Seedbed finisher, sngl disk, fld cult, coil tine har, rollng bskt"]
[182,null,"Graze, stubble or residue 25 pct",1E-8,"Moderate grazing of crop residue such as corn stalks or cotton.  112003 DTL",null,null,null,null,null,1,null,115,null,"Chisel, st. pt. 12 in deep",null,null,null,null,null,null,null,null,null,null,null,"Seedbed finisher, sngl disk, rotry har"]
[183,null,"Graze, stubble or residue 50 pct",1E-8,"Heavy grazing of crop residue such as corn stalks or cotton.  112003 DTL",null,null,null,null,null,1,null,116,null,"Chisel, st. pt. 15 in deep",null,null,null,null,null,null,null,null,null,null,null,"Seedbed finisher, sngl dsk, fld cult, coil tine har"]
[184,null,"Graze, stubble or residue 75 pct",1E-8,"Very heavy grazing of crop residue such as corn stalks or cotton.  112003 DTL",null,null,null,null,null,1,null,117,null,"Chisel, st. pt. 5 in deep",null,null,null,null,null,null,null,null,null,null,null,"Slip plow 48 to 60 in. deep"]
[185,null,"Grazing set season, time on, time off, rate",0,null,null,null,null,null,null,1,null,118,null,"Chisel, sweep shovel ",null,null,null,null,null,null,null,null,null,null,null,"Spader"]
[186,null,"Grazing, continuous, high traffic, set season, rate",0,null,null,null,null,null,null,1,null,119,null,"Chisel, sweep shovel 5 in. depth",null,null,null,null,null,null,null,null,null,null,null,"Spader, shallow depth"]
[187,null,"Grazing, continuous, set season, rate",0,null,null,null,null,null,null,1,null,120,null,"Chisel, twisted shovel ",null,null,null,null,null,null,null,null,null,null,null,"Stalk chopper, rolling"]
[188,null,"Grazing, continuous, severe hoof traffic, set season, rate",0,null,null,null,null,null,null,1,null,121,null,"Chop veg. with machete",null,null,null,null,null,null,null,null,null,null,null,"Stalk chopper, rolling, light disturbance"]
[189,null,"Grazing, continuous, time on, time off, rate",0,null,null,null,null,null,null,1,null,122,null,"Coulter caddy, w/ fluted coulters",null,null,null,null,null,null,null,null,null,null,null,"Stalk chopper, rolling, on ridgetill ridges"]
[190,null,"Grazing, frost kill",0,null,null,null,null,null,null,1,null,123,null,"Coulter caddy, with smooth coulters",null,null,null,null,null,null,null,null,null,null,null,"Stalk chopper, rolling, strip"]
[191,null,"Grazing, set end ht, and rate",0,null,null,null,null,null,null,1,null,124,null,"Cultipacker, roller",null,null,null,null,null,null,null,null,null,null,null,"Stalk chopper, rotary"]
[192,null,"Grazing, set end ht, and time on",0,null,null,null,null,null,null,1,null,125,null,"Cultivate, manually",null,null,null,null,null,null,null,null,null,null,null,"Stalk chopper, strip rotary"]
[193,null,"Grazing, set harvest portion and time on",0,null,null,null,null,null,null,1,null,126,null,"Cultivate, manually, low intensity",null,null,null,null,null,null,null,null,null,null,null,"Stalk puller"]
[194,null,"Grazing, set harvest portion, and removal rate",0,null,null,null,null,null,null,1,null,127,null,"Cultivate, manually, moderate intensity",null,null,null,null,null,null,null,null,null,null,null,"Stalk puller high disturbance"]
[195,null,"Grazing, set season, harvest portion, removal rate and start mass",0,null,null,null,null,null,null,1,null,128,null,"Cultivator, between beds, add residue",null,null,null,null,null,null,null,null,null,null,null,"Stalk slicer"]
[196,null,"Grazing, set season, start ht, end ht, rate",0,null,null,null,null,null,null,1,null,129,null,"Cultivator, field 6-12 in shovels C",null,null,null,null,null,null,null,null,null,null,null,"Strip till bed conditioner"]
[197,null,"Grazing, set season, start ht, end ht, rate, then mowed",0.73,null,null,null,null,null,null,1,null,130,null,"Cultivator, field 6-12 in sweeps",null,null,null,null,null,null,null,null,null,null,null,"Striptiller with middlebuster on beds"]
[198,null,"Grazing, set season, start ht, end ht, time on",0,null,null,null,null,null,null,1,null,131,null,"Cultivator, field w/ spike points",null,null,null,null,null,null,null,null,null,null,null,"Subsoil disk ripper"]
[199,null,"Grazing, set season, start ht, end ht, time on, then mowed",0.73,null,null,null,null,null,null,1,null,132,null,"Cultivator, flame",null,null,null,null,null,null,null,null,null,null,null,"Subsoil disk ripper, coulter smooth, rlng bskt"]
[200,null,"Grazing,set season, harvest portion, start mass, and time on",0,null,null,null,null,null,null,1,null,133,null,"Cultivator, hipper, disk hiller on beds",null,null,null,null,null,null,null,null,null,null,null,"Subsoil disk ripper, roller smooth"]
[201,null,"Harrow, coiled tine",0.44,"6/7/01 DTL",null,null,null,null,null,1,null,134,null,"Cultivator, off bar w/disk hillers on beds",null,null,null,null,null,null,null,null,null,null,null,"Subsoiler "]
[202,null,"Harrow, coiled tine weeder",0.44,"Coiled Tine harrow used as a tine weeder in young growing crops.  021109 DTL",null,null,null,null,null,1,null,135,null,"Cultivator, rotary",null,null,null,null,null,null,null,null,null,null,null,"Subsoiler bedder (ripper-hipper)"]
[203,null,"Harrow, disk chain",0.4,null,null,null,null,null,null,1,null,136,null,"Cultivator, row - 1st pass ridge till",null,null,null,null,null,null,null,null,null,null,null,"Subsoiler leveler"]
[204,null,"Harrow, heavy",0.44,"Heavy Harrow. adapted from spring tooth harrow.  10/11/01 DTL",null,null,null,null,null,1,null,137,null,"Cultivator, row - 2nd pass ridge till ",null,null,null,null,null,null,null,null,null,null,null,"Subsoiler ripper, 24 to 40 in. deep"]
[205,null,"Harrow, heavy on heavy resdue",0.35,"This record represents none to very slight ground disturbance. Heavy harrow used to flatten standing stubble and redistribute and size flat residue.  Typically used on small grain stubble resulting from yields greater than 60 bu/ac.   This implement is set so the large coil tines do not dig into the soil, but rather accumulate a ball or bunch of straw between the ranks of tines.  09/19/03DTL",null,null,null,null,null,1,null,138,null,"Cultivator, row 1 in ridge ",null,null,null,null,null,null,null,null,null,null,null,"Subsoiler, 12 foot spacing"]
[206,null,"Harrow, rolling",0.56999999999999995,"Rolling Harrow similar to Unverferth single basket reel.  Built from a combination of coil tine harrow and rolling basket. 09-16-11 GGF",null,null,null,null,null,1,null,139,null,"Cultivator, row 3 in ridge",null,null,null,null,null,null,null,null,null,null,null,"Subsoiler, in row"]
[207,null,"Harrow, rotary",0.44,"Rotary harrow (Phoenix or Phillips)  with clusters of spike tines mounted on a rotating cable pulled on an angle across the surface. Breaks crusts, lifts and redeposits residue, levels surface, lightly incorporates seed, fertilizer or chemicals.  Rev 091405  DTL Rev 110107 DTL",null,null,null,null,null,1,null,140,null,"Cultivator, row between beds",null,null,null,null,null,null,null,null,null,null,null,"Subsoiler, in row strip conditioner"]
[208,null,"Harrow, rotary paddle wheel and spike gangs",0.73,"Rotary Harrow with ground driven with single rotor gang and rotary spike tine gang covering the full width of the machine.  Typified by the  \"To the Max Harrow\" machine.This record represents operation on unridged ground where the weight of the machine is distriibuted across 100% of the working width. 020811 DTL",null,null,null,null,null,1,null,141,null,"Cultivator, row, high residue ",null,null,null,null,null,null,null,null,null,null,null,"Subsoiler, in row strip conditioner, 40 in row"]
[209,null,"Harrow, rotary, light, fluff fragile residue",0.44,"Rotary Harrow on fragile residue such as soybean or vegetable crop residues.  Used preplant in No-till to \"fluff\" fragile residue.  Rotary harrow set to low angle of aggression of 25% or less.  Rev 091405DTL",null,null,null,null,null,1,null,142,null,"Disk, inter row strips",null,null,null,null,null,null,null,null,null,null,null,"Subsoiler, inline heavy shanks with coulter caddy"]
[210,null,"Harrow, rotary, light, fluff residue",0.44,"Rotary harrow used preplant in No-till to \"fluff\" residue.  Rotary harrow set to low angle of aggression of 25 degrees or less to lift residue with minimal soil mixing.  Rev 091405 DTL",null,null,null,null,null,1,null,143,null,"Disk, offset, heavy  ",null,null,null,null,null,null,null,null,null,null,null,"Subsoiler, inline with coulter caddy"]
[211,null,"Harrow, spike tooth",0.34,"6/7/01 DTL",null,null,null,null,null,1,null,144,null,"Disk, offset, heavy 12 in depth",null,null,null,null,null,null,null,null,null,null,null,"Subsoiler, rlng stlk chpr, roller, mulch treader"]
[212,null,"Harrow, spike tooth, cover seed",0.34,"Revised to represent harrowing to smooth and cover after seeding or planting crops such as, peas, potatoes, grass/alfalfa,etc. 8/24/05, tmg DTL 082405",null,null,null,null,null,1,null,145,null,"Disk, offset, heavy 15 in depth",null,null,null,null,null,null,null,null,null,null,null,"Subsoiler, wide spacing"]
[213,null,"Harrow, tine, on beds",0.22,"Drag with light harrow or chain link fence panel on existing beds.  11/17/01 DTL",null,null,null,null,null,1,null,146,null,"Disk, oxen, strip 30 pct disturb",null,null,null,null,null,null,null,null,null,null,null,"Subsoiler; Stalk chopper, rolling"]
[214,null,"Harvest, banana",0.35,"Harvest banana cut stem and leave all residue on the surface.  The begin growth process calls in a new veg file.  Select the next banana year.  03-27-02 DTL ",null,null,null,null,null,1,null,147,null,"Disk, oxen, strip 60 pct disturb",null,null,null,null,null,null,null,null,null,null,null,"Sweep plow 20-40 in wide "]
[215,null,"Harvest, banana remove stem",3.6,"Harvest banana, cut down stem and remove stem from the field.  90% of the standing residue is removed.  Calls in a new growth file.  User must select the next year banana file.  03-27-02 DTL  ",null,null,null,null,null,1,null,148,null,"Disk, single gang",null,null,null,null,null,null,null,null,null,null,null,"Sweep plow wider  than 40 in with mulch treader"]
[216,null,"Harvest, broccoli and cauliflower",1.35,"6/7/01 DTL",null,null,null,null,null,1,null,149,null,"Disk, tandem heavy primary op.",null,null,null,null,null,null,null,null,null,null,null,"Sweep plow, under bed"]
[217,null,"Harvest, cabbage and head lettuce ",1.35,"REV 092304 DTL",null,null,null,null,null,1,null,150,null,"Disk, tandem light finishing ",null,null,null,null,null,null,null,null,null,null,null,"Sweep plow, wider than 40 in "]
[218,null,"Harvest, cabbage and head lettuce, hand",0.35,"Hand harvest of cabbage or head lettuce REV 092304 DTL",null,null,null,null,null,1,null,151,null,"Disk, tandem secondary op.",null,null,null,null,null,null,null,null,null,null,null,"Sweep, single under row"]
[219,null,"Harvest, combine windrows",0.35,"Represents peanut or dry bean harvester with a pickup reel that pulls the previously undercut crop windrow into the threshing unit.  Entire plant and some of the roots are run through, separating the peanuts or beans from the residue and placing the residue back on the ground. 042808 DTL",null,null,null,null,null,1,null,152,null,"Furrow diker",null,null,null,null,null,null,null,null,null,null,null,"Sweep, single under row, regrow perennial"]
[220,null,"Harvest, corn cobbage or earlage",1.53,"Represents a combine or picker designed to harvest high moisture grain and the cobs.  Ears and husks are snapped from stalks as they pass between snapping rolls.  Husks and cob passes through machine and cobs crushed and mixed with the grain.  Rev 021109 DTL",null,null,null,null,null,1,null,153,null,"Furrow shaper, torpedo",null,null,null,null,null,null,null,null,null,null,null,"Weed control, hoeing in row"]
[221,null,"Harvest, corn grain and 60pct of residue mass",1.91,"Represents biomass harvest equipment on a combine .  Shelled corn is harvested normally but in addition the upper 60 percent of the plant is cut and removed leaving approximately 30 inch standing stubble.  101506 DTL",null,null,null,null,null,1,null,154,null,"Harrow, coiled tine",null,null,null,null,null,null,null,null,null,null,null,"Weed control, manual hoe"]
[222,null,"Harvest, corn grain and cobs",1.53,"Represents a combine or picker designed to harvest the grain and the cobs.  Ears and husks are snapped from stalks as they pass between snapping rolls.  Husks and cob passes through machine and grain is shelled from the cobs.  Cobs are separated from the chaff and husks and are collected separately from the grain.  100608 DTL",null,null,null,null,null,1,null,155,null,"Harrow, heavy",null,null,null,null,null,null,null,null,null,null,null,"Weed control, string trimmer"]
[223,null,"Harvest, corn grain and part of stover, 14 inch stubble",1.53,"Represents biomass harvest equipment on a combine.  Shelled corn is harvested normally but in addition, 80 percent of the plant biomass  is cut and removed leaving approximately 14 inch standing stubble.  101506 DTL",null,null,null,null,null,1,null,156,null,"Harrow, heavy on heavy resdue",null,null,null,null,null,null,null,null,null,null,null,"Weeder, finger weeder"]
[224,null,"Harvest, corn silage with cover crop",0.95,"Harvest corn silage with cover crop.  This operation is used when harvesting silage that has a growing cover understory.  This operation calls in a new growth file.  User selects an interseeded growing cover file such as \"Rye, cereal interseeded growing cover\" representing the release of growing cover on the day of silage harvest.  6/7/01 DTL",null,null,null,null,null,1,null,157,null,"Harrow, rotary"]
[225,null,"Harvest, cotton",1.53,"Represents cotton harvest equipment not followed immediately by a shredder.  A shredder operation is need following this harvest operation to flatten the cotton or else the stalks stay standing until the next tillage operation.  10/26/01 DTL",null,null,null,null,null,1,null,158,null,"Harrow, rotary, light, fluff fragile residue"]
[226,null,"Harvest, cotton and shred",2.35,"6/7/01 DTL  Use when cotton is shredded.  If cotton harvest is not followed immediately by a shredder use the Harvest, cotton operation.  ",null,null,null,null,null,1,null,159,null,"Harrow, rotary, light, fluff residue"]
[227,null,"Harvest, cranberries",0.35,"Harvest cranberries. Rev101205DTL",null,null,null,null,null,1,null,160,null,"Harrow, spike tooth"]
[228,null,"Harvest, cut flowers",1.35,"11/27/01 DTL",null,null,null,null,null,1,null,161,null,"Harrow, spike tooth, cover seed"]
[229,null,"Harvest, dig root crops 12 in depth res. buried",2.1,"Harvest, root crops like potatoes or carrots.  12 inch depth Surface is rough with 4\" ridges and much of the residue is buried.  rev 100108DTL",null,null,null,null,null,1,null,162,null,"Harrow, tine, on beds"]
[230,null,"Harvest, dig root crops 12 in depth res. on surf",1.87,"Harvest, root crops like potatoes or sugar beets.  12 inch depth  Surface is rough with 4\" ridges and much of the residue is left on the surface.  rev 100108 DTL",null,null,null,null,null,1,null,164,null,"Knife, windrow dry beans"]
[231,null,"Harvest, dig root crops res. buried",1.87,"Harvest, root crops like potatoes or sugar beets.  Surface is rough with 4\" ridges and much of the residue is buried.  Rev 100108 DTL",null,null,null,null,null,1,null,165,null,"Para-plow or para-till"]
[232,null,"Harvest, dig root crops res. buried 10in ridge",2.1,"Harvest, root crops like potatoes or sugar beets.  Surface is rough with 10\" ridges and much of the residue is buried.  100108DTL",null,null,null,null,null,1,null,166,null,"Pasture renovator"]
[233,null,"Harvest, dig root crops res. on surf ",1.87,"Harvest, root crops like potatoes or sugar beets.  Surface is rough with 4\" ridges and much of the residue is left on the surface.  rev 100108 DTL",null,null,null,null,null,1,null,167,null,"Plow, deep, large, moldboard"]
[234,null,"Harvest, forage sorghum",0.95,"Harvest forage sorghum 11/18/01 DTL",null,null,null,null,null,1,null,168,null,"Plow, disk"]
[235,null,"Harvest, fruit crops",0.35,"Hand pick fruit crops with no disturbance of soil or reduction in canopy.  Pineapple, citrus, apples etc.  111605 DTL",null,null,null,null,null,1,null,169,null,"Plow, moldboard"]
[236,null,"Harvest, grain, grow cover",1.53,"Harvest grain with interseeded cover crop.  Kills current crop and calls in new growth.  User must select a vegetation that represents a growng cover crop with some roots and canopy on day 0.Represents modern harvest equipment like a combine with a corn head or grain header. 6/7/01DTL",null,null,null,null,null,1,null,170,null,"Plow, moldboard 10 inch depth"]
[237,null,"Harvest, grass or legume seed, burn forage",3.6,"Harvest grass seed and remove the vegetative material with high intensity burning.  Vegetation is cut at 12 to 15 inches high and run through a combine to thresh the seed.  Windrows and remaining stubble is burned.  071807 DTL",null,null,null,null,null,1,null,171,null,"Plow, moldboard 6-7 inch depth"]
[238,null,"Harvest, grass or legume seed, leave forage",1.53,"Harvest grass or legume seed at 12 to 15  inch cutter bar height with a swather, running this material through the seperator and  blowing it out the back of the combine leaving this forage on the field as flat residue.  Harvests seed and calls in new growth.  User must select a regrowth vegetation record.  Represents cutting, windrowing and threshing with a combine with a pickup reel header. 042908  DTL",null,null,null,null,null,1,null,172,null,"Plow, moldboard, conservation"]
[239,null,"Harvest, grass or legume seed, remove forage",3.6,"Harvest grass seed and remove the vegetative material as hay.  Vegetation is cut at 4 to 6 inches high,  windrowed and run through a combine to thresh the seed.  Windrows are baled and removed.  042908 DTL",null,null,null,null,null,1,null,173,null,"Plow, moldboard, up hill"]
[240,null,"Harvest, grass seed, remove forage ",3.6,"Harvest grass seed and remove the vegetative material as hay or burning.  Vegetation is cut at 4 to 6 inches high and run through a combine to thresh the seed.  Windrows are removed or burned.  071807 DTL rev 021109 DTL",null,null,null,null,null,1,null,174,null,"Plow, oxen 12 in ridge"]
[241,null,"Harvest, hand pick",1E-8,"Hand pick lettuce or similar crops or to represent one final picking of fruit or berry crops.  Do not use for multiple pickings of fruit or berry crops unless a regrowth vegetation file representing regrowth between pickings is available in the database to be called in.  This is not the case for strawberries.  12132011 DTL",null,null,null,null,null,1,null,175,null,"Plow, oxen 18 in ridge"]
[242,null,"Harvest, hand pick ",1E-8,"Hand pick strawberries or similar crops.  03-12-02 DTL",null,null,null,null,null,1,null,176,null,"Plow, oxen on 6 in ridge"]
[243,null,"Harvest, hand pick multiple times",0.35,null,null,null,null,null,null,1,null,177,null,"Plow, oxen, strip 30 pct disturb"]
[244,null,"Harvest, hand pick vegetables",0.35,"Hand pick tomato, artichoke, peppers, strawberries or similar crops with multiple harvests from the same plants.  12132011 DTL",null,null,null,null,null,1,null,178,null,"Plow, oxen, strip 60 pct disturb"]
[245,null,"Harvest, hand pull",0.35,"Hand harvest bulb crops like onions or garlic  leaving 4\" diameter holes that are 3 to 5\" deep.   rev021109 DTL rev energy use 121311 LOS",null,null,null,null,null,1,null,179,null,"Plow, reversable"]
[246,null,"Harvest, hay set date",3.6,null,null,null,null,null,null,1,null,180,null,"Residue, row cleaner"]
[247,null,"Harvest, hay set season, start and end ht",3.6,null,null,null,null,null,null,1,null,181,null,"Rice residue stomper"]
[248,null,"Harvest, hay, grass",1.92,"Harvest pure grass hay  with 15% of biomass remaining.  Use Harvest, legume hay for legume or grass legume mixed hay.  11/08/01 DTL Rev 102307DTL reduced diesel use per area 9/01/11 DTL",null,null,null,null,null,1,null,182,null,"Rodweeder"]
[249,null,"Harvest, hay, legume ",1.92,"Harvest legume hay crops such as Alfalfa and Red clover and grass-legume mixed hay such as Alfalfa-Bromegrass.  Use \"Harvest, grass hay\" for pure grass hay. Rev 11/17/01 DTL Rev 102307DTL reduced diesel use per area rev 90111 dtl",null,null,null,null,null,1,null,183,null,"Roller harrow"]
[250,null,"Harvest, hay, no regrowth",1.92,"Hay harvest with no regrowth. Use to harvest crops like oat hay or other annuals which are killed by hay harvest.  10/27/01 DTL  reduced diesel use per area 9/1/11 DTL",null,null,null,null,null,1,null,184,null,"Roller, corrugated packer "]
[251,null,"Harvest, hops",0.95,"Harvest hops from wires with 4 foot vine remaining  053007 TMG and DTL",null,null,null,null,null,1,null,185,null,"Roller, corrugated packer 6 by 16"]
[252,null,"Harvest, kenaf",1.53,"Sugarcane harvest, new style equipment 8/23/01 Aycock and Lightle",null,null,null,null,null,1,null,186,null,"Roller, on beds "]
[253,null,"Harvest, killing crop 10pct standing stubble",1.53,"Represents modern harvest equipment like a combine with a corn head or grain header. Very low stubble height.   Stubble height 10% of plant height.   012210DTL",null,null,null,null,null,1,null,187,null,"Roller, residue "]
[254,null,"Harvest, killing crop 20pct standing stubble",1.53,"Represents modern harvest equipment like a combine with a corn head or grain header. Very low stubble height.   Stubble height 20% of plant height.   081004DTL",null,null,null,null,null,1,null,188,null,"Roller, residue incorporator"]
[255,null,"Harvest, killing crop 20pct standing stubble, release cover crop",1.53,"Harvest grain with interseeded cover crop.  20% standing stubble.  Kills current crop and calls in new growth.  User must select a vegetation that represents a growng cover crop with some roots and canopy on day 0 of the growth curve when released by harvest of main crop.  Represents modern harvest equipment like a combine with a corn head or grain header. Use as typical harvest machine with typical stubble height for small grains or soybeans . 100207DTL",null,null,null,null,null,1,null,189,null,"Roller, row shaper"]
[256,null,"Harvest, killing crop 30pct standing stubble",1.53,"Represents modern harvest equipment like a combine with a corn head or grain header. Low stubble height. Rev090104 DTL",null,null,null,null,null,1,null,190,null,"Roller, smooth "]
[257,null,"Harvest, killing crop 50pct standing stubble",1.53,"Represents modern harvest equipment like a combine with a corn head or grain header. Use as typical harvest machine with typical stubble height for small grains or corn . All residue is returned to the field as either standing or flat residue. rev 090104 DTL",null,null,null,null,null,1,null,191,null,"Rolling basket incorporator"]
[258,null,"Harvest, killing crop 50pct standing stubble, release cover crop",1.53,"Harvest grain with interseeded cover crop.  50% standing stubble.  Kills current crop and calls in new growth.  User must select a vegetation that represents a growng cover crop with some roots and canopy on day 0 of the growth curve when released by harvest of main crop.  Represents modern harvest equipment like a combine with a corn head or grain header. Use as typical harvest machine with typical stubble height for small grains or corn . 100207DTL",null,null,null,null,null,1,null,192,null,"Root rake"]
[259,null,"Harvest, killing crop 60pct standing stubble",1.53,"Represents modern harvest equipment like a combine with a corn head or grain header. Moderately high stubble height.  rev090104 DTL",null,null,null,null,null,1,null,193,null,"Rotary hoe"]
[260,null,"Harvest, killing crop 70pct standing stubble",1.53,"Represents modern harvest equipment like a combine with a corn head or grain header. High stubble height. rev090104 DTL",null,null,null,null,null,1,null,194,null,"Rotary hoe, residue"]
[261,null,"Harvest, knife, windrow, combine",3.4,"2/95 DDB MN & ND Knife or undercut field beans.   Bean stems and some roots placed  in a windrow for harvest.  This operation undercuts the plant and lifts, and windrows the plants. Also includes the harvest which occurs a few days later and spreads the residue back on the disturbed surface.  Rev 043008 DTL  Revised energy  use rev 071711 ggf",null,null,null,null,null,1,null,195,null,"Rototiller, field"]
[262,null,"Harvest, lavender bundles",0.35,"Harvest lavender bundles by hand with 24 inch stubble height  051705 DTL",null,null,null,null,null,1,null,196,null,"Rototiller, field, add residue"]
[263,null,"Harvest, leafy veg.",0.35," Harvest greens with no regrowth. Use to harvest crops like    Spinach, kale, chard, beet greens 12-10-01 DTL",null,null,null,null,null,1,null,197,null,"Rototiller, on beds"]
[264,null,"Harvest, leafy veg. mechanical",0.35,"Harvest leafy vegetables with regrowth. Use to make multiple harvests of crops like Spinach, kale, chard, beet greens 030107 DTL",null,null,null,null,null,1,null,198,null,"Rototiller, row cult add residue"]
[265,null,"Harvest, legume seed, remove forage ",3.6,"Harvest legume seed such as Alfalfa and Red clover and remove the vegetative material as hay or burning.  Vegetation is cut at 4 to 6 inches high and run through a combine to thresh the seed.  Windrows are removed or burned.  071807 DTL",null,null,null,null,null,1,null,199,null,"Rototiller, row cultivator "]
[266,null,"Harvest, onions",0.46,"Harvest onions, after bulbs have been lifted out of the ground with a rod weeder to dry.  Increased flattening fraction. 08/31/11 GGF",null,null,null,null,null,1,null,200,null,"Scarifier"]
[267,null,"Harvest, orchard and nut crops",0.35,"Hand or mechanical harvest of orchard fruit or nut crops where little if any ground disturbance occurs, no ground vegetation or residue is removed, but some standing residue is flattened due to traffic. 032604 DTL",null,null,null,null,null,1,null,202,null,"Seedbed conditioner, coulter caddy, coil tine har"]
[268,null,"Harvest, peanut digger ",1.87,"Smooth soil surface (roughness) left after harvest like a peanut digger. Vee blades undercut the peanut rows but lateral fracturing and soil splash cause soil disturbance over the entire surface.  This operation digs the plant and lifts, inverts and windrows the plants. Also includes the harvest which occurs a few days later and spreads the residue back on the disturbed surface.  Rev110608  DTL",null,null,null,null,null,1,null,203,null,"Seedbed conditioner, coulter caddy, coil tine har, rlng bskt"]
[269,null,"Harvest, plantains,stalks left",1.87,"Harvest plantains or bananas, stalks left  092104 DTL",null,null,null,null,null,1,null,204,null,"Seedbed conditioner, coulter caddy, rtry har"]
[270,null,"Harvest, plantains,stalks removed",3.6,"Harvest plantains or bananas, stalks removed  092104 DTL",null,null,null,null,null,1,null,205,null,"Seedbed conditioner, coulter caddy, rtry har, rlng bskt"]
[271,null,"Harvest, residue, forage chopper, complete",0.73,"Flail chopper harvester used to harvest residue. High removal  022509 DTL",null,null,null,null,null,1,null,206,null,"Seedbed conditioner, coulter caddy, spk har"]
[272,null,"Harvest, residue, forage chopper, incomplete",0.73,"Flail chopper harvester used to harvest residue. Incomplete removal  022509 DTL",null,null,null,null,null,1,null,207,null,"Seedbed conditioner, coulter caddy, spk har, rlng bskt"]
[273,null,"Harvest, residue, forage chopper, intermediate",0.73,"Flail chopper harvester used to harvest residue. Intermediate removal  052308 DTL",null,null,null,null,null,1,null,208,null,"Seedbed finisher "]
[274,null,"Harvest, rootcrops, manually ",0.35,"Hand digging of rootcrops such as potatoes. Rev042808 DTL rev energy use 12132011 los",null,null,null,null,null,1,null,209,null,"Seedbed finisher, fld cult, chop, spk har, rlng bskt"]
[275,null,"Harvest, rootcrops, manually, 25pct of field disturbed",1E-8,"6/20/06 MPR Manually harvest root crops, 25% of field disturbed by harvest operation. Residue left on surface. Developed for upland taro harvest in American Samoa. based on \"Harvest, rootcrops, manually\" file Rev 043008 DTL",null,null,null,null,null,1,null,210,null,"Seedbed finisher, fld cult, mlch trdr"]
[276,null,"Harvest, rootcrops, manually, 33pct of field disturbed",1E-8,"6/20/06 MPR Manually harvest root crops, 33% of field disturbed by harvest operation. Residue left on surface. Developed for upland taro harvest in American Samoa. based on \"Harvest, rootcrops, manually\" file",null,null,null,null,null,1,null,211,null,"Seedbed finisher, fld cult, rtry har"]
[277,null,"Harvest, rootcrops, manually, 50pct of field disturbed",1E-8,"6/20/06 MPR Manually harvest root crops, 50% of field disturbed by harvest operation. Residue left on surface. Developed for upland taro harvest in American Samoa. based on \"Harvest, rootcrops, manually\" file",null,null,null,null,null,1,null,212,null,"Seedbed finisher, sngl disk, fld cult, coil tine har, rollng bskt"]
[278,null,"Harvest, rootcrops, manually, one third",1E-8,"121605 DTL Hand digging of rootcrops such as potatoes.",null,null,null,null,null,1,null,213,null,"Seedbed finisher, sngl disk, rotry har"]
[279,null,"Harvest, seed heads by hand",7.9999999999999996E-6,"Hand harvest seed heads from onions, garlic and similar crops.  11/01/10  GGF.  Developed from Harvest, cut flowers 11/27/01 DTL",null,null,null,null,null,1,null,214,null,"Seedbed finisher, sngl dsk, fld cult, coil tine har"]
[280,null,"Harvest, silage ",0.95,"6/7/01 DTL",null,null,null,null,null,1,null,218,null,"Slip plow 48 to 60 in. deep"]
[281,null,"Harvest, silage 3ft stubble",0.95,"Silage harvest with 36 inch stubble height  030904 DTL",null,null,null,null,null,1,null,219,null,"Stalk chopper, rolling"]
[282,null,"Harvest, small grain haylage 5 in ht",3.6,"Harvest small grain as high moisture haylage  with 5 inch stubble or about 13% of biomass remaining.  rev120408DTL Reduced Energy Use rev041912 DTL",null,null,null,null,null,1,null,220,null,"Stalk chopper, rolling, on ridgetill ridges"]
[283,null,"Harvest, small grain silage with cover crop",0.95,"05/14/03 DTL",null,null,null,null,null,1,null,221,null,"Stalk chopper, rolling, strip"]
[284,null,"Harvest, small grain, release understory",1.53,"Represents a combine with a grain header used to harvest small grain with a live understory crop such as soybeans that were previously planted in the growing small grain. Affects 85% of total biomass and of that 50% is made flat randomly distributed residue and 50% is standing stubble.  Remaining 15% of tolal is live understory crop.  The internal \"begin growth\" process calls in a released understory crop such as \"Soybean, mw 30 in rows, relay cropped.\"   052005 DTL",null,null,null,null,null,1,null,222,null,"Stalk chopper, rotary"]
[285,null,"Harvest, snapper header",1.53,"Represents a combine or picker with a snapper header.  Ears and husks are snapped from stalks as they pass between snapping rolls.  Ears complete with kernels, cob and husks are harvested and removed from the field leaving only the stem and leaf residues. Rev 021109 DTL",null,null,null,null,null,1,null,223,null,"Stalk chopper, strip rotary"]
[286,null,"Harvest, sprig rototiller digger",2.1,"Rototiller mint digger 110210 GGF and DTL",null,null,null,null,null,1,null,224,null,"Stalk puller"]
[287,null,"Harvest, stalk chopping corn header",1.6,"Represents a combine with a corn head with rotating knife blades mounted below knife type stalk rolls.  Stubble is cut low and  the knife rolls cut the stalks into short pieces that are laid on the ground. Very low stubble height about 5 inches flattening about 93% of the residue.  090909 DTL",null,null,null,null,null,1,null,225,null,"Stalk puller high disturbance"]
[288,null,"Harvest, stripper header",1.53,"Represents a combine with a small grain stripper  header. Strips only the head leaving 90% of stem and leaves attached to root crown. 10/28/01 DTL",null,null,null,null,null,1,null,226,null,"Stalk slicer"]
[289,null,"Harvest, sugarcane, after burning ",3.6,"Sugarcane harvest, new style equipment after standing sugar cane is burned.  This operation must be preceeded by the \"Burn sugarane\" operation.  Crop is killed by prior burning operation which converts standing live biomass to dead standing residue after burning off the leaves.  This harvest removes 95% of the standing residue ( stems).  A  rattoon crop is called in by this harvest which user must specify in the management.  Revised 021109 DTL",null,null,null,null,null,1,null,227,null,"Strip till bed conditioner"]
[290,null,"Harvest, sugarcane, after burning, no regrowth",3.6,"Sugarcane harvest, new style equipment after standing sugar cane is burned.  This operation must be preceeded by the \"Burn sugarane\" operation.  Crop is killed by prior burning operation which converts standing live biomass to dead standing residue after burning off the leaves.  This harvest removes 95% of the standing residue ( stems).  No rattoon crop is called in by this harvest.  Revised 021109 DTL",null,null,null,null,null,1,null,228,null,"Striptiller w/middlebuster on beds"]
[291,null,"Harvest, sugarcane, modern",3.6,"Sugarcane harvest, new style equipment 8/23/01 Aycock and Lightle",null,null,null,null,null,1,null,229,null,"Subsoil disk ripper"]
[292,null,"Harvest, sugarcane, old type",3.6,"Sugarcane harvest, old method with high harvest losses 8/23/01 Aycock and Lightle",null,null,null,null,null,1,null,230,null,"Subsoiler "]
[293,null,"Harvest, sugarcane, root rake",1.87,"Harvest sugarcane, with Root Rake  Depth represents depth of incorporated residue. 111605 DTL",null,null,null,null,null,1,null,231,null,"Subsoiler bedder (ripper/hipper)"]
[294,null,"Harvest, timber remove tops",3.6,"Clear cut trees and use chipper.  Most of the material is removed.   062603  DTL",null,null,null,null,null,1,null,232,null,"Subsoiler ripper, 24 to 40 in. deep"]
[295,null,"Harvest, tobacco, burley",0.35,"Harvest of burley tobacco where entire plant is cut and removed leaving only short stubble.  021109 DTL",null,null,null,null,null,1,null,233,null,"Subsoiler, 12 foot spacing"]
[296,null,"Harvest, tobacco, burley, mechanical harvester",1.4,"Harvest of burley tobacco where entire plant is cut and removed leaving only short stubble using a mechanical harvester.  11082011 DTL",null,null,null,null,null,1,null,234,null,"Subsoiler, in row"]
[297,null,"Harvest, tobacco, flue cured",0.35,"Harvest of flue cured tobacco where lower mature leaves are systematically picked and removed leaving only the central stalk.  Use this operation on the date that represents the end of the harvest period.  11/27/01 DTL",null,null,null,null,null,1,null,235,null,"Subsoiler, inline with coulter caddy"]
[298,null,"Harvest, tobacco, flue cured, 1 pass mechanical",1.5,"Mechanical harvest of flue cured tobacco where all leaves are stripped in one pass leaving only the central stalk standing.  The crop is killed and stalks are included in the standing residue pool on the harvest date.  11/03/11 DTL   http://marcomfgllc.us/P6360.htm",null,null,null,null,null,1,null,236,null,"Subsoiler, wide spacing"]
[299,null,"Harvest, tobacco, flue cured, selective mechanical harvest",1.4,"Mechanical harvest of flue cured tobacco where only the more mature lower  leaves are stripped in one pass leaving the remaining upper leaves and the stem alive and  standing.   There is no reduction in canopy since upper leaves are not harvested.  This machine may be used for first and one or more intermediate flue cured tobacco harvests.  Use \"Harvest, tobacco, flue cured, 1 pass mechanical\" for the final harvest.  11/08/11 DTL   ",null,null,null,null,null,1,null,237,null,"Sweep plow 20-40 in wide "]
[300,null,"Harvest, tree buck",3.6,"Tree harvest \"buck\" 3 to 4 lumber length logs harvested per tree.  All limbs and tops left.  07-20-03 DTL",null,null,null,null,null,1,null,238,null,"Sweep plow wider  than 40 in w/ mulch treader  "]
[301,null,"Harvest, tree length logs",3.6,"Tree length logs harvested.  Limbs and tops under 4\"diameter are left on ground in the woods    07-20-03 DTL",null,null,null,null,null,1,null,239,null,"Sweep plow, wider than 40 in "]
[302,null,"Harvest, tree pulpwood cut",3.6,"Tree harvest pulpwood cut.    All limbs and tops left.  07-20-03 DTL",null,null,null,null,null,1,null,240,null,"Sweep, single under row"]
[303,null,"Harvest, tree, Christmas grow cover ",0.35,"Harvest Christmas trees with permanent grass cover.  This operation is used when harvesting Christmas trees that have a growing cover understory.  This operation calls in a new growth file.  User selects a permanent grass cover, not harvested representing the release of growing cover on the day of tree harvest.  This harvest operation assumes all trees are harvested at one time.  8/3/03 DTL",null,null,null,null,null,1,null,241,null,"Weed control, manual hoe"]
[304,null,"Harvest, trees, chipper",3.6,"Clear cut trees and use chipper. The entire tree is chipped and harvested.   071703  DTL",null,null,null,null,null,1,null,242,null,"Weed control, string trimmer"]
[305,null,"Harvest, vine crops",0.35,"Hand pick melons, cucumbers, pumpkins or similar crops such as strawberries.  revised energy use. 12132011 DTL",null,null,null,null,null,1,null,243,null,"Weeder, finger weeder"]
[306,null,"Harvest, vine crops, mechanical",0.35,"Represents harvest equipment like a tomato harvester that pulls the vine and runs the entire plant through, separating the fruits from the residue and placing the residue back on the ground. Some slight soil disturbance .   121604DTL",null,null,null,null,null,1,null,291,null,"Power mulcher bed conditioner"]
[307,null,"Harvest, windrows",1.53,"Represents harvest equipment like a dry bean harvester that pulls a windrow of previously cut biomass through, separating the grain or seed from the residue and placing the residue back on the ground. Some slight soil disturbance .   021909 DTL",null,null,null,null,null,1,null,370,null,"Mulch crimper"]
[308,null,"Harvest, woody biomass",0.95,null,null,null,null,null,null,1,null,371,null,"Mulch treader"]
[309,null,"Hilling, manual hoe",1E-8,"Manually hip or hill rootcrops in small fields using hoe or similar tool that disturbs soil  in the furrows and pitches soil to the top of the beds around the plants.  This operation does not kill existing crop.  102109DTL",null,null,null,null,null,1,null,380,null,"Do all "]
[310,null,"Hydro-seeder",0.35,"Hydro-seeder with mulch. Begins growth.  Applies other residue cover to the surface, none is incorporated.  Select wood cellulose fiber as residue type and specify the amount. Rev 043008 DTL",null,null,null,null,null,1,null,381,null,"Do all, on beds "]
[311,null,"Install Compost Sock",1E-8,"Install Compost Sock 101009 DTL",null,null,null,null,null,1,null,383,null,"Lister, 40 in"]
[312,null,"Install Silt Fence",1E-8,"Manual installation of silt fence 101009 DTL rev06/25/10 DTL",null,null,null,null,null,1,null,384,null,"Middle buster, digger"]
[313,null,"Install Straw Bale",1E-8,"Install a straw bale barrier in accordance with DNR technical standard.  101009 DTL",null,null,null,null,null,1,null,387,null,"Scalper, tree"]
[314,null,"Kill crop",1E-8,"Kills growing crop and puts 50 to 70 % of the live biomass (leaves) into the flat residue pool.   Rev 043008 DTL",null,null,null,null,null,1,null,3,null,"Harvest, banana"]
[315,null,"Knife, windrow dry beans",1.87,"2/95 DDB MN & ND Knife or undercut field beans.   Bean stems and some roots placed  in a windrow for harvest.  This operation undercuts the plant and lifts, and windrows the plants.   Rev 043008 DTL Revised notes to exclude harvest Rev 081811 LOS",null,null,null,null,null,1,null,4,null,"Harvest, banana remove stem"]
[316,null,"Land plane",0.9,"Land plane or land leveler. Rev 032006 DTL",null,null,null,null,null,1,null,5,null,"Harvest, broccoli and cauliflower"]
[317,null,"Land plane; orchard and vine crops",0.9,"Land plane or land leveler in alley ways or rows of tree fruits, nuts, vineyards, etc. Leveling may be for surface irrigation or to smooth surface for nut harvest. 3/17/06; tmgRev 032006 DTL",null,null,null,null,null,1,null,6,null,"Harvest, cabbage and head lettuce "]
[318,null,"Laser Land leveler",0.9,"Laser land leveler . 032006 DTL  ",null,null,null,null,null,1,null,7,null,"Harvest, cabbage and head lettuce, hand"]
[319,null,"Lister, 30 in",0.9,"110207 DTL",null,null,null,null,null,1,null,8,null,"Harvest, corn grain and 60pct of residue mass"]
[320,null,"Lister, 30 in with fert applic.",1.5,"30 in lister 122106 DTL with Minimum disturbance fertilizer injector shank on 15 inch spacing 110207 DTL developed 091611 ggf",null,null,null,null,null,1,null,9,null,"Harvest, corn silage with cover crop"]
[321,null,"Lister, 40 in",0.9,"6/8/01 DTL",null,null,null,null,null,1,null,10,null,"Harvest, cotton"]
[322,null,"Lister, 40 in with fert applic.",1.5,"Combination of Lister 6/8/01 DTL with Minimum disturbance fertilizer injector shank.on 15 inch spacing.  developed 91611 ggf",null,null,null,null,null,1,null,11,null,"Harvest, cotton and shred"]
[323,null,"Log skidder",0.35,"Log skidder 062703 DTL",null,null,null,null,null,1,null,12,null,"Harvest, cranberries"]
[324,null,"Manure injector, liquid high disturb.30 inch",1.56,"Multiply the oven dry weight times an effectiveness factor of 0.5 to calculate the rate of application in model. Manure injector based on a deep ripper or chisel toolbar with manure injected behind and below the ripper shanks Shanks spaced 30 inches apart or more.  This represents the old style injector shank with significant disturbance. About 95% of material applied is incorporated into the soil.   Rev 043008  DTL",null,null,null,null,null,1,null,13,null,"Harvest, cut flowers"]
[325,null,"Manure injector, liquid low disturb.15 inch",1.56,"Multiply the oven dry weight times an effectiveness factor of 0.5 to calculate the rate of application in model.  Manure injector minimum disturbance shanks in 15\" centers with manure injected behind and below the ripper shanks About 95% of material applied is incorporated into the soil.   rev 043008  DTL",null,null,null,null,null,1,null,14,null,"Harvest, dig root crops 12 in depth res. buried"]
[326,null,"Manure injector, liquid low disturb.30 inch",1.56,"Multiply the oven dry weight times an effectiveness factor of 0.5 to calculate the rate of application in model.  Manure injector minimum disturbance shanks in 30\" centers with manure injected behind the ripper shanks and 6 inches below the surface.  About 95% of material applied is incorporated into the soil.   043008 DTL",null,null,null,null,null,1,null,15,null,"Harvest, dig root crops 12 in depth res. on surf"]
[327,null,"Manure injector, low disturb.15 inch",1.56,null,null,null,null,null,null,1,null,16,null,"Harvest, dig root crops res. buried"]
[328,null,"Manure injector, low disturb.30 inch",1.56,null,null,null,null,null,null,1,null,17,null,"Harvest, dig root crops res. buried 10in ridge"]
[329,null,"Manure spreader, liquid",1.23,"Multiply the oven dry weight times an effectiveness factor of 0.5 to calculate the rate of application in model.  Spreading liquid manure.  About 50% of material applied soaks into the soil through cracks and macropores.  rev043008  DTL",null,null,null,null,null,1,null,18,null,"Harvest, dig root crops res. on surf "]
[330,null,"Manure spreader, slurry",1.23,"Multiply the oven dry weight times an effectiveness factor of 0.5 to calculate the rate of application in model.  Manure spreader used to apply slurry. 80 percent of material remains on the surface until incorporated by tillage. 043008 DTL ",null,null,null,null,null,1,null,19,null,"Harvest, forage sorghum"]
[331,null,"Manure spreader, solid and semi-solid",1.23,"When spreading semisolid manure, multiply the oven dry weight times an effectiveness factor of 0.5 to calculate the rate of application in model.  Manure spreader used to apply semi-solid  or solid manure.  All of material remains on the surface until incorporated by tillage. rev043008 DTL ",null,null,null,null,null,1,null,20,null,"Harvest, fruit crops"]
[332,null,"Manure, liquid irrigation",0.35,"Multiply the oven dry weight times an effectiveness factor of 0.5 to calculate the rate of application in model.  Spreading liquid manure via sprinkler irrrigation.  About 50% of material applied soaks into the soil through cracks and macropores.  rev043008 DTL",null,null,null,null,null,1,null,21,null,"Harvest, grain, grow cover"]
[333,null,"Middle buster, digger",0.9,"Middle buster.  Includes use as a  potato digger.  Runs below and down the middle of potato beds to lift and expose potatos or sweet potatoes for later hand harvesting.  11-15-01 DTL",null,null,null,null,null,1,null,22,null,"Harvest, grass or legume seed, burn forage"]
[334,null,"Mow pasture",3.6,null,null,null,null,null,null,1,null,23,null,"Harvest, grass or legume seed, leave forage"]
[335,null,"Mower, swather, on stubble",0.35,"Mow and windrow small grain or other crop stubble.  Flattens standing  material.  Material must be removed as residue using \"Bale straw or residue\" operation.  080704 DTL",null,null,null,null,null,1,null,24,null,"Harvest, grass or legume seed, remove forage"]
[336,null,"Mower, swather, on stubble 4in",0.35,"Mow and windrow small grain or other crop stubble.  Approximately 4 inch stubble left.  Flattens standing  material.  Material must be removed as residue using \"Bale straw or residue\" operation.  111604 DTL",null,null,null,null,null,1,null,25,null,"Harvest, grass seed, remove forage "]
[337,null,"Mower, swather, windrower",0.35,"Mow and windrow crop.  Flattens standing  material and calls in new growth file.  Material must be removed as residue ie Bale straw.  02-14-02 DTL",null,null,null,null,null,1,null,26,null,"Harvest, hand pick "]
[338,null,"Mulch crimper",0.35,"Mulch crimper  A gang of ground driven straight, notched or smooth coulters on a rotating shaft that is used to anchor  straw and other mulch materials by punching it into the coulter slots.  030703 DTL",null,null,null,null,null,1,null,27,null,"Harvest, hand pull"]
[339,null,"Mulch treader",0.35,"Mulch Treader flattens and achors straw and stubble by placing some soil on loose residue.  Also called skew treader, or picker treader. 101806  DTL",null,null,null,null,null,1,null,28,null,"Harvest, hay, grass"]
[340,null,"No operation",1E-8,"6/8/01 DTL",null,null,null,null,null,1,null,29,null,"Harvest, hay, legume "]
[341,null,"Para-plow or para-till",1.56,"Paratill or Paraplow  consisting of bent leg shanks that disturb less than 30% of the surface but the \"legs\" lift and fracture at least 75% of the soil between the shanks to a depth below the plow layer.  This fracturing is considered surface disturbance.  Shank spacing varies but is typically 30\".  05-21-02 DTL",null,null,null,null,null,1,null,30,null,"Harvest, hay, no regrowth"]
[342,null,"Pasture renovator",0.48,"Pasture renovator.  A gang of ground driven straight, notched or smooth coulters on a rotating shaft that is used make slots in the sod to allow seed to enter the soil. Seed may either be applied with this operation or broadcast separately.  Existing stand is not killed.  Utilize a regrowth file for same crop.  032205 DTL",null,null,null,null,null,1,null,31,null,"Harvest, kenaf"]
[343,null,"Paving",3.6,"Paving with Concrete or Asphalt 071404DTL",null,null,null,null,null,1,null,32,null,"Harvest, killing crop 20pct standing stubble"]
[344,null,"Permeable weed barrier applicator",0.39,"Permeable weed barrier covering 40% of the surface having 50% permeability. 12-19-01 DTL rev06/25/10 DTL",null,null,null,null,null,1,null,33,null,"Harvest, killing crop 30pct standing stubble"]
[345,null,"Planter, double disk opener on 12 inch high beds",0.44,"Double disk opener planter on existing 12 inch high beds or ridges leaving a 10 inch ridge after planting.  11/13/02 DTL",null,null,null,null,null,1,null,34,null,"Harvest, killing crop 50pct standing stubble"]
[346,null,"Planter, double disk opener on 15 inch high beds",0.44,"Double disk opener planter on existing 15 inch high beds or ridges leaving a 14 inch ridge after planting.  11/13/02 DTL",null,null,null,null,null,1,null,35,null,"Harvest, killing crop 60pct standing stubble"]
[347,null,"Planter, double disk opener on 18 inch high beds",0.44,"Double disk opener planter on existing 18 inch high beds or ridges leaving a 16 inch ridge after planting.  11/13/02 DTL",null,null,null,null,null,1,null,36,null,"Harvest, killing crop 70pct standing stubble"]
[348,null,"Planter, double disk opener on 8 inch high beds",0.44,"Double disk opener planter on existing 8 inch high beds or ridges leaving a 6 inch ridge after planting.  11/13/02 DTL",null,null,null,null,null,1,null,37,null,"Harvest, lavender bundles"]
[349,null,"Planter, double disk opnr ",0.44,"6/7/01 DTL",null,null,null,null,null,1,null,38,null,"Harvest, leafy veg."]
[350,null,"Planter, double disk opnr with fluted coulter ",0.54,"REVISED102403 DTL",null,null,null,null,null,1,null,39,null,"Harvest, legume seed, remove forage "]
[351,null,"Planter, double disk opnr with fluted coulter with starter fertilizer",0.65,"REVISED102403 DTL revised planter, double disk opnr w/fluted coulter to add starter fertilizer operation. rev 083011 LOS",null,null,null,null,null,1,null,40,null,"Harvest, orchard and nut crops"]
[352,null,"Planter, double disk opnr with fluted coulter, 15 inch row spacing",0.74,"No-till planter with double disk openers and fluted coulters on 15 inch row spacing.  Typical of planters with splitter uints or as separate planting operations done with guidance systems by doubling back over the field to split the original row middles with a second set of 30 inch rows to create a 15 inch effective row spacing. 080806 DTL",null,null,null,null,null,1,null,41,null,"Harvest, peanut digger "]
[353,null,"Planter, double disk opnr with starter fertilizer",0.53,"6/7/01 DTL revised planter, double disk opnr to add starter fertilizer operation. rev 8/30/11 LOS",null,null,null,null,null,1,null,42,null,"Harvest, plantains,stalks left"]
[354,null,"Planter, double disk opnr, 15 inch row spacing",0.64,"Planter with double disk openers on 15 inch row spacing.  Typical of planters with splitter units or as seprate planting operations done with guidance systems by doubling back over the field to split the original row middles with a second set of 30 inch rows to create a 15 inch effective row spacing. 080806 DTL",null,null,null,null,null,1,null,43,null,"Harvest, plantains,stalks removed"]
[355,null,"Planter, double disk opnr, 18 in rows",0.64,"10/18/01 DTL",null,null,null,null,null,1,null,44,null,"Harvest, rootcrops, manually "]
[356,null,"Planter, double disk opnr, 40 in rows",0.44,"Row crop planter on 40 inch row spacing not on ridges or beds.  040808 DTL",null,null,null,null,null,1,null,45,null,"Harvest, rootcrops, manually, 25pct of field disturbed"]
[357,null,"Planter, furrow opener in 4 inch deep furrows",0.44,"Furrow opener planter leaving 4 inch furrows or ridges after planting.  040708 DTL",null,null,null,null,null,1,null,46,null,"Harvest, rootcrops, manually, 33pct of field disturbed"]
[358,null,"Planter, furrow opener in 6 inch deep furrows",0.6,"Furrow opener planter leaving 6 inch furrows or ridges after planting.  Seed planted in the furrows.11/13/02 DTL",null,null,null,null,null,1,null,47,null,"Harvest, rootcrops, manually, 50pct of field disturbed"]
[359,null,"Planter, furrow opener in 8 inch deep furrows",0.8,"Furrow opener planter leaving 6 inch furrows or ridges after planting.  Seed planted in the furrows.11/13/02 DTL",null,null,null,null,null,1,null,48,null,"Harvest, rootcrops, manually, one third"]
[360,null,"Planter, in-row subsoiler",2.1,"Planter, in-row chisel or subsoiler consisting of double disk opener planter units running behind  shanks that disturb less than 40% of the surface but lift and fracture the soil to a depth below the plow layer.  Shank spacing varies but is typically 30\".  050802 DTL",null,null,null,null,null,1,null,49,null,"Harvest, silage "]
[361,null,"Planter, in-row subsoiler low disturbace",2.1,"Planter, in-row chisel or subsoiler consisting of double disk opener planter units running behind  shanks that disturb less than 10% of the surface.  Shank spacing varies but is typically 30\".  052302 DTL",null,null,null,null,null,1,null,50,null,"Harvest, silage 3ft stubble"]
[362,null,"Planter, in-row subsoiler with residue mgr.",2.1,"Planter, in-row chisel or subsoiler consisting of double disk opener planter units running behind  shanks that disturb less than 25% of the surface.  Shank spacing varies but is typically 30\".  052302 DTL",null,null,null,null,null,1,null,51,null,"Harvest, small grain silage with cover crop"]
[363,null,"Planter, narrow slot with smooth or rippled coulter ",0.39,"Narrow no-till planter on 30 inch row spacing.  Minimal disturbance and burial.  052302  DTL",null,null,null,null,null,1,null,52,null,"Harvest, small grain, release understory"]
[364,null,"Planter, potato, 6 in beds",0.75,"Potato  planter on existing 6 inch high beds or ridges leaving a 6 inch ridge after planting.  11/13/02 DTL",null,null,null,null,null,1,null,53,null,"Harvest, snapper header"]
[365,null,"Planter, RELAY INTERCROP,  double disk opnr with fluted coulter",0.44,null,null,null,null,null,null,1,null,54,null,"Harvest, stripper header"]
[366,null,"Planter, RELAY INTERCROP,  double disk opnr with fluted coulter",0.44,"Planter with double disk openers and fluted coulters used in No-till relay intercropped soybeans in growing wheat.  This operation has no kill crop process thus the live wheat biomass is not converted to standing and flat residue.  Use about 60 days before wheat harvest to plant 30 inch soybeans in skip row wheat. 051905  DTL",null,null,null,null,null,1,null,55,null,"Harvest, sugarcane, after burning "]
[367,null,"Planter, ridge till",0.62,"6/7/01 DTL",null,null,null,null,null,1,null,56,null,"Harvest, sugarcane, after burning, no regrowth"]
[368,null,"Planter, runner opener",0.44,"Runner shoe planter with metal presswheels.  Based on core Conventional Row Planter with runner openers.  O50902 DTL",null,null,null,null,null,1,null,57,null,"Harvest, sugarcane, modern"]
[369,null,"Planter, small veg seed",0.36,"Small seed planter like used in planting small seeded vegetables in 25 to 30\" rows.  Shallow depth and minimal disturbance in fine seedbed.  Like Planet Junior.  12-10-01 DTL",null,null,null,null,null,1,null,58,null,"Harvest, sugarcane, old type"]
[370,null,"Planter, small veg seed on 8 inch high beds",0.36,"Small seed planter like used in planting small seeded vegetables in 25 to 30\" rows on 8 inch high beds or ridges.  Shallow depth and minimal disturbance in fine seedbed.  Like Planet Junior.  Surface is left ridged.  11-15-02 DTL",null,null,null,null,null,1,null,59,null,"Harvest, sugarcane, root rake"]
[371,null,"Planter, sprig conventional",0.4,"Planter used to plant sprigs.  Similar to a light finishing disk Rev043008 DTL",null,null,null,null,null,1,null,60,null,"Harvest, timber remove tops"]
[372,null,"Planter, sprig, no-till",0.39,"Grass clippings or sprigs are planted with little soil disturbance.  Use for No-till or manual sprigging.  from RUSLE1.06.  Rev 050108 DTL.",null,null,null,null,null,1,null,61,null,"Harvest, tobacco, burley"]
[373,null,"Planter, sprigs on beds",0.45,"Sprig planter on beds 110210 GGF and DTL",null,null,null,null,null,1,null,62,null,"Harvest, tobacco, flue cured"]
[374,null,"Planter, strip till",0.62,"6/7/01 DTL",null,null,null,null,null,1,null,63,null,"Harvest, tree buck"]
[375,null,"Planter, strip till, 22 inch",0.62,"6/7/01 DTL",null,null,null,null,null,1,null,64,null,"Harvest, tree length logs"]
[376,null,"Planter, strip till, shallow subsoiler",2.4,"In-row chisel or subsoiler shanks that disturb less than 40% of the surface but lift and fracture the soil to a depth of about 6-10\".  Followed by multiple fluted coulters and a narrow rolling basket or firming wheel and then followed by a planter assembly with double disk openers. Shank spacing varies but is typically 30\".  030509 DTL edited 09-16-11 GGF",null,null,null,null,null,1,null,65,null,"Harvest, tree pulpwood cut"]
[377,null,"Planter, strip till, subsoiler",2.4,"In-row chisel or subsoiler shanks that disturb less than 40% of the surface but lift and fracture the soil to a depth below the plow layer.  Followed by multiple fluted coulters and a narrow rolling basket or firming wheel and then followed by a planter assembly with double disk openers. Shank spacing varies but is typically 30\".  030509 DTL edited 09-16-11 GGF",null,null,null,null,null,1,null,66,null,"Harvest, tree, Christmas grow cover "]
[378,null,"Planter, sugarcane ",0.44,"Rev 043008 DTL",null,null,null,null,null,1,null,67,null,"Harvest, trees, chipper"]
[379,null,"Planter, transplanter, vegetable ",0.8,"Vegetable transplanter.10/18/10 DTL",null,null,null,null,null,1,null,68,null,"Harvest, vine crops"]
[380,null,"Planter, transplanter, vegetable on 8 inch high beds",0.8,"Vegetable transplanter on 8 inch beds or ridges.11/15/02  DTL",null,null,null,null,null,1,null,69,null,"Harvest, vine crops, mechanical"]
[381,null,"Planter, transplanter, vegetable, no-till ",0.9,"10/18/01 DTL",null,null,null,null,null,1,null,70,null,"Mower, swather, on stubble"]
[382,null,"Planter, tree, mechanical transplanter ",2.1,"Tree Planter, similar to an in-row chisel or subsoiler opener running behind  a large coulter, followed by a pair of rubber tire presswheels to close the furrow on the tree seedling.  Used for planting Christmas trees and for reforestation.  080503 DTL",null,null,null,null,null,1,null,71,null,"Mower, swather, on stubble 4in"]
[383,null,"Planting, broadcast interseeder",0.13,null,null,null,null,null,null,1,null,72,null,"Mower, swather, windrower"]
[384,null,"Planting, broadcast seeder",0.13,"Broadcast seeding. Begins growth .    11/30/01 DTL",null,null,null,null,null,1,null,75,null,"Shredder, flail or rotary, filberts and pecans"]
[385,null,"Planting, hand 10 percent dist.",1E-8,"Hand planting with 10% disturbance 12-12-01 DTL",null,null,null,null,null,1,null,79,null,"Sod cutter"]
[386,null,"Planting, hand 5 percent dist.",1E-8,{"$error":"#N/A"},null,null,null,null,null,1,null,80,null,"Tree spade, holes left "]
[387,null,"Planting, manual",1E-8,"'Drip Tape extractor (similar to Sundance Tape extractor) 040805 DTL "]
[388,null,"Planting, manual on 8 inch high beds",1E-8,"'Rotary or flail detasseling machine used to remove seed corn tassels.  When using this operation in a management record, specify corn residue and amount cut and placed on the surface.   031405 DTL '"]
[389,null,"Planting, no-til manually",1E-8,"'Continuous Grazing system. Long duration grazing periods 12-20-01 DTL'"]
[390,null,"Plastic hoop tunnel installation 100 percent cover",0.27,"'Continuous Grazing system. Represents overgrazing.  Long duration grazing periods Rev 070904 DTL'"]
[391,null,"Plastic hoop tunnel installation 50 percent cover",0.27,"'Graze continuous heavy hoof traffic.  Represents dairy night pastures or holding lots with daily heavy hoof traffic and overgrazing.  101506 DTL'"]
[392,null,"Plastic hoop tunnel installation 75 percent cover",0.27,"'Intensive Rotatioal Grazing system with 85&per; of growth removed with each grazing cycle.12-20-01 DTL'"]
[393,null,"Plastic hoop tunnel installation on beds 50 percent cover",0.27,"'Rotational Grazing system with 50&per; of growth removed with each grazing cycle.12-20-01 DTL'"]
[394,null,"Plastic hoop tunnel installation on beds 75 percent cover",0.27,"'Grazing of crop residue such as corn stalks or cotton.  10/26/01 DTL'"]
[395,null,"Plastic hoop tunnel removal on beds",0.39,"'Moderate grazing of crop residue such as corn stalks or cotton.  112003 DTL'"]
[396,null,"Plastic hoop tunnel, removal",0.39,"'Heavy grazing of crop residue such as corn stalks or cotton.  112003 DTL'"]
[397,null,"Plastic mulch applic. 40 inch beds 100 percent cover",0.27,"'Very heavy grazing of crop residue such as corn stalks or cotton.  112003 DTL'"]
[398,null,"Plastic mulch applic. 40 inch beds 75 percent cover",0.27,"'Log skidder 062703 DTL'"]
[399,null,"Plastic mulch applic. 48 inch beds 100 percent cover",0.27,"'Mulch crimper  A gang of ground driven straight, notched or smooth coulters on arotating shaft that is used to anchor  straw and other mulch materisla by punching it into the coulter slots.  030703 DTL'"]
[400,null,"Plastic mulch applic. 48 inch beds 80 percent cover",0.27,"'Mulch Treader flattens and achors straw and stubble by placing some soil on loose residue.  Also called skew treader, or picker treader. 101806  DTL'"]
[401,null,"Plastic mulch applic. 54 inch beds 100 percent cover",0.27,"'6/8/01 DTL'"]
[402,null,"Plastic mulch applic. 54 inch beds 80 percent cover",0.27,"'Paving with Concrete or Asphalt 071404DTL'"]
[403,null,"Plastic mulch applic. 64 inch beds 100 percent cover",0.27,"'6/23/93 sntc Drain Flooded Rice field prior to harvest. Arkansas, EI Zone 106. Revised for RUSLE2 01-23-02 DTL'"]
[404,null,"Plastic mulch applic. 64 inch beds 85 percent cover",0.27,"'6/23/93 sntc Flood Rice Field when plant height is 6-8&quot;. Arkansas, EI Zone 106.  Revised for RUSLE2 01-23-02 DTL'"]
[405,null,"Plastic mulch applicator 100 percent cover",0.27,"'060701 DTL'"]
[406,null,"Plastic mulch applicator 40 percent cover",0.27,"'Use to initiate growth of a new crop or weed record in cases where a planter, drill or seeding operation is not used.'"]
[407,null,"Plastic mulch applicator 50 percent cover",0.27,"'Weed growth initiated after harvest.  10/28/01 DTL'"]
[408,null,"Plastic mulch applicator 75 percent cover",0.27,0]
[409,null,"Plastic mulch, 05 percent removal ",0.39,"'6/8/01 DTL'"]
[410,null,"Plastic mulch, 10 percent removal ",0.39,"'Beds are lightly tilled and tops flatted in preparation for planting.  6/8/01 DTL'"]
[411,null,"Plastic mulch, 25 percent removal ",0.39,"'Germination of dormant seeding.  Enter this operation on the date of spring germination of early winter or late winter dormant seeding.  102406 DTL'"]
[412,null,"Plastic mulch, 50 percent  removal ",0.39,"'6/8/01 DTL'"]
[413,null,"Plastic mulch, remove",0.39,"'Middle buster.  Includes use as a  potato digger.  Runs below and down the middle of potato beds to lift and expose potatos or sweet potatoes for later hand harvesting.  11-15-01 DTL'"]
[414,null,"Plastic weed barrier 40 inch beds 100 percent cover",0.27,"'6/8/01 DTL'"]
[415,null,"Plastic weed barrier 40 inch beds 50 percent cover",0.27,"'Sandfighter  Makes roughened surface with spade points mounted on spiderwheels mounted on a shaft.  Similar to a rotary hoe except spade points are further apart and not pointed.  Also similar to a mulch treader but not as agressive and not operated on a skew.  04-01-02 DTL'"]
[416,null,"Plastic weed barrier 40 inch beds 75 percent cover",0.27]
[417,null,"Plastic weed barrier applicator 100 percent cover",0.27]
[418,null,"Plastic weed barrier applicator 50 percent cover",0.27]
[419,null,"Plastic weed barrier applicator 75 percent cover",0.27]
[420,null,"Plow, deep, large, moldboard",3.6]
[421,null,"Plow, disk",1.3]
[422,null,"Plow, moldboard",1.87]
[423,null,"Plow, moldboard 10 inch depth",2.1]
[424,null,"Plow, moldboard 6-7 inch depth",1.87]
[425,null,"Plow, moldboard, conservation",1.87]
[426,null,"Plow, moldboard, up hill",1.87]
[427,null,"Plow, oxen 12 in ridge",1E-8]
[428,null,"Plow, oxen 18 in ridge",1E-8]
[429,null,"Plow, oxen on 6 in ridge",1E-8]
[430,null,"Plow, oxen, strip 30 pct disturb",1E-8]
[431,null,"Plow, oxen, strip 60 pct disturb",1E-8]
[432,null,"Plow, reversable",1.87]
[433,null,"Power mulcher bed conditioner",2.1]
[434,null,"Pruning",1E-8]
[435,null,"Rake or windrower",0.25]
[436,null,"Reel disk vertical tiller",0.85]
[437,null,"Regrow",1E-8]
[438,null,"Remove Compost Sock",0]
[439,null,"Remove Silt Fence",0]
[440,null,"Remove Straw Bale",0]
[441,null,"Residue conditioner, coil tine har, rlng bskt",0.75]
[442,null,"Residue removal by wind",1E-8]
[443,null,"Residue, row cleaner",0.32]
[444,null,"Rice residue stomper",2.1]
[445,null,"Ripper, intra row",2.1]
[446,null,"Ripper, intra row and furrow diker",2.5]
[447,null,"Road grader",0.6]
[448,null,"Rodweeder",0.46]
[449,null,"Rodweeder, harrow, spike tooth",0.63]
[450,null,"Roller harrow",0.6]
[451,null,"Roller, corrugated packer ",0.25]
[452,null,"Roller, corrugated packer 6 by 16",0.25]
[453,null,"Roller, crimp, covercrop",0.25]
[454,null,"Roller, on beds ",0.25]
[455,null,"Roller, residue ",0.25]
[456,null,"Roller, residue incorporator",0.48]
[457,null,"Roller, row shaper",0.48]
[458,null,"Roller, smooth ",0.25]
[459,null,"Rolling basket incorporator",0.25]
[460,null,"Root rake",1.87]
[461,null,"Rotary hoe",0.25]
[462,null,"Rotary hoe, on  heavy soil",0.25]
[463,null,"Rotary hoe, residue",0.25]
[464,null,"Rototiller, field",2.1]
[465,null,"Rototiller, field, add residue",2.1]
[466,null,"Rototiller, on beds",2.1]
[467,null,"Rototiller, row cult add residue",2.1]
[468,null,"Rototiller, row cultivator ",2.1]
[469,null,"Sand fighter",0.44]
[470,null,"Scalper, tree",0.9]
[471,null,"Scarifier",0.9]
[472,null,"Scraper-pan-grader, clearing-cutting",0.6]
[473,null,"Seedbed conditioner, coil tine har, rlng bskt",0.75]
[474,null,"Seedbed conditioner, coulter caddy, coil tine har",0.55000000000000004]
[475,null,"Seedbed conditioner, coulter caddy, coil tine har, rlng bskt",0.75]
[476,null,"Seedbed conditioner, coulter caddy, field cult, spike harrow",0.55000000000000004]
[477,null,"Seedbed conditioner, coulter caddy, rtry har",0.65]
[478,null,"Seedbed conditioner, coulter caddy, rtry har, rlng bskt",0.85]
[479,null,"Seedbed conditioner, coulter caddy, spk har",0.55000000000000004]
[480,null,"Seedbed conditioner, coulter caddy, spk har, rlng bskt",0.75]
[481,null,"Seedbed finisher",0.9]
[482,null,"Seedbed finisher",0.9]
[483,null,"Seedbed finisher, fld cult, chop, spk har, rlng bskt",1.3]
[484,null,"Seedbed finisher, fld cult, coil tine har, rollng bskt",1.1000000000000001]
[485,null,"Seedbed finisher, fld cult, mlch trdr",1.1000000000000001,null,null,null,null,null,null," "]
[486,null,"Seedbed finisher, fld cult, rtry har",1.1000000000000001]
[487,null,"Seedbed finisher, sngl disk, fld cult, coil tine har, rollng bskt",1.5]
[488,null,"Seedbed finisher, sngl disk, rotry har",0.9]
[489,null,"Seedbed finisher, sngl dsk, fld cult, coil tine har",1.3]
[490,null,"Seeder, corrugated packer ",0.25]
[491,null,"Seeder, dormant, corrugated packer",0.25]
[492,null,"Seeder, high density vegetable",0.44]
[493,null,"Shred residue, 6 inch stubble",0.73]
[494,null,"Shred standing residue in live cover crop",0.35]
[495,null,"Shredder, flail or rotary ",0.73]
[496,null,"Shredder, flail or rotary, add other cover ",0.73]
[497,null,"Shredder, flail or rotary, filberts and pecans",0.73]
[498,null,"Shredder, rotary mower ",0.73]
[499,null,"Shredder, rotary, regrow veg",0.73]
[500,null,"Shredder, rotary, remove residue",0.73]
[501,null,"Slip plow 48 to 60 in. deep",2.5]
[502,null,"Sod cutter",0.9]
[503,null,"Sod installation",1E-8]
[504,null,"Spader",1.5]
[505,null,"Spader, shallow depth",1.5]
[506,null,"Spray, glysophate on resistant growing crop",0.13]
[507,null,"Sprayer, backpack, kill vegetation",1E-8]
[508,null,"Sprayer, backpack, post emergence",1E-8]
[509,null,"Sprayer, defoliant",0.13]
[510,null,"Sprayer, fungicide",0.13]
[511,null,"Sprayer, fungicide and insecticide tank mix",0.13]
[512,null,"Sprayer, growth regulator",0.13]
[513,null,"Sprayer, insecticide post emergence",0.13]
[514,null,"Sprayer, kill cover in growing crop",0.13]
[515,null,"Sprayer, kill cover in growing vegetables",0.13]
[516,null,"Sprayer, kill crop",0.13,"043008 DTL Sprayer, kill crop.  Use this operation to kill growing weeds or a growing cover crop or forage crop prior to planting a different crop.  This operation converts live standing biomass to standing and flat residue on the date it is used in a management.  The previous crop or weeds must be growing (previously called in via a Begin growth operation or a planter or seeder with a begin growth process embedded and not stopped or killed by a previous operation with a kill crop process).  The amount of live biomass that is internally converted to standing and flat residue is determined by the ratio of canopy cover on that date to the max canopy times amount of live biomass at max canopy for the previously growing vegetation. added notes 02202012 DTL  reduced flattening fractions 040612 LOS"]
[517,null,"Sprayer, kill strips",0.13]
[519,null,"Sprayer, post emergence",0.13]
[520,null,"Sprayer, post emergence and fert. tank mix",0.13]
[521,null,"Sprayer, pre-emergence",0.13]
[522,null,"Stalk chopper, rolling",0.73]
[523,null,"Stalk chopper, rolling, light disturbance",0.73]
[524,null,"Stalk chopper, rolling, on ridgetill ridges",0.73]
[525,null,"Stalk chopper, rolling, strip",0.73]
[526,null,"Stalk chopper, rotary",0.73]
[527,null,"Stalk chopper, strip rotary",0.73]
[528,null,"Stalk puller",0.32]
[529,null,"Stalk puller high disturbance",0.32]
[530,null,"Stalk slicer",0.45]
[531,null,"Stop Grazing",0]
[532,null,"Strip till bed conditioner",0.32]
[533,null,"Striptiller with middlebuster on beds",0.45]
[534,null,"Subsoil disk ripper",2.5]
[535,null,"Subsoil disk ripper, coulter smooth, rlng bskt",2.7]
[536,null,"Subsoil disk ripper, roller smooth",2.8]
[537,null,"Subsoiler ",2.1]
[538,null,"Subsoiler bedder (ripper-hipper)",2.1]
[539,null,"Subsoiler leveler",2.25]
[540,null,"Subsoiler ripper, 24 to 40 in. deep",2.5]
[541,null,"Subsoiler, 12 foot spacing",1.87]
[542,null,"Subsoiler, in row",2.1]
[543,null,"Subsoiler, in row strip conditioner",2.6]
[544,null,"Subsoiler, in row strip conditioner, 40 in row",2.6]
[545,null,"Subsoiler, inline heavy shanks with coulter caddy",2.8]
[546,null,"Subsoiler, inline with coulter caddy",2.2999999999999998]
[547,null,"Subsoiler, rlng stlk chpr, roller, mulch treader",2.8]
[548,null,"Subsoiler, wide spacing",2.1]
[549,null,"Subsoiler; Stalk chopper, rolling",2.4500000000000002]
[550,null,"Sweep plow 20-40 in wide ",0.74]
[551,null,"Sweep plow wider  than 40 in with mulch treader",0.9]
[552,null,"Sweep plow, under bed",0.74]
[553,null,"Sweep plow, wider than 40 in ",0.8]
[554,null,"Sweep, single under row",0.74]
[555,null,"Sweep, single under row, regrow perennial",0.64]
[556,null,"Tree spade, holes left ",2.5]
[557,null,"Tree spade, holes plugged",2.5]
[558,null,"Water mulch; off",1E-8]
[559,null,"Water mulch; on",1E-8]
[560,null,"Weed control, hoeing in row",1E-8]
[561,null,"Weed control, manual hoe",1E-8]
[562,null,"Weed control, string trimmer",0.25]
[563,null,"Weeder, finger weeder",0.35]
[564,null,"Winter kill annual crop",1E-8]
[565,null,"zdefault",0]
[566,null,"ztemp",0.25,"'Tree scalper.  072102 DTL'",null,null,null,null,null,1,null,81,null,"Tree spade, holes plugged"]
[]
[]
[]
[]
[null,null,null,null,null,null,null,null,"Filtered Table"]
[null,"Combined","Practice Name","Practice ","Unit",null,null,null,"Combined"]
[null,"Name/Code",null,"Code","Type",null,null,null,"Name/Code"]
[null,null,null,null,null,null,0]
[{"$f":"IF(G1587=G1586,\"\",G1587)","v":""},{"$f":"D1587&\" \"&C1587","v":"431 Above Ground Multi-Outlet Pipeline"},"Above Ground Multi-Outlet Pipeline",431,"Ft.",false,{"$f":"COUNTIF($F$1586:F1587,TRUE)","v":0},1,{"$f":"IF(ISNA(VLOOKUP(H1587,$A$1587:$E$1745,2,FALSE)),\"\",VLOOKUP(H1587,$A$1587:$E$1745,2,FALSE))","v":"372 Combustion System Improvement"},true]
[{"$f":"IF(G1588=G1587,\"\",G1588)","v":""},{"$f":"D1588&\" \"&C1588","v":"560 Access Road   "},"Access Road   ",560,"Ft.",false,{"$f":"COUNTIF($F$1586:F1588,TRUE)","v":0},2,{"$f":"IF(ISNA(VLOOKUP(H1588,$A$1587:$E$1745,2,FALSE)),\"\",VLOOKUP(H1588,$A$1587:$E$1745,2,FALSE))","v":"328 Conservation Crop Rotation   "},true]
["","309 Agrichemical Handling Facility ","Agrichemical Handling Facility ",309,"No.",false,{"$f":"COUNTIF($F$1586:F1589,TRUE)","v":0},3,"340 Cover Crop   ",true]
["","371 Air Filtration and Scrubbing","Air Filtration and Scrubbing",371,"No.",false,{"$f":"COUNTIF($F$1586:F1590,TRUE)","v":0},4,"374 Farmstead Energy Improvement",true]
["","311 Alley Cropping   ","Alley Cropping   ",311,"Ac.",false,{"$f":"COUNTIF($F$1586:F1591,TRUE)","v":0},5,"436 Irrigation Storage Reservoir   ",true]
["","591 Amendments for the Treatment of Agricultural Waste ","Amendments for the Treatment of Agricultural Waste ",591,"No.",false,{"$f":"COUNTIF($F$1586:F1592,TRUE)","v":0},6,"449 Irrigation Water Management   ",true]
["","366 Anaerobic Digester, Controlled Temperature ","Anaerobic Digester, Controlled Temperature ",366,"No.",false,{"$f":"COUNTIF($F$1586:F1593,TRUE)","v":0},{"$f":"H1592+1","v":7},"533 Pumping Plant ",true]
["","316 Animal Mortality Facility ","Animal Mortality Facility ",316,"No.",false,{"$f":"COUNTIF($F$1586:F1594,TRUE)","v":0},{"$f":"H1593+1","v":8},"345 Residue and Tillage Management, Mulch Till ",true]
["","575 Animal Trails and Walkways ","Animal Trails and Walkways ",575,"Ac.",false,{"$f":"COUNTIF($F$1586:F1595,TRUE)","v":0},9,"329 Residue Management, No-Till/Strip Till/Direct Seed ",true]
["","450 Anionic Polyacrylamide ","Anionic Polyacrylamide ",450,"PAM",false,{"$f":"COUNTIF($F$1586:F1596,TRUE)","v":0},10,"346 Residue Management, Ridge Till",true]
["","397 Aquaculture Ponds ","Aquaculture Ponds ",397,"Ac.",false,{"$f":"COUNTIF($F$1586:F1597,TRUE)","v":0},11,"380 Windbreak/Shelterbreak Establishment   ",true]
["","370 Atmospheric Resource Quality Management ","Atmospheric Resource Quality Management ",370,"Ac.",false,{"$f":"COUNTIF($F$1586:F1598,TRUE)","v":0},12,"",true]
["","310 Bedding   ","Bedding   ",310,"Ac.",false,{"$f":"COUNTIF($F$1586:F1599,TRUE)","v":0},13,"",true]
["","314 Brush Management   ","Brush Management   ",314,"Ac.",false,{"$f":"COUNTIF($F$1586:F1600,TRUE)","v":0},14,"",true]
["","322 Channel Bank Vegetation ","Channel Bank Vegetation ",322,"Ac.",false,{"$f":"COUNTIF($F$1586:F1601,TRUE)","v":0},15,"",true]
["","584 Channel Stabilization ","Channel Stabilization ",584,"Ft.",false,{"$f":"COUNTIF($F$1586:F1602,TRUE)","v":0},16,"",true]
["","326 Clearing & Snagging   ","Clearing & Snagging   ",326,"Ft.",false,{"$f":"COUNTIF($F$1586:F1603,TRUE)","v":0},17,"",true]
["","360 Closure of Waste Impoundments ","Closure of Waste Impoundments ",360,"No.",false,{"$f":"COUNTIF($F$1586:F1604,TRUE)","v":0},18,"",true]
[1,"372 Combustion System Improvement","Combustion System Improvement",372,"No.",true,{"$f":"COUNTIF($F$1586:F1605,TRUE)","v":1},19,"",true]
["","317 Composting Facility   ","Composting Facility   ",317,"No.",false,{"$f":"COUNTIF($F$1586:F1606,TRUE)","v":1},20,"",true]
["","327 Conservation Cover  ","Conservation Cover  ",327,"Ac.",false,{"$f":"COUNTIF($F$1586:F1607,TRUE)","v":1},21,"",true]
[2,"328 Conservation Crop Rotation   ","Conservation Crop Rotation   ",328,"Ac.",true,{"$f":"COUNTIF($F$1586:F1608,TRUE)","v":2},22,"",true]
["","656 Constructed Wetland   ","Constructed Wetland   ",656,"Ac.",false,{"$f":"COUNTIF($F$1586:F1609,TRUE)","v":2},23,"",true]
["","332 Contour Buffer Strips ","Contour Buffer Strips ",332,"Ac.",false,{"$f":"COUNTIF($F$1586:F1610,TRUE)","v":2},24,"",true]
["","330 Contour Farming   ","Contour Farming   ",330,"Ac.",false,{"$f":"COUNTIF($F$1586:F1611,TRUE)","v":2},25,"",true]
["","331 Contour Orchard and Other Fruit Area   ","Contour Orchard and Other Fruit Area   ",331,"Ac.",false,{"$f":"COUNTIF($F$1586:F1612,TRUE)","v":2},26,"",true]
[3,"340 Cover Crop   ","Cover Crop   ",340,"Ac.",true,{"$f":"COUNTIF($F$1586:F1613,TRUE)","v":3},27,"",true]
["","342 Critical Area Planting   ","Critical Area Planting   ",342,"Ac.",false,{"$f":"COUNTIF($F$1586:F1614,TRUE)","v":3},28,"",true]
["","588 Cross Wind Ridges","Cross Wind Ridges",588,"Ac.",false,{"$f":"COUNTIF($F$1586:F1615,TRUE)","v":3},29,"",true]
["","589 Cross Wind Trap Strips/Ridges ","Cross Wind Trap Strips/Ridges ",589,"Ac.",false,{"$f":"COUNTIF($F$1586:F1616,TRUE)","v":3},{"$f":"H1615+1","v":30},"",true]
["","402 Dam ","Dam ",402,"No.",false,{"$f":"COUNTIF($F$1586:F1617,TRUE)","v":3},{"$f":"H1616+1","v":31},"",true]
["","348 Dam, Diversion   ","Dam, Diversion   ",348,"No.",false,{"$f":"COUNTIF($F$1586:F1618,TRUE)","v":3},32,"",true]
["","324 Deep Tillage ","Deep Tillage ",324,"Ac.",false,{"$f":"COUNTIF($F$1586:F1619,TRUE)","v":3},33,"",true]
["","356 Dike   ","Dike   ",356,"Ft.",false,{"$f":"COUNTIF($F$1586:F1620,TRUE)","v":3},34,"",true]
["","362 Diversion   ","Diversion   ",362,"Ft.",false,{"$f":"COUNTIF($F$1586:F1621,TRUE)","v":3},35,"",true]
["","554 Drainage Water Management ","Drainage Water Management ",554,"Ac.",false,{"$f":"COUNTIF($F$1586:F1622,TRUE)","v":3},36,"",true]
["","432 Dry Hydrant ","Dry Hydrant ",432,"No.",false,{"$f":"COUNTIF($F$1586:F1623,TRUE)","v":3},37,"",true]
["","375 Dust Control from Animal Activity on Open Lot Surfaces","Dust Control from Animal Activity on Open Lot Surfaces",375,"Ac.",false,{"$f":"COUNTIF($F$1586:F1624,TRUE)","v":3},38,"",true]
["","373 Dust Control on Unpaved Road and Surfaces","Dust Control on Unpaved Road and Surfaces",373,"Sq. Ft.",false,{"$f":"COUNTIF($F$1586:F1625,TRUE)","v":3},39,"",true]
["","647 Early Successional Habitat Development/Management   ","Early Successional Habitat Development/Management   ",647,"Ac.",false,{"$f":"COUNTIF($F$1586:F1626,TRUE)","v":3},40,"",true]
[4,"374 Farmstead Energy Improvement","Farmstead Energy Improvement",374,null,true,{"$f":"COUNTIF($F$1586:F1627,TRUE)","v":4}]
["","382 Fence   ","Fence   ",382,"Ft.",false,{"$f":"COUNTIF($F$1586:F1628,TRUE)","v":4}]
["","386 Field Border   ","Field Border   ",386,"Ft.",false,{"$f":"COUNTIF($F$1586:F1629,TRUE)","v":4}]
["","393 Filter Strip   ","Filter Strip   ",393,"Ac.",false,{"$f":"COUNTIF($F$1586:F1630,TRUE)","v":4}]
["","394 Firebreak   ","Firebreak   ",394,"Ft.",false,{"$f":"COUNTIF($F$1586:F1631,TRUE)","v":4}]
["","396 Fish Passage ","Fish Passage ",396,"No.",false,{"$f":"COUNTIF($F$1586:F1632,TRUE)","v":4}]
["","398 Fish Raceway or Tank   ","Fish Raceway or Tank   ",398,"Ft.",false,{"$f":"COUNTIF($F$1586:F1633,TRUE)","v":4}]
["","399 Fishpond Management   ","Fishpond Management   ",399,"No.",false,{"$f":"COUNTIF($F$1586:F1634,TRUE)","v":4}]
["","511 Forage Harvest Management  ","Forage Harvest Management  ",511,"Ac.",false,{"$f":"COUNTIF($F$1586:F1635,TRUE)","v":4}]
["","490 Forest Site Preparation   ","Forest Site Preparation   ",490,"Ac.",false,{"$f":"COUNTIF($F$1586:F1636,TRUE)","v":4}]
["","384 Forest Slash Treatment ","Forest Slash Treatment ",384,"Ac.",false,{"$f":"COUNTIF($F$1586:F1637,TRUE)","v":4}]
["","666 Forest Stand Improvement   ","Forest Stand Improvement   ",666,"Ac.",false,{"$f":"COUNTIF($F$1586:F1638,TRUE)","v":4}]
["","655 Forest Trails & Landings   ","Forest Trails & Landings   ",655,"Ac.",false,{"$f":"COUNTIF($F$1586:F1639,TRUE)","v":4}]
["","383 Fuel Break ","Fuel Break ",383,"Ac.",false,{"$f":"COUNTIF($F$1586:F1640,TRUE)","v":4}]
["","410 Grade Stabilization Structure   ","Grade Stabilization Structure   ",410,"No.",false,{"$f":"COUNTIF($F$1586:F1641,TRUE)","v":4}]
["","412 Grassed Waterway   ","Grassed Waterway   ",412,"Ac.",false,{"$f":"COUNTIF($F$1586:F1642,TRUE)","v":4}]
["","548 Grazing Land Mechanical Treatment   ","Grazing Land Mechanical Treatment   ",548,"Ac.",false,{"$f":"COUNTIF($F$1586:F1643,TRUE)","v":4}]
["","561 Heavy Use Area Protection   ","Heavy Use Area Protection   ",561,"Ac.",false,{"$f":"COUNTIF($F$1586:F1644,TRUE)","v":4}]
["","422 Hedgerow Planting   ","Hedgerow Planting   ",422,"Ft.",false,{"$f":"COUNTIF($F$1586:F1645,TRUE)","v":4}]
["","603 Herbaceous Wind Barriers   ","Herbaceous Wind Barriers   ",603,"Ft.",false,{"$f":"COUNTIF($F$1586:F1646,TRUE)","v":4}]
["","423 Hillside Ditch   ","Hillside Ditch   ",423,"Ft.",false,{"$f":"COUNTIF($F$1586:F1647,TRUE)","v":4}]
["","320 Irrigation Canal or Lateral   ","Irrigation Canal or Lateral   ",320,"Ft.",false,{"$f":"COUNTIF($F$1586:F1648,TRUE)","v":4}]
["","388 Irrigation Field Ditch   ","Irrigation Field Ditch   ",388,"Ft.",false,{"$f":"COUNTIF($F$1586:F1649,TRUE)","v":4}]
["","464 Irrigation Land Leveling   ","Irrigation Land Leveling   ",464,"Ac.",false,{"$f":"COUNTIF($F$1586:F1650,TRUE)","v":4}]
["","552 Irrigation Regulating Reservoir ","Irrigation Regulating Reservoir ",552,"No.",false,{"$f":"COUNTIF($F$1586:F1651,TRUE)","v":4}]
[5,"436 Irrigation Storage Reservoir   ","Irrigation Storage Reservoir   ",436,"No. & Ac. Ft.",true,{"$f":"COUNTIF($F$1586:F1652,TRUE)","v":5}]
[{"$f":"IF(G1653=G1652,\"\",G1653)","v":""},{"$f":"D1653&\" \"&C1653","v":"202 Irrigation System, Low Energy Precision Application "},"Irrigation System, Low Energy Precision Application ",202,"No.",false,{"$f":"COUNTIF($F$1586:F1653,TRUE)","v":5}]
["","441 Irrigation System, Microirrigation ","Irrigation System, Microirrigation ",441,"No.",false,{"$f":"COUNTIF($F$1586:F1654,TRUE)","v":5}]
["","442 Irrigation System, Sprinkler ","Irrigation System, Sprinkler ",442,"No.",false,{"$f":"COUNTIF($F$1586:F1655,TRUE)","v":5}]
["","443 Irrigation System, Surface and Subsurface ","Irrigation System, Surface and Subsurface ",443,"No.",false,{"$f":"COUNTIF($F$1586:F1656,TRUE)","v":5}]
["","447 Irrigation System, Tailwater Recovery   ","Irrigation System, Tailwater Recovery   ",447,"No.",false,{"$f":"COUNTIF($F$1586:F1657,TRUE)","v":5}]
["","428 Irrigation Water Conveyance, Ditch and Canal Lining ","Irrigation Water Conveyance, Ditch and Canal Lining ",428,"Ft.",false,{"$f":"COUNTIF($F$1586:F1658,TRUE)","v":5}]
["","430 Irrigation Water Conveyance, Pipeline ","Irrigation Water Conveyance, Pipeline ",430,"Ft.",false,{"$f":"COUNTIF($F$1586:F1659,TRUE)","v":5}]
[6,"449 Irrigation Water Management   ","Irrigation Water Management   ",449,"Ac.",true,{"$f":"COUNTIF($F$1586:F1660,TRUE)","v":6}]
["","460 Land Clearing   ","Land Clearing   ",460,"Ac.",false,{"$f":"COUNTIF($F$1586:F1661,TRUE)","v":6}]
["","543 Land Reclamation, Abandoned Mined Land   ","Land Reclamation, Abandoned Mined Land   ",543,"Ac.",false,{"$f":"COUNTIF($F$1586:F1662,TRUE)","v":6}]
["","453 Land Reclamation, Landslide Treatment ","Land Reclamation, Landslide Treatment ",453,"No.",false,{"$f":"COUNTIF($F$1586:F1663,TRUE)","v":6}]
["","455 Land Reclamation, Toxic Discharge Control ","Land Reclamation, Toxic Discharge Control ",455,"No.",false,{"$f":"COUNTIF($F$1586:F1664,TRUE)","v":6}]
["","466 Land Smoothing   ","Land Smoothing   ",466,"Ac.",false,{"$f":"COUNTIF($F$1586:F1665,TRUE)","v":6}]
["","468 Lined Waterway or Outlet   ","Lined Waterway or Outlet   ",468,"Ft.",false,{"$f":"COUNTIF($F$1586:F1666,TRUE)","v":6}]
["","634 Manure Transfer  ","Manure Transfer  ",634,"No.",false,{"$f":"COUNTIF($F$1586:F1667,TRUE)","v":6}]
["","457 Mine Shaft and Adit Closing   ","Mine Shaft and Adit Closing   ",457,"No.",false,{"$f":"COUNTIF($F$1586:F1668,TRUE)","v":6}]
["","482 Mole Drain   ","Mole Drain   ",482,"Ft.",false,{"$f":"COUNTIF($F$1586:F1669,TRUE)","v":6}]
["","353 Monitoring Well ","Monitoring Well ",353,"No.",false,{"$f":"COUNTIF($F$1586:F1670,TRUE)","v":6}]
["","484 Mulching   ","Mulching   ",484,"Ac.",false,{"$f":"COUNTIF($F$1586:F1671,TRUE)","v":6}]
["","379 Multi-Story Cropping","Multi-Story Cropping",379,"Ac.",false,{"$f":"COUNTIF($F$1586:F1672,TRUE)","v":6}]
["","590 Nutrient Management   ","Nutrient Management   ",590,"Ac.",false,{"$f":"COUNTIF($F$1586:F1673,TRUE)","v":6}]
["","500 Obstruction Removal   ","Obstruction Removal   ",500,"Ac.",false,{"$f":"COUNTIF($F$1586:F1674,TRUE)","v":6}]
["","374 On-Farm Equipment Efficiency Improvements","On-Farm Equipment Efficiency Improvements",374,"No.",false,{"$f":"COUNTIF($F$1586:F1675,TRUE)","v":6}]
["","582 Open Channel   ","Open Channel   ",582,"Ft.",false,{"$f":"COUNTIF($F$1586:F1676,TRUE)","v":6}]
["","512 Pasture & Hayland Planting   ","Pasture & Hayland Planting   ",512,"Ac.",false,{"$f":"COUNTIF($F$1586:F1677,TRUE)","v":6}]
["","595 Pest Management   ","Pest Management   ",595,"Ac.",false,{"$f":"COUNTIF($F$1586:F1678,TRUE)","v":6}]
["","516 Pipeline   ","Pipeline   ",516,"Ft.",false,{"$f":"COUNTIF($F$1586:F1679,TRUE)","v":6}]
["","378 Pond   ","Pond   ",378,"No.",false,{"$f":"COUNTIF($F$1586:F1680,TRUE)","v":6}]
["","521 Pond Sealing or Lining ","Pond Sealing or Lining ",521,"No.",false,{"$f":"COUNTIF($F$1586:F1681,TRUE)","v":6}]
["","462 Precision Land Forming   ","Precision Land Forming   ",462,"Ac.",false,{"$f":"COUNTIF($F$1586:F1682,TRUE)","v":6}]
["","528 Prescribed Grazing   ","Prescribed Grazing   ",528,"Ac.",false,{"$f":"COUNTIF($F$1586:F1683,TRUE)","v":6}]
[7,"533 Pumping Plant ","Pumping Plant ",533,"No.",true,{"$f":"COUNTIF($F$1586:F1684,TRUE)","v":7}]
["","550 Range Planting   ","Range Planting   ",550,"Ac.",false,{"$f":"COUNTIF($F$1586:F1685,TRUE)","v":7}]
["","562 Recreation Area Improvement   ","Recreation Area Improvement   ",562,"Ac.",false,{"$f":"COUNTIF($F$1586:F1686,TRUE)","v":7}]
["","566 Recreation Land Grading & Shaping   ","Recreation Land Grading & Shaping   ",566,"Ac.",false,{"$f":"COUNTIF($F$1586:F1687,TRUE)","v":7}]
["","568 Recreation Trail & Walkway   ","Recreation Trail & Walkway   ",568,"Ft.",false,{"$f":"COUNTIF($F$1586:F1688,TRUE)","v":7}]
[8,"345 Residue and Tillage Management, Mulch Till ","Residue and Tillage Management, Mulch Till ",345,"Ac.",true,{"$f":"COUNTIF($F$1586:F1689,TRUE)","v":8}]
[9,"329 Residue Management, No-Till/Strip Till/Direct Seed ","Residue Management, No-Till/Strip Till/Direct Seed ",329,"Ac.",true,{"$f":"COUNTIF($F$1586:F1690,TRUE)","v":9}]
[10,"346 Residue Management, Ridge Till","Residue Management, Ridge Till",346,"Ac.",true,{"$f":"COUNTIF($F$1586:F1691,TRUE)","v":10}]
["","344 Residue Management, Seasonal   ","Residue Management, Seasonal   ",344,"Ac.",false,{"$f":"COUNTIF($F$1586:F1692,TRUE)","v":10}]
["","643 Restoration and Management of Declining Habitats   ","Restoration and Management of Declining Habitats   ",643,"Ac.",false,{"$f":"COUNTIF($F$1586:F1693,TRUE)","v":10}]
["","391 Riparian Forest Buffer   ","Riparian Forest Buffer   ",391,"Ac.",false,{"$f":"COUNTIF($F$1586:F1694,TRUE)","v":10}]
["","390 Riparian Herbaceous Cover   ","Riparian Herbaceous Cover   ",390,"Ac.",false,{"$f":"COUNTIF($F$1586:F1695,TRUE)","v":10}]
["","654 Road/Trail/Landing Closure and Treatment","Road/Trail/Landing Closure and Treatment",654,"Ft.",false,{"$f":"COUNTIF($F$1586:F1696,TRUE)","v":10}]
["","555 Rock Barrier   ","Rock Barrier   ",555,"Ft.",false,{"$f":"COUNTIF($F$1586:F1697,TRUE)","v":10}]
["","558 Roof Runoff Structure  ","Roof Runoff Structure  ",558,"No.",false,{"$f":"COUNTIF($F$1586:F1698,TRUE)","v":10}]
["","557 Row Arrangement   ","Row Arrangement   ",557,"Ac.",false,{"$f":"COUNTIF($F$1586:F1699,TRUE)","v":10}]
["","570 Runoff Management System   ","Runoff Management System   ",570,"No.  ",false,{"$f":"COUNTIF($F$1586:F1700,TRUE)","v":10}]
["","610 Salinity and Sodic Soil Management ","Salinity and Sodic Soil Management ",610,"Ac.",false,{"$f":"COUNTIF($F$1586:F1701,TRUE)","v":10}]
["","798 Seasonal High Tunnel System for Crops","Seasonal High Tunnel System for Crops",798,"Sq. Ft.",false,{"$f":"COUNTIF($F$1586:F1702,TRUE)","v":10}]
["","350 Sediment Basin   ","Sediment Basin   ",350,"No.",false,{"$f":"COUNTIF($F$1586:F1703,TRUE)","v":10}]
["","646 Shallow Water Management for Wildlife   ","Shallow Water Management for Wildlife   ",646,"Ac.",false,{"$f":"COUNTIF($F$1586:F1704,TRUE)","v":10}]
["","381 Silvopasture Establishment ","Silvopasture Establishment ",381,"Ac.",false,{"$f":"COUNTIF($F$1586:F1705,TRUE)","v":10}]
["","527 Sinkhole and Sinkhole Area Treatment","Sinkhole and Sinkhole Area Treatment",527,"No.",false,{"$f":"COUNTIF($F$1586:F1706,TRUE)","v":10}]
["","632 Solid/Liquid Waste Separation Facility ","Solid/Liquid Waste Separation Facility ",632,"No.",false,{"$f":"COUNTIF($F$1586:F1707,TRUE)","v":10}]
["","572 Spoil Spreading   ","Spoil Spreading   ",572,"Ft.",false,{"$f":"COUNTIF($F$1586:F1708,TRUE)","v":10}]
["","574 Spring Development   ","Spring Development   ",574,"No.",false,{"$f":"COUNTIF($F$1586:F1709,TRUE)","v":10}]
["","578 Stream Crossing ","Stream Crossing ",578,"No.",false,{"$f":"COUNTIF($F$1586:F1710,TRUE)","v":10}]
["","395 Stream Habitat Improvement and Management ","Stream Habitat Improvement and Management ",395,"Ac.",false,{"$f":"COUNTIF($F$1586:F1711,TRUE)","v":10}]
["","580 Streambank & Shoreline Protection   ","Streambank & Shoreline Protection   ",580,"Ft.",false,{"$f":"COUNTIF($F$1586:F1712,TRUE)","v":10}]
["","585 Stripcropping ","Stripcropping ",585,"Ac.",false,{"$f":"COUNTIF($F$1586:F1713,TRUE)","v":10}]
["","587 Structure for Water Control   ","Structure for Water Control   ",587,"No.",false,{"$f":"COUNTIF($F$1586:F1714,TRUE)","v":10}]
["","606 Subsurface Drain   ","Subsurface Drain   ",606,"Ft.",false,{"$f":"COUNTIF($F$1586:F1715,TRUE)","v":10}]
["","607 Surface Drainage, Field Ditch   ","Surface Drainage, Field Ditch   ",607,"Ft.",false,{"$f":"COUNTIF($F$1586:F1716,TRUE)","v":10}]
[{"$f":"IF(G1717=G1716,\"\",G1717)","v":""},{"$f":"D1717&\" \"&C1717","v":"608 Surface Drainage, Main or Lateral "},"Surface Drainage, Main or Lateral ",608,"Ft.",false,{"$f":"COUNTIF($F$1586:F1717,TRUE)","v":10}]
["","609 Surface Roughening   ","Surface Roughening   ",609,"Ac.",false,{"$f":"COUNTIF($F$1586:F1718,TRUE)","v":10}]
["","600 Terrace   ","Terrace   ",600,"Ft.",false,{"$f":"COUNTIF($F$1586:F1719,TRUE)","v":10}]
["","612 Tree/Shrub Establishment   ","Tree/Shrub Establishment   ",612,"Ac.",false,{"$f":"COUNTIF($F$1586:F1720,TRUE)","v":10}]
["","660 Tree/Shrub Pruning   ","Tree/Shrub Pruning   ",660,"Ac.",false,{"$f":"COUNTIF($F$1586:F1721,TRUE)","v":10}]
["","620 Underground Outlet   ","Underground Outlet   ",620,"Ft.",false,{"$f":"COUNTIF($F$1586:F1722,TRUE)","v":10}]
["","645 Upland Wildlife Habitat Management   ","Upland Wildlife Habitat Management   ",645,"Ac.",false,{"$f":"COUNTIF($F$1586:F1723,TRUE)","v":10}]
["","472 Use Exclusion   ","Use Exclusion   ",472,"Ac.",false,{"$f":"COUNTIF($F$1586:F1724,TRUE)","v":10}]
["","601 Vegetative Barrier ","Vegetative Barrier ",601,"Ft.",false,{"$f":"COUNTIF($F$1586:F1725,TRUE)","v":10}]
["","630 Vertical Drain   ","Vertical Drain   ",630,"No.",false,{"$f":"COUNTIF($F$1586:F1726,TRUE)","v":10}]
["","367 Waste Facility Cover ","Waste Facility Cover ",367,"No.",false,{"$f":"COUNTIF($F$1586:F1727,TRUE)","v":10}]
["","313 Waste Storage Facility   ","Waste Storage Facility   ",313,"No.",false,{"$f":"COUNTIF($F$1586:F1728,TRUE)","v":10}]
["","629 Waste Treatment ","Waste Treatment ",629,"No.",false,{"$f":"COUNTIF($F$1586:F1729,TRUE)","v":10}]
["","359 Waste Treatment Lagoon   ","Waste Treatment Lagoon   ",359,"No.",false,{"$f":"COUNTIF($F$1586:F1730,TRUE)","v":10}]
["","633 Waste Utilization   ","Waste Utilization   ",633,"Ac.",false,{"$f":"COUNTIF($F$1586:F1731,TRUE)","v":10}]
["","635 Wastewater Treatment Strip ","Wastewater Treatment Strip ",635,"Ac.",false,{"$f":"COUNTIF($F$1586:F1732,TRUE)","v":10}]
["","638 Water & Sediment Control Basin   ","Water & Sediment Control Basin   ",638,"No.",false,{"$f":"COUNTIF($F$1586:F1733,TRUE)","v":10}]
["","636 Water Harvesting Catchment   ","Water Harvesting Catchment   ",636,"No.",false,{"$f":"COUNTIF($F$1586:F1734,TRUE)","v":10}]
["","642 Water Well ","Water Well ",642,"No.",false,{"$f":"COUNTIF($F$1586:F1735,TRUE)","v":10}]
["","614 Watering Facility ","Watering Facility ",614,"No.",false,{"$f":"COUNTIF($F$1586:F1736,TRUE)","v":10}]
["","640 Waterspreading ","Waterspreading ",640,"Ac.",false,{"$f":"COUNTIF($F$1586:F1737,TRUE)","v":10}]
["","351 Well Decommissioning   ","Well Decommissioning   ",351,"No.",false,{"$f":"COUNTIF($F$1586:F1738,TRUE)","v":10}]
["","355 Well Water Testing ","Well Water Testing ",355,"No.",false,{"$f":"COUNTIF($F$1586:F1739,TRUE)","v":10}]
["","658 Wetland Creation   ","Wetland Creation   ",658,"Ac.",false,{"$f":"COUNTIF($F$1586:F1740,TRUE)","v":10}]
["","659 Wetland Enhancement   ","Wetland Enhancement   ",659,"Ac.",false,{"$f":"COUNTIF($F$1586:F1741,TRUE)","v":10}]
["","657 Wetland Restoration   ","Wetland Restoration   ",657,"Ac.",false,{"$f":"COUNTIF($F$1586:F1742,TRUE)","v":10}]
["","644 Wetland Wildlife Habitat Management   ","Wetland Wildlife Habitat Management   ",644,"Ac.",false,{"$f":"COUNTIF($F$1586:F1743,TRUE)","v":10}]
[11,"380 Windbreak/Shelterbreak Establishment   ","Windbreak/Shelterbreak Establishment   ",380,"Ft.",true,{"$f":"COUNTIF($F$1586:F1744,TRUE)","v":11}]
["","650 Windbreak/Shelterbreak Renovation   ","Windbreak/Shelterbreak Renovation   ",650,"Ft.",false,{"$f":"COUNTIF($F$1586:F1745,TRUE)","v":11}]
[]
[null,null,null,"MMBTU","CO2","N2O","CH4","SO2","NOx","Total"]
[null,null,null,"per unit","[lb]","[lb]","[lb]","[lb]","[lb]","[lb]",null,"Lookup Tables for Practice Standard Inputs"]
[null,null,{"$f":"Input_GHG!C19","v":"Diesel"},{"$f":"Input_GHG!E19","v":0.13900000000000001},{"$f":"Input_GHG!F19","v":22.376899999999999},{"$f":"Input_GHG!G19","v":4.8505E-4},{"$f":"Input_GHG!H19","v":2.7783E-3},{"$f":"Input_GHG!K19","v":2.8499999999999999E-4},{"$f":"Input_GHG!M19","v":1.7999999999999999E-2},{"$f":"Input_GHG!I19","v":22.58559},null,"Farming","Units",null,2,3,4,5,6,7,8,9,10]
[null,null,{"$f":"Input_GHG!C20","v":"Gasoline (E10)"},{"$f":"Input_GHG!E20","v":0.12},{"$f":"Input_GHG!F20","v":19.6432},{"$f":"Input_GHG!G20","v":5.7320200000000009E-4},{"$f":"Input_GHG!H20","v":3.1746599999999997E-3},{"$f":"Input_GHG!K20","v":2.8499999999999999E-4},{"$f":"Input_GHG!M20","v":1.1023099999999999E-2},{"$f":"Input_GHG!I20","v":19.887560000000001},null,"Select Variable"]
[null,null,{"$f":"Input_GHG!C21","v":"BioDiesel B2"},{"$f":"Input_GHG!E21","v":0.1386},{"$f":"Input_GHG!F21","v":21.913900000000002},{"$f":"Input_GHG!G21","v":4.8501069999999999E-4},{"$f":"Input_GHG!H21","v":2.7778299999999998E-3},{"$f":"Input_GHG!K21","v":1E-4},{"$f":"Input_GHG!M21","v":0.01},{"$f":"Input_GHG!I21","v":22.125589999999999},null,"Crop Yields","[DM lbs/acre]",{"$f":"Input!$Z$167*7500/1000000","v":16.875},{"$f":"Input!$Z$168*7500/1000000","v":4.875E-3},{"$f":"Input!$Z$169*7500/1000000","v":-0.375},{"$f":"Input!$Z$170*7500/1000000","v":-5.625},{"$f":"Input!$Z$171*7500/1000000","v":3.7499999999999999E-3},{"$f":"Input!$Z$172*7500/1000000","v":0.375},{"$f":"Input!$Z$173*7500/1000000","v":-5.625},{"$f":"Input!$Z$174*7500/1000000","v":5.2499999999999998E-2},{"$f":"Input!$Z$175*7500/1000000","v":0.22500000000000001},{"$f":"Input!$Z$176*7500/1000000","v":1.65E-3}]
[null,null,{"$f":"Input_GHG!C22","v":"BioDiesel B5"},{"$f":"Input_GHG!E22","v":0.13800000000000001},{"$f":"Input_GHG!F22","v":21.252600000000001},{"$f":"Input_GHG!G22","v":4.8501069999999999E-4},{"$f":"Input_GHG!H22","v":2.7778299999999998E-3},{"$f":"Input_GHG!K22","v":1E-4},{"$f":"Input_GHG!M22","v":0.01},{"$f":"Input_GHG!I22","v":21.461290000000002},null,"Field Operation Diesel Use","[gal/acre]",{"$f":"Input!Z167*140000/1000000","v":315},{"$f":"Input!Z168*140000/1000000","v":9.0999999999999998E-2},{"$f":"Input!Z169*140000/1000000","v":-7},{"$f":"Input!Z170*140000/1000000","v":-105},{"$f":"Input!Z171*140000/1000000","v":7.0000000000000007E-2},{"$f":"Input!Z172*140000/1000000","v":7},{"$f":"Input!Z173*140000/1000000","v":-105},{"$f":"Input!Z174*140000/1000000","v":0.98},{"$f":"Input!Z175*140000/1000000","v":4.2},{"$f":"Input!Z176*140000/1000000","v":3.0800000000000001E-2}]
[null,null,{"$f":"Input_GHG!C23","v":"BioDiesel B10"},{"$f":"Input_GHG!E23","v":0.13689999999999999},{"$f":"Input_GHG!F23","v":20.1282},{"$f":"Input_GHG!G23","v":4.8501069999999999E-4},{"$f":"Input_GHG!H23","v":2.7778299999999998E-3},{"$f":"Input_GHG!K23","v":1E-4},{"$f":"Input_GHG!M23","v":0.01},{"$f":"Input_GHG!I23","v":20.33689},null,"Harvest Operation Diesel Use","[DM lbs/acre]",{"$f":"Input!$Z$167*140000/1000000","v":315},{"$f":"Input!$Z$168*140000/1000000","v":9.0999999999999998E-2},{"$f":"Input!$Z$169*140000/1000000","v":-7},{"$f":"Input!$Z$170*140000/1000000","v":-105},{"$f":"Input!$Z$171*140000/1000000","v":7.0000000000000007E-2},{"$f":"Input!$Z$172*140000/1000000","v":7},{"$f":"Input!$Z$173*140000/1000000","v":-105},{"$f":"Input!$Z$174*140000/1000000","v":0.98},{"$f":"Input!$Z$175*140000/1000000","v":4.2},{"$f":"Input!$Z$176*140000/1000000","v":3.0800000000000001E-2}]
[null,null,{"$f":"Input_GHG!C24","v":"BioDiesel B20"},{"$f":"Input_GHG!E24","v":0.13489999999999999},{"$f":"Input_GHG!F24","v":17.901499999999999},{"$f":"Input_GHG!G24","v":4.8501069999999999E-4},{"$f":"Input_GHG!H24","v":2.7778299999999998E-3},{"$f":"Input_GHG!K24","v":1E-4},{"$f":"Input_GHG!M24","v":0.01},{"$f":"Input_GHG!I24","v":18.110189999999999},null,"Forage Removed","[DM lbs/acre]",{"$f":"Input!$Z$167*7500/1000000","v":16.875},{"$f":"Input!$Z$168*7500/1000000","v":4.875E-3},{"$f":"Input!$Z$169*7500/1000000","v":-0.375},{"$f":"Input!$Z$170*7500/1000000","v":-5.625},{"$f":"Input!$Z$171*7500/1000000","v":3.7499999999999999E-3},{"$f":"Input!$Z$172*7500/1000000","v":0.375},{"$f":"Input!$Z$173*7500/1000000","v":-5.625},{"$f":"Input!$Z$174*7500/1000000","v":5.2499999999999998E-2},{"$f":"Input!$Z$175*7500/1000000","v":0.22500000000000001},{"$f":"Input!$Z$176*7500/1000000","v":1.65E-3}]
[null,null,{"$f":"Input_GHG!C25","v":"BioDiesel B100"},{"$f":"Input_GHG!E25","v":0.1183},{"$f":"Input_GHG!F25","v":0},{"$f":"Input_GHG!G25","v":4.8501069999999999E-4},{"$f":"Input_GHG!H25","v":2.7778299999999998E-3},{"$f":"Input_GHG!K25","v":1E-4},{"$f":"Input_GHG!M25","v":0.01},{"$f":"Input_GHG!I25","v":0.20868999999999999},null,"Grazing Removed","[AUD/acre]",{"$f":"Input!$Z$167*7500/1000000","v":16.875},{"$f":"Input!$Z$168*7500/1000000","v":4.875E-3},{"$f":"Input!$Z$169*7500/1000000","v":-0.375},{"$f":"Input!$Z$170*7500/1000000","v":-5.625},{"$f":"Input!$Z$171*7500/1000000","v":3.7499999999999999E-3},{"$f":"Input!$Z$172*7500/1000000","v":0.375},{"$f":"Input!$Z$173*7500/1000000","v":-5.625},{"$f":"Input!$Z$174*7500/1000000","v":5.2499999999999998E-2},{"$f":"Input!$Z$175*7500/1000000","v":0.22500000000000001},{"$f":"Input!$Z$176*7500/1000000","v":1.65E-3}]
[null,null,{"$f":"Input_GHG!C26","v":"SVO"},{"$f":"Input_GHG!E26","v":0.12314},{"$f":"Input_GHG!F26","v":0},{"$f":"Input_GHG!G26","v":4.8501069999999999E-4},{"$f":"Input_GHG!H26","v":2.7778299999999998E-3},{"$f":"Input_GHG!K26","v":1E-4},{"$f":"Input_GHG!M26","v":0.01},{"$f":"Input_GHG!I26","v":0.20868999999999999},null,"Labor","[hrs/acre]",{"$f":"Input!Z167*3000000/24/252/1000000","v":1.1160714285714286},{"$f":"Input!Z168*3000000/24/252/1000000","v":3.2242063492063491E-4},{"$f":"Input!Z169*3000000/24/252/1000000","v":-2.48015873015873E-2},{"$f":"Input!Z170*3000000/24/252/1000000","v":-0.37202380952380953},{"$f":"Input!Z171*3000000/24/252/1000000","v":2.48015873015873E-4},{"$f":"Input!Z172*3000000/24/252/1000000","v":2.48015873015873E-2},{"$f":"Input!Z173*3000000/24/252/1000000","v":-0.37202380952380953},{"$f":"Input!Z174*3000000/24/252/1000000","v":3.472222222222222E-3},{"$f":"Input!Z175*3000000/24/252/1000000","v":1.4880952380952382E-2},{"$f":"Input!Z176*3000000/24/252/1000000","v":1.0912698412698413E-4}]
[null,null,{"$f":"Input_GHG!C28","v":"Propane"},{"$f":"Input_GHG!E28","v":9.1600000000000001E-2},{"$f":"Input_GHG!F28","v":12.654500000000001},{"$f":"Input_GHG!G28","v":4.0000000000000002E-4},{"$f":"Input_GHG!H28","v":2E-3},{"$f":"Input_GHG!K28","v":1E-4},{"$f":"Input_GHG!M28","v":0.01},{"$f":"Input_GHG!I28","v":12.820499999999999},null,"Nitrogen Applied","[lbs/acre]",{"$f":"Input!Z167*20000/1000000","v":45},{"$f":"Input!Z168*20000/1000000","v":1.2999999999999999E-2},{"$f":"Input!Z169*20000/1000000","v":-1},{"$f":"Input!Z170*20000/1000000","v":-15},{"$f":"Input!Z171*20000/1000000","v":0.01},{"$f":"Input!Z172*20000/1000000","v":1},{"$f":"Input!Z173*20000/1000000","v":-15},{"$f":"Input!Z174*20000/1000000","v":0.14000000000000001},{"$f":"Input!Z175*20000/1000000","v":0.6},{"$f":"Input!Z176*20000/1000000","v":4.4000000000000003E-3}]
[null,null,{"$f":"Input_GHG!C29","v":"Natural Gas"},{"$f":"Input_GHG!E29","v":0.10299999999999999},{"$f":"Input_GHG!F29","v":11.697700000000001},{"$f":"Input_GHG!G29","v":4.0000000000000002E-4},{"$f":"Input_GHG!H29","v":2E-3},{"$f":"Input_GHG!K29","v":1E-4},{"$f":"Input_GHG!M29","v":0.01},{"$f":"Input_GHG!I29","v":11.8637},null,"Phosphorus Applied","[lbs/acre]",{"$f":"Input!Z167*7000/1000000","v":15.75},{"$f":"Input!Z168*7000/1000000","v":4.5500000000000002E-3},{"$f":"Input!Z169*7000/1000000","v":-0.35},{"$f":"Input!Z170*7000/1000000","v":-5.25},{"$f":"Input!Z171*7000/1000000","v":3.5000000000000001E-3},{"$f":"Input!Z172*7000/1000000","v":0.35},{"$f":"Input!Z173*7000/1000000","v":-5.25},{"$f":"Input!Z174*7000/1000000","v":4.9000000000000002E-2},{"$f":"Input!Z175*7000/1000000","v":0.21},{"$f":"Input!Z176*7000/1000000","v":1.5399999999999999E-3}]
[null,null,{"$f":"Input_GHG!C30","v":"CNG"},{"$f":"Input_GHG!E30","v":0.1},{"$f":"Input_GHG!F30","v":12.0372},{"$f":"Input_GHG!G30","v":3.8580900000000002E-3},{"$f":"Input_GHG!H30","v":2E-3},{"$f":"Input_GHG!K30","v":1E-4},{"$f":"Input_GHG!M30","v":0.01},{"$f":"Input_GHG!I30","v":13.275207999999999},null,"Potassium Applied","[lbs/acre]",{"$f":"Input!Z167*5500/1000000","v":12.375},{"$f":"Input!Z168*5500/1000000","v":3.5750000000000001E-3},{"$f":"Input!Z169*5500/1000000","v":-0.27500000000000002},{"$f":"Input!Z170*5500/1000000","v":-4.125},{"$f":"Input!Z171*5500/1000000","v":2.7499999999999998E-3},{"$f":"Input!Z172*5500/1000000","v":0.27500000000000002},{"$f":"Input!Z173*5500/1000000","v":-4.125},{"$f":"Input!Z174*5500/1000000","v":3.85E-2},{"$f":"Input!Z175*5500/1000000","v":0.16500000000000001},{"$f":"Input!Z176*5500/1000000","v":1.2099999999999999E-3}]
[null,null,{"$f":"Input_GHG!C32","v":"Electricity"},{"$f":"Input_GHG!E32","v":3.4120000000000001E-3},{"$f":"Input_GHG!F32","v":0.25918999999999998},{"$f":"Input_GHG!G32","v":4.3000000000000003E-6},{"$f":"Input_GHG!H32","v":9.9000000000000001E-6},{"$f":"Input_GHG!K32","v":1.247E-4},{"$f":"Input_GHG!M32","v":3.0420000000000002E-4},{"$f":"Input_GHG!I32","v":0.26074229999999998},null,"Sulfur Applied","[lbs/acre]",{"$f":"Input!Z167*2000/1000000","v":4.5},{"$f":"Input!Z168*2000/1000000","v":1.2999999999999999E-3},{"$f":"Input!Z169*2000/1000000","v":-0.1},{"$f":"Input!Z170*2000/1000000","v":-1.5},{"$f":"Input!Z171*2000/1000000","v":1E-3},{"$f":"Input!Z172*2000/1000000","v":0.1},{"$f":"Input!Z173*2000/1000000","v":-1.5},{"$f":"Input!Z174*2000/1000000","v":1.4E-2},{"$f":"Input!Z175*2000/1000000","v":0.06},{"$f":"Input!Z176*2000/1000000","v":4.4000000000000002E-4}]
[null,null,"Agrichem",{"$f":"IF(D1766=0,20000/1000000,D1766)","v":0.02},{"$f":"Input_GHG!F35","v":0},{"$f":"Input_GHG!G35","v":0},{"$f":"Input_GHG!H35","v":0},{"$f":"Input_GHG!K35","v":0},{"$f":"Input_GHG!M35","v":0},{"$f":"Input_GHG!I35","v":0},null,"Herbicide Applied","[oz/acre]",{"$f":"Input!Z167*100000/1000000/6","v":37.5},{"$f":"Input!Z168*100000/1000000/6","v":1.0833333333333334E-2},{"$f":"Input!Z169*100000/1000000/6","v":-0.83333333333333337},{"$f":"Input!Z170*100000/1000000/6","v":-12.5},{"$f":"Input!Z171*100000/1000000/6","v":8.3333333333333332E-3},{"$f":"Input!Z172*100000/1000000/6","v":0.83333333333333337},{"$f":"Input!Z173*100000/1000000/6","v":-12.5},{"$f":"Input!Z174*100000/1000000/6","v":0.11666666666666665},{"$f":"Input!Z175*100000/1000000/6","v":0.5},{"$f":"Input!Z176*100000/1000000/6","v":3.6666666666666666E-3}]
[null,null,"Soil Amendments",{"$f":"Report_Cost!F31/1000000","v":11.25},{"$f":"Input_GHG!F34","v":0},{"$f":"Input_GHG!G34","v":0},{"$f":"Input_GHG!H34","v":0},{"$f":"Input_GHG!K34","v":0},{"$f":"Input_GHG!M34","v":0},{"$f":"Input_GHG!I34","v":0},null,"Pesticide Applied","[oz/acre]",{"$f":"Input!Z167*100000/1000000/6","v":37.5},{"$f":"Input!Z168*100000/1000000/6","v":1.0833333333333334E-2},{"$f":"Input!Z169*100000/1000000/6","v":-0.83333333333333337},{"$f":"Input!Z170*100000/1000000/6","v":-12.5},{"$f":"Input!Z171*100000/1000000/6","v":8.3333333333333332E-3},{"$f":"Input!Z172*100000/1000000/6","v":0.83333333333333337},{"$f":"Input!Z173*100000/1000000/6","v":-12.5},{"$f":"Input!Z174*100000/1000000/6","v":0.11666666666666665},{"$f":"Input!Z175*100000/1000000/6","v":0.5},{"$f":"Input!Z176*100000/1000000/6","v":3.6666666666666666E-3}]
[null,null,"Labor",{"$f":"Report_Cost!F32/1000000","v":1.1900000000000001E-2},{"$f":"Input_GHG!F36","v":0},{"$f":"Input_GHG!G36","v":0},{"$f":"Input_GHG!H36","v":0},{"$f":"Input_GHG!K36","v":0},{"$f":"Input_GHG!M36","v":0},{"$f":"Input_GHG!I36","v":0},null,"Organics Applied","[DM lbs/acre]",{"$f":"Input!$Z$167*7500/1000000","v":16.875},{"$f":"Input!$Z$168*7500/1000000","v":4.875E-3},{"$f":"Input!$Z$169*7500/1000000","v":-0.375},{"$f":"Input!$Z$170*7500/1000000","v":-5.625},{"$f":"Input!$Z$171*7500/1000000","v":3.7499999999999999E-3},{"$f":"Input!$Z$172*7500/1000000","v":0.375},{"$f":"Input!$Z$173*7500/1000000","v":-5.625},{"$f":"Input!$Z$174*7500/1000000","v":5.2499999999999998E-2},{"$f":"Input!$Z$175*7500/1000000","v":0.22500000000000001},{"$f":"Input!$Z$176*7500/1000000","v":1.65E-3}]
[]
[null,null,null,null,null,null,null,null,null,null,null,"Irrigation Delivery","Units",1,2,3,4,5,6,7,8,9,10]
[null,null,"Benchmark",{"$f":"IF((Intermediate_Calcs!H36*Report_Cost!G33+Intermediate_Calcs!H37*Report_Cost!G34+Intermediate_Calcs!H38*Report_Cost!G35+Intermediate_Calcs!H39*Report_Cost!G36+Intermediate_Calcs!H40*Report_Cost!G37/16+Intermediate_Calcs!H41*Report_Cost!G38/16)=0,0,SUM(Intermediate_Calcs!H36:H41)/(Intermediate_Calcs!H36*Report_Cost!G33+Intermediate_Calcs!H37*Report_Cost!G34+Intermediate_Calcs!H38*Report_Cost!G35+Intermediate_Calcs!H39*Report_Cost!G36+Intermediate_Calcs!H40*Report_Cost!G37/16+Intermediate_Calcs!H41*Report_Cost!G38/16))","v":0},null,null,null,null,null,null,null,"Select Variable"]
[null,null,"Planned",{"$f":"IF((Intermediate_Calcs!Q36*Report_Cost!G33+Intermediate_Calcs!Q37*Report_Cost!G34+Intermediate_Calcs!Q38*Report_Cost!G35+Intermediate_Calcs!Q39*Report_Cost!G36+Intermediate_Calcs!Q40*Report_Cost!G37/16+Intermediate_Calcs!Q41*Report_Cost!G38/16)=0,0,SUM(Intermediate_Calcs!Q36:Q41)/(Intermediate_Calcs!Q36*Report_Cost!G33+Intermediate_Calcs!Q37*Report_Cost!G34+Intermediate_Calcs!Q38*Report_Cost!G35+Intermediate_Calcs!Q39*Report_Cost!G36+Intermediate_Calcs!Q40*Report_Cost!G37/16+Intermediate_Calcs!Q41*Report_Cost!G38/16))","v":0},null,null,null,null,null,null,null,"Gross Applied","[in]",{"$f":"(Input!Z167)/12*43560.1742405*7.48051948052/1000000*Intermediate_Calcs!D84/Intermediate_Calcs!H19","v":{"$error":"#DIV/0!"}},{"$f":"(Input!Z168)/12*43560.1742405*7.48051948052/1000000*Intermediate_Calcs!D84/Intermediate_Calcs!H19","v":{"$error":"#DIV/0!"}},{"$f":"(Input!Z169)/12*43560.1742405*7.48051948052/1000000*Intermediate_Calcs!D84/Intermediate_Calcs!H19","v":{"$error":"#DIV/0!"}},{"$f":"(Input!Z170)/12*43560.1742405*7.48051948052/1000000*Intermediate_Calcs!D84/Intermediate_Calcs!H19","v":{"$error":"#DIV/0!"}},{"$f":"(Input!Z171)/12*43560.1742405*7.48051948052/1000000*Intermediate_Calcs!D84/Intermediate_Calcs!H19","v":{"$error":"#DIV/0!"}},{"$f":"(Input!Z172)/12*43560.1742405*7.48051948052/1000000*Intermediate_Calcs!D84/Intermediate_Calcs!H19","v":{"$error":"#DIV/0!"}},{"$f":"(Input!Z173)/12*43560.1742405*7.48051948052/1000000*Intermediate_Calcs!D84/Intermediate_Calcs!H19","v":{"$error":"#DIV/0!"}},{"$f":"(Input!Z174)/12*43560.1742405*7.48051948052/1000000*Intermediate_Calcs!D84/Intermediate_Calcs!H19","v":{"$error":"#DIV/0!"}},{"$f":"(Input!Z175)/12*43560.1742405*7.48051948052/1000000*Intermediate_Calcs!D84/Intermediate_Calcs!H19","v":{"$error":"#DIV/0!"}},{"$f":"(Input!Z176)/12*43560.1742405*7.48051948052/1000000*Intermediate_Calcs!D84/Intermediate_Calcs!H19","v":{"$error":"#DIV/0!"}}]
[null,null,null,null,null,null,null,null,null,null,null,"Operation Pressure","[psi]",{"$f":"Input!Z167*Intermediate_Calcs!$D$70*SUM(Intermediate_Calcs!$C$64:$G$64)/970.185026663/Intermediate_Calcs!$D$69/Input!S14/Input!M10","v":{"$error":"#DIV/0!"}},{"$f":"Input!Z168*Intermediate_Calcs!$D$70*SUM(Intermediate_Calcs!$C$64:$G$64)/970.185026663/Intermediate_Calcs!$D$69/Input!S14/Input!M10","v":{"$error":"#DIV/0!"}},{"$f":"Input!Z169*Intermediate_Calcs!$D$70*SUM(Intermediate_Calcs!$C$64:$G$64)/970.185026663/Intermediate_Calcs!$D$69/Input!S14/Input!M10","v":{"$error":"#DIV/0!"}},{"$f":"Input!Z170*Intermediate_Calcs!$D$70*SUM(Intermediate_Calcs!$C$64:$G$64)/970.185026663/Intermediate_Calcs!$D$69/Input!S14/Input!M10","v":{"$error":"#DIV/0!"}},{"$f":"Input!Z171*Intermediate_Calcs!$D$70*SUM(Intermediate_Calcs!$C$64:$G$64)/970.185026663/Intermediate_Calcs!$D$69/Input!S14/Input!M10","v":{"$error":"#DIV/0!"}},{"$f":"Input!Z172*Intermediate_Calcs!$D$70*SUM(Intermediate_Calcs!$C$64:$G$64)/970.185026663/Intermediate_Calcs!$D$69/Input!S14/Input!M10","v":{"$error":"#DIV/0!"}},{"$f":"Input!Z173*Intermediate_Calcs!$D$70*SUM(Intermediate_Calcs!$C$64:$G$64)/970.185026663/Intermediate_Calcs!$D$69/Input!S14/Input!M10","v":{"$error":"#DIV/0!"}},{"$f":"Input!Z174*Intermediate_Calcs!$D$70*SUM(Intermediate_Calcs!$C$64:$G$64)/970.185026663/Intermediate_Calcs!$D$69/Input!S14/Input!M10","v":{"$error":"#DIV/0!"}},{"$f":"Input!Z175*Intermediate_Calcs!$D$70*SUM(Intermediate_Calcs!$C$64:$G$64)/970.185026663/Intermediate_Calcs!$D$69/Input!S14/Input!M10","v":{"$error":"#DIV/0!"}},{"$f":"Input!Z176*Intermediate_Calcs!$D$70*SUM(Intermediate_Calcs!$C$64:$G$64)/970.185026663/Intermediate_Calcs!$D$69/Input!S14/Input!M10","v":{"$error":"#DIV/0!"}}]
[null,null,null,null,null,null,null,null,null,null,null,"Pump Plant Efficiency","[%]",{"$f":"((Intermediate_Calcs!$D$68*Intermediate_Calcs!$D$70*SUM(Intermediate_Calcs!$C$64:$G$64)/970.185026663/Intermediate_Calcs!$D$69/Input!S14/Input!M10)-(Intermediate_Calcs!$D$68*Intermediate_Calcs!$D$70*SUM(Intermediate_Calcs!$C$64:$G$64)/970.185026663/Intermediate_Calcs!$E$69/Input!S14/Input!M10))/(Intermediate_Calcs!$E$69-Intermediate_Calcs!$D$69)*Input!Z167/100","v":{"$error":"#DIV/0!"}},{"$f":"((Intermediate_Calcs!$D$68*Intermediate_Calcs!$D$70*SUM(Intermediate_Calcs!$C$64:$G$64)/970.185026663/Intermediate_Calcs!$D$69/Input!S14/Input!M10)-(Intermediate_Calcs!$D$68*Intermediate_Calcs!$D$70*SUM(Intermediate_Calcs!$C$64:$G$64)/970.185026663/Intermediate_Calcs!$E$69/Input!S14/Input!M10))/(Intermediate_Calcs!$E$69-Intermediate_Calcs!$D$69)*Input!Z168/100","v":{"$error":"#DIV/0!"}},{"$f":"((Intermediate_Calcs!$D$68*Intermediate_Calcs!$D$70*SUM(Intermediate_Calcs!$C$64:$G$64)/970.185026663/Intermediate_Calcs!$D$69/Input!S14/Input!M10)-(Intermediate_Calcs!$D$68*Intermediate_Calcs!$D$70*SUM(Intermediate_Calcs!$C$64:$G$64)/970.185026663/Intermediate_Calcs!$E$69/Input!S14/Input!M10))/(Intermediate_Calcs!$E$69-Intermediate_Calcs!$D$69)*Input!Z169/100","v":{"$error":"#DIV/0!"}},{"$f":"((Intermediate_Calcs!$D$68*Intermediate_Calcs!$D$70*SUM(Intermediate_Calcs!$C$64:$G$64)/970.185026663/Intermediate_Calcs!$D$69/Input!S14/Input!M10)-(Intermediate_Calcs!$D$68*Intermediate_Calcs!$D$70*SUM(Intermediate_Calcs!$C$64:$G$64)/970.185026663/Intermediate_Calcs!$E$69/Input!S14/Input!M10))/(Intermediate_Calcs!$E$69-Intermediate_Calcs!$D$69)*Input!Z170/100","v":{"$error":"#DIV/0!"}},{"$f":"((Intermediate_Calcs!$D$68*Intermediate_Calcs!$D$70*SUM(Intermediate_Calcs!$C$64:$G$64)/970.185026663/Intermediate_Calcs!$D$69/Input!S14/Input!M10)-(Intermediate_Calcs!$D$68*Intermediate_Calcs!$D$70*SUM(Intermediate_Calcs!$C$64:$G$64)/970.185026663/Intermediate_Calcs!$E$69/Input!S14/Input!M10))/(Intermediate_Calcs!$E$69-Intermediate_Calcs!$D$69)*Input!Z171/100","v":{"$error":"#DIV/0!"}},{"$f":"((Intermediate_Calcs!$D$68*Intermediate_Calcs!$D$70*SUM(Intermediate_Calcs!$C$64:$G$64)/970.185026663/Intermediate_Calcs!$D$69/Input!S14/Input!M10)-(Intermediate_Calcs!$D$68*Intermediate_Calcs!$D$70*SUM(Intermediate_Calcs!$C$64:$G$64)/970.185026663/Intermediate_Calcs!$E$69/Input!S14/Input!M10))/(Intermediate_Calcs!$E$69-Intermediate_Calcs!$D$69)*Input!Z172/100","v":{"$error":"#DIV/0!"}},{"$f":"((Intermediate_Calcs!$D$68*Intermediate_Calcs!$D$70*SUM(Intermediate_Calcs!$C$64:$G$64)/970.185026663/Intermediate_Calcs!$D$69/Input!S14/Input!M10)-(Intermediate_Calcs!$D$68*Intermediate_Calcs!$D$70*SUM(Intermediate_Calcs!$C$64:$G$64)/970.185026663/Intermediate_Calcs!$E$69/Input!S14/Input!M10))/(Intermediate_Calcs!$E$69-Intermediate_Calcs!$D$69)*Input!Z173/100","v":{"$error":"#DIV/0!"}},{"$f":"((Intermediate_Calcs!$D$68*Intermediate_Calcs!$D$70*SUM(Intermediate_Calcs!$C$64:$G$64)/970.185026663/Intermediate_Calcs!$D$69/Input!S14/Input!M10)-(Intermediate_Calcs!$D$68*Intermediate_Calcs!$D$70*SUM(Intermediate_Calcs!$C$64:$G$64)/970.185026663/Intermediate_Calcs!$E$69/Input!S14/Input!M10))/(Intermediate_Calcs!$E$69-Intermediate_Calcs!$D$69)*Input!Z174/100","v":{"$error":"#DIV/0!"}},{"$f":"((Intermediate_Calcs!$D$68*Intermediate_Calcs!$D$70*SUM(Intermediate_Calcs!$C$64:$G$64)/970.185026663/Intermediate_Calcs!$D$69/Input!S14/Input!M10)-(Intermediate_Calcs!$D$68*Intermediate_Calcs!$D$70*SUM(Intermediate_Calcs!$C$64:$G$64)/970.185026663/Intermediate_Calcs!$E$69/Input!S14/Input!M10))/(Intermediate_Calcs!$E$69-Intermediate_Calcs!$D$69)*Input!Z175/100","v":{"$error":"#DIV/0!"}},{"$f":"((Intermediate_Calcs!$D$68*Intermediate_Calcs!$D$70*SUM(Intermediate_Calcs!$C$64:$G$64)/970.185026663/Intermediate_Calcs!$D$69/Input!S14/Input!M10)-(Intermediate_Calcs!$D$68*Intermediate_Calcs!$D$70*SUM(Intermediate_Calcs!$C$64:$G$64)/970.185026663/Intermediate_Calcs!$E$69/Input!S14/Input!M10))/(Intermediate_Calcs!$E$69-Intermediate_Calcs!$D$69)*Input!Z176/100","v":{"$error":"#DIV/0!"}}]
[null,null,null,null,null,null,null,null,null,null,null,"Operating Hours","[hrs/day]",{"$f":"Input!Z167*Intermediate_Calcs!$D$68*SUM(Intermediate_Calcs!$C$64:$G$64)/970.185026663/Intermediate_Calcs!$D$69/Input!S14/Input!M10","v":{"$error":"#DIV/0!"}},{"$f":"Input!Z168*Intermediate_Calcs!$D$68*SUM(Intermediate_Calcs!$C$64:$G$64)/970.185026663/Intermediate_Calcs!$D$69/Input!S14/Input!M10","v":{"$error":"#DIV/0!"}},{"$f":"Input!Z169*Intermediate_Calcs!$D$68*SUM(Intermediate_Calcs!$C$64:$G$64)/970.185026663/Intermediate_Calcs!$D$69/Input!S14/Input!M10","v":{"$error":"#DIV/0!"}},{"$f":"Input!Z170*Intermediate_Calcs!$D$68*SUM(Intermediate_Calcs!$C$64:$G$64)/970.185026663/Intermediate_Calcs!$D$69/Input!S14/Input!M10","v":{"$error":"#DIV/0!"}},{"$f":"Input!Z171*Intermediate_Calcs!$D$68*SUM(Intermediate_Calcs!$C$64:$G$64)/970.185026663/Intermediate_Calcs!$D$69/Input!S14/Input!M10","v":{"$error":"#DIV/0!"}},{"$f":"Input!Z172*Intermediate_Calcs!$D$68*SUM(Intermediate_Calcs!$C$64:$G$64)/970.185026663/Intermediate_Calcs!$D$69/Input!S14/Input!M10","v":{"$error":"#DIV/0!"}},{"$f":"Input!Z173*Intermediate_Calcs!$D$68*SUM(Intermediate_Calcs!$C$64:$G$64)/970.185026663/Intermediate_Calcs!$D$69/Input!S14/Input!M10","v":{"$error":"#DIV/0!"}},{"$f":"Input!Z174*Intermediate_Calcs!$D$68*SUM(Intermediate_Calcs!$C$64:$G$64)/970.185026663/Intermediate_Calcs!$D$69/Input!S14/Input!M10","v":{"$error":"#DIV/0!"}},{"$f":"Input!Z175*Intermediate_Calcs!$D$68*SUM(Intermediate_Calcs!$C$64:$G$64)/970.185026663/Intermediate_Calcs!$D$69/Input!S14/Input!M10","v":{"$error":"#DIV/0!"}},{"$f":"Input!Z176*Intermediate_Calcs!$D$68*SUM(Intermediate_Calcs!$C$64:$G$64)/970.185026663/Intermediate_Calcs!$D$69/Input!S14/Input!M10","v":{"$error":"#DIV/0!"}}]
[null,null,null,null,null,null,null,null,null,null,null,"Net Amount Applied","[in]",{"$f":"Intermediate_Calcs!$D$68*Intermediate_Calcs!$D$70*(Input!Z167)/35728.5639231/Intermediate_Calcs!$D$69/Intermediate_Calcs!$D$72","v":{"$error":"#DIV/0!"}},{"$f":"Intermediate_Calcs!$D$68*Intermediate_Calcs!$D$70*(Input!Z168)/35728.5639231/Intermediate_Calcs!$D$69/Intermediate_Calcs!$D$72","v":{"$error":"#DIV/0!"}},{"$f":"Intermediate_Calcs!$D$68*Intermediate_Calcs!$D$70*(Input!Z169)/35728.5639231/Intermediate_Calcs!$D$69/Intermediate_Calcs!$D$72","v":{"$error":"#DIV/0!"}},{"$f":"Intermediate_Calcs!$D$68*Intermediate_Calcs!$D$70*(Input!Z170)/35728.5639231/Intermediate_Calcs!$D$69/Intermediate_Calcs!$D$72","v":{"$error":"#DIV/0!"}},{"$f":"Intermediate_Calcs!$D$68*Intermediate_Calcs!$D$70*(Input!Z171)/35728.5639231/Intermediate_Calcs!$D$69/Intermediate_Calcs!$D$72","v":{"$error":"#DIV/0!"}},{"$f":"Intermediate_Calcs!$D$68*Intermediate_Calcs!$D$70*(Input!Z172)/35728.5639231/Intermediate_Calcs!$D$69/Intermediate_Calcs!$D$72","v":{"$error":"#DIV/0!"}},{"$f":"Intermediate_Calcs!$D$68*Intermediate_Calcs!$D$70*(Input!Z173)/35728.5639231/Intermediate_Calcs!$D$69/Intermediate_Calcs!$D$72","v":{"$error":"#DIV/0!"}},{"$f":"Intermediate_Calcs!$D$68*Intermediate_Calcs!$D$70*(Input!Z174)/35728.5639231/Intermediate_Calcs!$D$69/Intermediate_Calcs!$D$72","v":{"$error":"#DIV/0!"}},{"$f":"Intermediate_Calcs!$D$68*Intermediate_Calcs!$D$70*(Input!Z175)/35728.5639231/Intermediate_Calcs!$D$69/Intermediate_Calcs!$D$72","v":{"$error":"#DIV/0!"}},{"$f":"Intermediate_Calcs!$D$68*Intermediate_Calcs!$D$70*(Input!Z176)/35728.5639231/Intermediate_Calcs!$D$69/Intermediate_Calcs!$D$72","v":{"$error":"#DIV/0!"}}]
[null,null,null,null,null,null,null,null,null,null,null,"Uniformity of Application","[%]",{"$f":"((Intermediate_Calcs!$D$68*Intermediate_Calcs!$D$70*SUM(Intermediate_Calcs!$C$58:$G$58)/35728.5639231/Intermediate_Calcs!$D$69/Intermediate_Calcs!$D$72)-(Intermediate_Calcs!$D$68*Intermediate_Calcs!$D$70*SUM(Intermediate_Calcs!$C$58:$G$58)/35728.5639231/Intermediate_Calcs!$D$69/Intermediate_Calcs!$E$72))/(Intermediate_Calcs!$E$72-Intermediate_Calcs!$D$72)*Input!Z167/100","v":{"$error":"#DIV/0!"}},{"$f":"((Intermediate_Calcs!$D$68*Intermediate_Calcs!$D$70*SUM(Intermediate_Calcs!$C$58:$G$58)/35728.5639231/Intermediate_Calcs!$D$69/Intermediate_Calcs!$D$72)-(Intermediate_Calcs!$D$68*Intermediate_Calcs!$D$70*SUM(Intermediate_Calcs!$C$58:$G$58)/35728.5639231/Intermediate_Calcs!$D$69/Intermediate_Calcs!$E$72))/(Intermediate_Calcs!$E$72-Intermediate_Calcs!$D$72)*Input!Z168/100","v":{"$error":"#DIV/0!"}},{"$f":"((Intermediate_Calcs!$D$68*Intermediate_Calcs!$D$70*SUM(Intermediate_Calcs!$C$58:$G$58)/35728.5639231/Intermediate_Calcs!$D$69/Intermediate_Calcs!$D$72)-(Intermediate_Calcs!$D$68*Intermediate_Calcs!$D$70*SUM(Intermediate_Calcs!$C$58:$G$58)/35728.5639231/Intermediate_Calcs!$D$69/Intermediate_Calcs!$E$72))/(Intermediate_Calcs!$E$72-Intermediate_Calcs!$D$72)*Input!Z169/100","v":{"$error":"#DIV/0!"}},{"$f":"((Intermediate_Calcs!$D$68*Intermediate_Calcs!$D$70*SUM(Intermediate_Calcs!$C$58:$G$58)/35728.5639231/Intermediate_Calcs!$D$69/Intermediate_Calcs!$D$72)-(Intermediate_Calcs!$D$68*Intermediate_Calcs!$D$70*SUM(Intermediate_Calcs!$C$58:$G$58)/35728.5639231/Intermediate_Calcs!$D$69/Intermediate_Calcs!$E$72))/(Intermediate_Calcs!$E$72-Intermediate_Calcs!$D$72)*Input!Z170/100","v":{"$error":"#DIV/0!"}},{"$f":"((Intermediate_Calcs!$D$68*Intermediate_Calcs!$D$70*SUM(Intermediate_Calcs!$C$58:$G$58)/35728.5639231/Intermediate_Calcs!$D$69/Intermediate_Calcs!$D$72)-(Intermediate_Calcs!$D$68*Intermediate_Calcs!$D$70*SUM(Intermediate_Calcs!$C$58:$G$58)/35728.5639231/Intermediate_Calcs!$D$69/Intermediate_Calcs!$E$72))/(Intermediate_Calcs!$E$72-Intermediate_Calcs!$D$72)*Input!Z171/100","v":{"$error":"#DIV/0!"}},{"$f":"((Intermediate_Calcs!$D$68*Intermediate_Calcs!$D$70*SUM(Intermediate_Calcs!$C$58:$G$58)/35728.5639231/Intermediate_Calcs!$D$69/Intermediate_Calcs!$D$72)-(Intermediate_Calcs!$D$68*Intermediate_Calcs!$D$70*SUM(Intermediate_Calcs!$C$58:$G$58)/35728.5639231/Intermediate_Calcs!$D$69/Intermediate_Calcs!$E$72))/(Intermediate_Calcs!$E$72-Intermediate_Calcs!$D$72)*Input!Z172/100","v":{"$error":"#DIV/0!"}},{"$f":"((Intermediate_Calcs!$D$68*Intermediate_Calcs!$D$70*SUM(Intermediate_Calcs!$C$58:$G$58)/35728.5639231/Intermediate_Calcs!$D$69/Intermediate_Calcs!$D$72)-(Intermediate_Calcs!$D$68*Intermediate_Calcs!$D$70*SUM(Intermediate_Calcs!$C$58:$G$58)/35728.5639231/Intermediate_Calcs!$D$69/Intermediate_Calcs!$E$72))/(Intermediate_Calcs!$E$72-Intermediate_Calcs!$D$72)*Input!Z173/100","v":{"$error":"#DIV/0!"}},{"$f":"((Intermediate_Calcs!$D$68*Intermediate_Calcs!$D$70*SUM(Intermediate_Calcs!$C$58:$G$58)/35728.5639231/Intermediate_Calcs!$D$69/Intermediate_Calcs!$D$72)-(Intermediate_Calcs!$D$68*Intermediate_Calcs!$D$70*SUM(Intermediate_Calcs!$C$58:$G$58)/35728.5639231/Intermediate_Calcs!$D$69/Intermediate_Calcs!$E$72))/(Intermediate_Calcs!$E$72-Intermediate_Calcs!$D$72)*Input!Z174/100","v":{"$error":"#DIV/0!"}},{"$f":"((Intermediate_Calcs!$D$68*Intermediate_Calcs!$D$70*SUM(Intermediate_Calcs!$C$58:$G$58)/35728.5639231/Intermediate_Calcs!$D$69/Intermediate_Calcs!$D$72)-(Intermediate_Calcs!$D$68*Intermediate_Calcs!$D$70*SUM(Intermediate_Calcs!$C$58:$G$58)/35728.5639231/Intermediate_Calcs!$D$69/Intermediate_Calcs!$E$72))/(Intermediate_Calcs!$E$72-Intermediate_Calcs!$D$72)*Input!Z175/100","v":{"$error":"#DIV/0!"}},{"$f":"((Intermediate_Calcs!$D$68*Intermediate_Calcs!$D$70*SUM(Intermediate_Calcs!$C$58:$G$58)/35728.5639231/Intermediate_Calcs!$D$69/Intermediate_Calcs!$D$72)-(Intermediate_Calcs!$D$68*Intermediate_Calcs!$D$70*SUM(Intermediate_Calcs!$C$58:$G$58)/35728.5639231/Intermediate_Calcs!$D$69/Intermediate_Calcs!$E$72))/(Intermediate_Calcs!$E$72-Intermediate_Calcs!$D$72)*Input!Z176/100","v":{"$error":"#DIV/0!"}}]
[null,null,null,null,null,null,null,null,null,null,null,"Irrigation Application","[in/day]",0,0,0,0,0,0,0,0,0,0]
[]
[null,null,null,null,null,null,null,null,null,null,null,"Null"]
[null,null,null,null,null,null,null,null,null,null,null,"Select Type"]
[]
[]
[null,null,null,null,null,null,null,null,null,null,null,"Other Delivery 1","Units",1,2,3,4,5,6,7,8,9,10]
[null,null,null,null,null,null,null,null,null,null,null,"Select Variable"]
[null,null,null,null,null,null,null,null,null,null,null,"Amount Applied","[Mgal/field]",{"$f":"Input!Z167*Intermediate_Calcs!$D$120/Input!$J$14","v":{"$error":"#DIV/0!"}},{"$f":"Input!Z168*Intermediate_Calcs!$D$120/Input!$J$14","v":{"$error":"#DIV/0!"}},{"$f":"Input!Z169*Intermediate_Calcs!$D$120/Input!$J$14","v":{"$error":"#DIV/0!"}},{"$f":"Input!Z170*Intermediate_Calcs!$D$120/Input!$J$14","v":{"$error":"#DIV/0!"}},{"$f":"Input!Z171*Intermediate_Calcs!$D$120/Input!$J$14","v":{"$error":"#DIV/0!"}},{"$f":"Input!Z172*Intermediate_Calcs!$D$120/Input!$J$14","v":{"$error":"#DIV/0!"}},{"$f":"Input!Z173*Intermediate_Calcs!$D$120/Input!$J$14","v":{"$error":"#DIV/0!"}},{"$f":"Input!Z174*Intermediate_Calcs!$D$120/Input!$J$14","v":{"$error":"#DIV/0!"}},{"$f":"Input!Z175*Intermediate_Calcs!$D$120/Input!$J$14","v":{"$error":"#DIV/0!"}},{"$f":"Input!Z176*Intermediate_Calcs!$D$120/Input!$J$14","v":{"$error":"#DIV/0!"}}]
[null,null,null,null,null,null,null,null,null,null,null,"Operation Pressure","[psi]",{"$f":"Input!Z167*SUM(Intermediate_Calcs!$C$103:$G$103)/40.4244796986/Intermediate_Calcs!$D$108/Input!S14/Input!M10","v":{"$error":"#DIV/0!"}},{"$f":"Input!Z168*SUM(Intermediate_Calcs!$C$103:$G$103)/40.4244796986/Intermediate_Calcs!$D$108/Input!S14/Input!M10","v":{"$error":"#DIV/0!"}},{"$f":"Input!Z169*SUM(Intermediate_Calcs!$C$103:$G$103)/40.4244796986/Intermediate_Calcs!$D$108/Input!S14/Input!M10","v":{"$error":"#DIV/0!"}},{"$f":"Input!Z170*SUM(Intermediate_Calcs!$C$103:$G$103)/40.4244796986/Intermediate_Calcs!$D$108/Input!S14/Input!M10","v":{"$error":"#DIV/0!"}},{"$f":"Input!Z171*SUM(Intermediate_Calcs!$C$103:$G$103)/40.4244796986/Intermediate_Calcs!$D$108/Input!S14/Input!M10","v":{"$error":"#DIV/0!"}},{"$f":"Input!Z172*SUM(Intermediate_Calcs!$C$103:$G$103)/40.4244796986/Intermediate_Calcs!$D$108/Input!S14/Input!M10","v":{"$error":"#DIV/0!"}},{"$f":"Input!Z173*SUM(Intermediate_Calcs!$C$103:$G$103)/40.4244796986/Intermediate_Calcs!$D$108/Input!S14/Input!M10","v":{"$error":"#DIV/0!"}},{"$f":"Input!Z174*SUM(Intermediate_Calcs!$C$103:$G$103)/40.4244796986/Intermediate_Calcs!$D$108/Input!S14/Input!M10","v":{"$error":"#DIV/0!"}},{"$f":"Input!Z175*SUM(Intermediate_Calcs!$C$103:$G$103)/40.4244796986/Intermediate_Calcs!$D$108/Input!S14/Input!M10","v":{"$error":"#DIV/0!"}},{"$f":"Input!Z176*SUM(Intermediate_Calcs!$C$103:$G$103)/40.4244796986/Intermediate_Calcs!$D$108/Input!S14/Input!M10","v":{"$error":"#DIV/0!"}}]
[null,null,null,null,null,null,null,null,null,null,null,"Pump Plant Efficiency","[%]",{"$f":"((Intermediate_Calcs!$D$107*SUM(Intermediate_Calcs!$C$103:$G$103)/40.4244796986/Intermediate_Calcs!$D$108/Input!S14/Input!M10)-(Intermediate_Calcs!$D$107*SUM(Intermediate_Calcs!$C$103:$G$103)/40.4244796986/Intermediate_Calcs!$E$108/Input!S14/Input!M10))/(Intermediate_Calcs!$E$108-Intermediate_Calcs!$D$108)*Input!Z167/100","v":{"$error":"#DIV/0!"}},{"$f":"((Intermediate_Calcs!$D$107*SUM(Intermediate_Calcs!$C$103:$G$103)/40.4244796986/Intermediate_Calcs!$D$108/Input!S14/Input!M10)-(Intermediate_Calcs!$D$107*SUM(Intermediate_Calcs!$C$103:$G$103)/40.4244796986/Intermediate_Calcs!$E$108/Input!S14/Input!M10))/(Intermediate_Calcs!$E$108-Intermediate_Calcs!$D$108)*Input!Z168/100","v":{"$error":"#DIV/0!"}},{"$f":"((Intermediate_Calcs!$D$107*SUM(Intermediate_Calcs!$C$103:$G$103)/40.4244796986/Intermediate_Calcs!$D$108/Input!S14/Input!M10)-(Intermediate_Calcs!$D$107*SUM(Intermediate_Calcs!$C$103:$G$103)/40.4244796986/Intermediate_Calcs!$E$108/Input!S14/Input!M10))/(Intermediate_Calcs!$E$108-Intermediate_Calcs!$D$108)*Input!Z169/100","v":{"$error":"#DIV/0!"}},{"$f":"((Intermediate_Calcs!$D$107*SUM(Intermediate_Calcs!$C$103:$G$103)/40.4244796986/Intermediate_Calcs!$D$108/Input!S14/Input!M10)-(Intermediate_Calcs!$D$107*SUM(Intermediate_Calcs!$C$103:$G$103)/40.4244796986/Intermediate_Calcs!$E$108/Input!S14/Input!M10))/(Intermediate_Calcs!$E$108-Intermediate_Calcs!$D$108)*Input!Z170/100","v":{"$error":"#DIV/0!"}},{"$f":"((Intermediate_Calcs!$D$107*SUM(Intermediate_Calcs!$C$103:$G$103)/40.4244796986/Intermediate_Calcs!$D$108/Input!S14/Input!M10)-(Intermediate_Calcs!$D$107*SUM(Intermediate_Calcs!$C$103:$G$103)/40.4244796986/Intermediate_Calcs!$E$108/Input!S14/Input!M10))/(Intermediate_Calcs!$E$108-Intermediate_Calcs!$D$108)*Input!Z171/100","v":{"$error":"#DIV/0!"}},{"$f":"((Intermediate_Calcs!$D$107*SUM(Intermediate_Calcs!$C$103:$G$103)/40.4244796986/Intermediate_Calcs!$D$108/Input!S14/Input!M10)-(Intermediate_Calcs!$D$107*SUM(Intermediate_Calcs!$C$103:$G$103)/40.4244796986/Intermediate_Calcs!$E$108/Input!S14/Input!M10))/(Intermediate_Calcs!$E$108-Intermediate_Calcs!$D$108)*Input!Z172/100","v":{"$error":"#DIV/0!"}},{"$f":"((Intermediate_Calcs!$D$107*SUM(Intermediate_Calcs!$C$103:$G$103)/40.4244796986/Intermediate_Calcs!$D$108/Input!S14/Input!M10)-(Intermediate_Calcs!$D$107*SUM(Intermediate_Calcs!$C$103:$G$103)/40.4244796986/Intermediate_Calcs!$E$108/Input!S14/Input!M10))/(Intermediate_Calcs!$E$108-Intermediate_Calcs!$D$108)*Input!Z173/100","v":{"$error":"#DIV/0!"}},{"$f":"((Intermediate_Calcs!$D$107*SUM(Intermediate_Calcs!$C$103:$G$103)/40.4244796986/Intermediate_Calcs!$D$108/Input!S14/Input!M10)-(Intermediate_Calcs!$D$107*SUM(Intermediate_Calcs!$C$103:$G$103)/40.4244796986/Intermediate_Calcs!$E$108/Input!S14/Input!M10))/(Intermediate_Calcs!$E$108-Intermediate_Calcs!$D$108)*Input!Z174/100","v":{"$error":"#DIV/0!"}},{"$f":"((Intermediate_Calcs!$D$107*SUM(Intermediate_Calcs!$C$103:$G$103)/40.4244796986/Intermediate_Calcs!$D$108/Input!S14/Input!M10)-(Intermediate_Calcs!$D$107*SUM(Intermediate_Calcs!$C$103:$G$103)/40.4244796986/Intermediate_Calcs!$E$108/Input!S14/Input!M10))/(Intermediate_Calcs!$E$108-Intermediate_Calcs!$D$108)*Input!Z175/100","v":{"$error":"#DIV/0!"}},{"$f":"((Intermediate_Calcs!$D$107*SUM(Intermediate_Calcs!$C$103:$G$103)/40.4244796986/Intermediate_Calcs!$D$108/Input!S14/Input!M10)-(Intermediate_Calcs!$D$107*SUM(Intermediate_Calcs!$C$103:$G$103)/40.4244796986/Intermediate_Calcs!$E$108/Input!S14/Input!M10))/(Intermediate_Calcs!$E$108-Intermediate_Calcs!$D$108)*Input!Z176/100","v":{"$error":"#DIV/0!"}}]
[null,null,null,null,null,null,null,null,null,null,null,null,"[MMBTU]",{"$f":"Input!Z167","v":2250},{"$f":"Input!Z168","v":0.65},{"$f":"Input!Z169","v":-50},{"$f":"Input!Z170","v":-750},{"$f":"Input!Z171","v":0.5},{"$f":"Input!Z172","v":50},{"$f":"Input!Z173","v":-750},{"$f":"Input!Z174","v":7},{"$f":"Input!Z175","v":30},{"$f":"Input!Z176","v":0.22}]
[null,null,null,null,null,null,null,null,null,null,null,"Days of Operation","[days/yr]",{"$f":"SUM(Intermediate_Calcs!$C$98:$G$98)/AVERAGE(Intermediate_Calcs!$C$97:$G$97)*Input!Z167*Intermediate_Calcs!$D$120/Input!$J$14","v":{"$error":"#DIV/0!"}},{"$f":"SUM(Intermediate_Calcs!$C$98:$G$98)/AVERAGE(Intermediate_Calcs!$C$97:$G$97)*Input!Z168*Intermediate_Calcs!$D$120/Input!$J$14","v":{"$error":"#DIV/0!"}},{"$f":"SUM(Intermediate_Calcs!$C$98:$G$98)/AVERAGE(Intermediate_Calcs!$C$97:$G$97)*Input!Z169*Intermediate_Calcs!$D$120/Input!$J$14","v":{"$error":"#DIV/0!"}},{"$f":"SUM(Intermediate_Calcs!$C$98:$G$98)/AVERAGE(Intermediate_Calcs!$C$97:$G$97)*Input!Z170*Intermediate_Calcs!$D$120/Input!$J$14","v":{"$error":"#DIV/0!"}},{"$f":"SUM(Intermediate_Calcs!$C$98:$G$98)/AVERAGE(Intermediate_Calcs!$C$97:$G$97)*Input!Z171*Intermediate_Calcs!$D$120/Input!$J$14","v":{"$error":"#DIV/0!"}},{"$f":"SUM(Intermediate_Calcs!$C$98:$G$98)/AVERAGE(Intermediate_Calcs!$C$97:$G$97)*Input!Z172*Intermediate_Calcs!$D$120/Input!$J$14","v":{"$error":"#DIV/0!"}},{"$f":"SUM(Intermediate_Calcs!$C$98:$G$98)/AVERAGE(Intermediate_Calcs!$C$97:$G$97)*Input!Z173*Intermediate_Calcs!$D$120/Input!$J$14","v":{"$error":"#DIV/0!"}},{"$f":"SUM(Intermediate_Calcs!$C$98:$G$98)/AVERAGE(Intermediate_Calcs!$C$97:$G$97)*Input!Z174*Intermediate_Calcs!$D$120/Input!$J$14","v":{"$error":"#DIV/0!"}},{"$f":"SUM(Intermediate_Calcs!$C$98:$G$98)/AVERAGE(Intermediate_Calcs!$C$97:$G$97)*Input!Z175*Intermediate_Calcs!$D$120/Input!$J$14","v":{"$error":"#DIV/0!"}},{"$f":"SUM(Intermediate_Calcs!$C$98:$G$98)/AVERAGE(Intermediate_Calcs!$C$97:$G$97)*Input!Z176*Intermediate_Calcs!$D$120/Input!$J$14","v":{"$error":"#DIV/0!"}}]
[null,null,null,null,null,null,null,null,null,null,null,"Operating Hours","[hrs/day]",{"$f":"Input!Z167*Intermediate_Calcs!$D$107*SUM(Intermediate_Calcs!$C$103:$G$103)/970.185026663/Intermediate_Calcs!$D$108/Input!S14/Input!M10","v":{"$error":"#DIV/0!"}},{"$f":"Input!Z168*Intermediate_Calcs!$D$107*SUM(Intermediate_Calcs!$C$103:$G$103)/970.185026663/Intermediate_Calcs!$D$108/Input!S14/Input!M10","v":{"$error":"#DIV/0!"}},{"$f":"Input!Z169*Intermediate_Calcs!$D$107*SUM(Intermediate_Calcs!$C$103:$G$103)/970.185026663/Intermediate_Calcs!$D$108/Input!S14/Input!M10","v":{"$error":"#DIV/0!"}},{"$f":"Input!Z170*Intermediate_Calcs!$D$107*SUM(Intermediate_Calcs!$C$103:$G$103)/970.185026663/Intermediate_Calcs!$D$108/Input!S14/Input!M10","v":{"$error":"#DIV/0!"}},{"$f":"Input!Z171*Intermediate_Calcs!$D$107*SUM(Intermediate_Calcs!$C$103:$G$103)/970.185026663/Intermediate_Calcs!$D$108/Input!S14/Input!M10","v":{"$error":"#DIV/0!"}},{"$f":"Input!Z172*Intermediate_Calcs!$D$107*SUM(Intermediate_Calcs!$C$103:$G$103)/970.185026663/Intermediate_Calcs!$D$108/Input!S14/Input!M10","v":{"$error":"#DIV/0!"}},{"$f":"Input!Z173*Intermediate_Calcs!$D$107*SUM(Intermediate_Calcs!$C$103:$G$103)/970.185026663/Intermediate_Calcs!$D$108/Input!S14/Input!M10","v":{"$error":"#DIV/0!"}},{"$f":"Input!Z174*Intermediate_Calcs!$D$107*SUM(Intermediate_Calcs!$C$103:$G$103)/970.185026663/Intermediate_Calcs!$D$108/Input!S14/Input!M10","v":{"$error":"#DIV/0!"}},{"$f":"Input!Z175*Intermediate_Calcs!$D$107*SUM(Intermediate_Calcs!$C$103:$G$103)/970.185026663/Intermediate_Calcs!$D$108/Input!S14/Input!M10","v":{"$error":"#DIV/0!"}},{"$f":"Input!Z176*Intermediate_Calcs!$D$107*SUM(Intermediate_Calcs!$C$103:$G$103)/970.185026663/Intermediate_Calcs!$D$108/Input!S14/Input!M10","v":{"$error":"#DIV/0!"}}]
[]
[null,null,null,null,null,null,null,null,null,null,null,"Other Delivery 2","Units",1,2,3,4,5,6,7,8,9,10]
[null,null,null,null,null,null,null,null,null,null,null,"Select Variable"]
[null,null,null,null,null,null,null,null,null,null,null,"Amount Applied","[Mgal/field]",{"$f":"Input!Z167*Intermediate_Calcs!$D$156/Input!$J$14","v":{"$error":"#VALUE!"}},{"$f":"Input!Z168*Intermediate_Calcs!$D$156/Input!$J$14","v":{"$error":"#VALUE!"}},{"$f":"Input!Z169*Intermediate_Calcs!$D$156/Input!$J$14","v":{"$error":"#VALUE!"}},{"$f":"Input!Z170*Intermediate_Calcs!$D$156/Input!$J$14","v":{"$error":"#VALUE!"}},{"$f":"Input!Z171*Intermediate_Calcs!$D$156/Input!$J$14","v":{"$error":"#VALUE!"}},{"$f":"Input!Z172*Intermediate_Calcs!$D$156/Input!$J$14","v":{"$error":"#VALUE!"}},{"$f":"Input!Z173*Intermediate_Calcs!$D$156/Input!$J$14","v":{"$error":"#VALUE!"}},{"$f":"Input!Z174*Intermediate_Calcs!$D$156/Input!$J$14","v":{"$error":"#VALUE!"}},{"$f":"Input!Z175*Intermediate_Calcs!$D$156/Input!$J$14","v":{"$error":"#VALUE!"}},{"$f":"Input!Z176*Intermediate_Calcs!$D$156/Input!$J$14","v":{"$error":"#VALUE!"}}]
[null,null,null,null,null,null,null,null,null,null,null,"Operation Pressure","[psi]",{"$f":"Input!Z167*SUM(Intermediate_Calcs!$C$139:$G$139)/40.4244796986/Intermediate_Calcs!$D$144/Input!S14/Input!M10","v":{"$error":"#DIV/0!"}},{"$f":"Input!Z168*SUM(Intermediate_Calcs!$C$139:$G$139)/40.4244796986/Intermediate_Calcs!$D$144/Input!S14/Input!M10","v":{"$error":"#DIV/0!"}},{"$f":"Input!Z169*SUM(Intermediate_Calcs!$C$139:$G$139)/40.4244796986/Intermediate_Calcs!$D$144/Input!S14/Input!M10","v":{"$error":"#DIV/0!"}},{"$f":"Input!Z170*SUM(Intermediate_Calcs!$C$139:$G$139)/40.4244796986/Intermediate_Calcs!$D$144/Input!S14/Input!M10","v":{"$error":"#DIV/0!"}},{"$f":"Input!Z171*SUM(Intermediate_Calcs!$C$139:$G$139)/40.4244796986/Intermediate_Calcs!$D$144/Input!S14/Input!M10","v":{"$error":"#DIV/0!"}},{"$f":"Input!Z172*SUM(Intermediate_Calcs!$C$139:$G$139)/40.4244796986/Intermediate_Calcs!$D$144/Input!S14/Input!M10","v":{"$error":"#DIV/0!"}},{"$f":"Input!Z173*SUM(Intermediate_Calcs!$C$139:$G$139)/40.4244796986/Intermediate_Calcs!$D$144/Input!S14/Input!M10","v":{"$error":"#DIV/0!"}},{"$f":"Input!Z174*SUM(Intermediate_Calcs!$C$139:$G$139)/40.4244796986/Intermediate_Calcs!$D$144/Input!S14/Input!M10","v":{"$error":"#DIV/0!"}},{"$f":"Input!Z175*SUM(Intermediate_Calcs!$C$139:$G$139)/40.4244796986/Intermediate_Calcs!$D$144/Input!S14/Input!M10","v":{"$error":"#DIV/0!"}},{"$f":"Input!Z176*SUM(Intermediate_Calcs!$C$139:$G$139)/40.4244796986/Intermediate_Calcs!$D$144/Input!S14/Input!M10","v":{"$error":"#DIV/0!"}}]
[null,null,null,null,null,null,null,null,null,null,null,"Pump Plant Efficiency","[%]",{"$f":"((Intermediate_Calcs!$D$143*SUM(Intermediate_Calcs!$C$139:$G$139)/40.4244796986/Intermediate_Calcs!$D$144/Input!S14/Input!M10)-(Intermediate_Calcs!$D$143*SUM(Intermediate_Calcs!$C$139:$G$139)/40.4244796986/Intermediate_Calcs!$E$144/Input!S14/Input!M10))/(Intermediate_Calcs!$E$144-Intermediate_Calcs!$D$144)*Input!Z167/100","v":{"$error":"#DIV/0!"}},{"$f":"((Intermediate_Calcs!$D$143*SUM(Intermediate_Calcs!$C$139:$G$139)/40.4244796986/Intermediate_Calcs!$D$144/Input!S14/Input!M10)-(Intermediate_Calcs!$D$143*SUM(Intermediate_Calcs!$C$139:$G$139)/40.4244796986/Intermediate_Calcs!$E$144/Input!S14/Input!M10))/(Intermediate_Calcs!$E$144-Intermediate_Calcs!$D$144)*Input!Z168/100","v":{"$error":"#DIV/0!"}},{"$f":"((Intermediate_Calcs!$D$143*SUM(Intermediate_Calcs!$C$139:$G$139)/40.4244796986/Intermediate_Calcs!$D$144/Input!S14/Input!M10)-(Intermediate_Calcs!$D$143*SUM(Intermediate_Calcs!$C$139:$G$139)/40.4244796986/Intermediate_Calcs!$E$144/Input!S14/Input!M10))/(Intermediate_Calcs!$E$144-Intermediate_Calcs!$D$144)*Input!Z169/100","v":{"$error":"#DIV/0!"}},{"$f":"((Intermediate_Calcs!$D$143*SUM(Intermediate_Calcs!$C$139:$G$139)/40.4244796986/Intermediate_Calcs!$D$144/Input!S14/Input!M10)-(Intermediate_Calcs!$D$143*SUM(Intermediate_Calcs!$C$139:$G$139)/40.4244796986/Intermediate_Calcs!$E$144/Input!S14/Input!M10))/(Intermediate_Calcs!$E$144-Intermediate_Calcs!$D$144)*Input!Z170/100","v":{"$error":"#DIV/0!"}},{"$f":"((Intermediate_Calcs!$D$143*SUM(Intermediate_Calcs!$C$139:$G$139)/40.4244796986/Intermediate_Calcs!$D$144/Input!S14/Input!M10)-(Intermediate_Calcs!$D$143*SUM(Intermediate_Calcs!$C$139:$G$139)/40.4244796986/Intermediate_Calcs!$E$144/Input!S14/Input!M10))/(Intermediate_Calcs!$E$144-Intermediate_Calcs!$D$144)*Input!Z171/100","v":{"$error":"#DIV/0!"}},{"$f":"((Intermediate_Calcs!$D$143*SUM(Intermediate_Calcs!$C$139:$G$139)/40.4244796986/Intermediate_Calcs!$D$144/Input!S14/Input!M10)-(Intermediate_Calcs!$D$143*SUM(Intermediate_Calcs!$C$139:$G$139)/40.4244796986/Intermediate_Calcs!$E$144/Input!S14/Input!M10))/(Intermediate_Calcs!$E$144-Intermediate_Calcs!$D$144)*Input!Z172/100","v":{"$error":"#DIV/0!"}},{"$f":"((Intermediate_Calcs!$D$143*SUM(Intermediate_Calcs!$C$139:$G$139)/40.4244796986/Intermediate_Calcs!$D$144/Input!S14/Input!M10)-(Intermediate_Calcs!$D$143*SUM(Intermediate_Calcs!$C$139:$G$139)/40.4244796986/Intermediate_Calcs!$E$144/Input!S14/Input!M10))/(Intermediate_Calcs!$E$144-Intermediate_Calcs!$D$144)*Input!Z173/100","v":{"$error":"#DIV/0!"}},{"$f":"((Intermediate_Calcs!$D$143*SUM(Intermediate_Calcs!$C$139:$G$139)/40.4244796986/Intermediate_Calcs!$D$144/Input!S14/Input!M10)-(Intermediate_Calcs!$D$143*SUM(Intermediate_Calcs!$C$139:$G$139)/40.4244796986/Intermediate_Calcs!$E$144/Input!S14/Input!M10))/(Intermediate_Calcs!$E$144-Intermediate_Calcs!$D$144)*Input!Z174/100","v":{"$error":"#DIV/0!"}},{"$f":"((Intermediate_Calcs!$D$143*SUM(Intermediate_Calcs!$C$139:$G$139)/40.4244796986/Intermediate_Calcs!$D$144/Input!S14/Input!M10)-(Intermediate_Calcs!$D$143*SUM(Intermediate_Calcs!$C$139:$G$139)/40.4244796986/Intermediate_Calcs!$E$144/Input!S14/Input!M10))/(Intermediate_Calcs!$E$144-Intermediate_Calcs!$D$144)*Input!Z175/100","v":{"$error":"#DIV/0!"}},{"$f":"((Intermediate_Calcs!$D$143*SUM(Intermediate_Calcs!$C$139:$G$139)/40.4244796986/Intermediate_Calcs!$D$144/Input!S14/Input!M10)-(Intermediate_Calcs!$D$143*SUM(Intermediate_Calcs!$C$139:$G$139)/40.4244796986/Intermediate_Calcs!$E$144/Input!S14/Input!M10))/(Intermediate_Calcs!$E$144-Intermediate_Calcs!$D$144)*Input!Z176/100","v":{"$error":"#DIV/0!"}}]
[null,null,null,null,null,null,null,null,null,null,null,null,"[MMBTU]",{"$f":"Input!Z167","v":2250},{"$f":"Input!Z168","v":0.65},{"$f":"Input!Z169","v":-50},{"$f":"Input!Z170","v":-750},{"$f":"Input!Z171","v":0.5},{"$f":"Input!Z172","v":50},{"$f":"Input!Z173","v":-750},{"$f":"Input!Z174","v":7},{"$f":"Input!Z175","v":30},{"$f":"Input!Z176","v":0.22}]
[null,null,null,null,null,null,null,null,null,null,null,"Days of Operation","[days/yr]",{"$f":"SUM(Intermediate_Calcs!$C$134:$G$134)/AVERAGE(Intermediate_Calcs!$C$133:$G$133)*Input!Z167*Intermediate_Calcs!$D$156/Input!$J$14","v":{"$error":"#DIV/0!"}},{"$f":"SUM(Intermediate_Calcs!$C$134:$G$134)/AVERAGE(Intermediate_Calcs!$C$133:$G$133)*Input!Z168*Intermediate_Calcs!$D$156/Input!$J$14","v":{"$error":"#DIV/0!"}},{"$f":"SUM(Intermediate_Calcs!$C$134:$G$134)/AVERAGE(Intermediate_Calcs!$C$133:$G$133)*Input!Z169*Intermediate_Calcs!$D$156/Input!$J$14","v":{"$error":"#DIV/0!"}},{"$f":"SUM(Intermediate_Calcs!$C$134:$G$134)/AVERAGE(Intermediate_Calcs!$C$133:$G$133)*Input!Z170*Intermediate_Calcs!$D$156/Input!$J$14","v":{"$error":"#DIV/0!"}},{"$f":"SUM(Intermediate_Calcs!$C$134:$G$134)/AVERAGE(Intermediate_Calcs!$C$133:$G$133)*Input!Z171*Intermediate_Calcs!$D$156/Input!$J$14","v":{"$error":"#DIV/0!"}},{"$f":"SUM(Intermediate_Calcs!$C$134:$G$134)/AVERAGE(Intermediate_Calcs!$C$133:$G$133)*Input!Z172*Intermediate_Calcs!$D$156/Input!$J$14","v":{"$error":"#DIV/0!"}},{"$f":"SUM(Intermediate_Calcs!$C$134:$G$134)/AVERAGE(Intermediate_Calcs!$C$133:$G$133)*Input!Z173*Intermediate_Calcs!$D$156/Input!$J$14","v":{"$error":"#DIV/0!"}},{"$f":"SUM(Intermediate_Calcs!$C$134:$G$134)/AVERAGE(Intermediate_Calcs!$C$133:$G$133)*Input!Z174*Intermediate_Calcs!$D$156/Input!$J$14","v":{"$error":"#DIV/0!"}},{"$f":"SUM(Intermediate_Calcs!$C$134:$G$134)/AVERAGE(Intermediate_Calcs!$C$133:$G$133)*Input!Z175*Intermediate_Calcs!$D$156/Input!$J$14","v":{"$error":"#DIV/0!"}},{"$f":"SUM(Intermediate_Calcs!$C$134:$G$134)/AVERAGE(Intermediate_Calcs!$C$133:$G$133)*Input!Z176*Intermediate_Calcs!$D$156/Input!$J$14","v":{"$error":"#DIV/0!"}}]
[null,null,null,null,null,null,null,null,null,null,null,"Operating Hours","[hrs/day]",{"$f":"Input!Z167*Intermediate_Calcs!$D$143*SUM(Intermediate_Calcs!$C$139:$G$139)/970.185026663/Intermediate_Calcs!$D$144/Input!S14/Input!M10","v":{"$error":"#DIV/0!"}},{"$f":"Input!Z168*Intermediate_Calcs!$D$143*SUM(Intermediate_Calcs!$C$139:$G$139)/970.185026663/Intermediate_Calcs!$D$144/Input!S14/Input!M10","v":{"$error":"#DIV/0!"}},{"$f":"Input!Z169*Intermediate_Calcs!$D$143*SUM(Intermediate_Calcs!$C$139:$G$139)/970.185026663/Intermediate_Calcs!$D$144/Input!S14/Input!M10","v":{"$error":"#DIV/0!"}},{"$f":"Input!Z170*Intermediate_Calcs!$D$143*SUM(Intermediate_Calcs!$C$139:$G$139)/970.185026663/Intermediate_Calcs!$D$144/Input!S14/Input!M10","v":{"$error":"#DIV/0!"}},{"$f":"Input!Z171*Intermediate_Calcs!$D$143*SUM(Intermediate_Calcs!$C$139:$G$139)/970.185026663/Intermediate_Calcs!$D$144/Input!S14/Input!M10","v":{"$error":"#DIV/0!"}},{"$f":"Input!Z172*Intermediate_Calcs!$D$143*SUM(Intermediate_Calcs!$C$139:$G$139)/970.185026663/Intermediate_Calcs!$D$144/Input!S14/Input!M10","v":{"$error":"#DIV/0!"}},{"$f":"Input!Z173*Intermediate_Calcs!$D$143*SUM(Intermediate_Calcs!$C$139:$G$139)/970.185026663/Intermediate_Calcs!$D$144/Input!S14/Input!M10","v":{"$error":"#DIV/0!"}},{"$f":"Input!Z174*Intermediate_Calcs!$D$143*SUM(Intermediate_Calcs!$C$139:$G$139)/970.185026663/Intermediate_Calcs!$D$144/Input!S14/Input!M10","v":{"$error":"#DIV/0!"}},{"$f":"Input!Z175*Intermediate_Calcs!$D$143*SUM(Intermediate_Calcs!$C$139:$G$139)/970.185026663/Intermediate_Calcs!$D$144/Input!S14/Input!M10","v":{"$error":"#DIV/0!"}},{"$f":"Input!Z176*Intermediate_Calcs!$D$143*SUM(Intermediate_Calcs!$C$139:$G$139)/970.185026663/Intermediate_Calcs!$D$144/Input!S14/Input!M10","v":{"$error":"#DIV/0!"}}]
[]
[null,null,null,null,null,null,null,null,null,null,null,"Other Delivery 3","Units",1,2,3,4,5,6,7,8,9,10]
[null,null,null,null,null,null,null,null,null,null,null,"Select Variable"]
[null,null,null,null,null,null,null,null,null,null,null,"Amount Applied","[Mgal/field]",{"$f":"Input!Z167*Intermediate_Calcs!$D$192/Input!$J$14","v":{"$error":"#VALUE!"}},{"$f":"Input!Z168*Intermediate_Calcs!$D$192/Input!$J$14","v":{"$error":"#VALUE!"}},{"$f":"Input!Z169*Intermediate_Calcs!$D$192/Input!$J$14","v":{"$error":"#VALUE!"}},{"$f":"Input!Z170*Intermediate_Calcs!$D$192/Input!$J$14","v":{"$error":"#VALUE!"}},{"$f":"Input!Z171*Intermediate_Calcs!$D$192/Input!$J$14","v":{"$error":"#VALUE!"}},{"$f":"Input!Z172*Intermediate_Calcs!$D$192/Input!$J$14","v":{"$error":"#VALUE!"}},{"$f":"Input!Z173*Intermediate_Calcs!$D$192/Input!$J$14","v":{"$error":"#VALUE!"}},{"$f":"Input!Z174*Intermediate_Calcs!$D$192/Input!$J$14","v":{"$error":"#VALUE!"}},{"$f":"Input!Z175*Intermediate_Calcs!$D$192/Input!$J$14","v":{"$error":"#VALUE!"}},{"$f":"Input!Z176*Intermediate_Calcs!$D$192/Input!$J$14","v":{"$error":"#VALUE!"}}]
[null,null,null,null,null,null,null,null,null,null,null,"Operation Pressure","[psi]",{"$f":"Input!Z167*SUM(Intermediate_Calcs!$C$175:$G$175)/40.4244796986/Intermediate_Calcs!$D$180/Input!S14/Input!M10","v":{"$error":"#DIV/0!"}},{"$f":"Input!Z168*SUM(Intermediate_Calcs!$C$175:$G$175)/40.4244796986/Intermediate_Calcs!$D$180/Input!S14/Input!M10","v":{"$error":"#DIV/0!"}},{"$f":"Input!Z169*SUM(Intermediate_Calcs!$C$175:$G$175)/40.4244796986/Intermediate_Calcs!$D$180/Input!S14/Input!M10","v":{"$error":"#DIV/0!"}},{"$f":"Input!Z170*SUM(Intermediate_Calcs!$C$175:$G$175)/40.4244796986/Intermediate_Calcs!$D$180/Input!S14/Input!M10","v":{"$error":"#DIV/0!"}},{"$f":"Input!Z171*SUM(Intermediate_Calcs!$C$175:$G$175)/40.4244796986/Intermediate_Calcs!$D$180/Input!S14/Input!M10","v":{"$error":"#DIV/0!"}},{"$f":"Input!Z172*SUM(Intermediate_Calcs!$C$175:$G$175)/40.4244796986/Intermediate_Calcs!$D$180/Input!S14/Input!M10","v":{"$error":"#DIV/0!"}},{"$f":"Input!Z173*SUM(Intermediate_Calcs!$C$175:$G$175)/40.4244796986/Intermediate_Calcs!$D$180/Input!S14/Input!M10","v":{"$error":"#DIV/0!"}},{"$f":"Input!Z174*SUM(Intermediate_Calcs!$C$175:$G$175)/40.4244796986/Intermediate_Calcs!$D$180/Input!S14/Input!M10","v":{"$error":"#DIV/0!"}},{"$f":"Input!Z175*SUM(Intermediate_Calcs!$C$175:$G$175)/40.4244796986/Intermediate_Calcs!$D$180/Input!S14/Input!M10","v":{"$error":"#DIV/0!"}},{"$f":"Input!Z176*SUM(Intermediate_Calcs!$C$175:$G$175)/40.4244796986/Intermediate_Calcs!$D$180/Input!S14/Input!M10","v":{"$error":"#DIV/0!"}}]
[null,null,null,null,null,null,null,null,null,null,null,"Pump Plant Efficiency","[%]",{"$f":"((Intermediate_Calcs!$D$179*SUM(Intermediate_Calcs!$C$175:$G$175)/40.4244796986/Intermediate_Calcs!$D$180/Input!S14/Input!M10)-(Intermediate_Calcs!$D$179*SUM(Intermediate_Calcs!$C$175:$G$175)/40.4244796986/Intermediate_Calcs!$E$180/Input!S14/Input!M10))/(Intermediate_Calcs!$E$180-Intermediate_Calcs!$D$180)*Input!Z167/100","v":{"$error":"#DIV/0!"}},{"$f":"((Intermediate_Calcs!$D$179*SUM(Intermediate_Calcs!$C$175:$G$175)/40.4244796986/Intermediate_Calcs!$D$180/Input!S14/Input!M10)-(Intermediate_Calcs!$D$179*SUM(Intermediate_Calcs!$C$175:$G$175)/40.4244796986/Intermediate_Calcs!$E$180/Input!S14/Input!M10))/(Intermediate_Calcs!$E$180-Intermediate_Calcs!$D$180)*Input!Z168/100","v":{"$error":"#DIV/0!"}},{"$f":"((Intermediate_Calcs!$D$179*SUM(Intermediate_Calcs!$C$175:$G$175)/40.4244796986/Intermediate_Calcs!$D$180/Input!S14/Input!M10)-(Intermediate_Calcs!$D$179*SUM(Intermediate_Calcs!$C$175:$G$175)/40.4244796986/Intermediate_Calcs!$E$180/Input!S14/Input!M10))/(Intermediate_Calcs!$E$180-Intermediate_Calcs!$D$180)*Input!Z169/100","v":{"$error":"#DIV/0!"}},{"$f":"((Intermediate_Calcs!$D$179*SUM(Intermediate_Calcs!$C$175:$G$175)/40.4244796986/Intermediate_Calcs!$D$180/Input!S14/Input!M10)-(Intermediate_Calcs!$D$179*SUM(Intermediate_Calcs!$C$175:$G$175)/40.4244796986/Intermediate_Calcs!$E$180/Input!S14/Input!M10))/(Intermediate_Calcs!$E$180-Intermediate_Calcs!$D$180)*Input!Z170/100","v":{"$error":"#DIV/0!"}},{"$f":"((Intermediate_Calcs!$D$179*SUM(Intermediate_Calcs!$C$175:$G$175)/40.4244796986/Intermediate_Calcs!$D$180/Input!S14/Input!M10)-(Intermediate_Calcs!$D$179*SUM(Intermediate_Calcs!$C$175:$G$175)/40.4244796986/Intermediate_Calcs!$E$180/Input!S14/Input!M10))/(Intermediate_Calcs!$E$180-Intermediate_Calcs!$D$180)*Input!Z171/100","v":{"$error":"#DIV/0!"}},{"$f":"((Intermediate_Calcs!$D$179*SUM(Intermediate_Calcs!$C$175:$G$175)/40.4244796986/Intermediate_Calcs!$D$180/Input!S14/Input!M10)-(Intermediate_Calcs!$D$179*SUM(Intermediate_Calcs!$C$175:$G$175)/40.4244796986/Intermediate_Calcs!$E$180/Input!S14/Input!M10))/(Intermediate_Calcs!$E$180-Intermediate_Calcs!$D$180)*Input!Z172/100","v":{"$error":"#DIV/0!"}},{"$f":"((Intermediate_Calcs!$D$179*SUM(Intermediate_Calcs!$C$175:$G$175)/40.4244796986/Intermediate_Calcs!$D$180/Input!S14/Input!M10)-(Intermediate_Calcs!$D$179*SUM(Intermediate_Calcs!$C$175:$G$175)/40.4244796986/Intermediate_Calcs!$E$180/Input!S14/Input!M10))/(Intermediate_Calcs!$E$180-Intermediate_Calcs!$D$180)*Input!Z173/100","v":{"$error":"#DIV/0!"}},{"$f":"((Intermediate_Calcs!$D$179*SUM(Intermediate_Calcs!$C$175:$G$175)/40.4244796986/Intermediate_Calcs!$D$180/Input!S14/Input!M10)-(Intermediate_Calcs!$D$179*SUM(Intermediate_Calcs!$C$175:$G$175)/40.4244796986/Intermediate_Calcs!$E$180/Input!S14/Input!M10))/(Intermediate_Calcs!$E$180-Intermediate_Calcs!$D$180)*Input!Z174/100","v":{"$error":"#DIV/0!"}},{"$f":"((Intermediate_Calcs!$D$179*SUM(Intermediate_Calcs!$C$175:$G$175)/40.4244796986/Intermediate_Calcs!$D$180/Input!S14/Input!M10)-(Intermediate_Calcs!$D$179*SUM(Intermediate_Calcs!$C$175:$G$175)/40.4244796986/Intermediate_Calcs!$E$180/Input!S14/Input!M10))/(Intermediate_Calcs!$E$180-Intermediate_Calcs!$D$180)*Input!Z175/100","v":{"$error":"#DIV/0!"}},{"$f":"((Intermediate_Calcs!$D$179*SUM(Intermediate_Calcs!$C$175:$G$175)/40.4244796986/Intermediate_Calcs!$D$180/Input!S14/Input!M10)-(Intermediate_Calcs!$D$179*SUM(Intermediate_Calcs!$C$175:$G$175)/40.4244796986/Intermediate_Calcs!$E$180/Input!S14/Input!M10))/(Intermediate_Calcs!$E$180-Intermediate_Calcs!$D$180)*Input!Z176/100","v":{"$error":"#DIV/0!"}}]
[null,null,null,null,null,null,null,null,null,null,null,null,"[MMBTU]",{"$f":"Input!Z167","v":2250},{"$f":"Input!Z168","v":0.65},{"$f":"Input!Z169","v":-50},{"$f":"Input!Z170","v":-750},{"$f":"Input!Z171","v":0.5},{"$f":"Input!Z172","v":50},{"$f":"Input!Z173","v":-750},{"$f":"Input!Z174","v":7},{"$f":"Input!Z175","v":30},{"$f":"Input!Z176","v":0.22}]
[null,null,null,null,null,null,null,null,null,null,null,"Days of Operation","[days/yr]",{"$f":"SUM(Intermediate_Calcs!$C$170:$G$170)/AVERAGE(Intermediate_Calcs!$C$169:$G$169)*Input!Z167*Intermediate_Calcs!$D$192/Input!$J$14","v":{"$error":"#DIV/0!"}},{"$f":"SUM(Intermediate_Calcs!$C$170:$G$170)/AVERAGE(Intermediate_Calcs!$C$169:$G$169)*Input!Z168*Intermediate_Calcs!$D$192/Input!$J$14","v":{"$error":"#DIV/0!"}},{"$f":"SUM(Intermediate_Calcs!$C$170:$G$170)/AVERAGE(Intermediate_Calcs!$C$169:$G$169)*Input!Z169*Intermediate_Calcs!$D$192/Input!$J$14","v":{"$error":"#DIV/0!"}},{"$f":"SUM(Intermediate_Calcs!$C$170:$G$170)/AVERAGE(Intermediate_Calcs!$C$169:$G$169)*Input!Z170*Intermediate_Calcs!$D$192/Input!$J$14","v":{"$error":"#DIV/0!"}},{"$f":"SUM(Intermediate_Calcs!$C$170:$G$170)/AVERAGE(Intermediate_Calcs!$C$169:$G$169)*Input!Z171*Intermediate_Calcs!$D$192/Input!$J$14","v":{"$error":"#DIV/0!"}},{"$f":"SUM(Intermediate_Calcs!$C$170:$G$170)/AVERAGE(Intermediate_Calcs!$C$169:$G$169)*Input!Z172*Intermediate_Calcs!$D$192/Input!$J$14","v":{"$error":"#DIV/0!"}},{"$f":"SUM(Intermediate_Calcs!$C$170:$G$170)/AVERAGE(Intermediate_Calcs!$C$169:$G$169)*Input!Z173*Intermediate_Calcs!$D$192/Input!$J$14","v":{"$error":"#DIV/0!"}},{"$f":"SUM(Intermediate_Calcs!$C$170:$G$170)/AVERAGE(Intermediate_Calcs!$C$169:$G$169)*Input!Z174*Intermediate_Calcs!$D$192/Input!$J$14","v":{"$error":"#DIV/0!"}},{"$f":"SUM(Intermediate_Calcs!$C$170:$G$170)/AVERAGE(Intermediate_Calcs!$C$169:$G$169)*Input!Z175*Intermediate_Calcs!$D$192/Input!$J$14","v":{"$error":"#DIV/0!"}},{"$f":"SUM(Intermediate_Calcs!$C$170:$G$170)/AVERAGE(Intermediate_Calcs!$C$169:$G$169)*Input!Z176*Intermediate_Calcs!$D$192/Input!$J$14","v":{"$error":"#DIV/0!"}}]
[null,null,null,null,null,null,null,null,null,null,null,"Operating Hours","[hrs/day]",{"$f":"Input!Z167*Intermediate_Calcs!$D$179*SUM(Intermediate_Calcs!$C$175:$G$175)/970.185026663/Intermediate_Calcs!$D$180/Input!S14/Input!M10","v":{"$error":"#DIV/0!"}},{"$f":"Input!Z168*Intermediate_Calcs!$D$179*SUM(Intermediate_Calcs!$C$175:$G$175)/970.185026663/Intermediate_Calcs!$D$180/Input!S14/Input!M10","v":{"$error":"#DIV/0!"}},{"$f":"Input!Z169*Intermediate_Calcs!$D$179*SUM(Intermediate_Calcs!$C$175:$G$175)/970.185026663/Intermediate_Calcs!$D$180/Input!S14/Input!M10","v":{"$error":"#DIV/0!"}},{"$f":"Input!Z170*Intermediate_Calcs!$D$179*SUM(Intermediate_Calcs!$C$175:$G$175)/970.185026663/Intermediate_Calcs!$D$180/Input!S14/Input!M10","v":{"$error":"#DIV/0!"}},{"$f":"Input!Z171*Intermediate_Calcs!$D$179*SUM(Intermediate_Calcs!$C$175:$G$175)/970.185026663/Intermediate_Calcs!$D$180/Input!S14/Input!M10","v":{"$error":"#DIV/0!"}},{"$f":"Input!Z172*Intermediate_Calcs!$D$179*SUM(Intermediate_Calcs!$C$175:$G$175)/970.185026663/Intermediate_Calcs!$D$180/Input!S14/Input!M10","v":{"$error":"#DIV/0!"}},{"$f":"Input!Z173*Intermediate_Calcs!$D$179*SUM(Intermediate_Calcs!$C$175:$G$175)/970.185026663/Intermediate_Calcs!$D$180/Input!S14/Input!M10","v":{"$error":"#DIV/0!"}},{"$f":"Input!Z174*Intermediate_Calcs!$D$179*SUM(Intermediate_Calcs!$C$175:$G$175)/970.185026663/Intermediate_Calcs!$D$180/Input!S14/Input!M10","v":{"$error":"#DIV/0!"}},{"$f":"Input!Z175*Intermediate_Calcs!$D$179*SUM(Intermediate_Calcs!$C$175:$G$175)/970.185026663/Intermediate_Calcs!$D$180/Input!S14/Input!M10","v":{"$error":"#DIV/0!"}},{"$f":"Input!Z176*Intermediate_Calcs!$D$179*SUM(Intermediate_Calcs!$C$175:$G$175)/970.185026663/Intermediate_Calcs!$D$180/Input!S14/Input!M10","v":{"$error":"#DIV/0!"}}]
[]
[]
[]
[]
[]
[]
[]
[]
[]
[]
[]
[]
[]
[]
[]
[]
[]
[]
[]
[]
[]
[]
[]
[]
[]
[]
[]
[]
[]
[]
[]
[]
[]
[]
[]
[]
[]
[]
[]
[]
[]
[]
[]
[]
[]
[]
[]
[]
[]
[]
[]
[]
[]
[]
[]
[]
[]
[]
[]
[]
[]
[]
[]
[]
[]
[]
[]
[null,null,null,null,null,1290]
[]
[]
[]
[]
[]
[]
[]
[]
[]
[]
[]
[]
[]
[]
[]
[]
[]
[]
[]
[]
[]
[]
[]
[]
[]
[]
[null,null,null,null,null,1317]
[]
[]
[]
[]
[]
[]
[]
[]
[]
[]
[]
[]
[]
[]
[]
[]
[]
[]
[]
[]
[]
[]
[]
[]
[]
[]
[]
[]
[]
[]
[]
[]
[]
[]
[]
[]
[]
[]
[]
[]
[]
[]
[]
[]
[]
[]
[]
[]
[]
[]
[]
[]
[]
[]
[]
[]
[]
[]
[]
[]
[]
[]
[]
[]
[]
[]
[]
[]
[]
[]
[]
[]
[]
[]
[]
[]
[]
[]
[]
[]
[]
[]
[]
[]
[]
[]
[]
[]
[]
[]
[]
[]
[]
[]
[]
[]
[]
[]
[]
[]
[]
[]
[]
[]
[]
[]
[]
[]
[]
[]
[]
[]
[]
[]
[]
[]
[]
[]
[]
[]
[]
[]
[]
[]
[]
[]
[]
[]
[]
[]
[]
[]
[]
[]
[]
[]
[]
[]
[]
[]
[]
[]
[]
[]
[]
[]
[]
[]
[]
[]
[]
[]
[]
[]
[]
[]
[]
[]
[]
[]
[]
[]
[]
[]
[]
[]
[]
[]
[]
[]
[]
[]
[]
[]
[]
[]
[]
[]
[]
[]
[]
[]
[]
[]
[]
[]
[]
[]
[]
[]
[]
[]
[]
[]
[]
[]
[]
[]
[]
[]
[]
[]
[]
[]
[]
[]
[]
[]
[]
[]
[]
[]
[]
[]
[]
[]
[]
[]
[]
[]
[]
[]
[]
[]
[]
[]
[]
[]
[]
[]
[]
[]
[]
[]
[]
[]
[]
[]
[]
[]
[]
[]
[]
[]
[]
[]
[]
[]
[]
[]
[]
[]
[]
[]
[]
[]
[]
[]
[]
[]
[]
[]
[]
[]
[]
[]
[]
[]
[]
[]
[]
[]
[]
[]
[]
[]
[]
[]
[]
[]
[]
[]
[]
[]
[]
[]
[]
[]
[]
[]
[]
[]
[]
[]
[]
[]
[]
[]
[]
[]
[]
[]
[]
[]
[]
[]
[]
[]
[]
[]
[]
[]
[]
[]
[]
[]
[]
[]
[]
[]
[]
[]
[]
[]
[]
[]
[]
[]
[]
[]
[]
[]
[]
[]
[]
[]
[]
[]
[]
[]
[]
[]
[]
[]
[]
[]
[]
[]
[]
[]
[]
[]
[]
[]
[]
[]
[]
[]
[]
[]
[]
[]
[]
[]
[]
[]
[]
[]
[]
[]
[]
[]
[]
[]
[]
[]
[]
[]
[]
[]
[]
[]
[]
[]
[]
[]
[]
[]
[]
[]
[]
[]
[]
[]
[]
[]
[]
[]
[]
[]
[]
[]
[]
[]
[]
[]
[]
[]
[]
[]
[]
[]
[]
[]
[]
[]
[]
[]
[]
[]
[]
[]
[]
[]
[]
[]
[]
[]
[]
[]
[]
[]
[]
[]
[]
[]
[]
[]
[]
[]
[]
[]
[]
[]
[]
[]
[]
[]
[]
[]
[]
[]
[]
[]
[]
[]
[]
[]
[]
[]
[]
[]
[]
[]
[]
[]
[]
[]
[]
[]
[]
[]
[]
[]
[]
[]
[]
[]
[]
[]
[]
[]
[]
[]
[]
[]
[]
[]
[]
[]
[]
[]
[]
[]
[]
[]
[]
[]
[]
[]
[]
[]
[]
[]
[]
[]
[]
[]
[]
[]
[]
[]
[]
[]
[]
[]
[]
[]
[]
[]
[]
[]
[]
[]
[]
[]
[]
[]
[]
[]
[]
[]
[]
[]
[]
[]
[]
[]
[]
[]
[]
[]
[]
[]
[]
[]
[]
[]
[]
[]
[]
[]
[]
[]
[]
[]
[]
[]
[]
[]
[]
[]
[]
[]
[]
[]
[]
[]
[]
[]
[]
[]
[]
[]
[]
[]
[]
[]
[]
[]
[]
[]
[]
[]
[]
[]
[]
[]
[]
[]
[]
[]
[]
[]
[]
[]
[]
[]
[]
[]
[]
[]
[]
[]
[]
[]
[]
[]
[]
[]
[]
[]
[]
[]
[]
[]
[]
[]
[]
[]
[]
[]
[]
[]
[]
[]
[]
[]
[]
[]
[]
[]
[]
[]
[]
[]
[]
[]
[]
[]
[]
[]
[]
[]
[]
[]
[]
[]
[]
[]
[]
[]
[]
[]
[]
[]
[]
[]
[]
[]
[]
[]
[]
[]
[]
[]
[]
[]
[]
[]
[]
[]
[]
[]
[]
[]
[]
[]
[]
[]
[]
[]
[]
[]
[]
[]
[]
[]
[]
[]
[]
[]
[]
[]
[]
[]
[]
[]
[]
[]
[]
[]
[]
[]
[]
[]
[]
[]
[]
[]
[]
[]
[]
[]
[]
[]
[]
[]
[]
[]
[]
[]
[]
[]
[]
[]
[]
[]
[]
[]
[]
[]
[]
[]
[]
[]
[]
[]
[]
[]
[]
[]
[]
[]
[]
[]
[]
[]
[]
[]
[]
[]
[]
[]
[]
[]
[]
[]
[]
[]
[]
[]
[]
[]
[]
[]
[]
[]
[]
[]
[]
[]
[]
[]
[]
[]
[]
[]
[]
[]
[]
[]
[]
[]
[]
[]
[]
[]
[]
[]
[]
[]
[]
[]
[]
[]
[]
[]
[]
[]
[]
[]
[]
[]
[]
[]
[]
[]
[]
[]
[]
[]
[]
[]
[]
[]
[]
[]
[]
[]
[]
[]
[]
[]
[]
[]
[]
[]
[]
[]
[]
[]
[]
[]
[]
[]
[]
[]
[]
[]
[]
[]
[]
[]
[]
[]
[]
[]
[]
[]
[]
[]
[]
[]
[]
[]
[]
[]
[]
[]
[]
[]
[]
[]
[]
[]
[]
[]
[]
[]
[]
[]
[]
[]
[]
[]
[]
[]
[]
[]
[]
[]
[]
[]
[]
[]
[]
[]
[]
[]
[]
[]
[]
[]
[]
[]
[]
[]
[]
[]
[]
[]
[]
[]
[]
[]
[]
[]
[]
[]
[]
[]
[]
[]
[]
[]
[]
[]
[]
[]
[]
[]
[]
[]
[]
[]
[]
[]
[]
[]
[]
[]
[]
[]
[]
[]
[]
[]
[]
[]
[]
[]
[]
[]
[]
[]
[]
[]
[]
[]
[]
[]
[]
[]
[]
[]
[]
[]
[]
[]
[]
[]
[]
[]
[]
[]
[]
[]
[]
[]
[]
[]
[]
[]
[]
[]
[]
[]
[]
[]
[]
[]
[]
[]
[]
[]
[]
[]
[]
[]
[]
[]
[]
[]
[]
[]
[]
[]
[]
[]
[]
[]
[]
[]
[]
[]
[]
[]
[]
[]
[]
[]
[]
[]
[]
[]
[]
[]
[]
[]
[]
[]
[]
[]
[]
[]
[]
[]
[]
[]
[]
[]
[]
[]
[]
[]
[]
[]
[]
[]
[]
[]
[]
[]
[]
[]
[]
[]
[]
[]
[]
[]
[]
[]
[]
[]
[]
[]
[]
[]
[]
[]
[]
[]
[]
[]
[]
[]
[]
[]
[]
[]
[]
[]
[]
[]
[]
[]
[]
[]
[]
[]
[]
[]
[]
[]
[]
[]
[]
[]
[]
[]
[]
[]
[]
[]
[]
[]
[]
[]
[]
[]
[]
[]
[]
[]
[]
[]
[]
[]
[]
[]
[]
[]
[]
[]
[]
[]
[]
[]
[]
[]
[]
[]
[]
[]
[]
[]
[]
[]
[]
[]
[]
[]
[]
[]
[]
[]
[]
[]
[]
[]
[]
[]
[]
[]
[]
[]
[]
[]
[]
[]
[]
[]
[]
[]
[]
[]
[]
[]
[]
[]
[]
[]
[]
[]
[]
[]
[]
[]
[]
[]
[]
[]
[]
[]
[]
[]
[]
[]
[]
[]
[]
[]
[]
[]
[]
[]
[]
[]
[]
[]
[]
[]
[]
[]
[]
[]
[]
[]
[]
[]
[]
[]
[]
[]
[]
[]
[]
[]
[]
[]
[]
[]
[]
[]
[]
[]
[]
[]
[]
[]
[]
[]
[]
[]
[]
[]
[]
[]
[]
[]
[]
[]
[]
[]
[]
[]
[]
[]
[]
[]
[]
[]
[]
[]
[]
[]
[]
[]
[]
[]
[]
[]
[]
[]
[]
[]
[]
[]
[]
[]
[]
[]
[]
[]
[]
[]
[]
[]
[]
[]
[]
[]
[]
[]
[]
[]
[]
[]
[]
[]
[]
[]
[]
[]
[]
[]
[]
[]
[]
[]
[]
[]
[]
[]
[]
[]
[]
[]
[]
[]
[]
[]
[]
[]
[]
[]
[]
[]
[]
[]
[]
[]
[]
[]
[]
[]
[]
[]
[]
[]
[]
[]
[]
[]
[]
[]
[]
[]
[]
[]
[]
[]
[]
[]
[]
[]
[]
[]
[]
[]
[]
[]
[]
[]
[]
[]
[]
[]
[]
[]
[]
[]
[]
[]
[]
[]
[]
[]
[]
[]
[]
[]
[]
[]
[]
[]
[]
[]
[]
[]
[]
[]
[]
[]
[]
[]
[]
[]
[]
[]
[]
[]
[]
[]
[]
[]
[]
[]
[]
[]
[]
[]
[]
[]
[]
[]
[]
[]
[]
[]
[]
[]
[]
[]
[]
[]
[]
[]
[]
[]
[]
[]
[]
[]
[]
[]
[]
[]
[]
[]
[]
[]
[]
[]
[]
[]
[]
[]
[]
[]
[]
[]
[]
[]
[]
[]
[]
[]
[]
[]
[]
[]
[]
[]
[]
[]
[]
[]
[]
[]
[]
[]
[]
[]
[]
[]
[]
[]
[]
[]
[]
[]
[]
[]
[]
[]
[]
[]
[]
[]
[]
[]
[]
[]
[]
[]
[]
[]
[]
[]
[]
[]
[]
[]
[]
[]
[]
[]
[]
[]
[]
[]
[]
[]
[]
[]
[]
[]
[]
[]
[]
[]
[]
[]
[]
[]
[]
[]
[]
[]
[]
[]
[]
[]
[]
[]
[]
[]
[]
[]
[]
[]
[]
[]
[]
[]
[]
[]
[]
[]
[]
[]
[]
[]
[]
[]
[]
[]
[]
[]
[]
[]
[]
[]
[]
[]
[]
[]
[]
[]
[]
[]
[]
[]
[]
[]
[]
[]
[]
[]
[]
[]
[]
[]
[]
[]
[]
[]
[]
[]
[]
[]
[]
[]
[]
[]
[]
[]
[]
[]
[]
[]
[]
[]
[]
[]
[]
[]
[]
[]
[]
[]
[]
[]
[]
[]
[]
[]
[]
[]
[]
[]
[]
[]
[]
[]
[]
[]
[]
[]
[]
[]
[]
[]
[]
[]
[]
[]
[]
[]
[]
[]
[]
[]
[]
[]
[]
[]
[]
[]
[]
[]
[]
[]
[]
[]
[]
[]
[]
[]
[]
[]
[]
[]
[]
[]
[]
[]
[]
[]
[]
[]
[]
[]
[]
[]
[]
[]
[]
[]
[]
[]
[]
[]
[]
[]
[]
[]
[]
[]
[]
[]
[]
[]
[]
[]
[]
[]
[]
[]
[]
[]
[]
[]
[]
[]
[]
[]
[]
[]
[]
[]
[]
[]
[]
[]
[]
[]
[]
[]
[]
[]
[]
[]
[]
[]
[]
[]
[]
[]
[]
[]
[]
[]
[]
[]
[]
[]
[]
[]
[]
[]
[]
[]
[]
[]
[]
[]
[]
[]
[]
[]
[]
[]
[]
[]
[]
[]
[]
[]
[]
[]
[]
[]
[]
[]
[]
[]
[]
[]
[]
[]
[]
[]
[]
[]
[]
[]
[]
[]
[]
[]
[]
[]
[]
[]
[]
[]
[]
[]
[]
[]
[]
[]
[]
[]
[]
[]
[]
[]
[]
[]
[]
[]
[]
[]
[]
[]
[]
[]
[]
[]
[]
[]
[]
[]
[]
[]
[]
[]
[]
[]
[]
[]
[]
[]
[]
[]
[]
[]
[]
[]
[]
[]
[]
[]
[]
[]
[]
[]
[]
[]
[]
[]
[]
[]
[]
[]
[]
[]
[]
[]
[]
[]
[]
[]
[]
[]
[]
[]
[]
[]
[]
[]
[]
[]
[]
[]
[]
[]
[]
[]
[]
[]
[]
[]
[]
[]
[]
[]
[]
[]
[]
[]
[]
[]
[]
[]
[]
[]
[]
[]
[]
[]
[]
[]
[]
[]
[]
[]
[]
[]
[]
[]
[]
[]
[]
[]
[]
[]
[]
[]
[]
[]
[]
[]
[]
[]
[]
[]
[]
[]
[]
[]
[]
[]
[]
[]
[]
[]
[]
[]
[]
[]
[]
[]
[]
[]
[]
[]
[]
[]
[]
[]
[]
[]
[]
[]
[]
[]
[]
[]
[]
[]
[]
[]
[]
[]
[]
[]
[]
[]
[]
[]
[]
[]
[]
[]
[]
[]
[]
[]
[]
[]
[]
[]
[]
[]
[]
[]
[]
[]
[]
[]
[]
[]
[]
[]
[]
[]
[]
[]
[]
[]
[]
[]
[]
[]
[]
[]
[]
[]
[]
[]
[]
[]
[]
[]
[]
[]
[]
[]
[]
[]
[]
[]
[]
[]
[]
[]
[]
[]
[]
[]
[]
[]
[]
[]
[]
[]
[]
[]
[]
[]
[]
[]
[]
[]
[]
[]
[]
[]
[]
[]
[]
[]
[]
[]
[]
[]
[]
[]
[]
[]
[]
[]
[]
[]
[]
[]
[]
[]
[]
[]
[]
[]
[]
[]
[]
[]
[]
[]
[]
[]
[]
[]
[]
[]
[]
[]
[]
[]
[]
[]
[]
[]
[]
[]
[]
[]
[]
[]
[]
[]
[]
[]
[]
[]
[]
[]
[]
[]
[]
[]
[]
[]
[]
[]
[]
[]
[]
[]
[]
[]
[]
[]
[]
[]
[]
[]
[]
[]
[]
[]
[]
[]
[]
[]
[]
[]
[]
[]
[]
[]
[]
[]
[]
[]
[]
[]
[]
[]
[]
[]
[]
[]
[]
[]
[]
[]
[]
[]
[]
[]
[]
[]
[]
[]
[]
[]
[]
[]
[]
[]
[]
[]
[]
[]
[]
[]
[]
[]
[]
[]
[]
[]
[]
[]
[]
[]
[]
[]
[]
[]
[]
[]
[]
[]
[]
[]
[]
[]
[]
[]
[]
[]
[]
[]
[]
[]
[]
[]
[]
[]
[]
[]
[]
[]
[]
[]
[]
[]
[]
[]
[]
[]
[]
[]
[]
[]
[]
[]
[]
[]
[]
[]
[]
[]
[]
[]
[]
[]
[]
[]
[]
[]
[]
[]
[]
[]
[]
[]
[]
[]
[]
[]
[]
[]
[]
[]
[]
[]
[]
[]
[]
[]
[]
[]
[]
[]
[]
[]
[]
[]
[]
[]
[]
[]
[]
[]
[]
[]
[]
[]
[]
[]
[]
[]
[]
[]
[]
[]
[]
[]
[]
[]
[]
[]
[]
[]
[]
[]
[]
[]
[]
[]
[]
[]
[]
[]
[]
[]
[]
[]
[]
[]
[]
[]
[]
[]
[]
[]
[]
[]
[]
[]
[]
[]
[]
[]
[]
[]
[]
[]
[]
[]
[]
[]
[]
[]
[]
[]
[]
[]
[]
[]
[]
[]
[]
[]
[]
[]
[]
[]
[]
[]
[]
[]
[]
[]
[]
[]
[]
[]
[]
[]
[]
[]
[]
[]
[]
[]
[]
[]
[]
[]
[]
[]
[]
[]
[]
[]
[]
[]
[]
[]
[]
[]
[]
[]
[]
[]
[]
[]
[]
[]
[]
[]
[]
[]
[]
[]
[]
[]
[]
[]
[]
[]
[]
[]
[]
[]
[]
[]
[]
[]
[]
[]
[]
[]
[]
[]
[]
[]
[]
[]
[]
[]
[]
[]
[]
[]
[]
[]
[]
[]
[]
[]
[]
[]
[]
[]
[]
[]
[]
[]
[]
[]
[]
[]
[]
[]
[]
[]
[]
[]
[]
[]
[]
[]
[]
[]
[]
[]
[]
[]
[]
[]
[]
[]
[]
[]
[]
[]
[]
[]
[]
[]
[]
[]
[]
[]
[]
[]
[]
[]
[]
[]
[]
[]
[]
[]
[]
[]
[]
[]
[]
[]
[]
[]
[]
[]
[]
[]
[]
[]
[]
[]
[]
[]
[]
[]
[]
[]
[]
[]
[]
[]
[]
[]
[]
[]
[]
[]
[]
[]
[]
[]
[]
[]
[]
[]
[]
[]
[]
[]
[]
[]
[]
[]
[]
[]
[]
[]
[]
[]
[]
[]
[]
[]
[]
[]
[]
[]
[]
[]
[]
[]
[]
[]
[]
[]
[]
[]
[]
[]
[]
[]
[]
[]
[]
[]
[]
[]
[]
[]
[]
[]
[]
[]
[]
[]
[]
[]
[]
[]
[]
[]
[]
[]
[]
[]
[]
[]
[]
[]
[]
[]
[]
[]
[]
[]
[]
[]
[]
[]
[]
[]
[]
[]
[]
[]
[]
[]
[]
[]
[]
[]
[]
[]
[]
[]
[]
[]
[]
[]
[]
[]
[]
[]
[]
[]
[]
[]
[]
[]
[]
[]
[]
[]
[]
[]
[]
[]
[]
[]
[]
[]
[]
[]
[]
[]
[]
[]
[]
[]
[]
[]
[]
[]
[]
[]
[]
[]
[]
[]
[]
[]
[]
[]
[]
[]
[]
[]
[]
[]
[]
[]
[]
[]
[]
[]
[]
[]
[]
[]
[]
[]
[]
[]
[]
[]
[]
[]
[]
[]
[]
[]
[]
[]
[]
[]
[]
[]
[]
[]
[]
[]
[]
[]
[]
[]
[]
[]
[]
[]
[]
[]
[]
[]
[]
[]
[]
[]
[]
[]
[]
[]
[]
[]
[]
[]
[]
[]
[]
[]
[]
[]
[]
[]
[]
[]
[]
[]
[]
[]
[]
[]
[]
[]
[]
[]
[]
[]
[]
[]
[]
[]
[]
[]
[]
[]
[]
[]
[]
[]
[]
[]
[]
[]
[]
[]
[]
[]
[]
[]
[]
[]
[]
[]
[]
[]
[]
[]
[]
[]
[]
[]
[]
[]
[]
[]
[]
[]
[]
[]
[]
[]
[]
[]
[]
[]
[]
[]
[]
[]
[]
[]
[]
[]
[]
[]
[]
[]
[]
[]
[]
[]
[]
[]
[]
[]
[]
[]
[]
[]
[]
[]
[]
[]
[]
[]
[]
[]
[]
[]
[]
[]
[]
[]
[]
[]
[]
[]
[]
[]
[]
[]
[]
[]
[]
[]
[]
[]
[]
[]
[]
[]
[]
[]
[]
[]
[]
[]
[]
[]
[]
[]
[]
[]
[]
[]
[]
[]
[]
[]
[]
[]
[]
[]
[]
[]
[]
[]
[]
[]
[]
[]
[]
[]
[]
[]
[]
[]
[]
[]
[]
[]
[]
[]
[]
[]
[]
[]
[]
[]
[]
[]
[]
[]
[]
[]
[]
[]
[]
[]
[]
[]
[]
[]
[]
[]
[]
[]
[]
[]
[]
[]
[]
[]
[]
[]
[]
[]
[]
[]
[]
[]
[]
[]
[]
[]
[]
[]
[]
[]
[]
[]
[]
[]
[]
[]
[]
[]
[]
[]
[]
[]
[]
[]
[]
[]
[]
[]
[]
[]
[]
[]
[]
[]
[]
[]
[]
[]
[]
[]
[]
[]
[]
[]
[]
[]
[]
[]
[]
[]
[]
[]
[]
[]
[]
[]
[]
[]
[]
[]
[]
[]
[]
[]
[]
[]
[]
[]
[]
[]
[]
[]
[]
[]
[]
[]
[]
[]
[]
[]
[]
[]
[]
[]
[]
[]
[]
[]
[]
[]
[]
[]
[]
[]
[]
[]
[]
[]
[]
[]
[]
[]
[]
[]
[]
[]
[]
[]
[]
[]
[]
[]
[]
[]
[]
[]
[]
[]
[]
[]
[]
[]
[]
[]
[]
[]
[]
[]
[]
[]
[]
[]
[]
[]
[]
[]
[]
[]
[]
[]
[]
[null,null,null,"AS",{"$f":"ROW(C4949)","v":4949}]
[null,null,null,"GU",{"$f":"ROW(C4950)","v":4950}]
[null,null,null,"PR",{"$f":"ROW(C4951)","v":4951}]
[null,null,null,"VI",{"$f":"ROW(C4952)","v":4952}]

{"sheet":"Intermediate_Calcs","index":14,"n_rows":195,"n_cols":17,"rows_kept":195,"cut":false,"hidden":true,"merged":[]}
[]
[]
["BENCHMARK",null,null,null,null,null,null,null,null,"PLANNED"]
[]
[null,"Field Biomass Production (Dry Matter lbs/ac)",null,null,null,null,null,null,null,null,"Field Biomass Production (Dry Matter lbs/ac)"]
[null,"Crop Name",{"$f":"IF(Input!D25=\"\",\"\",Input!D25)","v":""},{"$f":"IF(Input!D26=\"\",\"\",Input!D26)","v":""},{"$f":"IF(Input!D27=\"\",\"\",Input!D27)","v":""},{"$f":"IF(Input!D28=\"\",\"\",Input!D28)","v":""},{"$f":"IF(Input!D29=\"\",\"\",Input!D29)","v":""},"Av. Annual",null,null,"Crop Name",{"$f":"IF(Input!R25=\"\",\"\",Input!R25)","v":""},{"$f":"IF(Input!R26=\"\",\"\",Input!R26)","v":""},{"$f":"IF(Input!R27=\"\",\"\",Input!R27)","v":""},{"$f":"IF(Input!R28=\"\",\"\",Input!R28)","v":""},{"$f":"IF(Input!R29=\"\",\"\",Input!R29)","v":""},"Av. Annual"]
[null,"Total Biomass (Rootmass + Surface Biomass)",{"$f":"C8+C9","v":0},{"$f":"D8+D9","v":0},{"$f":"E8+E9","v":0},{"$f":"F8+F9","v":0},{"$f":"G8+G9","v":0},{"$f":"SUM(C7:G7)/Input!M$10","v":0},null,null,"Total Biomass (Rootmass + Surface Biomass)",{"$f":"L8+L9","v":0},{"$f":"M8+M9","v":0},{"$f":"N8+N9","v":0},{"$f":"O8+O9","v":0},{"$f":"P8+P9","v":0},{"$f":"SUM(L7:P7)/Input!AA$10","v":0}]
[null,"Rootmass in Field",{"$f":"IF(Input!H37=\"\",0,Input!H37)","v":0},{"$f":"IF(D6=\"\",0,Input!H38)","v":0},{"$f":"IF(E6=\"\",0,Input!H39)","v":0},{"$f":"IF(F6=\"\",0,Input!H40)","v":0},{"$f":"IF(G6=\"\",0,Input!H41)","v":0},{"$f":"SUM(C8:G8)/Input!M$10","v":0},null,null,"Rootmass in Field",{"$f":"IF(Input!V37=\"\",0,Input!V37)","v":0},{"$f":"IF(Input!V38=\"\",0,Input!V38)","v":0},{"$f":"IF(Input!V39=\"\",0,Input!V39)","v":0},{"$f":"IF(Input!V40=\"\",0,Input!V40)","v":0},{"$f":"IF(Input!V41=\"\",0,Input!V41)","v":0},{"$f":"SUM(L8:P8)/Input!AA$10","v":0}]
[null,"Total surface biomass production",{"$f":"IF(C6=\"\",0,C10+C13)","v":0},{"$f":"IF(D6=\"\",0,D10+D13)","v":0},{"$f":"IF(E6=\"\",0,E10+E13)","v":0},{"$f":"IF(F6=\"\",0,F10+F13)","v":0},{"$f":"IF(G6=\"\",0,G10+G13)","v":0},{"$f":"SUM(C9:G9)/Input!M$10","v":0},null,null,"Total surface biomass production",{"$f":"IF(L6=\"\",0,L10+L13)","v":0},{"$f":"IF(M6=\"\",0,M10+M13)","v":0},{"$f":"IF(N6=\"\",0,N10+N13)","v":0},{"$f":"IF(O6=\"\",0,O10+O13)","v":0},{"$f":"IF(P6=\"\",0,P10+P13)","v":0},{"$f":"SUM(L9:P9)/Input!AA$10","v":0}]
[null,"Harvested Crop Biomass ",{"$f":"IF(OR(C6=\"\",C6=\"Fallow\"),0,IF(Input!D37=\"Grazing\",Input!F37*30,Input!F37*VLOOKUP(Input!E25,Database_Tables!$C$6:$G$1005,5,FALSE)*(1-Input!E37/100)))","v":0},{"$f":"IF(OR(D6=\"\",D6=\"Fallow\"),0,IF(Input!D38=\"Grazing\",Input!F38*30,Input!F38*VLOOKUP(Input!E26,Database_Tables!$C$6:$G$1005,5,FALSE)*(1-Input!E38/100)+IF(Input!D38=\"Both\",Input!J38+Input!K38,0)))","v":0},{"$f":"IF(OR(E6=\"\",E6=\"Fallow\"),0,IF(Input!D39=\"Grazing\",Input!F39*30,Input!F39*VLOOKUP(Input!E27,Database_Tables!$C$6:$G$1005,5,FALSE)*(1-Input!E39/100)+IF(Input!D39=\"Both\",Input!J39+Input!K39,0)))","v":0},{"$f":"IF(OR(F6=\"\",F6=\"Fallow\"),0,IF(Input!D40=\"Grazing\",Input!F40*30,Input!F40*VLOOKUP(Input!E28,Database_Tables!$C$6:$G$1005,5,FALSE)*(1-Input!E40/100)+IF(Input!D40=\"Both\",Input!J40+Input!K40,0)))","v":0},{"$f":"IF(OR(G6=\"\",G6=\"Fallow\"),0,IF(Input!D41=\"Grazing\",Input!F41*30,Input!F41*VLOOKUP(Input!E29,Database_Tables!$C$6:$G$1005,5,FALSE)*(1-Input!E41/100)+IF(Input!D41=\"Both\",Input!J41+Input!K41,0)))","v":0},{"$f":"SUM(C10:G10)/Input!M$10","v":0},null,null,"Harvested Crop Biomass ",{"$f":"IF(OR(L6=\"\",L6=\"Fallow\"),0,IF(Input!R37=\"Grazing\",Input!T37*30,Input!T37*VLOOKUP(Input!S25,Database_Tables!$C$6:$G$1005,5,FALSE)*(1-Input!S37/100)+IF(Input!R37=\"Both\",Input!X37+Input!Y37,0)))","v":0},{"$f":"IF(OR(M6=\"\",M6=\"Fallow\"),0,IF(Input!R38=\"Grazing\",Input!T38*30,Input!T38*VLOOKUP(Input!S26,Database_Tables!$C$6:$G$1005,5,FALSE)*(1-Input!S38/100)+IF(Input!R38=\"Both\",Input!X38+Input!Y38,0)))","v":0},{"$f":"IF(OR(N6=\"\",N6=\"Fallow\"),0,IF(Input!R39=\"Grazing\",Input!T39*30,Input!T39*VLOOKUP(Input!S27,Database_Tables!$C$6:$G$1005,5,FALSE)*(1-Input!S39/100)+IF(Input!R39=\"Both\",Input!X39+Input!Y39,0)))","v":0},{"$f":"IF(OR(O6=\"\",O6=\"Fallow\"),0,IF(Input!R40=\"Grazing\",Input!T40*30,Input!T40*VLOOKUP(Input!S28,Database_Tables!$C$6:$G$1005,5,FALSE)*(1-Input!S40/100)+IF(Input!R40=\"Both\",Input!X40+Input!Y40,0)))","v":0},{"$f":"IF(OR(P6=\"\",P6=\"Fallow\"),0,IF(Input!R41=\"Grazing\",Input!T41*30,Input!T41*VLOOKUP(Input!S29,Database_Tables!$C$6:$G$1005,5,FALSE)*(1-Input!S41/100)+IF(Input!R41=\"Both\",Input!X41+Input!Y41,0)))","v":0},{"$f":"SUM(L10:P10)/Input!AA$10","v":0}]
[null,"Post Harvest Grazing",{"$f":"IF(C6=\"\",0,IF(Input!D37=\"Multiple Use\",Input!K37*30,0))","v":0},{"$f":"IF(D6=\"\",0,IF(Input!D38=\"Multiple Use\",Input!K38*30,0))","v":0},{"$f":"IF(E6=\"\",0,IF(Input!D39=\"Multiple Use\",Input!K39*30,0))","v":0},{"$f":"IF(F6=\"\",0,IF(Input!D40=\"Multiple Use\",Input!K40*30,0))","v":0},{"$f":"IF(G6=\"\",0,IF(Input!D41=\"Multiple Use\",Input!K41*30,0))","v":0},{"$f":"SUM(C11:G11)/Input!M$10","v":0},null,null,"Post Harvest Grazing",{"$f":"IF(L6=\"\",0,IF(Input!R37=\"Multiple Use\",Input!Y37*30,0))","v":0},{"$f":"IF(M6=\"\",0,IF(Input!R38=\"Multiple Use\",Input!Y38*30,0))","v":0},{"$f":"IF(N6=\"\",0,IF(Input!R39=\"Multiple Use\",Input!Y39*30,0))","v":0},{"$f":"IF(O6=\"\",0,IF(Input!R40=\"Multiple Use\",Input!Y40*30,0))","v":0},{"$f":"IF(P6=\"\",0,IF(Input!R41=\"Multiple Use\",Input!Y41*30,0))","v":0},{"$f":"SUM(L11:P11)/Input!AA$10","v":0}]
[null,"Post Harvest Forage Removed",{"$f":"IF(C6=\"\",0,IF(Input!D37=\"Multiple Use\",Input!J37,0))","v":0},{"$f":"IF(D6=\"\",0,IF(Input!D38=\"Multiple Use\",Input!J38,0))","v":0},{"$f":"IF(E6=\"\",0,IF(Input!D39=\"Multiple Use\",Input!J39,0))","v":0},{"$f":"IF(F6=\"\",0,IF(Input!D40=\"Multiple Use\",Input!J40,0))","v":0},{"$f":"IF(G6=\"\",0,IF(Input!D41=\"Multiple Use\",Input!J41,0))","v":0},{"$f":"SUM(C12:G12)/Input!M$10","v":0},null,null,"Post Harvest Forage Removed",{"$f":"IF(L6=\"\",0,IF(Input!R37=\"Multiple Use\",Input!X37,0))","v":0},{"$f":"IF(M6=\"\",0,IF(Input!R38=\"Multiple Use\",Input!X38,0))","v":0},{"$f":"IF(N6=\"\",0,IF(Input!R39=\"Multiple Use\",Input!X39,0))","v":0},{"$f":"IF(O6=\"\",0,IF(Input!R40=\"Multiple Use\",Input!X40,0))","v":0},{"$f":"IF(P6=\"\",0,IF(Input!R41=\"Multiple Use\",Input!X41,0))","v":0},{"$f":"SUM(L12:P12)/Input!AA$10","v":0}]
[null,"Available surface residue",{"$f":"IF(C6=\"\",0,Input!I37)","v":0},{"$f":"IF(D6=\"\",0,Input!I38)","v":0},{"$f":"IF(E6=\"\",0,Input!I39)","v":0},{"$f":"IF(F6=\"\",0,Input!I40)","v":0},{"$f":"IF(G6=\"\",0,Input!I41)","v":0},{"$f":"SUM(C13:G13)/Input!M$10","v":0},null,null,"Available surface residue",{"$f":"IF(L6=\"\",0,Input!W37)","v":0},{"$f":"IF(M6=\"\",0,Input!W38)","v":0},{"$f":"IF(N6=\"\",0,Input!W39)","v":0},{"$f":"IF(O6=\"\",0,Input!W40)","v":0},{"$f":"IF(P6=\"\",0,Input!W41)","v":0},{"$f":"SUM(L13:P13)/Input!AA$10","v":0}]
[null,"Surface residue remaining",{"$f":"C13-C12-C11","v":0},{"$f":"D13-D12-D11","v":0},{"$f":"E13-E12-E11","v":0},{"$f":"F13-F12-F11","v":0},{"$f":"G13-G12-G11","v":0},{"$f":"SUM(C14:G14)/Input!M$10","v":0},null,null,"Surface residue remaining",{"$f":"L13-L12-L11","v":0},{"$f":"M13-M12-M11","v":0},{"$f":"N13-N12-N11","v":0},{"$f":"O13-O12-O11","v":0},{"$f":"P13-P12-P11","v":0},{"$f":"SUM(L14:P14)/Input!AA$10","v":0}]
[]
[]
["Crop","Crop Interval","CI 1","CI 2","CI 3","CI 4","CI 5","Av. Annual",null,"Crop","Crop Interval","CI 1","CI 2","CI 3","CI 4","CI 5","Av. Annual"]
[null,"Crop Name",{"$f":"IF(Input!D25=\"\",\"\",Input!D25)","v":""},{"$f":"IF(Input!D26=\"\",\"\",Input!D26)","v":""},{"$f":"IF(Input!D27=\"\",\"\",Input!D27)","v":""},{"$f":"IF(Input!D28=\"\",\"\",Input!D28)","v":""},{"$f":"IF(Input!D29=\"\",\"\",Input!D29)","v":""},null,null,null,"Crop Name",{"$f":"IF(Input!R25=\"\",\"\",Input!R25)","v":""},{"$f":"IF(Input!R26=\"\",\"\",Input!R26)","v":""},{"$f":"IF(Input!R27=\"\",\"\",Input!R27)","v":""},{"$f":"IF(Input!R28=\"\",\"\",Input!R28)","v":""},{"$f":"IF(Input!R29=\"\",\"\",Input!R29)","v":""}]
[null,"Crop Year",{"$f":"IF(C18=\"\",0,Input!K25)","v":0},{"$f":"IF(D18=\"\",0,Input!K26)","v":0},{"$f":"IF(E18=\"\",0,Input!K27)","v":0},{"$f":"IF(F18=\"\",0,Input!K28)","v":0},{"$f":"IF(G18=\"\",0,Input!K25)","v":0},{"$f":"Input!M$10","v":1},null,null,"Crop Year",{"$f":"IF(L18=\"\",0,Input!$Y$25)","v":0},{"$f":"IF(M18=\"\",0,Input!$Y$26)","v":0},{"$f":"IF(N18=\"\",0,Input!$Y$27)","v":0},{"$f":"IF(O18=\"\",0,Input!$Y$28)","v":0},{"$f":"IF(P18=\"\",0,Input!$Y$29)","v":0},{"$f":"Input!AA$10","v":1}]
["Energy","Harvest operations",{"$f":"IF(C19>0,SUMIF(Input!$D$72:$D$83,\"Harvest\",Input!$K$72:$K$83)*Input!M72/1000000,0)","v":0},{"$f":"IF(D19>0,SUMIF(Input!$D$85:$D$96,\"Harvest\",Input!$K$85:$K$96)*Input!M72/1000000,0)","v":0},{"$f":"IF(E19>0,SUMIF(Input!$D$98:$D$109,\"Harvest\",Input!$K$98:$K$109)*Input!M72/1000000,0)","v":0},{"$f":"IF(F19>0,SUMIF(Input!$D$111:$D$122,\"Harvest\",Input!$K$111:$K$122)*Input!M72/1000000,0)","v":0},{"$f":"IF(G19>0,SUMIF(Input!$D$124:$D$135,\"Harvest\",Input!$K$124:$K$135)*Input!M72/1000000,0)","v":0},{"$f":"SUM(C20:G20)/Input!M$10","v":0},null,"Energy","Harvest operations",{"$f":"IF(L19>0,SUMIF(Input!$R$72:$R$83,\"Harvest\",Input!$Y$72:$Y$83)*Input!M72/1000000,0)","v":0},{"$f":"IF(M19>0,SUMIF(Input!$R$85:$R$96,\"Harvest\",Input!$Y$85:$Y$96)*Input!M72/1000000,0)","v":0},{"$f":"IF(N19>0,SUMIF(Input!$R$98:$R$109,\"Harvest\",Input!$Y$98:$Y$109)*Input!M72/1000000,0)","v":0},{"$f":"IF(O19>0,SUMIF(Input!$R$111:$R$122,\"Harvest\",Input!$Y$111:$Y$122)*Input!M72/1000000,0)","v":0},{"$f":"IF(P19>0,SUMIF(Input!$R$124:$R$135,\"Harvest\",Input!$Y$124:$Y$135)*Input!M72/1000000,0)","v":0},{"$f":"SUM(L20:P20)/Input!AA$10","v":0}]
["Input (added)","Tillage operations",{"$f":"IF(C19>0,SUMIF(Input!$D$72:$D$83,\"Tillage\",Input!$K$72:$K$83)*Input!M72/1000000,0)","v":0},{"$f":"IF(D19>0,SUMIF(Input!$D$85:$D$96,\"Tillage\",Input!$K$85:$K$96)*Input!M72/1000000,0)","v":0},{"$f":"IF(E19>0,SUMIF(Input!$D$98:$D$109,\"Tillage\",Input!$K$98:$K$109)*Input!M72/1000000,0)","v":0},{"$f":"IF(F19>0,SUMIF(Input!$D$111:$D$122,\"Tillage\",Input!$K$111:$K$122)*Input!M72/1000000,0)","v":0},{"$f":"IF(G19>0,SUMIF(Input!$D$124:$D$135,\"Tillage\",Input!$K$124:$K$135)*Input!M72/1000000,0)","v":0},{"$f":"SUM(C21:G21)/Input!M$10","v":0},null,"Input (added)","Tillage operations",{"$f":"IF(L19>0,SUMIF(Input!$R$72:$R$83,\"Tillage\",Input!$Y$72:$Y$83)*Input!M72/1000000,0)","v":0},{"$f":"IF(M19>0,SUMIF(Input!$R$85:$R$96,\"Tillage\",Input!$Y$85:$Y$96)*Input!M72/1000000,0)","v":0},{"$f":"IF(N19>0,SUMIF(Input!$R$98:$R$109,\"Tillage\",Input!$Y$98:$Y$109)*Input!M72/1000000,0)","v":0},{"$f":"IF(O19>0,SUMIF(Input!$R$111:$R$122,\"Tillage\",Input!$Y$111:$Y$122)*Input!M72/1000000,0)","v":0},{"$f":"IF(P19>0,SUMIF(Input!$R$124:$R$135,\"Tillage\",Input!$Y$124:$Y$135)*Input!M72/1000000,0)","v":0},{"$f":"SUM(L21:P21)/Input!AA$10","v":0}]
["to field","Application operations",{"$f":"IF(C19>0,SUMIF(Input!$D$72:$D$83,\"Application\",Input!$K$72:$K$83)*Input!M72/1000000,0)","v":0},{"$f":"IF(D19>0,SUMIF(Input!$D$85:$D$96,\"Application\",Input!$K$85:$K$96)*Input!M72/1000000,0)","v":0},{"$f":"IF(E19>0,SUMIF(Input!$D$98:$D$109,\"Application\",Input!$K$98:$K$109)*Input!M72/1000000,0)","v":0},{"$f":"IF(F19>0,SUMIF(Input!$D$111:$D$122,\"Application\",Input!$K$111:$K$122)*Input!M72/1000000,0)","v":0},{"$f":"IF(G19>0,SUMIF(Input!$D$124:$D$135,\"Application\",Input!$K$124:$K$135)*Input!M72/1000000,0)","v":0},{"$f":"SUM(C22:G22)/Input!M$10","v":0},null,"to field","Application operations",{"$f":"IF(L19>0,SUMIF(Input!$R$72:$R$83,\"Application\",Input!$Y$72:$Y$83)*Input!M72/1000000,0)","v":0},{"$f":"IF(M19>0,SUMIF(Input!$R$85:$R$96,\"Application\",Input!$Y$85:$Y$96)*Input!M72/1000000,0)","v":0},{"$f":"IF(N19>0,SUMIF(Input!$R$98:$R$109,\"Application\",Input!$Y$98:$Y$109)*Input!M72/1000000,0)","v":0},{"$f":"IF(O19>0,SUMIF(Input!$R$111:$R$122,\"Application\",Input!$Y$111:$Y$122)*Input!M72/1000000,0)","v":0},{"$f":"IF(P19>0,SUMIF(Input!$R$124:$R$135,\"Application\",Input!$Y$124:$Y$135)*Input!M72/1000000,0)","v":0},{"$f":"SUM(L22:P22)/Input!AA$10","v":0}]
[null,"Planting operations",{"$f":"IF(C19>0,SUMIF(Input!$D$72:$D$83,\"Planting\",Input!$K$72:$K$83)*Input!M72/1000000,0)","v":0},{"$f":"IF(D19>0,SUMIF(Input!$D$85:$D$96,\"Planting\",Input!$K$85:$K$96)*Input!M72/1000000,0)","v":0},{"$f":"IF(E19>0,SUMIF(Input!$D$98:$D$109,\"Planting\",Input!$K$98:$K$109)*Input!M72/1000000,0)","v":0},{"$f":"IF(F19>0,SUMIF(Input!$D$111:$D$122,\"Planting\",Input!$K$111:$K$122)*Input!M72/1000000,0)","v":0},{"$f":"IF(G19>0,SUMIF(Input!$D$124:$D$135,\"Planting\",Input!$K$124:$K$135)*Input!M72/1000000,0)","v":0},{"$f":"SUM(C23:G23)/Input!M$10","v":0},null,null,"Planting operations",{"$f":"IF(L19>0,SUMIF(Input!$R$72:$R$83,\"Planting\",Input!$Y$72:$Y$83)*Input!M72/1000000,0)","v":0},{"$f":"IF(M19>0,SUMIF(Input!$R$85:$R$96,\"Planting\",Input!$Y$85:$Y$96)*Input!M72/1000000,0)","v":0},{"$f":"IF(N19>0,SUMIF(Input!$R$98:$R$109,\"Planting\",Input!$Y$98:$Y$109)*Input!M72/1000000,0)","v":0},{"$f":"IF(O19>0,SUMIF(Input!$R$111:$R$122,\"Planting\",Input!$Y$111:$Y$122)*Input!M72/1000000,0)","v":0},{"$f":"IF(P19>0,SUMIF(Input!$R$124:$R$135,\"Planting\",Input!$Y$124:$Y$135)*Input!M72/1000000,0)","v":0},{"$f":"SUM(L23:P23)/Input!AA$10","v":0}]
[null,"Other field operation",{"$f":"IF(C19>0,SUMIF(Input!$D$72:$D$83,\"Other\",Input!$K$72:$K$83)*Input!M72/1000000,0)","v":0},{"$f":"IF(D19>0,SUMIF(Input!$D$85:$D$96,\"Other\",Input!$K$85:$K$96)*Input!M72/1000000,0)","v":0},{"$f":"IF(E19>0,SUMIF(Input!$D$98:$D$109,\"Other\",Input!$K$98:$K$109)*Input!M72/1000000,0)","v":0},{"$f":"IF(F19>0,SUMIF(Input!$D$111:$D$122,\"Other\",Input!$K$111:$K$122)*Input!M72/1000000,0)","v":0},{"$f":"IF(G19>0,SUMIF(Input!$D$124:$D$135,\"Other\",Input!$K$124:$K$135)*Input!M72/1000000,0)","v":0},{"$f":"SUM(C24:G24)/Input!M$10","v":0},null,null,"Other field operation energy input",{"$f":"IF(L19>0,SUMIF(Input!$R$72:$R$83,\"Other\",Input!$Y$72:$Y$83)*Input!M72/1000000,0)","v":0},{"$f":"IF(M19>0,SUMIF(Input!$R$85:$R$96,\"Other\",Input!$Y$85:$Y$96)*Input!M72/1000000,0)","v":0},{"$f":"IF(N19>0,SUMIF(Input!$R$98:$R$109,\"Other\",Input!$Y$98:$Y$109)*Input!M72/1000000,0)","v":0},{"$f":"IF(O19>0,SUMIF(Input!$R$111:$R$122,\"Other\",Input!$Y$111:$Y$122)*Input!M72/1000000,0)","v":0},{"$f":"IF(P19>0,SUMIF(Input!$R$124:$R$135,\"Other\",Input!$Y$124:$Y$135)*Input!M72/1000000,0)","v":0},{"$f":"SUM(L24:P24)/Input!AA$10","v":0}]
[null,"Manual input operation",{"$f":"IF(C19>0,SUMIF(Input!$D$72:$D$83,\"Manual Input\",Input!$K$72:$K$83)*Input!M72/1000000,0)","v":0},{"$f":"IF(D19>0,SUMIF(Input!$D$85:$D$96,\"Manual Input\",Input!$K$85:$K$96)*Input!M72/1000000,0)","v":0},{"$f":"IF(E19>0,SUMIF(Input!$D$98:$D$109,\"Manual Input\",Input!$K$98:$K$109)*Input!M72/1000000,0)","v":0},{"$f":"IF(F19>0,SUMIF(Input!$D$111:$D$122,\"Manual Input\",Input!$K$111:$K$122)*Input!M72/1000000,0)","v":0},{"$f":"IF(G19>0,SUMIF(Input!$D$124:$D$135,\"Manual Input\",Input!$K$124:$K$135)*Input!M72/1000000,0)","v":0},{"$f":"SUM(C25:G25)/Input!M$10","v":0},null,null,"Manual input operation",{"$f":"IF(L19>0,SUMIF(Input!$R$72:$R$83,\"Manual Input\",Input!$Y$72:$Y$83)*Input!M72/1000000,0)","v":0},{"$f":"IF(M19>0,SUMIF(Input!$R$85:$R$96,\"Manual Input\",Input!$Y$85:$Y$96)*Input!M72/1000000,0)","v":0},{"$f":"IF(N19>0,SUMIF(Input!$R$98:$R$109,\"Manual Input\",Input!$Y$98:$Y$109)*Input!M72/1000000,0)","v":0},{"$f":"IF(O19>0,SUMIF(Input!$R$111:$R$122,\"Manual Input\",Input!$Y$111:$Y$122)*Input!M72/1000000,0)","v":0},{"$f":"IF(P19>0,SUMIF(Input!$R$124:$R$135,\"Manual Input\",Input!$Y$124:$Y$135)*Input!M72/1000000,0)","v":0},{"$f":"SUM(L25:P25)/Input!AA$10","v":0}]
[{"$f":"IF(AND(Input!D139,Input!R139),\"\",\"See Col. R\")","v":"See Col. R"},"Irrigation fuel energy inputs",{"$f":"IF(Input!$D$139,IF(C56=\"\",0,C59*$D$84/Input!J14),0)","v":0},{"$f":"IF(Input!$D$139,IF(D56=\"\",0,D59*$D$84/Input!J14),0)","v":0},{"$f":"IF(Input!$D$139,IF(E56=\"\",0,E59*$D$84/Input!J14),0)","v":0},{"$f":"IF(Input!$D$139,IF(F56=\"\",0,F59*$D$84/Input!J14),0)","v":0},{"$f":"IF(Input!$D$139,IF(G56=\"\",0,G59*$D$84/Input!J14),0)","v":0},{"$f":"SUM(C26:G26)/Input!M$10","v":0},null,null,"Irrigation fuel energy inputs",{"$f":"IF(Input!$R$139,IF(C61=\"\",0,C64*$E$84/Input!S14),0)","v":0},{"$f":"IF(Input!$R$139,IF(D61=\"\",0,D64*$E$84/Input!S14),0)","v":0},{"$f":"IF(Input!$R$139,IF(E61=\"\",0,E64*$E$84/Input!S14),0)","v":0},{"$f":"IF(Input!$R$139,IF(F61=\"\",0,F64*$E$84/Input!S14),0)","v":0},{"$f":"IF(Input!$R$139,IF(G61=\"\",0,G64*$E$84/Input!S14),0)","v":0},{"$f":"SUM(L26:P26)/Input!AA$10","v":0}]
[null,"Other delivery energy (irrigation)",{"$f":"IF(Input!J14=\"\",0,(IF(C98=\"\",0,IF(Input!$D$140,C98*$D$120,0))+IF(C134=\"\",0,IF(Input!$D$141,C134*$D$156,0))+IF(C170=\"\",0,IF(Input!$D$142,C170*$D$192,0)))/Input!J14-C28)","v":0},{"$f":"IF(Input!J14=\"\",0,(IF(D98=\"\",0,IF(Input!$D$140,D98*$D$120,0))+IF(D134=\"\",0,IF(Input!$D$141,D134*$D$156,0))+IF(D170=\"\",0,IF(Input!$D$142,D170*$D$192,0)))/Input!J14-D28)","v":0},{"$f":"IF(Input!J14=\"\",0,(IF(E98=\"\",0,IF(Input!$D$140,E98*$D$120,0))+IF(E134=\"\",0,IF(Input!$D$141,E134*$D$156,0))+IF(E170=\"\",0,IF(Input!$D$142,E170*$D$192,0)))/Input!J14-E28)","v":0},{"$f":"IF(Input!J14=\"\",0,(IF(F98=\"\",0,IF(Input!$D$140,F98*$D$120,0))+IF(F134=\"\",0,IF(Input!$D$141,F134*$D$156,0))+IF(F170=\"\",0,IF(Input!$D$142,F170*$D$192,0)))/Input!J14-F28)","v":0},{"$f":"IF(Input!J14=\"\",0,(IF(G98=\"\",0,IF(Input!$D$140,G98*$D$120,0))+IF(G134=\"\",0,IF(Input!$D$141,G134*$D$156,0))+IF(G170=\"\",0,IF(Input!$D$142,G170*$D$192,0)))/Input!J14-G28)","v":0},{"$f":"SUM(C27:G27)/Input!M$10","v":0},null,null,"Other delivery energy (irrigation)",{"$f":"IF(OR(Input!S14=\"\",Input!S14=0),0,(IF(C103=\"\",0,IF(Input!$R$140,C103*$E$120,0))+IF(C139=\"\",0,IF(Input!$R$141,C139*$E$156,0))+IF(C175=\"\",0,IF(Input!$R$142,C175*$E$192,0)))/Input!S14-L28)","v":0},{"$f":"IF(OR(Input!S14=\"\",Input!S14=0),0,(IF(D103=\"\",0,IF(Input!$R$140,D103*$E$120,0))+IF(D139=\"\",0,IF(Input!$R$141,D139*$E$156,0))+IF(D175=\"\",0,IF(Input!$R$142,D175*$E$192,0)))/Input!S14-M28)","v":0},{"$f":"IF(OR(Input!S14=\"\",Input!S14=0),0,(IF(E103=\"\",0,IF(Input!$R$140,E103*$E$120,0))+IF(E139=\"\",0,IF(Input!$R$141,E139*$E$156,0))+IF(E175=\"\",0,IF(Input!$R$142,E175*$E$192,0)))/Input!S14-N28)","v":0},{"$f":"IF(OR(Input!S14=\"\",Input!S14=0),0,(IF(F103=\"\",0,IF(Input!$R$140,F103*$E$120,0))+IF(F139=\"\",0,IF(Input!$R$141,F139*$E$156,0))+IF(F175=\"\",0,IF(Input!$R$142,F175*$E$192,0)))/Input!S14-O28)","v":0},{"$f":"IF(OR(Input!S14=\"\",Input!S14=0),0,(IF(G103=\"\",0,IF(Input!$R$140,G103*$E$120,0))+IF(G139=\"\",0,IF(Input!$R$141,G139*$E$156,0))+IF(G175=\"\",0,IF(Input!$R$142,G175*$E$192,0)))/Input!S14-P28)","v":0},{"$f":"SUM(L27:P27)/Input!AA$10","v":0}]
[null,"Other delivery energy (farming)",{"$f":"IF(Input!J14=\"\",0,(IF(C98=\"\",0,IF(Input!E154=\"Booster\",0,IF(Input!$D$140,C98*$D$120,0)))+IF(C134=\"\",0,IF(Input!E156=\"Booster\",0,IF(Input!$D$141,C134*$D$156,0)))+IF(C170=\"\",0,IF(Input!E158=\"Booster\",0,IF(Input!$D$142,C170*$D$192,0))))/Input!J14)","v":0},{"$f":"IF(Input!J14=\"\",0,(IF(D98=\"\",0,IF(Input!E154=\"Booster\",0,IF(Input!$D$140,D98*$D$120,0)))+IF(D134=\"\",0,IF(Input!E156=\"Booster\",0,IF(Input!$D$141,D134*$D$156,0)))+IF(D170=\"\",0,IF(Input!E158=\"Booster\",0,IF(Input!$D$142,D170*$D$192,0))))/Input!J14)","v":0},{"$f":"IF(Input!J14=\"\",0,(IF(E98=\"\",0,IF(Input!E154=\"Booster\",0,IF(Input!$D$140,E98*$D$120,0)))+IF(E134=\"\",0,IF(Input!E156=\"Booster\",0,IF(Input!$D$141,E134*$D$156,0)))+IF(E170=\"\",0,IF(Input!E158=\"Booster\",0,IF(Input!$D$142,E170*$D$192,0))))/Input!J14)","v":0},{"$f":"IF(Input!J14=\"\",0,(IF(F98=\"\",0,IF(Input!E154=\"Booster\",0,IF(Input!$D$140,F98*$D$120,0)))+IF(F134=\"\",0,IF(Input!E156=\"Booster\",0,IF(Input!$D$141,F134*$D$156,0)))+IF(F170=\"\",0,IF(Input!E158=\"Booster\",0,IF(Input!$D$142,F170*$D$192,0))))/Input!J14)","v":0},{"$f":"IF(Input!J14=\"\",0,(IF(G98=\"\",0,IF(Input!E154=\"Booster\",0,IF(Input!$D$140,G98*$D$120,0)))+IF(G134=\"\",0,IF(Input!E156=\"Booster\",0,IF(Input!$D$141,G134*$D$156,0)))+IF(G170=\"\",0,IF(Input!E158=\"Booster\",0,IF(Input!$D$142,G170*$D$192,0))))/Input!J14)","v":0},{"$f":"SUM(C28:G28)/Input!M$10","v":0},null,null,"Other delivery energy (farming)",{"$f":"IF(OR(Input!S14=\"\",Input!S14=0),0,(IF(C103=\"\",0,IF(Input!S154=\"Booster\",0,IF(Input!$R$140,C103*$E$120,0)))+IF(C139=\"\",0,IF(Input!S156=\"Booster\",0,IF(Input!$R$141,C139*$E$156,0)))+IF(C175=\"\",0,IF(Input!S158=\"Booster\",0,IF(Input!$R$142,C175*$E$192,0))))/Input!S14)","v":0},{"$f":"IF(OR(Input!S14=\"\",Input!S14=0),0,(IF(D103=\"\",0,IF(Input!S154=\"Booster\",0,IF(Input!$R$140,D103*$E$120,0)))+IF(D139=\"\",0,IF(Input!S156=\"Booster\",0,IF(Input!$R$141,D139*$E$156,0)))+IF(D175=\"\",0,IF(Input!S158=\"Booster\",0,IF(Input!$R$142,D175*$E$192,0))))/Input!S14)","v":0},{"$f":"IF(OR(Input!S14=\"\",Input!S14=0),0,(IF(E103=\"\",0,IF(Input!S154=\"Booster\",0,IF(Input!$R$140,E103*$E$120,0)))+IF(E139=\"\",0,IF(Input!S156=\"Booster\",0,IF(Input!$R$141,E139*$E$156,0)))+IF(E175=\"\",0,IF(Input!S158=\"Booster\",0,IF(Input!$R$142,E175*$E$192,0))))/Input!S14)","v":0},{"$f":"IF(OR(Input!S14=\"\",Input!S14=0),0,(IF(F103=\"\",0,IF(Input!S154=\"Booster\",0,IF(Input!$R$140,F103*$E$120,0)))+IF(F139=\"\",0,IF(Input!S156=\"Booster\",0,IF(Input!$R$141,F139*$E$156,0)))+IF(F175=\"\",0,IF(Input!S158=\"Booster\",0,IF(Input!$R$142,F175*$E$192,0))))/Input!S14)","v":0},{"$f":"IF(OR(Input!S14=\"\",Input!S14=0),0,(IF(G103=\"\",0,IF(Input!S154=\"Booster\",0,IF(Input!$R$140,G103*$E$120,0)))+IF(G139=\"\",0,IF(Input!S156=\"Booster\",0,IF(Input!$R$141,G139*$E$156,0)))+IF(G175=\"\",0,IF(Input!S158=\"Booster\",0,IF(Input!$R$142,G175*$E$192,0))))/Input!S14)","v":0},{"$f":"SUM(L28:P28)/Input!AA$10","v":0}]
[null,"Labor",{"$f":"IF(C18=\"\",0,IF(Input!M25>0,Input!M25*3000000/8/252/1000000,0))","v":0},{"$f":"IF(D18=\"\",0,IF(Input!M26>0,Input!M26*3000000/8/252/1000000,0))","v":0},{"$f":"IF(E18=\"\",0,IF(Input!M27>0,Input!M27*3000000/8/252/1000000,0))","v":0},{"$f":"IF(F18=\"\",0,IF(Input!M28>0,Input!M28*3000000/8/252/1000000,0))","v":0},{"$f":"IF(G18=\"\",0,IF(Input!M29>0,Input!M29*3000000/8/252/1000000,0))","v":0},{"$f":"SUM(C29:G29)/Input!M$10","v":0},null,null,"Labor",{"$f":"IF(L18=\"\",0,IF(Input!AA25>0,Input!AA25*3000000/8/252/1000000,0))","v":0},{"$f":"IF(M18=\"\",0,IF(Input!AA26>0,Input!AA26*3000000/8/252/1000000,0))","v":0},{"$f":"IF(N18=\"\",0,IF(Input!AA27>0,Input!AA27*3000000/8/252/1000000,0))","v":0},{"$f":"IF(O18=\"\",0,IF(Input!AA28>0,Input!AA28*3000000/8/252/1000000,0))","v":0},{"$f":"IF(P18=\"\",0,IF(Input!AA29>0,Input!AA29*3000000/8/252/1000000,0))","v":0},{"$f":"SUM(L29:P29)/Input!AA$10","v":0}]
[null,"Applied manure",{"$f":"IF(C18=\"\",0,IF(Input!D49>0,Input!D49*Report_Cost!$F$31/2000/1000000,0))","v":0},{"$f":"IF(D18=\"\",0,IF(Input!D50>0,Input!D50*Report_Cost!$F$31/2000/1000000,0))","v":0},{"$f":"IF(E18=\"\",0,IF(Input!D51>0,Input!D51*Report_Cost!$F$31/2000/1000000,0))","v":0},{"$f":"IF(F18=\"\",0,IF(Input!D52>0,Input!D52*Report_Cost!$F$31/2000/1000000,0))","v":0},{"$f":"IF(G18=\"\",0,IF(Input!D53>0,Input!D53*Report_Cost!$F$31/2000/1000000,0))","v":0},{"$f":"SUM(C30:G30)/Input!M$10","v":0},null,null,"Applied manure",{"$f":"IF(L18=\"\",0,IF(Input!R49>0,Input!R49*Report_Cost!$F$31/2000/1000000,0))","v":0},{"$f":"IF(M18=\"\",0,IF(Input!R50>0,Input!R50*Report_Cost!$F$31/2000/1000000,0))","v":0},{"$f":"IF(N18=\"\",0,IF(Input!R51>0,Input!R51*Report_Cost!$F$31/2000/1000000,0))","v":0},{"$f":"IF(O18=\"\",0,IF(Input!R52>0,Input!R52*Report_Cost!$F$31/2000/1000000,0))","v":0},{"$f":"IF(P18=\"\",0,IF(Input!R53>0,Input!R53*Report_Cost!$F$31/2000/1000000,0))","v":0},{"$f":"SUM(L30:P30)/Input!AA$10","v":0}]
[null,"Grazing: Applied excreted manure",{"$f":"IF(C18=\"\",0,IF(Input!D37=\"Grazing\",Input!F37*10*Report_Cost!$F$31/2000/1000000,IF(AND(Input!D37=\"Multiple Use\",Input!K37>0),Input!K37*10*7500/1000000,0)))","v":0},{"$f":"IF(D18=\"\",0,IF(Input!D38=\"Grazing\",Input!F38*10*Report_Cost!$F$31/2000/1000000,IF(AND(Input!D38=\"Multiple Use\",Input!K38>0),Input!K38*10*7500/1000000,0)))","v":0},{"$f":"IF(E18=\"\",0,IF(Input!D39=\"Grazing\",Input!F39*10*Report_Cost!$F$31/2000/1000000,IF(AND(Input!D39=\"Multiple Use\",Input!K39>0),Input!K39*10*7500/1000000,0)))","v":0},{"$f":"IF(F18=\"\",0,IF(Input!D40=\"Grazing\",Input!F40*10*Report_Cost!$F$31/2000/1000000,IF(AND(Input!D40=\"Multiple Use\",Input!K40>0),Input!K40*10*7500/1000000,0)))","v":0},{"$f":"IF(G18=\"\",0,IF(Input!D41=\"Grazing\",Input!F41*10*Report_Cost!$F$31/2000/1000000,IF(AND(Input!D41=\"Multiple Use\",Input!K41>0),Input!K41*10*7500/1000000,0)))","v":0},{"$f":"SUM(C31:G31)/Input!M$10","v":0},null,null,"Grazing: Applied excreted manure",{"$f":"IF(L18=\"\",0,IF(Input!R37=\"Grazing\",Input!T37*10*Report_Cost!$F$31/2000/1000000,IF(AND(Input!R37=\"Multiple Use\",Input!Y37>0),Input!Y37*10*7500/1000000,0)))","v":0},{"$f":"IF(M18=\"\",0,IF(Input!R38=\"Grazing\",Input!T38*10*Report_Cost!$F$31/2000/1000000,IF(AND(Input!R38=\"Multiple Use\",Input!Y38>0),Input!Y38*10*7500/1000000,0)))","v":0},{"$f":"IF(N18=\"\",0,IF(Input!R39=\"Grazing\",Input!T39*10*Report_Cost!$F$31/2000/1000000,IF(AND(Input!R39=\"Multiple Use\",Input!Y39>0),Input!Y39*10*7500/1000000,0)))","v":0},{"$f":"IF(O18=\"\",0,IF(Input!R40=\"Grazing\",Input!T40*10*Report_Cost!$F$31/2000/1000000,IF(AND(Input!R40=\"Multiple Use\",Input!Y40>0),Input!Y40*10*7500/1000000,0)))","v":0},{"$f":"IF(P18=\"\",0,IF(Input!R41=\"Grazing\",Input!T41*10*Report_Cost!$F$31/2000/1000000,IF(AND(Input!R41=\"Multiple Use\",Input!Y41>0),Input!Y41*10*7500/1000000,0)))","v":0},{"$f":"SUM(L31:P31)/Input!AA$10","v":0}]
[null,"Applied Compost Energy Input",{"$f":"IF(C18=\"\",0,IF(Input!E49>0,Input!E49*Report_Cost!$F$31/2000/1000000,0))","v":0},{"$f":"IF(D18=\"\",0,IF(Input!E50>0,Input!E50*Report_Cost!$F$31/2000/1000000,0))","v":0},{"$f":"IF(E18=\"\",0,IF(Input!E51>0,Input!E51*Report_Cost!$F$31/2000/1000000,0))","v":0},{"$f":"IF(F18=\"\",0,IF(Input!E52>0,Input!E52*Report_Cost!$F$31/2000/1000000,0))","v":0},{"$f":"IF(G18=\"\",0,IF(Input!E53>0,Input!E53*Report_Cost!$F$31/2000/1000000,0))","v":0},{"$f":"SUM(C32:G32)/Input!M$10","v":0},null,null,"Applied Compost Energy Input",{"$f":"IF(L18=\"\",0,IF(Input!S49>0,Input!S49*Report_Cost!$F$31/2000/1000000,0))","v":0},{"$f":"IF(M18=\"\",0,IF(Input!S50>0,Input!S50*Report_Cost!$F$31/2000/1000000,0))","v":0},{"$f":"IF(N18=\"\",0,IF(Input!S51>0,Input!S51*Report_Cost!$F$31/2000/1000000,0))","v":0},{"$f":"IF(O18=\"\",0,IF(Input!S52>0,Input!S52*Report_Cost!$F$31/2000/1000000,0))","v":0},{"$f":"IF(P18=\"\",0,IF(Input!S53>0,Input!S53*Report_Cost!$F$31/2000/1000000,0))","v":0},{"$f":"SUM(L32:P32)/Input!AA$10","v":0}]
[null,"Seed",{"$f":"IF(C18=\"\",0,IF(Input!F49>0,Input!F49*Report_Cost!$F$31/2000/1000000,0))","v":0},{"$f":"IF(D18=\"\",0,IF(Input!F50>0,Input!F50*Report_Cost!$F$31/2000/1000000,0))","v":0},{"$f":"IF(E18=\"\",0,IF(Input!F51>0,Input!F51*Report_Cost!$F$31/2000/1000000,0))","v":0},{"$f":"IF(F18=\"\",0,IF(Input!F52>0,Input!F52*Report_Cost!$F$31/2000/1000000,0))","v":0},{"$f":"IF(G18=\"\",0,IF(Input!F53>0,Input!F53*Report_Cost!$F$31/2000/1000000,0))","v":0},{"$f":"SUM(C33:G33)/Input!M$10","v":0},null,null,"Seed",{"$f":"IF(L18=\"\",0,IF(Input!T49>0,Input!T49*Report_Cost!$F$31/2000/1000000,0))","v":0},{"$f":"IF(M18=\"\",0,IF(Input!T50>0,Input!T50*Report_Cost!$F$31/2000/1000000,0))","v":0},{"$f":"IF(N18=\"\",0,IF(Input!T51>0,Input!T51*Report_Cost!$F$31/2000/1000000,0))","v":0},{"$f":"IF(O18=\"\",0,IF(Input!T52>0,Input!T52*Report_Cost!$F$31/2000/1000000,0))","v":0},{"$f":"IF(P18=\"\",0,IF(Input!T53>0,Input!T53*Report_Cost!$F$31/2000/1000000,0))","v":0},{"$f":"SUM(L33:P33)/Input!AA$10","v":0}]
[null,"Imported feed",{"$f":"IF(C18=\"\",0,IF(Input!G49>0,Input!G49*Report_Cost!$F$31/2000/1000000,0))","v":0},{"$f":"IF(D18=\"\",0,IF(Input!G50>0,Input!G50*Report_Cost!$F$31/2000/1000000,0))","v":0},{"$f":"IF(E18=\"\",0,IF(Input!G51>0,Input!G51*Report_Cost!$F$31/2000/1000000,0))","v":0},{"$f":"IF(F18=\"\",0,IF(Input!G52>0,Input!G52*Report_Cost!$F$31/2000/1000000,0))","v":0},{"$f":"IF(G18=\"\",0,IF(Input!G53>0,Input!G53*Report_Cost!$F$31/2000/1000000,0))","v":0},{"$f":"SUM(C34:G34)/Input!M$10","v":0},null,null,"Imported feed",{"$f":"IF(L18=\"\",0,IF(Input!U49>0,Input!U49*Report_Cost!$F$31/2000/1000000,0))","v":0},{"$f":"IF(M18=\"\",0,IF(Input!U50>0,Input!U50*Report_Cost!$F$31/2000/1000000,0))","v":0},{"$f":"IF(N18=\"\",0,IF(Input!U51>0,Input!U51*Report_Cost!$F$31/2000/1000000,0))","v":0},{"$f":"IF(O18=\"\",0,IF(Input!U52>0,Input!U52*Report_Cost!$F$31/2000/1000000,0))","v":0},{"$f":"IF(P18=\"\",0,IF(Input!U53>0,Input!U53*Report_Cost!$F$31/2000/1000000,0))","v":0},{"$f":"SUM(L34:P34)/Input!AA$10","v":0}]
[null,"Other applied organic material",{"$f":"IF(C18=\"\",0,IF(Input!H49>0,Input!H49*Report_Cost!$F$31/2000/1000000,0))","v":0},{"$f":"IF(D18=\"\",0,IF(Input!H50>0,Input!H50*Report_Cost!$F$31/2000/1000000,0))","v":0},{"$f":"IF(E18=\"\",0,IF(Input!H51>0,Input!H51*Report_Cost!$F$31/2000/1000000,0))","v":0},{"$f":"IF(F18=\"\",0,IF(Input!H52>0,Input!H52*Report_Cost!$F$31/2000/1000000,0))","v":0},{"$f":"IF(G18=\"\",0,IF(Input!H53>0,Input!H53*Report_Cost!$F$31/2000/1000000,0))","v":0},{"$f":"SUM(C35:G35)/Input!M$10","v":0},null,null,"Other applied organic material",{"$f":"IF(L18=\"\",0,IF(Input!V49>0,Input!V49*Report_Cost!$F$31/2000/1000000,0))","v":0},{"$f":"IF(M18=\"\",0,IF(Input!V50>0,Input!V50*Report_Cost!$F$31/2000/1000000,0))","v":0},{"$f":"IF(N18=\"\",0,IF(Input!V51>0,Input!V51*Report_Cost!$F$31/2000/1000000,0))","v":0},{"$f":"IF(O18=\"\",0,IF(Input!V52>0,Input!V52*Report_Cost!$F$31/2000/1000000,0))","v":0},{"$f":"IF(P18=\"\",0,IF(Input!V53>0,Input!V53*Report_Cost!$F$31/2000/1000000,0))","v":0},{"$f":"SUM(L35:P35)/Input!AA$10","v":0}]
[null,"Nitrogen",{"$f":"IF(C18=\"\",0,Input!D61*Input!L57/1000000)","v":0},{"$f":"IF(D18=\"\",0,Input!D62*Input!L57/1000000)","v":0},{"$f":"IF(E18=\"\",0,Input!D63*Input!L57/1000000)","v":0},{"$f":"IF(F18=\"\",0,Input!D64*Input!L57/1000000)","v":0},{"$f":"IF(G18=\"\",0,Input!D65*Input!L57/1000000)","v":0},{"$f":"SUM(C36:G36)/Input!M$10","v":0},null,null,"Nitrogen",{"$f":"IF(L18=\"\",0,Input!R61*Input!L57/1000000)","v":0},{"$f":"IF(M18=\"\",0,Input!R62*Input!L57/1000000)","v":0},{"$f":"IF(N18=\"\",0,Input!R63*Input!L57/1000000)","v":0},{"$f":"IF(O18=\"\",0,Input!R64*Input!L57/1000000)","v":0},{"$f":"IF(P18=\"\",0,Input!R65*Input!L57/1000000)","v":0},{"$f":"SUM(L36:P36)/Input!AA$10","v":0}]
[null,"Phosphorus",{"$f":"IF(C18=\"\",0,Input!E61*Input!L58/1000000)","v":0},{"$f":"IF(D18=\"\",0,Input!E62*Input!L58/1000000)","v":0},{"$f":"IF(E18=\"\",0,Input!E63*Input!L58/1000000)","v":0},{"$f":"IF(F18=\"\",0,Input!E64*Input!L58/1000000)","v":0},{"$f":"IF(G18=\"\",0,Input!E65*Input!L58/1000000)","v":0},{"$f":"SUM(C37:G37)/Input!M$10","v":0},null,null,"Phosphorus",{"$f":"IF(L18=\"\",0,Input!S61*Input!L58/1000000)","v":0},{"$f":"IF(M18=\"\",0,Input!S62*Input!L58/1000000)","v":0},{"$f":"IF(N18=\"\",0,Input!S63*Input!L58/1000000)","v":0},{"$f":"IF(O18=\"\",0,Input!S64*Input!L58/1000000)","v":0},{"$f":"IF(P18=\"\",0,Input!S65*Input!L58/1000000)","v":0},{"$f":"SUM(L37:P37)/Input!AA$10","v":0}]
[null,"Potassium",{"$f":"IF(C18=\"\",0,Input!F61*Input!L59/1000000)","v":0},{"$f":"IF(D18=\"\",0,Input!F62*Input!L59/1000000)","v":0},{"$f":"IF(E18=\"\",0,Input!F63*Input!L59/1000000)","v":0},{"$f":"IF(F18=\"\",0,Input!F64*Input!L59/1000000)","v":0},{"$f":"IF(G18=\"\",0,Input!F65*Input!L59/1000000)","v":0},{"$f":"SUM(C38:G38)/Input!M$10","v":0},null,null,"Potassium",{"$f":"IF(L18=\"\",0,Input!T61*Input!L59/1000000)","v":0},{"$f":"IF(M18=\"\",0,Input!T62*Input!L59/1000000)","v":0},{"$f":"IF(N18=\"\",0,Input!T63*Input!L59/1000000)","v":0},{"$f":"IF(O18=\"\",0,Input!T64*Input!L59/1000000)","v":0},{"$f":"IF(P18=\"\",0,Input!T65*Input!L59/1000000)","v":0},{"$f":"SUM(L38:P38)/Input!AA$10","v":0}]
[null,"Sulfur",{"$f":"IF(C18=\"\",0,Input!G61*Input!L60/1000000)","v":0},{"$f":"IF(D18=\"\",0,Input!G62*Input!L60/1000000)","v":0},{"$f":"IF(E18=\"\",0,Input!G63*Input!L60/1000000)","v":0},{"$f":"IF(F18=\"\",0,Input!G64*Input!L60/1000000)","v":0},{"$f":"IF(G18=\"\",0,Input!G65*Input!L60/1000000)","v":0},{"$f":"SUM(C39:G39)/Input!M$10","v":0},null,null,"Sulfur",{"$f":"IF(L18=\"\",0,Input!U61*Input!L60/1000000)","v":0},{"$f":"IF(M18=\"\",0,Input!U62*Input!L60/1000000)","v":0},{"$f":"IF(N18=\"\",0,Input!U63*Input!L60/1000000)","v":0},{"$f":"IF(O18=\"\",0,Input!U64*Input!L60/1000000)","v":0},{"$f":"IF(P18=\"\",0,Input!U65*Input!L60/1000000)","v":0},{"$f":"SUM(L39:P39)/Input!AA$10","v":0}]
[null,"Herbicide",{"$f":"IF(C18=\"\",0,Input!H61*Input!L61/1000000/IF(Input!D192=\"oz\",1,16))","v":0},{"$f":"IF(D18=\"\",0,Input!H62*Input!L61/1000000/IF(Input!D192=\"oz\",1,16))","v":0},{"$f":"IF(E18=\"\",0,Input!H63*Input!L61/1000000/IF(Input!D192=\"oz\",1,16))","v":0},{"$f":"IF(F18=\"\",0,Input!H64*Input!L61/1000000/IF(Input!D192=\"oz\",1,16))","v":0},{"$f":"IF(G18=\"\",0,Input!H65*Input!L61/1000000/IF(Input!D192=\"oz\",1,16))","v":0},{"$f":"SUM(C40:G40)/Input!M$10","v":0},null,null,"Herbicide",{"$f":"IF(L18=\"\",0,Input!V61*Input!L61/1000000/IF(Input!D192=\"oz\",1,16))","v":0},{"$f":"IF(M18=\"\",0,Input!V62*Input!L61/1000000/IF(Input!D192=\"oz\",1,16))","v":0},{"$f":"IF(N18=\"\",0,Input!V63*Input!L61/1000000/IF(Input!D192=\"oz\",1,16))","v":0},{"$f":"IF(O18=\"\",0,Input!V64*Input!L61/1000000/IF(Input!D192=\"oz\",1,16))","v":0},{"$f":"IF(P18=\"\",0,Input!V65*Input!L61/1000000/IF(Input!D192=\"oz\",1,16))","v":0},{"$f":"SUM(L40:P40)/Input!AA$10","v":0}]
[null,"Pesticide",{"$f":"IF(C18=\"\",0,Input!I61*Input!L62/1000000/IF(Input!D193=\"oz\",1,16))","v":0},{"$f":"IF(D18=\"\",0,Input!I62*Input!L62/1000000/IF(Input!D193=\"oz\",1,16))","v":0},{"$f":"IF(E18=\"\",0,Input!I63*Input!L62/1000000/IF(Input!D193=\"oz\",1,16))","v":0},{"$f":"IF(F18=\"\",0,Input!I64*Input!L62/1000000/IF(Input!D193=\"oz\",1,16))","v":0},{"$f":"IF(G18=\"\",0,Input!I65*Input!L62/1000000/IF(Input!D193=\"oz\",1,16))","v":0},{"$f":"SUM(C41:G41)/Input!M$10","v":0},null,null,"Pesticide",{"$f":"IF(L18=\"\",0,Input!W61*Input!L62/1000000/IF(Input!D193=\"oz\",1,16))","v":0},{"$f":"IF(M18=\"\",0,Input!W62*Input!L62/1000000/IF(Input!D193=\"oz\",1,16))","v":0},{"$f":"IF(N18=\"\",0,Input!W63*Input!L62/1000000/IF(Input!D193=\"oz\",1,16))","v":0},{"$f":"IF(O18=\"\",0,Input!W64*Input!L62/1000000/IF(Input!D193=\"oz\",1,16))","v":0},{"$f":"IF(P18=\"\",0,Input!W65*Input!L62/1000000/IF(Input!D193=\"oz\",1,16))","v":0},{"$f":"SUM(L41:P41)/Input!AA$10","v":0}]
["Energy Output","Crop Harvest Removed",{"$f":"IF(C18=\"\",0,IF(C10>0,C10*7500/1000000,0))","v":0},{"$f":"IF(D18=\"\",0,IF(D10>0,D10*7500/1000000,0))","v":0},{"$f":"IF(E18=\"\",0,IF(E10>0,E10*7500/1000000,0))","v":0},{"$f":"IF(F18=\"\",0,IF(F10>0,F10*7500/1000000,0))","v":0},{"$f":"IF(G18=\"\",0,IF(G10>0,G10*7500/1000000,0))","v":0},{"$f":"SUM(C42:G42)/Input!M$10","v":0},null,"Energy Output","Crop Harvest Removed",{"$f":"IF(L18=\"\",0,IF(L10>0,L10*7500/1000000,0))","v":0},{"$f":"IF(M18=\"\",0,IF(M10>0,M10*7500/1000000,0))","v":0},{"$f":"IF(N18=\"\",0,IF(N10>0,N10*7500/1000000,0))","v":0},{"$f":"IF(O18=\"\",0,IF(O10>0,O10*7500/1000000,0))","v":0},{"$f":"IF(P18=\"\",0,IF(P10>0,P10*7500/1000000,0))","v":0},{"$f":"SUM(L42:P42)/Input!AA$10","v":0}]
["(removed) from","Post Harvest Grazing Yield",{"$f":"IF(C18=\"\",0,IF(C11>0,C11*7500/1000000,0))","v":0},{"$f":"IF(D18=\"\",0,IF(D11>0,D11*7500/1000000,0))","v":0},{"$f":"IF(E18=\"\",0,IF(E11>0,E11*7500/1000000,0))","v":0},{"$f":"IF(F18=\"\",0,IF(F11>0,F11*7500/1000000,0))","v":0},{"$f":"IF(G18=\"\",0,IF(G11>0,G11*7500/1000000,0))","v":0},{"$f":"SUM(C43:G43)/Input!M$10","v":0},null,"(removed) from","Post Harvest Grazing Yield",{"$f":"IF(L18=\"\",0,IF(L11>0,L11*7500/1000000,0))","v":0},{"$f":"IF(M18=\"\",0,IF(M11>0,M11*7500/1000000,0))","v":0},{"$f":"IF(N18=\"\",0,IF(N11>0,N11*7500/1000000,0))","v":0},{"$f":"IF(O18=\"\",0,IF(O11>0,O11*7500/1000000,0))","v":0},{"$f":"IF(P18=\"\",0,IF(P11>0,P11*7500/1000000,0))","v":0},{"$f":"SUM(L43:P43)/Input!AA$10","v":0}]
["field","Post Harvest Removed",{"$f":"IF(C18=\"\",0,C12*7500/1000000)","v":0},{"$f":"IF(D18=\"\",0,D12*7500/1000000)","v":0},{"$f":"IF(E18=\"\",0,E12*7500/1000000)","v":0},{"$f":"IF(F18=\"\",0,F12*7500/1000000)","v":0},{"$f":"IF(G18=\"\",0,G12*7500/1000000)","v":0},{"$f":"SUM(C44:G44)/Input!M$10","v":0},null,"field","Post Harvest Removed",{"$f":"IF(L18=\"\",0,L12*7500/1000000)","v":0},{"$f":"IF(M18=\"\",0,M12*7500/1000000)","v":0},{"$f":"IF(N18=\"\",0,N12*7500/1000000)","v":0},{"$f":"IF(O18=\"\",0,O12*7500/1000000)","v":0},{"$f":"IF(P18=\"\",0,P12*7500/1000000)","v":0},{"$f":"SUM(L44:P44)/Input!AA$10","v":0}]
[]
[]
[]
["Beginning OM","Field soil organic matter energy resource",{"$f":"IF(C19>0,Input!$J$18*2000000*7500*0.3/1000000,0)","v":0},null,null,null,null,null,null,"Beginning OM","Field soil organic matter energy resource",{"$f":"IF(L19>0,Input!$J$18*2000000*7500*0.3/1000000,0)","v":0}]
[]
["IRRIGATION"]
[null,"Irrigation Delivery Power Worksheet for Energy Tool",null,null,null,null,null,null,null,null,null,"DON'T DELETE"]
[null,{"$f":"\"  Operation ID :   \"&Input!E14","v":"  Operation ID :   "},"Description:",null,null,"Date:",{"$f":"IF(Input!E17=\"\",\"\",Input!E17)","v":""},null,null,null,null,null,null,"BENCHMARK","PLANNED"]
[null,{"$f":"IF(Input!E15=\"\",\"  Field Location: \",\"  Field Location :  \"&Input!E16&\", \"&VLOOKUP(Input!E15,Input!C208:D262,2,FALSE))","v":"  Field Location: "},{"$f":"IF(Input!J16=\"\",\"\",Input!J16)","v":""},null,null,null,null,null,null,null,null,"Irrigation Pumping",null,{"$f":"Input!E153","v":"Gross Applied"},{"$f":"Input!S153","v":"Net Applied"}]
[null,{"$f":"\"  Field Acres :  \"&Input!J14","v":"  Field Acres :  "},null,null,null,null,null,null,null,null,null,"Irrigation Pumping",null,{"$f":"Input!D139","v":false},{"$f":"Input!R139","v":false}]
[null,"BENCHMARK",null,null,null,null,null,null,null,null,null,"Other Pumping 1",null,{"$f":"Input!D140","v":false},{"$f":"Input!R140","v":false}]
[null,"   Baseline crop names",{"$f":"Input!G152","v":""},{"$f":"Input!H152","v":""},{"$f":"Input!I152","v":""},{"$f":"Input!J152","v":""},{"$f":"Input!K152","v":""},null,null,null,null,"Other Pumping 2",null,{"$f":"Input!D141","v":false},{"$f":"Input!R141","v":false}]
[null,"   Gross irrigation application [in/crop]",{"$f":"IF(C56=\"\",\"\",IF(Input!$E$153=\"Gross Applied\",IF(Input!G153=\"\",\"\",Input!G153),IF(Input!G153=\"\",\"\",Input!G153/$D$72)))","v":""},{"$f":"IF(D56=\"\",\"\",IF(Input!$E$153=\"Gross Applied\",IF(Input!H153=\"\",\"\",Input!H153),IF(Input!H153=\"\",\"\",Input!H153/$D$72)))","v":""},{"$f":"IF(E56=\"\",\"\",IF(Input!$E$153=\"Gross Applied\",IF(Input!I153=\"\",\"\",Input!I153),IF(Input!I153=\"\",\"\",Input!I153/$D$72)))","v":""},{"$f":"IF(F56=\"\",\"\",IF(Input!$E$153=\"Gross Applied\",IF(Input!J153=\"\",\"\",Input!J153),IF(Input!J153=\"\",\"\",Input!J153/$D$72)))","v":""},{"$f":"IF(G56=\"\",\"\",IF(Input!$E$153=\"Gross Applied\",IF(Input!K153=\"\",\"\",Input!K153),IF(Input!K153=\"\",\"\",Input!K153/$D$72)))","v":""},null,null,null,null,"Other Pumping 3",null,{"$f":"Input!D142","v":false},{"$f":"Input!R142","v":false}]
[null,"   Net application, [in/crop]",{"$f":"IF(C56=\"\",\"\",IF(Input!$E$153=\"Net Applied\",IF(Input!G153=\"\",\"\",Input!G153),IF(Input!G153=\"\",\"\",Input!G153*$D$72)))","v":""},{"$f":"IF(D56=\"\",\"\",IF(Input!$E$153=\"Net Applied\",IF(Input!H153=\"\",\"\",Input!H153),IF(Input!H153=\"\",\"\",Input!H153*$D$72)))","v":""},{"$f":"IF(E56=\"\",\"\",IF(Input!$E$153=\"Net Applied\",IF(Input!I153=\"\",\"\",Input!I153),IF(Input!I153=\"\",\"\",Input!I153*$D$72)))","v":""},{"$f":"IF(F56=\"\",\"\",IF(Input!$E$153=\"Net Applied\",IF(Input!J153=\"\",\"\",Input!J153),IF(Input!J153=\"\",\"\",Input!J153*$D$72)))","v":""},{"$f":"IF(G56=\"\",\"\",IF(Input!$E$153=\"Net Applied\",IF(Input!K153=\"\",\"\",Input!K153),IF(Input!K153=\"\",\"\",Input!K153*$D$72)))","v":""}]
[null,"   Million gallons pumped per crop",{"$f":"IF(C56=\"\",\"\",IF(C57=\"\",0,C57*Input!$J$14/12*43560.1742405*7.48051948052/1000000))","v":""},{"$f":"IF(D56=\"\",\"\",IF(D57=\"\",0,D57*Input!$J$14/12*43560.1742405*7.48051948052/1000000))","v":""},{"$f":"IF(E56=\"\",\"\",IF(E57=\"\",0,E57*Input!$J$14/12*43560.1742405*7.48051948052/1000000))","v":""},{"$f":"IF(F56=\"\",\"\",IF(F57=\"\",0,F57*Input!$J$14/12*43560.1742405*7.48051948052/1000000))","v":""},{"$f":"IF(G56=\"\",\"\",IF(G57=\"\",0,G57*Input!$J$14/12*43560.1742405*7.48051948052/1000000))","v":""}]
[null,"PLANNED"]
[null,"   Planned crop names",{"$f":"Input!U152","v":""},{"$f":"Input!V152","v":""},{"$f":"Input!W152","v":""},{"$f":"Input!X152","v":""},{"$f":"Input!Y152","v":""}]
[null,"   Gross irrigation application [in/crop]",{"$f":"IF(C61=\"\",\"\",IF(Input!S153=\"Gross Applied\",IF(Input!U153=\"\",\"\",Input!U153),IF(Input!U153=\"\",\"\",Input!U153/$E$72)))","v":""},{"$f":"IF(D61=\"\",\"\",IF(Input!S153=\"Gross Applied\",IF(Input!V153=\"\",\"\",Input!V153),IF(Input!V153=\"\",\"\",Input!V153/$E$72)))","v":""},{"$f":"IF(E61=\"\",\"\",IF(Input!S153=\"Gross Applied\",IF(Input!W153=\"\",\"\",Input!W153),IF(Input!W153=\"\",\"\",Input!W153/$E$72)))","v":""},{"$f":"IF(F61=\"\",\"\",IF(Input!S153=\"Gross Applied\",IF(Input!X153=\"\",\"\",Input!X153),IF(Input!X153=\"\",\"\",Input!X153/$E$72)))","v":""},{"$f":"IF(G61=\"\",\"\",IF(Input!S153=\"Gross Applied\",IF(Input!Y153=\"\",\"\",Input!Y153),IF(Input!Y153=\"\",\"\",Input!Y153/$E$72)))","v":""}]
[null,"   Net application, [in/crop]",{"$f":"IF(C61=\"\",\"\",IF(Input!$S$153=\"Net Applied\",IF(Input!U153=\"\",\"\",Input!U153),IF(Input!U153=\"\",\"\",Input!U153*$E$72)))","v":""},{"$f":"IF(D61=\"\",\"\",IF(Input!$S$153=\"Net Applied\",IF(Input!V153=\"\",\"\",Input!V153),IF(Input!V153=\"\",\"\",Input!V153*$E$72)))","v":""},{"$f":"IF(E61=\"\",\"\",IF(Input!$S$153=\"Net Applied\",IF(Input!W153=\"\",\"\",Input!W153),IF(Input!W153=\"\",\"\",Input!W153*$E$72)))","v":""},{"$f":"IF(F61=\"\",\"\",IF(Input!$S$153=\"Net Applied\",IF(Input!X153=\"\",\"\",Input!X153),IF(Input!X153=\"\",\"\",Input!X153*$E$72)))","v":""},{"$f":"IF(G62=\"\",\"\",IF(Input!$S$153=\"Net Applied\",IF(Input!Y153=\"\",\"\",Input!Y153),IF(Input!Y153=\"\",\"\",Input!Y153*$E$72)))","v":""}]
[null,"   Million gallons pumped per crop",{"$f":"IF(C61=\"\",\"\",IF(C62=\"\",0,C62*Input!$S$14/12*43560.1742405*7.48051948052/1000000))","v":""},{"$f":"IF(D61=\"\",\"\",IF(D62=\"\",0,D62*Input!$S$14/12*43560.1742405*7.48051948052/1000000))","v":""},{"$f":"IF(E61=\"\",\"\",IF(E62=\"\",0,E62*Input!$S$14/12*43560.1742405*7.48051948052/1000000))","v":""},{"$f":"IF(F61=\"\",\"\",IF(F62=\"\",0,F62*Input!$S$14/12*43560.1742405*7.48051948052/1000000))","v":""},{"$f":"IF(G61=\"\",\"\",IF(G62=\"\",0,G62*Input!$S$14/12*43560.1742405*7.48051948052/1000000))","v":""}]
[null,"INPUT"]
[null,"   Highlighted Values from Input Tab","Units","Benchmark","Planned","Difference"]
[null,null,null,"Amount","Amount","Change","% change"]
[null,"   Operating pressure","psi",{"$f":"Input!F143","v":0},{"$f":"Input!T143","v":0},{"$f":"D68-E68","v":0},{"$f":"1-E68/D68","v":{"$error":"#DIV/0!"}}]
[null,"   Delivery or Pumping plant efficiency ","%",{"$f":"Input!G143","v":0},{"$f":"Input!U143","v":0},{"$f":"D69-E69","v":0},{"$f":"1-E69/D69","v":{"$error":"#DIV/0!"}}]
[null,"   Hours of Operation per day","hours",{"$f":"Input!H143","v":0},{"$f":"Input!V143","v":0},{"$f":"D70-E70","v":0},{"$f":"1-E70/D70","v":{"$error":"#DIV/0!"}}]
[null,"   Irrigation Application","inch/day",{"$f":"IF(Input!K142=\"gpm\",Input!K143/Input!J14*60*24*12/7.48051948052/43560.1742405,IF(Input!K142=\"cfs\",Input!K143/Input!J14*60*24*12/7.48051948052/43560.1742405*448.86,Input!K143))","v":{"$error":"#DIV/0!"}},{"$f":"IF(Input!Y142=\"gpm\",Input!Y143/Input!S14*60*24*12/7.48051948052/43560.1742405,IF(Input!Y142=\"cfs\",Input!Y143/Input!J14*60*24*12/7.48051948052/43560.1742405*448.86,Input!Y143))","v":{"$error":"#DIV/0!"}},{"$f":"D71-E71","v":{"$error":"#DIV/0!"}},{"$f":"1-E71/D71","v":{"$error":"#DIV/0!"}}]
[null,"   Uniformity of Application","%",{"$f":"Input!I143","v":0},{"$f":"Input!W143","v":0},{"$f":"D72-E72","v":0},{"$f":"1-E72/D72","v":{"$error":"#DIV/0!"}}]
[null,"CALCULATIONS"]
[null,"   Calculated Values","Units","Benchmark","Planned","Difference"]
[null,null,null,"Amount","Amount","Change","% change"]
[null,"   Average Irrigation Days per Crop Interval","days",{"$f":"IF(SUM(C57:G57)=0,0,AVERAGE(C57:G57)/D71)","v":0},{"$f":"IF(SUM(C62:G62)=0,0,AVERAGE(C62:G62)/E71)","v":0},{"$f":"D76-E76","v":0}]
[null,"   Pumping Flowrate","cfs",{"$f":"D71*Input!J14/D70*43560.1742/12/60/60","v":{"$error":"#DIV/0!"}},{"$f":"E71*Input!S14/E70*43560.1742/12/60/60","v":{"$error":"#DIV/0!"}},{"$error":"#DIV/0!"}]
[null,null,"gpm",{"$f":"D77*448.86","v":{"$error":"#DIV/0!"}},{"$f":"E77*448.86","v":{"$error":"#DIV/0!"}},{"$error":"#DIV/0!"}]
[null,"   Pumping Power","HP",{"$f":"D77*448.86*D68*2.31/3960/D69","v":{"$error":"#DIV/0!"}},{"$f":"E77*448.86*E68*2.31/3960/E69","v":{"$error":"#DIV/0!"}},{"$error":"#DIV/0!"}]
[null,null,"KW",{"$f":"D79*0.745699871582","v":{"$error":"#DIV/0!"}},{"$f":"E79*0.745699871582","v":{"$error":"#DIV/0!"}},{"$error":"#DIV/0!"}]
[null,"   Energy Rate Use per unit","KWH/day",{"$f":"D80*24","v":{"$error":"#DIV/0!"}},{"$f":"E80*24","v":{"$error":"#DIV/0!"}},{"$error":"#DIV/0!"}]
[null,null,"BTU/day",{"$f":"D80*D70*3600*1000/1055.05585262","v":{"$error":"#DIV/0!"}},{"$f":"E80*E70*3600*1000/1055.05585262","v":{"$error":"#DIV/0!"}},{"$error":"#DIV/0!"}]
[null,null,"BTU/inch",{"$f":"IF(SUM(C57:G57)=0,0,D82*D76/AVERAGE(C57:G57))","v":0},{"$f":"IF(SUM(C62:G62)=0,0,E82*E76/AVERAGE(C62:G62))","v":0},0]
[null,null,"BTU/gal",{"$f":"D82/D78/60/24","v":{"$error":"#DIV/0!"}},{"$f":"E82/E78/60/24","v":{"$error":"#DIV/0!"}},{"$f":"D84-E84","v":{"$error":"#DIV/0!"}}]
[null,"   Total Energy Use in Million BTUs","MMBTU",{"$f":"D84*SUM(C59:G59)","v":{"$error":"#DIV/0!"}},{"$f":"E84*SUM(C64:G64)","v":{"$error":"#DIV/0!"}},{"$error":"#DIV/0!"}]
[null,"Note: Values shaded yellow (Benchmark) and green (Planned) are input variables from the input tab. "]
[null,"           Values shaded red are used in energy calculations for reports tab."]
[]
[]
[null,"Other Delivery Power 1 Worksheet for Energy Tool"]
[null,{"$f":"\"  Operation ID :   \"&Input!E14","v":"  Operation ID :   "},"Description:",null,null,"Date:",{"$f":"IF(Input!E17=\"\",\"\",Input!E17)","v":""}]
[null,{"$f":"IF(Input!E15=\"\",\"  Field Location: \",\"  Field Location :  \"&Input!E16&\", \"&VLOOKUP(Input!E15,Input!C208:D262,2,FALSE))","v":"  Field Location: "},{"$f":"IF(Input!J16=\"\",\"\",Input!J16)","v":""}]
[null,{"$f":"\"  Field Acres :  \"&Input!J14","v":"  Field Acres :  "}]
[null,"BENCHMARK",{"$f":"IF(AND(C96<>\"\",C97<>\"\"),C96/C97,\"\")","v":""},{"$f":"IF(AND(D96<>\"\",D97<>\"\"),D96/D97,\"\")","v":""},{"$f":"IF(AND(E96<>\"\",E97<>\"\"),E96/E97,\"\")","v":""},{"$f":"IF(AND(F96<>\"\",F97<>\"\"),F96/F97,\"\")","v":""},{"$f":"IF(AND(G96<>\"\",G97<>\"\"),G96/G97,\"\")","v":""}]
[null,"   Baseline crop names",{"$f":"Input!G152","v":""},{"$f":"Input!H152","v":""},{"$f":"Input!I152","v":""},{"$f":"Input!J152","v":""},{"$f":"Input!K152","v":""}]
[null,{"$f":"\"   Other Pumping Type : \"&Input!E154& \" [\"&Input!F154&\"]\"","v":"   Other Pumping Type : Booster [gpm]"},{"$f":"IF(C95=\"\",\"\",IF(Input!G154=\"\",\"\",Input!G154))","v":""},{"$f":"IF(D95=\"\",\"\",IF(Input!H154=\"\",\"\",Input!H154))","v":""},{"$f":"IF(E95=\"\",\"\",IF(Input!I154=\"\",\"\",Input!I154))","v":""},{"$f":"IF(F95=\"\",\"\",IF(Input!J154=\"\",\"\",Input!J154))","v":""},{"$f":"IF(G95=\"\",\"\",IF(Input!K154=\"\",\"\",Input!K154))","v":""}]
[null,{"$f":"\"   Days of Operation, [days]\"","v":"   Days of Operation, [days]"},{"$f":"IF(C96=\"\",\"\",IF(Input!G155=\"\",\"\",Input!G155))","v":""},{"$f":"IF(D96=\"\",\"\",IF(Input!H155=\"\",\"\",Input!H155))","v":""},{"$f":"IF(E96=\"\",\"\",IF(Input!I155=\"\",\"\",Input!I155))","v":""},{"$f":"IF(F96=\"\",\"\",IF(Input!J155=\"\",\"\",Input!J155))","v":""},{"$f":"IF(G96=\"\",\"\",IF(Input!K155=\"\",\"\",Input!K155))","v":""}]
[null,"   Million gallons pumped per crop",{"$f":"IF(C97=\"\",0,IF(Input!$F$154=\"cfs\",C96*C97*D109*60*448.86/1000000,IF(Input!$F$154=\"gpm\",C96*C97*D109*60/1000000,IF(Input!$F$154=\"gal/field\",C96/1000000,\"\"))))","v":0},{"$f":"IF(D97=\"\",0,IF(Input!$F$154=\"cfs\",D96*D97*D109*60*448.86/1000000,IF(Input!$F$154=\"gpm\",D96*D97*D109*60/1000000,IF(Input!$F$154=\"gal/field\",D96/1000000,\"\"))))","v":0},{"$f":"IF(E97=\"\",0,IF(Input!$F$154=\"cfs\",E96*E97*D109*60*448.86/1000000,IF(Input!$F$154=\"gpm\",E96*E97*D109*60/1000000,IF(Input!$F$154=\"gal/field\",E96/1000000,\"\"))))","v":0},{"$f":"IF(F97=\"\",0,IF(Input!$F$154=\"cfs\",F96*F97*D109*60*448.86/1000000,IF(Input!$F$154=\"gpm\",F96*F97*D109*60/1000000,IF(Input!$F$154=\"gal/field\",F96/1000000,\"\"))))","v":0},{"$f":"IF(G97=\"\",0,IF(Input!$F$154=\"cfs\",G96*G97*D109*60*448.86/1000000,IF(Input!$F$154=\"gpm\",G96*G97*D109*60/1000000,IF(Input!$F$154=\"gal/field\",G96/1000000,\"\"))))","v":0}]
[null,"PLANNED",{"$f":"IF(AND(C101<>\"\",C102<>\"\"),C101/C102,\"\")","v":""},{"$f":"IF(AND(D101<>\"\",D102<>\"\"),D101/D102,\"\")","v":""},{"$f":"IF(AND(E101<>\"\",E102<>\"\"),E101/E102,\"\")","v":""},{"$f":"IF(AND(F101<>\"\",F102<>\"\"),F101/F102,\"\")","v":""},{"$f":"IF(AND(G101<>\"\",G102<>\"\"),G101/G102,\"\")","v":""}]
[null,"   Planned crop names",{"$f":"Input!U152","v":""},{"$f":"Input!V152","v":""},{"$f":"Input!W152","v":""},{"$f":"Input!X152","v":""},{"$f":"Input!Y152","v":""}]
[null,{"$f":"\"   Other Pumping Type : \"&Input!S154& \" [\"&Input!T154&\"]\"","v":"   Other Pumping Type : Booster [gpm]"},{"$f":"IF(C100=\"\",\"\",IF(Input!U154=\"\",\"\",Input!U154))","v":""},{"$f":"IF(D100=\"\",\"\",IF(Input!V154=\"\",\"\",Input!V154))","v":""},{"$f":"IF(E100=\"\",\"\",IF(Input!W154=\"\",\"\",Input!W154))","v":""},{"$f":"IF(F100=\"\",\"\",IF(Input!X154=\"\",\"\",Input!X154))","v":""},{"$f":"IF(G100=\"\",\"\",IF(Input!Y154=\"\",\"\",Input!Y154))","v":""}]
[null,{"$f":"\"   Days of Operation, [days]\"","v":"   Days of Operation, [days]"},{"$f":"IF(C101=\"\",\"\",IF(Input!U155=\"\",\"\",Input!U155))","v":""},{"$f":"IF(D101=\"\",\"\",IF(Input!V155=\"\",\"\",Input!V155))","v":""},{"$f":"IF(E101=\"\",\"\",IF(Input!W155=\"\",\"\",Input!W155))","v":""},{"$f":"IF(F101=\"\",\"\",IF(Input!X155=\"\",\"\",Input!X155))","v":""},{"$f":"IF(G101=\"\",\"\",IF(Input!Y155=\"\",\"\",Input!Y155))","v":""}]
[null,"   Million gallons pumped per crop",{"$f":"IF(C101=\"\",0,IF(Input!$T$154=\"cfs\",C101*C102*E109*60*448.86/1000000,IF(Input!$T$154=\"gpm\",C101*C102*E109*60/1000000,IF(Input!$T$154=\"gal/field\",C101/1000000,\"\"))))","v":0},{"$f":"IF(D101=\"\",0,IF(Input!$T$154=\"cfs\",D101*D102*E109*60*448.86/1000000,IF(Input!$T$154=\"gpm\",D101*D102*E109*60/1000000,IF(Input!$T$154=\"gal/field\",D101/1000000,\"\"))))","v":0},{"$f":"IF(E101=\"\",0,IF(Input!$T$154=\"cfs\",E101*E102*E109*60*448.86/1000000,IF(Input!$T$154=\"gpm\",E101*E102*E109*60/1000000,IF(Input!$T$154=\"gal/field\",E101/1000000,\"\"))))","v":0},{"$f":"IF(F101=\"\",0,IF(Input!$T$154=\"cfs\",F101*F102*E109*60*448.86/1000000,IF(Input!$T$154=\"gpm\",F101*F102*E109*60/1000000,IF(Input!$T$154=\"gal/field\",F101/1000000,\"\"))))","v":0},{"$f":"IF(G101=\"\",0,IF(Input!$T$154=\"cfs\",G101*G102*E109*60*448.86/1000000,IF(Input!$T$154=\"gpm\",G101*G102*E109*60/1000000,IF(Input!$T$154=\"gal/field\",G101/1000000,\"\"))))","v":0}]
[null,"INPUT PUMP SYSTEM"]
[null,"   Highlighted Values from Input Tab","Units","Benchmark","Planned","Difference"]
[null,null,null,"Amount","Amount","Change","% change"]
[null,"   Operating pressure","psi",{"$f":"Input!F144","v":0},{"$f":"Input!T144","v":0},{"$f":"D107-E107","v":0},{"$f":"1-E107/D107","v":{"$error":"#DIV/0!"}}]
[null,"   Delivery or Pumping plant efficiency ","%",{"$f":"Input!G144","v":0},{"$f":"Input!U144","v":0},{"$f":"D108-E108","v":0},{"$f":"1-E108/D108","v":{"$error":"#DIV/0!"}}]
[null,"   Hours of Operation per day","hours",{"$f":"Input!H144","v":0},{"$f":"Input!V144","v":0},{"$f":"D109-E109","v":0},{"$f":"1-E109/D109","v":{"$error":"#DIV/0!"}}]
[null,"CALCULATIONS"]
[null,"   Calculated Values","Units","Benchmark","Planned","Difference"]
[null,null,null,"Amount","Amount","Change","% change"]
[null,"   Average Days of Operation","days",{"$f":"AVERAGE(C97:G97)","v":{"$error":"#DIV/0!"}},{"$f":"AVERAGE(C102:G102)","v":{"$error":"#DIV/0!"}},{"$f":"D113-E113","v":{"$error":"#DIV/0!"}}]
[null,"   Pumping Rate (maximum per rotation)","cfs",{"$f":"D115/448.86","v":0},{"$f":"E115/448.86","v":0},0]
[null,null,"gpm",{"$f":"IF(Input!F154=\"gpm\",MAX(C96:G96),IF(Input!F154=\"cfs\",MAX(C96:G96)*448.86,IF(Input!F154=\"gal/field\",MAX(C94:G94)/D109/60,\"\")))","v":0},{"$f":"IF(Input!T154=\"gpm\",MAX(C101:G101),IF(Input!T154=\"cfs\",MAX(C101:G101)*448.86,IF(Input!T154=\"gal/field\",MAX(C99:G99)/E109/60,\"\")))","v":0},0]
[null,"   Pumping Power","HP",{"$f":"D115*D107*2.31/3960/D108","v":{"$error":"#DIV/0!"}},{"$f":"E115*E107*2.31/3960/E108","v":{"$error":"#DIV/0!"}},{"$error":"#DIV/0!"}]
[null,null,"KW",{"$f":"D116*0.745699871582","v":{"$error":"#DIV/0!"}},{"$f":"E116*0.745699871582","v":{"$error":"#DIV/0!"}},{"$error":"#DIV/0!"}]
[null,"   Energy Rate Use per unit","KWH/day",{"$f":"D117*D109","v":{"$error":"#DIV/0!"}},{"$f":"E117*E109","v":{"$error":"#DIV/0!"}},{"$error":"#DIV/0!"}]
[null,null,"BTU/day",{"$f":"D117*24*3600*1000/1055.05585262","v":{"$error":"#DIV/0!"}},{"$f":"E117*24*3600*1000/1055.05585262","v":{"$error":"#DIV/0!"}},{"$error":"#DIV/0!"}]
[null,null,"BTU/gal",{"$f":"D119/24/60/D115","v":{"$error":"#DIV/0!"}},{"$f":"E119/24/60/E115","v":{"$error":"#DIV/0!"}},{"$error":"#DIV/0!"}]
[null,"   Total Energy Use in Million BTUs","MMBTU",{"$f":"D120*SUM(C98:G98)","v":{"$error":"#DIV/0!"}},{"$f":"E120*SUM(C103:G103)","v":{"$error":"#DIV/0!"}},{"$error":"#DIV/0!"}]
[null,"Note: Values shaded yellow (Benchmark) and green (Planned) are input variables from the input tab. "]
[null,"           Values shaded red are used in energy calculations for reports tab."]
[]
[]
[null,"Other Delivery Power 2 Worksheet for Energy Tool"]
[null,{"$f":"\"  Operation ID :   \"&Input!E14","v":"  Operation ID :   "},"Description:",null,null,"Date:",{"$f":"IF(Input!E17=\"\",\"\",Input!E17)","v":""}]
[null,{"$f":"IF(Input!E15=\"\",\"  Field Location: \",\"  Field Location :  \"&Input!E16&\", \"&VLOOKUP(Input!E15,Input!C208:D262,2,FALSE))","v":"  Field Location: "},{"$f":"IF(Input!J16=\"\",\"\",Input!J16)","v":""}]
[null,{"$f":"\"  Field Acres :  \"&Input!J14","v":"  Field Acres :  "}]
[null,"BENCHMARK",{"$f":"IF(AND(C132<>\"\",C133<>\"\"),C132/C133,\"\")","v":""},{"$f":"IF(AND(D132<>\"\",D133<>\"\"),D132/D133,\"\")","v":""},{"$f":"IF(AND(E132<>\"\",E133<>\"\"),E132/E133,\"\")","v":""},{"$f":"IF(AND(F132<>\"\",F133<>\"\"),F132/F133,\"\")","v":""},{"$f":"IF(AND(G132<>\"\",G133<>\"\"),G132/G133,\"\")","v":""}]
[null,"   Baseline crop names",{"$f":"Input!G152","v":""},{"$f":"Input!H152","v":""},{"$f":"Input!I152","v":""},{"$f":"Input!J152","v":""},{"$f":"Input!K152","v":""}]
[null,{"$f":"\"   Other Pumping Type : \"&Input!E156& \" [\"&Input!F156&\"]\"","v":"   Other Pumping Type :  []"},{"$f":"IF(C131=\"\",\"\",IF(Input!G156=\"\",\"\",Input!G156))","v":""},{"$f":"IF(D131=\"\",\"\",IF(Input!H156=\"\",\"\",Input!H156))","v":""},{"$f":"IF(E131=\"\",\"\",IF(Input!I156=\"\",\"\",Input!I156))","v":""},{"$f":"IF(F131=\"\",\"\",IF(Input!J156=\"\",\"\",Input!J156))","v":""},{"$f":"IF(G131=\"\",\"\",IF(Input!K156=\"\",\"\",Input!K156))","v":""}]
[null,{"$f":"\"   Days of Operation, [days]\"","v":"   Days of Operation, [days]"},{"$f":"IF(C132=\"\",\"\",IF(Input!G157=\"\",\"\",Input!G157))","v":""},{"$f":"IF(D132=\"\",\"\",IF(Input!H157=\"\",\"\",Input!H157))","v":""},{"$f":"IF(E132=\"\",\"\",IF(Input!I157=\"\",\"\",Input!I157))","v":""},{"$f":"IF(F132=\"\",\"\",IF(Input!J157=\"\",\"\",Input!J157))","v":""},{"$f":"IF(G132=\"\",\"\",IF(Input!K157=\"\",\"\",Input!K157))","v":""}]
[null,"   Million gallons pumped per crop",{"$f":"IF(C132=\"\",0,IF(Input!$F$156=\"cfs\",C132*C133*D145*60*448.86/1000000,IF(Input!$F$156=\"gpm\",C132*C133*D145*60/1000000,IF(Input!$F$156=\"gal/field\",C132/1000000,\"\"))))","v":0},{"$f":"IF(D132=\"\",0,IF(Input!$F$156=\"cfs\",D132*D133*D145*60*448.86/1000000,IF(Input!$F$156=\"gpm\",D132*D133*D145*60/1000000,IF(Input!$F$156=\"gal/field\",D132/1000000,\"\"))))","v":0},{"$f":"IF(E132=\"\",0,IF(Input!$F$156=\"cfs\",E132*E133*D145*60*448.86/1000000,IF(Input!$F$156=\"gpm\",E132*E133*D145*60/1000000,IF(Input!$F$156=\"gal/field\",E132/1000000,\"\"))))","v":0},{"$f":"IF(F132=\"\",0,IF(Input!$F$156=\"cfs\",F132*F133*D145*60*448.86/1000000,IF(Input!$F$156=\"gpm\",F132*F133*D145*60/1000000,IF(Input!$F$156=\"gal/field\",F132/1000000,\"\"))))","v":0},{"$f":"IF(G132=\"\",0,IF(Input!$F$156=\"cfs\",G132*G133*D145*60*448.86/1000000,IF(Input!$F$156=\"gpm\",G132*G133*D145*60/1000000,IF(Input!$F$156=\"gal/field\",G132/1000000,\"\"))))","v":0}]
[null,"PLANNED",{"$f":"IF(AND(C137<>\"\",C138<>\"\"),C137/C138,\"\")","v":""},{"$f":"IF(AND(D137<>\"\",D138<>\"\"),D137/D138,\"\")","v":""},{"$f":"IF(AND(E137<>\"\",E138<>\"\"),E137/E138,\"\")","v":""},{"$f":"IF(AND(F137<>\"\",F138<>\"\"),F137/F138,\"\")","v":""},{"$f":"IF(AND(G137<>\"\",G138<>\"\"),G137/G138,\"\")","v":""}]
[null,"   Planned crop names",{"$f":"Input!U152","v":""},{"$f":"Input!V152","v":""},{"$f":"Input!W152","v":""},{"$f":"Input!X152","v":""},{"$f":"Input!Y152","v":""}]
[null,{"$f":"\"   Other Pumping Type : \"&Input!S156& \" [\"&Input!T156&\"]\"","v":"   Other Pumping Type :  []"},{"$f":"IF(C136=\"\",\"\",IF(Input!U156=\"\",\"\",Input!U156))","v":""},{"$f":"IF(D136=\"\",\"\",IF(Input!V156=\"\",\"\",Input!V156))","v":""},{"$f":"IF(E136=\"\",\"\",IF(Input!W156=\"\",\"\",Input!W156))","v":""},{"$f":"IF(F136=\"\",\"\",IF(Input!X156=\"\",\"\",Input!X156))","v":""},{"$f":"IF(G136=\"\",\"\",IF(Input!Y156=\"\",\"\",Input!Y156))","v":""}]
[null,{"$f":"\"   Days of Operation, [days]\"","v":"   Days of Operation, [days]"},{"$f":"IF(C137=\"\",\"\",IF(Input!U157=\"\",\"\",Input!U157))","v":""},{"$f":"IF(D137=\"\",\"\",IF(Input!V157=\"\",\"\",Input!V157))","v":""},{"$f":"IF(E137=\"\",\"\",IF(Input!W157=\"\",\"\",Input!W157))","v":""},{"$f":"IF(F137=\"\",\"\",IF(Input!X157=\"\",\"\",Input!X157))","v":""},{"$f":"IF(G137=\"\",\"\",IF(Input!Y157=\"\",\"\",Input!Y157))","v":""}]
[null,"   Million gallons pumped per crop",{"$f":"IF(C137=\"\",0,IF(Input!$T$156=\"cfs\",C137*C138*E145*60*448.86/1000000,IF(Input!$T$156=\"gpm\",C137*C138*E145*60/1000000,IF(Input!$T$156=\"gal/field\",C137/1000000,\"\"))))","v":0},{"$f":"IF(D137=\"\",0,IF(Input!$T$156=\"cfs\",D137*D138*E145*60*448.86/1000000,IF(Input!$T$156=\"gpm\",D137*D138*E145*60/1000000,IF(Input!$T$156=\"gal/field\",D137/1000000,\"\"))))","v":0},{"$f":"IF(E137=\"\",0,IF(Input!$T$156=\"cfs\",E137*E138*E145*60*448.86/1000000,IF(Input!$T$156=\"gpm\",E137*E138*E145*60/1000000,IF(Input!$T$156=\"gal/field\",E137/1000000,\"\"))))","v":0},{"$f":"IF(F137=\"\",0,IF(Input!$T$156=\"cfs\",F137*F138*E145*60*448.86/1000000,IF(Input!$T$156=\"gpm\",F137*F138*E145*60/1000000,IF(Input!$T$156=\"gal/field\",F137/1000000,\"\"))))","v":0},{"$f":"IF(G137=\"\",0,IF(Input!$T$156=\"cfs\",G137*G138*E145*60*448.86/1000000,IF(Input!$T$156=\"gpm\",G137*G138*E145*60/1000000,IF(Input!$T$156=\"gal/field\",G137/1000000,\"\"))))","v":0}]
[null,"INPUT PUMP SYSTEM"]
[null,"   Highlighted Values from Input Tab","Units","Benchmark","Planned","Difference"]
[null,null,null,"Amount","Amount","Change","% change"]
[null,"   Operating pressure","psi",{"$f":"Input!F145","v":0},{"$f":"Input!T145","v":0},{"$f":"D143-E143","v":0},{"$f":"1-E143/D143","v":{"$error":"#DIV/0!"}}]
[null,"   Delivery or Pumping plant efficiency ","%",{"$f":"Input!G145","v":0},{"$f":"Input!U145","v":0},{"$f":"D144-E144","v":0},{"$f":"1-E144/D144","v":{"$error":"#DIV/0!"}}]
[null,"   Hours of Operation per day","hours",{"$f":"Input!H145","v":0},{"$f":"Input!V145","v":0},{"$f":"D145-E145","v":0},{"$f":"1-E145/D145","v":{"$error":"#DIV/0!"}}]
[null,"CALCULATIONS"]
[null,"   Calculated Values","Units","Benchmark","Planned","Difference"]
[null,null,null,"Amount","Amount","Change","% change"]
[null,"   Average Days of Operation","days",{"$f":"AVERAGE(C133:G133)","v":{"$error":"#DIV/0!"}},{"$f":"AVERAGE(C138:G138)","v":{"$error":"#DIV/0!"}},{"$f":"D149-E149","v":{"$error":"#DIV/0!"}}]
[null,"   Pumping Rate (maximum per rotation)","cfs",{"$f":"D151/448.86","v":{"$error":"#VALUE!"}},{"$f":"E151/448.86","v":{"$error":"#VALUE!"}},{"$error":"#VALUE!"}]
[null,null,"gpm",{"$f":"IF(Input!F156=\"gpm\",MAX(C132:G132),IF(Input!F156=\"cfs\",MAX(C132:G132)*448.86,IF(Input!F156=\"gal/field\",MAX(C130:G130)/D145/60,\"\")))","v":""},{"$f":"IF(Input!T156=\"gpm\",MAX(C137:G137),IF(Input!T156=\"cfs\",MAX(C137:G137)*448.86,IF(Input!T156=\"gal/field\",MAX(C135:G135)/E145/60,\"\")))","v":""},{"$error":"#VALUE!"}]
[null,"   Pumping Power","HP",{"$f":"D151*D143*2.31/3960/D144","v":{"$error":"#VALUE!"}},{"$f":"E151*E143*2.31/3960/E144","v":{"$error":"#VALUE!"}},{"$error":"#VALUE!"}]
[null,null,"KW",{"$f":"D152*0.745699871582","v":{"$error":"#VALUE!"}},{"$f":"E152*0.745699871582","v":{"$error":"#VALUE!"}},{"$error":"#VALUE!"}]
[null,"   Energy Rate Use per unit","KWH/day",{"$f":"D153*D145","v":{"$error":"#VALUE!"}},{"$f":"E153*E145","v":{"$error":"#VALUE!"}},{"$error":"#VALUE!"}]
[null,null,"BTU/day",{"$f":"D153*D145*3600*1000/1055.05585262","v":{"$error":"#VALUE!"}},{"$f":"E153*E145*3600*1000/1055.05585262","v":{"$error":"#VALUE!"}},{"$error":"#VALUE!"}]
[null,null,"BTU/gal",{"$f":"D155/D145/60/D151","v":{"$error":"#VALUE!"}},{"$f":"E155/E145/60/E151","v":{"$error":"#VALUE!"}},{"$error":"#VALUE!"}]
[null,"   Total Energy Use in Million BTUs","MMBTU",{"$f":"D156*SUM(C134:G134)","v":{"$error":"#VALUE!"}},{"$f":"E156*SUM(C139:G139)","v":{"$error":"#VALUE!"}},{"$error":"#VALUE!"}]
[null,"Note: Values shaded yellow (Benchmark) and green (Planned) are input variables from the input tab. "]
[null,"           Values shaded red are used in energy calculations for reports tab."]
[]
[]
[null,"Other Delivery Power 3 Worksheet for Energy Tool"]
[null,{"$f":"\"  Operation ID :   \"&Input!E14","v":"  Operation ID :   "},"Description:",null,null,"Date:",{"$f":"IF(Input!E17=\"\",\"\",Input!E17)","v":""}]
[null,{"$f":"IF(Input!E15=\"\",\"  Field Location: \",\"  Field Location :  \"&Input!E16&\", \"&VLOOKUP(Input!E15,Input!C208:D262,2,FALSE))","v":"  Field Location: "},{"$f":"IF(Input!J16=\"\",\"\",Input!J16)","v":""}]
[null,{"$f":"\"  Field Acres :  \"&Input!J14","v":"  Field Acres :  "}]
[null,"BENCHMARK",{"$f":"IF(AND(C168<>\"\",C169<>\"\"),C168/C169,\"\")","v":""},{"$f":"IF(AND(D168<>\"\",D169<>\"\"),D168/D169,\"\")","v":""},{"$f":"IF(AND(E168<>\"\",E169<>\"\"),E168/E169,\"\")","v":""},{"$f":"IF(AND(F168<>\"\",F169<>\"\"),F168/F169,\"\")","v":""},{"$f":"IF(AND(G168<>\"\",G169<>\"\"),G168/G169,\"\")","v":""}]
[null,"   Baseline crop names",{"$f":"Input!G152","v":""},{"$f":"Input!H152","v":""},{"$f":"Input!I152","v":""},{"$f":"Input!J152","v":""},{"$f":"Input!K152","v":""}]
[null,{"$f":"\"   Other Pumping Type : \"&Input!E158& \" [\"&Input!F158&\"]\"","v":"   Other Pumping Type :  []"},{"$f":"IF(C167=\"\",\"\",IF(Input!G158=\"\",\"\",Input!G158))","v":""},{"$f":"IF(D167=\"\",\"\",IF(Input!H158=\"\",\"\",Input!H158))","v":""},{"$f":"IF(E167=\"\",\"\",IF(Input!I158=\"\",\"\",Input!I158))","v":""},{"$f":"IF(F167=\"\",\"\",IF(Input!J158=\"\",\"\",Input!J158))","v":""},{"$f":"IF(G167=\"\",\"\",IF(Input!K158=\"\",\"\",Input!K158))","v":""}]
[null,{"$f":"\"   Days of Operation, [days]\"","v":"   Days of Operation, [days]"},{"$f":"IF(C168=\"\",\"\",IF(Input!G159=\"\",\"\",Input!G159))","v":""},{"$f":"IF(D168=\"\",\"\",IF(Input!H159=\"\",\"\",Input!H159))","v":""},{"$f":"IF(E168=\"\",\"\",IF(Input!I159=\"\",\"\",Input!I159))","v":""},{"$f":"IF(F168=\"\",\"\",IF(Input!J159=\"\",\"\",Input!J159))","v":""},{"$f":"IF(G168=\"\",\"\",IF(Input!K159=\"\",\"\",Input!K159))","v":""}]
[null,"   Million gallons pumped per crop",{"$f":"IF(C169=\"\",0,IF(Input!$F$158=\"cfs\",C168*C169*D181*60*448.86/1000000,IF(Input!$F$158=\"gpm\",C168*C169*D181*60/1000000,IF(Input!$F$158=\"gal/field\",C168/1000000,\"\"))))","v":0},{"$f":"IF(D169=\"\",0,IF(Input!$F$158=\"cfs\",D168*D169*D181*60*448.86/1000000,IF(Input!$F$158=\"gpm\",D168*D169*D181*60/1000000,IF(Input!$F$158=\"gal/field\",D168/1000000,\"\"))))","v":0},{"$f":"IF(E169=\"\",0,IF(Input!$F$158=\"cfs\",E168*E169*D181*60*448.86/1000000,IF(Input!$F$158=\"gpm\",E168*E169*D181*60/1000000,IF(Input!$F$158=\"gal/field\",E168/1000000,\"\"))))","v":0},{"$f":"IF(F169=\"\",0,IF(Input!$F$158=\"cfs\",F168*F169*D181*60*448.86/1000000,IF(Input!$F$158=\"gpm\",F168*F169*D181*60/1000000,IF(Input!$F$158=\"gal/field\",F168/1000000,\"\"))))","v":0},{"$f":"IF(G169=\"\",0,IF(Input!$F$158=\"cfs\",G168*G169*D181*60*448.86/1000000,IF(Input!$F$158=\"gpm\",G168*G169*D181*60/1000000,IF(Input!$F$158=\"gal/field\",G168/1000000,\"\"))))","v":0}]
[null,"PLANNED",{"$f":"IF(AND(C173<>\"\",C174<>\"\"),C173/C174,\"\")","v":""},{"$f":"IF(AND(D173<>\"\",D174<>\"\"),D173/D174,\"\")","v":""},{"$f":"IF(AND(E173<>\"\",E174<>\"\"),E173/E174,\"\")","v":""},{"$f":"IF(AND(F173<>\"\",F174<>\"\"),F173/F174,\"\")","v":""},{"$f":"IF(AND(G173<>\"\",G174<>\"\"),G173/G174,\"\")","v":""}]
[null,"   Planned crop names",{"$f":"Input!U152","v":""},{"$f":"Input!V152","v":""},{"$f":"Input!W152","v":""},{"$f":"Input!X152","v":""},{"$f":"Input!Y152","v":""}]
[null,{"$f":"\"   Other Pumping Type : \"&Input!S158& \" [\"&Input!T158&\"]\"","v":"   Other Pumping Type :  []"},{"$f":"IF(C172=\"\",\"\",IF(Input!U158=\"\",\"\",Input!U158))","v":""},{"$f":"IF(D172=\"\",\"\",IF(Input!V158=\"\",\"\",Input!V158))","v":""},{"$f":"IF(E172=\"\",\"\",IF(Input!W158=\"\",\"\",Input!W158))","v":""},{"$f":"IF(F172=\"\",\"\",IF(Input!X158=\"\",\"\",Input!X158))","v":""},{"$f":"IF(G172=\"\",\"\",IF(Input!Y158=\"\",\"\",Input!Y158))","v":""}]
[null,{"$f":"\"   Days of Operation, [days]\"","v":"   Days of Operation, [days]"},{"$f":"IF(C173=\"\",\"\",IF(Input!U159=\"\",\"\",Input!U159))","v":""},{"$f":"IF(D173=\"\",\"\",IF(Input!V159=\"\",\"\",Input!V159))","v":""},{"$f":"IF(E173=\"\",\"\",IF(Input!W159=\"\",\"\",Input!W159))","v":""},{"$f":"IF(F173=\"\",\"\",IF(Input!X159=\"\",\"\",Input!X159))","v":""},{"$f":"IF(G173=\"\",\"\",IF(Input!Y159=\"\",\"\",Input!Y159))","v":""}]
[null,"   Million gallons pumped per crop",{"$f":"IF(C174=\"\",0,IF(Input!$T$158=\"cfs\",C173*C174*E181*60*448.86/1000000,IF(Input!$T$158=\"gpm\",C173*C174*E181*60/1000000,IF(Input!$T$158=\"gal/field\",C173/1000000,\"\"))))","v":0},{"$f":"IF(D174=\"\",0,IF(Input!$T$158=\"cfs\",D173*D174*E181*60*448.86/1000000,IF(Input!$T$158=\"gpm\",D173*D174*E181*60/1000000,IF(Input!$T$158=\"gal/field\",D173/1000000,\"\"))))","v":0},{"$f":"IF(E174=\"\",0,IF(Input!$T$158=\"cfs\",E173*E174*E181*60*448.86/1000000,IF(Input!$T$158=\"gpm\",E173*E174*E181*60/1000000,IF(Input!$T$158=\"gal/field\",E173/1000000,\"\"))))","v":0},{"$f":"IF(F174=\"\",0,IF(Input!$T$158=\"cfs\",F173*F174*E181*60*448.86/1000000,IF(Input!$T$158=\"gpm\",F173*F174*E181*60/1000000,IF(Input!$T$158=\"gal/field\",F173/1000000,\"\"))))","v":0},{"$f":"IF(G174=\"\",0,IF(Input!$T$158=\"cfs\",G173*G174*E181*60*448.86/1000000,IF(Input!$T$158=\"gpm\",G173*G174*E181*60/1000000,IF(Input!$T$158=\"gal/field\",G173/1000000,\"\"))))","v":0}]
[null,"INPUT PUMP SYSTEM"]
[null,"   Highlighted Values from Input Tab","Units","Benchmark","Planned","Difference"]
[null,null,null,"Amount","Amount","Change","% change"]
[null,"   Operating pressure","psi",{"$f":"Input!F146","v":0},{"$f":"Input!T146","v":0},{"$f":"D179-E179","v":0},{"$f":"1-E179/D179","v":{"$error":"#DIV/0!"}}]
[null,"   Delivery or Pumping plant efficiency ","%",{"$f":"Input!G146","v":0},{"$f":"Input!U146","v":0},{"$f":"D180-E180","v":0},{"$f":"1-E180/D180","v":{"$error":"#DIV/0!"}}]
[null,"   Hours of Operation per day","hours",{"$f":"Input!H146","v":0},{"$f":"Input!V146","v":0},{"$f":"D181-E181","v":0},{"$f":"1-E181/D181","v":{"$error":"#DIV/0!"}}]
[null,"CALCULATIONS"]
[null,"   Calculated Values","Units","Benchmark","Planned","Difference"]
[null,null,null,"Amount","Amount","Change","% change"]
[null,"   Average Days of Operation","days",{"$f":"AVERAGE(C169:G169)","v":{"$error":"#DIV/0!"}},{"$f":"AVERAGE(C174:G174)","v":{"$error":"#DIV/0!"}},{"$f":"D185-E185","v":{"$error":"#DIV/0!"}}]
[null,"   Pumping Rate (maximum per rotation)","cfs",{"$f":"D187/448.86","v":{"$error":"#VALUE!"}},{"$f":"E187/448.86","v":{"$error":"#VALUE!"}},{"$error":"#VALUE!"}]
[null,null,"gpm",{"$f":"IF(Input!F158=\"gpm\",MAX(C168:G168),IF(Input!F158=\"cfs\",MAX(C168:G168)*448.86,IF(Input!F158=\"gal/field\",MAX(C166:G166)/D181/60,\"\")))","v":""},{"$f":"IF(Input!T158=\"gpm\",MAX(C173:G173),IF(Input!T158=\"cfs\",MAX(C173:G173)*448.86,IF(Input!T158=\"gal/field\",MAX(C171:G171)/E181/60,\"\")))","v":""},{"$error":"#VALUE!"}]
[null,"   Pumping Power","HP",{"$f":"D187*D179*2.31/3960/D180","v":{"$error":"#VALUE!"}},{"$f":"E187*E179*2.31/3960/E180","v":{"$error":"#VALUE!"}},{"$error":"#VALUE!"}]
[null,null,"KW",{"$f":"D188*0.745699871582","v":{"$error":"#VALUE!"}},{"$f":"E188*0.745699871582","v":{"$error":"#VALUE!"}},{"$error":"#VALUE!"}]
[null,"   Energy Rate Use per unit","KWH/day",{"$f":"D189*D181","v":{"$error":"#VALUE!"}},{"$f":"E189*E181","v":{"$error":"#VALUE!"}},{"$error":"#VALUE!"}]
[null,null,"BTU/day",{"$f":"D189*24*3600*1000/1055.05585262","v":{"$error":"#VALUE!"}},{"$f":"E189*E181*3600*1000/1055.05585262","v":{"$error":"#VALUE!"}},{"$error":"#VALUE!"}]
[null,null,"BTU/gal",{"$f":"D191/D181/60/D187","v":{"$error":"#VALUE!"}},{"$f":"E191/E181/60/E187","v":{"$error":"#VALUE!"}},{"$error":"#VALUE!"}]
[null,"   Total Energy Use in Million BTUs","MMBTU",{"$f":"D192*SUM(C170:G170)","v":{"$error":"#VALUE!"}},{"$f":"E192*SUM(C175:G175)","v":{"$error":"#VALUE!"}},{"$error":"#VALUE!"}]
[null,"Note: Values shaded yellow (Benchmark) and green (Planned) are input variables from the input tab. "]
[null,"           Values shaded red are used in energy calculations for reports tab."]

{"sheet":"Intermediate_PrintPumping","index":15,"n_rows":193,"n_cols":17,"rows_kept":193,"cut":false,"hidden":true,"merged":[]}
[]
[]
[{"$f":"Intermediate_Calcs!A3","v":"BENCHMARK"},null,null,null,null,null,null,null,null,"PLANNED"]
[]
[null,{"$f":"Intermediate_Calcs!B5","v":"Field Biomass Production (Dry Matter lbs/ac)"},null,null,null,null,null,null,null,null,{"$f":"Intermediate_Calcs!K5","v":"Field Biomass Production (Dry Matter lbs/ac)"}]
[null,{"$f":"Intermediate_Calcs!B6","v":"Crop Name"},{"$f":"Intermediate_Calcs!C6","v":""},{"$f":"Intermediate_Calcs!D6","v":""},{"$f":"Intermediate_Calcs!E6","v":""},{"$f":"Intermediate_Calcs!F6","v":""},{"$f":"Intermediate_Calcs!G6","v":""},{"$f":"Intermediate_Calcs!H6","v":"Av. Annual"},null,null,{"$f":"Intermediate_Calcs!K6","v":"Crop Name"},{"$f":"Intermediate_Calcs!L6","v":""},{"$f":"Intermediate_Calcs!M6","v":""},{"$f":"Intermediate_Calcs!N6","v":""},{"$f":"Intermediate_Calcs!O6","v":""},{"$f":"Intermediate_Calcs!P6","v":""},{"$f":"Intermediate_Calcs!Q6","v":"Av. Annual"}]
[null,{"$f":"Intermediate_Calcs!B7","v":"Total Biomass (Rootmass + Surface Biomass)"},{"$f":"Intermediate_Calcs!C7","v":0},{"$f":"Intermediate_Calcs!D7","v":0},{"$f":"Intermediate_Calcs!E7","v":0},{"$f":"Intermediate_Calcs!F7","v":0},{"$f":"Intermediate_Calcs!G7","v":0},{"$f":"Intermediate_Calcs!H7","v":0},null,null,{"$f":"Intermediate_Calcs!K7","v":"Total Biomass (Rootmass + Surface Biomass)"},{"$f":"Intermediate_Calcs!L7","v":0},{"$f":"Intermediate_Calcs!M7","v":0},{"$f":"Intermediate_Calcs!N7","v":0},{"$f":"Intermediate_Calcs!O7","v":0},{"$f":"Intermediate_Calcs!P7","v":0},{"$f":"Intermediate_Calcs!Q7","v":0}]
[null,{"$f":"Intermediate_Calcs!B8","v":"Rootmass in Field"},{"$f":"Intermediate_Calcs!C8","v":0},{"$f":"Intermediate_Calcs!D8","v":0},{"$f":"Intermediate_Calcs!E8","v":0},{"$f":"Intermediate_Calcs!F8","v":0},{"$f":"Intermediate_Calcs!G8","v":0},{"$f":"Intermediate_Calcs!H8","v":0},null,null,{"$f":"Intermediate_Calcs!K8","v":"Rootmass in Field"},{"$f":"Intermediate_Calcs!L8","v":0},{"$f":"Intermediate_Calcs!M8","v":0},{"$f":"Intermediate_Calcs!N8","v":0},{"$f":"Intermediate_Calcs!O8","v":0},{"$f":"Intermediate_Calcs!P8","v":0},{"$f":"Intermediate_Calcs!Q8","v":0}]
[null,{"$f":"Intermediate_Calcs!B9","v":"Total surface biomass production"},{"$f":"Intermediate_Calcs!C9","v":0},{"$f":"Intermediate_Calcs!D9","v":0},{"$f":"Intermediate_Calcs!E9","v":0},{"$f":"Intermediate_Calcs!F9","v":0},{"$f":"Intermediate_Calcs!G9","v":0},{"$f":"Intermediate_Calcs!H9","v":0},null,null,{"$f":"Intermediate_Calcs!K9","v":"Total surface biomass production"},{"$f":"Intermediate_Calcs!L9","v":0},{"$f":"Intermediate_Calcs!M9","v":0},{"$f":"Intermediate_Calcs!N9","v":0},{"$f":"Intermediate_Calcs!O9","v":0},{"$f":"Intermediate_Calcs!P9","v":0},{"$f":"Intermediate_Calcs!Q9","v":0}]
[null,{"$f":"Intermediate_Calcs!B10","v":"Harvested Crop Biomass "},{"$f":"Intermediate_Calcs!C10","v":0},{"$f":"Intermediate_Calcs!D10","v":0},{"$f":"Intermediate_Calcs!E10","v":0},{"$f":"Intermediate_Calcs!F10","v":0},{"$f":"Intermediate_Calcs!G10","v":0},{"$f":"Intermediate_Calcs!H10","v":0},null,null,{"$f":"Intermediate_Calcs!K10","v":"Harvested Crop Biomass "},{"$f":"Intermediate_Calcs!L10","v":0},{"$f":"Intermediate_Calcs!M10","v":0},{"$f":"Intermediate_Calcs!N10","v":0},{"$f":"Intermediate_Calcs!O10","v":0},{"$f":"Intermediate_Calcs!P10","v":0},{"$f":"Intermediate_Calcs!Q10","v":0}]
[null,{"$f":"Intermediate_Calcs!B11","v":"Post Harvest Grazing"},{"$f":"Intermediate_Calcs!C11","v":0},{"$f":"Intermediate_Calcs!D11","v":0},{"$f":"Intermediate_Calcs!E11","v":0},{"$f":"Intermediate_Calcs!F11","v":0},{"$f":"Intermediate_Calcs!G11","v":0},{"$f":"Intermediate_Calcs!H11","v":0},null,null,{"$f":"Intermediate_Calcs!K11","v":"Post Harvest Grazing"},{"$f":"Intermediate_Calcs!L11","v":0},{"$f":"Intermediate_Calcs!M11","v":0},{"$f":"Intermediate_Calcs!N11","v":0},{"$f":"Intermediate_Calcs!O11","v":0},{"$f":"Intermediate_Calcs!P11","v":0},{"$f":"Intermediate_Calcs!Q11","v":0}]
[null,{"$f":"Intermediate_Calcs!B12","v":"Post Harvest Forage Removed"},{"$f":"Intermediate_Calcs!C12","v":0},{"$f":"Intermediate_Calcs!D12","v":0},{"$f":"Intermediate_Calcs!E12","v":0},{"$f":"Intermediate_Calcs!F12","v":0},{"$f":"Intermediate_Calcs!G12","v":0},{"$f":"Intermediate_Calcs!H12","v":0},null,null,{"$f":"Intermediate_Calcs!K12","v":"Post Harvest Forage Removed"},{"$f":"Intermediate_Calcs!L12","v":0},{"$f":"Intermediate_Calcs!M12","v":0},{"$f":"Intermediate_Calcs!N12","v":0},{"$f":"Intermediate_Calcs!O12","v":0},{"$f":"Intermediate_Calcs!P12","v":0},{"$f":"Intermediate_Calcs!Q12","v":0}]
[null,{"$f":"Intermediate_Calcs!B13","v":"Available surface residue"},{"$f":"Intermediate_Calcs!C13","v":0},{"$f":"Intermediate_Calcs!D13","v":0},{"$f":"Intermediate_Calcs!E13","v":0},{"$f":"Intermediate_Calcs!F13","v":0},{"$f":"Intermediate_Calcs!G13","v":0},{"$f":"Intermediate_Calcs!H13","v":0},null,null,{"$f":"Intermediate_Calcs!K13","v":"Available surface residue"},{"$f":"Intermediate_Calcs!L13","v":0},{"$f":"Intermediate_Calcs!M13","v":0},{"$f":"Intermediate_Calcs!N13","v":0},{"$f":"Intermediate_Calcs!O13","v":0},{"$f":"Intermediate_Calcs!P13","v":0},{"$f":"Intermediate_Calcs!Q13","v":0}]
[null,{"$f":"Intermediate_Calcs!B14","v":"Surface residue remaining"},{"$f":"Intermediate_Calcs!C14","v":0},{"$f":"Intermediate_Calcs!D14","v":0},{"$f":"Intermediate_Calcs!E14","v":0},{"$f":"Intermediate_Calcs!F14","v":0},{"$f":"Intermediate_Calcs!G14","v":0},{"$f":"Intermediate_Calcs!H14","v":0},null,null,{"$f":"Intermediate_Calcs!K14","v":"Surface residue remaining"},{"$f":"Intermediate_Calcs!L14","v":0},{"$f":"Intermediate_Calcs!M14","v":0},{"$f":"Intermediate_Calcs!N14","v":0},{"$f":"Intermediate_Calcs!O14","v":0},{"$f":"Intermediate_Calcs!P14","v":0},{"$f":"Intermediate_Calcs!Q14","v":0}]
[]
[]
["Beginning OM","Field soil organic matter energy resource",{"$f":"IF(C22>0,Input!$J$18*2000000*7500*0.3/1000000,0)","v":0},null,null,null,null,null,null,"Beginning OM","Field soil organic matter energy resource",{"$f":"IF(L22>0,Input!$J$18*2000000*7500*0.3/1000000,0)","v":0}]
[]
[]
[{"$f":"Intermediate_Calcs!A17","v":"Crop"},{"$f":"Intermediate_Calcs!B17","v":"Crop Interval"},"CI 1","CI 2","CI 3","CI 4","CI 5","Av. Annual",null,{"$f":"Intermediate_Calcs!J17","v":"Crop"},{"$f":"Intermediate_Calcs!K17","v":"Crop Interval"},{"$f":"Intermediate_Calcs!L17","v":"CI 1"},{"$f":"Intermediate_Calcs!M17","v":"CI 2"},{"$f":"Intermediate_Calcs!N17","v":"CI 3"},{"$f":"Intermediate_Calcs!O17","v":"CI 4"},{"$f":"Intermediate_Calcs!P17","v":"CI 5"},{"$f":"Intermediate_Calcs!Q17","v":"Av. Annual"}]
[null,{"$f":"Intermediate_Calcs!B18","v":"Crop Name"},{"$f":"IF(Input!D25=\"\",\"\",Input!D25)","v":""},{"$f":"IF(Input!D26=\"\",\"\",Input!D26)","v":""},{"$f":"IF(Input!D27=\"\",\"\",Input!D27)","v":""},{"$f":"IF(Input!D28=\"\",\"\",Input!D28)","v":""},{"$f":"IF(Input!D29=\"\",\"\",Input!D29)","v":""},null,null,null,{"$f":"Intermediate_Calcs!K18","v":"Crop Name"},{"$f":"Intermediate_Calcs!L18","v":""},{"$f":"Intermediate_Calcs!M18","v":""},{"$f":"Intermediate_Calcs!N18","v":""},{"$f":"Intermediate_Calcs!O18","v":""},{"$f":"Intermediate_Calcs!P18","v":""}]
[null,{"$f":"Intermediate_Calcs!B19","v":"Crop Year"},{"$f":"IF(C21=\"\",0,Input!K25)","v":0},{"$f":"IF(D21=\"\",0,Input!K26)","v":0},{"$f":"IF(E21=\"\",0,Input!K27)","v":0},{"$f":"IF(F21=\"\",0,Input!K28)","v":0},{"$f":"IF(G21=\"\",0,Input!K25)","v":0},{"$f":"Intermediate_Calcs!H19","v":1},null,null,{"$f":"Intermediate_Calcs!K19","v":"Crop Year"},{"$f":"Intermediate_Calcs!L19","v":0},{"$f":"Intermediate_Calcs!M19","v":0},{"$f":"Intermediate_Calcs!N19","v":0},{"$f":"Intermediate_Calcs!O19","v":0},{"$f":"Intermediate_Calcs!P19","v":0},{"$f":"Intermediate_Calcs!Q19","v":1}]
[{"$f":"Intermediate_Calcs!A20","v":"Energy"},{"$f":"Intermediate_Calcs!B20","v":"Harvest operations"},{"$f":"Intermediate_Calcs!C20","v":0},{"$f":"Intermediate_Calcs!D20","v":0},{"$f":"Intermediate_Calcs!E20","v":0},{"$f":"Intermediate_Calcs!F20","v":0},{"$f":"Intermediate_Calcs!G20","v":0},{"$f":"Intermediate_Calcs!H20","v":0},null,{"$f":"Intermediate_Calcs!J20","v":"Energy"},{"$f":"Intermediate_Calcs!K20","v":"Harvest operations"},{"$f":"Intermediate_Calcs!L20","v":0},{"$f":"Intermediate_Calcs!M20","v":0},{"$f":"Intermediate_Calcs!N20","v":0},{"$f":"Intermediate_Calcs!O20","v":0},{"$f":"Intermediate_Calcs!P20","v":0},{"$f":"Intermediate_Calcs!Q20","v":0}]
[{"$f":"Intermediate_Calcs!A21","v":"Input (added)"},{"$f":"Intermediate_Calcs!B21","v":"Tillage operations"},{"$f":"Intermediate_Calcs!C21","v":0},{"$f":"Intermediate_Calcs!D21","v":0},{"$f":"Intermediate_Calcs!E21","v":0},{"$f":"Intermediate_Calcs!F21","v":0},{"$f":"Intermediate_Calcs!G21","v":0},{"$f":"Intermediate_Calcs!H21","v":0},null,{"$f":"Intermediate_Calcs!J21","v":"Input (added)"},{"$f":"Intermediate_Calcs!K21","v":"Tillage operations"},{"$f":"Intermediate_Calcs!L21","v":0},{"$f":"Intermediate_Calcs!M21","v":0},{"$f":"Intermediate_Calcs!N21","v":0},{"$f":"Intermediate_Calcs!O21","v":0},{"$f":"Intermediate_Calcs!P21","v":0},{"$f":"Intermediate_Calcs!Q21","v":0}]
[{"$f":"Intermediate_Calcs!A22","v":"to field"},{"$f":"Intermediate_Calcs!B22","v":"Application operations"},{"$f":"Intermediate_Calcs!C22","v":0},{"$f":"Intermediate_Calcs!D22","v":0},{"$f":"Intermediate_Calcs!E22","v":0},{"$f":"Intermediate_Calcs!F22","v":0},{"$f":"Intermediate_Calcs!G22","v":0},{"$f":"Intermediate_Calcs!H22","v":0},null,{"$f":"Intermediate_Calcs!J22","v":"to field"},{"$f":"Intermediate_Calcs!K22","v":"Application operations"},{"$f":"Intermediate_Calcs!L22","v":0},{"$f":"Intermediate_Calcs!M22","v":0},{"$f":"Intermediate_Calcs!N22","v":0},{"$f":"Intermediate_Calcs!O22","v":0},{"$f":"Intermediate_Calcs!P22","v":0},{"$f":"Intermediate_Calcs!Q22","v":0}]
[null,{"$f":"Intermediate_Calcs!B23","v":"Planting operations"},{"$f":"Intermediate_Calcs!C23","v":0},{"$f":"Intermediate_Calcs!D23","v":0},{"$f":"Intermediate_Calcs!E23","v":0},{"$f":"Intermediate_Calcs!F23","v":0},{"$f":"Intermediate_Calcs!G23","v":0},{"$f":"Intermediate_Calcs!H23","v":0},null,null,{"$f":"Intermediate_Calcs!K23","v":"Planting operations"},{"$f":"Intermediate_Calcs!L23","v":0},{"$f":"Intermediate_Calcs!M23","v":0},{"$f":"Intermediate_Calcs!N23","v":0},{"$f":"Intermediate_Calcs!O23","v":0},{"$f":"Intermediate_Calcs!P23","v":0},{"$f":"Intermediate_Calcs!Q23","v":0}]
[null,{"$f":"Intermediate_Calcs!B24","v":"Other field operation"},{"$f":"Intermediate_Calcs!C24","v":0},{"$f":"Intermediate_Calcs!D24","v":0},{"$f":"Intermediate_Calcs!E24","v":0},{"$f":"Intermediate_Calcs!F24","v":0},{"$f":"Intermediate_Calcs!G24","v":0},{"$f":"Intermediate_Calcs!H24","v":0},null,null,{"$f":"Intermediate_Calcs!K24","v":"Other field operation energy input"},{"$f":"Intermediate_Calcs!L24","v":0},{"$f":"Intermediate_Calcs!M24","v":0},{"$f":"Intermediate_Calcs!N24","v":0},{"$f":"Intermediate_Calcs!O24","v":0},{"$f":"Intermediate_Calcs!P24","v":0},{"$f":"Intermediate_Calcs!Q24","v":0}]
[null,{"$f":"Intermediate_Calcs!B25","v":"Manual input operation"},{"$f":"Intermediate_Calcs!C25","v":0},{"$f":"Intermediate_Calcs!D25","v":0},{"$f":"Intermediate_Calcs!E25","v":0},{"$f":"Intermediate_Calcs!F25","v":0},{"$f":"Intermediate_Calcs!G25","v":0},{"$f":"Intermediate_Calcs!H25","v":0},null,null,{"$f":"Intermediate_Calcs!K25","v":"Manual input operation"},{"$f":"Intermediate_Calcs!L25","v":0},{"$f":"Intermediate_Calcs!M25","v":0},{"$f":"Intermediate_Calcs!N25","v":0},{"$f":"Intermediate_Calcs!O25","v":0},{"$f":"Intermediate_Calcs!P25","v":0},{"$f":"Intermediate_Calcs!Q25","v":0}]
[{"$f":"IF(AND(Input!D139,Input!R139),\"\",\"See Col. R\")","v":"See Col. R"},{"$f":"Intermediate_Calcs!B26","v":"Irrigation fuel energy inputs"},{"$f":"Intermediate_Calcs!C26","v":0},{"$f":"Intermediate_Calcs!D26","v":0},{"$f":"Intermediate_Calcs!E26","v":0},{"$f":"Intermediate_Calcs!F26","v":0},{"$f":"Intermediate_Calcs!G26","v":0},{"$f":"Intermediate_Calcs!H26","v":0},null,null,{"$f":"Intermediate_Calcs!K26","v":"Irrigation fuel energy inputs"},{"$f":"Intermediate_Calcs!L26","v":0},{"$f":"Intermediate_Calcs!M26","v":0},{"$f":"Intermediate_Calcs!N26","v":0},{"$f":"Intermediate_Calcs!O26","v":0},{"$f":"Intermediate_Calcs!P26","v":0},{"$f":"Intermediate_Calcs!Q26","v":0}]
[null,{"$f":"Intermediate_Calcs!B27","v":"Other delivery energy (irrigation)"},{"$f":"Intermediate_Calcs!C27","v":0},{"$f":"Intermediate_Calcs!D27","v":0},{"$f":"Intermediate_Calcs!E27","v":0},{"$f":"Intermediate_Calcs!F27","v":0},{"$f":"Intermediate_Calcs!G27","v":0},{"$f":"Intermediate_Calcs!H27","v":0},null,null,{"$f":"Intermediate_Calcs!K27","v":"Other delivery energy (irrigation)"},{"$f":"Intermediate_Calcs!L27","v":0},{"$f":"Intermediate_Calcs!M27","v":0},{"$f":"Intermediate_Calcs!N27","v":0},{"$f":"Intermediate_Calcs!O27","v":0},{"$f":"Intermediate_Calcs!P27","v":0},{"$f":"Intermediate_Calcs!Q27","v":0}]
[null,{"$f":"Intermediate_Calcs!B28","v":"Other delivery energy (farming)"},{"$f":"Intermediate_Calcs!C28","v":0},{"$f":"Intermediate_Calcs!D28","v":0},{"$f":"Intermediate_Calcs!E28","v":0},{"$f":"Intermediate_Calcs!F28","v":0},{"$f":"Intermediate_Calcs!G28","v":0},{"$f":"Intermediate_Calcs!H28","v":0},null,null,{"$f":"Intermediate_Calcs!K28","v":"Other delivery energy (farming)"},{"$f":"Intermediate_Calcs!L28","v":0},{"$f":"Intermediate_Calcs!M28","v":0},{"$f":"Intermediate_Calcs!N28","v":0},{"$f":"Intermediate_Calcs!O28","v":0},{"$f":"Intermediate_Calcs!P28","v":0},{"$f":"Intermediate_Calcs!Q28","v":0}]
[null,{"$f":"Intermediate_Calcs!B29","v":"Labor"},{"$f":"Intermediate_Calcs!C29","v":0},{"$f":"Intermediate_Calcs!D29","v":0},{"$f":"Intermediate_Calcs!E29","v":0},{"$f":"Intermediate_Calcs!F29","v":0},{"$f":"Intermediate_Calcs!G29","v":0},{"$f":"Intermediate_Calcs!H29","v":0},null,null,{"$f":"Intermediate_Calcs!K29","v":"Labor"},{"$f":"Intermediate_Calcs!L29","v":0},{"$f":"Intermediate_Calcs!M29","v":0},{"$f":"Intermediate_Calcs!N29","v":0},{"$f":"Intermediate_Calcs!O29","v":0},{"$f":"Intermediate_Calcs!P29","v":0},{"$f":"Intermediate_Calcs!Q29","v":0}]
[null,{"$f":"Intermediate_Calcs!B30","v":"Applied manure"},{"$f":"Intermediate_Calcs!C30","v":0},{"$f":"Intermediate_Calcs!D30","v":0},{"$f":"Intermediate_Calcs!E30","v":0},{"$f":"Intermediate_Calcs!F30","v":0},{"$f":"Intermediate_Calcs!G30","v":0},{"$f":"Intermediate_Calcs!H30","v":0},null,null,{"$f":"Intermediate_Calcs!K30","v":"Applied manure"},{"$f":"Intermediate_Calcs!L30","v":0},{"$f":"Intermediate_Calcs!M30","v":0},{"$f":"Intermediate_Calcs!N30","v":0},{"$f":"Intermediate_Calcs!O30","v":0},{"$f":"Intermediate_Calcs!P30","v":0},{"$f":"Intermediate_Calcs!Q30","v":0}]
[null,{"$f":"Intermediate_Calcs!B31","v":"Grazing: Applied excreted manure"},{"$f":"Intermediate_Calcs!C31","v":0},{"$f":"Intermediate_Calcs!D31","v":0},{"$f":"Intermediate_Calcs!E31","v":0},{"$f":"Intermediate_Calcs!F31","v":0},{"$f":"Intermediate_Calcs!G31","v":0},{"$f":"Intermediate_Calcs!H31","v":0},null,null,{"$f":"Intermediate_Calcs!K31","v":"Grazing: Applied excreted manure"},{"$f":"Intermediate_Calcs!L31","v":0},{"$f":"Intermediate_Calcs!M31","v":0},{"$f":"Intermediate_Calcs!N31","v":0},{"$f":"Intermediate_Calcs!O31","v":0},{"$f":"Intermediate_Calcs!P31","v":0},{"$f":"Intermediate_Calcs!Q31","v":0}]
[null,{"$f":"Intermediate_Calcs!B32","v":"Applied Compost Energy Input"},{"$f":"Intermediate_Calcs!C32","v":0},{"$f":"Intermediate_Calcs!D32","v":0},{"$f":"Intermediate_Calcs!E32","v":0},{"$f":"Intermediate_Calcs!F32","v":0},{"$f":"Intermediate_Calcs!G32","v":0},{"$f":"Intermediate_Calcs!H32","v":0},null,null,{"$f":"Intermediate_Calcs!K32","v":"Applied Compost Energy Input"},{"$f":"Intermediate_Calcs!L32","v":0},{"$f":"Intermediate_Calcs!M32","v":0},{"$f":"Intermediate_Calcs!N32","v":0},{"$f":"Intermediate_Calcs!O32","v":0},{"$f":"Intermediate_Calcs!P32","v":0},{"$f":"Intermediate_Calcs!Q32","v":0}]
[null,{"$f":"Intermediate_Calcs!B33","v":"Seed"},{"$f":"Intermediate_Calcs!C33","v":0},{"$f":"Intermediate_Calcs!D33","v":0},{"$f":"Intermediate_Calcs!E33","v":0},{"$f":"Intermediate_Calcs!F33","v":0},{"$f":"Intermediate_Calcs!G33","v":0},{"$f":"Intermediate_Calcs!H33","v":0},null,null,{"$f":"Intermediate_Calcs!K33","v":"Seed"},{"$f":"Intermediate_Calcs!L33","v":0},{"$f":"Intermediate_Calcs!M33","v":0},{"$f":"Intermediate_Calcs!N33","v":0},{"$f":"Intermediate_Calcs!O33","v":0},{"$f":"Intermediate_Calcs!P33","v":0},{"$f":"Intermediate_Calcs!Q33","v":0}]
[null,{"$f":"Intermediate_Calcs!B34","v":"Imported feed"},{"$f":"Intermediate_Calcs!C34","v":0},{"$f":"Intermediate_Calcs!D34","v":0},{"$f":"Intermediate_Calcs!E34","v":0},{"$f":"Intermediate_Calcs!F34","v":0},{"$f":"Intermediate_Calcs!G34","v":0},{"$f":"Intermediate_Calcs!H34","v":0},null,null,{"$f":"Intermediate_Calcs!K34","v":"Imported feed"},{"$f":"Intermediate_Calcs!L34","v":0},{"$f":"Intermediate_Calcs!M34","v":0},{"$f":"Intermediate_Calcs!N34","v":0},{"$f":"Intermediate_Calcs!O34","v":0},{"$f":"Intermediate_Calcs!P34","v":0},{"$f":"Intermediate_Calcs!Q34","v":0}]
[null,{"$f":"Intermediate_Calcs!B35","v":"Other applied organic material"},{"$f":"Intermediate_Calcs!C35","v":0},{"$f":"Intermediate_Calcs!D35","v":0},{"$f":"Intermediate_Calcs!E35","v":0},{"$f":"Intermediate_Calcs!F35","v":0},{"$f":"Intermediate_Calcs!G35","v":0},{"$f":"Intermediate_Calcs!H35","v":0},null,null,{"$f":"Intermediate_Calcs!K35","v":"Other applied organic material"},{"$f":"Intermediate_Calcs!L35","v":0},{"$f":"Intermediate_Calcs!M35","v":0},{"$f":"Intermediate_Calcs!N35","v":0},{"$f":"Intermediate_Calcs!O35","v":0},{"$f":"Intermediate_Calcs!P35","v":0},{"$f":"Intermediate_Calcs!Q35","v":0}]
[null,{"$f":"Intermediate_Calcs!B41","v":"Pesticide"},{"$f":"Intermediate_Calcs!C41","v":0},{"$f":"Intermediate_Calcs!D41","v":0},{"$f":"Intermediate_Calcs!E41","v":0},{"$f":"Intermediate_Calcs!F41","v":0},{"$f":"Intermediate_Calcs!G41","v":0},{"$f":"Intermediate_Calcs!H41","v":0},null,null,{"$f":"Intermediate_Calcs!K41","v":"Pesticide"},{"$f":"Intermediate_Calcs!L41","v":0},{"$f":"Intermediate_Calcs!M41","v":0},{"$f":"Intermediate_Calcs!N41","v":0},{"$f":"Intermediate_Calcs!O41","v":0},{"$f":"Intermediate_Calcs!P41","v":0},{"$f":"Intermediate_Calcs!Q41","v":0}]
[{"$f":"Intermediate_Calcs!A42","v":"Energy Output"},{"$f":"Intermediate_Calcs!B42","v":"Crop Harvest Removed"},{"$f":"Intermediate_Calcs!C42","v":0},{"$f":"Intermediate_Calcs!D42","v":0},{"$f":"Intermediate_Calcs!E42","v":0},{"$f":"Intermediate_Calcs!F42","v":0},{"$f":"Intermediate_Calcs!G42","v":0},{"$f":"Intermediate_Calcs!H42","v":0},null,{"$f":"Intermediate_Calcs!J42","v":"Energy Output"},{"$f":"Intermediate_Calcs!K42","v":"Crop Harvest Removed"},{"$f":"Intermediate_Calcs!L42","v":0},{"$f":"Intermediate_Calcs!M42","v":0},{"$f":"Intermediate_Calcs!N42","v":0},{"$f":"Intermediate_Calcs!O42","v":0},{"$f":"Intermediate_Calcs!P42","v":0},{"$f":"Intermediate_Calcs!Q42","v":0}]
[{"$f":"Intermediate_Calcs!A43","v":"(removed) from"},{"$f":"Intermediate_Calcs!B43","v":"Post Harvest Grazing Yield"},{"$f":"Intermediate_Calcs!C43","v":0},{"$f":"Intermediate_Calcs!D43","v":0},{"$f":"Intermediate_Calcs!E43","v":0},{"$f":"Intermediate_Calcs!F43","v":0},{"$f":"Intermediate_Calcs!G43","v":0},{"$f":"Intermediate_Calcs!H43","v":0},null,{"$f":"Intermediate_Calcs!J43","v":"(removed) from"},{"$f":"Intermediate_Calcs!K43","v":"Post Harvest Grazing Yield"},{"$f":"Intermediate_Calcs!L43","v":0},{"$f":"Intermediate_Calcs!M43","v":0},{"$f":"Intermediate_Calcs!N43","v":0},{"$f":"Intermediate_Calcs!O43","v":0},{"$f":"Intermediate_Calcs!P43","v":0},{"$f":"Intermediate_Calcs!Q43","v":0}]
[{"$f":"Intermediate_Calcs!A44","v":"field"},{"$f":"Intermediate_Calcs!B44","v":"Post Harvest Removed"},{"$f":"Intermediate_Calcs!C44","v":0},{"$f":"Intermediate_Calcs!D44","v":0},{"$f":"Intermediate_Calcs!E44","v":0},{"$f":"Intermediate_Calcs!F44","v":0},{"$f":"Intermediate_Calcs!G44","v":0},{"$f":"Intermediate_Calcs!H44","v":0},null,{"$f":"Intermediate_Calcs!J44","v":"field"},{"$f":"Intermediate_Calcs!K44","v":"Post Harvest Removed"},{"$f":"Intermediate_Calcs!L44","v":0},{"$f":"Intermediate_Calcs!M44","v":0},{"$f":"Intermediate_Calcs!N44","v":0},{"$f":"Intermediate_Calcs!O44","v":0},{"$f":"Intermediate_Calcs!P44","v":0},{"$f":"Intermediate_Calcs!Q44","v":0}]
[]
[]
[]
[]
[]
[{"$f":"Intermediate_Calcs!A50","v":"IRRIGATION"}]
[null,{"$f":"Intermediate_Calcs!B51","v":"Irrigation Delivery Power Worksheet for Energy Tool"},null,null,null,null,null,null,null,null,null,"DON'T DELETE"]
[null,{"$f":"Intermediate_Calcs!B52","v":"  Operation ID :   "},{"$f":"Intermediate_Calcs!C52","v":"Description:"},null,null,{"$f":"Intermediate_Calcs!F52","v":"Date:"},{"$f":"Intermediate_Calcs!G52","v":""},null,null,null,null,null,null,"BENCHMARK","PLANNED"]
[null,{"$f":"Intermediate_Calcs!B53","v":"  Field Location: "},{"$f":"Intermediate_Calcs!C53","v":""},null,null,null,null,null,null,null,null,"Irrigation Pumping",null,{"$f":"Input!E153","v":"Gross Applied"},{"$f":"Input!S153","v":"Net Applied"}]
[null,{"$f":"Intermediate_Calcs!B54","v":"  Field Acres :  "},null,null,null,null,null,null,null,null,null,"Irrigation Pumping",null,{"$f":"Input!D139","v":false},{"$f":"Input!R139","v":false}]
[null,{"$f":"Intermediate_Calcs!B55","v":"BENCHMARK"},null,null,null,null,null,null,null,null,null,"Other Pumping 1",null,{"$f":"Input!D140","v":false},{"$f":"Input!R140","v":false}]
[null,{"$f":"Intermediate_Calcs!B56","v":"   Baseline crop names"},{"$f":"Intermediate_Calcs!C56","v":""},{"$f":"Intermediate_Calcs!D56","v":""},{"$f":"Intermediate_Calcs!E56","v":""},{"$f":"Intermediate_Calcs!F56","v":""},{"$f":"Intermediate_Calcs!G56","v":""},null,null,null,null,"Other Pumping 2",null,{"$f":"Input!D141","v":false},{"$f":"Input!R141","v":false}]
[null,{"$f":"Intermediate_Calcs!B57","v":"   Gross irrigation application [in/crop]"},{"$f":"Intermediate_Calcs!C57","v":""},{"$f":"Intermediate_Calcs!D57","v":""},{"$f":"Intermediate_Calcs!E57","v":""},{"$f":"Intermediate_Calcs!F57","v":""},{"$f":"Intermediate_Calcs!G57","v":""},null,null,null,null,"Other Pumping 3",null,{"$f":"Input!D142","v":false},{"$f":"Input!R142","v":false}]
[null,{"$f":"Intermediate_Calcs!B58","v":"   Net application, [in/crop]"},{"$f":"Intermediate_Calcs!C58","v":""},{"$f":"Intermediate_Calcs!D58","v":""},{"$f":"Intermediate_Calcs!E58","v":""},{"$f":"Intermediate_Calcs!F58","v":""},{"$f":"Intermediate_Calcs!G58","v":""}]
[null,{"$f":"Intermediate_Calcs!B59","v":"   Million gallons pumped per crop"},{"$f":"Intermediate_Calcs!C59","v":""},{"$f":"Intermediate_Calcs!D59","v":""},{"$f":"Intermediate_Calcs!E59","v":""},{"$f":"Intermediate_Calcs!F59","v":""},{"$f":"Intermediate_Calcs!G59","v":""}]
[null,{"$f":"Intermediate_Calcs!B60","v":"PLANNED"}]
[null,{"$f":"Intermediate_Calcs!B61","v":"   Planned crop names"},{"$f":"Intermediate_Calcs!C61","v":""},{"$f":"Intermediate_Calcs!D61","v":""},{"$f":"Intermediate_Calcs!E61","v":""},{"$f":"Intermediate_Calcs!F61","v":""},{"$f":"Intermediate_Calcs!G61","v":""}]
[null,{"$f":"Intermediate_Calcs!B62","v":"   Gross irrigation application [in/crop]"},{"$f":"Intermediate_Calcs!C62","v":""},{"$f":"Intermediate_Calcs!D62","v":""},{"$f":"Intermediate_Calcs!E62","v":""},{"$f":"Intermediate_Calcs!F62","v":""},{"$f":"Intermediate_Calcs!G62","v":""}]
[null,{"$f":"Intermediate_Calcs!B63","v":"   Net application, [in/crop]"},{"$f":"Intermediate_Calcs!C63","v":""},{"$f":"Intermediate_Calcs!D63","v":""},{"$f":"Intermediate_Calcs!E63","v":""},{"$f":"Intermediate_Calcs!F63","v":""},{"$f":"Intermediate_Calcs!G63","v":""}]
[null,{"$f":"Intermediate_Calcs!B64","v":"   Million gallons pumped per crop"},{"$f":"Intermediate_Calcs!C64","v":""},{"$f":"Intermediate_Calcs!D64","v":""},{"$f":"Intermediate_Calcs!E64","v":""},{"$f":"Intermediate_Calcs!F64","v":""},{"$f":"Intermediate_Calcs!G64","v":""}]
[null,{"$f":"Intermediate_Calcs!B65","v":"INPUT"}]
[null,{"$f":"Intermediate_Calcs!B66","v":"   Highlighted Values from Input Tab"},{"$f":"Intermediate_Calcs!C66","v":"Units"},{"$f":"Intermediate_Calcs!D66","v":"Benchmark"},{"$f":"Intermediate_Calcs!E66","v":"Planned"},{"$f":"Intermediate_Calcs!F66","v":"Difference"}]
[null,null,null,{"$f":"Intermediate_Calcs!D67","v":"Amount"},{"$f":"Intermediate_Calcs!E67","v":"Amount"},{"$f":"Intermediate_Calcs!F67","v":"Change"},{"$f":"Intermediate_Calcs!G67","v":"% change"}]
[null,{"$f":"Intermediate_Calcs!B68","v":"   Operating pressure"},{"$f":"Intermediate_Calcs!C68","v":"psi"},{"$f":"Intermediate_Calcs!D68","v":0},{"$f":"Intermediate_Calcs!E68","v":0},{"$f":"Intermediate_Calcs!F68","v":0},{"$f":"Intermediate_Calcs!G68","v":{"$error":"#DIV/0!"}}]
[null,{"$f":"Intermediate_Calcs!B69","v":"   Delivery or Pumping plant efficiency "},{"$f":"Intermediate_Calcs!C69","v":"%"},{"$f":"Intermediate_Calcs!D69","v":0},{"$f":"Intermediate_Calcs!E69","v":0},{"$f":"Intermediate_Calcs!F69","v":0},{"$f":"Intermediate_Calcs!G69","v":{"$error":"#DIV/0!"}}]
[null,{"$f":"Intermediate_Calcs!B70","v":"   Hours of Operation per day"},{"$f":"Intermediate_Calcs!C70","v":"hours"},{"$f":"Intermediate_Calcs!D70","v":0},{"$f":"Intermediate_Calcs!E70","v":0},{"$f":"Intermediate_Calcs!F70","v":0},{"$f":"Intermediate_Calcs!G70","v":{"$error":"#DIV/0!"}}]
[null,{"$f":"Intermediate_Calcs!B71","v":"   Irrigation Application"},{"$f":"Intermediate_Calcs!C71","v":"inch/day"},{"$f":"Intermediate_Calcs!D71","v":{"$error":"#DIV/0!"}},{"$f":"Intermediate_Calcs!E71","v":{"$error":"#DIV/0!"}},{"$f":"Intermediate_Calcs!F71","v":{"$error":"#DIV/0!"}},{"$f":"Intermediate_Calcs!G71","v":{"$error":"#DIV/0!"}}]
[null,{"$f":"Intermediate_Calcs!B72","v":"   Uniformity of Application"},{"$f":"Intermediate_Calcs!C72","v":"%"},{"$f":"Intermediate_Calcs!D72","v":0},{"$f":"Intermediate_Calcs!E72","v":0},{"$f":"Intermediate_Calcs!F72","v":0},{"$f":"Intermediate_Calcs!G72","v":{"$error":"#DIV/0!"}}]
[null,{"$f":"Intermediate_Calcs!B73","v":"CALCULATIONS"}]
[null,{"$f":"Intermediate_Calcs!B74","v":"   Calculated Values"},{"$f":"Intermediate_Calcs!C74","v":"Units"},{"$f":"Intermediate_Calcs!D74","v":"Benchmark"},{"$f":"Intermediate_Calcs!E74","v":"Planned"},{"$f":"Intermediate_Calcs!F74","v":"Difference"}]
[null,null,null,{"$f":"Intermediate_Calcs!D75","v":"Amount"},{"$f":"Intermediate_Calcs!E75","v":"Amount"},{"$f":"Intermediate_Calcs!F75","v":"Change"},{"$f":"Intermediate_Calcs!G75","v":"% change"}]
[null,{"$f":"Intermediate_Calcs!B76","v":"   Average Irrigation Days per Crop Interval"},{"$f":"Intermediate_Calcs!C76","v":"days"},{"$f":"Intermediate_Calcs!D76","v":0},{"$f":"Intermediate_Calcs!E76","v":0},{"$f":"Intermediate_Calcs!F76","v":0}]
[null,{"$f":"Intermediate_Calcs!B77","v":"   Pumping Flowrate"},{"$f":"Intermediate_Calcs!C77","v":"cfs"},{"$f":"Intermediate_Calcs!D77","v":{"$error":"#DIV/0!"}},{"$f":"Intermediate_Calcs!E77","v":{"$error":"#DIV/0!"}},{"$f":"Intermediate_Calcs!F77","v":{"$error":"#DIV/0!"}}]
[null,null,{"$f":"Intermediate_Calcs!C78","v":"gpm"},{"$f":"Intermediate_Calcs!D78","v":{"$error":"#DIV/0!"}},{"$f":"Intermediate_Calcs!E78","v":{"$error":"#DIV/0!"}},{"$f":"Intermediate_Calcs!F78","v":{"$error":"#DIV/0!"}}]
[null,{"$f":"Intermediate_Calcs!B79","v":"   Pumping Power"},{"$f":"Intermediate_Calcs!C79","v":"HP"},{"$f":"Intermediate_Calcs!D79","v":{"$error":"#DIV/0!"}},{"$f":"Intermediate_Calcs!E79","v":{"$error":"#DIV/0!"}},{"$f":"Intermediate_Calcs!F79","v":{"$error":"#DIV/0!"}}]
[null,null,{"$f":"Intermediate_Calcs!C80","v":"KW"},{"$f":"Intermediate_Calcs!D80","v":{"$error":"#DIV/0!"}},{"$f":"Intermediate_Calcs!E80","v":{"$error":"#DIV/0!"}},{"$f":"Intermediate_Calcs!F80","v":{"$error":"#DIV/0!"}}]
[null,{"$f":"Intermediate_Calcs!B81","v":"   Energy Rate Use per unit"},{"$f":"Intermediate_Calcs!C81","v":"KWH/day"},{"$f":"Intermediate_Calcs!D81","v":{"$error":"#DIV/0!"}},{"$f":"Intermediate_Calcs!E81","v":{"$error":"#DIV/0!"}},{"$f":"Intermediate_Calcs!F81","v":{"$error":"#DIV/0!"}}]
[null,null,{"$f":"Intermediate_Calcs!C82","v":"BTU/day"},{"$f":"Intermediate_Calcs!D82","v":{"$error":"#DIV/0!"}},{"$f":"Intermediate_Calcs!E82","v":{"$error":"#DIV/0!"}},{"$f":"Intermediate_Calcs!F82","v":{"$error":"#DIV/0!"}}]
[null,null,{"$f":"Intermediate_Calcs!C83","v":"BTU/inch"},{"$f":"Intermediate_Calcs!D83","v":0},{"$f":"Intermediate_Calcs!E83","v":0},{"$f":"Intermediate_Calcs!F83","v":0}]
[null,null,{"$f":"Intermediate_Calcs!C84","v":"BTU/gal"},{"$f":"Intermediate_Calcs!D84","v":{"$error":"#DIV/0!"}},{"$f":"Intermediate_Calcs!E84","v":{"$error":"#DIV/0!"}},{"$f":"Intermediate_Calcs!F84","v":{"$error":"#DIV/0!"}}]
[null,{"$f":"Intermediate_Calcs!B85","v":"   Total Energy Use in Million BTUs"},{"$f":"Intermediate_Calcs!C85","v":"MMBTU"},{"$f":"Intermediate_Calcs!D85","v":{"$error":"#DIV/0!"}},{"$f":"Intermediate_Calcs!E85","v":{"$error":"#DIV/0!"}},{"$f":"Intermediate_Calcs!F85","v":{"$error":"#DIV/0!"}}]
[null,{"$f":"Intermediate_Calcs!B86","v":"Note: Values shaded yellow (Benchmark) and green (Planned) are input variables from the input tab. "}]
[null,{"$f":"Intermediate_Calcs!B87","v":"           Values shaded red are used in energy calculations for reports tab."}]
[]
[]
[null,{"$f":"Intermediate_Calcs!B90","v":"Other Delivery Power 1 Worksheet for Energy Tool"}]
[null,{"$f":"Intermediate_Calcs!B91","v":"  Operation ID :   "},{"$f":"Intermediate_Calcs!C91","v":"Description:"},null,null,{"$f":"Intermediate_Calcs!F91","v":"Date:"},{"$f":"Intermediate_Calcs!G91","v":""}]
[null,{"$f":"Intermediate_Calcs!B92","v":"  Field Location: "},{"$f":"Intermediate_Calcs!C92","v":""}]
[null,{"$f":"Intermediate_Calcs!B93","v":"  Field Acres :  "}]
[null,{"$f":"Intermediate_Calcs!B94","v":"BENCHMARK"},{"$f":"Intermediate_Calcs!C94","v":""},{"$f":"Intermediate_Calcs!D94","v":""},{"$f":"Intermediate_Calcs!E94","v":""},{"$f":"Intermediate_Calcs!F94","v":""},{"$f":"Intermediate_Calcs!G94","v":""}]
[null,{"$f":"Intermediate_Calcs!B95","v":"   Baseline crop names"},{"$f":"Intermediate_Calcs!C95","v":""},{"$f":"Intermediate_Calcs!D95","v":""},{"$f":"Intermediate_Calcs!E95","v":""},{"$f":"Intermediate_Calcs!F95","v":""},{"$f":"Intermediate_Calcs!G95","v":""}]
[null,{"$f":"Intermediate_Calcs!B96","v":"   Other Pumping Type : Booster [gpm]"},{"$f":"Intermediate_Calcs!C96","v":""},{"$f":"Intermediate_Calcs!D96","v":""},{"$f":"Intermediate_Calcs!E96","v":""},{"$f":"Intermediate_Calcs!F96","v":""},{"$f":"Intermediate_Calcs!G96","v":""}]
[null,{"$f":"Intermediate_Calcs!B97","v":"   Days of Operation, [days]"},{"$f":"Intermediate_Calcs!C97","v":""},{"$f":"Intermediate_Calcs!D97","v":""},{"$f":"Intermediate_Calcs!E97","v":""},{"$f":"Intermediate_Calcs!F97","v":""},{"$f":"Intermediate_Calcs!G97","v":""}]
[null,{"$f":"Intermediate_Calcs!B98","v":"   Million gallons pumped per crop"},{"$f":"Intermediate_Calcs!C98","v":0},{"$f":"Intermediate_Calcs!D98","v":0},{"$f":"Intermediate_Calcs!E98","v":0},{"$f":"Intermediate_Calcs!F98","v":0},{"$f":"Intermediate_Calcs!G98","v":0}]
[null,{"$f":"Intermediate_Calcs!B99","v":"PLANNED"},{"$f":"Intermediate_Calcs!C99","v":""},{"$f":"Intermediate_Calcs!D99","v":""},{"$f":"Intermediate_Calcs!E99","v":""},{"$f":"Intermediate_Calcs!F99","v":""},{"$f":"Intermediate_Calcs!G99","v":""}]
[null,{"$f":"Intermediate_Calcs!B100","v":"   Planned crop names"},{"$f":"Intermediate_Calcs!C100","v":""},{"$f":"Intermediate_Calcs!D100","v":""},{"$f":"Intermediate_Calcs!E100","v":""},{"$f":"Intermediate_Calcs!F100","v":""},{"$f":"Intermediate_Calcs!G100","v":""}]
[null,{"$f":"Intermediate_Calcs!B101","v":"   Other Pumping Type : Booster [gpm]"},{"$f":"Intermediate_Calcs!C101","v":""},{"$f":"Intermediate_Calcs!D101","v":""},{"$f":"Intermediate_Calcs!E101","v":""},{"$f":"Intermediate_Calcs!F101","v":""},{"$f":"Intermediate_Calcs!G101","v":""}]
[null,{"$f":"Intermediate_Calcs!B102","v":"   Days of Operation, [days]"},{"$f":"Intermediate_Calcs!C102","v":""},{"$f":"Intermediate_Calcs!D102","v":""},{"$f":"Intermediate_Calcs!E102","v":""},{"$f":"Intermediate_Calcs!F102","v":""},{"$f":"Intermediate_Calcs!G102","v":""}]
[null,{"$f":"Intermediate_Calcs!B103","v":"   Million gallons pumped per crop"},{"$f":"Intermediate_Calcs!C103","v":0},{"$f":"Intermediate_Calcs!D103","v":0},{"$f":"Intermediate_Calcs!E103","v":0},{"$f":"Intermediate_Calcs!F103","v":0},{"$f":"Intermediate_Calcs!G103","v":0}]
[null,{"$f":"Intermediate_Calcs!B104","v":"INPUT PUMP SYSTEM"}]
[null,{"$f":"Intermediate_Calcs!B105","v":"   Highlighted Values from Input Tab"},{"$f":"Intermediate_Calcs!C105","v":"Units"},{"$f":"Intermediate_Calcs!D105","v":"Benchmark"},{"$f":"Intermediate_Calcs!E105","v":"Planned"},{"$f":"Intermediate_Calcs!F105","v":"Difference"}]
[null,null,null,{"$f":"Intermediate_Calcs!D106","v":"Amount"},{"$f":"Intermediate_Calcs!E106","v":"Amount"},{"$f":"Intermediate_Calcs!F106","v":"Change"},{"$f":"Intermediate_Calcs!G106","v":"% change"}]
[null,{"$f":"Intermediate_Calcs!B107","v":"   Operating pressure"},{"$f":"Intermediate_Calcs!C107","v":"psi"},{"$f":"Intermediate_Calcs!D107","v":0},{"$f":"Intermediate_Calcs!E107","v":0},{"$f":"Intermediate_Calcs!F107","v":0},{"$f":"Intermediate_Calcs!G107","v":{"$error":"#DIV/0!"}}]
[null,{"$f":"Intermediate_Calcs!B108","v":"   Delivery or Pumping plant efficiency "},{"$f":"Intermediate_Calcs!C108","v":"%"},{"$f":"Intermediate_Calcs!D108","v":0},{"$f":"Intermediate_Calcs!E108","v":0},{"$f":"Intermediate_Calcs!F108","v":0},{"$f":"Intermediate_Calcs!G108","v":{"$error":"#DIV/0!"}}]
[null,{"$f":"Intermediate_Calcs!B109","v":"   Hours of Operation per day"},{"$f":"Intermediate_Calcs!C109","v":"hours"},{"$f":"Intermediate_Calcs!D109","v":0},{"$f":"Intermediate_Calcs!E109","v":0},{"$f":"Intermediate_Calcs!F109","v":0},{"$f":"Intermediate_Calcs!G109","v":{"$error":"#DIV/0!"}}]
[null,{"$f":"Intermediate_Calcs!B110","v":"CALCULATIONS"}]
[null,{"$f":"Intermediate_Calcs!B111","v":"   Calculated Values"},{"$f":"Intermediate_Calcs!C111","v":"Units"},{"$f":"Intermediate_Calcs!D111","v":"Benchmark"},{"$f":"Intermediate_Calcs!E111","v":"Planned"},{"$f":"Intermediate_Calcs!F111","v":"Difference"}]
[null,null,null,{"$f":"Intermediate_Calcs!D112","v":"Amount"},{"$f":"Intermediate_Calcs!E112","v":"Amount"},{"$f":"Intermediate_Calcs!F112","v":"Change"},{"$f":"Intermediate_Calcs!G112","v":"% change"}]
[null,{"$f":"Intermediate_Calcs!B113","v":"   Average Days of Operation"},{"$f":"Intermediate_Calcs!C113","v":"days"},{"$f":"Intermediate_Calcs!D113","v":{"$error":"#DIV/0!"}},{"$f":"Intermediate_Calcs!E113","v":{"$error":"#DIV/0!"}},{"$f":"Intermediate_Calcs!F113","v":{"$error":"#DIV/0!"}}]
[null,{"$f":"Intermediate_Calcs!B114","v":"   Pumping Rate (maximum per rotation)"},{"$f":"Intermediate_Calcs!C114","v":"cfs"},{"$f":"Intermediate_Calcs!D114","v":0},{"$f":"Intermediate_Calcs!E114","v":0},{"$f":"Intermediate_Calcs!F114","v":0}]
[null,null,{"$f":"Intermediate_Calcs!C115","v":"gpm"},{"$f":"Intermediate_Calcs!D115","v":0},{"$f":"Intermediate_Calcs!E115","v":0},{"$f":"Intermediate_Calcs!F115","v":0}]
[null,{"$f":"Intermediate_Calcs!B116","v":"   Pumping Power"},{"$f":"Intermediate_Calcs!C116","v":"HP"},{"$f":"Intermediate_Calcs!D116","v":{"$error":"#DIV/0!"}},{"$f":"Intermediate_Calcs!E116","v":{"$error":"#DIV/0!"}},{"$f":"Intermediate_Calcs!F116","v":{"$error":"#DIV/0!"}}]
[null,null,{"$f":"Intermediate_Calcs!C117","v":"KW"},{"$f":"Intermediate_Calcs!D117","v":{"$error":"#DIV/0!"}},{"$f":"Intermediate_Calcs!E117","v":{"$error":"#DIV/0!"}},{"$f":"Intermediate_Calcs!F117","v":{"$error":"#DIV/0!"}}]
[null,{"$f":"Intermediate_Calcs!B118","v":"   Energy Rate Use per unit"},{"$f":"Intermediate_Calcs!C118","v":"KWH/day"},{"$f":"Intermediate_Calcs!D118","v":{"$error":"#DIV/0!"}},{"$f":"Intermediate_Calcs!E118","v":{"$error":"#DIV/0!"}},{"$f":"Intermediate_Calcs!F118","v":{"$error":"#DIV/0!"}}]
[null,null,{"$f":"Intermediate_Calcs!C119","v":"BTU/day"},{"$f":"Intermediate_Calcs!D119","v":{"$error":"#DIV/0!"}},{"$f":"Intermediate_Calcs!E119","v":{"$error":"#DIV/0!"}},{"$f":"Intermediate_Calcs!F119","v":{"$error":"#DIV/0!"}}]
[null,null,{"$f":"Intermediate_Calcs!C120","v":"BTU/gal"},{"$f":"Intermediate_Calcs!D120","v":{"$error":"#DIV/0!"}},{"$f":"Intermediate_Calcs!E120","v":{"$error":"#DIV/0!"}},{"$f":"Intermediate_Calcs!F120","v":{"$error":"#DIV/0!"}}]
[null,{"$f":"Intermediate_Calcs!B121","v":"   Total Energy Use in Million BTUs"},{"$f":"Intermediate_Calcs!C121","v":"MMBTU"},{"$f":"Intermediate_Calcs!D121","v":{"$error":"#DIV/0!"}},{"$f":"Intermediate_Calcs!E121","v":{"$error":"#DIV/0!"}},{"$f":"Intermediate_Calcs!F121","v":{"$error":"#DIV/0!"}}]
[null,{"$f":"Intermediate_Calcs!B122","v":"Note: Values shaded yellow (Benchmark) and green (Planned) are input variables from the input tab. "}]
[null,{"$f":"Intermediate_Calcs!B123","v":"           Values shaded red are used in energy calculations for reports tab."}]
[]
[]
[null,{"$f":"Intermediate_Calcs!B126","v":"Other Delivery Power 2 Worksheet for Energy Tool"}]
[null,{"$f":"Intermediate_Calcs!B127","v":"  Operation ID :   "},{"$f":"Intermediate_Calcs!C127","v":"Description:"},null,null,{"$f":"Intermediate_Calcs!F127","v":"Date:"},{"$f":"Intermediate_Calcs!G127","v":""}]
[null,{"$f":"Intermediate_Calcs!B128","v":"  Field Location: "},{"$f":"Intermediate_Calcs!C128","v":""}]
[null,{"$f":"Intermediate_Calcs!B129","v":"  Field Acres :  "}]
[null,{"$f":"Intermediate_Calcs!B130","v":"BENCHMARK"},{"$f":"Intermediate_Calcs!C130","v":""},{"$f":"Intermediate_Calcs!D130","v":""},{"$f":"Intermediate_Calcs!E130","v":""}]
[null,{"$f":"Intermediate_Calcs!B131","v":"   Baseline crop names"},{"$f":"Intermediate_Calcs!C131","v":""},{"$f":"Intermediate_Calcs!D131","v":""},{"$f":"Intermediate_Calcs!E131","v":""},{"$f":"Intermediate_Calcs!F131","v":""},{"$f":"Intermediate_Calcs!G131","v":""}]
[null,{"$f":"Intermediate_Calcs!B132","v":"   Other Pumping Type :  []"},{"$f":"Intermediate_Calcs!C132","v":""},{"$f":"Intermediate_Calcs!D132","v":""},{"$f":"Intermediate_Calcs!E132","v":""},{"$f":"Intermediate_Calcs!F132","v":""},{"$f":"Intermediate_Calcs!G132","v":""}]
[null,{"$f":"Intermediate_Calcs!B133","v":"   Days of Operation, [days]"},{"$f":"Intermediate_Calcs!C133","v":""},{"$f":"Intermediate_Calcs!D133","v":""},{"$f":"Intermediate_Calcs!E133","v":""},{"$f":"Intermediate_Calcs!F133","v":""},{"$f":"Intermediate_Calcs!G133","v":""}]
[null,{"$f":"Intermediate_Calcs!B134","v":"   Million gallons pumped per crop"},{"$f":"Intermediate_Calcs!C134","v":0},{"$f":"Intermediate_Calcs!D134","v":0},{"$f":"Intermediate_Calcs!E134","v":0},{"$f":"Intermediate_Calcs!F134","v":0},{"$f":"Intermediate_Calcs!G134","v":0}]
[null,{"$f":"Intermediate_Calcs!B135","v":"PLANNED"},{"$f":"Intermediate_Calcs!C135","v":""},{"$f":"Intermediate_Calcs!D135","v":""},{"$f":"Intermediate_Calcs!E135","v":""},{"$f":"Intermediate_Calcs!F135","v":""},{"$f":"Intermediate_Calcs!G135","v":""}]
[null,{"$f":"Intermediate_Calcs!B136","v":"   Planned crop names"},{"$f":"Intermediate_Calcs!C136","v":""},{"$f":"Intermediate_Calcs!D136","v":""},{"$f":"Intermediate_Calcs!E136","v":""},{"$f":"Intermediate_Calcs!F136","v":""},{"$f":"Intermediate_Calcs!G136","v":""}]
[null,{"$f":"Intermediate_Calcs!B137","v":"   Other Pumping Type :  []"},{"$f":"Intermediate_Calcs!C137","v":""},{"$f":"Intermediate_Calcs!D137","v":""},{"$f":"Intermediate_Calcs!E137","v":""},{"$f":"Intermediate_Calcs!F137","v":""},{"$f":"Intermediate_Calcs!G137","v":""}]
[null,{"$f":"Intermediate_Calcs!B138","v":"   Days of Operation, [days]"},{"$f":"Intermediate_Calcs!C138","v":""},{"$f":"Intermediate_Calcs!D138","v":""},{"$f":"Intermediate_Calcs!E138","v":""},{"$f":"Intermediate_Calcs!F138","v":""},{"$f":"Intermediate_Calcs!G138","v":""}]
[null,{"$f":"Intermediate_Calcs!B139","v":"   Million gallons pumped per crop"},{"$f":"Intermediate_Calcs!C139","v":0},{"$f":"Intermediate_Calcs!D139","v":0},{"$f":"Intermediate_Calcs!E139","v":0},{"$f":"Intermediate_Calcs!F139","v":0},{"$f":"Intermediate_Calcs!G139","v":0}]
[null,{"$f":"Intermediate_Calcs!B140","v":"INPUT PUMP SYSTEM"}]
[null,{"$f":"Intermediate_Calcs!B141","v":"   Highlighted Values from Input Tab"},{"$f":"Intermediate_Calcs!C141","v":"Units"},{"$f":"Intermediate_Calcs!D141","v":"Benchmark"},{"$f":"Intermediate_Calcs!E141","v":"Planned"},{"$f":"Intermediate_Calcs!F141","v":"Difference"}]
[null,null,null,{"$f":"Intermediate_Calcs!D142","v":"Amount"},{"$f":"Intermediate_Calcs!E142","v":"Amount"},{"$f":"Intermediate_Calcs!F142","v":"Change"},{"$f":"Intermediate_Calcs!G142","v":"% change"}]
[null,{"$f":"Intermediate_Calcs!B143","v":"   Operating pressure"},{"$f":"Intermediate_Calcs!C143","v":"psi"},{"$f":"Intermediate_Calcs!D143","v":0},{"$f":"Intermediate_Calcs!E143","v":0},{"$f":"Intermediate_Calcs!F143","v":0},{"$f":"Intermediate_Calcs!G143","v":{"$error":"#DIV/0!"}}]
[null,{"$f":"Intermediate_Calcs!B144","v":"   Delivery or Pumping plant efficiency "},{"$f":"Intermediate_Calcs!C144","v":"%"},{"$f":"Intermediate_Calcs!D144","v":0},{"$f":"Intermediate_Calcs!E144","v":0},{"$f":"Intermediate_Calcs!F144","v":0},{"$f":"Intermediate_Calcs!G144","v":{"$error":"#DIV/0!"}}]
[null,{"$f":"Intermediate_Calcs!B145","v":"   Hours of Operation per day"},{"$f":"Intermediate_Calcs!C145","v":"hours"},{"$f":"Intermediate_Calcs!D145","v":0},{"$f":"Intermediate_Calcs!E145","v":0},{"$f":"Intermediate_Calcs!F145","v":0},{"$f":"Intermediate_Calcs!G145","v":{"$error":"#DIV/0!"}}]
[null,{"$f":"Intermediate_Calcs!B146","v":"CALCULATIONS"}]
[null,{"$f":"Intermediate_Calcs!B147","v":"   Calculated Values"},{"$f":"Intermediate_Calcs!C147","v":"Units"},{"$f":"Intermediate_Calcs!D147","v":"Benchmark"},{"$f":"Intermediate_Calcs!E147","v":"Planned"},{"$f":"Intermediate_Calcs!F147","v":"Difference"}]
[null,null,null,{"$f":"Intermediate_Calcs!D148","v":"Amount"},{"$f":"Intermediate_Calcs!E148","v":"Amount"},{"$f":"Intermediate_Calcs!F148","v":"Change"},{"$f":"Intermediate_Calcs!G148","v":"% change"}]
[null,{"$f":"Intermediate_Calcs!B149","v":"   Average Days of Operation"},{"$f":"Intermediate_Calcs!C149","v":"days"},{"$f":"Intermediate_Calcs!D149","v":{"$error":"#DIV/0!"}},{"$f":"Intermediate_Calcs!E149","v":{"$error":"#DIV/0!"}},{"$f":"Intermediate_Calcs!F149","v":{"$error":"#DIV/0!"}}]
[null,{"$f":"Intermediate_Calcs!B150","v":"   Pumping Rate (maximum per rotation)"},{"$f":"Intermediate_Calcs!C150","v":"cfs"},{"$f":"Intermediate_Calcs!D150","v":{"$error":"#VALUE!"}},{"$f":"Intermediate_Calcs!E150","v":{"$error":"#VALUE!"}},{"$f":"Intermediate_Calcs!F150","v":{"$error":"#VALUE!"}}]
[null,null,{"$f":"Intermediate_Calcs!C151","v":"gpm"},{"$f":"Intermediate_Calcs!D151","v":""},{"$f":"Intermediate_Calcs!E151","v":""},{"$f":"Intermediate_Calcs!F151","v":{"$error":"#VALUE!"}}]
[null,{"$f":"Intermediate_Calcs!B152","v":"   Pumping Power"},{"$f":"Intermediate_Calcs!C152","v":"HP"},{"$f":"Intermediate_Calcs!D152","v":{"$error":"#VALUE!"}},{"$f":"Intermediate_Calcs!E152","v":{"$error":"#VALUE!"}},{"$f":"Intermediate_Calcs!F152","v":{"$error":"#VALUE!"}}]
[null,null,{"$f":"Intermediate_Calcs!C153","v":"KW"},{"$f":"Intermediate_Calcs!D153","v":{"$error":"#VALUE!"}},{"$f":"Intermediate_Calcs!E153","v":{"$error":"#VALUE!"}},{"$f":"Intermediate_Calcs!F153","v":{"$error":"#VALUE!"}}]
[null,{"$f":"Intermediate_Calcs!B154","v":"   Energy Rate Use per unit"},{"$f":"Intermediate_Calcs!C154","v":"KWH/day"},{"$f":"Intermediate_Calcs!D154","v":{"$error":"#VALUE!"}},{"$f":"Intermediate_Calcs!E154","v":{"$error":"#VALUE!"}},{"$f":"Intermediate_Calcs!F154","v":{"$error":"#VALUE!"}}]
[null,null,{"$f":"Intermediate_Calcs!C155","v":"BTU/day"},{"$f":"Intermediate_Calcs!D155","v":{"$error":"#VALUE!"}},{"$f":"Intermediate_Calcs!E155","v":{"$error":"#VALUE!"}},{"$f":"Intermediate_Calcs!F155","v":{"$error":"#VALUE!"}}]
[null,null,{"$f":"Intermediate_Calcs!C156","v":"BTU/gal"},{"$f":"Intermediate_Calcs!D156","v":{"$error":"#VALUE!"}},{"$f":"Intermediate_Calcs!E156","v":{"$error":"#VALUE!"}},{"$f":"Intermediate_Calcs!F156","v":{"$error":"#VALUE!"}}]
[null,{"$f":"Intermediate_Calcs!B157","v":"   Total Energy Use in Million BTUs"},{"$f":"Intermediate_Calcs!C157","v":"MMBTU"},{"$f":"Intermediate_Calcs!D157","v":{"$error":"#VALUE!"}},{"$f":"Intermediate_Calcs!E157","v":{"$error":"#VALUE!"}},{"$f":"Intermediate_Calcs!F157","v":{"$error":"#VALUE!"}}]
[null,{"$f":"Intermediate_Calcs!B158","v":"Note: Values shaded yellow (Benchmark) and green (Planned) are input variables from the input tab. "}]
[null,{"$f":"Intermediate_Calcs!B159","v":"           Values shaded red are used in energy calculations for reports tab."}]
[]
[]
[null,{"$f":"Intermediate_Calcs!B162","v":"Other Delivery Power 3 Worksheet for Energy Tool"}]
[null,{"$f":"Intermediate_Calcs!B163","v":"  Operation ID :   "},{"$f":"Intermediate_Calcs!C163","v":"Description:"},null,null,{"$f":"Intermediate_Calcs!F163","v":"Date:"},{"$f":"Intermediate_Calcs!G163","v":""}]
[null,{"$f":"Intermediate_Calcs!B164","v":"  Field Location: "},{"$f":"Intermediate_Calcs!C164","v":""}]
[null,{"$f":"Intermediate_Calcs!B165","v":"  Field Acres :  "}]
[null,{"$f":"Intermediate_Calcs!B166","v":"BENCHMARK"},{"$f":"Intermediate_Calcs!C166","v":""},{"$f":"Intermediate_Calcs!D166","v":""},{"$f":"Intermediate_Calcs!E166","v":""},{"$f":"Intermediate_Calcs!F166","v":""},{"$f":"Intermediate_Calcs!G166","v":""}]
[null,{"$f":"Intermediate_Calcs!B167","v":"   Baseline crop names"},{"$f":"Intermediate_Calcs!C167","v":""},{"$f":"Intermediate_Calcs!D167","v":""},{"$f":"Intermediate_Calcs!E167","v":""},{"$f":"Intermediate_Calcs!F167","v":""},{"$f":"Intermediate_Calcs!G167","v":""}]
[null,{"$f":"Intermediate_Calcs!B168","v":"   Other Pumping Type :  []"},{"$f":"Intermediate_Calcs!C168","v":""},{"$f":"Intermediate_Calcs!D168","v":""},{"$f":"Intermediate_Calcs!E168","v":""},{"$f":"Intermediate_Calcs!F168","v":""},{"$f":"Intermediate_Calcs!G168","v":""}]
[null,{"$f":"Intermediate_Calcs!B169","v":"   Days of Operation, [days]"},{"$f":"Intermediate_Calcs!C169","v":""},{"$f":"Intermediate_Calcs!D169","v":""},{"$f":"Intermediate_Calcs!E169","v":""},{"$f":"Intermediate_Calcs!F169","v":""},{"$f":"Intermediate_Calcs!G169","v":""}]
[null,{"$f":"Intermediate_Calcs!B170","v":"   Million gallons pumped per crop"},{"$f":"Intermediate_Calcs!C170","v":0},{"$f":"Intermediate_Calcs!D170","v":0},{"$f":"Intermediate_Calcs!E170","v":0},{"$f":"Intermediate_Calcs!F170","v":0},{"$f":"Intermediate_Calcs!G170","v":0}]
[null,{"$f":"Intermediate_Calcs!B171","v":"PLANNED"},{"$f":"Intermediate_Calcs!C171","v":""},{"$f":"Intermediate_Calcs!D171","v":""},{"$f":"Intermediate_Calcs!E171","v":""},{"$f":"Intermediate_Calcs!F171","v":""},{"$f":"Intermediate_Calcs!G171","v":""}]
[null,{"$f":"Intermediate_Calcs!B172","v":"   Planned crop names"},{"$f":"Intermediate_Calcs!C172","v":""},{"$f":"Intermediate_Calcs!D172","v":""},{"$f":"Intermediate_Calcs!E172","v":""},{"$f":"Intermediate_Calcs!F172","v":""},{"$f":"Intermediate_Calcs!G172","v":""}]
[null,{"$f":"Intermediate_Calcs!B173","v":"   Other Pumping Type :  []"},{"$f":"Intermediate_Calcs!C173","v":""},{"$f":"Intermediate_Calcs!D173","v":""},{"$f":"Intermediate_Calcs!E173","v":""},{"$f":"Intermediate_Calcs!F173","v":""},{"$f":"Intermediate_Calcs!G173","v":""}]
[null,{"$f":"Intermediate_Calcs!B174","v":"   Days of Operation, [days]"},{"$f":"Intermediate_Calcs!C174","v":""},{"$f":"Intermediate_Calcs!D174","v":""},{"$f":"Intermediate_Calcs!E174","v":""},{"$f":"Intermediate_Calcs!F174","v":""},{"$f":"Intermediate_Calcs!G174","v":""}]
[null,{"$f":"Intermediate_Calcs!B175","v":"   Million gallons pumped per crop"},{"$f":"Intermediate_Calcs!C175","v":0},{"$f":"Intermediate_Calcs!D175","v":0},{"$f":"Intermediate_Calcs!E175","v":0},{"$f":"Intermediate_Calcs!F175","v":0},{"$f":"Intermediate_Calcs!G175","v":0}]
[null,{"$f":"Intermediate_Calcs!B176","v":"INPUT PUMP SYSTEM"}]
[null,{"$f":"Intermediate_Calcs!B177","v":"   Highlighted Values from Input Tab"},{"$f":"Intermediate_Calcs!C177","v":"Units"},{"$f":"Intermediate_Calcs!D177","v":"Benchmark"},{"$f":"Intermediate_Calcs!E177","v":"Planned"},{"$f":"Intermediate_Calcs!F177","v":"Difference"}]
[null,null,null,{"$f":"Intermediate_Calcs!D178","v":"Amount"},{"$f":"Intermediate_Calcs!E178","v":"Amount"},{"$f":"Intermediate_Calcs!F178","v":"Change"},{"$f":"Intermediate_Calcs!G178","v":"% change"}]
[null,{"$f":"Intermediate_Calcs!B179","v":"   Operating pressure"},{"$f":"Intermediate_Calcs!C179","v":"psi"},{"$f":"Intermediate_Calcs!D179","v":0},{"$f":"Intermediate_Calcs!E179","v":0},{"$f":"Intermediate_Calcs!F179","v":0},{"$f":"Intermediate_Calcs!G179","v":{"$error":"#DIV/0!"}}]
[null,{"$f":"Intermediate_Calcs!B180","v":"   Delivery or Pumping plant efficiency "},{"$f":"Intermediate_Calcs!C180","v":"%"},{"$f":"Intermediate_Calcs!D180","v":0},{"$f":"Intermediate_Calcs!E180","v":0},{"$f":"Intermediate_Calcs!F180","v":0},{"$f":"Intermediate_Calcs!G180","v":{"$error":"#DIV/0!"}}]
[null,{"$f":"Intermediate_Calcs!B181","v":"   Hours of Operation per day"},{"$f":"Intermediate_Calcs!C181","v":"hours"},{"$f":"Intermediate_Calcs!D181","v":0},{"$f":"Intermediate_Calcs!E181","v":0},{"$f":"Intermediate_Calcs!F181","v":0},{"$f":"Intermediate_Calcs!G181","v":{"$error":"#DIV/0!"}}]
[null,{"$f":"Intermediate_Calcs!B182","v":"CALCULATIONS"}]
[null,{"$f":"Intermediate_Calcs!B183","v":"   Calculated Values"},{"$f":"Intermediate_Calcs!C183","v":"Units"},{"$f":"Intermediate_Calcs!D183","v":"Benchmark"},{"$f":"Intermediate_Calcs!E183","v":"Planned"},{"$f":"Intermediate_Calcs!F183","v":"Difference"}]
[null,null,null,{"$f":"Intermediate_Calcs!D184","v":"Amount"},{"$f":"Intermediate_Calcs!E184","v":"Amount"},{"$f":"Intermediate_Calcs!F184","v":"Change"},{"$f":"Intermediate_Calcs!G184","v":"% change"}]
[null,{"$f":"Intermediate_Calcs!B185","v":"   Average Days of Operation"},{"$f":"Intermediate_Calcs!C185","v":"days"},{"$f":"Intermediate_Calcs!D185","v":{"$error":"#DIV/0!"}},{"$f":"Intermediate_Calcs!E185","v":{"$error":"#DIV/0!"}},{"$f":"Intermediate_Calcs!F185","v":{"$error":"#DIV/0!"}}]
[null,{"$f":"Intermediate_Calcs!B186","v":"   Pumping Rate (maximum per rotation)"},{"$f":"Intermediate_Calcs!C186","v":"cfs"},{"$f":"Intermediate_Calcs!D186","v":{"$error":"#VALUE!"}},{"$f":"Intermediate_Calcs!E186","v":{"$error":"#VALUE!"}},{"$f":"Intermediate_Calcs!F186","v":{"$error":"#VALUE!"}}]
[null,null,{"$f":"Intermediate_Calcs!C187","v":"gpm"},{"$f":"Intermediate_Calcs!D187","v":""},{"$f":"Intermediate_Calcs!E187","v":""},{"$f":"Intermediate_Calcs!F187","v":{"$error":"#VALUE!"}}]
[null,{"$f":"Intermediate_Calcs!B188","v":"   Pumping Power"},{"$f":"Intermediate_Calcs!C188","v":"HP"},{"$f":"Intermediate_Calcs!D188","v":{"$error":"#VALUE!"}},{"$f":"Intermediate_Calcs!E188","v":{"$error":"#VALUE!"}},{"$f":"Intermediate_Calcs!F188","v":{"$error":"#VALUE!"}}]
[null,null,{"$f":"Intermediate_Calcs!C189","v":"KW"},{"$f":"Intermediate_Calcs!D189","v":{"$error":"#VALUE!"}},{"$f":"Intermediate_Calcs!E189","v":{"$error":"#VALUE!"}},{"$f":"Intermediate_Calcs!F189","v":{"$error":"#VALUE!"}}]
[null,{"$f":"Intermediate_Calcs!B190","v":"   Energy Rate Use per unit"},{"$f":"Intermediate_Calcs!C190","v":"KWH/day"},{"$f":"Intermediate_Calcs!D190","v":{"$error":"#VALUE!"}},{"$f":"Intermediate_Calcs!E190","v":{"$error":"#VALUE!"}},{"$f":"Intermediate_Calcs!F190","v":{"$error":"#VALUE!"}}]
[null,null,{"$f":"Intermediate_Calcs!C191","v":"BTU/day"},{"$f":"Intermediate_Calcs!D191","v":{"$error":"#VALUE!"}},{"$f":"Intermediate_Calcs!E191","v":{"$error":"#VALUE!"}},{"$f":"Intermediate_Calcs!F191","v":{"$error":"#VALUE!"}}]
[null,null,{"$f":"Intermediate_Calcs!C192","v":"BTU/gal"},{"$f":"Intermediate_Calcs!D192","v":{"$error":"#VALUE!"}},{"$f":"Intermediate_Calcs!E192","v":{"$error":"#VALUE!"}},{"$f":"Intermediate_Calcs!F192","v":{"$error":"#VALUE!"}}]
[null,{"$f":"Intermediate_Calcs!B193","v":"   Total Energy Use in Million BTUs"},{"$f":"Intermediate_Calcs!C193","v":"MMBTU"},{"$f":"Intermediate_Calcs!D193","v":{"$error":"#VALUE!"}},{"$f":"Intermediate_Calcs!E193","v":{"$error":"#VALUE!"}},{"$f":"Intermediate_Calcs!F193","v":{"$error":"#VALUE!"}}]
[null,{"$f":"Intermediate_Calcs!B194","v":"Note: Values shaded yellow (Benchmark) and green (Planned) are input variables from the input tab. "}]
[null,{"$f":"Intermediate_Calcs!B195","v":"           Values shaded red are used in energy calculations for reports tab."}]

{"sheet":"PS_Intermediate","index":16,"n_rows":46,"n_cols":17,"rows_kept":46,"cut":false,"hidden":true,"merged":[[10,2,10,8],[10,9,10,11],[10,12,10,13],[1,1,1,12],[3,1,3,12],[4,12,4,13]]}
[]
[null,"NRCS - CROPLAND ENERGY TOOL"]
[]
[null,"PRACTICE STANDARD INTERMEDIATE CALCULATIONS"]
[null,null,null,null,null,null,null,null,null,null,null,"Date: ",{"$f":"IF(Input!E17=\"\",\"\",Input!E17)","v":""}]
[null,{"$f":"\"Landowner: \"&Input!E14","v":"Landowner: "},null,null,null,"Field Area: ",{"$f":"IF(Input!J14=\"\",\"\",Input!J14)","v":""},null,null,null,null,"Latitude:",{"$f":"IF(Input!E18=\"\",\"\",Input!E18)","v":""}]
[null,{"$f":"IF(Input!E15=\"\",\"  Field Location: \",IF(OR(Input!E15=\"American Samoa\",Input!E15=\"District of Columbia\",Input!E15=\"Puerto Rico\",Input!E15=\"Virgin Islands\",Input!E15=\"Guam\"),\"Field Location: \"&Input!E15,\"Field Location: \"&Input!E16&IF(Input!E15=\"Alaska\",\" Boro., \",\" Co., \")&VLOOKUP(Input!E15,Input!C208:D262,2,FALSE)))","v":"  Field Location: "},null,null,null,"Field ID: ",{"$f":"IF(Input!J15=\"\",\"\",Input!J15)","v":""},null,null,null,null,"Longitude:",{"$f":"IF(Input!E19=\"\",\"\",Input!E19)","v":""}]
[]
[]
[]
[null,"Practice Standards","Energy Input to the Field",null,null,null,null,null,null,"Energy Harvest",null,null,"Energy Remaining"]
[null,null,"Harvest","Field","Irrigation","Other ","Agri","Soil","Labor","Crop ","Post Harvest",null,"Root-","Surface"]
[null,null,"Operations","Operations","Delivery","Delivery","Chemical","Admend",null,"Harvest","Grazing","Crop ","mass","Residue"]
[null,null,null,null,"Energy","Energy","Fert",null,null,"Removed","Yield","Residue"]
[null,null,null,null,null,null,null,null,null,null,null,"Removed"]
[null,{"$f":"IF(ISBLANK(Input_PS!B16),,Input_PS!B16)","v":"431 Above Ground Multi-Outlet Pipeline"},{"$f":"IF(OR(Input_PS!C$33=\"No\",ISBLANK(Input_PS!C16)),\"\",Input_PS!C16*C$27)","v":""},{"$f":"IF(OR(Input_PS!D$33=\"No\",ISBLANK(Input_PS!D16)),\"\",Input_PS!D16*D$27)","v":""},{"$f":"IF(OR(Input_PS!E$33=\"No\",ISBLANK(Input_PS!E16)),\"\",Input_PS!E16*E$27)","v":""},{"$f":"IF(OR(Input_PS!F$33=\"No\",ISBLANK(Input_PS!F16)),\"\",Input_PS!F16*F$27)","v":""},{"$f":"IF(OR(Input_PS!G$33=\"No\",ISBLANK(Input_PS!G16)),\"\",Input_PS!G16*G$27)","v":""},{"$f":"IF(OR(Input_PS!H$33=\"No\",ISBLANK(Input_PS!H16)),\"\",Input_PS!H16*H$27)","v":""},{"$f":"IF(OR(Input_PS!I$33=\"No\",ISBLANK(Input_PS!I16)),\"\",Input_PS!I16*I$27)","v":""},{"$f":"IF(OR(Input_PS!J$33=\"No\",ISBLANK(Input_PS!J16)),\"\",Input_PS!J16*J$27)","v":""},{"$f":"IF(OR(Input_PS!K$33=\"No\",ISBLANK(Input_PS!K16)),\"\",Input_PS!K16*K$27)","v":""},{"$f":"IF(OR(Input_PS!L$33=\"No\",ISBLANK(Input_PS!L16)),\"\",Input_PS!L16*L$27)","v":""},{"$f":"IF(OR(Input_PS!M$33=\"No\",ISBLANK(Input_PS!M16)),\"\",Input_PS!M16*M$27)","v":""},{"$f":"IF(OR(Input_PS!N$33=\"No\",ISBLANK(Input_PS!N16)),\"\",Input_PS!N16*N$27)","v":""},{"$f":"IF(ISNA(VLOOKUP(B16,Database_Tables!$I$1587:$J$1626,2,FALSE)),FALSE,TRUE)","v":false},null,{"$f":"ISBLANK(B16)","v":false}]
[null,{"$f":"IF(ISBLANK(Input_PS!B17),,Input_PS!B17)","v":0},{"$f":"IF(OR(Input_PS!C$33=\"No\",ISBLANK(Input_PS!C17)),\"\",Input_PS!C17*C$27)","v":""},{"$f":"IF(OR(Input_PS!D$33=\"No\",ISBLANK(Input_PS!D17)),\"\",Input_PS!D17*D$27)","v":""},{"$f":"IF(OR(Input_PS!E$33=\"No\",ISBLANK(Input_PS!E17)),\"\",Input_PS!E17*E$27)","v":""},{"$f":"IF(OR(Input_PS!F$33=\"No\",ISBLANK(Input_PS!F17)),\"\",Input_PS!F17*F$27)","v":""},{"$f":"IF(OR(Input_PS!G$33=\"No\",ISBLANK(Input_PS!G17)),\"\",Input_PS!G17*G$27)","v":""},{"$f":"IF(OR(Input_PS!H$33=\"No\",ISBLANK(Input_PS!H17)),\"\",Input_PS!H17*H$27)","v":""},{"$f":"IF(OR(Input_PS!I$33=\"No\",ISBLANK(Input_PS!I17)),\"\",Input_PS!I17*I$27)","v":""},{"$f":"IF(OR(Input_PS!J$33=\"No\",ISBLANK(Input_PS!J17)),\"\",Input_PS!J17*J$27)","v":""},{"$f":"IF(OR(Input_PS!K$33=\"No\",ISBLANK(Input_PS!K17)),\"\",Input_PS!K17*K$27)","v":""},{"$f":"IF(OR(Input_PS!L$33=\"No\",ISBLANK(Input_PS!L17)),\"\",Input_PS!L17*L$27)","v":""},{"$f":"IF(OR(Input_PS!M$33=\"No\",ISBLANK(Input_PS!M17)),\"\",Input_PS!M17*M$27)","v":""},{"$f":"IF(OR(Input_PS!N$33=\"No\",ISBLANK(Input_PS!N17)),\"\",Input_PS!N17*N$27)","v":""},{"$f":"IF(ISNA(VLOOKUP(B17,Database_Tables!$I$1587:$J$1626,2,FALSE)),FALSE,TRUE)","v":false},null,{"$f":"ISBLANK(B17)","v":false}]
[null,{"$f":"IF(ISBLANK(Input_PS!B18),,Input_PS!B18)","v":0},{"$f":"IF(OR(Input_PS!C$33=\"No\",ISBLANK(Input_PS!C18)),\"\",Input_PS!C18*C$27)","v":""},{"$f":"IF(OR(Input_PS!D$33=\"No\",ISBLANK(Input_PS!D18)),\"\",Input_PS!D18*D$27)","v":""},{"$f":"IF(OR(Input_PS!E$33=\"No\",ISBLANK(Input_PS!E18)),\"\",Input_PS!E18*E$27)","v":""},{"$f":"IF(OR(Input_PS!F$33=\"No\",ISBLANK(Input_PS!F18)),\"\",Input_PS!F18*F$27)","v":""},{"$f":"IF(OR(Input_PS!G$33=\"No\",ISBLANK(Input_PS!G18)),\"\",Input_PS!G18*G$27)","v":""},{"$f":"IF(OR(Input_PS!H$33=\"No\",ISBLANK(Input_PS!H18)),\"\",Input_PS!H18*H$27)","v":""},{"$f":"IF(OR(Input_PS!I$33=\"No\",ISBLANK(Input_PS!I18)),\"\",Input_PS!I18*I$27)","v":""},{"$f":"IF(OR(Input_PS!J$33=\"No\",ISBLANK(Input_PS!J18)),\"\",Input_PS!J18*J$27)","v":""},{"$f":"IF(OR(Input_PS!K$33=\"No\",ISBLANK(Input_PS!K18)),\"\",Input_PS!K18*K$27)","v":""},{"$f":"IF(OR(Input_PS!L$33=\"No\",ISBLANK(Input_PS!L18)),\"\",Input_PS!L18*L$27)","v":""},{"$f":"IF(OR(Input_PS!M$33=\"No\",ISBLANK(Input_PS!M18)),\"\",Input_PS!M18*M$27)","v":""},{"$f":"IF(OR(Input_PS!N$33=\"No\",ISBLANK(Input_PS!N18)),\"\",Input_PS!N18*N$27)","v":""},{"$f":"IF(ISNA(VLOOKUP(B18,Database_Tables!$I$1587:$J$1626,2,FALSE)),FALSE,TRUE)","v":false},null,false]
[null,{"$f":"IF(ISBLANK(Input_PS!B19),,Input_PS!B19)","v":0},{"$f":"IF(OR(Input_PS!C$33=\"No\",ISBLANK(Input_PS!C19)),\"\",Input_PS!C19*C$27)","v":""},{"$f":"IF(OR(Input_PS!D$33=\"No\",ISBLANK(Input_PS!D19)),\"\",Input_PS!D19*D$27)","v":""},{"$f":"IF(OR(Input_PS!E$33=\"No\",ISBLANK(Input_PS!E19)),\"\",Input_PS!E19*E$27)","v":""},{"$f":"IF(OR(Input_PS!F$33=\"No\",ISBLANK(Input_PS!F19)),\"\",Input_PS!F19*F$27)","v":""},{"$f":"IF(OR(Input_PS!G$33=\"No\",ISBLANK(Input_PS!G19)),\"\",Input_PS!G19*G$27)","v":""},{"$f":"IF(OR(Input_PS!H$33=\"No\",ISBLANK(Input_PS!H19)),\"\",Input_PS!H19*H$27)","v":""},{"$f":"IF(OR(Input_PS!I$33=\"No\",ISBLANK(Input_PS!I19)),\"\",Input_PS!I19*I$27)","v":""},{"$f":"IF(OR(Input_PS!J$33=\"No\",ISBLANK(Input_PS!J19)),\"\",Input_PS!J19*J$27)","v":""},{"$f":"IF(OR(Input_PS!K$33=\"No\",ISBLANK(Input_PS!K19)),\"\",Input_PS!K19*K$27)","v":""},{"$f":"IF(OR(Input_PS!L$33=\"No\",ISBLANK(Input_PS!L19)),\"\",Input_PS!L19*L$27)","v":""},{"$f":"IF(OR(Input_PS!M$33=\"No\",ISBLANK(Input_PS!M19)),\"\",Input_PS!M19*M$27)","v":""},{"$f":"IF(OR(Input_PS!N$33=\"No\",ISBLANK(Input_PS!N19)),\"\",Input_PS!N19*N$27)","v":""},{"$f":"IF(ISNA(VLOOKUP(B19,Database_Tables!$I$1587:$J$1626,2,FALSE)),FALSE,TRUE)","v":false},null,false]
[null,{"$f":"IF(ISBLANK(Input_PS!B20),,Input_PS!B20)","v":0},{"$f":"IF(OR(Input_PS!C$33=\"No\",ISBLANK(Input_PS!C20)),\"\",Input_PS!C20*C$27)","v":""},{"$f":"IF(OR(Input_PS!D$33=\"No\",ISBLANK(Input_PS!D20)),\"\",Input_PS!D20*D$27)","v":""},{"$f":"IF(OR(Input_PS!E$33=\"No\",ISBLANK(Input_PS!E20)),\"\",Input_PS!E20*E$27)","v":""},{"$f":"IF(OR(Input_PS!F$33=\"No\",ISBLANK(Input_PS!F20)),\"\",Input_PS!F20*F$27)","v":""},{"$f":"IF(OR(Input_PS!G$33=\"No\",ISBLANK(Input_PS!G20)),\"\",Input_PS!G20*G$27)","v":""},{"$f":"IF(OR(Input_PS!H$33=\"No\",ISBLANK(Input_PS!H20)),\"\",Input_PS!H20*H$27)","v":""},{"$f":"IF(OR(Input_PS!I$33=\"No\",ISBLANK(Input_PS!I20)),\"\",Input_PS!I20*I$27)","v":""},{"$f":"IF(OR(Input_PS!J$33=\"No\",ISBLANK(Input_PS!J20)),\"\",Input_PS!J20*J$27)","v":""},{"$f":"IF(OR(Input_PS!K$33=\"No\",ISBLANK(Input_PS!K20)),\"\",Input_PS!K20*K$27)","v":""},{"$f":"IF(OR(Input_PS!L$33=\"No\",ISBLANK(Input_PS!L20)),\"\",Input_PS!L20*L$27)","v":""},{"$f":"IF(OR(Input_PS!M$33=\"No\",ISBLANK(Input_PS!M20)),\"\",Input_PS!M20*M$27)","v":""},{"$f":"IF(OR(Input_PS!N$33=\"No\",ISBLANK(Input_PS!N20)),\"\",Input_PS!N20*N$27)","v":""},{"$f":"IF(ISNA(VLOOKUP(B20,Database_Tables!$I$1587:$J$1626,2,FALSE)),FALSE,TRUE)","v":false},null,false]
[null,{"$f":"IF(ISBLANK(Input_PS!B21),,Input_PS!B21)","v":0},{"$f":"IF(OR(Input_PS!C$33=\"No\",ISBLANK(Input_PS!C21)),\"\",Input_PS!C21*C$27)","v":""},{"$f":"IF(OR(Input_PS!D$33=\"No\",ISBLANK(Input_PS!D21)),\"\",Input_PS!D21*D$27)","v":""},{"$f":"IF(OR(Input_PS!E$33=\"No\",ISBLANK(Input_PS!E21)),\"\",Input_PS!E21*E$27)","v":""},{"$f":"IF(OR(Input_PS!F$33=\"No\",ISBLANK(Input_PS!F21)),\"\",Input_PS!F21*F$27)","v":""},{"$f":"IF(OR(Input_PS!G$33=\"No\",ISBLANK(Input_PS!G21)),\"\",Input_PS!G21*G$27)","v":""},{"$f":"IF(OR(Input_PS!H$33=\"No\",ISBLANK(Input_PS!H21)),\"\",Input_PS!H21*H$27)","v":""},{"$f":"IF(OR(Input_PS!I$33=\"No\",ISBLANK(Input_PS!I21)),\"\",Input_PS!I21*I$27)","v":""},{"$f":"IF(OR(Input_PS!J$33=\"No\",ISBLANK(Input_PS!J21)),\"\",Input_PS!J21*J$27)","v":""},{"$f":"IF(OR(Input_PS!K$33=\"No\",ISBLANK(Input_PS!K21)),\"\",Input_PS!K21*K$27)","v":""},{"$f":"IF(OR(Input_PS!L$33=\"No\",ISBLANK(Input_PS!L21)),\"\",Input_PS!L21*L$27)","v":""},{"$f":"IF(OR(Input_PS!M$33=\"No\",ISBLANK(Input_PS!M21)),\"\",Input_PS!M21*M$27)","v":""},{"$f":"IF(OR(Input_PS!N$33=\"No\",ISBLANK(Input_PS!N21)),\"\",Input_PS!N21*N$27)","v":""},{"$f":"IF(ISNA(VLOOKUP(B21,Database_Tables!$I$1587:$J$1626,2,FALSE)),FALSE,TRUE)","v":false},null,false]
[null,{"$f":"IF(ISBLANK(Input_PS!B22),,Input_PS!B22)","v":0},{"$f":"IF(OR(Input_PS!C$33=\"No\",ISBLANK(Input_PS!C22)),\"\",Input_PS!C22*C$27)","v":""},{"$f":"IF(OR(Input_PS!D$33=\"No\",ISBLANK(Input_PS!D22)),\"\",Input_PS!D22*D$27)","v":""},{"$f":"IF(OR(Input_PS!E$33=\"No\",ISBLANK(Input_PS!E22)),\"\",Input_PS!E22*E$27)","v":""},{"$f":"IF(OR(Input_PS!F$33=\"No\",ISBLANK(Input_PS!F22)),\"\",Input_PS!F22*F$27)","v":""},{"$f":"IF(OR(Input_PS!G$33=\"No\",ISBLANK(Input_PS!G22)),\"\",Input_PS!G22*G$27)","v":""},{"$f":"IF(OR(Input_PS!H$33=\"No\",ISBLANK(Input_PS!H22)),\"\",Input_PS!H22*H$27)","v":""},{"$f":"IF(OR(Input_PS!I$33=\"No\",ISBLANK(Input_PS!I22)),\"\",Input_PS!I22*I$27)","v":""},{"$f":"IF(OR(Input_PS!J$33=\"No\",ISBLANK(Input_PS!J22)),\"\",Input_PS!J22*J$27)","v":""},{"$f":"IF(OR(Input_PS!K$33=\"No\",ISBLANK(Input_PS!K22)),\"\",Input_PS!K22*K$27)","v":""},{"$f":"IF(OR(Input_PS!L$33=\"No\",ISBLANK(Input_PS!L22)),\"\",Input_PS!L22*L$27)","v":""},{"$f":"IF(OR(Input_PS!M$33=\"No\",ISBLANK(Input_PS!M22)),\"\",Input_PS!M22*M$27)","v":""},{"$f":"IF(OR(Input_PS!N$33=\"No\",ISBLANK(Input_PS!N22)),\"\",Input_PS!N22*N$27)","v":""},{"$f":"IF(ISNA(VLOOKUP(B22,Database_Tables!$I$1587:$J$1626,2,FALSE)),FALSE,TRUE)","v":false},null,false]
[null,{"$f":"IF(ISBLANK(Input_PS!B23),,Input_PS!B23)","v":0},{"$f":"IF(OR(Input_PS!C$33=\"No\",ISBLANK(Input_PS!C23)),\"\",Input_PS!C23*C$27)","v":""},{"$f":"IF(OR(Input_PS!D$33=\"No\",ISBLANK(Input_PS!D23)),\"\",Input_PS!D23*D$27)","v":""},{"$f":"IF(OR(Input_PS!E$33=\"No\",ISBLANK(Input_PS!E23)),\"\",Input_PS!E23*E$27)","v":""},{"$f":"IF(OR(Input_PS!F$33=\"No\",ISBLANK(Input_PS!F23)),\"\",Input_PS!F23*F$27)","v":""},{"$f":"IF(OR(Input_PS!G$33=\"No\",ISBLANK(Input_PS!G23)),\"\",Input_PS!G23*G$27)","v":""},{"$f":"IF(OR(Input_PS!H$33=\"No\",ISBLANK(Input_PS!H23)),\"\",Input_PS!H23*H$27)","v":""},{"$f":"IF(OR(Input_PS!I$33=\"No\",ISBLANK(Input_PS!I23)),\"\",Input_PS!I23*I$27)","v":""},{"$f":"IF(OR(Input_PS!J$33=\"No\",ISBLANK(Input_PS!J23)),\"\",Input_PS!J23*J$27)","v":""},{"$f":"IF(OR(Input_PS!K$33=\"No\",ISBLANK(Input_PS!K23)),\"\",Input_PS!K23*K$27)","v":""},{"$f":"IF(OR(Input_PS!L$33=\"No\",ISBLANK(Input_PS!L23)),\"\",Input_PS!L23*L$27)","v":""},{"$f":"IF(OR(Input_PS!M$33=\"No\",ISBLANK(Input_PS!M23)),\"\",Input_PS!M23*M$27)","v":""},{"$f":"IF(OR(Input_PS!N$33=\"No\",ISBLANK(Input_PS!N23)),\"\",Input_PS!N23*N$27)","v":""},{"$f":"IF(ISNA(VLOOKUP(B23,Database_Tables!$I$1587:$J$1626,2,FALSE)),FALSE,TRUE)","v":false},null,false]
[null,{"$f":"IF(ISBLANK(Input_PS!B24),,Input_PS!B24)","v":0},{"$f":"IF(OR(Input_PS!C$33=\"No\",ISBLANK(Input_PS!C24)),\"\",Input_PS!C24*C$27)","v":""},{"$f":"IF(OR(Input_PS!D$33=\"No\",ISBLANK(Input_PS!D24)),\"\",Input_PS!D24*D$27)","v":""},{"$f":"IF(OR(Input_PS!E$33=\"No\",ISBLANK(Input_PS!E24)),\"\",Input_PS!E24*E$27)","v":""},{"$f":"IF(OR(Input_PS!F$33=\"No\",ISBLANK(Input_PS!F24)),\"\",Input_PS!F24*F$27)","v":""},{"$f":"IF(OR(Input_PS!G$33=\"No\",ISBLANK(Input_PS!G24)),\"\",Input_PS!G24*G$27)","v":""},{"$f":"IF(OR(Input_PS!H$33=\"No\",ISBLANK(Input_PS!H24)),\"\",Input_PS!H24*H$27)","v":""},{"$f":"IF(OR(Input_PS!I$33=\"No\",ISBLANK(Input_PS!I24)),\"\",Input_PS!I24*I$27)","v":""},{"$f":"IF(OR(Input_PS!J$33=\"No\",ISBLANK(Input_PS!J24)),\"\",Input_PS!J24*J$27)","v":""},{"$f":"IF(OR(Input_PS!K$33=\"No\",ISBLANK(Input_PS!K24)),\"\",Input_PS!K24*K$27)","v":""},{"$f":"IF(OR(Input_PS!L$33=\"No\",ISBLANK(Input_PS!L24)),\"\",Input_PS!L24*L$27)","v":""},{"$f":"IF(OR(Input_PS!M$33=\"No\",ISBLANK(Input_PS!M24)),\"\",Input_PS!M24*M$27)","v":""},{"$f":"IF(OR(Input_PS!N$33=\"No\",ISBLANK(Input_PS!N24)),\"\",Input_PS!N24*N$27)","v":""},{"$f":"IF(ISNA(VLOOKUP(B24,Database_Tables!$I$1587:$J$1626,2,FALSE)),FALSE,TRUE)","v":false},null,false]
[null,{"$f":"IF(ISBLANK(Input_PS!B25),,Input_PS!B25)","v":0},{"$f":"IF(OR(Input_PS!C$33=\"No\",ISBLANK(Input_PS!C25)),\"\",Input_PS!C25*C$27)","v":""},{"$f":"IF(OR(Input_PS!D$33=\"No\",ISBLANK(Input_PS!D25)),\"\",Input_PS!D25*D$27)","v":""},{"$f":"IF(OR(Input_PS!E$33=\"No\",ISBLANK(Input_PS!E25)),\"\",Input_PS!E25*E$27)","v":""},{"$f":"IF(OR(Input_PS!F$33=\"No\",ISBLANK(Input_PS!F25)),\"\",Input_PS!F25*F$27)","v":""},{"$f":"IF(OR(Input_PS!G$33=\"No\",ISBLANK(Input_PS!G25)),\"\",Input_PS!G25*G$27)","v":""},{"$f":"IF(OR(Input_PS!H$33=\"No\",ISBLANK(Input_PS!H25)),\"\",Input_PS!H25*H$27)","v":""},{"$f":"IF(OR(Input_PS!I$33=\"No\",ISBLANK(Input_PS!I25)),\"\",Input_PS!I25*I$27)","v":""},{"$f":"IF(OR(Input_PS!J$33=\"No\",ISBLANK(Input_PS!J25)),\"\",Input_PS!J25*J$27)","v":""},{"$f":"IF(OR(Input_PS!K$33=\"No\",ISBLANK(Input_PS!K25)),\"\",Input_PS!K25*K$27)","v":""},{"$f":"IF(OR(Input_PS!L$33=\"No\",ISBLANK(Input_PS!L25)),\"\",Input_PS!L25*L$27)","v":""},{"$f":"IF(OR(Input_PS!M$33=\"No\",ISBLANK(Input_PS!M25)),\"\",Input_PS!M25*M$27)","v":""},{"$f":"IF(OR(Input_PS!N$33=\"No\",ISBLANK(Input_PS!N25)),\"\",Input_PS!N25*N$27)","v":""},{"$f":"IF(ISNA(VLOOKUP(B25,Database_Tables!$I$1587:$J$1626,2,FALSE)),FALSE,TRUE)","v":false},null,false]
[null,"Energy not accounted for in a practice standard",{"$f":"Input_PS!C31","v":0},{"$f":"Input_PS!D31","v":0},{"$f":"Input_PS!E31","v":0},{"$f":"Input_PS!F31","v":0},{"$f":"Input_PS!G31","v":0},{"$f":"Input_PS!H31","v":0},{"$f":"Input_PS!I31","v":0},{"$f":"Input_PS!J31","v":0},{"$f":"Input_PS!K31","v":0},{"$f":"Input_PS!L31","v":0},{"$f":"Input_PS!M31","v":0},{"$f":"Input_PS!N31","v":0}]
[null,"Energy Change [MMBTU]",{"$f":"Input_PS!C32","v":0},{"$f":"Input_PS!D32","v":0},{"$f":"Input_PS!E32","v":0},{"$f":"Input_PS!F32","v":0},{"$f":"Input_PS!G32","v":0},{"$f":"Input_PS!H32","v":0},{"$f":"Input_PS!I32","v":0},{"$f":"Input_PS!J32","v":0},{"$f":"Input_PS!K32","v":0},{"$f":"Input_PS!L32","v":0},{"$f":"Input_PS!M32","v":0},{"$f":"Input_PS!N32","v":0}]
[]
[]
[]
[]
[]
[]
[]
[]
[]
[]
[]
[]
[]
[]
[null,null,null,"","","","","","",""]
[null,null,null,"","","","","","",""]
[null,null,null,"","","","","","",""]
[null,null,null,"","","","","","",""]
[null,null,null,"","","","","","",""]