{"text_format":"1","workbook":"xlsx","n_sheets":10,"sheets":["Calculator","SeedingPlan_CUST","Grasses","ForbsLegumes","Instructions","Counties","comp_temp","mixcheck","modifications","border"],"not_rendered":{"charts":0,"images":21,"macros":1,"external_links":0,"defined_names":70,"comments":2,"pivot_tables":0},"unopened":[],"bounds":{"document_bytes":16777216,"sheet_cells":100000,"rows_first":2000,"rows_last":500,"rows_between":2000,"halvings":0,"cell_chars":16384,"cell_head_chars":4096},"cells_cut":0,"cells_raw":0,"read":"whole","date_system":"1900"}

{"sheet":"Calculator","index":0,"n_rows":156,"n_cols":44,"rows_kept":156,"cut":false,"hidden":false,"merged":[[82,7,83,7],[116,14,117,14],[142,8,143,8],[92,14,93,14],[116,7,117,7],[86,7,87,7],[110,14,111,14],[126,7,127,7],[124,7,125,7],[122,7,123,7],[120,7,121,7],[118,7,119,7],[155,9,155,11],[122,14,123,14],[120,14,121,14],[132,7,133,7],[130,7,131,7],[128,7,129,7],[132,14,133,14],[130,14,131,14],[128,14,129,14],[126,14,127,14],[8,4,8,7],[10,6,10,7],[9,4,9,5],[60,5,61,5],[60,7,61,7],[60,8,61,8],[54,6,55,6],[54,7,55,7],[60,6,61,6],[177,27,179,27],[177,28,179,28],[163,23,169,23],[140,14,141,14],[138,14,139,14],[136,14,137,14],[134,14,135,14],[163,24,169,24],[163,25,169,25],[163,27,166,27],[163,28,166,28],[164,8,168,8],[147,9,152,9],[177,29,179,29],[170,23,172,23],[170,24,172,24],[170,25,172,25],[170,27,172,27],[170,28,172,28],[170,29,172,29],[173,23,176,23],[173,24,176,24],[173,25,176,25],[173,27,176,27],[173,28,176,28],[173,29,176,29],[163,29,166,29],[167,27,169,27],[167,28,169,28],[167,29,169,29],[153,27,157,27],[153,28,157,28],[153,29,157,29],[177,24,179,24],[177,25,179,25],[12,0,13,0],[12,15,13,15],[12,9,13,9],[12,16,13,16],[12,4,13,4],[12,5,13,5],[12,6,13,6],[12,11,13,11],[12,10,13,10],[12,7,13,7],[12,8,13,8],[12,12,13,12],[12,13,13,13],[12,14,13,14],[164,7,168,7],[157,4,158,4],[157,5,158,5],[157,7,158,7],[60,4,61,4],[157,8,158,8],[157,9,158,9],[64,7,65,7],[66,7,67,7],[102,7,103,7],[100,7,101,7],[98,7,99,7],[96,7,97,7],[94,7,95,7],[134,7,135,7],[88,7,89,7],[62,7,63,7],[68,7,69,7],[108,7,109,7],[110,7,111,7],[84,7,85,7],[114,7,115,7],[112,7,113,7],[136,7,137,7],[157,1,158,1],[60,10,61,10],[106,14,107,14],[104,14,105,14],[80,7,81,7],[78,7,79,7],[76,7,77,7],[74,7,75,7],[92,7,93,7],[90,7,91,7],[104,7,105,7],[106,7,107,7],[90,14,91,14],[88,14,89,14],[86,14,87,14],[84,14,85,14],[82,14,83,14],[108,14,109,14],[124,14,125,14],[149,1,152,1],[147,10,148,10],[150,10,152,10],[118,14,119,14],[157,3,158,3],[60,11,61,11],[60,13,61,13],[140,7,141,7],[138,7,139,7],[80,14,81,14],[72,7,73,7],[70,7,71,7],[64,14,65,14],[66,14,67,14],[78,14,79,14],[76,14,77,14],[74,14,75,14],[72,14,73,14],[70,14,71,14],[68,14,69,14],[102,14,103,14],[100,14,101,14],[98,14,99,14],[96,14,97,14],[94,14,95,14],[114,14,115,14],[62,14,63,14],[60,12,61,12],[112,14,113,14],[60,33,60,36],[60,43,61,43],[2,1,2,2],[0,45,2,50],[0,52,2,57],[3,1,3,2],[9,6,9,7],[2,13,2,17],[7,1,7,2],[60,41,61,41],[60,42,61,42],[3,45,7,50],[10,4,10,5],[3,4,3,5],[60,24,60,26],[6,8,7,8],[11,31,11,32],[12,18,13,18],[12,23,12,24],[12,19,12,20],[12,21,12,22],[60,31,60,32],[12,30,13,30],[60,16,61,16],[12,26,12,27],[12,28,12,29],[60,22,61,22],[60,21,61,21],[60,20,61,20],[60,14,61,14],[60,17,61,17],[60,29,60,30],[60,19,61,19],[60,18,61,18]]}
[null,"LANDOWNER:",null,null,null,"TRACT #",null,"Design by:",null,"Checked by:",null,null,null,null,null,null,null,null,null,null,null,null,null,null,"FSG GROUPS","NRCS standard","hide/unhide status"]
[1,"County:",null,null,"seeds / ft2 PLS","FIELD #",null,"Date:",null,"Check Date:",null,null,null,null,null,null,null,null,null,null,null,null,null,null,0,0,"visible"]
[null,"      NRCS STANDARD",null,null,null,"ACRES",null,null,null,null,null,null,null," Hot Links to Standards/Tech Notes/Job Sheets"]
[0,"CONSERVATION MIXES",null,null,"Rate Specification/Acre"]
[0]
[0]
[null,null,"   Pollinator?",null,null,null,null,null,"Enter Unit Cost for:"]
[0,"PASTURE MIXES",null,null,null,null,null,null,null,null,null,null,{"$f":"COUNT(R15:R54)*2","v":0}]
[null,null,"PREVALENT FSG ",null,"Common Name Lookup",null,null,null,null,null,null,null,{"$f":"COUNT(X63:X141)*2","v":0}]
[0,null,null,2,"Select Scientific \nName            "]
[null,null,null,null,"Common Name =",null,{"$f":"IF(G10=\"\",\"\",VLOOKUP(G10,Counties!AA2:AB153,2))","v":""}]
[null,"CHOOSE YOUR GRASSES"]
[null,"Common Name","Scientific Name",null,"Lbs / acre PLS","Seeds/ft2/ac\nPLS","Blooming Period","Cost ($/lb)","Growth Form","Moisture Regime","% of Mix","Cost ($/ac)","# Seeds / ft2 @ 1 lb/ac","Forage Productivity","Pure Stand Rate","Fertility Req'mnts","Retardance Capacity",null,"sod  forming","LBS/ACRE",null,"SEEDS/SF",null,"count in mix",null,null,"INTRO?",null,"NATIVE?",null,"species % of mix"]
[null,null,"Functional Group","Equivalent rate below",null,null,null,null,null,null,null,null,null,null,null,null,null,null,null,"I","N","I","N","Intro","N",null,null,null,null,null,null,">20% of mix"]
[null,null,{"$f":"IF($B15<>\"\",VLOOKUP($B15,Grass_Table,3),\"\")","v":""},null,null,null,{"$f":"IF($B15<>\"\",VLOOKUP($B15,Grass_Table,8),\"\")","v":""},{"$f":"IF(H16=\"\",IF($B15<>\"\",VLOOKUP($B15,Grass_Table,4),\"\"),H16)","v":""},{"$f":"IF($B15<>\"\",VLOOKUP($B15,Grass_Table,9),\"\")","v":""},{"$f":"IF($B15<>\"\",VLOOKUP($B15,Grass_Table,15),\"\")","v":""},{"$f":"IF(D16>0,D16,0)","v":""},{"$f":"IF(B15=\"\",\"\",SUM(E15:E16)*H15)","v":""},{"$f":"IF($B15<>\"\",VLOOKUP($B15,Grass_Table,6),\"\")","v":""},{"$f":"IF($B15<>\"\",VLOOKUP($B15,Grass_Table,13),\"\")","v":""},{"$f":"IF($B15<>\"\",VLOOKUP($B15,Grass_Table,42),\"\")","v":""},{"$f":"IF($B15<>\"\",VLOOKUP($B15,Grass_Table,14),\"\")","v":""},{"$f":"IF($B15<>\"\",VLOOKUP($B15,Grass_Table,12),\"\")","v":""},{"$f":"IF(B15=\"\",\"\",1)","v":""},{"$f":"IF(I15=\"sod-forming\",SUM(F15:F16),\"\")","v":""},{"$f":"IF($B15=\"\",\"\",IF(AB15=1,SUM($E15:$E16),\"\"))","v":""},{"$f":"IF($B15=\"\",\"\",IF(AD15=1,SUM($E15:$E16),\"\"))","v":""},{"$f":"IF($B15=\"\",\"\",IF(AB15=1,SUM($F15:$F16),\"\"))","v":""},{"$f":"IF($B15=\"\",\"\",IF(AD15=1,SUM($F15:$F16),\"\"))","v":""},{"$f":"IF($B15=\"\",\"\",IF(AB15=1,1,\"\"))","v":""},{"$f":"IF($B15=\"\",\"\",IF(AD15=1,1,\"\"))","v":""},"1",{"$f":"IF($B15<>\"\",VLOOKUP($B15,Grass_Table,23),\"\")","v":""},{"$f":"IF(AA15=\"X\",1,\"\")","v":""},{"$f":"IF($B15<>\"\",VLOOKUP($B15,Grass_Table,24),\"\")","v":""},{"$f":"IF(AC15=\"X\",1,\"\")","v":""},{"$f":"IF(B15=\"\",0,SUM(F15:F16)/$F$155)","v":0},{"$f":"IF(AE15>0.2,1,\"\")","v":""}]
[null,null,{"$f":"IF($B15<>\"\",VLOOKUP($B15,Grass_Table,2),\"\")","v":""},{"$f":"IF(E15=\"\",IF(F15=\"\",\"\",F15/$F$155),F16/$F$155)","v":""},{"$f":"IF(D15=\"\",IF(F15=\"\",\"\",(F15/M15)))","v":""},{"$f":"IF(D15=\"\",IF(E15=\"\",\"\",E15*M15),E16*M15)","v":""},null,null,null,null,null,null,null,null,null,null,null,{"$f":"IF(B16=\"\",\"\",1)","v":""},{"$f":"IF(I16=\"sod-forming\",SUM(F16:F17),\"\")","v":""},{"$f":"IF($B16=\"\",\"\",IF(AB16=1,SUM($E16:$E17),\"\"))","v":""},{"$f":"IF($B16=\"\",\"\",IF(AD16=1,SUM($E16:$E17),\"\"))","v":""},{"$f":"IF($B16=\"\",\"\",IF(AB16=1,SUM($F16:$F17),\"\"))","v":""},{"$f":"IF($B16=\"\",\"\",IF(AD16=1,SUM($F16:$F17),\"\"))","v":""},{"$f":"IF($B16=\"\",\"\",IF(AB16=1,1,\"\"))","v":""},{"$f":"IF($B16=\"\",\"\",IF(AD16=1,1,\"\"))","v":""},null,{"$f":"IF($B16<>\"\",VLOOKUP($B16,Grass_Table,23),\"\")","v":""},{"$f":"IF(AA16=\"X\",1,\"\")","v":""},"",{"$f":"IF(AC16=\"X\",1,\"\")","v":""}]
[null,null,{"$f":"IF($B17<>\"\",VLOOKUP($B17,Grass_Table,3),\"\")","v":""},null,null,null,{"$f":"IF($B17<>\"\",VLOOKUP($B17,Grass_Table,8),\"\")","v":""},{"$f":"IF(H18=\"\",IF($B17<>\"\",VLOOKUP($B17,Grass_Table,4),\"\"),H18)","v":""},{"$f":"IF($B17<>\"\",VLOOKUP($B17,Grass_Table,9),\"\")","v":""},{"$f":"IF($B17<>\"\",VLOOKUP($B17,Grass_Table,15),\"\")","v":""},{"$f":"IF(D18>0,D18,0)","v":""},{"$f":"IF(B17=\"\",\"\",SUM(E17:E18)*H17)","v":""},{"$f":"IF($B17<>\"\",VLOOKUP($B17,Grass_Table,6),\"\")","v":""},{"$f":"IF($B17<>\"\",VLOOKUP($B17,Grass_Table,13),\"\")","v":""},{"$f":"IF($B17<>\"\",VLOOKUP($B17,Grass_Table,42),\"\")","v":""},{"$f":"IF($B17<>\"\",VLOOKUP($B17,Grass_Table,14),\"\")","v":""},{"$f":"IF($B17<>\"\",VLOOKUP($B17,Grass_Table,12),\"\")","v":""},"","","","","","","","","1","","","","",{"$f":"IF(B17=\"\",0,SUM(F17:F18)/$F$155)","v":0},{"$f":"IF(AE17>0.2,1,\"\")","v":""}]
[null,null,{"$f":"IF($B17<>\"\",VLOOKUP($B17,Grass_Table,2),\"\")","v":""},{"$f":"IF(E17=\"\",IF(F17=\"\",\"\",F17/$F$155),F18/$F$155)","v":""},{"$f":"IF(D17=\"\",IF(F17=\"\",\"\",(F17/M17)))","v":""},{"$f":"IF(D17=\"\",IF(E17=\"\",\"\",E17*M17),E18*M17)","v":""},null,null,null,null,null,null,null,null,null,null,null,"","","","","","","","",null,"","","",""]
[null,null,{"$f":"IF($B19<>\"\",VLOOKUP($B19,Grass_Table,3),\"\")","v":""},null,null,null,{"$f":"IF($B19<>\"\",VLOOKUP($B19,Grass_Table,8),\"\")","v":""},{"$f":"IF(H20=\"\",IF($B19<>\"\",VLOOKUP($B19,Grass_Table,4),\"\"),H20)","v":""},{"$f":"IF($B19<>\"\",VLOOKUP($B19,Grass_Table,9),\"\")","v":""},{"$f":"IF($B19<>\"\",VLOOKUP($B19,Grass_Table,15),\"\")","v":""},{"$f":"IF(D20>0,D20,0)","v":""},{"$f":"IF(B19=\"\",\"\",SUM(E19:E20)*H19)","v":""},{"$f":"IF($B19<>\"\",VLOOKUP($B19,Grass_Table,6),\"\")","v":""},{"$f":"IF($B19<>\"\",VLOOKUP($B19,Grass_Table,13),\"\")","v":""},{"$f":"IF($B19<>\"\",VLOOKUP($B19,Grass_Table,42),\"\")","v":""},{"$f":"IF($B19<>\"\",VLOOKUP($B19,Grass_Table,14),\"\")","v":""},{"$f":"IF($B19<>\"\",VLOOKUP($B19,Grass_Table,12),\"\")","v":""},"","","","","","","","","1","","","","",{"$f":"IF(B19=\"\",0,SUM(F19:F20)/$F$155)","v":0},{"$f":"IF(AE19>0.2,1,\"\")","v":""}]
[null,null,{"$f":"IF($B19<>\"\",VLOOKUP($B19,Grass_Table,2),\"\")","v":""},{"$f":"IF(E19=\"\",IF(F19=\"\",\"\",F19/$F$155),F20/$F$155)","v":""},{"$f":"IF(D19=\"\",IF(F19=\"\",\"\",(F19/M19)))","v":""},{"$f":"IF(D19=\"\",IF(E19=\"\",\"\",E19*M19),E20*M19)","v":""},null,null,null,null,null,null,null,null,null,null,null,"","","","","","","","",null,"","","",""]
[null,null,{"$f":"IF($B21<>\"\",VLOOKUP($B21,Grass_Table,3),\"\")","v":""},null,null,null,{"$f":"IF($B21<>\"\",VLOOKUP($B21,Grass_Table,8),\"\")","v":""},{"$f":"IF(H22=\"\",IF($B21<>\"\",VLOOKUP($B21,Grass_Table,4),\"\"),H22)","v":""},{"$f":"IF($B21<>\"\",VLOOKUP($B21,Grass_Table,9),\"\")","v":""},{"$f":"IF($B21<>\"\",VLOOKUP($B21,Grass_Table,15),\"\")","v":""},{"$f":"IF(D22>0,D22,0)","v":""},{"$f":"IF(B21=\"\",\"\",SUM(E21:E22)*H21)","v":""},{"$f":"IF($B21<>\"\",VLOOKUP($B21,Grass_Table,6),\"\")","v":""},{"$f":"IF($B21<>\"\",VLOOKUP($B21,Grass_Table,13),\"\")","v":""},{"$f":"IF($B21<>\"\",VLOOKUP($B21,Grass_Table,42),\"\")","v":""},{"$f":"IF($B21<>\"\",VLOOKUP($B21,Grass_Table,14),\"\")","v":""},{"$f":"IF($B21<>\"\",VLOOKUP($B21,Grass_Table,12),\"\")","v":""},"","","","","","","","","1","","","","",{"$f":"IF(B21=\"\",0,SUM(F21:F22)/$F$155)","v":0},{"$f":"IF(AE21>0.2,1,\"\")","v":""}]
[null,null,{"$f":"IF($B21<>\"\",VLOOKUP($B21,Grass_Table,2),\"\")","v":""},{"$f":"IF(E21=\"\",IF(F21=\"\",\"\",F21/$F$155),F22/$F$155)","v":""},{"$f":"IF(D21=\"\",IF(F21=\"\",\"\",(F21/M21)))","v":""},{"$f":"IF(D21=\"\",IF(E21=\"\",\"\",E21*M21),E22*M21)","v":""},null,null,null,null,null,null,null,null,null,null,null,"","","","","","","","",null,"","","",""]
[null,null,{"$f":"IF($B23<>\"\",VLOOKUP($B23,Grass_Table,3),\"\")","v":""},null,null,null,{"$f":"IF($B23<>\"\",VLOOKUP($B23,Grass_Table,8),\"\")","v":""},{"$f":"IF(H24=\"\",IF($B23<>\"\",VLOOKUP($B23,Grass_Table,4),\"\"),H24)","v":""},{"$f":"IF($B23<>\"\",VLOOKUP($B23,Grass_Table,9),\"\")","v":""},{"$f":"IF($B23<>\"\",VLOOKUP($B23,Grass_Table,15),\"\")","v":""},{"$f":"IF(D24>0,D24,0)","v":""},{"$f":"IF(B23=\"\",\"\",SUM(E23:E24)*H23)","v":""},{"$f":"IF($B23<>\"\",VLOOKUP($B23,Grass_Table,6),\"\")","v":""},{"$f":"IF($B23<>\"\",VLOOKUP($B23,Grass_Table,13),\"\")","v":""},{"$f":"IF($B23<>\"\",VLOOKUP($B23,Grass_Table,42),\"\")","v":""},{"$f":"IF($B23<>\"\",VLOOKUP($B23,Grass_Table,14),\"\")","v":""},{"$f":"IF($B23<>\"\",VLOOKUP($B23,Grass_Table,12),\"\")","v":""},"","","","","","","","","1","","","","",{"$f":"IF(B23=\"\",0,SUM(F23:F24)/$F$155)","v":0},{"$f":"IF(AE23>0.2,1,\"\")","v":""}]
[null,null,{"$f":"IF($B23<>\"\",VLOOKUP($B23,Grass_Table,2),\"\")","v":""},{"$f":"IF(E23=\"\",IF(F23=\"\",\"\",F23/$F$155),F24/$F$155)","v":""},{"$f":"IF(D23=\"\",IF(F23=\"\",\"\",(F23/M23)))","v":""},{"$f":"IF(D23=\"\",IF(E23=\"\",\"\",E23*M23),E24*M23)","v":""},null,null,null,null,null,null,null,null,null,null,null,"","","","","","","","",null,"","","",""]
[null,null,{"$f":"IF($B25<>\"\",VLOOKUP($B25,Grass_Table,3),\"\")","v":""},null,null,null,{"$f":"IF($B25<>\"\",VLOOKUP($B25,Grass_Table,8),\"\")","v":""},{"$f":"IF(H26=\"\",IF($B25<>\"\",VLOOKUP($B25,Grass_Table,4),\"\"),H26)","v":""},{"$f":"IF($B25<>\"\",VLOOKUP($B25,Grass_Table,9),\"\")","v":""},{"$f":"IF($B25<>\"\",VLOOKUP($B25,Grass_Table,15),\"\")","v":""},{"$f":"IF(D26>0,D26,0)","v":""},{"$f":"IF(B25=\"\",\"\",SUM(E25:E26)*H25)","v":""},{"$f":"IF($B25<>\"\",VLOOKUP($B25,Grass_Table,6),\"\")","v":""},{"$f":"IF($B25<>\"\",VLOOKUP($B25,Grass_Table,13),\"\")","v":""},{"$f":"IF($B25<>\"\",VLOOKUP($B25,Grass_Table,42),\"\")","v":""},{"$f":"IF($B25<>\"\",VLOOKUP($B25,Grass_Table,14),\"\")","v":""},{"$f":"IF($B25<>\"\",VLOOKUP($B25,Grass_Table,12),\"\")","v":""},"","","","","","","","","1","","","","",{"$f":"IF(B25=\"\",0,SUM(F25:F26)/$F$155)","v":0},{"$f":"IF(AE25>0.2,1,\"\")","v":""}]
[null,null,{"$f":"IF($B25<>\"\",VLOOKUP($B25,Grass_Table,2),\"\")","v":""},{"$f":"IF(E25=\"\",IF(F25=\"\",\"\",F25/$F$155),F26/$F$155)","v":""},{"$f":"IF(D25=\"\",IF(F25=\"\",\"\",(F25/M25)))","v":""},{"$f":"IF(D25=\"\",IF(E25=\"\",\"\",E25*M25),E26*M25)","v":""},null,null,null,null,null,null,null,null,null,null,null,"","","","","","","","",null,"","","",""]
[null,null,{"$f":"IF($B27<>\"\",VLOOKUP($B27,Grass_Table,3),\"\")","v":""},null,null,null,{"$f":"IF($B27<>\"\",VLOOKUP($B27,Grass_Table,8),\"\")","v":""},{"$f":"IF(H28=\"\",IF($B27<>\"\",VLOOKUP($B27,Grass_Table,4),\"\"),H28)","v":""},{"$f":"IF($B27<>\"\",VLOOKUP($B27,Grass_Table,9),\"\")","v":""},{"$f":"IF($B27<>\"\",VLOOKUP($B27,Grass_Table,15),\"\")","v":""},{"$f":"IF(D28>0,D28,0)","v":""},{"$f":"IF(B27=\"\",\"\",SUM(E27:E28)*H27)","v":""},{"$f":"IF($B27<>\"\",VLOOKUP($B27,Grass_Table,6),\"\")","v":""},{"$f":"IF($B27<>\"\",VLOOKUP($B27,Grass_Table,13),\"\")","v":""},{"$f":"IF($B27<>\"\",VLOOKUP($B27,Grass_Table,42),\"\")","v":""},{"$f":"IF($B27<>\"\",VLOOKUP($B27,Grass_Table,14),\"\")","v":""},{"$f":"IF($B27<>\"\",VLOOKUP($B27,Grass_Table,12),\"\")","v":""},"","","","","","","","","1","","","","",{"$f":"IF(B27=\"\",0,SUM(F27:F28)/$F$155)","v":0},{"$f":"IF(AE27>0.2,1,\"\")","v":""}]
[null,null,{"$f":"IF($B27<>\"\",VLOOKUP($B27,Grass_Table,2),\"\")","v":""},{"$f":"IF(E27=\"\",IF(F27=\"\",\"\",F27/$F$155),F28/$F$155)","v":""},{"$f":"IF(D27=\"\",IF(F27=\"\",\"\",(F27/M27)))","v":""},{"$f":"IF(D27=\"\",IF(E27=\"\",\"\",E27*M27),E28*M27)","v":""},null,null,null,null,null,null,null,null,null,null,null,"","","","","","","","",null,"","","",""]
[null,null,{"$f":"IF($B29<>\"\",VLOOKUP($B29,Grass_Table,3),\"\")","v":""},null,null,null,{"$f":"IF($B29<>\"\",VLOOKUP($B29,Grass_Table,8),\"\")","v":""},{"$f":"IF(H30=\"\",IF($B29<>\"\",VLOOKUP($B29,Grass_Table,4),\"\"),H30)","v":""},{"$f":"IF($B29<>\"\",VLOOKUP($B29,Grass_Table,9),\"\")","v":""},{"$f":"IF($B29<>\"\",VLOOKUP($B29,Grass_Table,15),\"\")","v":""},{"$f":"IF(D30>0,D30,0)","v":""},{"$f":"IF(B29=\"\",\"\",SUM(E29:E30)*H29)","v":""},{"$f":"IF($B29<>\"\",VLOOKUP($B29,Grass_Table,6),\"\")","v":""},{"$f":"IF($B29<>\"\",VLOOKUP($B29,Grass_Table,13),\"\")","v":""},{"$f":"IF($B29<>\"\",VLOOKUP($B29,Grass_Table,42),\"\")","v":""},{"$f":"IF($B29<>\"\",VLOOKUP($B29,Grass_Table,14),\"\")","v":""},{"$f":"IF($B29<>\"\",VLOOKUP($B29,Grass_Table,12),\"\")","v":""},"","","","","","","","","1","","","","",{"$f":"IF(B29=\"\",0,SUM(F29:F30)/$F$155)","v":0},{"$f":"IF(AE29>0.2,1,\"\")","v":""}]
[null,null,{"$f":"IF($B29<>\"\",VLOOKUP($B29,Grass_Table,2),\"\")","v":""},{"$f":"IF(E29=\"\",IF(F29=\"\",\"\",F29/$F$155),F30/$F$155)","v":""},{"$f":"IF(D29=\"\",IF(F29=\"\",\"\",(F29/M29)))","v":""},{"$f":"IF(D29=\"\",IF(E29=\"\",\"\",E29*M29),E30*M29)","v":""},null,null,null,null,null,null,null,null,null,null,null,"","","","","","","","",null,"","","",""]
[null,null,{"$f":"IF($B31<>\"\",VLOOKUP($B31,Grass_Table,3),\"\")","v":""},null,null,null,{"$f":"IF($B31<>\"\",VLOOKUP($B31,Grass_Table,8),\"\")","v":""},{"$f":"IF(H32=\"\",IF($B31<>\"\",VLOOKUP($B31,Grass_Table,4),\"\"),H32)","v":""},{"$f":"IF($B31<>\"\",VLOOKUP($B31,Grass_Table,9),\"\")","v":""},{"$f":"IF($B31<>\"\",VLOOKUP($B31,Grass_Table,15),\"\")","v":""},{"$f":"IF(D32>0,D32,0)","v":""},{"$f":"IF(B31=\"\",\"\",SUM(E31:E32)*H31)","v":""},{"$f":"IF($B31<>\"\",VLOOKUP($B31,Grass_Table,6),\"\")","v":""},{"$f":"IF($B31<>\"\",VLOOKUP($B31,Grass_Table,13),\"\")","v":""},{"$f":"IF($B31<>\"\",VLOOKUP($B31,Grass_Table,42),\"\")","v":""},{"$f":"IF($B31<>\"\",VLOOKUP($B31,Grass_Table,14),\"\")","v":""},{"$f":"IF($B31<>\"\",VLOOKUP($B31,Grass_Table,12),\"\")","v":""},"","","","","","","","","1","","","","",{"$f":"IF(B31=\"\",0,SUM(F31:F32)/$F$155)","v":0},{"$f":"IF(AE31>0.2,1,\"\")","v":""}]
[null,null,{"$f":"IF($B31<>\"\",VLOOKUP($B31,Grass_Table,2),\"\")","v":""},{"$f":"IF(E31=\"\",IF(F31=\"\",\"\",F31/$F$155),F32/$F$155)","v":""},{"$f":"IF(D31=\"\",IF(F31=\"\",\"\",(F31/M31)))","v":""},{"$f":"IF(D31=\"\",IF(E31=\"\",\"\",E31*M31),E32*M31)","v":""},null,null,null,null,null,null,null,null,null,null,null,"","","","","","","","",null,"","","",""]
[null,null,{"$f":"IF($B33<>\"\",VLOOKUP($B33,Grass_Table,3),\"\")","v":""},null,null,null,{"$f":"IF($B33<>\"\",VLOOKUP($B33,Grass_Table,8),\"\")","v":""},{"$f":"IF(H34=\"\",IF($B33<>\"\",VLOOKUP($B33,Grass_Table,4),\"\"),H34)","v":""},{"$f":"IF($B33<>\"\",VLOOKUP($B33,Grass_Table,9),\"\")","v":""},{"$f":"IF($B33<>\"\",VLOOKUP($B33,Grass_Table,15),\"\")","v":""},{"$f":"IF(D34>0,D34,0)","v":""},{"$f":"IF(B33=\"\",\"\",SUM(E33:E34)*H33)","v":""},{"$f":"IF($B33<>\"\",VLOOKUP($B33,Grass_Table,6),\"\")","v":""},{"$f":"IF($B33<>\"\",VLOOKUP($B33,Grass_Table,13),\"\")","v":""},{"$f":"IF($B33<>\"\",VLOOKUP($B33,Grass_Table,42),\"\")","v":""},{"$f":"IF($B33<>\"\",VLOOKUP($B33,Grass_Table,14),\"\")","v":""},{"$f":"IF($B33<>\"\",VLOOKUP($B33,Grass_Table,12),\"\")","v":""},"","","","","","","","","1","","","","",{"$f":"IF(B33=\"\",0,SUM(F33:F34)/$F$155)","v":0},{"$f":"IF(AE33>0.2,1,\"\")","v":""}]
[null,null,{"$f":"IF($B33<>\"\",VLOOKUP($B33,Grass_Table,2),\"\")","v":""},{"$f":"IF(E33=\"\",IF(F33=\"\",\"\",F33/$F$155),F34/$F$155)","v":""},{"$f":"IF(D33=\"\",IF(F33=\"\",\"\",(F33/M33)))","v":""},{"$f":"IF(D33=\"\",IF(E33=\"\",\"\",E33*M33),E34*M33)","v":""},null,null,null,null,null,null,null,null,null,null,null,"","","","","","","","",null,"","","",""]
[null,null,{"$f":"IF($B35<>\"\",VLOOKUP($B35,Grass_Table,3),\"\")","v":""},null,null,null,{"$f":"IF($B35<>\"\",VLOOKUP($B35,Grass_Table,8),\"\")","v":""},{"$f":"IF(H36=\"\",IF($B35<>\"\",VLOOKUP($B35,Grass_Table,4),\"\"),H36)","v":""},{"$f":"IF($B35<>\"\",VLOOKUP($B35,Grass_Table,9),\"\")","v":""},{"$f":"IF($B35<>\"\",VLOOKUP($B35,Grass_Table,15),\"\")","v":""},{"$f":"IF(D36>0,D36,0)","v":""},{"$f":"IF(B35=\"\",\"\",SUM(E35:E36)*H35)","v":""},{"$f":"IF($B35<>\"\",VLOOKUP($B35,Grass_Table,6),\"\")","v":""},{"$f":"IF($B35<>\"\",VLOOKUP($B35,Grass_Table,13),\"\")","v":""},{"$f":"IF($B35<>\"\",VLOOKUP($B35,Grass_Table,42),\"\")","v":""},{"$f":"IF($B35<>\"\",VLOOKUP($B35,Grass_Table,14),\"\")","v":""},{"$f":"IF($B35<>\"\",VLOOKUP($B35,Grass_Table,12),\"\")","v":""},"","","","","","","","","1","","","","",{"$f":"IF(B35=\"\",0,SUM(F35:F36)/$F$155)","v":0},{"$f":"IF(AE35>0.2,1,\"\")","v":""}]
[null,null,{"$f":"IF($B35<>\"\",VLOOKUP($B35,Grass_Table,2),\"\")","v":""},{"$f":"IF(E35=\"\",IF(F35=\"\",\"\",F35/$F$155),F36/$F$155)","v":""},{"$f":"IF(D35=\"\",IF(F35=\"\",\"\",(F35/M35)))","v":""},{"$f":"IF(D35=\"\",IF(E35=\"\",\"\",E35*M35),E36*M35)","v":""},null,null,null,null,null,null,null,null,null,null,null,"","","","","","","","",null,"","","",""]
[null,null,{"$f":"IF($B37<>\"\",VLOOKUP($B37,Grass_Table,3),\"\")","v":""},null,null,null,{"$f":"IF($B37<>\"\",VLOOKUP($B37,Grass_Table,8),\"\")","v":""},{"$f":"IF(H38=\"\",IF($B37<>\"\",VLOOKUP($B37,Grass_Table,4),\"\"),H38)","v":""},{"$f":"IF($B37<>\"\",VLOOKUP($B37,Grass_Table,9),\"\")","v":""},{"$f":"IF($B37<>\"\",VLOOKUP($B37,Grass_Table,15),\"\")","v":""},{"$f":"IF(D38>0,D38,0)","v":""},{"$f":"IF(B37=\"\",\"\",SUM(E37:E38)*H37)","v":""},{"$f":"IF($B37<>\"\",VLOOKUP($B37,Grass_Table,6),\"\")","v":""},{"$f":"IF($B37<>\"\",VLOOKUP($B37,Grass_Table,13),\"\")","v":""},{"$f":"IF($B37<>\"\",VLOOKUP($B37,Grass_Table,42),\"\")","v":""},{"$f":"IF($B37<>\"\",VLOOKUP($B37,Grass_Table,14),\"\")","v":""},{"$f":"IF($B37<>\"\",VLOOKUP($B37,Grass_Table,12),\"\")","v":""},"","","","","","","","","1","","","","",{"$f":"IF(B37=\"\",0,SUM(F37:F38)/$F$155)","v":0},{"$f":"IF(AE37>0.2,1,\"\")","v":""}]
[null,null,{"$f":"IF($B37<>\"\",VLOOKUP($B37,Grass_Table,2),\"\")","v":""},{"$f":"IF(E37=\"\",IF(F37=\"\",\"\",F37/$F$155),F38/$F$155)","v":""},{"$f":"IF(D37=\"\",IF(F37=\"\",\"\",(F37/M37)))","v":""},{"$f":"IF(D37=\"\",IF(E37=\"\",\"\",E37*M37),E38*M37)","v":""},null,null,null,null,null,null,null,null,null,null,null,"","","","","","","","",null,"","","",""]
[null,null,{"$f":"IF($B39<>\"\",VLOOKUP($B39,Grass_Table,3),\"\")","v":""},null,null,null,{"$f":"IF($B39<>\"\",VLOOKUP($B39,Grass_Table,8),\"\")","v":""},{"$f":"IF(H40=\"\",IF($B39<>\"\",VLOOKUP($B39,Grass_Table,4),\"\"),H40)","v":""},{"$f":"IF($B39<>\"\",VLOOKUP($B39,Grass_Table,9),\"\")","v":""},{"$f":"IF($B39<>\"\",VLOOKUP($B39,Grass_Table,15),\"\")","v":""},{"$f":"IF(D40>0,D40,0)","v":""},{"$f":"IF(B39=\"\",\"\",SUM(E39:E40)*H39)","v":""},{"$f":"IF($B39<>\"\",VLOOKUP($B39,Grass_Table,6),\"\")","v":""},{"$f":"IF($B39<>\"\",VLOOKUP($B39,Grass_Table,13),\"\")","v":""},{"$f":"IF($B39<>\"\",VLOOKUP($B39,Grass_Table,42),\"\")","v":""},{"$f":"IF($B39<>\"\",VLOOKUP($B39,Grass_Table,14),\"\")","v":""},{"$f":"IF($B39<>\"\",VLOOKUP($B39,Grass_Table,12),\"\")","v":""},"","","","","","","","","1","","","","",{"$f":"IF(B39=\"\",0,SUM(F39:F40)/$F$155)","v":0},{"$f":"IF(AE39>0.2,1,\"\")","v":""}]
[null,null,{"$f":"IF($B39<>\"\",VLOOKUP($B39,Grass_Table,2),\"\")","v":""},{"$f":"IF(E39=\"\",IF(F39=\"\",\"\",F39/$F$155),F40/$F$155)","v":""},{"$f":"IF(D39=\"\",IF(F39=\"\",\"\",(F39/M39)))","v":""},{"$f":"IF(D39=\"\",IF(E39=\"\",\"\",E39*M39),E40*M39)","v":""},null,null,null,null,null,null,null,null,null,null,null,"","","","","","","","",null,"","","",""]
[null,null,{"$f":"IF($B41<>\"\",VLOOKUP($B41,Grass_Table,3),\"\")","v":""},null,null,null,{"$f":"IF($B41<>\"\",VLOOKUP($B41,Grass_Table,8),\"\")","v":""},{"$f":"IF(H42=\"\",IF($B41<>\"\",VLOOKUP($B41,Grass_Table,4),\"\"),H42)","v":""},{"$f":"IF($B41<>\"\",VLOOKUP($B41,Grass_Table,9),\"\")","v":""},{"$f":"IF($B41<>\"\",VLOOKUP($B41,Grass_Table,15),\"\")","v":""},{"$f":"IF(D42>0,D42,0)","v":""},{"$f":"IF(B41=\"\",\"\",SUM(E41:E42)*H41)","v":""},{"$f":"IF($B41<>\"\",VLOOKUP($B41,Grass_Table,6),\"\")","v":""},{"$f":"IF($B41<>\"\",VLOOKUP($B41,Grass_Table,13),\"\")","v":""},{"$f":"IF($B41<>\"\",VLOOKUP($B41,Grass_Table,42),\"\")","v":""},{"$f":"IF($B41<>\"\",VLOOKUP($B41,Grass_Table,14),\"\")","v":""},{"$f":"IF($B41<>\"\",VLOOKUP($B41,Grass_Table,12),\"\")","v":""},"","","","","","","","","1","","","","",{"$f":"IF(B41=\"\",0,SUM(F41:F42)/$F$155)","v":0},{"$f":"IF(AE41>0.2,1,\"\")","v":""}]
[null,null,{"$f":"IF($B41<>\"\",VLOOKUP($B41,Grass_Table,2),\"\")","v":""},{"$f":"IF(E41=\"\",IF(F41=\"\",\"\",F41/$F$155),F42/$F$155)","v":""},{"$f":"IF(D41=\"\",IF(F41=\"\",\"\",(F41/M41)))","v":""},{"$f":"IF(D41=\"\",IF(E41=\"\",\"\",E41*M41),E42*M41)","v":""},null,null,null,null,null,null,null,null,null,null,null,"","","","","","","","",null,"","","",""]
[null,null,{"$f":"IF($B43<>\"\",VLOOKUP($B43,Grass_Table,3),\"\")","v":""},null,null,null,{"$f":"IF($B43<>\"\",VLOOKUP($B43,Grass_Table,8),\"\")","v":""},{"$f":"IF(H44=\"\",IF($B43<>\"\",VLOOKUP($B43,Grass_Table,4),\"\"),H44)","v":""},{"$f":"IF($B43<>\"\",VLOOKUP($B43,Grass_Table,9),\"\")","v":""},{"$f":"IF($B43<>\"\",VLOOKUP($B43,Grass_Table,15),\"\")","v":""},{"$f":"IF(D44>0,D44,0)","v":""},{"$f":"IF(B43=\"\",\"\",SUM(E43:E44)*H43)","v":""},{"$f":"IF($B43<>\"\",VLOOKUP($B43,Grass_Table,6),\"\")","v":""},{"$f":"IF($B43<>\"\",VLOOKUP($B43,Grass_Table,13),\"\")","v":""},{"$f":"IF($B43<>\"\",VLOOKUP($B43,Grass_Table,42),\"\")","v":""},{"$f":"IF($B43<>\"\",VLOOKUP($B43,Grass_Table,14),\"\")","v":""},{"$f":"IF($B43<>\"\",VLOOKUP($B43,Grass_Table,12),\"\")","v":""},"","","","","","","","","1","","","","",{"$f":"IF(B43=\"\",0,SUM(F43:F44)/$F$155)","v":0},{"$f":"IF(AE43>0.2,1,\"\")","v":""}]
[null,null,{"$f":"IF($B43<>\"\",VLOOKUP($B43,Grass_Table,2),\"\")","v":""},{"$f":"IF(E43=\"\",IF(F43=\"\",\"\",F43/$F$155),F44/$F$155)","v":""},{"$f":"IF(D43=\"\",IF(F43=\"\",\"\",(F43/M43)))","v":""},{"$f":"IF(D43=\"\",IF(E43=\"\",\"\",E43*M43),E44*M43)","v":""},null,null,null,null,null,null,null,null,null,null,null,"","","","","","","","",null,"","","",""]
[null,null,{"$f":"IF($B45<>\"\",VLOOKUP($B45,Grass_Table,3),\"\")","v":""},null,null,null,{"$f":"IF($B45<>\"\",VLOOKUP($B45,Grass_Table,8),\"\")","v":""},{"$f":"IF(H46=\"\",IF($B45<>\"\",VLOOKUP($B45,Grass_Table,4),\"\"),H46)","v":""},{"$f":"IF($B45<>\"\",VLOOKUP($B45,Grass_Table,9),\"\")","v":""},{"$f":"IF($B45<>\"\",VLOOKUP($B45,Grass_Table,15),\"\")","v":""},{"$f":"IF(D46>0,D46,0)","v":""},{"$f":"IF(B45=\"\",\"\",SUM(E45:E46)*H45)","v":""},{"$f":"IF($B45<>\"\",VLOOKUP($B45,Grass_Table,6),\"\")","v":""},{"$f":"IF($B45<>\"\",VLOOKUP($B45,Grass_Table,13),\"\")","v":""},{"$f":"IF($B45<>\"\",VLOOKUP($B45,Grass_Table,42),\"\")","v":""},{"$f":"IF($B45<>\"\",VLOOKUP($B45,Grass_Table,14),\"\")","v":""},{"$f":"IF($B45<>\"\",VLOOKUP($B45,Grass_Table,12),\"\")","v":""},"","","","","","","","","1","","","","",{"$f":"IF(B45=\"\",0,SUM(F45:F46)/$F$155)","v":0},{"$f":"IF(AE45>0.2,1,\"\")","v":""}]
[null,null,{"$f":"IF($B45<>\"\",VLOOKUP($B45,Grass_Table,2),\"\")","v":""},{"$f":"IF(E45=\"\",IF(F45=\"\",\"\",F45/$F$155),F46/$F$155)","v":""},{"$f":"IF(D45=\"\",IF(F45=\"\",\"\",(F45/M45)))","v":""},{"$f":"IF(D45=\"\",IF(E45=\"\",\"\",E45*M45),E46*M45)","v":""},null,null,null,null,null,null,null,null,null,null,null,"","","","","","","","",null,"","","",""]
[null,null,{"$f":"IF($B47<>\"\",VLOOKUP($B47,Grass_Table,3),\"\")","v":""},null,null,null,{"$f":"IF($B47<>\"\",VLOOKUP($B47,Grass_Table,8),\"\")","v":""},{"$f":"IF(H48=\"\",IF($B47<>\"\",VLOOKUP($B47,Grass_Table,4),\"\"),H48)","v":""},{"$f":"IF($B47<>\"\",VLOOKUP($B47,Grass_Table,9),\"\")","v":""},{"$f":"IF($B47<>\"\",VLOOKUP($B47,Grass_Table,15),\"\")","v":""},{"$f":"IF(D48>0,D48,0)","v":""},{"$f":"IF(B47=\"\",\"\",SUM(E47:E48)*H47)","v":""},{"$f":"IF($B47<>\"\",VLOOKUP($B47,Grass_Table,6),\"\")","v":""},{"$f":"IF($B47<>\"\",VLOOKUP($B47,Grass_Table,13),\"\")","v":""},{"$f":"IF($B47<>\"\",VLOOKUP($B47,Grass_Table,42),\"\")","v":""},{"$f":"IF($B47<>\"\",VLOOKUP($B47,Grass_Table,14),\"\")","v":""},{"$f":"IF($B47<>\"\",VLOOKUP($B47,Grass_Table,12),\"\")","v":""},"","","","","","","","","1","","","","",{"$f":"IF(B47=\"\",0,SUM(F47:F48)/$F$155)","v":0},{"$f":"IF(AE47>0.2,1,\"\")","v":""}]
[null,null,{"$f":"IF($B47<>\"\",VLOOKUP($B47,Grass_Table,2),\"\")","v":""},{"$f":"IF(E47=\"\",IF(F47=\"\",\"\",F47/$F$155),F48/$F$155)","v":""},{"$f":"IF(D47=\"\",IF(F47=\"\",\"\",(F47/M47)))","v":""},{"$f":"IF(D47=\"\",IF(E47=\"\",\"\",E47*M47),E48*M47)","v":""},null,null,null,null,null,null,null,null,null,null,null,"","","","","","","","",null,"","","",""]
[null,null,{"$f":"IF($B49<>\"\",VLOOKUP($B49,Grass_Table,3),\"\")","v":""},null,null,null,{"$f":"IF($B49<>\"\",VLOOKUP($B49,Grass_Table,8),\"\")","v":""},{"$f":"IF(H50=\"\",IF($B49<>\"\",VLOOKUP($B49,Grass_Table,4),\"\"),H50)","v":""},{"$f":"IF($B49<>\"\",VLOOKUP($B49,Grass_Table,9),\"\")","v":""},{"$f":"IF($B49<>\"\",VLOOKUP($B49,Grass_Table,15),\"\")","v":""},{"$f":"IF(D50>0,D50,0)","v":""},{"$f":"IF(B49=\"\",\"\",SUM(E49:E50)*H49)","v":""},{"$f":"IF($B49<>\"\",VLOOKUP($B49,Grass_Table,6),\"\")","v":""},{"$f":"IF($B49<>\"\",VLOOKUP($B49,Grass_Table,13),\"\")","v":""},{"$f":"IF($B49<>\"\",VLOOKUP($B49,Grass_Table,42),\"\")","v":""},{"$f":"IF($B49<>\"\",VLOOKUP($B49,Grass_Table,14),\"\")","v":""},{"$f":"IF($B49<>\"\",VLOOKUP($B49,Grass_Table,12),\"\")","v":""},"","","","","","","","","1","","","","",{"$f":"IF(B49=\"\",0,SUM(F49:F50)/$F$155)","v":0},{"$f":"IF(AE49>0.2,1,\"\")","v":""}]
[null,null,{"$f":"IF($B49<>\"\",VLOOKUP($B49,Grass_Table,2),\"\")","v":""},{"$f":"IF(E49=\"\",IF(F49=\"\",\"\",F49/$F$155),F50/$F$155)","v":""},{"$f":"IF(D49=\"\",IF(F49=\"\",\"\",(F49/M49)))","v":""},{"$f":"IF(D49=\"\",IF(E49=\"\",\"\",E49*M49),E50*M49)","v":""},null,null,null,null,null,null,null,null,null,null,null,"","","","","","","","",null,"","","",""]
[null,null,{"$f":"IF($B51<>\"\",VLOOKUP($B51,Grass_Table,3),\"\")","v":""},null,null,null,{"$f":"IF($B51<>\"\",VLOOKUP($B51,Grass_Table,8),\"\")","v":""},{"$f":"IF(H52=\"\",IF($B51<>\"\",VLOOKUP($B51,Grass_Table,4),\"\"),H52)","v":""},{"$f":"IF($B51<>\"\",VLOOKUP($B51,Grass_Table,9),\"\")","v":""},{"$f":"IF($B51<>\"\",VLOOKUP($B51,Grass_Table,15),\"\")","v":""},{"$f":"IF(D52>0,D52,0)","v":""},{"$f":"IF(B51=\"\",\"\",SUM(E51:E52)*H51)","v":""},{"$f":"IF($B51<>\"\",VLOOKUP($B51,Grass_Table,6),\"\")","v":""},{"$f":"IF($B51<>\"\",VLOOKUP($B51,Grass_Table,13),\"\")","v":""},{"$f":"IF($B51<>\"\",VLOOKUP($B51,Grass_Table,42),\"\")","v":""},{"$f":"IF($B51<>\"\",VLOOKUP($B51,Grass_Table,14),\"\")","v":""},{"$f":"IF($B51<>\"\",VLOOKUP($B51,Grass_Table,12),\"\")","v":""},"","","","","","","","","1","","","","",{"$f":"IF(B51=\"\",0,SUM(F51:F52)/$F$155)","v":0},{"$f":"IF(AE51>0.2,1,\"\")","v":""}]
[null,null,{"$f":"IF($B51<>\"\",VLOOKUP($B51,Grass_Table,2),\"\")","v":""},{"$f":"IF(E51=\"\",IF(F51=\"\",\"\",F51/$F$155),F52/$F$155)","v":""},{"$f":"IF(D51=\"\",IF(F51=\"\",\"\",(F51/M51)))","v":""},{"$f":"IF(D51=\"\",IF(E51=\"\",\"\",E51*M51),E52*M51)","v":""},null,null,null,null,null,null,null,null,null,null,null,"","","","","","","","",null,"","","",""]
[null,null,{"$f":"IF($B53<>\"\",VLOOKUP($B53,Grass_Table,3),\"\")","v":""},null,null,null,{"$f":"IF($B53<>\"\",VLOOKUP($B53,Grass_Table,8),\"\")","v":""},{"$f":"IF(H54=\"\",IF($B53<>\"\",VLOOKUP($B53,Grass_Table,4),\"\"),H54)","v":""},{"$f":"IF($B53<>\"\",VLOOKUP($B53,Grass_Table,9),\"\")","v":""},{"$f":"IF($B53<>\"\",VLOOKUP($B53,Grass_Table,15),\"\")","v":""},{"$f":"IF(D54>0,D54,0)","v":""},{"$f":"IF(B53=\"\",\"\",SUM(E53:E54)*H53)","v":""},{"$f":"IF($B53<>\"\",VLOOKUP($B53,Grass_Table,6),\"\")","v":""},{"$f":"IF($B53<>\"\",VLOOKUP($B53,Grass_Table,13),\"\")","v":""},{"$f":"IF($B53<>\"\",VLOOKUP($B53,Grass_Table,42),\"\")","v":""},{"$f":"IF($B53<>\"\",VLOOKUP($B53,Grass_Table,14),\"\")","v":""},{"$f":"IF($B53<>\"\",VLOOKUP($B53,Grass_Table,12),\"\")","v":""},"","","","","","","","","1","","","","",{"$f":"IF(B53=\"\",0,SUM(F53:F54)/$F$155)","v":0},{"$f":"IF(AE53>0.2,1,\"\")","v":""}]
[null,null,{"$f":"IF($B53<>\"\",VLOOKUP($B53,Grass_Table,2),\"\")","v":""},{"$f":"IF(E53=\"\",IF(F53=\"\",\"\",F53/$F$155),F54/$F$155)","v":""},{"$f":"IF(D53=\"\",IF(F53=\"\",\"\",(F53/M53)))","v":""},{"$f":"IF(D53=\"\",IF(E53=\"\",\"\",E53*M53),E54*M53)","v":""},null,null,null,null,null,null,null,null,null,null,null,"","","","","","","","",null,"","","",""]
[null,null,"GRASSES Total/Acre: ",{"$f":"IF(SUM(D15:D54)>1,\"> 100%\",SUM(D15:D54))","v":0},{"$f":"SUM(E15:E54)","v":0},{"$f":"SUM(F15:F54)","v":0},null,null,null,null,{"$f":"SUM(K15:K53)","v":0},{"$f":"SUM(L15:L54)","v":0},null,null,null,null,null,{"$f":"SUM(R15:R54)","v":0},0,0,0,0,0,0,0,null,null,{"$f":"SUM(AB15:AB54)","v":0},null,{"$f":"SUM(AD15:AD54)","v":0},{"$f":"SUM(AE15:AE54)","v":0}]
[]
[null,null,null,null,null,null,null,null,null,null,null,null,null,null,null,null,null,null,null,null,null,null,null,null,"Mesic (medium)"]
[]
[]
[null,"CHOOSE YOUR FORBS/LEGUMES",null,null,{"$f":"IF(D10=2,\"can enter PLS in lbs/acre OR Oz./acre\",\"Enter PLS in seeds/SF/ac\")","v":"can enter PLS in lbs/acre OR Oz./acre"}]
[null,"Common Name","Scientific Name",null,"Lbs / acre PLS","Seeds/SF/ac\nPLS","Oz. / acre PLS","Blooming Period","Color Code","Cost ($/lb)","Moisture Regime","Suitable for Pollinators","% of Mix","Cost ($/ac)","Growth Form","# Seeds / ft2 \n@ 1 lb/ac","Wildlife Value","Pure Stand Rate","Forage Productivity","Fertility Requirements","Retardance Capacity","Seeds/oz","Seeds/Lb",null,"count in mix",null,null,null,null,"INTRO",null,"NATIVE",null,"SEEDS/SF",null,null,null,"Lbs/A",null,null,null,"species % of mix",">20% of mix","Monarch friendly"]
[null,{"$f":"+C70","v":""},"Functional Group",null,null,null,null,null,null,"Cost ($/oz)",null,null,null,null,null,"# Seeds / ft2 \n@ 1 oz/ac",null,null,null,null,null,null,null,null,"Intro","NF","NL",null,null,null,null,null,null,"intro","NF","NL","MBF","Intro","NF","NL","MBF"]
[null,null,{"$f":"IF($B63<>\"\",VLOOKUP($B63,Forb_Table,3),\"\")","v":""},null,null,null,null,{"$f":"IF($B63<>\"\",VLOOKUP($B63,Forb_Table,10),\"\")","v":""},{"$f":"IF($B63<>\"\",VLOOKUP($B63,Forb_Table,18),\"\")","v":""},{"$f":"IF($B63<>\"\",VLOOKUP($B63,Forb_Table,5),\"\")","v":""},{"$f":"IF($B63<>\"\",VLOOKUP($B63,Forb_Table,17),\"\")","v":""},{"$f":"IF($B63<>\"\",VLOOKUP($B63,Forb_Table,12),\"\")","v":""},{"$f":"IF(D64>0,D64,0)","v":""},{"$f":"IF(B63=\"\",\"\",SUM(E63:E64)*J63)","v":""},{"$f":"IF($B63<>\"\",VLOOKUP($B63,Forb_Table,11),\"\")","v":""},{"$f":"IF($B63<>\"\",VLOOKUP($B63,Forb_Table,9),\"\")","v":""},{"$f":"IF($B63<>\"\",VLOOKUP($B63,Forb_Table,13),\"\")","v":""},{"$f":"IF($B63<>\"\",VLOOKUP($B63,Forb_Table,45),\"\")","v":""},{"$f":"IF($B63<>\"\",VLOOKUP($B63,Forb_Table,15),\"\")","v":""},{"$f":"IF($B63<>\"\",VLOOKUP($B63,Forb_Table,16),\"\")","v":""},{"$f":"IF($B63<>\"\",VLOOKUP($B63,Forb_Table,14),\"\")","v":""},{"$f":"IF($B63<>\"\",VLOOKUP($B63,Forb_Table,6),\"\")","v":""},{"$f":"IF($B63<>\"\",VLOOKUP($B63,Forb_Table,7),\"\")","v":""},{"$f":"IF(C63=\"\",\"\",1)","v":""},{"$f":"IF($B63=\"\",\"\",IF(AE63=1,1,\"\"))","v":""},{"$f":"IF($B63=\"\",\"\",IF(AND($C64=\"Forb\",$AG63=1),1,\"\"))","v":""},{"$f":"IF($B63=\"\",\"\",IF(AND(Y63=\"\",Z63=\"\"),1,\"\"))","v":""},"1",null,{"$f":"IF($B63<>\"\",VLOOKUP($B63,Forb_Table,26),\"\")","v":""},{"$f":"IF(AD63=\"X\",1,\"\")","v":""},{"$f":"IF($B63<>\"\",VLOOKUP($B63,Forb_Table,27),\"\")","v":""},{"$f":"IF(AF63=\"X\",1,\"\")","v":""},{"$f":"IF($B63=\"\",\"\",IF($AE63=1,SUM(F63:F64),\"\"))","v":""},{"$f":"IF($B63=\"\",\"\",IF(AND($AG63=1,$C64=\"Forb\"),SUM($F63:$F64),\"\"))","v":""},{"$f":"IF($B63=\"\",\"\",IF(AND($AG63=1,$C64=\"Legume\"),SUM($F63:$F64),\"\"))","v":""},{"$f":"IF($B63=\"\",\"\",IF(AND($AR63=1,$C64=\"Forb\"),SUM($F63:$F64),\"\"))","v":""},{"$f":"IF($B63=\"\",\"\",IF($AE63=1,SUM($E63:$E64),\"\"))","v":""},{"$f":"IF($B63=\"\",\"\",IF(AND($AG63=1,$C64=\"Forb\"),SUM($E63:$E64),\"\"))","v":""},{"$f":"IF($B63=\"\",\"\",IF(AND($AG63=1,$C64=\"Legume\"),SUM($E63:$E64),\"\"))","v":""},{"$f":"IF($B63=\"\",\"\",IF(AND($AR63=1,$C64=\"Forb\"),SUM($E63:$E64),\"\"))","v":""},{"$f":"IF(B63=\"\",0,SUM(F63:F64)/$F$155)","v":0},{"$f":"IF(AP63>0.2,1,\"\")","v":""},{"$f":"IF(B63=\"\",\"\",VLOOKUP(B63,ForbsLegumes!$A$4:$AT$113,46))","v":""}]
[null,null,{"$f":"IF($B63<>\"\",VLOOKUP($B63,Forb_Table,2),\"\")","v":""},{"$f":"IF(AND(E63=\"\",F63=\"\",G63=\"\"),\"\",IF(E63>0,F64/$F$155,IF(F63>0,F63/$F$155,IF(G63>0,F64/$F$155))))","v":""},{"$f":"IF(AND($D63=\"\",$F63=\"\",$G63=\"\"),\"\",IF(AND($G63=\"\",$F63<>\"\"),$F63/$P63,IF(AND($F63=\"\",$E63=\"\",$G63<>\"\"),$G63/16,\"\")))","v":""},{"$f":"IF(AND(D63=\"\",E63=\"\",F63=\"\",G63=\"\"),\"\",IF(AND(E63=\"\",G63=\"\"),\"\",IF(E63<>\"\",E63*P63,IF(G63<>\"\",E64*P63,\"\"))))","v":""},{"$f":"IF(AND(D63=\"\",E63=\"\",F63=\"\",G63=\"\"),\"\",IF(AND(E63=\"\",F63=\"\"),\"\",IF(E63<>\"\",E63*16,IF(F63<>\"\",E64*16,\"\"))))","v":""},null,null,{"$f":"IF($B63<>\"\",VLOOKUP($B63,Forb_Table,4),\"\")","v":""},null,null,null,null,null,{"$f":"IF($B63<>\"\",VLOOKUP($B63,Forb_Table,8),\"\")","v":""},null,null,null,null,null,null,null,null,{"$f":"IF($B64=\"\",\"\",IF(AE64=1,1,\"\"))","v":""},{"$f":"IF($B64=\"\",\"\",IF(AND($C65=\"Forb\",$AG64=1),1,\"\"))","v":""},{"$f":"IF($B64=\"\",\"\",IF(AND(Y64=\"\",Z64=\"\"),1,\"\"))","v":""},"1",null,"",{"$f":"IF(AD64=\"X\",1,\"\")","v":""},"",{"$f":"IF(AF64=\"X\",1,\"\")","v":""},{"$f":"IF($B64=\"\",\"\",IF($AE64=1,SUM(F64:F65),\"\"))","v":""},{"$f":"IF($B64=\"\",\"\",IF(AND($AG64=1,$C65=\"Forb\"),SUM($F64:$F65),\"\"))","v":""},{"$f":"IF($B64=\"\",\"\",IF(AND($AG64=1,$C65=\"Legume\"),SUM($F64:$F65),\"\"))","v":""},{"$f":"IF($B64=\"\",\"\",IF(AND($AR64=1,$C65=\"Forb\"),SUM($F64:$F65),\"\"))","v":""},{"$f":"IF($B64=\"\",\"\",IF($AE64=1,SUM($E64:$E65),\"\"))","v":""},{"$f":"IF($B64=\"\",\"\",IF(AND($AG64=1,$C65=\"Forb\"),SUM($E64:$E65),\"\"))","v":""},{"$f":"IF($B64=\"\",\"\",IF(AND($AG64=1,$C65=\"Legume\"),SUM($E64:$E65),\"\"))","v":""},"",0,{"$f":"IF(AP64>0.2,1,\"\")","v":""},{"$f":"IF(B64=\"\",\"\",VLOOKUP(B64,ForbsLegumes!$A$4:$AT$113,46))","v":""}]
[null,null,{"$f":"IF($B65<>\"\",VLOOKUP($B65,Forb_Table,3),\"\")","v":""},null,null,null,null,{"$f":"IF($B65<>\"\",VLOOKUP($B65,Forb_Table,10),\"\")","v":""},{"$f":"IF($B65<>\"\",VLOOKUP($B65,Forb_Table,18),\"\")","v":""},{"$f":"IF($B65<>\"\",VLOOKUP($B65,Forb_Table,5),\"\")","v":""},{"$f":"IF($B65<>\"\",VLOOKUP($B65,Forb_Table,17),\"\")","v":""},{"$f":"IF($B65<>\"\",VLOOKUP($B65,Forb_Table,12),\"\")","v":""},{"$f":"IF(D66>0,D66,0)","v":""},{"$f":"IF(B65=\"\",\"\",SUM(E65:E66)*J65)","v":""},{"$f":"IF($B65<>\"\",VLOOKUP($B65,Forb_Table,11),\"\")","v":""},{"$f":"IF($B65<>\"\",VLOOKUP($B65,Forb_Table,9),\"\")","v":""},{"$f":"IF($B65<>\"\",VLOOKUP($B65,Forb_Table,13),\"\")","v":""},{"$f":"IF($B65<>\"\",VLOOKUP($B65,Forb_Table,45),\"\")","v":""},{"$f":"IF($B65<>\"\",VLOOKUP($B65,Forb_Table,15),\"\")","v":""},{"$f":"IF($B65<>\"\",VLOOKUP($B65,Forb_Table,16),\"\")","v":""},{"$f":"IF($B65<>\"\",VLOOKUP($B65,Forb_Table,14),\"\")","v":""},{"$f":"IF($B65<>\"\",VLOOKUP($B65,Forb_Table,6),\"\")","v":""},{"$f":"IF($B65<>\"\",VLOOKUP($B65,Forb_Table,7),\"\")","v":""},{"$f":"IF(C65=\"\",\"\",1)","v":""},"","","","1",null,"","","","","","","","","","","","",0,"",{"$f":"IF(B65=\"\",\"\",VLOOKUP(B65,ForbsLegumes!$A$4:$AT$113,46))","v":""}]
[null,null,{"$f":"IF($B65<>\"\",VLOOKUP($B65,Forb_Table,2),\"\")","v":""},{"$f":"IF(AND(E65=\"\",F65=\"\",G65=\"\"),\"\",IF(E65>0,F66/$F$155,IF(F65>0,F65/$F$155,IF(G65>0,F66/$F$155))))","v":""},{"$f":"IF(AND($D65=\"\",$F65=\"\",$G65=\"\"),\"\",IF(AND($G65=\"\",$F65<>\"\"),$F65/$P65,IF(AND($F65=\"\",$E65=\"\",$G65<>\"\"),$G65/16,\"\")))","v":""},{"$f":"IF(AND(D65=\"\",E65=\"\",F65=\"\",G65=\"\"),\"\",IF(AND(E65=\"\",G65=\"\"),\"\",IF(E65<>\"\",E65*P65,IF(G65<>\"\",E66*P65,\"\"))))","v":""},{"$f":"IF(AND(D65=\"\",E65=\"\",F65=\"\",G65=\"\"),\"\",IF(AND(E65=\"\",F65=\"\"),\"\",IF(E65<>\"\",E65*16,IF(F65<>\"\",E66*16,\"\"))))","v":""},null,null,{"$f":"IF($B65<>\"\",VLOOKUP($B65,Forb_Table,4),\"\")","v":""},null,null,null,null,null,{"$f":"IF($B65<>\"\",VLOOKUP($B65,Forb_Table,8),\"\")","v":""},null,null,null,null,null,null,null,null,"","","","1",null,"","","","","","","","","","","","",0,"",{"$f":"IF(B66=\"\",\"\",VLOOKUP(B66,ForbsLegumes!$A$4:$AT$113,46))","v":""}]
[null,null,{"$f":"IF($B67<>\"\",VLOOKUP($B67,Forb_Table,3),\"\")","v":""},null,null,null,null,{"$f":"IF($B67<>\"\",VLOOKUP($B67,Forb_Table,10),\"\")","v":""},{"$f":"IF($B67<>\"\",VLOOKUP($B67,Forb_Table,18),\"\")","v":""},{"$f":"IF($B67<>\"\",VLOOKUP($B67,Forb_Table,5),\"\")","v":""},{"$f":"IF($B67<>\"\",VLOOKUP($B67,Forb_Table,17),\"\")","v":""},{"$f":"IF($B67<>\"\",VLOOKUP($B67,Forb_Table,12),\"\")","v":""},{"$f":"IF(D68>0,D68,0)","v":""},{"$f":"IF(B67=\"\",\"\",SUM(E67:E68)*J67)","v":""},{"$f":"IF($B67<>\"\",VLOOKUP($B67,Forb_Table,11),\"\")","v":""},{"$f":"IF($B67<>\"\",VLOOKUP($B67,Forb_Table,9),\"\")","v":""},{"$f":"IF($B67<>\"\",VLOOKUP($B67,Forb_Table,13),\"\")","v":""},{"$f":"IF($B67<>\"\",VLOOKUP($B67,Forb_Table,45),\"\")","v":""},{"$f":"IF($B67<>\"\",VLOOKUP($B67,Forb_Table,15),\"\")","v":""},{"$f":"IF($B67<>\"\",VLOOKUP($B67,Forb_Table,16),\"\")","v":""},{"$f":"IF($B67<>\"\",VLOOKUP($B67,Forb_Table,14),\"\")","v":""},{"$f":"IF($B67<>\"\",VLOOKUP($B67,Forb_Table,6),\"\")","v":""},{"$f":"IF($B67<>\"\",VLOOKUP($B67,Forb_Table,7),\"\")","v":""},{"$f":"IF(C67=\"\",\"\",1)","v":""},"","","","1",null,"","","","","","","","","","","","",0,"",{"$f":"IF(B67=\"\",\"\",VLOOKUP(B67,ForbsLegumes!$A$4:$AT$113,46))","v":""}]
[null,null,{"$f":"IF($B67<>\"\",VLOOKUP($B67,Forb_Table,2),\"\")","v":""},{"$f":"IF(AND(E67=\"\",F67=\"\",G67=\"\"),\"\",F68/$F$155)","v":""},{"$f":"IF(AND($D67=\"\",$F67=\"\",$G67=\"\"),\"\",IF(AND($G67=\"\",$F67<>\"\"),$F67/$P67,IF(AND($F67=\"\",$E67=\"\",$G67<>\"\"),$G67/16,\"\")))","v":""},{"$f":"IF(AND(D67=\"\",E67=\"\",F67=\"\",G67=\"\"),\"\",IF(AND(E67=\"\",G67=\"\"),\"\",IF(E67<>\"\",E67*P67,IF(G67<>\"\",E68*P67,\"\"))))","v":""},{"$f":"IF(AND(D67=\"\",E67=\"\",F67=\"\",G67=\"\"),\"\",IF(AND(E67=\"\",F67=\"\"),\"\",IF(E67<>\"\",E67*16,IF(F67<>\"\",E68*16,\"\"))))","v":""},null,null,{"$f":"IF($B67<>\"\",VLOOKUP($B67,Forb_Table,4),\"\")","v":""},null,null,null,null,null,{"$f":"IF($B67<>\"\",VLOOKUP($B67,Forb_Table,8),\"\")","v":""},null,null,null,null,null,null,null,null,"","","","1",null,"","","","","","","","","","","","",0,"",{"$f":"IF(B68=\"\",\"\",VLOOKUP(B68,ForbsLegumes!$A$4:$AT$113,46))","v":""}]
[null,null,{"$f":"IF($B69<>\"\",VLOOKUP($B69,Forb_Table,3),\"\")","v":""},null,null,null,null,{"$f":"IF($B69<>\"\",VLOOKUP($B69,Forb_Table,10),\"\")","v":""},{"$f":"IF($B69<>\"\",VLOOKUP($B69,Forb_Table,18),\"\")","v":""},{"$f":"IF($B69<>\"\",VLOOKUP($B69,Forb_Table,5),\"\")","v":""},{"$f":"IF($B69<>\"\",VLOOKUP($B69,Forb_Table,17),\"\")","v":""},{"$f":"IF($B69<>\"\",VLOOKUP($B69,Forb_Table,12),\"\")","v":""},{"$f":"IF(D70>0,D70,0)","v":""},{"$f":"IF(B69=\"\",\"\",SUM(E69:E70)*J69)","v":""},{"$f":"IF($B69<>\"\",VLOOKUP($B69,Forb_Table,11),\"\")","v":""},{"$f":"IF($B69<>\"\",VLOOKUP($B69,Forb_Table,9),\"\")","v":""},{"$f":"IF($B69<>\"\",VLOOKUP($B69,Forb_Table,13),\"\")","v":""},{"$f":"IF($B69<>\"\",VLOOKUP($B69,Forb_Table,45),\"\")","v":""},{"$f":"IF($B69<>\"\",VLOOKUP($B69,Forb_Table,15),\"\")","v":""},{"$f":"IF($B69<>\"\",VLOOKUP($B69,Forb_Table,16),\"\")","v":""},{"$f":"IF($B69<>\"\",VLOOKUP($B69,Forb_Table,14),\"\")","v":""},{"$f":"IF($B69<>\"\",VLOOKUP($B69,Forb_Table,6),\"\")","v":""},{"$f":"IF($B69<>\"\",VLOOKUP($B69,Forb_Table,7),\"\")","v":""},{"$f":"IF(C69=\"\",\"\",1)","v":""},"","","","1",null,"","","","","","","","","","","","",0,"",{"$f":"IF(B69=\"\",\"\",VLOOKUP(B69,ForbsLegumes!$A$4:$AT$113,46))","v":""}]
[null,null,{"$f":"IF($B69<>\"\",VLOOKUP($B69,Forb_Table,2),\"\")","v":""},{"$f":"IF(AND(E69=\"\",F69=\"\",G69=\"\"),\"\",F70/$F$155)","v":""},{"$f":"IF(AND($D69=\"\",$F69=\"\",$G69=\"\"),\"\",IF(AND($G69=\"\",$F69<>\"\"),$F69/$P69,IF(AND($F69=\"\",$E69=\"\",$G69<>\"\"),$G69/16,\"\")))","v":""},{"$f":"IF(AND(D69=\"\",E69=\"\",F69=\"\",G69=\"\"),\"\",IF(AND(E69=\"\",G69=\"\"),\"\",IF(E69<>\"\",E69*P69,IF(G69<>\"\",E70*P69,\"\"))))","v":""},{"$f":"IF(AND(D69=\"\",E69=\"\",F69=\"\",G69=\"\"),\"\",IF(AND(E69=\"\",F69=\"\"),\"\",IF(E69<>\"\",E69*16,IF(F69<>\"\",E70*16,\"\"))))","v":""},null,null,{"$f":"IF($B69<>\"\",VLOOKUP($B69,Forb_Table,4),\"\")","v":""},null,null,null,null,null,{"$f":"IF($B69<>\"\",VLOOKUP($B69,Forb_Table,8),\"\")","v":""},null,null,null,null,null,null,null,null,"","","","1",null,"","","","","","","","","","","","",0,"",{"$f":"IF(B70=\"\",\"\",VLOOKUP(B70,ForbsLegumes!$A$4:$AT$113,46))","v":""}]
[null,null,{"$f":"IF($B71<>\"\",VLOOKUP($B71,Forb_Table,3),\"\")","v":""},null,null,null,null,{"$f":"IF($B71<>\"\",VLOOKUP($B71,Forb_Table,10),\"\")","v":""},{"$f":"IF($B71<>\"\",VLOOKUP($B71,Forb_Table,18),\"\")","v":""},{"$f":"IF($B71<>\"\",VLOOKUP($B71,Forb_Table,5),\"\")","v":""},{"$f":"IF($B71<>\"\",VLOOKUP($B71,Forb_Table,17),\"\")","v":""},{"$f":"IF($B71<>\"\",VLOOKUP($B71,Forb_Table,12),\"\")","v":""},{"$f":"IF(D72>0,D72,0)","v":""},{"$f":"IF(B71=\"\",\"\",SUM(E71:E72)*J71)","v":""},{"$f":"IF($B71<>\"\",VLOOKUP($B71,Forb_Table,11),\"\")","v":""},{"$f":"IF($B71<>\"\",VLOOKUP($B71,Forb_Table,9),\"\")","v":""},{"$f":"IF($B71<>\"\",VLOOKUP($B71,Forb_Table,13),\"\")","v":""},{"$f":"IF($B71<>\"\",VLOOKUP($B71,Forb_Table,45),\"\")","v":""},{"$f":"IF($B71<>\"\",VLOOKUP($B71,Forb_Table,15),\"\")","v":""},{"$f":"IF($B71<>\"\",VLOOKUP($B71,Forb_Table,16),\"\")","v":""},{"$f":"IF($B71<>\"\",VLOOKUP($B71,Forb_Table,14),\"\")","v":""},{"$f":"IF($B71<>\"\",VLOOKUP($B71,Forb_Table,6),\"\")","v":""},{"$f":"IF($B71<>\"\",VLOOKUP($B71,Forb_Table,7),\"\")","v":""},{"$f":"IF(C71=\"\",\"\",1)","v":""},"","","","1",null,"","","","","","","","","","","","",0,"",{"$f":"IF(B71=\"\",\"\",VLOOKUP(B71,ForbsLegumes!$A$4:$AT$113,46))","v":""}]
[null,null,{"$f":"IF($B71<>\"\",VLOOKUP($B71,Forb_Table,2),\"\")","v":""},{"$f":"IF(AND(E71=\"\",F71=\"\",G71=\"\"),\"\",F72/$F$155)","v":""},{"$f":"IF(AND($D71=\"\",$F71=\"\",$G71=\"\"),\"\",IF(AND($G71=\"\",$F71<>\"\"),$F71/$P71,IF(AND($F71=\"\",$E71=\"\",$G71<>\"\"),$G71/16,\"\")))","v":""},{"$f":"IF(AND(D71=\"\",E71=\"\",F71=\"\",G71=\"\"),\"\",IF(AND(E71=\"\",G71=\"\"),\"\",IF(E71<>\"\",E71*P71,IF(G71<>\"\",E72*P71,\"\"))))","v":""},{"$f":"IF(AND(D71=\"\",E71=\"\",F71=\"\",G71=\"\"),\"\",IF(AND(E71=\"\",F71=\"\"),\"\",IF(E71<>\"\",E71*16,IF(F71<>\"\",E72*16,\"\"))))","v":""},null,null,{"$f":"IF($B71<>\"\",VLOOKUP($B71,Forb_Table,4),\"\")","v":""},null,null,null,null,null,{"$f":"IF($B71<>\"\",VLOOKUP($B71,Forb_Table,8),\"\")","v":""},null,null,null,null,null,null,null,null,"","","","1",null,"","","","","","","","","","","","",0,"",{"$f":"IF(B72=\"\",\"\",VLOOKUP(B72,ForbsLegumes!$A$4:$AT$113,46))","v":""}]
[null,null,{"$f":"IF($B73<>\"\",VLOOKUP($B73,Forb_Table,3),\"\")","v":""},null,null,null,null,{"$f":"IF($B73<>\"\",VLOOKUP($B73,Forb_Table,10),\"\")","v":""},{"$f":"IF($B73<>\"\",VLOOKUP($B73,Forb_Table,18),\"\")","v":""},{"$f":"IF($B73<>\"\",VLOOKUP($B73,Forb_Table,5),\"\")","v":""},{"$f":"IF($B73<>\"\",VLOOKUP($B73,Forb_Table,17),\"\")","v":""},{"$f":"IF($B73<>\"\",VLOOKUP($B73,Forb_Table,12),\"\")","v":""},{"$f":"IF(D74>0,D74,0)","v":""},{"$f":"IF(B73=\"\",\"\",SUM(E73:E74)*J73)","v":""},{"$f":"IF($B73<>\"\",VLOOKUP($B73,Forb_Table,11),\"\")","v":""},{"$f":"IF($B73<>\"\",VLOOKUP($B73,Forb_Table,9),\"\")","v":""},{"$f":"IF($B73<>\"\",VLOOKUP($B73,Forb_Table,13),\"\")","v":""},{"$f":"IF($B73<>\"\",VLOOKUP($B73,Forb_Table,45),\"\")","v":""},{"$f":"IF($B73<>\"\",VLOOKUP($B73,Forb_Table,15),\"\")","v":""},{"$f":"IF($B73<>\"\",VLOOKUP($B73,Forb_Table,16),\"\")","v":""},{"$f":"IF($B73<>\"\",VLOOKUP($B73,Forb_Table,14),\"\")","v":""},{"$f":"IF($B73<>\"\",VLOOKUP($B73,Forb_Table,6),\"\")","v":""},{"$f":"IF($B73<>\"\",VLOOKUP($B73,Forb_Table,7),\"\")","v":""},{"$f":"IF(C73=\"\",\"\",1)","v":""},"","","","1",null,"","","","","","","","","","","","",0,"",{"$f":"IF(B73=\"\",\"\",VLOOKUP(B73,ForbsLegumes!$A$4:$AT$113,46))","v":""}]
[null,null,{"$f":"IF($B73<>\"\",VLOOKUP($B73,Forb_Table,2),\"\")","v":""},{"$f":"IF(AND(E73=\"\",F73=\"\",G73=\"\"),\"\",F74/$F$155)","v":""},{"$f":"IF(AND($D73=\"\",$F73=\"\",$G73=\"\"),\"\",IF(AND($G73=\"\",$F73<>\"\"),$F73/$P73,IF(AND($F73=\"\",$E73=\"\",$G73<>\"\"),$G73/16,\"\")))","v":""},{"$f":"IF(AND(D73=\"\",E73=\"\",F73=\"\",G73=\"\"),\"\",IF(AND(E73=\"\",G73=\"\"),\"\",IF(E73<>\"\",E73*P73,IF(G73<>\"\",E74*P73,\"\"))))","v":""},{"$f":"IF(AND(D73=\"\",E73=\"\",F73=\"\",G73=\"\"),\"\",IF(AND(E73=\"\",F73=\"\"),\"\",IF(E73<>\"\",E73*16,IF(F73<>\"\",E74*16,\"\"))))","v":""},null,null,{"$f":"IF($B73<>\"\",VLOOKUP($B73,Forb_Table,4),\"\")","v":""},null,null,null,null,null,{"$f":"IF($B73<>\"\",VLOOKUP($B73,Forb_Table,8),\"\")","v":""},null,null,null,null,null,null,null,null,"","","","1",null,"","","","","","","","","","","","",0,"",{"$f":"IF(B74=\"\",\"\",VLOOKUP(B74,ForbsLegumes!$A$4:$AT$113,46))","v":""}]
[null,null,{"$f":"IF($B75<>\"\",VLOOKUP($B75,Forb_Table,3),\"\")","v":""},null,null,null,null,{"$f":"IF($B75<>\"\",VLOOKUP($B75,Forb_Table,10),\"\")","v":""},{"$f":"IF($B75<>\"\",VLOOKUP($B75,Forb_Table,18),\"\")","v":""},{"$f":"IF($B75<>\"\",VLOOKUP($B75,Forb_Table,5),\"\")","v":""},{"$f":"IF($B75<>\"\",VLOOKUP($B75,Forb_Table,17),\"\")","v":""},{"$f":"IF($B75<>\"\",VLOOKUP($B75,Forb_Table,12),\"\")","v":""},{"$f":"IF(D76>0,D76,0)","v":""},{"$f":"IF(B75=\"\",\"\",SUM(E75:E76)*J75)","v":""},{"$f":"IF($B75<>\"\",VLOOKUP($B75,Forb_Table,11),\"\")","v":""},{"$f":"IF($B75<>\"\",VLOOKUP($B75,Forb_Table,9),\"\")","v":""},{"$f":"IF($B75<>\"\",VLOOKUP($B75,Forb_Table,13),\"\")","v":""},{"$f":"IF($B75<>\"\",VLOOKUP($B75,Forb_Table,45),\"\")","v":""},{"$f":"IF($B75<>\"\",VLOOKUP($B75,Forb_Table,15),\"\")","v":""},{"$f":"IF($B75<>\"\",VLOOKUP($B75,Forb_Table,16),\"\")","v":""},{"$f":"IF($B75<>\"\",VLOOKUP($B75,Forb_Table,14),\"\")","v":""},{"$f":"IF($B75<>\"\",VLOOKUP($B75,Forb_Table,6),\"\")","v":""},{"$f":"IF($B75<>\"\",VLOOKUP($B75,Forb_Table,7),\"\")","v":""},{"$f":"IF(C75=\"\",\"\",1)","v":""},"","","","1",null,"","","","","","","","","","","","",0,"",{"$f":"IF(B75=\"\",\"\",VLOOKUP(B75,ForbsLegumes!$A$4:$AT$113,46))","v":""}]
[null,null,{"$f":"IF($B75<>\"\",VLOOKUP($B75,Forb_Table,2),\"\")","v":""},{"$f":"IF(AND(E75=\"\",F75=\"\",G75=\"\"),\"\",F76/$F$155)","v":""},{"$f":"IF(AND($D75=\"\",$F75=\"\",$G75=\"\"),\"\",IF(AND($G75=\"\",$F75<>\"\"),$F75/$P75,IF(AND($F75=\"\",$E75=\"\",$G75<>\"\"),$G75/16,\"\")))","v":""},{"$f":"IF(AND(D75=\"\",E75=\"\",F75=\"\",G75=\"\"),\"\",IF(AND(E75=\"\",G75=\"\"),\"\",IF(E75<>\"\",E75*P75,IF(G75<>\"\",E76*P75,\"\"))))","v":""},{"$f":"IF(AND(D75=\"\",E75=\"\",F75=\"\",G75=\"\"),\"\",IF(AND(E75=\"\",F75=\"\"),\"\",IF(E75<>\"\",E75*16,IF(F75<>\"\",E76*16,\"\"))))","v":""},null,null,{"$f":"IF($B75<>\"\",VLOOKUP($B75,Forb_Table,4),\"\")","v":""},null,null,null,null,null,{"$f":"IF($B75<>\"\",VLOOKUP($B75,Forb_Table,8),\"\")","v":""},null,null,null,null,null,null,null,null,"","","","1",null,"","","","","","","","","","","","",0,"",{"$f":"IF(B76=\"\",\"\",VLOOKUP(B76,ForbsLegumes!$A$4:$AT$113,46))","v":""}]
[null,null,{"$f":"IF($B77<>\"\",VLOOKUP($B77,Forb_Table,3),\"\")","v":""},null,null,null,null,{"$f":"IF($B77<>\"\",VLOOKUP($B77,Forb_Table,10),\"\")","v":""},{"$f":"IF($B77<>\"\",VLOOKUP($B77,Forb_Table,18),\"\")","v":""},{"$f":"IF($B77<>\"\",VLOOKUP($B77,Forb_Table,5),\"\")","v":""},{"$f":"IF($B77<>\"\",VLOOKUP($B77,Forb_Table,17),\"\")","v":""},{"$f":"IF($B77<>\"\",VLOOKUP($B77,Forb_Table,12),\"\")","v":""},{"$f":"IF(D78>0,D78,0)","v":""},{"$f":"IF(B77=\"\",\"\",SUM(E77:E78)*J77)","v":""},{"$f":"IF($B77<>\"\",VLOOKUP($B77,Forb_Table,11),\"\")","v":""},{"$f":"IF($B77<>\"\",VLOOKUP($B77,Forb_Table,9),\"\")","v":""},{"$f":"IF($B77<>\"\",VLOOKUP($B77,Forb_Table,13),\"\")","v":""},{"$f":"IF($B77<>\"\",VLOOKUP($B77,Forb_Table,45),\"\")","v":""},{"$f":"IF($B77<>\"\",VLOOKUP($B77,Forb_Table,15),\"\")","v":""},{"$f":"IF($B77<>\"\",VLOOKUP($B77,Forb_Table,16),\"\")","v":""},{"$f":"IF($B77<>\"\",VLOOKUP($B77,Forb_Table,14),\"\")","v":""},{"$f":"IF($B77<>\"\",VLOOKUP($B77,Forb_Table,6),\"\")","v":""},{"$f":"IF($B77<>\"\",VLOOKUP($B77,Forb_Table,7),\"\")","v":""},{"$f":"IF(C77=\"\",\"\",1)","v":""},"","","","1",null,"","","","","","","","","","","","",0,"",{"$f":"IF(B77=\"\",\"\",VLOOKUP(B77,ForbsLegumes!$A$4:$AT$113,46))","v":""}]
[null,null,{"$f":"IF($B77<>\"\",VLOOKUP($B77,Forb_Table,2),\"\")","v":""},{"$f":"IF(AND(E77=\"\",F77=\"\",G77=\"\"),\"\",F78/$F$155)","v":""},{"$f":"IF(AND($D77=\"\",$F77=\"\",$G77=\"\"),\"\",IF(AND($G77=\"\",$F77<>\"\"),$F77/$P77,IF(AND($F77=\"\",$E77=\"\",$G77<>\"\"),$G77/16,\"\")))","v":""},{"$f":"IF(AND(D77=\"\",E77=\"\",F77=\"\",G77=\"\"),\"\",IF(AND(E77=\"\",G77=\"\"),\"\",IF(E77<>\"\",E77*P77,IF(G77<>\"\",E78*P77,\"\"))))","v":""},{"$f":"IF(AND(D77=\"\",E77=\"\",F77=\"\",G77=\"\"),\"\",IF(AND(E77=\"\",F77=\"\"),\"\",IF(E77<>\"\",E77*16,IF(F77<>\"\",E78*16,\"\"))))","v":""},null,null,{"$f":"IF($B77<>\"\",VLOOKUP($B77,Forb_Table,4),\"\")","v":""},null,null,null,null,null,{"$f":"IF($B77<>\"\",VLOOKUP($B77,Forb_Table,8),\"\")","v":""},null,null,null,null,null,null,null,null,"","","","1",null,"","","","","","","","","","","","",0,"",{"$f":"IF(B78=\"\",\"\",VLOOKUP(B78,ForbsLegumes!$A$4:$AT$113,46))","v":""}]
[null,null,{"$f":"IF($B79<>\"\",VLOOKUP($B79,Forb_Table,3),\"\")","v":""},null,null,null,null,{"$f":"IF($B79<>\"\",VLOOKUP($B79,Forb_Table,10),\"\")","v":""},{"$f":"IF($B79<>\"\",VLOOKUP($B79,Forb_Table,18),\"\")","v":""},{"$f":"IF($B79<>\"\",VLOOKUP($B79,Forb_Table,5),\"\")","v":""},{"$f":"IF($B79<>\"\",VLOOKUP($B79,Forb_Table,17),\"\")","v":""},{"$f":"IF($B79<>\"\",VLOOKUP($B79,Forb_Table,12),\"\")","v":""},{"$f":"IF(D80>0,D80,0)","v":""},{"$f":"IF(B79=\"\",\"\",SUM(E79:E80)*J79)","v":""},{"$f":"IF($B79<>\"\",VLOOKUP($B79,Forb_Table,11),\"\")","v":""},{"$f":"IF($B79<>\"\",VLOOKUP($B79,Forb_Table,9),\"\")","v":""},{"$f":"IF($B79<>\"\",VLOOKUP($B79,Forb_Table,13),\"\")","v":""},{"$f":"IF($B79<>\"\",VLOOKUP($B79,Forb_Table,45),\"\")","v":""},{"$f":"IF($B79<>\"\",VLOOKUP($B79,Forb_Table,15),\"\")","v":""},{"$f":"IF($B79<>\"\",VLOOKUP($B79,Forb_Table,16),\"\")","v":""},{"$f":"IF($B79<>\"\",VLOOKUP($B79,Forb_Table,14),\"\")","v":""},{"$f":"IF($B79<>\"\",VLOOKUP($B79,Forb_Table,6),\"\")","v":""},{"$f":"IF($B79<>\"\",VLOOKUP($B79,Forb_Table,7),\"\")","v":""},{"$f":"IF(C79=\"\",\"\",1)","v":""},"","","","1",null,"","","","","","","","","","","","",0,"",{"$f":"IF(B79=\"\",\"\",VLOOKUP(B79,ForbsLegumes!$A$4:$AT$113,46))","v":""}]
[null,null,{"$f":"IF($B79<>\"\",VLOOKUP($B79,Forb_Table,2),\"\")","v":""},{"$f":"IF(AND(E79=\"\",F79=\"\",G79=\"\"),\"\",F80/$F$155)","v":""},{"$f":"IF(AND($D79=\"\",$F79=\"\",$G79=\"\"),\"\",IF(AND($G79=\"\",$F79<>\"\"),$F79/$P79,IF(AND($F79=\"\",$E79=\"\",$G79<>\"\"),$G79/16,\"\")))","v":""},{"$f":"IF(AND(D79=\"\",E79=\"\",F79=\"\",G79=\"\"),\"\",IF(AND(E79=\"\",G79=\"\"),\"\",IF(E79<>\"\",E79*P79,IF(G79<>\"\",E80*P79,\"\"))))","v":""},{"$f":"IF(AND(D79=\"\",E79=\"\",F79=\"\",G79=\"\"),\"\",IF(AND(E79=\"\",F79=\"\"),\"\",IF(E79<>\"\",E79*16,IF(F79<>\"\",E80*16,\"\"))))","v":""},null,null,{"$f":"IF($B79<>\"\",VLOOKUP($B79,Forb_Table,4),\"\")","v":""},null,null,null,null,null,{"$f":"IF($B79<>\"\",VLOOKUP($B79,Forb_Table,8),\"\")","v":""},null,null,null,null,null,null,null,null,"","","","1",null,"","","","","","","","","","","","",0,"",{"$f":"IF(B80=\"\",\"\",VLOOKUP(B80,ForbsLegumes!$A$4:$AT$113,46))","v":""}]
[null,null,{"$f":"IF($B81<>\"\",VLOOKUP($B81,Forb_Table,3),\"\")","v":""},null,null,null,null,{"$f":"IF($B81<>\"\",VLOOKUP($B81,Forb_Table,10),\"\")","v":""},{"$f":"IF($B81<>\"\",VLOOKUP($B81,Forb_Table,18),\"\")","v":""},{"$f":"IF($B81<>\"\",VLOOKUP($B81,Forb_Table,5),\"\")","v":""},{"$f":"IF($B81<>\"\",VLOOKUP($B81,Forb_Table,17),\"\")","v":""},{"$f":"IF($B81<>\"\",VLOOKUP($B81,Forb_Table,12),\"\")","v":""},{"$f":"IF(D82>0,D82,0)","v":""},{"$f":"IF(B81=\"\",\"\",SUM(E81:E82)*J81)","v":""},{"$f":"IF($B81<>\"\",VLOOKUP($B81,Forb_Table,11),\"\")","v":""},{"$f":"IF($B81<>\"\",VLOOKUP($B81,Forb_Table,9),\"\")","v":""},{"$f":"IF($B81<>\"\",VLOOKUP($B81,Forb_Table,13),\"\")","v":""},{"$f":"IF($B81<>\"\",VLOOKUP($B81,Forb_Table,45),\"\")","v":""},{"$f":"IF($B81<>\"\",VLOOKUP($B81,Forb_Table,15),\"\")","v":""},{"$f":"IF($B81<>\"\",VLOOKUP($B81,Forb_Table,16),\"\")","v":""},{"$f":"IF($B81<>\"\",VLOOKUP($B81,Forb_Table,14),\"\")","v":""},{"$f":"IF($B81<>\"\",VLOOKUP($B81,Forb_Table,6),\"\")","v":""},{"$f":"IF($B81<>\"\",VLOOKUP($B81,Forb_Table,7),\"\")","v":""},{"$f":"IF(C81=\"\",\"\",1)","v":""},"","","","1",null,"","","","","","","","","","","","",0,"",{"$f":"IF(B81=\"\",\"\",VLOOKUP(B81,ForbsLegumes!$A$4:$AT$113,46))","v":""}]
[null,null,{"$f":"IF($B81<>\"\",VLOOKUP($B81,Forb_Table,2),\"\")","v":""},{"$f":"IF(AND(E81=\"\",F81=\"\",G81=\"\"),\"\",F82/$F$155)","v":""},{"$f":"IF(AND($D81=\"\",$F81=\"\",$G81=\"\"),\"\",IF(AND($G81=\"\",$F81<>\"\"),$F81/$P81,IF(AND($F81=\"\",$E81=\"\",$G81<>\"\"),$G81/16,\"\")))","v":""},{"$f":"IF(AND(D81=\"\",E81=\"\",F81=\"\",G81=\"\"),\"\",IF(AND(E81=\"\",G81=\"\"),\"\",IF(E81<>\"\",E81*P81,IF(G81<>\"\",E82*P81,\"\"))))","v":""},{"$f":"IF(AND(D81=\"\",E81=\"\",F81=\"\",G81=\"\"),\"\",IF(AND(E81=\"\",F81=\"\"),\"\",IF(E81<>\"\",E81*16,IF(F81<>\"\",E82*16,\"\"))))","v":""},null,null,{"$f":"IF($B81<>\"\",VLOOKUP($B81,Forb_Table,4),\"\")","v":""},null,null,null,null,null,{"$f":"IF($B81<>\"\",VLOOKUP($B81,Forb_Table,8),\"\")","v":""},null,null,null,null,null,null,null,null,"","","","1",null,"","","","","","","","","","","","",0,"",{"$f":"IF(B82=\"\",\"\",VLOOKUP(B82,ForbsLegumes!$A$4:$AT$113,46))","v":""}]
[null,null,{"$f":"IF($B83<>\"\",VLOOKUP($B83,Forb_Table,3),\"\")","v":""},null,null,null,null,{"$f":"IF($B83<>\"\",VLOOKUP($B83,Forb_Table,10),\"\")","v":""},{"$f":"IF($B83<>\"\",VLOOKUP($B83,Forb_Table,18),\"\")","v":""},{"$f":"IF($B83<>\"\",VLOOKUP($B83,Forb_Table,5),\"\")","v":""},{"$f":"IF($B83<>\"\",VLOOKUP($B83,Forb_Table,17),\"\")","v":""},{"$f":"IF($B83<>\"\",VLOOKUP($B83,Forb_Table,12),\"\")","v":""},{"$f":"IF(D84>0,D84,0)","v":""},{"$f":"IF(B83=\"\",\"\",SUM(E83:E84)*J83)","v":""},{"$f":"IF($B83<>\"\",VLOOKUP($B83,Forb_Table,11),\"\")","v":""},{"$f":"IF($B83<>\"\",VLOOKUP($B83,Forb_Table,9),\"\")","v":""},{"$f":"IF($B83<>\"\",VLOOKUP($B83,Forb_Table,13),\"\")","v":""},{"$f":"IF($B83<>\"\",VLOOKUP($B83,Forb_Table,45),\"\")","v":""},{"$f":"IF($B83<>\"\",VLOOKUP($B83,Forb_Table,15),\"\")","v":""},{"$f":"IF($B83<>\"\",VLOOKUP($B83,Forb_Table,16),\"\")","v":""},{"$f":"IF($B83<>\"\",VLOOKUP($B83,Forb_Table,14),\"\")","v":""},{"$f":"IF($B83<>\"\",VLOOKUP($B83,Forb_Table,6),\"\")","v":""},{"$f":"IF($B83<>\"\",VLOOKUP($B83,Forb_Table,7),\"\")","v":""},{"$f":"IF(C83=\"\",\"\",1)","v":""},"","","","1",null,"","","","","","","","","","","","",0,"",{"$f":"IF(B83=\"\",\"\",VLOOKUP(B83,ForbsLegumes!$A$4:$AT$113,46))","v":""}]
[null,null,{"$f":"IF($B83<>\"\",VLOOKUP($B83,Forb_Table,2),\"\")","v":""},{"$f":"IF(AND(E83=\"\",F83=\"\",G83=\"\"),\"\",F84/$F$155)","v":""},{"$f":"IF(AND($D83=\"\",$F83=\"\",$G83=\"\"),\"\",IF(AND($G83=\"\",$F83<>\"\"),$F83/$P83,IF(AND($F83=\"\",$E83=\"\",$G83<>\"\"),$G83/16,\"\")))","v":""},{"$f":"IF(AND(D83=\"\",E83=\"\",F83=\"\",G83=\"\"),\"\",IF(AND(E83=\"\",G83=\"\"),\"\",IF(E83<>\"\",E83*P83,IF(G83<>\"\",E84*P83,\"\"))))","v":""},{"$f":"IF(AND(D83=\"\",E83=\"\",F83=\"\",G83=\"\"),\"\",IF(AND(E83=\"\",F83=\"\"),\"\",IF(E83<>\"\",E83*16,IF(F83<>\"\",E84*16,\"\"))))","v":""},null,null,{"$f":"IF($B83<>\"\",VLOOKUP($B83,Forb_Table,4),\"\")","v":""},null,null,null,null,null,{"$f":"IF($B83<>\"\",VLOOKUP($B83,Forb_Table,8),\"\")","v":""},null,null,null,null,null,null,null,null,"","","","1",null,"","","","","","","","","","","","",0,"",{"$f":"IF(B84=\"\",\"\",VLOOKUP(B84,ForbsLegumes!$A$4:$AT$113,46))","v":""}]
[null,null,{"$f":"IF($B85<>\"\",VLOOKUP($B85,Forb_Table,3),\"\")","v":""},null,null,null,null,{"$f":"IF($B85<>\"\",VLOOKUP($B85,Forb_Table,10),\"\")","v":""},{"$f":"IF($B85<>\"\",VLOOKUP($B85,Forb_Table,18),\"\")","v":""},{"$f":"IF($B85<>\"\",VLOOKUP($B85,Forb_Table,5),\"\")","v":""},{"$f":"IF($B85<>\"\",VLOOKUP($B85,Forb_Table,17),\"\")","v":""},{"$f":"IF($B85<>\"\",VLOOKUP($B85,Forb_Table,12),\"\")","v":""},{"$f":"IF(D86>0,D86,0)","v":""},{"$f":"IF(B85=\"\",\"\",SUM(E85:E86)*J85)","v":""},{"$f":"IF($B85<>\"\",VLOOKUP($B85,Forb_Table,11),\"\")","v":""},{"$f":"IF($B85<>\"\",VLOOKUP($B85,Forb_Table,9),\"\")","v":""},{"$f":"IF($B85<>\"\",VLOOKUP($B85,Forb_Table,13),\"\")","v":""},{"$f":"IF($B85<>\"\",VLOOKUP($B85,Forb_Table,45),\"\")","v":""},{"$f":"IF($B85<>\"\",VLOOKUP($B85,Forb_Table,15),\"\")","v":""},{"$f":"IF($B85<>\"\",VLOOKUP($B85,Forb_Table,16),\"\")","v":""},{"$f":"IF($B85<>\"\",VLOOKUP($B85,Forb_Table,14),\"\")","v":""},{"$f":"IF($B85<>\"\",VLOOKUP($B85,Forb_Table,6),\"\")","v":""},{"$f":"IF($B85<>\"\",VLOOKUP($B85,Forb_Table,7),\"\")","v":""},{"$f":"IF(C85=\"\",\"\",1)","v":""},"","","","1",null,"","","","","","","","","","","","",0,"",{"$f":"IF(B85=\"\",\"\",VLOOKUP(B85,ForbsLegumes!$A$4:$AT$113,46))","v":""}]
[null,null,{"$f":"IF($B85<>\"\",VLOOKUP($B85,Forb_Table,2),\"\")","v":""},{"$f":"IF(AND(E85=\"\",F85=\"\",G85=\"\"),\"\",F86/$F$155)","v":""},{"$f":"IF(AND($D85=\"\",$F85=\"\",$G85=\"\"),\"\",IF(AND($G85=\"\",$F85<>\"\"),$F85/$P85,IF(AND($F85=\"\",$E85=\"\",$G85<>\"\"),$G85/16,\"\")))","v":""},{"$f":"IF(AND(D85=\"\",E85=\"\",F85=\"\",G85=\"\"),\"\",IF(AND(E85=\"\",G85=\"\"),\"\",IF(E85<>\"\",E85*P85,IF(G85<>\"\",E86*P85,\"\"))))","v":""},{"$f":"IF(AND(D85=\"\",E85=\"\",F85=\"\",G85=\"\"),\"\",IF(AND(E85=\"\",F85=\"\"),\"\",IF(E85<>\"\",E85*16,IF(F85<>\"\",E86*16,\"\"))))","v":""},null,null,{"$f":"IF($B85<>\"\",VLOOKUP($B85,Forb_Table,4),\"\")","v":""},null,null,null,null,null,{"$f":"IF($B85<>\"\",VLOOKUP($B85,Forb_Table,8),\"\")","v":""},null,null,null,null,null,null,null,null,"","","","1",null,"","","","","","","","","","","","",0,"",{"$f":"IF(B86=\"\",\"\",VLOOKUP(B86,ForbsLegumes!$A$4:$AT$113,46))","v":""}]
[null,null,{"$f":"IF($B87<>\"\",VLOOKUP($B87,Forb_Table,3),\"\")","v":""},null,null,null,null,{"$f":"IF($B87<>\"\",VLOOKUP($B87,Forb_Table,10),\"\")","v":""},{"$f":"IF($B87<>\"\",VLOOKUP($B87,Forb_Table,18),\"\")","v":""},{"$f":"IF($B87<>\"\",VLOOKUP($B87,Forb_Table,5),\"\")","v":""},{"$f":"IF($B87<>\"\",VLOOKUP($B87,Forb_Table,17),\"\")","v":""},{"$f":"IF($B87<>\"\",VLOOKUP($B87,Forb_Table,12),\"\")","v":""},{"$f":"IF(D88>0,D88,0)","v":""},{"$f":"IF(B87=\"\",\"\",SUM(E87:E88)*J87)","v":""},{"$f":"IF($B87<>\"\",VLOOKUP($B87,Forb_Table,11),\"\")","v":""},{"$f":"IF($B87<>\"\",VLOOKUP($B87,Forb_Table,9),\"\")","v":""},{"$f":"IF($B87<>\"\",VLOOKUP($B87,Forb_Table,13),\"\")","v":""},{"$f":"IF($B87<>\"\",VLOOKUP($B87,Forb_Table,45),\"\")","v":""},{"$f":"IF($B87<>\"\",VLOOKUP($B87,Forb_Table,15),\"\")","v":""},{"$f":"IF($B87<>\"\",VLOOKUP($B87,Forb_Table,16),\"\")","v":""},{"$f":"IF($B87<>\"\",VLOOKUP($B87,Forb_Table,14),\"\")","v":""},{"$f":"IF($B87<>\"\",VLOOKUP($B87,Forb_Table,6),\"\")","v":""},{"$f":"IF($B87<>\"\",VLOOKUP($B87,Forb_Table,7),\"\")","v":""},{"$f":"IF(C87=\"\",\"\",1)","v":""},"","","","1",null,"","","","","","","","","","","","",0,"",{"$f":"IF(B87=\"\",\"\",VLOOKUP(B87,ForbsLegumes!$A$4:$AT$113,46))","v":""}]
[null,null,{"$f":"IF($B87<>\"\",VLOOKUP($B87,Forb_Table,2),\"\")","v":""},{"$f":"IF(AND(E87=\"\",F87=\"\",G87=\"\"),\"\",F88/$F$155)","v":""},{"$f":"IF(AND($D87=\"\",$F87=\"\",$G87=\"\"),\"\",IF(AND($G87=\"\",$F87<>\"\"),$F87/$P87,IF(AND($F87=\"\",$E87=\"\",$G87<>\"\"),$G87/16,\"\")))","v":""},{"$f":"IF(AND(D87=\"\",E87=\"\",F87=\"\",G87=\"\"),\"\",IF(AND(E87=\"\",G87=\"\"),\"\",IF(E87<>\"\",E87*P87,IF(G87<>\"\",E88*P87,\"\"))))","v":""},{"$f":"IF(AND(D87=\"\",E87=\"\",F87=\"\",G87=\"\"),\"\",IF(AND(E87=\"\",F87=\"\"),\"\",IF(E87<>\"\",E87*16,IF(F87<>\"\",E88*16,\"\"))))","v":""},null,null,{"$f":"IF($B87<>\"\",VLOOKUP($B87,Forb_Table,4),\"\")","v":""},null,null,null,null,null,{"$f":"IF($B87<>\"\",VLOOKUP($B87,Forb_Table,8),\"\")","v":""},null,null,null,null,null,null,null,null,"","","","1",null,"","","","","","","","","","","","",0,"",{"$f":"IF(B88=\"\",\"\",VLOOKUP(B88,ForbsLegumes!$A$4:$AT$113,46))","v":""}]
[null,null,{"$f":"IF($B89<>\"\",VLOOKUP($B89,Forb_Table,3),\"\")","v":""},null,null,null,null,{"$f":"IF($B89<>\"\",VLOOKUP($B89,Forb_Table,10),\"\")","v":""},{"$f":"IF($B89<>\"\",VLOOKUP($B89,Forb_Table,18),\"\")","v":""},{"$f":"IF($B89<>\"\",VLOOKUP($B89,Forb_Table,5),\"\")","v":""},{"$f":"IF($B89<>\"\",VLOOKUP($B89,Forb_Table,17),\"\")","v":""},{"$f":"IF($B89<>\"\",VLOOKUP($B89,Forb_Table,12),\"\")","v":""},{"$f":"IF(D90>0,D90,0)","v":""},{"$f":"IF(B89=\"\",\"\",SUM(E89:E90)*J89)","v":""},{"$f":"IF($B89<>\"\",VLOOKUP($B89,Forb_Table,11),\"\")","v":""},{"$f":"IF($B89<>\"\",VLOOKUP($B89,Forb_Table,9),\"\")","v":""},{"$f":"IF($B89<>\"\",VLOOKUP($B89,Forb_Table,13),\"\")","v":""},{"$f":"IF($B89<>\"\",VLOOKUP($B89,Forb_Table,45),\"\")","v":""},{"$f":"IF($B89<>\"\",VLOOKUP($B89,Forb_Table,15),\"\")","v":""},{"$f":"IF($B89<>\"\",VLOOKUP($B89,Forb_Table,16),\"\")","v":""},{"$f":"IF($B89<>\"\",VLOOKUP($B89,Forb_Table,14),\"\")","v":""},{"$f":"IF($B89<>\"\",VLOOKUP($B89,Forb_Table,6),\"\")","v":""},{"$f":"IF($B89<>\"\",VLOOKUP($B89,Forb_Table,7),\"\")","v":""},{"$f":"IF(C89=\"\",\"\",1)","v":""},"","","","1",null,"","","","","","","","","","","","",0,"",{"$f":"IF(B89=\"\",\"\",VLOOKUP(B89,ForbsLegumes!$A$4:$AT$113,46))","v":""}]
[null,null,{"$f":"IF($B89<>\"\",VLOOKUP($B89,Forb_Table,2),\"\")","v":""},{"$f":"IF(AND(E89=\"\",F89=\"\",G89=\"\"),\"\",F90/$F$155)","v":""},{"$f":"IF(AND($D89=\"\",$F89=\"\",$G89=\"\"),\"\",IF(AND($G89=\"\",$F89<>\"\"),$F89/$P89,IF(AND($F89=\"\",$E89=\"\",$G89<>\"\"),$G89/16,\"\")))","v":""},{"$f":"IF(AND(D89=\"\",E89=\"\",F89=\"\",G89=\"\"),\"\",IF(AND(E89=\"\",G89=\"\"),\"\",IF(E89<>\"\",E89*P89,IF(G89<>\"\",E90*P89,\"\"))))","v":""},{"$f":"IF(AND(D89=\"\",E89=\"\",F89=\"\",G89=\"\"),\"\",IF(AND(E89=\"\",F89=\"\"),\"\",IF(E89<>\"\",E89*16,IF(F89<>\"\",E90*16,\"\"))))","v":""},null,null,{"$f":"IF($B89<>\"\",VLOOKUP($B89,Forb_Table,4),\"\")","v":""},null,null,null,null,null,{"$f":"IF($B89<>\"\",VLOOKUP($B89,Forb_Table,8),\"\")","v":""},null,null,null,null,null,null,null,null,"","","","1",null,"","","","","","","","","","","","",0,"",{"$f":"IF(B90=\"\",\"\",VLOOKUP(B90,ForbsLegumes!$A$4:$AT$113,46))","v":""}]
[null,null,{"$f":"IF($B91<>\"\",VLOOKUP($B91,Forb_Table,3),\"\")","v":""},null,null,null,null,{"$f":"IF($B91<>\"\",VLOOKUP($B91,Forb_Table,10),\"\")","v":""},{"$f":"IF($B91<>\"\",VLOOKUP($B91,Forb_Table,18),\"\")","v":""},{"$f":"IF($B91<>\"\",VLOOKUP($B91,Forb_Table,5),\"\")","v":""},{"$f":"IF($B91<>\"\",VLOOKUP($B91,Forb_Table,17),\"\")","v":""},{"$f":"IF($B91<>\"\",VLOOKUP($B91,Forb_Table,12),\"\")","v":""},{"$f":"IF(D92>0,D92,0)","v":""},{"$f":"IF(B91=\"\",\"\",SUM(E91:E92)*J91)","v":""},{"$f":"IF($B91<>\"\",VLOOKUP($B91,Forb_Table,11),\"\")","v":""},{"$f":"IF($B91<>\"\",VLOOKUP($B91,Forb_Table,9),\"\")","v":""},{"$f":"IF($B91<>\"\",VLOOKUP($B91,Forb_Table,13),\"\")","v":""},{"$f":"IF($B91<>\"\",VLOOKUP($B91,Forb_Table,45),\"\")","v":""},{"$f":"IF($B91<>\"\",VLOOKUP($B91,Forb_Table,15),\"\")","v":""},{"$f":"IF($B91<>\"\",VLOOKUP($B91,Forb_Table,16),\"\")","v":""},{"$f":"IF($B91<>\"\",VLOOKUP($B91,Forb_Table,14),\"\")","v":""},{"$f":"IF($B91<>\"\",VLOOKUP($B91,Forb_Table,6),\"\")","v":""},{"$f":"IF($B91<>\"\",VLOOKUP($B91,Forb_Table,7),\"\")","v":""},{"$f":"IF(C91=\"\",\"\",1)","v":""},"","","","1",null,"","","","","","","","","","","","",0,"",{"$f":"IF(B91=\"\",\"\",VLOOKUP(B91,ForbsLegumes!$A$4:$AT$113,46))","v":""}]
[null,null,{"$f":"IF($B91<>\"\",VLOOKUP($B91,Forb_Table,2),\"\")","v":""},{"$f":"IF(AND(E91=\"\",F91=\"\",G91=\"\"),\"\",F92/$F$155)","v":""},{"$f":"IF(AND($D91=\"\",$F91=\"\",$G91=\"\"),\"\",IF(AND($G91=\"\",$F91<>\"\"),$F91/$P91,IF(AND($F91=\"\",$E91=\"\",$G91<>\"\"),$G91/16,\"\")))","v":""},{"$f":"IF(AND(D91=\"\",E91=\"\",F91=\"\",G91=\"\"),\"\",IF(AND(E91=\"\",G91=\"\"),\"\",IF(E91<>\"\",E91*P91,IF(G91<>\"\",E92*P91,\"\"))))","v":""},{"$f":"IF(AND(D91=\"\",E91=\"\",F91=\"\",G91=\"\"),\"\",IF(AND(E91=\"\",F91=\"\"),\"\",IF(E91<>\"\",E91*16,IF(F91<>\"\",E92*16,\"\"))))","v":""},null,null,{"$f":"IF($B91<>\"\",VLOOKUP($B91,Forb_Table,4),\"\")","v":""},null,null,null,null,null,{"$f":"IF($B91<>\"\",VLOOKUP($B91,Forb_Table,8),\"\")","v":""},null,null,null,null,null,null,null,null,"","","","1",null,"","","","","","","","","","","","",0,"",{"$f":"IF(B92=\"\",\"\",VLOOKUP(B92,ForbsLegumes!$A$4:$AT$113,46))","v":""}]
[null,null,{"$f":"IF($B93<>\"\",VLOOKUP($B93,Forb_Table,3),\"\")","v":""},null,null,null,null,{"$f":"IF($B93<>\"\",VLOOKUP($B93,Forb_Table,10),\"\")","v":""},{"$f":"IF($B93<>\"\",VLOOKUP($B93,Forb_Table,18),\"\")","v":""},{"$f":"IF($B93<>\"\",VLOOKUP($B93,Forb_Table,5),\"\")","v":""},{"$f":"IF($B93<>\"\",VLOOKUP($B93,Forb_Table,17),\"\")","v":""},{"$f":"IF($B93<>\"\",VLOOKUP($B93,Forb_Table,12),\"\")","v":""},{"$f":"IF(D94>0,D94,0)","v":""},{"$f":"IF(B93=\"\",\"\",SUM(E93:E94)*J93)","v":""},{"$f":"IF($B93<>\"\",VLOOKUP($B93,Forb_Table,11),\"\")","v":""},{"$f":"IF($B93<>\"\",VLOOKUP($B93,Forb_Table,9),\"\")","v":""},{"$f":"IF($B93<>\"\",VLOOKUP($B93,Forb_Table,13),\"\")","v":""},{"$f":"IF($B93<>\"\",VLOOKUP($B93,Forb_Table,45),\"\")","v":""},{"$f":"IF($B93<>\"\",VLOOKUP($B93,Forb_Table,15),\"\")","v":""},{"$f":"IF($B93<>\"\",VLOOKUP($B93,Forb_Table,16),\"\")","v":""},{"$f":"IF($B93<>\"\",VLOOKUP($B93,Forb_Table,14),\"\")","v":""},{"$f":"IF($B93<>\"\",VLOOKUP($B93,Forb_Table,6),\"\")","v":""},{"$f":"IF($B93<>\"\",VLOOKUP($B93,Forb_Table,7),\"\")","v":""},{"$f":"IF(C93=\"\",\"\",1)","v":""},"","","","1",null,"","","","","","","","","","","","",0,"",{"$f":"IF(B93=\"\",\"\",VLOOKUP(B93,ForbsLegumes!$A$4:$AT$113,46))","v":""}]
[null,null,{"$f":"IF($B93<>\"\",VLOOKUP($B93,Forb_Table,2),\"\")","v":""},{"$f":"IF(AND(E93=\"\",F93=\"\",G93=\"\"),\"\",F94/$F$155)","v":""},{"$f":"IF(AND($D93=\"\",$F93=\"\",$G93=\"\"),\"\",IF(AND($G93=\"\",$F93<>\"\"),$F93/$P93,IF(AND($F93=\"\",$E93=\"\",$G93<>\"\"),$G93/16,\"\")))","v":""},{"$f":"IF(AND(D93=\"\",E93=\"\",F93=\"\",G93=\"\"),\"\",IF(AND(E93=\"\",G93=\"\"),\"\",IF(E93<>\"\",E93*P93,IF(G93<>\"\",E94*P93,\"\"))))","v":""},{"$f":"IF(AND(D93=\"\",E93=\"\",F93=\"\",G93=\"\"),\"\",IF(AND(E93=\"\",F93=\"\"),\"\",IF(E93<>\"\",E93*16,IF(F93<>\"\",E94*16,\"\"))))","v":""},null,null,{"$f":"IF($B93<>\"\",VLOOKUP($B93,Forb_Table,4),\"\")","v":""},null,null,null,null,null,{"$f":"IF($B93<>\"\",VLOOKUP($B93,Forb_Table,8),\"\")","v":""},null,null,null,null,null,null,null,null,"","","","1",null,"","","","","","","","","","","","",0,"",{"$f":"IF(B94=\"\",\"\",VLOOKUP(B94,ForbsLegumes!$A$4:$AT$113,46))","v":""}]
[null,null,{"$f":"IF($B95<>\"\",VLOOKUP($B95,Forb_Table,3),\"\")","v":""},null,null,null,null,{"$f":"IF($B95<>\"\",VLOOKUP($B95,Forb_Table,10),\"\")","v":""},{"$f":"IF($B95<>\"\",VLOOKUP($B95,Forb_Table,18),\"\")","v":""},{"$f":"IF($B95<>\"\",VLOOKUP($B95,Forb_Table,5),\"\")","v":""},{"$f":"IF($B95<>\"\",VLOOKUP($B95,Forb_Table,17),\"\")","v":""},{"$f":"IF($B95<>\"\",VLOOKUP($B95,Forb_Table,12),\"\")","v":""},{"$f":"IF(D96>0,D96,0)","v":""},{"$f":"IF(B95=\"\",\"\",SUM(E95:E96)*J95)","v":""},{"$f":"IF($B95<>\"\",VLOOKUP($B95,Forb_Table,11),\"\")","v":""},{"$f":"IF($B95<>\"\",VLOOKUP($B95,Forb_Table,9),\"\")","v":""},{"$f":"IF($B95<>\"\",VLOOKUP($B95,Forb_Table,13),\"\")","v":""},{"$f":"IF($B95<>\"\",VLOOKUP($B95,Forb_Table,45),\"\")","v":""},{"$f":"IF($B95<>\"\",VLOOKUP($B95,Forb_Table,15),\"\")","v":""},{"$f":"IF($B95<>\"\",VLOOKUP($B95,Forb_Table,16),\"\")","v":""},{"$f":"IF($B95<>\"\",VLOOKUP($B95,Forb_Table,14),\"\")","v":""},{"$f":"IF($B95<>\"\",VLOOKUP($B95,Forb_Table,6),\"\")","v":""},{"$f":"IF($B95<>\"\",VLOOKUP($B95,Forb_Table,7),\"\")","v":""},{"$f":"IF(C95=\"\",\"\",1)","v":""},"","","","1",null,"","","","","","","","","","","",{"$f":"IF($B95=\"\",\"\",IF(AND($AR95=1,$C96=\"Forb\"),SUM($E95:$E96),\"\"))","v":""},{"$f":"IF(B95=\"\",0,SUM(F95:F96)/$F$155)","v":0},"",{"$f":"IF(B95=\"\",\"\",VLOOKUP(B95,ForbsLegumes!$A$4:$AT$113,46))","v":""}]
[null,null,{"$f":"IF($B95<>\"\",VLOOKUP($B95,Forb_Table,2),\"\")","v":""},{"$f":"IF(AND(E95=\"\",F95=\"\",G95=\"\"),\"\",F96/$F$155)","v":""},{"$f":"IF(AND($D95=\"\",$F95=\"\",$G95=\"\"),\"\",IF(AND($G95=\"\",$F95<>\"\"),$F95/$P95,IF(AND($F95=\"\",$E95=\"\",$G95<>\"\"),$G95/16,\"\")))","v":""},{"$f":"IF(AND(D95=\"\",E95=\"\",F95=\"\",G95=\"\"),\"\",IF(AND(E95=\"\",G95=\"\"),\"\",IF(E95<>\"\",E95*P95,IF(G95<>\"\",E96*P95,\"\"))))","v":""},{"$f":"IF(AND(D95=\"\",E95=\"\",F95=\"\",G95=\"\"),\"\",IF(AND(E95=\"\",F95=\"\"),\"\",IF(E95<>\"\",E95*16,IF(F95<>\"\",E96*16,\"\"))))","v":""},null,null,{"$f":"IF($B95<>\"\",VLOOKUP($B95,Forb_Table,4),\"\")","v":""},null,null,null,null,null,{"$f":"IF($B95<>\"\",VLOOKUP($B95,Forb_Table,8),\"\")","v":""},null,null,null,null,null,null,null,null,"","","","1",null,"","","","","","","","","","","","",0,"",{"$f":"IF(B96=\"\",\"\",VLOOKUP(B96,ForbsLegumes!$A$4:$AT$113,46))","v":""}]
[null,null,{"$f":"IF($B97<>\"\",VLOOKUP($B97,Forb_Table,3),\"\")","v":""},null,null,null,null,{"$f":"IF($B97<>\"\",VLOOKUP($B97,Forb_Table,10),\"\")","v":""},{"$f":"IF($B97<>\"\",VLOOKUP($B97,Forb_Table,18),\"\")","v":""},{"$f":"IF($B97<>\"\",VLOOKUP($B97,Forb_Table,5),\"\")","v":""},{"$f":"IF($B97<>\"\",VLOOKUP($B97,Forb_Table,17),\"\")","v":""},{"$f":"IF($B97<>\"\",VLOOKUP($B97,Forb_Table,12),\"\")","v":""},{"$f":"IF(D98>0,D98,0)","v":""},{"$f":"IF(B97=\"\",\"\",SUM(E97:E98)*J97)","v":""},{"$f":"IF($B97<>\"\",VLOOKUP($B97,Forb_Table,11),\"\")","v":""},{"$f":"IF($B97<>\"\",VLOOKUP($B97,Forb_Table,9),\"\")","v":""},{"$f":"IF($B97<>\"\",VLOOKUP($B97,Forb_Table,13),\"\")","v":""},{"$f":"IF($B97<>\"\",VLOOKUP($B97,Forb_Table,45),\"\")","v":""},{"$f":"IF($B97<>\"\",VLOOKUP($B97,Forb_Table,15),\"\")","v":""},{"$f":"IF($B97<>\"\",VLOOKUP($B97,Forb_Table,16),\"\")","v":""},{"$f":"IF($B97<>\"\",VLOOKUP($B97,Forb_Table,14),\"\")","v":""},{"$f":"IF($B97<>\"\",VLOOKUP($B97,Forb_Table,6),\"\")","v":""},{"$f":"IF($B97<>\"\",VLOOKUP($B97,Forb_Table,7),\"\")","v":""},{"$f":"IF(C97=\"\",\"\",1)","v":""},"","","","1",null,"","","","","","","","","","","","",0,"",{"$f":"IF(B97=\"\",\"\",VLOOKUP(B97,ForbsLegumes!$A$4:$AT$113,46))","v":""}]
[null,null,{"$f":"IF($B97<>\"\",VLOOKUP($B97,Forb_Table,2),\"\")","v":""},{"$f":"IF(AND(E97=\"\",F97=\"\",G97=\"\"),\"\",F98/$F$155)","v":""},{"$f":"IF(AND($D97=\"\",$F97=\"\",$G97=\"\"),\"\",IF(AND($G97=\"\",$F97<>\"\"),$F97/$P97,IF(AND($F97=\"\",$E97=\"\",$G97<>\"\"),$G97/16,\"\")))","v":""},{"$f":"IF(AND(D97=\"\",E97=\"\",F97=\"\",G97=\"\"),\"\",IF(AND(E97=\"\",G97=\"\"),\"\",IF(E97<>\"\",E97*P97,IF(G97<>\"\",E98*P97,\"\"))))","v":""},{"$f":"IF(AND(D97=\"\",E97=\"\",F97=\"\",G97=\"\"),\"\",IF(AND(E97=\"\",F97=\"\"),\"\",IF(E97<>\"\",E97*16,IF(F97<>\"\",E98*16,\"\"))))","v":""},null,null,{"$f":"IF($B97<>\"\",VLOOKUP($B97,Forb_Table,4),\"\")","v":""},null,null,null,null,null,{"$f":"IF($B97<>\"\",VLOOKUP($B97,Forb_Table,8),\"\")","v":""},null,null,null,null,null,null,null,null,"","","","1",null,"","","","","","","","","","","","",0,"",{"$f":"IF(B98=\"\",\"\",VLOOKUP(B98,ForbsLegumes!$A$4:$AT$113,46))","v":""}]
[null,null,{"$f":"IF($B99<>\"\",VLOOKUP($B99,Forb_Table,3),\"\")","v":""},null,null,null,null,{"$f":"IF($B99<>\"\",VLOOKUP($B99,Forb_Table,10),\"\")","v":""},{"$f":"IF($B99<>\"\",VLOOKUP($B99,Forb_Table,18),\"\")","v":""},{"$f":"IF($B99<>\"\",VLOOKUP($B99,Forb_Table,5),\"\")","v":""},{"$f":"IF($B99<>\"\",VLOOKUP($B99,Forb_Table,17),\"\")","v":""},{"$f":"IF($B99<>\"\",VLOOKUP($B99,Forb_Table,12),\"\")","v":""},{"$f":"IF(D100>0,D100,0)","v":""},{"$f":"IF(B99=\"\",\"\",SUM(E99:E100)*J99)","v":""},{"$f":"IF($B99<>\"\",VLOOKUP($B99,Forb_Table,11),\"\")","v":""},{"$f":"IF($B99<>\"\",VLOOKUP($B99,Forb_Table,9),\"\")","v":""},{"$f":"IF($B99<>\"\",VLOOKUP($B99,Forb_Table,13),\"\")","v":""},{"$f":"IF($B99<>\"\",VLOOKUP($B99,Forb_Table,45),\"\")","v":""},{"$f":"IF($B99<>\"\",VLOOKUP($B99,Forb_Table,15),\"\")","v":""},{"$f":"IF($B99<>\"\",VLOOKUP($B99,Forb_Table,16),\"\")","v":""},{"$f":"IF($B99<>\"\",VLOOKUP($B99,Forb_Table,14),\"\")","v":""},{"$f":"IF($B99<>\"\",VLOOKUP($B99,Forb_Table,6),\"\")","v":""},{"$f":"IF($B99<>\"\",VLOOKUP($B99,Forb_Table,7),\"\")","v":""},{"$f":"IF(C99=\"\",\"\",1)","v":""},"","","","1",null,"","","","","","","","","","","","",0,"",{"$f":"IF(B99=\"\",\"\",VLOOKUP(B99,ForbsLegumes!$A$4:$AT$113,46))","v":""}]
[null,null,{"$f":"IF($B99<>\"\",VLOOKUP($B99,Forb_Table,2),\"\")","v":""},{"$f":"IF(AND(E99=\"\",F99=\"\",G99=\"\"),\"\",F100/$F$155)","v":""},{"$f":"IF(AND($D99=\"\",$F99=\"\",$G99=\"\"),\"\",IF(AND($G99=\"\",$F99<>\"\"),$F99/$P99,IF(AND($F99=\"\",$E99=\"\",$G99<>\"\"),$G99/16,\"\")))","v":""},{"$f":"IF(AND(D99=\"\",E99=\"\",F99=\"\",G99=\"\"),\"\",IF(AND(E99=\"\",G99=\"\"),\"\",IF(E99<>\"\",E99*P99,IF(G99<>\"\",E100*P99,\"\"))))","v":""},{"$f":"IF(AND(D99=\"\",E99=\"\",F99=\"\",G99=\"\"),\"\",IF(AND(E99=\"\",F99=\"\"),\"\",IF(E99<>\"\",E99*16,IF(F99<>\"\",E100*16,\"\"))))","v":""},null,null,{"$f":"IF($B99<>\"\",VLOOKUP($B99,Forb_Table,4),\"\")","v":""},null,null,null,null,null,{"$f":"IF($B99<>\"\",VLOOKUP($B99,Forb_Table,8),\"\")","v":""},null,null,null,null,null,null,null,null,"","","","1",null,"","","","","","","","","","","","",0,"",{"$f":"IF(B100=\"\",\"\",VLOOKUP(B100,ForbsLegumes!$A$4:$AT$113,46))","v":""}]
[null,null,{"$f":"IF($B101<>\"\",VLOOKUP($B101,Forb_Table,3),\"\")","v":""},null,null,null,null,{"$f":"IF($B101<>\"\",VLOOKUP($B101,Forb_Table,10),\"\")","v":""},{"$f":"IF($B101<>\"\",VLOOKUP($B101,Forb_Table,18),\"\")","v":""},{"$f":"IF($B101<>\"\",VLOOKUP($B101,Forb_Table,5),\"\")","v":""},{"$f":"IF($B101<>\"\",VLOOKUP($B101,Forb_Table,17),\"\")","v":""},{"$f":"IF($B101<>\"\",VLOOKUP($B101,Forb_Table,12),\"\")","v":""},{"$f":"IF(D102>0,D102,0)","v":""},{"$f":"IF(B101=\"\",\"\",SUM(E101:E102)*J101)","v":""},{"$f":"IF($B101<>\"\",VLOOKUP($B101,Forb_Table,11),\"\")","v":""},{"$f":"IF($B101<>\"\",VLOOKUP($B101,Forb_Table,9),\"\")","v":""},{"$f":"IF($B101<>\"\",VLOOKUP($B101,Forb_Table,13),\"\")","v":""},{"$f":"IF($B101<>\"\",VLOOKUP($B101,Forb_Table,45),\"\")","v":""},{"$f":"IF($B101<>\"\",VLOOKUP($B101,Forb_Table,15),\"\")","v":""},{"$f":"IF($B101<>\"\",VLOOKUP($B101,Forb_Table,16),\"\")","v":""},{"$f":"IF($B101<>\"\",VLOOKUP($B101,Forb_Table,14),\"\")","v":""},{"$f":"IF($B101<>\"\",VLOOKUP($B101,Forb_Table,6),\"\")","v":""},{"$f":"IF($B101<>\"\",VLOOKUP($B101,Forb_Table,7),\"\")","v":""},{"$f":"IF(C101=\"\",\"\",1)","v":""},"","","","1",null,"","","","","","","","","","","","",0,"",{"$f":"IF(B101=\"\",\"\",VLOOKUP(B101,ForbsLegumes!$A$4:$AT$113,46))","v":""}]
[null,null,{"$f":"IF($B101<>\"\",VLOOKUP($B101,Forb_Table,2),\"\")","v":""},{"$f":"IF(AND(E101=\"\",F101=\"\",G101=\"\"),\"\",F102/$F$155)","v":""},{"$f":"IF(AND($D101=\"\",$F101=\"\",$G101=\"\"),\"\",IF(AND($G101=\"\",$F101<>\"\"),$F101/$P101,IF(AND($F101=\"\",$E101=\"\",$G101<>\"\"),$G101/16,\"\")))","v":""},{"$f":"IF(AND(D101=\"\",E101=\"\",F101=\"\",G101=\"\"),\"\",IF(AND(E101=\"\",G101=\"\"),\"\",IF(E101<>\"\",E101*P101,IF(G101<>\"\",E102*P101,\"\"))))","v":""},{"$f":"IF(AND(D101=\"\",E101=\"\",F101=\"\",G101=\"\"),\"\",IF(AND(E101=\"\",F101=\"\"),\"\",IF(E101<>\"\",E101*16,IF(F101<>\"\",E102*16,\"\"))))","v":""},null,null,{"$f":"IF($B101<>\"\",VLOOKUP($B101,Forb_Table,4),\"\")","v":""},null,null,null,null,null,{"$f":"IF($B101<>\"\",VLOOKUP($B101,Forb_Table,8),\"\")","v":""},null,null,null,null,null,null,null,null,"","","","1",null,"","","","","","","","","","","","",0,"",{"$f":"IF(B102=\"\",\"\",VLOOKUP(B102,ForbsLegumes!$A$4:$AT$113,46))","v":""}]
[null,null,{"$f":"IF($B103<>\"\",VLOOKUP($B103,Forb_Table,3),\"\")","v":""},null,null,null,null,{"$f":"IF($B103<>\"\",VLOOKUP($B103,Forb_Table,10),\"\")","v":""},{"$f":"IF($B103<>\"\",VLOOKUP($B103,Forb_Table,18),\"\")","v":""},{"$f":"IF($B103<>\"\",VLOOKUP($B103,Forb_Table,5),\"\")","v":""},{"$f":"IF($B103<>\"\",VLOOKUP($B103,Forb_Table,17),\"\")","v":""},{"$f":"IF($B103<>\"\",VLOOKUP($B103,Forb_Table,12),\"\")","v":""},{"$f":"IF(D104>0,D104,0)","v":""},{"$f":"IF(B103=\"\",\"\",SUM(E103:E104)*J103)","v":""},{"$f":"IF($B103<>\"\",VLOOKUP($B103,Forb_Table,11),\"\")","v":""},{"$f":"IF($B103<>\"\",VLOOKUP($B103,Forb_Table,9),\"\")","v":""},{"$f":"IF($B103<>\"\",VLOOKUP($B103,Forb_Table,13),\"\")","v":""},{"$f":"IF($B103<>\"\",VLOOKUP($B103,Forb_Table,45),\"\")","v":""},{"$f":"IF($B103<>\"\",VLOOKUP($B103,Forb_Table,15),\"\")","v":""},{"$f":"IF($B103<>\"\",VLOOKUP($B103,Forb_Table,16),\"\")","v":""},{"$f":"IF($B103<>\"\",VLOOKUP($B103,Forb_Table,14),\"\")","v":""},{"$f":"IF($B103<>\"\",VLOOKUP($B103,Forb_Table,6),\"\")","v":""},{"$f":"IF($B103<>\"\",VLOOKUP($B103,Forb_Table,7),\"\")","v":""},{"$f":"IF(C103=\"\",\"\",1)","v":""},"","","","1",null,"","","","","","","","","","","","",0,"",{"$f":"IF(B103=\"\",\"\",VLOOKUP(B103,ForbsLegumes!$A$4:$AT$113,46))","v":""}]
[null,null,{"$f":"IF($B103<>\"\",VLOOKUP($B103,Forb_Table,2),\"\")","v":""},{"$f":"IF(AND(E103=\"\",F103=\"\",G103=\"\"),\"\",F104/$F$155)","v":""},{"$f":"IF(AND($D103=\"\",$F103=\"\",$G103=\"\"),\"\",IF(AND($G103=\"\",$F103<>\"\"),$F103/$P103,IF(AND($F103=\"\",$E103=\"\",$G103<>\"\"),$G103/16,\"\")))","v":""},{"$f":"IF(AND(D103=\"\",E103=\"\",F103=\"\",G103=\"\"),\"\",IF(AND(E103=\"\",G103=\"\"),\"\",IF(E103<>\"\",E103*P103,IF(G103<>\"\",E104*P103,\"\"))))","v":""},{"$f":"IF(AND(D103=\"\",E103=\"\",F103=\"\",G103=\"\"),\"\",IF(AND(E103=\"\",F103=\"\"),\"\",IF(E103<>\"\",E103*16,IF(F103<>\"\",E104*16,\"\"))))","v":""},null,null,{"$f":"IF($B103<>\"\",VLOOKUP($B103,Forb_Table,4),\"\")","v":""},null,null,null,null,null,{"$f":"IF($B103<>\"\",VLOOKUP($B103,Forb_Table,8),\"\")","v":""},null,null,null,null,null,null,null,null,"","","","1",null,"","","","","","","","","","","","",0,"",{"$f":"IF(B104=\"\",\"\",VLOOKUP(B104,ForbsLegumes!$A$4:$AT$113,46))","v":""}]
[null,null,{"$f":"IF($B105<>\"\",VLOOKUP($B105,Forb_Table,3),\"\")","v":""},null,null,null,null,{"$f":"IF($B105<>\"\",VLOOKUP($B105,Forb_Table,10),\"\")","v":""},{"$f":"IF($B105<>\"\",VLOOKUP($B105,Forb_Table,18),\"\")","v":""},{"$f":"IF($B105<>\"\",VLOOKUP($B105,Forb_Table,5),\"\")","v":""},{"$f":"IF($B105<>\"\",VLOOKUP($B105,Forb_Table,17),\"\")","v":""},{"$f":"IF($B105<>\"\",VLOOKUP($B105,Forb_Table,12),\"\")","v":""},{"$f":"IF(D106>0,D106,0)","v":""},{"$f":"IF(B105=\"\",\"\",SUM(E105:E106)*J105)","v":""},{"$f":"IF($B105<>\"\",VLOOKUP($B105,Forb_Table,11),\"\")","v":""},{"$f":"IF($B105<>\"\",VLOOKUP($B105,Forb_Table,9),\"\")","v":""},{"$f":"IF($B105<>\"\",VLOOKUP($B105,Forb_Table,13),\"\")","v":""},{"$f":"IF($B105<>\"\",VLOOKUP($B105,Forb_Table,45),\"\")","v":""},{"$f":"IF($B105<>\"\",VLOOKUP($B105,Forb_Table,15),\"\")","v":""},{"$f":"IF($B105<>\"\",VLOOKUP($B105,Forb_Table,16),\"\")","v":""},{"$f":"IF($B105<>\"\",VLOOKUP($B105,Forb_Table,14),\"\")","v":""},{"$f":"IF($B105<>\"\",VLOOKUP($B105,Forb_Table,6),\"\")","v":""},{"$f":"IF($B105<>\"\",VLOOKUP($B105,Forb_Table,7),\"\")","v":""},{"$f":"IF(C105=\"\",\"\",1)","v":""},"","","","1",null,"","","","","","","","","","","","",0,"",{"$f":"IF(B105=\"\",\"\",VLOOKUP(B105,ForbsLegumes!$A$4:$AT$113,46))","v":""}]
[null,null,{"$f":"IF($B105<>\"\",VLOOKUP($B105,Forb_Table,2),\"\")","v":""},{"$f":"IF(AND(E105=\"\",F105=\"\",G105=\"\"),\"\",F106/$F$155)","v":""},{"$f":"IF(AND($D105=\"\",$F105=\"\",$G105=\"\"),\"\",IF(AND($G105=\"\",$F105<>\"\"),$F105/$P105,IF(AND($F105=\"\",$E105=\"\",$G105<>\"\"),$G105/16,\"\")))","v":""},{"$f":"IF(AND(D105=\"\",E105=\"\",F105=\"\",G105=\"\"),\"\",IF(AND(E105=\"\",G105=\"\"),\"\",IF(E105<>\"\",E105*P105,IF(G105<>\"\",E106*P105,\"\"))))","v":""},{"$f":"IF(AND(D105=\"\",E105=\"\",F105=\"\",G105=\"\"),\"\",IF(AND(E105=\"\",F105=\"\"),\"\",IF(E105<>\"\",E105*16,IF(F105<>\"\",E106*16,\"\"))))","v":""},null,null,{"$f":"IF($B105<>\"\",VLOOKUP($B105,Forb_Table,4),\"\")","v":""},null,null,null,null,null,{"$f":"IF($B105<>\"\",VLOOKUP($B105,Forb_Table,8),\"\")","v":""},null,null,null,null,null,null,null,null,"","","","1",null,"","","","","","","","","","","","",0,"",{"$f":"IF(B106=\"\",\"\",VLOOKUP(B106,ForbsLegumes!$A$4:$AT$113,46))","v":""}]
[null,null,{"$f":"IF($B107<>\"\",VLOOKUP($B107,Forb_Table,3),\"\")","v":""},null,null,null,null,{"$f":"IF($B107<>\"\",VLOOKUP($B107,Forb_Table,10),\"\")","v":""},{"$f":"IF($B107<>\"\",VLOOKUP($B107,Forb_Table,18),\"\")","v":""},{"$f":"IF($B107<>\"\",VLOOKUP($B107,Forb_Table,5),\"\")","v":""},{"$f":"IF($B107<>\"\",VLOOKUP($B107,Forb_Table,17),\"\")","v":""},{"$f":"IF($B107<>\"\",VLOOKUP($B107,Forb_Table,12),\"\")","v":""},{"$f":"IF(D108>0,D108,0)","v":""},{"$f":"IF(B107=\"\",\"\",SUM(E107:E108)*J107)","v":""},{"$f":"IF($B107<>\"\",VLOOKUP($B107,Forb_Table,11),\"\")","v":""},{"$f":"IF($B107<>\"\",VLOOKUP($B107,Forb_Table,9),\"\")","v":""},{"$f":"IF($B107<>\"\",VLOOKUP($B107,Forb_Table,13),\"\")","v":""},{"$f":"IF($B107<>\"\",VLOOKUP($B107,Forb_Table,45),\"\")","v":""},{"$f":"IF($B107<>\"\",VLOOKUP($B107,Forb_Table,15),\"\")","v":""},{"$f":"IF($B107<>\"\",VLOOKUP($B107,Forb_Table,16),\"\")","v":""},{"$f":"IF($B107<>\"\",VLOOKUP($B107,Forb_Table,14),\"\")","v":""},{"$f":"IF($B107<>\"\",VLOOKUP($B107,Forb_Table,6),\"\")","v":""},{"$f":"IF($B107<>\"\",VLOOKUP($B107,Forb_Table,7),\"\")","v":""},{"$f":"IF(C107=\"\",\"\",1)","v":""},"","","","1",null,"","","","","","","","","","","","",0,"",{"$f":"IF(B107=\"\",\"\",VLOOKUP(B107,ForbsLegumes!$A$4:$AT$113,46))","v":""}]
[null,null,{"$f":"IF($B107<>\"\",VLOOKUP($B107,Forb_Table,2),\"\")","v":""},{"$f":"IF(AND(E107=\"\",F107=\"\",G107=\"\"),\"\",F108/$F$155)","v":""},{"$f":"IF(AND($D107=\"\",$F107=\"\",$G107=\"\"),\"\",IF(AND($G107=\"\",$F107<>\"\"),$F107/$P107,IF(AND($F107=\"\",$E107=\"\",$G107<>\"\"),$G107/16,\"\")))","v":""},{"$f":"IF(AND(D107=\"\",E107=\"\",F107=\"\",G107=\"\"),\"\",IF(AND(E107=\"\",G107=\"\"),\"\",IF(E107<>\"\",E107*P107,IF(G107<>\"\",E108*P107,\"\"))))","v":""},{"$f":"IF(AND(D107=\"\",E107=\"\",F107=\"\",G107=\"\"),\"\",IF(AND(E107=\"\",F107=\"\"),\"\",IF(E107<>\"\",E107*16,IF(F107<>\"\",E108*16,\"\"))))","v":""},null,null,{"$f":"IF($B107<>\"\",VLOOKUP($B107,Forb_Table,4),\"\")","v":""},null,null,null,null,null,{"$f":"IF($B107<>\"\",VLOOKUP($B107,Forb_Table,8),\"\")","v":""},null,null,null,null,null,null,null,null,"","","","1",null,"","","","","","","","","","","","",0,"",{"$f":"IF(B108=\"\",\"\",VLOOKUP(B108,ForbsLegumes!$A$4:$AT$113,46))","v":""}]
[null,null,{"$f":"IF($B109<>\"\",VLOOKUP($B109,Forb_Table,3),\"\")","v":""},null,null,null,null,{"$f":"IF($B109<>\"\",VLOOKUP($B109,Forb_Table,10),\"\")","v":""},{"$f":"IF($B109<>\"\",VLOOKUP($B109,Forb_Table,18),\"\")","v":""},{"$f":"IF($B109<>\"\",VLOOKUP($B109,Forb_Table,5),\"\")","v":""},{"$f":"IF($B109<>\"\",VLOOKUP($B109,Forb_Table,17),\"\")","v":""},{"$f":"IF($B109<>\"\",VLOOKUP($B109,Forb_Table,12),\"\")","v":""},{"$f":"IF(D110>0,D110,0)","v":""},{"$f":"IF(B109=\"\",\"\",SUM(E109:E110)*J109)","v":""},{"$f":"IF($B109<>\"\",VLOOKUP($B109,Forb_Table,11),\"\")","v":""},{"$f":"IF($B109<>\"\",VLOOKUP($B109,Forb_Table,9),\"\")","v":""},{"$f":"IF($B109<>\"\",VLOOKUP($B109,Forb_Table,13),\"\")","v":""},{"$f":"IF($B109<>\"\",VLOOKUP($B109,Forb_Table,45),\"\")","v":""},{"$f":"IF($B109<>\"\",VLOOKUP($B109,Forb_Table,15),\"\")","v":""},{"$f":"IF($B109<>\"\",VLOOKUP($B109,Forb_Table,16),\"\")","v":""},{"$f":"IF($B109<>\"\",VLOOKUP($B109,Forb_Table,14),\"\")","v":""},{"$f":"IF($B109<>\"\",VLOOKUP($B109,Forb_Table,6),\"\")","v":""},{"$f":"IF($B109<>\"\",VLOOKUP($B109,Forb_Table,7),\"\")","v":""},{"$f":"IF(C109=\"\",\"\",1)","v":""},"","","","1",null,"","","","","","","","","","","","",0,"",{"$f":"IF(B109=\"\",\"\",VLOOKUP(B109,ForbsLegumes!$A$4:$AT$113,46))","v":""}]
[null,null,{"$f":"IF($B109<>\"\",VLOOKUP($B109,Forb_Table,2),\"\")","v":""},{"$f":"IF(AND(E109=\"\",F109=\"\",G109=\"\"),\"\",F110/$F$155)","v":""},{"$f":"IF(AND($D109=\"\",$F109=\"\",$G109=\"\"),\"\",IF(AND($G109=\"\",$F109<>\"\"),$F109/$P109,IF(AND($F109=\"\",$E109=\"\",$G109<>\"\"),$G109/16,\"\")))","v":""},{"$f":"IF(AND(D109=\"\",E109=\"\",F109=\"\",G109=\"\"),\"\",IF(AND(E109=\"\",G109=\"\"),\"\",IF(E109<>\"\",E109*P109,IF(G109<>\"\",E110*P109,\"\"))))","v":""},{"$f":"IF(AND(D109=\"\",E109=\"\",F109=\"\",G109=\"\"),\"\",IF(AND(E109=\"\",F109=\"\"),\"\",IF(E109<>\"\",E109*16,IF(F109<>\"\",E110*16,\"\"))))","v":""},null,null,{"$f":"IF($B109<>\"\",VLOOKUP($B109,Forb_Table,4),\"\")","v":""},null,null,null,null,null,{"$f":"IF($B109<>\"\",VLOOKUP($B109,Forb_Table,8),\"\")","v":""},null,null,null,null,null,null,null,null,"","","","1",null,"","","","","","","","","","","","",0,"",{"$f":"IF(B110=\"\",\"\",VLOOKUP(B110,ForbsLegumes!$A$4:$AT$113,46))","v":""}]
[null,null,{"$f":"IF($B111<>\"\",VLOOKUP($B111,Forb_Table,3),\"\")","v":""},null,null,null,null,{"$f":"IF($B111<>\"\",VLOOKUP($B111,Forb_Table,10),\"\")","v":""},{"$f":"IF($B111<>\"\",VLOOKUP($B111,Forb_Table,18),\"\")","v":""},{"$f":"IF($B111<>\"\",VLOOKUP($B111,Forb_Table,5),\"\")","v":""},{"$f":"IF($B111<>\"\",VLOOKUP($B111,Forb_Table,17),\"\")","v":""},{"$f":"IF($B111<>\"\",VLOOKUP($B111,Forb_Table,12),\"\")","v":""},{"$f":"IF(D112>0,D112,0)","v":""},{"$f":"IF(B111=\"\",\"\",SUM(E111:E112)*J111)","v":""},{"$f":"IF($B111<>\"\",VLOOKUP($B111,Forb_Table,11),\"\")","v":""},{"$f":"IF($B111<>\"\",VLOOKUP($B111,Forb_Table,9),\"\")","v":""},{"$f":"IF($B111<>\"\",VLOOKUP($B111,Forb_Table,13),\"\")","v":""},{"$f":"IF($B111<>\"\",VLOOKUP($B111,Forb_Table,45),\"\")","v":""},{"$f":"IF($B111<>\"\",VLOOKUP($B111,Forb_Table,15),\"\")","v":""},{"$f":"IF($B111<>\"\",VLOOKUP($B111,Forb_Table,16),\"\")","v":""},{"$f":"IF($B111<>\"\",VLOOKUP($B111,Forb_Table,14),\"\")","v":""},{"$f":"IF($B111<>\"\",VLOOKUP($B111,Forb_Table,6),\"\")","v":""},{"$f":"IF($B111<>\"\",VLOOKUP($B111,Forb_Table,7),\"\")","v":""},{"$f":"IF(C111=\"\",\"\",1)","v":""},"","","","1",null,"","","","","","","","","","","","",0,"",{"$f":"IF(B111=\"\",\"\",VLOOKUP(B111,ForbsLegumes!$A$4:$AT$113,46))","v":""}]
[null,null,{"$f":"IF($B111<>\"\",VLOOKUP($B111,Forb_Table,2),\"\")","v":""},{"$f":"IF(AND(E111=\"\",F111=\"\",G111=\"\"),\"\",F112/$F$155)","v":""},{"$f":"IF(AND($D111=\"\",$F111=\"\",$G111=\"\"),\"\",IF(AND($G111=\"\",$F111<>\"\"),$F111/$P111,IF(AND($F111=\"\",$E111=\"\",$G111<>\"\"),$G111/16,\"\")))","v":""},{"$f":"IF(AND(D111=\"\",E111=\"\",F111=\"\",G111=\"\"),\"\",IF(AND(E111=\"\",G111=\"\"),\"\",IF(E111<>\"\",E111*P111,IF(G111<>\"\",E112*P111,\"\"))))","v":""},{"$f":"IF(AND(D111=\"\",E111=\"\",F111=\"\",G111=\"\"),\"\",IF(AND(E111=\"\",F111=\"\"),\"\",IF(E111<>\"\",E111*16,IF(F111<>\"\",E112*16,\"\"))))","v":""},null,null,{"$f":"IF($B111<>\"\",VLOOKUP($B111,Forb_Table,4),\"\")","v":""},null,null,null,null,null,{"$f":"IF($B111<>\"\",VLOOKUP($B111,Forb_Table,8),\"\")","v":""},null,null,null,null,null,null,null,null,"","","","1",null,"","","","","","","","","","","","",0,"",{"$f":"IF(B112=\"\",\"\",VLOOKUP(B112,ForbsLegumes!$A$4:$AT$113,46))","v":""}]
[null,null,{"$f":"IF($B113<>\"\",VLOOKUP($B113,Forb_Table,3),\"\")","v":""},null,null,null,null,{"$f":"IF($B113<>\"\",VLOOKUP($B113,Forb_Table,10),\"\")","v":""},{"$f":"IF($B113<>\"\",VLOOKUP($B113,Forb_Table,18),\"\")","v":""},{"$f":"IF($B113<>\"\",VLOOKUP($B113,Forb_Table,5),\"\")","v":""},{"$f":"IF($B113<>\"\",VLOOKUP($B113,Forb_Table,17),\"\")","v":""},{"$f":"IF($B113<>\"\",VLOOKUP($B113,Forb_Table,12),\"\")","v":""},{"$f":"IF(D114>0,D114,0)","v":""},{"$f":"IF(B113=\"\",\"\",SUM(E113:E114)*J113)","v":""},{"$f":"IF($B113<>\"\",VLOOKUP($B113,Forb_Table,11),\"\")","v":""},{"$f":"IF($B113<>\"\",VLOOKUP($B113,Forb_Table,9),\"\")","v":""},{"$f":"IF($B113<>\"\",VLOOKUP($B113,Forb_Table,13),\"\")","v":""},{"$f":"IF($B113<>\"\",VLOOKUP($B113,Forb_Table,45),\"\")","v":""},{"$f":"IF($B113<>\"\",VLOOKUP($B113,Forb_Table,15),\"\")","v":""},{"$f":"IF($B113<>\"\",VLOOKUP($B113,Forb_Table,16),\"\")","v":""},{"$f":"IF($B113<>\"\",VLOOKUP($B113,Forb_Table,14),\"\")","v":""},{"$f":"IF($B113<>\"\",VLOOKUP($B113,Forb_Table,6),\"\")","v":""},{"$f":"IF($B113<>\"\",VLOOKUP($B113,Forb_Table,7),\"\")","v":""},{"$f":"IF(C113=\"\",\"\",1)","v":""},"","","","1",null,"","","","","","","","","","","","",0,"",{"$f":"IF(B113=\"\",\"\",VLOOKUP(B113,ForbsLegumes!$A$4:$AT$113,46))","v":""}]
[null,null,{"$f":"IF($B113<>\"\",VLOOKUP($B113,Forb_Table,2),\"\")","v":""},{"$f":"IF(AND(E113=\"\",F113=\"\",G113=\"\"),\"\",F114/$F$155)","v":""},{"$f":"IF(AND($D113=\"\",$F113=\"\",$G113=\"\"),\"\",IF(AND($G113=\"\",$F113<>\"\"),$F113/$P113,IF(AND($F113=\"\",$E113=\"\",$G113<>\"\"),$G113/16,\"\")))","v":""},{"$f":"IF(AND(D113=\"\",E113=\"\",F113=\"\",G113=\"\"),\"\",IF(AND(E113=\"\",G113=\"\"),\"\",IF(E113<>\"\",E113*P113,IF(G113<>\"\",E114*P113,\"\"))))","v":""},{"$f":"IF(AND(D113=\"\",E113=\"\",F113=\"\",G113=\"\"),\"\",IF(AND(E113=\"\",F113=\"\"),\"\",IF(E113<>\"\",E113*16,IF(F113<>\"\",E114*16,\"\"))))","v":""},null,null,{"$f":"IF($B113<>\"\",VLOOKUP($B113,Forb_Table,4),\"\")","v":""},null,null,null,null,null,{"$f":"IF($B113<>\"\",VLOOKUP($B113,Forb_Table,8),\"\")","v":""},null,null,null,null,null,null,null,null,"","","","1",null,"","","","","","","","","","","","",0,"",{"$f":"IF(B114=\"\",\"\",VLOOKUP(B114,ForbsLegumes!$A$4:$AT$113,46))","v":""}]
[null,null,{"$f":"IF($B115<>\"\",VLOOKUP($B115,Forb_Table,3),\"\")","v":""},null,null,null,null,{"$f":"IF($B115<>\"\",VLOOKUP($B115,Forb_Table,10),\"\")","v":""},{"$f":"IF($B115<>\"\",VLOOKUP($B115,Forb_Table,18),\"\")","v":""},{"$f":"IF($B115<>\"\",VLOOKUP($B115,Forb_Table,5),\"\")","v":""},{"$f":"IF($B115<>\"\",VLOOKUP($B115,Forb_Table,17),\"\")","v":""},{"$f":"IF($B115<>\"\",VLOOKUP($B115,Forb_Table,12),\"\")","v":""},{"$f":"IF(D116>0,D116,0)","v":""},{"$f":"IF(B115=\"\",\"\",SUM(E115:E116)*J115)","v":""},{"$f":"IF($B115<>\"\",VLOOKUP($B115,Forb_Table,11),\"\")","v":""},{"$f":"IF($B115<>\"\",VLOOKUP($B115,Forb_Table,9),\"\")","v":""},{"$f":"IF($B115<>\"\",VLOOKUP($B115,Forb_Table,13),\"\")","v":""},{"$f":"IF($B115<>\"\",VLOOKUP($B115,Forb_Table,45),\"\")","v":""},{"$f":"IF($B115<>\"\",VLOOKUP($B115,Forb_Table,15),\"\")","v":""},{"$f":"IF($B115<>\"\",VLOOKUP($B115,Forb_Table,16),\"\")","v":""},{"$f":"IF($B115<>\"\",VLOOKUP($B115,Forb_Table,14),\"\")","v":""},{"$f":"IF($B115<>\"\",VLOOKUP($B115,Forb_Table,6),\"\")","v":""},{"$f":"IF($B115<>\"\",VLOOKUP($B115,Forb_Table,7),\"\")","v":""},{"$f":"IF(C115=\"\",\"\",1)","v":""},"","","","1",null,"","","","","","","","","","","","",0,"",{"$f":"IF(B115=\"\",\"\",VLOOKUP(B115,ForbsLegumes!$A$4:$AT$113,46))","v":""}]
[null,null,{"$f":"IF($B115<>\"\",VLOOKUP($B115,Forb_Table,2),\"\")","v":""},{"$f":"IF(AND(E115=\"\",F115=\"\",G115=\"\"),\"\",F116/$F$155)","v":""},{"$f":"IF(AND($D115=\"\",$F115=\"\",$G115=\"\"),\"\",IF(AND($G115=\"\",$F115<>\"\"),$F115/$P115,IF(AND($F115=\"\",$E115=\"\",$G115<>\"\"),$G115/16,\"\")))","v":""},{"$f":"IF(AND(D115=\"\",E115=\"\",F115=\"\",G115=\"\"),\"\",IF(AND(E115=\"\",G115=\"\"),\"\",IF(E115<>\"\",E115*P115,IF(G115<>\"\",E116*P115,\"\"))))","v":""},{"$f":"IF(AND(D115=\"\",E115=\"\",F115=\"\",G115=\"\"),\"\",IF(AND(E115=\"\",F115=\"\"),\"\",IF(E115<>\"\",E115*16,IF(F115<>\"\",E116*16,\"\"))))","v":""},null,null,{"$f":"IF($B115<>\"\",VLOOKUP($B115,Forb_Table,4),\"\")","v":""},null,null,null,null,null,{"$f":"IF($B115<>\"\",VLOOKUP($B115,Forb_Table,8),\"\")","v":""},null,null,null,null,null,null,null,null,"","","","1",null,"","","","","","","","","","","","",0,"",{"$f":"IF(B116=\"\",\"\",VLOOKUP(B116,ForbsLegumes!$A$4:$AT$113,46))","v":""}]
[null,null,{"$f":"IF($B117<>\"\",VLOOKUP($B117,Forb_Table,3),\"\")","v":""},null,null,null,null,{"$f":"IF($B117<>\"\",VLOOKUP($B117,Forb_Table,10),\"\")","v":""},{"$f":"IF($B117<>\"\",VLOOKUP($B117,Forb_Table,18),\"\")","v":""},{"$f":"IF($B117<>\"\",VLOOKUP($B117,Forb_Table,5),\"\")","v":""},{"$f":"IF($B117<>\"\",VLOOKUP($B117,Forb_Table,17),\"\")","v":""},{"$f":"IF($B117<>\"\",VLOOKUP($B117,Forb_Table,12),\"\")","v":""},{"$f":"IF(D118>0,D118,0)","v":""},{"$f":"IF(B117=\"\",\"\",SUM(E117:E118)*J117)","v":""},{"$f":"IF($B117<>\"\",VLOOKUP($B117,Forb_Table,11),\"\")","v":""},{"$f":"IF($B117<>\"\",VLOOKUP($B117,Forb_Table,9),\"\")","v":""},{"$f":"IF($B117<>\"\",VLOOKUP($B117,Forb_Table,13),\"\")","v":""},{"$f":"IF($B117<>\"\",VLOOKUP($B117,Forb_Table,45),\"\")","v":""},{"$f":"IF($B117<>\"\",VLOOKUP($B117,Forb_Table,15),\"\")","v":""},{"$f":"IF($B117<>\"\",VLOOKUP($B117,Forb_Table,16),\"\")","v":""},{"$f":"IF($B117<>\"\",VLOOKUP($B117,Forb_Table,14),\"\")","v":""},{"$f":"IF($B117<>\"\",VLOOKUP($B117,Forb_Table,6),\"\")","v":""},{"$f":"IF($B117<>\"\",VLOOKUP($B117,Forb_Table,7),\"\")","v":""},{"$f":"IF(C117=\"\",\"\",1)","v":""},"","","","1",null,"","","","","","","","","","","","",0,"",{"$f":"IF(B117=\"\",\"\",VLOOKUP(B117,ForbsLegumes!$A$4:$AT$113,46))","v":""}]
[null,null,{"$f":"IF($B117<>\"\",VLOOKUP($B117,Forb_Table,2),\"\")","v":""},{"$f":"IF(AND(E117=\"\",F117=\"\",G117=\"\"),\"\",F118/$F$155)","v":""},{"$f":"IF(AND($D117=\"\",$F117=\"\",$G117=\"\"),\"\",IF(AND($G117=\"\",$F117<>\"\"),$F117/$P117,IF(AND($F117=\"\",$E117=\"\",$G117<>\"\"),$G117/16,\"\")))","v":""},{"$f":"IF(AND(D117=\"\",E117=\"\",F117=\"\",G117=\"\"),\"\",IF(AND(E117=\"\",G117=\"\"),\"\",IF(E117<>\"\",E117*P117,IF(G117<>\"\",E118*P117,\"\"))))","v":""},{"$f":"IF(AND(D117=\"\",E117=\"\",F117=\"\",G117=\"\"),\"\",IF(AND(E117=\"\",F117=\"\"),\"\",IF(E117<>\"\",E117*16,IF(F117<>\"\",E118*16,\"\"))))","v":""},null,null,{"$f":"IF($B117<>\"\",VLOOKUP($B117,Forb_Table,4),\"\")","v":""},null,null,null,null,null,{"$f":"IF($B117<>\"\",VLOOKUP($B117,Forb_Table,8),\"\")","v":""},null,null,null,null,null,null,null,null,"","","","1",null,"","","","","","","","","","","","",0,"",{"$f":"IF(B118=\"\",\"\",VLOOKUP(B118,ForbsLegumes!$A$4:$AT$113,46))","v":""}]
[null,null,{"$f":"IF($B119<>\"\",VLOOKUP($B119,Forb_Table,3),\"\")","v":""},null,null,null,null,{"$f":"IF($B119<>\"\",VLOOKUP($B119,Forb_Table,10),\"\")","v":""},{"$f":"IF($B119<>\"\",VLOOKUP($B119,Forb_Table,18),\"\")","v":""},{"$f":"IF($B119<>\"\",VLOOKUP($B119,Forb_Table,5),\"\")","v":""},{"$f":"IF($B119<>\"\",VLOOKUP($B119,Forb_Table,17),\"\")","v":""},{"$f":"IF($B119<>\"\",VLOOKUP($B119,Forb_Table,12),\"\")","v":""},{"$f":"IF(D120>0,D120,0)","v":""},{"$f":"IF(B119=\"\",\"\",SUM(E119:E120)*J119)","v":""},{"$f":"IF($B119<>\"\",VLOOKUP($B119,Forb_Table,11),\"\")","v":""},{"$f":"IF($B119<>\"\",VLOOKUP($B119,Forb_Table,9),\"\")","v":""},{"$f":"IF($B119<>\"\",VLOOKUP($B119,Forb_Table,13),\"\")","v":""},{"$f":"IF($B119<>\"\",VLOOKUP($B119,Forb_Table,45),\"\")","v":""},{"$f":"IF($B119<>\"\",VLOOKUP($B119,Forb_Table,15),\"\")","v":""},{"$f":"IF($B119<>\"\",VLOOKUP($B119,Forb_Table,16),\"\")","v":""},{"$f":"IF($B119<>\"\",VLOOKUP($B119,Forb_Table,14),\"\")","v":""},{"$f":"IF($B119<>\"\",VLOOKUP($B119,Forb_Table,6),\"\")","v":""},{"$f":"IF($B119<>\"\",VLOOKUP($B119,Forb_Table,7),\"\")","v":""},{"$f":"IF(C119=\"\",\"\",1)","v":""},"","","","1",null,"","","","","","","","","","","","",0,"",{"$f":"IF(B119=\"\",\"\",VLOOKUP(B119,ForbsLegumes!$A$4:$AT$113,46))","v":""}]
[null,null,{"$f":"IF($B119<>\"\",VLOOKUP($B119,Forb_Table,2),\"\")","v":""},{"$f":"IF(AND(E119=\"\",F119=\"\",G119=\"\"),\"\",F120/$F$155)","v":""},{"$f":"IF(AND($D119=\"\",$F119=\"\",$G119=\"\"),\"\",IF(AND($G119=\"\",$F119<>\"\"),$F119/$P119,IF(AND($F119=\"\",$E119=\"\",$G119<>\"\"),$G119/16,\"\")))","v":""},{"$f":"IF(AND(D119=\"\",E119=\"\",F119=\"\",G119=\"\"),\"\",IF(AND(E119=\"\",G119=\"\"),\"\",IF(E119<>\"\",E119*P119,IF(G119<>\"\",E120*P119,\"\"))))","v":""},{"$f":"IF(AND(D119=\"\",E119=\"\",F119=\"\",G119=\"\"),\"\",IF(AND(E119=\"\",F119=\"\"),\"\",IF(E119<>\"\",E119*16,IF(F119<>\"\",E120*16,\"\"))))","v":""},null,null,{"$f":"IF($B119<>\"\",VLOOKUP($B119,Forb_Table,4),\"\")","v":""},null,null,null,null,null,{"$f":"IF($B119<>\"\",VLOOKUP($B119,Forb_Table,8),\"\")","v":""},null,null,null,null,null,null,null,null,"","","","1",null,"","","","","","","","","","","","",0,"",{"$f":"IF(B120=\"\",\"\",VLOOKUP(B120,ForbsLegumes!$A$4:$AT$113,46))","v":""}]
[null,null,{"$f":"IF($B121<>\"\",VLOOKUP($B121,Forb_Table,3),\"\")","v":""},null,null,null,null,{"$f":"IF($B121<>\"\",VLOOKUP($B121,Forb_Table,10),\"\")","v":""},{"$f":"IF($B121<>\"\",VLOOKUP($B121,Forb_Table,18),\"\")","v":""},{"$f":"IF($B121<>\"\",VLOOKUP($B121,Forb_Table,5),\"\")","v":""},{"$f":"IF($B121<>\"\",VLOOKUP($B121,Forb_Table,17),\"\")","v":""},{"$f":"IF($B121<>\"\",VLOOKUP($B121,Forb_Table,12),\"\")","v":""},{"$f":"IF(D122>0,D122,0)","v":""},{"$f":"IF(B121=\"\",\"\",SUM(E121:E122)*J121)","v":""},{"$f":"IF($B121<>\"\",VLOOKUP($B121,Forb_Table,11),\"\")","v":""},{"$f":"IF($B121<>\"\",VLOOKUP($B121,Forb_Table,9),\"\")","v":""},{"$f":"IF($B121<>\"\",VLOOKUP($B121,Forb_Table,13),\"\")","v":""},{"$f":"IF($B121<>\"\",VLOOKUP($B121,Forb_Table,45),\"\")","v":""},{"$f":"IF($B121<>\"\",VLOOKUP($B121,Forb_Table,15),\"\")","v":""},{"$f":"IF($B121<>\"\",VLOOKUP($B121,Forb_Table,16),\"\")","v":""},{"$f":"IF($B121<>\"\",VLOOKUP($B121,Forb_Table,14),\"\")","v":""},{"$f":"IF($B121<>\"\",VLOOKUP($B121,Forb_Table,6),\"\")","v":""},{"$f":"IF($B121<>\"\",VLOOKUP($B121,Forb_Table,7),\"\")","v":""},{"$f":"IF(C121=\"\",\"\",1)","v":""},"","","","1",null,"","","","","","","","","","","","",0,"",{"$f":"IF(B121=\"\",\"\",VLOOKUP(B121,ForbsLegumes!$A$4:$AT$113,46))","v":""}]
[null,null,{"$f":"IF($B121<>\"\",VLOOKUP($B121,Forb_Table,2),\"\")","v":""},{"$f":"IF(AND(E121=\"\",F121=\"\",G121=\"\"),\"\",F122/$F$155)","v":""},{"$f":"IF(AND($D121=\"\",$F121=\"\",$G121=\"\"),\"\",IF(AND($G121=\"\",$F121<>\"\"),$F121/$P121,IF(AND($F121=\"\",$E121=\"\",$G121<>\"\"),$G121/16,\"\")))","v":""},{"$f":"IF(AND(D121=\"\",E121=\"\",F121=\"\",G121=\"\"),\"\",IF(AND(E121=\"\",G121=\"\"),\"\",IF(E121<>\"\",E121*P121,IF(G121<>\"\",E122*P121,\"\"))))","v":""},{"$f":"IF(AND(D121=\"\",E121=\"\",F121=\"\",G121=\"\"),\"\",IF(AND(E121=\"\",F121=\"\"),\"\",IF(E121<>\"\",E121*16,IF(F121<>\"\",E122*16,\"\"))))","v":""},null,null,{"$f":"IF($B121<>\"\",VLOOKUP($B121,Forb_Table,4),\"\")","v":""},null,null,null,null,null,{"$f":"IF($B121<>\"\",VLOOKUP($B121,Forb_Table,8),\"\")","v":""},null,null,null,null,null,null,null,null,"","","","1",null,"","","","","","","","","","","","",0,"",{"$f":"IF(B122=\"\",\"\",VLOOKUP(B122,ForbsLegumes!$A$4:$AT$113,46))","v":""}]
[null,null,{"$f":"IF($B123<>\"\",VLOOKUP($B123,Forb_Table,3),\"\")","v":""},null,null,null,null,{"$f":"IF($B123<>\"\",VLOOKUP($B123,Forb_Table,10),\"\")","v":""},{"$f":"IF($B123<>\"\",VLOOKUP($B123,Forb_Table,18),\"\")","v":""},{"$f":"IF($B123<>\"\",VLOOKUP($B123,Forb_Table,5),\"\")","v":""},{"$f":"IF($B123<>\"\",VLOOKUP($B123,Forb_Table,17),\"\")","v":""},{"$f":"IF($B123<>\"\",VLOOKUP($B123,Forb_Table,12),\"\")","v":""},{"$f":"IF(D124>0,D124,0)","v":""},{"$f":"IF(B123=\"\",\"\",SUM(E123:E124)*J123)","v":""},{"$f":"IF($B123<>\"\",VLOOKUP($B123,Forb_Table,11),\"\")","v":""},{"$f":"IF($B123<>\"\",VLOOKUP($B123,Forb_Table,9),\"\")","v":""},{"$f":"IF($B123<>\"\",VLOOKUP($B123,Forb_Table,13),\"\")","v":""},{"$f":"IF($B123<>\"\",VLOOKUP($B123,Forb_Table,45),\"\")","v":""},{"$f":"IF($B123<>\"\",VLOOKUP($B123,Forb_Table,15),\"\")","v":""},{"$f":"IF($B123<>\"\",VLOOKUP($B123,Forb_Table,16),\"\")","v":""},{"$f":"IF($B123<>\"\",VLOOKUP($B123,Forb_Table,14),\"\")","v":""},{"$f":"IF($B123<>\"\",VLOOKUP($B123,Forb_Table,6),\"\")","v":""},{"$f":"IF($B123<>\"\",VLOOKUP($B123,Forb_Table,7),\"\")","v":""},{"$f":"IF(C123=\"\",\"\",1)","v":""},"","","","1",null,"","","","","","","","","","","","",0,"",{"$f":"IF(B123=\"\",\"\",VLOOKUP(B123,ForbsLegumes!$A$4:$AT$113,46))","v":""}]
[null,null,{"$f":"IF($B123<>\"\",VLOOKUP($B123,Forb_Table,2),\"\")","v":""},{"$f":"IF(AND(E123=\"\",F123=\"\",G123=\"\"),\"\",F124/$F$155)","v":""},{"$f":"IF(AND($D123=\"\",$F123=\"\",$G123=\"\"),\"\",IF(AND($G123=\"\",$F123<>\"\"),$F123/$P123,IF(AND($F123=\"\",$E123=\"\",$G123<>\"\"),$G123/16,\"\")))","v":""},{"$f":"IF(AND(D123=\"\",E123=\"\",F123=\"\",G123=\"\"),\"\",IF(AND(E123=\"\",G123=\"\"),\"\",IF(E123<>\"\",E123*P123,IF(G123<>\"\",E124*P123,\"\"))))","v":""},{"$f":"IF(AND(D123=\"\",E123=\"\",F123=\"\",G123=\"\"),\"\",IF(AND(E123=\"\",F123=\"\"),\"\",IF(E123<>\"\",E123*16,IF(F123<>\"\",E124*16,\"\"))))","v":""},null,null,{"$f":"IF($B123<>\"\",VLOOKUP($B123,Forb_Table,4),\"\")","v":""},null,null,null,null,null,{"$f":"IF($B123<>\"\",VLOOKUP($B123,Forb_Table,8),\"\")","v":""},null,null,null,null,null,null,null,null,"","","","1",null,"","","","","","","","","","","","",0,"",{"$f":"IF(B124=\"\",\"\",VLOOKUP(B124,ForbsLegumes!$A$4:$AT$113,46))","v":""}]
[null,null,{"$f":"IF($B125<>\"\",VLOOKUP($B125,Forb_Table,3),\"\")","v":""},null,null,null,null,{"$f":"IF($B125<>\"\",VLOOKUP($B125,Forb_Table,10),\"\")","v":""},{"$f":"IF($B125<>\"\",VLOOKUP($B125,Forb_Table,18),\"\")","v":""},{"$f":"IF($B125<>\"\",VLOOKUP($B125,Forb_Table,5),\"\")","v":""},{"$f":"IF($B125<>\"\",VLOOKUP($B125,Forb_Table,17),\"\")","v":""},{"$f":"IF($B125<>\"\",VLOOKUP($B125,Forb_Table,12),\"\")","v":""},{"$f":"IF(D126>0,D126,0)","v":""},{"$f":"IF(B125=\"\",\"\",SUM(E125:E126)*J125)","v":""},{"$f":"IF($B125<>\"\",VLOOKUP($B125,Forb_Table,11),\"\")","v":""},{"$f":"IF($B125<>\"\",VLOOKUP($B125,Forb_Table,9),\"\")","v":""},{"$f":"IF($B125<>\"\",VLOOKUP($B125,Forb_Table,13),\"\")","v":""},{"$f":"IF($B125<>\"\",VLOOKUP($B125,Forb_Table,45),\"\")","v":""},{"$f":"IF($B125<>\"\",VLOOKUP($B125,Forb_Table,15),\"\")","v":""},{"$f":"IF($B125<>\"\",VLOOKUP($B125,Forb_Table,16),\"\")","v":""},{"$f":"IF($B125<>\"\",VLOOKUP($B125,Forb_Table,14),\"\")","v":""},{"$f":"IF($B125<>\"\",VLOOKUP($B125,Forb_Table,6),\"\")","v":""},{"$f":"IF($B125<>\"\",VLOOKUP($B125,Forb_Table,7),\"\")","v":""},{"$f":"IF(C125=\"\",\"\",1)","v":""},"","","","1",null,"","","","","","","","","","","","",0,"",{"$f":"IF(B125=\"\",\"\",VLOOKUP(B125,ForbsLegumes!$A$4:$AT$113,46))","v":""}]
[null,null,{"$f":"IF($B125<>\"\",VLOOKUP($B125,Forb_Table,2),\"\")","v":""},{"$f":"IF(AND(E125=\"\",F125=\"\",G125=\"\"),\"\",F126/$F$155)","v":""},{"$f":"IF(AND($D125=\"\",$F125=\"\",$G125=\"\"),\"\",IF(AND($G125=\"\",$F125<>\"\"),$F125/$P125,IF(AND($F125=\"\",$E125=\"\",$G125<>\"\"),$G125/16,\"\")))","v":""},{"$f":"IF(AND(D125=\"\",E125=\"\",F125=\"\",G125=\"\"),\"\",IF(AND(E125=\"\",G125=\"\"),\"\",IF(E125<>\"\",E125*P125,IF(G125<>\"\",E126*P125,\"\"))))","v":""},{"$f":"IF(AND(D125=\"\",E125=\"\",F125=\"\",G125=\"\"),\"\",IF(AND(E125=\"\",F125=\"\"),\"\",IF(E125<>\"\",E125*16,IF(F125<>\"\",E126*16,\"\"))))","v":""},null,null,{"$f":"IF($B125<>\"\",VLOOKUP($B125,Forb_Table,4),\"\")","v":""},null,null,null,null,null,{"$f":"IF($B125<>\"\",VLOOKUP($B125,Forb_Table,8),\"\")","v":""},null,null,null,null,null,null,null,null,"","","","1",null,"","","","","","","","","","","","",0,"",{"$f":"IF(B126=\"\",\"\",VLOOKUP(B126,ForbsLegumes!$A$4:$AT$113,46))","v":""}]
[null,null,{"$f":"IF($B127<>\"\",VLOOKUP($B127,Forb_Table,3),\"\")","v":""},null,null,null,null,{"$f":"IF($B127<>\"\",VLOOKUP($B127,Forb_Table,10),\"\")","v":""},{"$f":"IF($B127<>\"\",VLOOKUP($B127,Forb_Table,18),\"\")","v":""},{"$f":"IF($B127<>\"\",VLOOKUP($B127,Forb_Table,5),\"\")","v":""},{"$f":"IF($B127<>\"\",VLOOKUP($B127,Forb_Table,17),\"\")","v":""},{"$f":"IF($B127<>\"\",VLOOKUP($B127,Forb_Table,12),\"\")","v":""},{"$f":"IF(D128>0,D128,0)","v":""},{"$f":"IF(B127=\"\",\"\",SUM(E127:E128)*J127)","v":""},{"$f":"IF($B127<>\"\",VLOOKUP($B127,Forb_Table,11),\"\")","v":""},{"$f":"IF($B127<>\"\",VLOOKUP($B127,Forb_Table,9),\"\")","v":""},{"$f":"IF($B127<>\"\",VLOOKUP($B127,Forb_Table,13),\"\")","v":""},{"$f":"IF($B127<>\"\",VLOOKUP($B127,Forb_Table,45),\"\")","v":""},{"$f":"IF($B127<>\"\",VLOOKUP($B127,Forb_Table,15),\"\")","v":""},{"$f":"IF($B127<>\"\",VLOOKUP($B127,Forb_Table,16),\"\")","v":""},{"$f":"IF($B127<>\"\",VLOOKUP($B127,Forb_Table,14),\"\")","v":""},{"$f":"IF($B127<>\"\",VLOOKUP($B127,Forb_Table,6),\"\")","v":""},{"$f":"IF($B127<>\"\",VLOOKUP($B127,Forb_Table,7),\"\")","v":""},{"$f":"IF(C127=\"\",\"\",1)","v":""},"","","","1",null,{"$f":"IF($B127<>\"\",VLOOKUP($B127,Forb_Table,26),\"\")","v":""},"",{"$f":"IF($B127<>\"\",VLOOKUP($B127,Forb_Table,27),\"\")","v":""},"","","","","","","","",{"$f":"IF($B127=\"\",\"\",IF(AND($AR127=1,$C128=\"Forb\"),SUM($E127:$E128),\"\"))","v":""},{"$f":"IF(B127=\"\",0,SUM(F127:F128)/$F$155)","v":0},"",{"$f":"IF(B127=\"\",\"\",VLOOKUP(B127,ForbsLegumes!$A$4:$AT$113,46))","v":""}]
[null,null,{"$f":"IF($B127<>\"\",VLOOKUP($B127,Forb_Table,2),\"\")","v":""},{"$f":"IF(AND(E127=\"\",F127=\"\",G127=\"\"),\"\",F128/$F$155)","v":""},{"$f":"IF(AND($D127=\"\",$F127=\"\",$G127=\"\"),\"\",IF(AND($G127=\"\",$F127<>\"\"),$F127/$P127,IF(AND($F127=\"\",$E127=\"\",$G127<>\"\"),$G127/16,\"\")))","v":""},{"$f":"IF(AND(D127=\"\",E127=\"\",F127=\"\",G127=\"\"),\"\",IF(AND(E127=\"\",G127=\"\"),\"\",IF(E127<>\"\",E127*P127,IF(G127<>\"\",E128*P127,\"\"))))","v":""},{"$f":"IF(AND(D127=\"\",E127=\"\",F127=\"\",G127=\"\"),\"\",IF(AND(E127=\"\",F127=\"\"),\"\",IF(E127<>\"\",E127*16,IF(F127<>\"\",E128*16,\"\"))))","v":""},null,null,{"$f":"IF($B127<>\"\",VLOOKUP($B127,Forb_Table,4),\"\")","v":""},null,null,null,null,null,{"$f":"IF($B127<>\"\",VLOOKUP($B127,Forb_Table,8),\"\")","v":""},null,null,null,null,null,null,null,null,{"$f":"IF($B128=\"\",\"\",IF(AE128=1,1,\"\"))","v":""},{"$f":"IF($B128=\"\",\"\",IF(AND($C129=\"Forb\",$AG128=1),1,\"\"))","v":""},{"$f":"IF($B128=\"\",\"\",IF(AND(Y128=\"\",Z128=\"\"),1,\"\"))","v":""},"1",null,"",{"$f":"IF(AD128=\"X\",1,\"\")","v":""},"",{"$f":"IF(AF128=\"X\",1,\"\")","v":""},{"$f":"IF($B128=\"\",\"\",IF($AE128=1,SUM(F128:F129),\"\"))","v":""},{"$f":"IF($B128=\"\",\"\",IF(AND($AG128=1,$C129=\"Forb\"),SUM($F128:$F129),\"\"))","v":""},{"$f":"IF($B128=\"\",\"\",IF(AND($AG128=1,$C129=\"Legume\"),SUM($F128:$F129),\"\"))","v":""},{"$f":"IF($B128=\"\",\"\",IF(AND($AR128=1,$C129=\"Forb\"),SUM($F128:$F129),\"\"))","v":""},{"$f":"IF($B128=\"\",\"\",IF($AE128=1,SUM($E128:$E129),\"\"))","v":""},{"$f":"IF($B128=\"\",\"\",IF(AND($AG128=1,$C129=\"Forb\"),SUM($E128:$E129),\"\"))","v":""},{"$f":"IF($B128=\"\",\"\",IF(AND($AG128=1,$C129=\"Legume\"),SUM($E128:$E129),\"\"))","v":""},"",0,{"$f":"IF(AP128>0.2,1,\"\")","v":""},{"$f":"IF(B128=\"\",\"\",VLOOKUP(B128,ForbsLegumes!$A$4:$AT$113,46))","v":""}]
[null,null,{"$f":"IF($B129<>\"\",VLOOKUP($B129,Forb_Table,3),\"\")","v":""},null,null,null,null,{"$f":"IF($B129<>\"\",VLOOKUP($B129,Forb_Table,10),\"\")","v":""},{"$f":"IF($B129<>\"\",VLOOKUP($B129,Forb_Table,18),\"\")","v":""},{"$f":"IF($B129<>\"\",VLOOKUP($B129,Forb_Table,5),\"\")","v":""},{"$f":"IF($B129<>\"\",VLOOKUP($B129,Forb_Table,17),\"\")","v":""},{"$f":"IF($B129<>\"\",VLOOKUP($B129,Forb_Table,12),\"\")","v":""},{"$f":"IF(D130>0,D130,0)","v":""},{"$f":"IF(B129=\"\",\"\",SUM(E129:E130)*J129)","v":""},{"$f":"IF($B129<>\"\",VLOOKUP($B129,Forb_Table,11),\"\")","v":""},{"$f":"IF($B129<>\"\",VLOOKUP($B129,Forb_Table,9),\"\")","v":""},{"$f":"IF($B129<>\"\",VLOOKUP($B129,Forb_Table,13),\"\")","v":""},{"$f":"IF($B129<>\"\",VLOOKUP($B129,Forb_Table,45),\"\")","v":""},{"$f":"IF($B129<>\"\",VLOOKUP($B129,Forb_Table,15),\"\")","v":""},{"$f":"IF($B129<>\"\",VLOOKUP($B129,Forb_Table,16),\"\")","v":""},{"$f":"IF($B129<>\"\",VLOOKUP($B129,Forb_Table,14),\"\")","v":""},{"$f":"IF($B129<>\"\",VLOOKUP($B129,Forb_Table,6),\"\")","v":""},{"$f":"IF($B129<>\"\",VLOOKUP($B129,Forb_Table,7),\"\")","v":""},{"$f":"IF(C129=\"\",\"\",1)","v":""},"","","","1",null,"","","","","","","","","","","","",0,"",{"$f":"IF(B129=\"\",\"\",VLOOKUP(B129,ForbsLegumes!$A$4:$AT$113,46))","v":""}]
[null,null,{"$f":"IF($B129<>\"\",VLOOKUP($B129,Forb_Table,2),\"\")","v":""},{"$f":"IF(AND(E129=\"\",F129=\"\",G129=\"\"),\"\",F130/$F$155)","v":""},{"$f":"IF(AND($D129=\"\",$F129=\"\",$G129=\"\"),\"\",IF(AND($G129=\"\",$F129<>\"\"),$F129/$P129,IF(AND($F129=\"\",$E129=\"\",$G129<>\"\"),$G129/16,\"\")))","v":""},{"$f":"IF(AND(D129=\"\",E129=\"\",F129=\"\",G129=\"\"),\"\",IF(AND(E129=\"\",G129=\"\"),\"\",IF(E129<>\"\",E129*P129,IF(G129<>\"\",E130*P129,\"\"))))","v":""},{"$f":"IF(AND(D129=\"\",E129=\"\",F129=\"\",G129=\"\"),\"\",IF(AND(E129=\"\",F129=\"\"),\"\",IF(E129<>\"\",E129*16,IF(F129<>\"\",E130*16,\"\"))))","v":""},null,null,{"$f":"IF($B129<>\"\",VLOOKUP($B129,Forb_Table,4),\"\")","v":""},null,null,null,null,null,{"$f":"IF($B129<>\"\",VLOOKUP($B129,Forb_Table,8),\"\")","v":""},null,null,null,null,null,null,null,null,"","","","1",null,"","","","","","","","","","","","",0,"",{"$f":"IF(B130=\"\",\"\",VLOOKUP(B130,ForbsLegumes!$A$4:$AT$113,46))","v":""}]
[null,null,{"$f":"IF($B131<>\"\",VLOOKUP($B131,Forb_Table,3),\"\")","v":""},null,null,null,null,{"$f":"IF($B131<>\"\",VLOOKUP($B131,Forb_Table,10),\"\")","v":""},{"$f":"IF($B131<>\"\",VLOOKUP($B131,Forb_Table,18),\"\")","v":""},{"$f":"IF($B131<>\"\",VLOOKUP($B131,Forb_Table,5),\"\")","v":""},{"$f":"IF($B131<>\"\",VLOOKUP($B131,Forb_Table,17),\"\")","v":""},{"$f":"IF($B131<>\"\",VLOOKUP($B131,Forb_Table,12),\"\")","v":""},{"$f":"IF(D132>0,D132,0)","v":""},{"$f":"IF(B131=\"\",\"\",SUM(E131:E132)*J131)","v":""},{"$f":"IF($B131<>\"\",VLOOKUP($B131,Forb_Table,11),\"\")","v":""},{"$f":"IF($B131<>\"\",VLOOKUP($B131,Forb_Table,9),\"\")","v":""},{"$f":"IF($B131<>\"\",VLOOKUP($B131,Forb_Table,13),\"\")","v":""},{"$f":"IF($B131<>\"\",VLOOKUP($B131,Forb_Table,45),\"\")","v":""},{"$f":"IF($B131<>\"\",VLOOKUP($B131,Forb_Table,15),\"\")","v":""},{"$f":"IF($B131<>\"\",VLOOKUP($B131,Forb_Table,16),\"\")","v":""},{"$f":"IF($B131<>\"\",VLOOKUP($B131,Forb_Table,14),\"\")","v":""},{"$f":"IF($B131<>\"\",VLOOKUP($B131,Forb_Table,6),\"\")","v":""},{"$f":"IF($B131<>\"\",VLOOKUP($B131,Forb_Table,7),\"\")","v":""},{"$f":"IF(C131=\"\",\"\",1)","v":""},"","","","1",null,"","","","","","","","","","","","",0,"",{"$f":"IF(B131=\"\",\"\",VLOOKUP(B131,ForbsLegumes!$A$4:$AT$113,46))","v":""}]
[null,null,{"$f":"IF($B131<>\"\",VLOOKUP($B131,Forb_Table,2),\"\")","v":""},{"$f":"IF(AND(E131=\"\",F131=\"\",G131=\"\"),\"\",F132/$F$155)","v":""},{"$f":"IF(AND($D131=\"\",$F131=\"\",$G131=\"\"),\"\",IF(AND($G131=\"\",$F131<>\"\"),$F131/$P131,IF(AND($F131=\"\",$E131=\"\",$G131<>\"\"),$G131/16,\"\")))","v":""},{"$f":"IF(AND(D131=\"\",E131=\"\",F131=\"\",G131=\"\"),\"\",IF(AND(E131=\"\",G131=\"\"),\"\",IF(E131<>\"\",E131*P131,IF(G131<>\"\",E132*P131,\"\"))))","v":""},{"$f":"IF(AND(D131=\"\",E131=\"\",F131=\"\",G131=\"\"),\"\",IF(AND(E131=\"\",F131=\"\"),\"\",IF(E131<>\"\",E131*16,IF(F131<>\"\",E132*16,\"\"))))","v":""},null,null,{"$f":"IF($B131<>\"\",VLOOKUP($B131,Forb_Table,4),\"\")","v":""},null,null,null,null,null,{"$f":"IF($B131<>\"\",VLOOKUP($B131,Forb_Table,8),\"\")","v":""},null,null,null,null,null,null,null,null,"","","","1",null,"","","","","","","","","","","","",0,"",{"$f":"IF(B132=\"\",\"\",VLOOKUP(B132,ForbsLegumes!$A$4:$AT$113,46))","v":""}]
[null,null,{"$f":"IF($B133<>\"\",VLOOKUP($B133,Forb_Table,3),\"\")","v":""},null,null,null,null,{"$f":"IF($B133<>\"\",VLOOKUP($B133,Forb_Table,10),\"\")","v":""},{"$f":"IF($B133<>\"\",VLOOKUP($B133,Forb_Table,18),\"\")","v":""},{"$f":"IF($B133<>\"\",VLOOKUP($B133,Forb_Table,5),\"\")","v":""},{"$f":"IF($B133<>\"\",VLOOKUP($B133,Forb_Table,17),\"\")","v":""},{"$f":"IF($B133<>\"\",VLOOKUP($B133,Forb_Table,12),\"\")","v":""},{"$f":"IF(D134>0,D134,0)","v":""},{"$f":"IF(B133=\"\",\"\",SUM(E133:E134)*J133)","v":""},{"$f":"IF($B133<>\"\",VLOOKUP($B133,Forb_Table,11),\"\")","v":""},{"$f":"IF($B133<>\"\",VLOOKUP($B133,Forb_Table,9),\"\")","v":""},{"$f":"IF($B133<>\"\",VLOOKUP($B133,Forb_Table,13),\"\")","v":""},{"$f":"IF($B133<>\"\",VLOOKUP($B133,Forb_Table,45),\"\")","v":""},{"$f":"IF($B133<>\"\",VLOOKUP($B133,Forb_Table,15),\"\")","v":""},{"$f":"IF($B133<>\"\",VLOOKUP($B133,Forb_Table,16),\"\")","v":""},{"$f":"IF($B133<>\"\",VLOOKUP($B133,Forb_Table,14),\"\")","v":""},{"$f":"IF($B133<>\"\",VLOOKUP($B133,Forb_Table,6),\"\")","v":""},{"$f":"IF($B133<>\"\",VLOOKUP($B133,Forb_Table,7),\"\")","v":""},{"$f":"IF(C133=\"\",\"\",1)","v":""},"","","","1",null,"","","","","","","","","","","","",0,"",{"$f":"IF(B133=\"\",\"\",VLOOKUP(B133,ForbsLegumes!$A$4:$AT$113,46))","v":""}]
[null,null,{"$f":"IF($B133<>\"\",VLOOKUP($B133,Forb_Table,2),\"\")","v":""},{"$f":"IF(AND(E133=\"\",F133=\"\",G133=\"\"),\"\",F134/$F$155)","v":""},{"$f":"IF(AND($D133=\"\",$F133=\"\",$G133=\"\"),\"\",IF(AND($G133=\"\",$F133<>\"\"),$F133/$P133,IF(AND($F133=\"\",$E133=\"\",$G133<>\"\"),$G133/16,\"\")))","v":""},{"$f":"IF(AND(D133=\"\",E133=\"\",F133=\"\",G133=\"\"),\"\",IF(AND(E133=\"\",G133=\"\"),\"\",IF(E133<>\"\",E133*P133,IF(G133<>\"\",E134*P133,\"\"))))","v":""},{"$f":"IF(AND(D133=\"\",E133=\"\",F133=\"\",G133=\"\"),\"\",IF(AND(E133=\"\",F133=\"\"),\"\",IF(E133<>\"\",E133*16,IF(F133<>\"\",E134*16,\"\"))))","v":""},null,null,{"$f":"IF($B133<>\"\",VLOOKUP($B133,Forb_Table,4),\"\")","v":""},null,null,null,null,null,{"$f":"IF($B133<>\"\",VLOOKUP($B133,Forb_Table,8),\"\")","v":""},null,null,null,null,null,null,null,null,"","","","1",null,"","","","","","","","","","","","",0,"",{"$f":"IF(B134=\"\",\"\",VLOOKUP(B134,ForbsLegumes!$A$4:$AT$113,46))","v":""}]
[null,null,{"$f":"IF($B135<>\"\",VLOOKUP($B135,Forb_Table,3),\"\")","v":""},null,null,null,null,{"$f":"IF($B135<>\"\",VLOOKUP($B135,Forb_Table,10),\"\")","v":""},{"$f":"IF($B135<>\"\",VLOOKUP($B135,Forb_Table,18),\"\")","v":""},{"$f":"IF($B135<>\"\",VLOOKUP($B135,Forb_Table,5),\"\")","v":""},{"$f":"IF($B135<>\"\",VLOOKUP($B135,Forb_Table,17),\"\")","v":""},{"$f":"IF($B135<>\"\",VLOOKUP($B135,Forb_Table,12),\"\")","v":""},{"$f":"IF(D136>0,D136,0)","v":""},{"$f":"IF(B135=\"\",\"\",SUM(E135:E136)*J135)","v":""},{"$f":"IF($B135<>\"\",VLOOKUP($B135,Forb_Table,11),\"\")","v":""},{"$f":"IF($B135<>\"\",VLOOKUP($B135,Forb_Table,9),\"\")","v":""},{"$f":"IF($B135<>\"\",VLOOKUP($B135,Forb_Table,13),\"\")","v":""},{"$f":"IF($B135<>\"\",VLOOKUP($B135,Forb_Table,45),\"\")","v":""},{"$f":"IF($B135<>\"\",VLOOKUP($B135,Forb_Table,15),\"\")","v":""},{"$f":"IF($B135<>\"\",VLOOKUP($B135,Forb_Table,16),\"\")","v":""},{"$f":"IF($B135<>\"\",VLOOKUP($B135,Forb_Table,14),\"\")","v":""},{"$f":"IF($B135<>\"\",VLOOKUP($B135,Forb_Table,6),\"\")","v":""},{"$f":"IF($B135<>\"\",VLOOKUP($B135,Forb_Table,7),\"\")","v":""},{"$f":"IF(C135=\"\",\"\",1)","v":""},"","","","1",null,"","","","","","","","","","","","",0,"",{"$f":"IF(B135=\"\",\"\",VLOOKUP(B135,ForbsLegumes!$A$4:$AT$113,46))","v":""}]
[null,null,{"$f":"IF($B135<>\"\",VLOOKUP($B135,Forb_Table,2),\"\")","v":""},{"$f":"IF(AND(E135=\"\",F135=\"\",G135=\"\"),\"\",F136/$F$155)","v":""},{"$f":"IF(AND($D135=\"\",$F135=\"\",$G135=\"\"),\"\",IF(AND($G135=\"\",$F135<>\"\"),$F135/$P135,IF(AND($F135=\"\",$E135=\"\",$G135<>\"\"),$G135/16,\"\")))","v":""},{"$f":"IF(AND(D135=\"\",E135=\"\",F135=\"\",G135=\"\"),\"\",IF(AND(E135=\"\",G135=\"\"),\"\",IF(E135<>\"\",E135*P135,IF(G135<>\"\",E136*P135,\"\"))))","v":""},{"$f":"IF(AND(D135=\"\",E135=\"\",F135=\"\",G135=\"\"),\"\",IF(AND(E135=\"\",F135=\"\"),\"\",IF(E135<>\"\",E135*16,IF(F135<>\"\",E136*16,\"\"))))","v":""},null,null,{"$f":"IF($B135<>\"\",VLOOKUP($B135,Forb_Table,4),\"\")","v":""},null,null,null,null,null,{"$f":"IF($B135<>\"\",VLOOKUP($B135,Forb_Table,8),\"\")","v":""},null,null,null,null,null,null,null,null,"","","","1",null,"","","","","","","","","","","","",0,"",{"$f":"IF(B136=\"\",\"\",VLOOKUP(B136,ForbsLegumes!$A$4:$AT$113,46))","v":""}]
[null,null,{"$f":"IF($B137<>\"\",VLOOKUP($B137,Forb_Table,3),\"\")","v":""},null,null,null,null,{"$f":"IF($B137<>\"\",VLOOKUP($B137,Forb_Table,10),\"\")","v":""},{"$f":"IF($B137<>\"\",VLOOKUP($B137,Forb_Table,18),\"\")","v":""},{"$f":"IF($B137<>\"\",VLOOKUP($B137,Forb_Table,5),\"\")","v":""},{"$f":"IF($B137<>\"\",VLOOKUP($B137,Forb_Table,17),\"\")","v":""},{"$f":"IF($B137<>\"\",VLOOKUP($B137,Forb_Table,12),\"\")","v":""},{"$f":"IF(D138>0,D138,0)","v":""},{"$f":"IF(B137=\"\",\"\",SUM(E137:E138)*J137)","v":""},{"$f":"IF($B137<>\"\",VLOOKUP($B137,Forb_Table,11),\"\")","v":""},{"$f":"IF($B137<>\"\",VLOOKUP($B137,Forb_Table,9),\"\")","v":""},{"$f":"IF($B137<>\"\",VLOOKUP($B137,Forb_Table,13),\"\")","v":""},{"$f":"IF($B137<>\"\",VLOOKUP($B137,Forb_Table,45),\"\")","v":""},{"$f":"IF($B137<>\"\",VLOOKUP($B137,Forb_Table,15),\"\")","v":""},{"$f":"IF($B137<>\"\",VLOOKUP($B137,Forb_Table,16),\"\")","v":""},{"$f":"IF($B137<>\"\",VLOOKUP($B137,Forb_Table,14),\"\")","v":""},{"$f":"IF($B137<>\"\",VLOOKUP($B137,Forb_Table,6),\"\")","v":""},{"$f":"IF($B137<>\"\",VLOOKUP($B137,Forb_Table,7),\"\")","v":""},{"$f":"IF(C137=\"\",\"\",1)","v":""},"","","","1",null,"","","","","","","","","","","","",0,"",{"$f":"IF(B137=\"\",\"\",VLOOKUP(B137,ForbsLegumes!$A$4:$AT$113,46))","v":""}]
[null,null,{"$f":"IF($B137<>\"\",VLOOKUP($B137,Forb_Table,2),\"\")","v":""},{"$f":"IF(AND(E137=\"\",F137=\"\",G137=\"\"),\"\",F138/$F$155)","v":""},{"$f":"IF(AND($D137=\"\",$F137=\"\",$G137=\"\"),\"\",IF(AND($G137=\"\",$F137<>\"\"),$F137/$P137,IF(AND($F137=\"\",$E137=\"\",$G137<>\"\"),$G137/16,\"\")))","v":""},{"$f":"IF(AND(D137=\"\",E137=\"\",F137=\"\",G137=\"\"),\"\",IF(AND(E137=\"\",G137=\"\"),\"\",IF(E137<>\"\",E137*P137,IF(G137<>\"\",E138*P137,\"\"))))","v":""},{"$f":"IF(AND(D137=\"\",E137=\"\",F137=\"\",G137=\"\"),\"\",IF(AND(E137=\"\",F137=\"\"),\"\",IF(E137<>\"\",E137*16,IF(F137<>\"\",E138*16,\"\"))))","v":""},null,null,{"$f":"IF($B137<>\"\",VLOOKUP($B137,Forb_Table,4),\"\")","v":""},null,null,null,null,null,{"$f":"IF($B137<>\"\",VLOOKUP($B137,Forb_Table,8),\"\")","v":""},null,null,null,null,null,null,null,null,"","","","1",null,"","","","","","","","","","","","",0,"",{"$f":"IF(B138=\"\",\"\",VLOOKUP(B138,ForbsLegumes!$A$4:$AT$113,46))","v":""}]
[null,null,{"$f":"IF($B139<>\"\",VLOOKUP($B139,Forb_Table,3),\"\")","v":""},null,null,null,null,{"$f":"IF($B139<>\"\",VLOOKUP($B139,Forb_Table,10),\"\")","v":""},{"$f":"IF($B139<>\"\",VLOOKUP($B139,Forb_Table,18),\"\")","v":""},{"$f":"IF($B139<>\"\",VLOOKUP($B139,Forb_Table,5),\"\")","v":""},{"$f":"IF($B139<>\"\",VLOOKUP($B139,Forb_Table,17),\"\")","v":""},{"$f":"IF($B139<>\"\",VLOOKUP($B139,Forb_Table,12),\"\")","v":""},{"$f":"IF(D140>0,D140,0)","v":""},{"$f":"IF(B139=\"\",\"\",SUM(E139:E140)*J139)","v":""},{"$f":"IF($B139<>\"\",VLOOKUP($B139,Forb_Table,11),\"\")","v":""},{"$f":"IF($B139<>\"\",VLOOKUP($B139,Forb_Table,9),\"\")","v":""},{"$f":"IF($B139<>\"\",VLOOKUP($B139,Forb_Table,13),\"\")","v":""},{"$f":"IF($B139<>\"\",VLOOKUP($B139,Forb_Table,45),\"\")","v":""},{"$f":"IF($B139<>\"\",VLOOKUP($B139,Forb_Table,15),\"\")","v":""},{"$f":"IF($B139<>\"\",VLOOKUP($B139,Forb_Table,16),\"\")","v":""},{"$f":"IF($B139<>\"\",VLOOKUP($B139,Forb_Table,14),\"\")","v":""},{"$f":"IF($B139<>\"\",VLOOKUP($B139,Forb_Table,6),\"\")","v":""},{"$f":"IF($B139<>\"\",VLOOKUP($B139,Forb_Table,7),\"\")","v":""},{"$f":"IF(C139=\"\",\"\",1)","v":""},"","","","1",null,"","","","","","","","","","","","",0,"",{"$f":"IF(B139=\"\",\"\",VLOOKUP(B139,ForbsLegumes!$A$4:$AT$113,46))","v":""}]
[null,null,{"$f":"IF($B139<>\"\",VLOOKUP($B139,Forb_Table,2),\"\")","v":""},{"$f":"IF(AND(E139=\"\",F139=\"\",G139=\"\"),\"\",F140/$F$155)","v":""},{"$f":"IF(AND($D139=\"\",$F139=\"\",$G139=\"\"),\"\",IF(AND($G139=\"\",$F139<>\"\"),$F139/$P139,IF(AND($F139=\"\",$E139=\"\",$G139<>\"\"),$G139/16,\"\")))","v":""},{"$f":"IF(AND(D139=\"\",E139=\"\",F139=\"\",G139=\"\"),\"\",IF(AND(E139=\"\",G139=\"\"),\"\",IF(E139<>\"\",E139*P139,IF(G139<>\"\",E140*P139,\"\"))))","v":""},{"$f":"IF(AND(D139=\"\",E139=\"\",F139=\"\",G139=\"\"),\"\",IF(AND(E139=\"\",F139=\"\"),\"\",IF(E139<>\"\",E139*16,IF(F139<>\"\",E140*16,\"\"))))","v":""},null,null,{"$f":"IF($B139<>\"\",VLOOKUP($B139,Forb_Table,4),\"\")","v":""},null,null,null,null,null,{"$f":"IF($B139<>\"\",VLOOKUP($B139,Forb_Table,8),\"\")","v":""},null,null,null,null,null,null,null,null,"","","","1",null,"","","","","","","","","","","","",0,"",{"$f":"IF(B140=\"\",\"\",VLOOKUP(B140,ForbsLegumes!$A$4:$AT$113,46))","v":""}]
[null,null,{"$f":"IF($B141<>\"\",VLOOKUP($B141,Forb_Table,3),\"\")","v":""},null,null,null,null,{"$f":"IF($B141<>\"\",VLOOKUP($B141,Forb_Table,10),\"\")","v":""},{"$f":"IF($B141<>\"\",VLOOKUP($B141,Forb_Table,18),\"\")","v":""},{"$f":"IF($B141<>\"\",VLOOKUP($B141,Forb_Table,5),\"\")","v":""},{"$f":"IF($B141<>\"\",VLOOKUP($B141,Forb_Table,17),\"\")","v":""},{"$f":"IF($B141<>\"\",VLOOKUP($B141,Forb_Table,12),\"\")","v":""},{"$f":"IF(D142>0,D142,0)","v":""},{"$f":"IF(B141=\"\",\"\",SUM(E141:E142)*J141)","v":""},{"$f":"IF($B141<>\"\",VLOOKUP($B141,Forb_Table,11),\"\")","v":""},{"$f":"IF($B141<>\"\",VLOOKUP($B141,Forb_Table,9),\"\")","v":""},{"$f":"IF($B141<>\"\",VLOOKUP($B141,Forb_Table,13),\"\")","v":""},{"$f":"IF($B141<>\"\",VLOOKUP($B141,Forb_Table,45),\"\")","v":""},{"$f":"IF($B141<>\"\",VLOOKUP($B141,Forb_Table,15),\"\")","v":""},{"$f":"IF($B141<>\"\",VLOOKUP($B141,Forb_Table,16),\"\")","v":""},{"$f":"IF($B141<>\"\",VLOOKUP($B141,Forb_Table,14),\"\")","v":""},{"$f":"IF($B141<>\"\",VLOOKUP($B141,Forb_Table,6),\"\")","v":""},{"$f":"IF($B141<>\"\",VLOOKUP($B141,Forb_Table,7),\"\")","v":""},{"$f":"IF(C141=\"\",\"\",1)","v":""},"","","","1",null,"","","","","","","","","","","","",0,"",{"$f":"IF(B141=\"\",\"\",VLOOKUP(B141,ForbsLegumes!$A$4:$AT$113,46))","v":""}]
[null,null,{"$f":"IF($B141<>\"\",VLOOKUP($B141,Forb_Table,2),\"\")","v":""},{"$f":"IF(AND(E141=\"\",F141=\"\",G141=\"\"),\"\",F142/$F$155)","v":""},{"$f":"IF(AND($D141=\"\",$F141=\"\",$G141=\"\"),\"\",IF(AND($G141=\"\",$F141<>\"\"),$F141/$P141,IF(AND($F141=\"\",$E141=\"\",$G141<>\"\"),$G141/16,\"\")))","v":""},{"$f":"IF(AND(D141=\"\",E141=\"\",F141=\"\",G141=\"\"),\"\",IF(AND(E141=\"\",G141=\"\"),\"\",IF(E141<>\"\",E141*P141,IF(G141<>\"\",E142*P141,\"\"))))","v":""},{"$f":"IF(AND(D141=\"\",E141=\"\",F141=\"\",G141=\"\"),\"\",IF(AND(E141=\"\",F141=\"\"),\"\",IF(E141<>\"\",E141*16,IF(F141<>\"\",E142*16,\"\"))))","v":""},null,null,{"$f":"IF($B141<>\"\",VLOOKUP($B141,Forb_Table,4),\"\")","v":""},null,null,null,null,null,{"$f":"IF($B141<>\"\",VLOOKUP($B141,Forb_Table,8),\"\")","v":""},null,null,null,null,null,null,null,null,"",{"$f":"IF($B142=\"\",\"\",IF(AND(#REF!=\"Forb\",$AG142=1),1,\"\"))","v":""},"","1",null,"","","","",{"$f":"IF($B142=\"\",\"\",IF($AE142=1,SUM(F142:F143),\"\"))","v":""},{"$f":"IF($B142=\"\",\"\",IF(AND($AG142=1,#REF!=\"Forb\"),SUM($F142:$F143),\"\"))","v":""},{"$f":"IF($B142=\"\",\"\",IF(AND($AG142=1,#REF!=\"Legume\"),SUM($F142:$F143),\"\"))","v":""},null,{"$f":"IF($B142=\"\",\"\",IF($AE142=1,SUM($E142:$E143),\"\"))","v":""},{"$f":"IF($B142=\"\",\"\",IF(AND($AG142=1,#REF!=\"Forb\"),SUM($E142:$E143),\"\"))","v":""},{"$f":"IF($B142=\"\",\"\",IF(AND($AG142=1,#REF!=\"Legume\"),SUM($E142:$E143),\"\"))","v":""}]
[null,null,"FORBS/LEGUMES TOTAL",{"$f":"IF(SUM(D63:D102)>1,\"> 100%\",SUM(D63:D102))","v":0},{"$f":"SUM(E63:E142)","v":0},{"$f":"SUM(F63:F142)","v":0},{"$f":"+E143*16","v":0},null,null,null,null,null,{"$f":"SUM(M63:M142)","v":0},{"$f":"SUM(N63:N142)","v":0},null,null,null,null,null,null,null,null,null,{"$f":"SUM(X63:X142)","v":0},{"$f":"SUM(Y63:Y142)","v":0},{"$f":"SUM(Z63:Z142)","v":0},{"$f":"SUM(AA63:AA142)","v":0},{"$f":"SUM(AB63:AB142)","v":0},{"$f":"SUM(AC63:AC142)","v":0},null,0,null,0,0,0,0,0,0,0,0,0,0]
[null,null,null,null,null,null,null,null,null,null,null,null,null,null,null,null,null,null,null,null,null,null,null,null,null,null,null,null,null,{"$f":"+AE143+AB55","v":0},null,{"$f":"+AG143+AD55","v":0}]
[]
[]
[null,null,"MIX TOTALS TABLE",null,"lbs / acre PLS","seeds / ft2 PLS","Oz./acre\nPLS","Number in Mix","% of Mix","% Sod-Forming Grasses","Estimated Cost/Acre"]
[null,null,"Introduced Grasses",null,{"$f":"IF(T55=0,\"\",T55)","v":""},{"$f":"IF(V55=0,\"\",V55)","v":""},{"$f":"IF(E148=\"\",\"\",E148*16)","v":""},{"$f":"IF(X55=0,\"\",X55)","v":""},{"$f":"IF(F148=\"\",\"\",F148/$F$155)","v":""}]
[null,null,"Native Grasses",null,{"$f":"IF(U55=0,\"\",U55)","v":""},{"$f":"IF(W55=0,\"\",W55)","v":""},{"$f":"IF(E149=\"\",\"\",E149*16)","v":""},{"$f":"IF(Y55=0,\"\",Y55)","v":""},{"$f":"IF(F149=\"\",\"\",F149/$F$155)","v":""}]
[null,null,"GRASSES TOTAL",null,{"$f":"SUM(E148:E149)","v":0},{"$f":"SUM(F148:F149)","v":0},{"$f":"SUM(G148:G149)","v":0},{"$f":"SUM(H148:H149)","v":0},{"$f":"SUM(I148:I149)","v":0},null,{"$f":"+L55","v":0}]
[null,null,"Forbs",null,{"$f":"IF(AM$143=0,\"\",AM$143)","v":""},{"$f":"IF(AI$143=0,\"\",AI$143)","v":""},{"$f":"IF(E151=\"\",\"\",E151*16)","v":""},{"$f":"IF(Z$143=0,\"\",Z$143)","v":""},{"$f":"IF(F151=\"\",\"\",F151/$F$155)","v":""}]
[null,null,"Introduced Legumes",null,{"$f":"IF(AL$143=0,\"\",AL$143)","v":""},{"$f":"IF(AH$143=0,\"\",AH$143)","v":""},{"$f":"IF(E152=\"\",\"\",E152*16)","v":""},{"$f":"IF(Y$143=0,\"\",Y$143)","v":""},{"$f":"IF(F152=\"\",\"\",F152/$F$155)","v":""}]
[null,null,"Native Legumes",null,{"$f":"IF(AN$143=0,\"\",AN$143)","v":""},{"$f":"IF(AJ$143=0,\"\",AJ$143)","v":""},"",{"$f":"IF(AA$143=0,\"\",AA$143)","v":""},{"$f":"IF(F153=\"\",\"\",F153/$F$155)","v":""}]
[null,null,"F/L TOTAL",null,{"$f":"+E143","v":0},{"$f":"+F143","v":0},{"$f":"IF(E154=\"\",\"\",E154*16)","v":0},{"$f":"SUM(H151:H153)","v":0},{"$f":"SUM(I151:I153)","v":0},"N/A",{"$f":"+N143","v":0}]
[null,null,"GRAND TOTAL",null,{"$f":"+E154+E150","v":0},{"$f":"+F154+F150","v":0},{"$f":"+G154+G150","v":0},{"$f":"+H154+H150","v":0},{"$f":"+I154+I150","v":0},{"$f":"IF(S$55=0,0,S$55/F155)","v":0},{"$f":"+K154+K150","v":0}]
[null,null,{"$f":"IF(E156=\"\",\"\",\"Forbs (MONARCH), if applicable)\")","v":""},null,{"$f":"IF(AO$143=0,\"\",AO$143)","v":""},{"$f":"IF(AK$143=0,\"\",AK$143)","v":""},{"$f":"IF(E156=\"\",\"\",E156*16)","v":""},null,{"$f":"IF(F156=\"\",\"\",F156/$F$154)","v":""},{"$f":"IF(E156=\"\",\"\",\"Min. 60% of forbs need to be Monarch Friendly for Monarch mixes\")","v":""}]

{"sheet":"SeedingPlan_CUST","index":1,"n_rows":97,"n_cols":17,"rows_kept":97,"cut":false,"hidden":false,"merged":[[3,0,3,6],[10,0,10,5],[84,5,85,5],[0,1,0,3],[34,0,34,8],[79,0,79,1],[81,5,81,6],[80,5,80,6],[79,5,79,6],[84,1,85,1],[84,4,85,4],[84,7,85,7],[80,0,80,1],[81,0,81,1],[84,3,85,3],[106,0,106,7],[101,4,101,7],[102,4,102,7],[104,0,104,7],[89,4,89,5],[90,4,90,5],[91,4,91,5],[92,4,92,5],[91,0,91,1],[96,2,96,3],[98,4,98,5],[105,0,105,7],[99,0,99,1],[92,0,92,1],[89,7,90,7],[90,0,90,1],[99,4,99,5],[87,4,87,5],[89,0,89,1],[84,6,85,6],[88,4,88,5],[87,0,88,1]]}
["LANDOWNER: ",{"$f":"IF(Calculator!C1=\"\",\"\",Calculator!C1)","v":""}]
["TRACT #: ",{"$f":"IF(Calculator!G1=\"\",\"\",Calculator!G1)","v":""},null,null,"NRCS Std.:",{"$f":"IF(Calculator!$Z$2=1,327,IF(Calculator!$Z$2=2,342,IF(Calculator!$Z$2=3,512,\"\")))","v":""}]
["Field(s): ",{"$f":"IF(Calculator!G2=\"\",\"\",Calculator!G2)","v":""},null,null,"Plan by: ",{"$f":"IF(Calculator!I1=\"\",\"\",Calculator!I1)","v":""}]
[]
["Total Acres: ",{"$f":"IF(Calculator!G3=\"\",\"\",Calculator!G3)","v":""},null,null,"Plan date: ",{"$f":"IF(Calculator!I2=\"\",\"\",Calculator!I2)","v":""}]
["County: ",{"$f":"IF(Calculator!C2=\"\",\"\",Calculator!C2)","v":""},null,null,null,null,null,null,{"$f":"+I8","v":0},null,"HIDDEN"]
[null,null,null,null,null,null,null,null,{"$f":"MAX(I13:I32)","v":0}]
[null,null,null,null,null,null,null,null,{"$f":"MAX(J37:J76)","v":0}]
[]
[]
["GRASSES"]
["Common Name","Scientific Name",null,"Intro/\nNative","PLS \n(lbs / Acre)","PLS Total Lbs."]
[{"$f":"IF(Calculator!B15<>\"\",Calculator!B15,\"\")","v":""},{"$f":"IF(Calculator!C15<>\"\",Calculator!C15,\"\")","v":""},null,{"$f":"IF(A13=\"\",\"\",IF(Calculator!AB15=1,\"Intro\",\"Native\"))","v":""},{"$f":"IF(A13=\"\",\"\",SUM(Calculator!E15:E16))","v":""},{"$f":"IF(OR(E13=\"\",$B$5=\"\"),\"\",E13*$B$5)","v":""},null,null,{"$f":"IF(A13=\"\",0,M13)","v":0},{"$f":"IF(A13=\"\",\"\",1)","v":""},null,null,1,null,{"$f":"IF(D13=\"\",\"\",IF(D13=\"Native\",\"N\",\"I\"))","v":""},{"$f":"IF(O13=\"I\",1,\"\")","v":""},{"$f":"IF(O13=\"N\",1,\"\")","v":""}]
[{"$f":"IF(Calculator!B17<>\"\",Calculator!B17,\"\")","v":""},{"$f":"IF(Calculator!C17<>\"\",Calculator!C17,\"\")","v":""},null,{"$f":"IF(A14=\"\",\"\",IF(Calculator!AB17=1,\"Intro\",\"Native\"))","v":""},{"$f":"IF(A14=\"\",\"\",SUM(Calculator!E17:E18))","v":""},"",null,null,{"$f":"IF(A14=\"\",0,M14)","v":0},{"$f":"IF(A14=\"\",\"\",1)","v":""},null,null,{"$f":"+M13+1","v":2},null,{"$f":"IF(D14=\"\",\"\",IF(D14=\"Native\",\"N\",\"I\"))","v":""},{"$f":"IF(O14=\"I\",1,\"\")","v":""},{"$f":"IF(O14=\"N\",1,\"\")","v":""}]
[{"$f":"IF(Calculator!B19<>\"\",Calculator!B19,\"\")","v":""},{"$f":"IF(Calculator!C19<>\"\",Calculator!C19,\"\")","v":""},null,{"$f":"IF(A15=\"\",\"\",IF(Calculator!AB19=1,\"Intro\",\"Native\"))","v":""},{"$f":"IF(A15=\"\",\"\",SUM(Calculator!E19:E20))","v":""},"",null,null,0,"",null,null,{"$f":"+M14+1","v":3},null,"","",""]
[{"$f":"IF(Calculator!B21<>\"\",Calculator!B21,\"\")","v":""},{"$f":"IF(Calculator!C21<>\"\",Calculator!C21,\"\")","v":""},null,{"$f":"IF(A16=\"\",\"\",IF(Calculator!AB21=1,\"Intro\",\"Native\"))","v":""},{"$f":"IF(A16=\"\",\"\",SUM(Calculator!E21:E22))","v":""},"",null,null,0,"",null,null,4,null,"","",""]
[{"$f":"IF(Calculator!B23<>\"\",Calculator!B23,\"\")","v":""},{"$f":"IF(Calculator!C23<>\"\",Calculator!C23,\"\")","v":""},null,{"$f":"IF(A17=\"\",\"\",IF(Calculator!AB23=1,\"Intro\",\"Native\"))","v":""},{"$f":"IF(A17=\"\",\"\",SUM(Calculator!E23:E24))","v":""},"",null,null,0,"",null,null,5,null,"","",""]
[{"$f":"IF(Calculator!B25<>\"\",Calculator!B25,\"\")","v":""},{"$f":"IF(Calculator!C25<>\"\",Calculator!C25,\"\")","v":""},null,{"$f":"IF(A18=\"\",\"\",IF(Calculator!AB25=1,\"Intro\",\"Native\"))","v":""},{"$f":"IF(A18=\"\",\"\",SUM(Calculator!E25:E26))","v":""},"",null,null,0,"",null,null,6,null,"","",""]
[{"$f":"IF(Calculator!B27<>\"\",Calculator!B27,\"\")","v":""},{"$f":"IF(Calculator!C27<>\"\",Calculator!C27,\"\")","v":""},null,{"$f":"IF(A19=\"\",\"\",IF(Calculator!AB27=1,\"Intro\",\"Native\"))","v":""},{"$f":"IF(A19=\"\",\"\",SUM(Calculator!E27:E28))","v":""},"",null,null,0,"",null,null,7,null,"","",""]
[{"$f":"IF(Calculator!B29<>\"\",Calculator!B29,\"\")","v":""},{"$f":"IF(Calculator!C29<>\"\",Calculator!C29,\"\")","v":""},null,{"$f":"IF(A20=\"\",\"\",IF(Calculator!AB29=1,\"Intro\",\"Native\"))","v":""},{"$f":"IF(A20=\"\",\"\",SUM(Calculator!E29:E30))","v":""},"",null,null,0,"",null,null,8,null,"","",""]
[{"$f":"IF(Calculator!B31<>\"\",Calculator!B31,\"\")","v":""},{"$f":"IF(Calculator!C31<>\"\",Calculator!C31,\"\")","v":""},null,{"$f":"IF(A21=\"\",\"\",IF(Calculator!AB31=1,\"Intro\",\"Native\"))","v":""},{"$f":"IF(A21=\"\",\"\",SUM(Calculator!E31:E32))","v":""},"",null,null,0,"",null,null,9,null,"","",""]
[{"$f":"IF(Calculator!B33<>\"\",Calculator!B33,\"\")","v":""},{"$f":"IF(Calculator!C33<>\"\",Calculator!C33,\"\")","v":""},null,{"$f":"IF(A22=\"\",\"\",IF(Calculator!AB33=1,\"Intro\",\"Native\"))","v":""},{"$f":"IF(A22=\"\",\"\",SUM(Calculator!E33:E34))","v":""},"",null,null,0,"",null,null,10,null,"","",""]
[{"$f":"IF(Calculator!B35<>\"\",Calculator!B35,\"\")","v":""},{"$f":"IF(Calculator!C35<>\"\",Calculator!C35,\"\")","v":""},null,{"$f":"IF(A23=\"\",\"\",IF(Calculator!AB35=1,\"Intro\",\"Native\"))","v":""},{"$f":"IF(A23=\"\",\"\",SUM(Calculator!E35:E36))","v":""},"",null,null,0,"",null,null,11,null,"","",""]
[{"$f":"IF(Calculator!B37<>\"\",Calculator!B37,\"\")","v":""},{"$f":"IF(Calculator!C37<>\"\",Calculator!C37,\"\")","v":""},null,{"$f":"IF(A24=\"\",\"\",IF(Calculator!AB37=1,\"Intro\",\"Native\"))","v":""},{"$f":"IF(A24=\"\",\"\",SUM(Calculator!E37:E38))","v":""},"",null,null,0,"",null,null,12,null,"","",""]
[{"$f":"IF(Calculator!B39<>\"\",Calculator!B39,\"\")","v":""},{"$f":"IF(Calculator!C39<>\"\",Calculator!C39,\"\")","v":""},null,{"$f":"IF(A25=\"\",\"\",IF(Calculator!AB39=1,\"Intro\",\"Native\"))","v":""},{"$f":"IF(A25=\"\",\"\",SUM(Calculator!E39:E40))","v":""},"",null,null,0,"",null,null,13,null,"","",""]
[{"$f":"IF(Calculator!B41<>\"\",Calculator!B41,\"\")","v":""},{"$f":"IF(Calculator!C41<>\"\",Calculator!C41,\"\")","v":""},null,{"$f":"IF(A26=\"\",\"\",IF(Calculator!AB41=1,\"Intro\",\"Native\"))","v":""},{"$f":"IF(A26=\"\",\"\",SUM(Calculator!E41:E42))","v":""},"",null,null,0,"",null,null,14,null,"","",""]
[{"$f":"IF(Calculator!B43<>\"\",Calculator!B43,\"\")","v":""},{"$f":"IF(Calculator!C43<>\"\",Calculator!C43,\"\")","v":""},null,{"$f":"IF(A27=\"\",\"\",IF(Calculator!AB43=1,\"Intro\",\"Native\"))","v":""},{"$f":"IF(A27=\"\",\"\",SUM(Calculator!E43:E44))","v":""},"",null,null,0,"",null,null,15,null,"","",""]
[{"$f":"IF(Calculator!B45<>\"\",Calculator!B45,\"\")","v":""},{"$f":"IF(Calculator!C45<>\"\",Calculator!C45,\"\")","v":""},null,{"$f":"IF(A28=\"\",\"\",IF(Calculator!AB45=1,\"Intro\",\"Native\"))","v":""},{"$f":"IF(A28=\"\",\"\",SUM(Calculator!E45:E46))","v":""},"",null,null,0,"",null,null,16,null,"","",""]
[{"$f":"IF(Calculator!B47<>\"\",Calculator!B47,\"\")","v":""},{"$f":"IF(Calculator!C47<>\"\",Calculator!C47,\"\")","v":""},null,{"$f":"IF(A29=\"\",\"\",IF(Calculator!AB47=1,\"Intro\",\"Native\"))","v":""},{"$f":"IF(A29=\"\",\"\",SUM(Calculator!E47:E48))","v":""},"",null,null,0,"",null,null,17,null,"","",""]
[{"$f":"IF(Calculator!B49<>\"\",Calculator!B49,\"\")","v":""},{"$f":"IF(Calculator!C49<>\"\",Calculator!C49,\"\")","v":""},null,{"$f":"IF(A30=\"\",\"\",IF(Calculator!AB49=1,\"Intro\",\"Native\"))","v":""},{"$f":"IF(A30=\"\",\"\",SUM(Calculator!E49:E50))","v":""},"",null,null,0,"",null,null,18,null,"","",""]
[{"$f":"IF(Calculator!B51<>\"\",Calculator!B51,\"\")","v":""},{"$f":"IF(Calculator!C51<>\"\",Calculator!C51,\"\")","v":""},null,{"$f":"IF(A31=\"\",\"\",IF(Calculator!AB51=1,\"Intro\",\"Native\"))","v":""},{"$f":"IF(A31=\"\",\"\",SUM(Calculator!E51:E52))","v":""},"",null,null,0,"",null,null,19,null,"","",""]
[{"$f":"IF(Calculator!B53<>\"\",Calculator!B53,\"\")","v":""},{"$f":"IF(Calculator!C53<>\"\",Calculator!C53,\"\")","v":""},null,{"$f":"IF(A32=\"\",\"\",IF(Calculator!AB53=1,\"Intro\",\"Native\"))","v":""},{"$f":"IF(A32=\"\",\"\",SUM(Calculator!E53:E54))","v":""},"",null,null,0,"",null,null,20,null,"","",""]
[null,null,null,null,null,null,null,null,null,{"$f":"SUM(J13:J32)","v":0}]
["TOTAL GRASSES: ",null,null,null,{"$f":"SUM(E13:E32)","v":0},{"$f":"SUM(F13:F32)","v":0}]
["FORBS/LEGUMES"]
["Common Name","Scientific Name",null,"Intro/\nNative","PLS \n(lbs / Acre)","PLS Total Lbs.","PLS (oz./Acre)","PLS Total Oz."]
[{"$f":"IF(Calculator!B63<>\"\",Calculator!B63,\"\")","v":""},{"$f":"IF(Calculator!C63<>\"\",Calculator!C63,\"\")","v":""},null,{"$f":"IF(A37=\"\",\"\",IF(Calculator!AE63=1,\"Intro\",\"Native\"))","v":""},{"$f":"IF(OR($A37=\"\",$D37=\"Native\"),\"\",SUM(Calculator!E63:E64))","v":""},{"$f":"IF(OR(E37=\"\",$B$5=\"\"),\"\",E37*$B$5)","v":""},{"$f":"IF(OR($A37=\"\",$D37=\"Intro\"),\"\",SUM(Calculator!G63:G64))","v":""},{"$f":"IF(OR(G37=\"\",$B$5=\"\"),\"\",G37*$B$5)","v":""},{"$f":"IF(A37=\"\",\"\",IF(Calculator!AR63=1,\"X\",\"\"))","v":""},{"$f":"IF(A37=\"\",0,M37)","v":0},null,null,1,null,{"$f":"IF(D37=\"\",\"\",IF(D37=\"Native\",\"N\",\"I\"))","v":""},{"$f":"IF(O37=\"I\",1,\"\")","v":""},{"$f":"IF(O37=\"N\",1,\"\")","v":""}]
[{"$f":"IF(Calculator!B65<>\"\",Calculator!B65,\"\")","v":""},{"$f":"IF(Calculator!C65<>\"\",Calculator!C65,\"\")","v":""},null,{"$f":"IF(A38=\"\",\"\",IF(Calculator!AE65=1,\"Intro\",\"Native\"))","v":""},{"$f":"IF(OR($A38=\"\",$D38=\"Native\"),\"\",SUM(Calculator!E65:E66))","v":""},"",{"$f":"IF(OR($A38=\"\",$D38=\"Intro\"),\"\",SUM(Calculator!G65:G66))","v":""},"",{"$f":"IF(A38=\"\",\"\",IF(Calculator!AR65=1,\"X\",\"\"))","v":""},{"$f":"IF(A38=\"\",0,M38)","v":0},null,null,{"$f":"+M37+1","v":2},null,"","",""]
[{"$f":"IF(Calculator!B67<>\"\",Calculator!B67,\"\")","v":""},{"$f":"IF(Calculator!C67<>\"\",Calculator!C67,\"\")","v":""},null,{"$f":"IF(A39=\"\",\"\",IF(Calculator!AE67=1,\"Intro\",\"Native\"))","v":""},{"$f":"IF(OR(A39=\"\",D39=\"Native\"),\"\",SUM(Calculator!E67:E68))","v":""},"",{"$f":"IF(OR(A39=\"\",D39=\"Intro\"),\"\",SUM(Calculator!G67:G68))","v":""},"",{"$f":"IF(A39=\"\",\"\",IF(Calculator!AR67=1,\"X\",\"\"))","v":""},0,null,null,{"$f":"+M38+1","v":3},null,"","",""]
[{"$f":"IF(Calculator!B69<>\"\",Calculator!B69,\"\")","v":""},{"$f":"IF(Calculator!C69<>\"\",Calculator!C69,\"\")","v":""},null,{"$f":"IF(A40=\"\",\"\",IF(Calculator!AE69=1,\"Intro\",\"Native\"))","v":""},{"$f":"IF(OR(A40=\"\",D40=\"Native\"),\"\",SUM(Calculator!E69:E70))","v":""},"",{"$f":"IF(OR(A40=\"\",D40=\"Intro\"),\"\",SUM(Calculator!G69:G70))","v":""},"",{"$f":"IF(A40=\"\",\"\",IF(Calculator!AR69=1,\"X\",\"\"))","v":""},0,null,null,4,null,"","",""]
[{"$f":"IF(Calculator!B71<>\"\",Calculator!B71,\"\")","v":""},{"$f":"IF(Calculator!C71<>\"\",Calculator!C71,\"\")","v":""},null,{"$f":"IF(A41=\"\",\"\",IF(Calculator!AE71=1,\"Intro\",\"Native\"))","v":""},{"$f":"IF(OR(A41=\"\",D41=\"Native\"),\"\",SUM(Calculator!E71:E72))","v":""},"",{"$f":"IF(OR(A41=\"\",D41=\"Intro\"),\"\",SUM(Calculator!G71:G72))","v":""},"",{"$f":"IF(A41=\"\",\"\",IF(Calculator!AR71=1,\"X\",\"\"))","v":""},0,null,null,5,null,"","",""]
[{"$f":"IF(Calculator!B73<>\"\",Calculator!B73,\"\")","v":""},{"$f":"IF(Calculator!C73<>\"\",Calculator!C73,\"\")","v":""},null,{"$f":"IF(A42=\"\",\"\",IF(Calculator!AE73=1,\"Intro\",\"Native\"))","v":""},{"$f":"IF(OR(A42=\"\",D42=\"Native\"),\"\",SUM(Calculator!E73:E74))","v":""},"",{"$f":"IF(OR(A42=\"\",D42=\"Intro\"),\"\",SUM(Calculator!G73:G74))","v":""},"",{"$f":"IF(A42=\"\",\"\",IF(Calculator!AR73=1,\"X\",\"\"))","v":""},0,null,null,6,null,"","",""]
[{"$f":"IF(Calculator!B75<>\"\",Calculator!B75,\"\")","v":""},{"$f":"IF(Calculator!C75<>\"\",Calculator!C75,\"\")","v":""},null,{"$f":"IF(A43=\"\",\"\",IF(Calculator!AE75=1,\"Intro\",\"Native\"))","v":""},{"$f":"IF(OR(A43=\"\",D43=\"Native\"),\"\",SUM(Calculator!E75:E76))","v":""},"",{"$f":"IF(OR(A43=\"\",D43=\"Intro\"),\"\",SUM(Calculator!G75:G76))","v":""},"",{"$f":"IF(A43=\"\",\"\",IF(Calculator!AR75=1,\"X\",\"\"))","v":""},0,null,null,7,null,"","",""]
[{"$f":"IF(Calculator!B77<>\"\",Calculator!B77,\"\")","v":""},{"$f":"IF(Calculator!C77<>\"\",Calculator!C77,\"\")","v":""},null,{"$f":"IF(A44=\"\",\"\",IF(Calculator!AE77=1,\"Intro\",\"Native\"))","v":""},{"$f":"IF(OR(A44=\"\",D44=\"Native\"),\"\",SUM(Calculator!E77:E78))","v":""},"",{"$f":"IF(OR(A44=\"\",D44=\"Intro\"),\"\",SUM(Calculator!G77:G78))","v":""},"",{"$f":"IF(A44=\"\",\"\",IF(Calculator!AR77=1,\"X\",\"\"))","v":""},0,null,null,8,null,"","",""]
[{"$f":"IF(Calculator!B79<>\"\",Calculator!B79,\"\")","v":""},{"$f":"IF(Calculator!C79<>\"\",Calculator!C79,\"\")","v":""},null,{"$f":"IF(A45=\"\",\"\",IF(Calculator!AE79=1,\"Intro\",\"Native\"))","v":""},{"$f":"IF(OR(A45=\"\",D45=\"Native\"),\"\",SUM(Calculator!E79:E80))","v":""},"",{"$f":"IF(OR(A45=\"\",D45=\"Intro\"),\"\",SUM(Calculator!G79:G80))","v":""},"",{"$f":"IF(A45=\"\",\"\",IF(Calculator!AR79=1,\"X\",\"\"))","v":""},0,null,null,9,null,"","",""]
[{"$f":"IF(Calculator!B81<>\"\",Calculator!B81,\"\")","v":""},{"$f":"IF(Calculator!C81<>\"\",Calculator!C81,\"\")","v":""},null,{"$f":"IF(A46=\"\",\"\",IF(Calculator!AE81=1,\"Intro\",\"Native\"))","v":""},{"$f":"IF(OR(A46=\"\",D46=\"Native\"),\"\",SUM(Calculator!E81:E82))","v":""},"",{"$f":"IF(OR(A46=\"\",D46=\"Intro\"),\"\",SUM(Calculator!G81:G82))","v":""},"",{"$f":"IF(A46=\"\",\"\",IF(Calculator!AR81=1,\"X\",\"\"))","v":""},0,null,null,10,null,"","",""]
[{"$f":"IF(Calculator!B83<>\"\",Calculator!B83,\"\")","v":""},{"$f":"IF(Calculator!C83<>\"\",Calculator!C83,\"\")","v":""},null,{"$f":"IF(A47=\"\",\"\",IF(Calculator!AE83=1,\"Intro\",\"Native\"))","v":""},{"$f":"IF(OR(A47=\"\",D47=\"Native\"),\"\",SUM(Calculator!E83:E84))","v":""},"",{"$f":"IF(OR(A47=\"\",D47=\"Intro\"),\"\",SUM(Calculator!G83:G84))","v":""},"",{"$f":"IF(A47=\"\",\"\",IF(Calculator!AR83=1,\"X\",\"\"))","v":""},0,null,null,11,null,"","",""]
[{"$f":"IF(Calculator!B85<>\"\",Calculator!B85,\"\")","v":""},{"$f":"IF(Calculator!C85<>\"\",Calculator!C85,\"\")","v":""},null,{"$f":"IF(A48=\"\",\"\",IF(Calculator!AE85=1,\"Intro\",\"Native\"))","v":""},{"$f":"IF(OR(A48=\"\",D48=\"Native\"),\"\",SUM(Calculator!E85:E86))","v":""},"",{"$f":"IF(OR(A48=\"\",D48=\"Intro\"),\"\",SUM(Calculator!G85:G86))","v":""},"",{"$f":"IF(A48=\"\",\"\",IF(Calculator!AR85=1,\"X\",\"\"))","v":""},0,null,null,12,null,"","",""]
[{"$f":"IF(Calculator!B87<>\"\",Calculator!B87,\"\")","v":""},{"$f":"IF(Calculator!C87<>\"\",Calculator!C87,\"\")","v":""},null,{"$f":"IF(A49=\"\",\"\",IF(Calculator!AE87=1,\"Intro\",\"Native\"))","v":""},{"$f":"IF(OR(A49=\"\",D49=\"Native\"),\"\",SUM(Calculator!E87:E88))","v":""},"",{"$f":"IF(OR(A49=\"\",D49=\"Intro\"),\"\",SUM(Calculator!G87:G88))","v":""},"",{"$f":"IF(A49=\"\",\"\",IF(Calculator!AR87=1,\"X\",\"\"))","v":""},0,null,null,13,null,"","",""]
[{"$f":"IF(Calculator!B89<>\"\",Calculator!B89,\"\")","v":""},{"$f":"IF(Calculator!C89<>\"\",Calculator!C89,\"\")","v":""},null,{"$f":"IF(A50=\"\",\"\",IF(Calculator!AE89=1,\"Intro\",\"Native\"))","v":""},{"$f":"IF(OR(A50=\"\",D50=\"Native\"),\"\",SUM(Calculator!E89:E90))","v":""},"",{"$f":"IF(OR(A50=\"\",D50=\"Intro\"),\"\",SUM(Calculator!G89:G90))","v":""},"",{"$f":"IF(A50=\"\",\"\",IF(Calculator!AR89=1,\"X\",\"\"))","v":""},0,null,null,14,null,"","",""]
[{"$f":"IF(Calculator!B91<>\"\",Calculator!B91,\"\")","v":""},{"$f":"IF(Calculator!C91<>\"\",Calculator!C91,\"\")","v":""},null,{"$f":"IF(A51=\"\",\"\",IF(Calculator!AE91=1,\"Intro\",\"Native\"))","v":""},{"$f":"IF(OR(A51=\"\",D51=\"Native\"),\"\",SUM(Calculator!E91:E92))","v":""},"",{"$f":"IF(OR(A51=\"\",D51=\"Intro\"),\"\",SUM(Calculator!G91:G92))","v":""},"",{"$f":"IF(A51=\"\",\"\",IF(Calculator!AR91=1,\"X\",\"\"))","v":""},0,null,null,15,null,"","",""]
[{"$f":"IF(Calculator!B93<>\"\",Calculator!B93,\"\")","v":""},{"$f":"IF(Calculator!C93<>\"\",Calculator!C93,\"\")","v":""},null,{"$f":"IF(A52=\"\",\"\",IF(Calculator!AE93=1,\"Intro\",\"Native\"))","v":""},{"$f":"IF(OR(A52=\"\",D52=\"Native\"),\"\",SUM(Calculator!E93:E94))","v":""},"",{"$f":"IF(OR(A52=\"\",D52=\"Intro\"),\"\",SUM(Calculator!G93:G94))","v":""},"",{"$f":"IF(A52=\"\",\"\",IF(Calculator!AR93=1,\"X\",\"\"))","v":""},0,null,null,16,null,"","",""]
[{"$f":"IF(Calculator!B95<>\"\",Calculator!B95,\"\")","v":""},{"$f":"IF(Calculator!C95<>\"\",Calculator!C95,\"\")","v":""},null,{"$f":"IF(A53=\"\",\"\",IF(Calculator!AE95=1,\"Intro\",\"Native\"))","v":""},{"$f":"IF(OR(A53=\"\",D53=\"Native\"),\"\",SUM(Calculator!E95:E96))","v":""},"",{"$f":"IF(OR(A53=\"\",D53=\"Intro\"),\"\",SUM(Calculator!G95:G96))","v":""},"",{"$f":"IF(A53=\"\",\"\",IF(Calculator!AR95=1,\"X\",\"\"))","v":""},0,null,null,17,null,"","",""]
[{"$f":"IF(Calculator!B97<>\"\",Calculator!B97,\"\")","v":""},{"$f":"IF(Calculator!C97<>\"\",Calculator!C97,\"\")","v":""},null,{"$f":"IF(A54=\"\",\"\",IF(Calculator!AE97=1,\"Intro\",\"Native\"))","v":""},{"$f":"IF(OR(A54=\"\",D54=\"Native\"),\"\",SUM(Calculator!E97:E98))","v":""},"",{"$f":"IF(OR(A54=\"\",D54=\"Intro\"),\"\",SUM(Calculator!G97:G98))","v":""},"",{"$f":"IF(A54=\"\",\"\",IF(Calculator!AR97=1,\"X\",\"\"))","v":""},0,null,null,18,null,"","",""]
[{"$f":"IF(Calculator!B99<>\"\",Calculator!B99,\"\")","v":""},{"$f":"IF(Calculator!C99<>\"\",Calculator!C99,\"\")","v":""},null,{"$f":"IF(A55=\"\",\"\",IF(Calculator!AE99=1,\"Intro\",\"Native\"))","v":""},{"$f":"IF(OR(A55=\"\",D55=\"Native\"),\"\",SUM(Calculator!E99:E100))","v":""},"",{"$f":"IF(OR(A55=\"\",D55=\"Intro\"),\"\",SUM(Calculator!G99:G100))","v":""},"",{"$f":"IF(A55=\"\",\"\",IF(Calculator!AR99=1,\"X\",\"\"))","v":""},0,null,null,19,null,"","",""]
[{"$f":"IF(Calculator!B101<>\"\",Calculator!B101,\"\")","v":""},{"$f":"IF(Calculator!C101<>\"\",Calculator!C101,\"\")","v":""},null,{"$f":"IF(A56=\"\",\"\",IF(Calculator!AE101=1,\"Intro\",\"Native\"))","v":""},{"$f":"IF(OR(A56=\"\",D56=\"Native\"),\"\",SUM(Calculator!E101:E102))","v":""},"",{"$f":"IF(OR(A56=\"\",D56=\"Intro\"),\"\",SUM(Calculator!G101:G102))","v":""},"",{"$f":"IF(A56=\"\",\"\",IF(Calculator!AR101=1,\"X\",\"\"))","v":""},0,null,null,20,null,"","",""]
[{"$f":"IF(Calculator!B103<>\"\",Calculator!B103,\"\")","v":""},{"$f":"IF(Calculator!C103<>\"\",Calculator!C103,\"\")","v":""},null,{"$f":"IF(A57=\"\",\"\",IF(Calculator!AE103=1,\"Intro\",\"Native\"))","v":""},{"$f":"IF(OR(A57=\"\",D57=\"Native\"),\"\",SUM(Calculator!E103:E104))","v":""},"",{"$f":"IF(OR(A57=\"\",D57=\"Intro\"),\"\",SUM(Calculator!G103:G104))","v":""},"",{"$f":"IF(A57=\"\",\"\",IF(Calculator!AR103=1,\"X\",\"\"))","v":""},0,null,null,21,null,"","",""]
[{"$f":"IF(Calculator!B105<>\"\",Calculator!B105,\"\")","v":""},{"$f":"IF(Calculator!C105<>\"\",Calculator!C105,\"\")","v":""},null,{"$f":"IF(A58=\"\",\"\",IF(Calculator!AE105=1,\"Intro\",\"Native\"))","v":""},{"$f":"IF(OR(A58=\"\",D58=\"Native\"),\"\",SUM(Calculator!E105:E106))","v":""},"",{"$f":"IF(OR(A58=\"\",D58=\"Intro\"),\"\",SUM(Calculator!G105:G106))","v":""},"",{"$f":"IF(A58=\"\",\"\",IF(Calculator!AR105=1,\"X\",\"\"))","v":""},0,null,null,22,null,"","",""]
[{"$f":"IF(Calculator!B107<>\"\",Calculator!B107,\"\")","v":""},{"$f":"IF(Calculator!C107<>\"\",Calculator!C107,\"\")","v":""},null,{"$f":"IF(A59=\"\",\"\",IF(Calculator!AE107=1,\"Intro\",\"Native\"))","v":""},{"$f":"IF(OR(A59=\"\",D59=\"Native\"),\"\",SUM(Calculator!E107:E108))","v":""},"",{"$f":"IF(OR(A59=\"\",D59=\"Intro\"),\"\",SUM(Calculator!G107:G108))","v":""},"",{"$f":"IF(A59=\"\",\"\",IF(Calculator!AR107=1,\"X\",\"\"))","v":""},0,null,null,23,null,"","",""]
[{"$f":"IF(Calculator!B109<>\"\",Calculator!B109,\"\")","v":""},{"$f":"IF(Calculator!C109<>\"\",Calculator!C109,\"\")","v":""},null,{"$f":"IF(A60=\"\",\"\",IF(Calculator!AE109=1,\"Intro\",\"Native\"))","v":""},{"$f":"IF(OR(A60=\"\",D60=\"Native\"),\"\",SUM(Calculator!E109:E110))","v":""},"",{"$f":"IF(OR(A60=\"\",D60=\"Intro\"),\"\",SUM(Calculator!G109:G110))","v":""},"",{"$f":"IF(A60=\"\",\"\",IF(Calculator!AR109=1,\"X\",\"\"))","v":""},0,null,null,24,null,"","",""]
[{"$f":"IF(Calculator!B111<>\"\",Calculator!B111,\"\")","v":""},{"$f":"IF(Calculator!C111<>\"\",Calculator!C111,\"\")","v":""},null,{"$f":"IF(A61=\"\",\"\",IF(Calculator!AE111=1,\"Intro\",\"Native\"))","v":""},{"$f":"IF(OR(A61=\"\",D61=\"Native\"),\"\",SUM(Calculator!E111:E112))","v":""},"",{"$f":"IF(OR(A61=\"\",D61=\"Intro\"),\"\",SUM(Calculator!G111:G112))","v":""},"",{"$f":"IF(A61=\"\",\"\",IF(Calculator!AR111=1,\"X\",\"\"))","v":""},0,null,null,25,null,"","",""]
[{"$f":"IF(Calculator!B113<>\"\",Calculator!B113,\"\")","v":""},{"$f":"IF(Calculator!C113<>\"\",Calculator!C113,\"\")","v":""},null,{"$f":"IF(A62=\"\",\"\",IF(Calculator!AE113=1,\"Intro\",\"Native\"))","v":""},{"$f":"IF(OR(A62=\"\",D62=\"Native\"),\"\",SUM(Calculator!E113:E114))","v":""},"",{"$f":"IF(OR(A62=\"\",D62=\"Intro\"),\"\",SUM(Calculator!G113:G114))","v":""},"",{"$f":"IF(A62=\"\",\"\",IF(Calculator!AR113=1,\"X\",\"\"))","v":""},0,null,null,26,null,"","",""]
[{"$f":"IF(Calculator!B115<>\"\",Calculator!B115,\"\")","v":""},{"$f":"IF(Calculator!C115<>\"\",Calculator!C115,\"\")","v":""},null,{"$f":"IF(A63=\"\",\"\",IF(Calculator!AE115=1,\"Intro\",\"Native\"))","v":""},{"$f":"IF(OR(A63=\"\",D63=\"Native\"),\"\",SUM(Calculator!E115:E116))","v":""},"",{"$f":"IF(OR(A63=\"\",D63=\"Intro\"),\"\",SUM(Calculator!G115:G116))","v":""},"",{"$f":"IF(A63=\"\",\"\",IF(Calculator!AR115=1,\"X\",\"\"))","v":""},0,null,null,27,null,"","",""]
[{"$f":"IF(Calculator!B117<>\"\",Calculator!B117,\"\")","v":""},{"$f":"IF(Calculator!C117<>\"\",Calculator!C117,\"\")","v":""},null,{"$f":"IF(A64=\"\",\"\",IF(Calculator!AE117=1,\"Intro\",\"Native\"))","v":""},{"$f":"IF(OR(A64=\"\",D64=\"Native\"),\"\",SUM(Calculator!E117:E118))","v":""},"",{"$f":"IF(OR(A64=\"\",D64=\"Intro\"),\"\",SUM(Calculator!G117:G118))","v":""},"",{"$f":"IF(A64=\"\",\"\",IF(Calculator!AR117=1,\"X\",\"\"))","v":""},0,null,null,28,null,"","",""]
[{"$f":"IF(Calculator!B119<>\"\",Calculator!B119,\"\")","v":""},{"$f":"IF(Calculator!C119<>\"\",Calculator!C119,\"\")","v":""},null,{"$f":"IF(A65=\"\",\"\",IF(Calculator!AE119=1,\"Intro\",\"Native\"))","v":""},{"$f":"IF(OR(A65=\"\",D65=\"Native\"),\"\",SUM(Calculator!E119:E120))","v":""},"",{"$f":"IF(OR(A65=\"\",D65=\"Intro\"),\"\",SUM(Calculator!G119:G120))","v":""},"",{"$f":"IF(A65=\"\",\"\",IF(Calculator!AR119=1,\"X\",\"\"))","v":""},0,null,null,29,null,"","",""]
[{"$f":"IF(Calculator!B121<>\"\",Calculator!B121,\"\")","v":""},{"$f":"IF(Calculator!C121<>\"\",Calculator!C121,\"\")","v":""},null,{"$f":"IF(A66=\"\",\"\",IF(Calculator!AE121=1,\"Intro\",\"Native\"))","v":""},{"$f":"IF(OR(A66=\"\",D66=\"Native\"),\"\",SUM(Calculator!E121:E122))","v":""},"",{"$f":"IF(OR(A66=\"\",D66=\"Intro\"),\"\",SUM(Calculator!G121:G122))","v":""},"",{"$f":"IF(A66=\"\",\"\",IF(Calculator!A121=1,\"X\",\"\"))","v":""},0,null,null,30,null,"","",""]
[{"$f":"IF(Calculator!B123<>\"\",Calculator!B123,\"\")","v":""},{"$f":"IF(Calculator!C123<>\"\",Calculator!C123,\"\")","v":""},null,{"$f":"IF(A67=\"\",\"\",IF(Calculator!AE123=1,\"Intro\",\"Native\"))","v":""},{"$f":"IF(OR(A67=\"\",D67=\"Native\"),\"\",SUM(Calculator!E123:E124))","v":""},"",{"$f":"IF(OR(A67=\"\",D67=\"Intro\"),\"\",SUM(Calculator!G123:G124))","v":""},"",{"$f":"IF(A67=\"\",\"\",IF(Calculator!AR123=1,\"X\",\"\"))","v":""},0,null,null,31,null,"","",""]
[{"$f":"IF(Calculator!B125<>\"\",Calculator!B125,\"\")","v":""},{"$f":"IF(Calculator!C125<>\"\",Calculator!C125,\"\")","v":""},null,{"$f":"IF(A68=\"\",\"\",IF(Calculator!AE125=1,\"Intro\",\"Native\"))","v":""},{"$f":"IF(OR(A68=\"\",D68=\"Native\"),\"\",SUM(Calculator!E125:E126))","v":""},"",{"$f":"IF(OR(A68=\"\",D68=\"Intro\"),\"\",SUM(Calculator!G125:G126))","v":""},"",{"$f":"IF(A68=\"\",\"\",IF(Calculator!AR125=1,\"X\",\"\"))","v":""},0,null,null,32,null,"","",""]
[{"$f":"IF(Calculator!B127<>\"\",Calculator!B127,\"\")","v":""},{"$f":"IF(Calculator!C127<>\"\",Calculator!C127,\"\")","v":""},null,{"$f":"IF(A69=\"\",\"\",IF(Calculator!AE127=1,\"Intro\",\"Native\"))","v":""},{"$f":"IF(OR(A69=\"\",D69=\"Native\"),\"\",SUM(Calculator!E127:E128))","v":""},"",{"$f":"IF(OR(A69=\"\",D69=\"Intro\"),\"\",SUM(Calculator!G127:G128))","v":""},"",{"$f":"IF(A69=\"\",\"\",IF(Calculator!AR127=1,\"X\",\"\"))","v":""},0,null,null,33,null,"","",""]
[{"$f":"IF(Calculator!B129<>\"\",Calculator!B129,\"\")","v":""},{"$f":"IF(Calculator!C129<>\"\",Calculator!C129,\"\")","v":""},null,{"$f":"IF(A70=\"\",\"\",IF(Calculator!AE129=1,\"Intro\",\"Native\"))","v":""},{"$f":"IF(OR(A70=\"\",D70=\"Native\"),\"\",SUM(Calculator!E129:E130))","v":""},"",{"$f":"IF(OR(A70=\"\",D70=\"Intro\"),\"\",SUM(Calculator!G129:G130))","v":""},"",{"$f":"IF(A70=\"\",\"\",IF(Calculator!AR129=1,\"X\",\"\"))","v":""},0,null,null,34,null,"","",""]
[{"$f":"IF(Calculator!B131<>\"\",Calculator!B131,\"\")","v":""},{"$f":"IF(Calculator!C131<>\"\",Calculator!C131,\"\")","v":""},null,{"$f":"IF(A71=\"\",\"\",IF(Calculator!AE131=1,\"Intro\",\"Native\"))","v":""},{"$f":"IF(OR(A71=\"\",D71=\"Native\"),\"\",SUM(Calculator!E131:E132))","v":""},"",{"$f":"IF(OR(A71=\"\",D71=\"Intro\"),\"\",SUM(Calculator!G131:G132))","v":""},"",{"$f":"IF(A71=\"\",\"\",IF(Calculator!AR131=1,\"X\",\"\"))","v":""},0,null,null,35,null,"","",""]
[{"$f":"IF(Calculator!B133<>\"\",Calculator!B133,\"\")","v":""},{"$f":"IF(Calculator!C133<>\"\",Calculator!C133,\"\")","v":""},null,{"$f":"IF(A72=\"\",\"\",IF(Calculator!AE133=1,\"Intro\",\"Native\"))","v":""},{"$f":"IF(OR(A72=\"\",D72=\"Native\"),\"\",SUM(Calculator!E133:E134))","v":""},"",{"$f":"IF(OR(A72=\"\",D72=\"Intro\"),\"\",SUM(Calculator!G133:G134))","v":""},"",{"$f":"IF(A72=\"\",\"\",IF(Calculator!AR133=1,\"X\",\"\"))","v":""},0,null,null,36,null,"","",""]
[{"$f":"IF(Calculator!B135<>\"\",Calculator!B135,\"\")","v":""},{"$f":"IF(Calculator!C135<>\"\",Calculator!C135,\"\")","v":""},null,{"$f":"IF(A73=\"\",\"\",IF(Calculator!AE135=1,\"Intro\",\"Native\"))","v":""},{"$f":"IF(OR(A73=\"\",D73=\"Native\"),\"\",SUM(Calculator!E135:E136))","v":""},"",{"$f":"IF(OR(A73=\"\",D73=\"Intro\"),\"\",SUM(Calculator!G135:G136))","v":""},"",{"$f":"IF(A73=\"\",\"\",IF(Calculator!AR135=1,\"X\",\"\"))","v":""},0,null,null,37,null,"","",""]
[{"$f":"IF(Calculator!B137<>\"\",Calculator!B137,\"\")","v":""},{"$f":"IF(Calculator!C137<>\"\",Calculator!C137,\"\")","v":""},null,{"$f":"IF(A74=\"\",\"\",IF(Calculator!AE137=1,\"Intro\",\"Native\"))","v":""},{"$f":"IF(OR(A74=\"\",D74=\"Native\"),\"\",SUM(Calculator!E137:E138))","v":""},"",{"$f":"IF(OR(A74=\"\",D74=\"Intro\"),\"\",SUM(Calculator!G137:G138))","v":""},"",{"$f":"IF(A74=\"\",\"\",IF(Calculator!AR137=1,\"X\",\"\"))","v":""},0,null,null,38,null,"","",""]
[{"$f":"IF(Calculator!B139<>\"\",Calculator!B139,\"\")","v":""},{"$f":"IF(Calculator!C139<>\"\",Calculator!C139,\"\")","v":""},null,{"$f":"IF(A75=\"\",\"\",IF(Calculator!AE139=1,\"Intro\",\"Native\"))","v":""},{"$f":"IF(OR(A75=\"\",D75=\"Native\"),\"\",SUM(Calculator!E139:E140))","v":""},"",{"$f":"IF(OR(A75=\"\",D75=\"Intro\"),\"\",SUM(Calculator!G139:G140))","v":""},"",{"$f":"IF(A75=\"\",\"\",IF(Calculator!AR139=1,\"X\",\"\"))","v":""},0,null,null,39,null,"","",""]
[{"$f":"IF(Calculator!B141<>\"\",Calculator!B141,\"\")","v":""},{"$f":"IF(Calculator!C141<>\"\",Calculator!C141,\"\")","v":""},null,{"$f":"IF(A76=\"\",\"\",IF(Calculator!AE141=1,\"Intro\",\"Native\"))","v":""},{"$f":"IF(OR(A76=\"\",D76=\"Native\"),\"\",SUM(Calculator!E141:E142))","v":""},"",{"$f":"IF(OR(A76=\"\",D76=\"Intro\"),\"\",SUM(Calculator!G141:G142))","v":""},"",{"$f":"IF(A76=\"\",\"\",IF(Calculator!AR141=1,\"X\",\"\"))","v":""},0,null,null,40,null,"","",""]
[]
["TOTAL FORBS/LEGUMES: ",null,null,null,{"$f":"IF(SUM(E37:E76)=0,\"\",SUM(E37:E76))","v":""},{"$f":"IF(SUM(F37:F76)=0,\"\",SUM(F37:F76))","v":""},{"$f":"IF(SUM(G37:G76)=0,\"\",SUM(G37:G76))","v":""},{"$f":"IF(SUM(H37:H76)=0,\"\",SUM(H37:H76))","v":""},null,{"$f":"SUM(J37:J76)","v":0},null,null,null,null,null,{"$f":"SUM(P13:P76)","v":0},{"$f":"SUM(Q13:Q76)","v":0}]
[]
["SEEDING DATES",null,null,"Spring Seeding","Late Summer","Fall Dormant Seeding",null,"Frost Seeding Allowed?"]
[{"$f":"IF(OR(K91=0,B6=\"\"),\"\",IF(OR(K91=1,K91=3),VLOOKUP(Counties!$P$24,Counties!$R$2:$W$10,3),\"\"))","v":""},null,null,{"$f":"IF(A81=\"\",\"\",VLOOKUP(Counties!$P$24,Counties!$R$2:$W$10,4))","v":""},{"$f":"IF(A81=\"\",\"\",VLOOKUP(Counties!$P$24,Counties!$R$2:$W$10,5))","v":""},{"$f":"IF(A81=\"\",\"\",VLOOKUP(Counties!$P$24,Counties!$R$2:$W$10,6))","v":""},null,{"$f":"IF(A81=\"\",\"\",VLOOKUP(Counties!$P$24,Counties!$R$2:$X$10,7))","v":""}]
[{"$f":"IF(OR(K91=0,B6=\"\"),\"\",IF(OR(K91=2,K91=3),VLOOKUP(Counties!$P$24,Counties!$R$10:$W$19,3),\"\"))","v":""},null,null,{"$f":"IF(A82=\"\",\"\",VLOOKUP(Counties!$P$24,Counties!$R$10:$W$19,4))","v":""},{"$f":"IF(A82=\"\",\"\",VLOOKUP(Counties!$P$24,Counties!$R$10:$W$19,5))","v":""},{"$f":"IF(A82=\"\",\"\",VLOOKUP(Counties!$P$24,Counties!$R$10:$W$19,6))","v":""},null,{"$f":"IF(A82=\"\",\"\",VLOOKUP(Counties!$P$24,Counties!$R$10:$X$19,7))","v":""}]
[null,null,null,"lbs/acre","Total lbs.","OR","Bu./Acre","Total Bu."]
["Temporary Cover Crop: ","NONE",null,{"$f":"IF(OR(B84=\"\",B84=\"none\"),\"\",VLOOKUP(B84,comp_temp!P7:Q13,2))","v":""},{"$f":"IF(OR($B$5=\"\",D84=\"\"),\"\",D84*$B$5)","v":""},{"$f":"IF(ISNUMBER(D84),\"OR\",\"\")","v":""},{"$f":"IF(OR(B84=\"\",B84=\"none\"),\"\",VLOOKUP(B84,comp_temp!P7:R13,3))","v":""},{"$f":"IF(OR($B$5=\"\",D84=\"\"),\"\",G84*$B$5)","v":""}]
["Companion Crop: ",null,null,null,{"$f":"IF(OR(D85=\"\",$B$5=\"\"),\"\",D85*$B$5)","v":""},{"$f":"IF(ISNUMBER(D85),\"OR\",\"\")","v":""},{"$f":"IF(OR(B85=\"\",B85=\"none\"),\"\",VLOOKUP(B85,comp_temp!P33:R44,3))","v":""},{"$f":"IF(OR($B$5=\"\",D85=\"\"),\"\",G85*$B$5)","v":""}]
["You must pick Yes or No"]
[]
["Fertilizer & Lime  ",null,null,null,"Total Lbs. Needed",null,null,"General"]
[null,null,null,null,null,null,null,"Soil Test"]
["80-89 Lime ",null,null,{"$f":"+O91","v":""},{"$f":"IF(ISNUMBER(D90),D90*$B$5,\"\")","v":""},null,null,"Fert./Lime Not Needed",null,null,null,"yes/no box status"]
["Nitrogen",null,null,{"$f":"+O91","v":""},{"$f":"IF(ISNUMBER(D91),D91*$B$5,\"\")","v":""},null,null,null,null,null,{"$f":"IF(AND(P78=0,Q78=0),0,IF(P78>0,1,IF(AND(P78=0,Q78>0),2)))","v":0},"determines intro(1),native(2), or both(3) in mix",null,null,{"$f":"IF(K91=2,\"N/R\",IF(F2=512,\"ST\",\"\"))","v":""}]
["Phosphate (P205)  ",null,null,{"$f":"+O91","v":""},{"$f":"IF(ISNUMBER(D92),D92*$B$5,\"\")","v":""},null,null,{"$f":"IF(O$91=2,\"N/R\",\"\")","v":""}]
["Potash (K20) ",null,null,{"$f":"+O91","v":""},{"$f":"IF(ISNUMBER(D93),D93*$B$5,\"\")","v":""}]
[null,null,null,{"$f":"IF(D90=\"N/R\",\"N/R=Not Recommended for Pure Native Mixes\",IF(D90=\"ST\",\"ST=Soil Test Required\",\"\"))","v":""}]
[null,null,2000]
["Seeding was completed on: ",null,null," according to the above requirements."]
[null,"(Date)"]

{"sheet":"Grasses","index":2,"n_rows":49,"n_cols":42,"rows_kept":49,"cut":false,"hidden":false,"merged":[[0,40,1,40],[0,41,1,41],[0,16,0,21],[0,22,0,24],[0,25,0,34],[0,35,0,37]]}
[1,2,3,4,5,6,7,8,9,10,11,12,13,14,15,16,"MOISTURE REGIME",null,null,null,null,null,null,null,null,"Forage Suitablility Groups (FSG)",null,null,null,null,null,null,null,null,null,"Forage Productivity",null,null,null,null,"Intro/Native","Pure Stand Rate"]
["Common Name","Plant Type","Scientific Name","Estimated Cost/lb","Seeds/lb.","Seeds/sq ft @ 1 lb./ac",null,"Blooming period","Growth Form","Suitable For Pollinators","Wildlife Value","Retardance Capacity","Forage Productivity","Fertility Requirements","Moisture Regime","FSG","D","DM","M","WM","W","ALL","INTRO","NAT","BOTH",1,2,3,4,5,6,7,8,9,10,"LOW","MED","HIGH","Pasture","POLLINATOR"]
[null,null,"LEAVE THIS ROW BLANK",null,null,null,null,null,null,null,null,null,null,null,null,null,"X","X","X","X","X","X","X","X","X","X","X","X","X","X","X","X","X","X","X","X","X","X","X","X"]
["American Mannagrass","Grass","Glyceria grandis",0,1279616,29.38475665748393,null,"Late","Bunch","yes","fair","A","fair","medium","WM, W","4,7,10"," "," "," ","X","X","X"," ","X","X"," "," "," ","X"," "," ","X"," "," ","X"," ","X"," "," ","X","N"]
["Annual (Italian) Ryegrass","Grass","Lolium perenne L. ssp. Multiflorum",0,227000,5.2112029384756662,null,"Middle","Bunch","yes","fair","C","fair","medium","DM,M,WM","1,4-9"," ","X","X","X"," ","X","X"," ","X","X"," "," ","X","X","X","X","X","X"," "," ","X"," ","X","X","I",20]
["Big Bluestem","Grass","Andropogon gerardii",0,165000,3.79,null,"Middle","Bunch","yes","good","B","good","low","D, DM, M, WM","1-9","X","X","X","X"," ","X"," ","X","X","X","X","X","X","X","X","X","X","X"," "," "," ","X","X","X","N",10]
["Bluejoint","Grass","Calamagrostis canadensis",0,4480064,102.84664830119375,null,"Early","Sod-Forming","no","good","B","poor","high","WM, W","4,7,10"," "," "," ","X","X","X"," ","X","X"," "," "," ","X"," "," ","X"," "," ","X","X"," "," "," "," ","N"]
["Bottlebrush Sedge","Sedge","Carex hystericina",0,480208,11.019283746556473,null,"Late","Bunch","yes","fair","C","poor","low","WM, W","4,7,10"," "," "," ","X","X","X"," ","X","X"," "," "," ","X"," "," ","X"," "," ","X","X"," "," "," ","X","N"]
["Canada Wildrye","Grass","Elymus canadensis",0,83200,1.9100091827364554,null,"Early","Bunch","yes","fair","B","poor","medium"," DM, M,WM","1,3,4,5,6,7,8,9"," ","X","X","X"," ","X"," ","X","X","X"," ","X","X","X","X","X","X","X"," ","X"," "," "," ","X","N"]
["Chewings Red Fescue","Grass","Festuca rubra L. ssp. fallax",0,350000,8.0348943985307617,null,"Early","Sod-Forming","no","poor","D","poor","medium","D, DM, M","2,3,5,6,8,9","X","X","X"," "," ","X","X"," ","X"," ","X","X"," ","X","X"," ","X","X"," ","X"," "," ","X"," ","I",5]
["Common Rush","Rush","Juncus effusus",0,16000112,367.30945821854914,null,"Middle","Bunch","yes","good","C","poor","mediom","WM, W","4,7,10"," "," "," ","X","X","X"," ","X","X"," "," "," ","X"," "," ","X"," "," ","X","X"," "," "," ","X","N"]
["Creeping Red Fescue","Grass","Festuca rubra",0,350000,8.0348943985307617,null,"Early","Sod-Forming","no","poor","D","poor","low","DM, M,WM","1,4-9"," ","X","X","X"," ","X","X"," ","X","X"," "," ","X","X","X","X","X","X"," ","X"," "," ","X"," ","I",5]
["Festulolium","Grass","Festuca x Lolium",0,227000,5.2112029384756662,null,"Middle","Bunch","yes","fair","C","fair","medium","DM,M,WM","1-9"," ","X","X","X"," ","X","X"," ","X","X","X","X","X","X","X","X","X","X"," "," ","X"," ","X","X","I",12]
["Fowl Mannagrass","Grass","Glyceria striata",0,2560000,58.76951331496786,null,"Middle","Bunch","yes","good","B","fair","medium","WM, W","4,7,10"," "," "," ","X","X","X"," ","X","X"," "," "," ","X"," "," ","X"," "," ","X"," ","X"," "," ","X","N"]
["Fox Sedge","Sedge","Carex vulpinoidea",0,1599520,36.730945821854903,null,"Early","Bunch","yes","poor","B","poor","medium","WM, W","4,7,10"," "," "," ","X","X","X"," ","X","X"," "," "," ","X"," "," ","X"," "," ","X","X"," "," "," ","X","N"]
["Green Bulrush","Rush","Scirpus atrovirens",0,7359904,168.9623507805326,null,"Middle","Bunch","yes","fair","C","poor","low","WM, W","4,7,10"," "," "," ","X","X","X"," ","X","X"," "," "," ","X"," "," ","X"," "," ","X","X"," "," "," ","X","N"]
["Hairy Grama","Grass","Bouteloua hirsuta ",0,1120000,25.711662075298438,null,"Middle","Sod-Forming","no","poor","D","poor","low","D, DM","2,3,5,6","X","X"," "," "," ","X"," ","X","X"," ","X","X"," ","X","X"," "," "," "," ","X"," "," "," "," ","N"]
["Indiangrass","Grass","Sorghastrum nutans",0,192000,4.4077134986225897,null,"Middle","Bunch","yes","good","B","good","medium","D, DM, M, WM, W","1-9","X","X","X","X","X","X"," ","X","X","X","X","X","X","X","X","X","X","X"," "," "," ","X","X","X","N",10]
["Intermediate Wheatgrass","Grass","Thinopirum intermedium",0,88000,30.3,null,"Early","Sod-Forming","no","good","A","good","high","D, DM, M","2,3,5,6,8,9","X","X","X"," "," "," ","X"," "," "," ","X","X","X","X","X","X","X","X"," "," "," ","X","X"," ","I",15]
["Kentucky Bluegrass","Grass","Poa pratensis",0,2177000,50,null,"Early","Sod-Forming","no","poor","D","fair","high","D, DM,M, WM,W","1 - 9","X","X","X","X","X","X","X"," ","X","X","X","X","X","X","X","X","X","X"," "," ","X"," ","X"," ","I",8]
["Little Bluestem","Grass","Schizachyrium scoparium",0,240000,5.5096418732782366,null,"Middle","Bunch","yes","fair","D","poor","low","D, DM, M","2,3,5,6","X","X","X"," "," ","X"," ","X","X"," ","X","X"," ","X","X"," "," "," "," ","X"," "," "," ","X","N"]
["Longhair Sedge","Sedge","Carex comosa",0,480208,11.019283746556473,null,"Middle","Bunch","yes","fair","C","poor","low","WM, W","4,7,10"," "," "," ","X","X","X"," ","X","X"," "," "," ","X"," "," ","X"," "," ","X","X"," "," "," ","X","N"]
["Meadow Fescue","Grass","Schedonorus pratensis ",0,227000,5.2110000000000003,null,"Early","Bunch","yes","fair","D","good","high","DM,M,WM","1,4-9"," ","X","X","X"," ","X","X"," ","X","X"," "," ","X","X","X","X","X","X"," "," "," ","X","X","X","I",12]
["Orchardgrass","Grass","Dactylis glomerata L.",0,653000,14.990817263544537,null,"Early","Bunch","yes","fair","B","excellent","medium","D,DM,M,WM","1-9","X","X","X","X"," ","X","X"," ","X","X","X","X","X","X","X","X","X","X"," "," "," ","X","X","X","I",10]
["Perennial Ryegrass","Grass","Lolium perenne",0,227000,5.2110000000000003,null,"Early","Bunch","yes","fair","C","good","high","DM,M,WM","1,4-9"," ","X","X","X"," ","X","X"," ","X","X"," "," ","X","X","X","X","X","X"," "," "," ","X","X","X","I",20]
["Porcupinegrass","Grass","Hesperostipa spartea",0,176000,4.0404,null,"Early","Bunch","yes","fair","B","poor","low","D, DM","2,3,5,6","X","X"," "," "," ","X"," ","X","X"," ","X","X"," ","X","X"," "," "," "," ","X"," "," "," ","X","N"]
["Prairie Cordgrass","Grass","Spartina pectinata",0,105600,2.4242424242424243,null,"Middle","Sod-Forming","no","fair","A","poor","medium","M, WM, W","4,7, 10"," "," ","X","X","X","X"," ","X","X"," "," "," ","X"," "," ","X"," "," ","X","X"," "," "," "," ","N"]
["Prairie Dropseed","Grass","Sporobolus heterolepis",0,256000,5.8769513314967856,null,"Middle","Bunch","yes","fair","C","poor","medium","D, DM, M","1,2,3,5,6,8,9","X","X","X"," "," ","X"," ","X","X","X","X","X"," ","X","X"," ","X","X"," ","X"," "," "," ","X","N"]
["Prairie Junegrass","Grass","Koeleria macrantha",0,2308672,52.999816345270894,null,"Early","Bunch","yes","fair","D","fair","medium","D, DM, M","1,2,3,5,6-9","X","X","X"," "," ","X"," ","X","X","X","X","X"," ","X","X","X","X","X"," "," ","X"," "," ","X","N"]
["Redtop","Grass","Agrostis gigantea",0,4990000,114.55463728191,null,"Early","Sod-Forming","no","fair","C","fair","low"," M, WM, W","1,4,7"," "," ","X","X","X","X","X"," ","X","X"," "," ","X"," "," ","X"," "," "," "," ","X"," ","X"," ","I",4]
["River Bulrush","Rush","Schoenoplectus fluviatilis",0,68784,1.5794306703397611,null,"Middle","Sod-Forming","no","fair","C","poor","medium","M,WM,W","4,7,10"," "," ","X","X","X","X"," ","X","X"," "," "," ","X"," "," ","X"," "," ","X","X"," "," "," "," ","N"]
["Sand Dropseed","Grass","Sporobolus cryptandrus",0,5314000,122,null,"Late","Bunch","yes","fair","C","poor","medium","D,DM,M","2,3,5,6,8,9","X","X","X"," "," ","X"," ","X","X"," ","X","X"," ","X","X"," ","X","X"," ","X"," "," "," ","X","N"]
["Sideoats Grama","Grass","Bouteloua curtipendula",0,127000,2.92,null,"Middle","Bunch","yes","fair","D","poor","medium","D, DM,M","1,2,3,5,6,8","X","X","X"," "," ","X"," ","X","X","X","X","X"," ","X","X"," ","X"," "," ","X"," "," "," ","X","N"]
["Smooth Bromegrass","Grass","Bromus inermis",0,136000,3.1221303948576677,null,"Middle","Sod-Forming","no","fair","B","good","high","D,DM,M,WM","1-9","X","X","X","X"," ","X","X"," ","X","X","X","X","X","X","X","X","X","X"," "," "," ","X","X"," ","I",20]
["Softstem Bulrush","Rush","Schoenoplectus tabernaemontani",0,496240,11.386593204775023,null,"Middle","Sod-Forming","no","good","C","poor","low","WM,W","4,7,10"," "," "," ","X","X","X"," ","X","X"," "," "," ","X"," "," ","X"," "," ","X","X"," "," "," "," ","N"]
["Switchgrass","Grass","Panicum virgatum",0,389000,8.93,null,"Middle","Bunch","yes","good","B","good","high","D, DM, M, WM,W","1,2,3-9","X","X","X","X","X","X"," ","X","X","X","X","X","X","X","X","X","X","X"," "," "," ","X","X","X","N",7]
["Tall Fescue","Grass","Festuca arundinacea",0,227000,5.2800734618916438,null,"Early","Bunch","yes","fair","B","good","low","D,DM,M,WM","1-9","X","X","X","X"," ","X","X"," ","X","X","X","X","X","X","X","X","X","X"," "," "," ","X","X","X","I",12]
["Timothy","Grass","Phleum pratense",0,1230000,28.24,null,"Early","Bunch","yes","fair","B","fair","low","DM,M,WM,W","1,4-9"," ","X","X","X","X","X","X"," ","X","X"," "," ","X","X","X","X","X","X"," "," ","X"," ","X","X","I",8]
["Virginia Wildrye","Grass","Elymus virginicus",0,67200,1.5426997245179064,null,"Early","Bunch","yes","fair","B","fair","medium","M,WM, W","1,4,7,8,10"," "," ","X","X","X","X"," ","X","X","X"," "," ","X"," "," ","X","X"," ","X"," ","X"," "," ","X","N"]
["Woolgrass","Rush","Scirpus cyperinus",0,27200000,624.42607897153357,null,"Late","Bunch","yes","fair","C","poor","medium","W","1,4,7,10"," "," "," "," ","X","X"," ","X","X","X"," "," ","X"," "," ","X"," "," ","X","X"," "," "," ","X","N"]
[]
[null,null,null,null,null,null,null,null,null,null,null,null,null,null,null,null,null,null,null,null,null,null,null,null,null,null,null,null,null,null,null,null,null,null,null,null,null,null,null," ",{"$f":"IF(W42=\"\",\"\",IF(W42=\"x\",\"I\",\"N\"))","v":""}]
[null,null,null,null,null,null,null,null,null,null,null,null,null,null,null,null,null,null,null,null,null,null,null,null,null,null,null,null,null,null,null,null,null,null,null,null,null,null,null," ",""]
[null,null,null,null,null,null,null,null,null,null,null,null,null,null,null,null,null,null,null,null,null,null,null,null,null,null,null,null,null,null,null,null,null,null,null,null,null,null,null," ",""]
[null,null,null,null,null,null,null,null,null,null,null,null,null,null,null,null,null,null,null,null,null,null,null,null,null,null,null,null,null,null,null,null,null,null,null,null,null,null,null," ",""]
["FILTERED TABLE",null,null,null,null,null,null,null,null,null,null,null,null,null,null,null,null,null,null,null,null,null,null,null,null,null,null,null,null,null,null,null,null,null,null,null,null,null,null," ",""]
["Common Name","Scientific Name","Plant Type","Estimated Cost/lb","Seeds/lb.","Seeds/sq ft @ 1 lb./ac","color code","Blooming period","Growth Form","Suitable For Pollinators","Wildlife Value","Retardance Capacity","Forage Productivity","Fertility Requirements","Moisture Regime","FSG","D","DM","M","WM","W","ALL","INTRO","NAT","BOTH",1,2,3,4,5,6,7,8,9,10,"LOW","MED","HIGH","Pasture","Pollinator"]
[null,null,null,null,null,null,null,null,null,null,null,null,null,null,null,null,{"$f":"IF(Calculator!$A$4=3,\"X\",\"\")","v":""},{"$f":"IF(Calculator!$A$4=5,\"X\",\"\")","v":""},{"$f":"IF(Calculator!$A$4=4,\"X\",\"\")","v":""},{"$f":"IF(Calculator!$A$4=6,\"X\",\"\")","v":""},{"$f":"IF(Calculator!$A$4=2,\"X\",\"\")","v":""},{"$f":"IF(Calculator!$A$4=1,\"X\",\"\")","v":""},{"$f":"IF(OR(Calculator!$A$6=2,Calculator!$A$10=1),\"X\",\"\")","v":""},{"$f":"IF(OR(Calculator!$A$6=3,Calculator!$A$10=2),\"X\",\"\")","v":""},{"$f":"IF(OR(Calculator!$A$10=3,Calculator!$A$6=1),\"X\",\"\")","v":""},{"$f":"IF(Calculator!$Y$2=1,\"X\",\"\")","v":""},{"$f":"IF(Calculator!$Y$2=2,\"X\",\"\")","v":""},{"$f":"IF(Calculator!$Y$2=3,\"X\",\"\")","v":""},{"$f":"IF(Calculator!$Y$2=4,\"X\",\"\")","v":""},{"$f":"IF(Calculator!$Y$2=5,\"X\",\"\")","v":""},{"$f":"IF(Calculator!$Y$2=6,\"X\",\"\")","v":""},{"$f":"IF(Calculator!$Y$2=7,\"X\",\"\")","v":""},{"$f":"IF(Calculator!$Y$2=8,\"X\",\"\")","v":""},{"$f":"IF(Calculator!$Y$2=9,\"X\",\"\")","v":""},null,null,null,null,{"$f":"IF(Calculator!$Z$2=3,\"X\",\"\")","v":""},{"$f":"IF(Calculator!$A$5=1,\"X\",\"\")","v":""}]
["Common Name","Plant Type","Scientific Name","Estimated Cost/lb","Seeds/lb.","Seeds/sq ft @ 1 lb./ac",null,"Blooming period","Growth Form","Suitable For Pollinators","Wildlife Value","Retardance Capacity","Forage Productivity","Fertility Requirements","Moisture Regime","FSG","D","DM","M","WM","W","ALL","INTRO","NAT","BOTH",1,2,3,4,5,6,7,8,9,10,"LOW","MED","HIGH","Pasture","POLLINATOR"]

{"sheet":"ForbsLegumes","index":3,"n_rows":362,"n_cols":48,"rows_kept":362,"cut":false,"hidden":false,"merged":[[0,19,0,24],[0,29,0,38],[0,39,0,41],[0,43,1,43],[0,44,1,44]]}
[1,2,3,4,5,6,7,8,9,10,11,12,13,14,15,16,17,18,19,"MOISTURE REGIME",null,null,null,null,null,null,null,null,null,"Forage Suitablility Groups (FSG)",null,null,null,null,null,null,null,null,null,"Forage Productivity",null,null,null,"Intro/Native","Pure Stand Rate"]
["Common Name","Plant Type","Scientific Name","Estimated Cost/oz","Estimated Cost/lb","Seeds/oz","Seeds/lb.","Seeds/sq ft @ 1oz/ac","Seeds/sq ft @ 1 lb./ac","Blooming period","Growth Form","Suitable For Pollinators","Wildlife Value","Retardance Capacity","Forage Productivity","Fertility Requirements","Moisture Regime","color code","Forage Suitablility Groups (FSG)","D","DM","M","WM","W","All","INTRO","NAT","BOTH","Pasture",1,2,3,4,5,6,7,8,9,10,"LOW","MED","HIGH","Pollinator",null,null,"Monarch Friendly"]
[null,null,"Leave this row blank",null,{"$f":"D3*16","v":0},null,null,null,null,null,null,null,null,null,null,null,null,0,null,"X","X","X","X","X","X","X","X","X","X","X","X","X","X","X","X","X","X","X","X","X","X","X","X"]
["Alfalfa","Legume","Medicago sativa",0,{"$f":"+D4*16","v":0},13688,219000,0.314,{"$f":"+H4*16","v":5.024},"Middle","crown","Yes","good","C","good","high","D, DM, M",21,"2,3,5,6,8,9","X","X","X"," "," ","X","X"," ","X","X"," ","X","X"," ","X","X"," ","X","X"," "," "," ","X","X","I",12]
["Alsike Clover","Legume","Trifolium hybridum",0,0,42500,680000,0.97499999999999998,15.6,"Early-Middle","crown","Yes","good","D","fair","medium","M, WM, W",38,"1,4,5,7,8,9"," "," ","X","X","X","X","X"," ","X","X","X"," "," ","X","X"," ","X","X","X"," ","X"," "," ","X","I",3]
["Angelica","Forb","Angelica atropurpurea",0,0,5400,86400,0.12396694214876033,1.9834710743801653,"Middle","erect, single stem","yes","fair","D","N/A","low","W",10," "," "," "," "," ","X","X"," ","X","X"," "," "," "," "," "," "," "," "," "," "," "," "," "," ","X","N"]
["Bergamot","Forb","Monarda fistulosa",0,0,77800,1244800,1.7860422405876952,28.576675849403124,"Middle-Late","erect, stem branched","yes","good","D","N/A","low","DM, M, WM",21,null," ","X","X","X"," ","X"," ","X","X"," "," "," "," "," "," "," "," "," "," "," "," "," "," ","X","N",null,1]
["Biennial Beeblossom","Forb","Gaura biennis",0,0,2700,43200,6.1983471074380167E-2,0.99173553719008267,"Middle-Late","erect, single stem","yes","fair","D","N/A","low","M",38,null," "," ","X"," "," ","X"," ","X","X"," "," "," "," "," "," "," "," "," "," "," "," "," "," ","X","N"]
["Bird's Foot Violet","Forb","Viola pedata",0,0,26000,416000,0.59699999999999998,9.5519999999999996,"Early-Late","erect, stemless","yes","poor","D","N/A","low","D, DM",21,null,"X","X"," "," "," ","X"," ","X","X"," "," "," "," "," "," "," "," "," "," "," "," "," "," ","X","N"]
["Birdsfoot Trefoil","Legume","Lotus corniculatus",0,0,23437.5,375000,0.53800000000000003,8.6080000000000005,"Middle-Late","single crown","Yes","good","D","fair","medium","DM, M, WM,W",6,"1,4-9"," ","X","X","X","X","X","X"," ","X","X","X"," "," ","X","X","X","X","X","X"," ","X"," "," ","X","I",7]
["Black-Eyed Susan","Forb","Rudbeckia hirta",0,0,99600,1593600,2.2865013774104681,36.58402203856749,"Middle-Late","sinngle stem","yes","fair","D","N/A","medium","D, DM, M, WM",6,null,"X","X","X","X"," ","X"," ","X","X"," "," "," "," "," "," "," "," "," "," "," "," "," "," ","X","N",null,1]
["Blue Vervain","Forb","Verbena hastata",0,0,93000,1488000,2.1349862258953167,34.159779614325068,"Middle-Late","single stem","Yes","fair","D","N/A","low","WM, W",41,null," "," "," ","X","X","X"," ","X","X"," "," "," "," "," "," "," "," "," "," "," "," "," "," ","X","N"]
["Blue-Eyed Grass","Forb","Sisyrinchium campestre",0,0,45000,720000,1.0330578512396693,16.528925619834709,"Early-Middle","erect, unbranched","yes","poor","D","N/A","low","D, DM, M",41,null,"X","X","X"," "," ","X"," ","X","X"," "," "," "," "," "," "," "," "," "," "," "," "," "," ","X","N"]
["Boneset","Forb","Eupatorium perfoliatum",0,0,160000,2560000,3.6730945821854912,58.76951331496786,"Middle-Late","erect, single stem","Yes","good","D","N/A","low","WM,W",15,null," "," "," ","X","X","X"," ","X","X"," "," "," "," "," "," "," "," "," "," "," "," "," "," ","X","N",null,1]
["Bottle Gentian","Forb","Gentiana andrewsii",0,0,280000,4480000,6.4279155188246095,102.84664830119375,"Middle-Late","erect, bunched","yes","fair","D","N/A","low","M",41,null," "," ","X"," "," ","X"," ","X","X"," "," "," "," "," "," "," "," "," "," "," "," "," "," ","X","N"]
["Butterfly Milkweed","Forb","Asclepias tuberosa",0,0,3480,55680,0.08,1.28,"Middle","weakly erect multi-stem","yes","good","D","N/A","low","D, DM, M",44,null,"X","X","X"," "," ","X"," ","X","X"," "," "," "," "," "," "," "," "," "," "," "," "," "," ","X","N",null,1]
["Canada Milkvetch","Legume","Astragalus canadensis",0,0,15960,255360,0.36639118457300274,5.8622589531680438,"Middle","erect, Stoloniferous","yes","good","D","N/A","low","M, WM",6,null," "," ","X","X"," ","X"," ","X","X"," "," "," "," "," "," "," "," "," "," "," "," "," "," ","X","N"]
["Cardinal Flower","Forb","Lobelia cardinalis",0,0,400000,6400000,9.1820000000000004,146.91200000000001,"Middle-Late","erect, unbranched","yes","good","D","N/A","low","WM, W",3,null," "," "," ","X","X","X"," ","X","X"," "," "," "," "," "," "," "," "," "," "," "," "," "," ","X","N"]
["Common Ironweed","Forb","Vernonia fasciculata",0,0,20000,320000,0.4591368227731864,7.3461891643709825,"Late","erect, Single stem","yes","good","D","N/A","low","WM, W",21,null," "," "," ","X","X","X"," ","X","X"," "," "," "," "," "," "," "," "," "," "," "," "," "," ","X","N"]
["Common Milkweed","Forb","Asclepias syriaca",0,0,4000,64000,0.09,1.5,"Middle-Late","erect, single stem","Yes","Good","D ","N/A","low","DM, M",21,null," ","X","X"," "," ","X"," ","X","X"," "," "," "," "," "," "," "," "," "," "," "," "," "," ","X","N",null,1]
["Compassplant","Forb","Silphium laciniatum",0,{"$f":"+D21*16","v":0},650,10400,1.4921946740128558E-2,{"$f":"+H21*16","v":0.23875114784205692},"Middle-Late","erect single stem","yes","good","D","N/A","low","DM, M, WM",6,null," ","X","X","X"," ","X"," ","X","X"," "," "," "," "," "," "," "," "," "," "," "," "," "," ","X","N",null,1]
["Cream Wild Indigo","Legume","Baptisia bracteata",0,0,1700,27200,3.9026629935720848E-2,0.62442607897153357,"Early","weakly erect,single stem","yes","fair","D","N/A","low","M",6,null," "," ","X"," "," ","X"," ","X","X"," "," "," "," "," "," "," "," "," "," "," "," "," "," ","X","N"]
["Culver's Root","Forb","Veronicastrum virginicum",0,0,750000,12000000,17.217630853994489,275.48209366391183,"Middle","erect single stem","yes","fair","D","N/A","low","M, WM, W",48,null," "," ","X","X","X","X"," ","X","X"," "," "," "," "," "," "," "," "," "," "," "," "," "," ","X","N",null,1]
["Cupplant","Forb","Silphium perfoliatum",0,0,1400,22400,3.2139577594123052E-2,0.51423324150596883,"Middle-Late","erect, single stem","yes","good","D","N/A","low","M, WM, W",6,null," "," ","X","X","X","X"," ","X","X"," "," "," "," "," "," "," "," "," "," "," "," "," "," ","X","N",null,1]
["Downy Gentian","Forb","Gentiana puberulenta",0,0,435000,6960000,9.9860000000000007,159.77600000000001,"Late","erect single stem","yes","fair","D","N/A","low","DM, M",41,null," ","X","X"," "," ","X"," ","X","X"," "," "," "," "," "," "," "," "," "," "," "," "," "," ","X","N"]
["Downy Wood Mint","Forb","Blephilia ciliata ",0,0,400000,6400000,9.1827364554637274,146.92378328741964,"Middle-Late","erect single stemyes","Yes","fair","D","N/A","low","DM,M,WM",21,null," ","X","X","X"," ","X"," ","X","X"," "," "," "," "," "," "," "," "," "," "," "," "," "," ","X","N"]
["Evening Primrose","Forb","Oenothera biennis",0,0,90000,1440000,2.0661,33.057600000000001,"Late","erect, single stem","Yes","fair","D","N/A","low","D, DM, M",38,null,"X","X","X"," "," ","X"," ","X","X"," "," "," "," "," "," "," "," "," "," "," "," "," "," ","X","N"]
["False Boneset ","Forb","Brickellia eupatorioides",0,0,24000,384000,0.55100000000000005,8.8160000000000007,"Middle-Late","erect, single stem","yes","fair","D","N/A","low","D, DM",15,null,"X","X"," "," "," ","X"," ","X","X"," "," "," "," "," "," "," "," "," "," "," "," "," "," ","X","N"]
["False Toadflax","Forb","Comandra umbellata",0,0,700,11200,1.6069788797061526E-2,0.25711662075298441,"Early-Middle","erect,  single stem","Yes","good","D","N/A","low","D, DM, M, WM",15,null,"X","X","X","X"," ","X"," ","X","X"," "," "," "," "," "," "," "," "," "," "," "," "," "," ","X","N"]
["Fewleaf Sunflower","Forb","Helianthus occidentalis",0,0,12960,207360,0.2975206611570248,4.7603305785123968,"Middle-Late","erect single stem","yes","fair","D","N/A","low","DM, M",6,null," ","X","X"," "," ","X"," ","X","X"," "," "," "," "," "," "," "," "," "," "," "," "," "," ","X","N"]
["Flowering Spurge","Forb","Euphorbia corollata",0,0,8000,128000,0.184,2.944,"Middle-Late","erect stem unbranched","Yes","fair","D","N/A","low","D, DM, M, WM",15,null,"X","X","X","X"," ","X"," ","X","X"," "," "," "," "," "," "," "," "," "," "," "," "," "," ","X","N"]
["Foxglove Beardtongue","Forb","Penstemon digitalis",0,0,115000,1840000,2.64,42.24,"Early-Middle","erect, single stem,rhizomatuous","yes","fair","D","N/A","low","M, WM",15,null," "," ","X","X"," ","X"," ","X","X"," "," "," "," "," "," "," "," "," "," "," "," "," "," ","X","N"]
["Giant Hyssop","Forb","Agastache foeniculum",0,0,65000,1040000,1.49,23.8,"Middle-Late","erect, clustered stem","Yes","Good","D ","N/A","low","DM, M",21,null," ","X","X"," "," ","X"," ","X","X"," "," "," "," "," "," "," "," "," "," "," "," "," "," ","X","N"]
["Giant Sunflower","Forb","Helianthus giganteus",0,0,10938,175008,0.25,4,"Middle-Late","erect, rhizomatous","Yes","Good","D","N/A","low","DM, M",6,null," ","X","X"," "," ","X"," ","X","X"," "," "," "," "," "," "," "," "," "," "," "," "," "," ","X","N",null,1]
["Goat's Rue","Forb","Tephrosia virginiana",0,{"$f":"+D35*16","v":0},2500,40000,5.73921028466483E-2,{"$f":"+H35*16","v":0.91827364554637281},"Early-Middle","erect/drooping","yes","fair","D","N/A","low","D, DM",38,null,"X","X"," "," "," ","X"," ","X","X"," "," "," "," "," "," "," "," "," "," "," "," "," "," ","X","N"]
["Golden Alexanders","Forb","Zizia aurea",0,0,11000,176000,0.2525,4.04,"Early","erect, branched","yes","fair","D","N/A","low","M, WM, W",6,null," "," ","X","X","X","X"," ","X","X"," "," "," "," "," "," "," "," "," "," "," "," "," "," ","X","N"]
["Golden Ragwort","Forb","Packera aurea",0,0,73000,1168000,1.6758494031221305,26.813590449954088,"Early-Middle","erect, branched, creeping rhizomes","yes","fair","D","N/A","low","M,WM,W",6,null," "," ","X","X","X","X"," ","X","X"," "," "," "," "," "," "," "," "," "," "," "," "," "," ","X","N"]
["Great Blue Lobelia","Forb","Lobelia siphilitica",0,0,500000,8000000,11.478,183.648,"Middle-Late","erect single stem","yes","fair","D","N/A","high","W",41,null," "," "," "," ","X","X"," ","X","X"," "," "," "," "," "," "," "," "," "," "," "," "," "," ","X","N",null,1]
["Great St. John's Wort","Forb","Hypericum ascyron",0,0,200000,3200000,4.5910000000000002,73.456000000000003,"Middle","erect, stem branched","yes","good","D","N/A","low","M,WM",6,null," "," ","X","X"," ","X"," ","X","X"," "," "," "," "," "," "," "," "," "," "," "," "," "," ","X","N"]
["Green Milkweed","Forb","Asclepias viridiflora",0,0,3600,57600,8.2644628099173556E-2,1.3223140495867769,"Early-Middle","erct to drooping stem","yes","fair","D","N/A","low","D, DM",12,null,"X","X"," "," "," ","X"," ","X","X"," "," "," "," "," "," "," "," "," "," "," "," "," "," ","X","N"]
["Grooved Yellow Flax","Forb","Linum sulcatum",0,0,94000,1504000,2.1579430670339761,34.527089072543617,"Early-Late","erect, single stem","yes","fair","D","N/A","low","D, DM",6,null,"X","X"," "," "," ","X"," ","X","X"," "," "," "," "," "," "," "," "," "," "," "," "," "," ","X","N"]
["Harebell","Forb","Campanula rotundifolia",0,0,900000,14400000,20.661000000000001,330.57600000000002,"Middle-Late","erect, Stoloniferous","yes","fair","D","N/A","low","D, DM",21,null,"X","X"," "," "," ","X"," ","X","X"," "," "," "," "," "," "," "," "," "," "," "," "," "," ","X","N"]
["Harlequin Blue Flag Iris","Forb","Iris versicolor",0,0,1300,20800,2.9843893480257115E-2,0.47750229568411384,"Early-Middle","erect stem,partially rhizomateous","yes","fair","D","N/A","low","W",21,null," "," "," "," ","X","X"," ","X","X"," "," "," "," "," "," "," "," "," "," "," "," "," "," ","X","N"]
["Heath Aster","Forb","Symphyotrichum ericoides",0,0,140000,2240000,3.2139577594123048,51.423324150596876,"Late","erect single stem","yes","good","D","N/A","low","D, DM, M, WM",15,null,"X","X","X","X"," ","X"," ","X","X"," "," "," "," "," "," "," "," "," "," "," "," "," "," ","X","N"]
["Hoary Vervain","Forb","Verbena stricta",0,0,32000,512000,0.73460000000000003,11.7536,"Middle-Late","erect, single stem","yes","fair","D","N/A","low","D, DM",41,null,"X","X"," "," "," ","X"," ","X","X"," "," "," "," "," "," "," "," "," "," "," "," "," "," ","X","N",null,1]
["Illinois Tick Trefoil","Legume","Desmodium illinoense",0,0,4500,72000,0.10330578512396695,1.6528925619834711,"Early-Middle","erct single stem","yes","fair","D","N/A","low","DM, M",38,null," ","X","X"," "," ","X"," ","X","X"," "," "," "," "," "," "," "," "," "," "," "," "," "," ","X","N"]
["Joe-Pye Weed","Forb","Eutrochium maculatum",0,0,95000,1520000,2.1808999081726355,34.894398530762167,"Middle-Late","erect single stem","yes","fair","D","N/A","low","W",38,null," "," "," "," ","X","X"," ","X","X"," "," "," "," "," "," "," "," "," "," "," "," "," "," ","X","N",null,1]
["Lance-Leaf Coreopsis","Forb","Coreopsis lanceolata",0,0,24000,{"$f":"F48*16","v":384000},{"$f":"F48/43560","v":0.55096418732782371},8.8154269972451793,"Early-Middle","upright stem, rhizomous","yes","fair","D","N/A","low","D, DM",6,null,"X","X"," "," "," ","X"," ","X","X"," "," "," "," "," "," "," "," "," "," "," "," "," "," ","X","N",null,1]
["Large Beardtongue","Forb","Penstemon grandiflorus",0,0,14000,224000,0.32100000000000001,5.1360000000000001,"Middle","erect, single stem","yes","fair","D","N/A","low","DM",15,null," ","X"," "," "," ","X"," ","X","X"," "," "," "," "," "," "," "," "," "," "," "," "," "," ","X","N"]
["Leadplant                 ","Legume","Amorpha canescens",0,0,16950,271200,0.3891184573002755,6.225895316804408,"Middle","erec, stems branched","yes","good","D","N/A","low","D, DM, M",21,null,"X","X","X"," "," ","X"," ","X","X"," "," "," "," "," "," "," "," "," "," "," "," "," "," ","X","N"]
["Marsh Milkweed","Forb","Asclepias incarnata",0,0,4800,76800,0.11019283746556474,1.7630853994490359,"Middle","erect stem, rhizomatous","yes","good","D","N/A","low","W",3,null," "," "," "," ","X","X"," ","X","X"," "," "," "," "," "," "," "," "," "," "," "," "," "," ","X","N",null,1]
["Meadow Anemone","Forb","Anemone canadensis",0,0,8000,128000,0.18365472910927455,2.9384756657483928,"Early-Middle","erect stem, rhizomatous","yes","fair","D","N/A","low","M, WM",15,null," "," ","X","X"," ","X"," ","X","X"," "," "," "," "," "," "," "," "," "," "," "," "," "," ","X","N"]
["Mountain Mint","Forb","Pycnanthemum virginianum",0,0,220000,3520000,5.05,80.8,"Middle-Late","erect stem ","yes","good","D","N/A","low","DM, M, WM, W",15,null," ","X","X","X","X","X"," ","X","X"," "," "," "," "," "," "," "," "," "," "," "," "," "," ","X","N"]
["New England Aster","Forb","Symphyotrichum novae-angliae",0,0,69900,1118400,1.6046831955922864,25.674931129476583,"Late","erect clustered stem","yes","good","D","N/A","low","           M, WM",38,null," "," ","X","X"," ","X"," ","X","X"," "," "," "," "," "," "," "," "," "," "," "," "," "," ","X","N",null,1]
["New Jersey Tea","Shrub","Ceanothus americanus",0,0,7000,112000,0.16069788797061524,2.5711662075298438,"Middle-Late","erect, multi-stemmed","yes","good","D","N/A","low","DM, M",15,null," ","X","X"," "," ","X"," ","X","X"," "," "," "," "," "," "," "," "," "," "," "," "," "," ","X","N"]
["Nodding Beggartick","Forb","Bidens cernua",0,0,21000,336000,0.48209366391184572,7.7134986225895315,"Late","erect single crown","yes","good","D","N/A","low","WM, W",6,null," "," "," ","X","X","X"," ","X","X"," "," "," "," "," "," "," "," "," "," "," "," "," "," ","X","N"]
["Nodding Wild Onion","Forb","Allium cernuum",0,0,7680,122880,0.17630853994490359,2.8209366391184574,"Middle","erect to drooping stem","yes","fair","D","N/A","low","DM, M",38,null," ","X","X"," "," ","X"," ","X","X"," "," "," "," "," "," "," "," "," "," "," "," "," "," ","X","N"]
["North Plains/Meadow Blazingstar","Forb","Liatris ligulistylis",0,0,10000,{"$f":"F58*16","v":160000},{"$f":"F58/43560","v":0.2295684113865932},3.6730945821854912,"Late",null,"yes",null,null,null,"low","DM, M, WM",38,null," ","X","X","X"," ","X"," ","X","X"," "," "," "," "," "," "," "," "," "," "," "," "," "," ","X","N",null,1]
["Ox-eye Sunflower","Forb","Heliopsis helianthoides",0,0,6480,103680,0.1487603305785124,2.3801652892561984,"Middle-Late","erect, single stem","yes","fair","D","N/A","low","M",6,null," "," ","X"," "," ","X"," ","X","X"," "," "," "," "," "," "," "," "," "," "," "," "," "," ","X","N"]
["Pale Purple Coneflower","Forb","Echinacea pallida",0,0,4580,73280,0.105,1.68,"Middle","erect single stem unbranched","yes","fair","D","N/A","low","DM, M",21,null," ","X","X"," "," ","X"," ","X","X"," "," "," "," "," "," "," "," "," "," "," "," "," "," ","X","N"]
["Pale Spiked Lobelia","Forb","Lobelia spicata",0,0,900000,14400000,20.66,330.56,"Middle","erect unbranchedstem","yes","fair","D","N/A","low","D, DM, M, WM",21,null,"X","X","X","X"," ","X"," ","X","X"," "," "," "," "," "," "," "," "," "," "," "," "," "," ","X","N"]
["Panicled Aster","Forb","Symphyotrichum lanceolatum",0,0,141570,2268000,3.25,52.1,"Late","erect, clustered stem","Yes","Good","D","N/A","low","M, WM, W",15,null," "," ","X","X","X","X"," ","X","X"," "," "," "," "," "," "," "," "," "," "," "," "," "," ","X","N"]
["Partridge Pea","Legume","Chamaecrista fasciculata",0,0,3800,60800,8.6999999999999994E-2,1.4,"Middle-Late","erect, annual","Yes","Good","D ","N/A","low","D, DM, M",6,null,"X","X","X"," "," ","X"," ","X","X"," "," "," "," "," "," "," "," "," "," "," "," "," "," ","X","N"]
["Pasque Flower","Forb","Pulsatilla patens",0,{"$f":"+D64*16","v":0},18000,288000,0.41322314049586778,{"$f":"+H64*16","v":6.6115702479338845},"Early","erect multi-stemmed","yes","poor","D","N/A","low","D, DM",21,null,"X","X"," "," "," ","X"," ","X","X"," "," "," "," "," "," "," "," "," "," "," "," "," "," ","X","N"]
["Prairie Alum-Root","Forb","Heuchera richardsonii",0,0,750000,12000000,17.217600000000001,275.48160000000001,"Early-Middle","erect stem","yes","fair","D","N/A","low","D,DM, M, WM",12,null,"X","X","X","X"," ","X"," ","X","X"," "," "," "," "," "," "," "," "," "," "," "," "," "," ","X","N"]
["Prairie Blazing Star","Forb","Liatris pycnostachya",0,0,11970,191520,0.27479338842975204,4.3966942148760326,"Middle-Late","erect stem unbranched","yes","fair","D","N/A","low"," D,DM, M, WM",21,null,"X","X","X","X"," ","X"," ","X","X"," "," "," "," "," "," "," "," "," "," "," "," "," "," ","X","N",null,1]
["Prairie Cinquefoil","Forb","Potentilla arguta",0,0,200000,3200000,4.5913682277318637,73.461891643709819,"Middle-Late","erect stem unbranched","yes","fair","D","N/A","low","D, DM, M",15,null,"X","X","X"," "," ","X"," ","X","X"," "," "," "," "," "," "," "," "," "," "," "," "," "," ","X","N"]
["Prairie Dock","Forb","Silphium terebinthinaceum",0,0,1110,17760,2.5482093663911846E-2,0.40771349862258954,"Middle-Late","erect stem,leafless","yes","fair","D","N/A","low","DM, M, WM",6,null," ","X","X","X"," ","X"," ","X","X"," "," "," "," "," "," "," "," "," "," "," "," "," "," ","X","N"]
["Prairie Loosestrife","Forb","Lysimachia quadriflora",0,0,90000,1440000,2.0661157024793386,33.057851239669418,"Middle","erect single stem unbranched","yes","fair","D","N/A","low","M,WM,W",6,null," "," ","X","X","X","X"," ","X","X"," "," "," "," "," "," "," "," "," "," "," "," "," "," ","X","N"]
["Prairie Milkweed","Forb","Asclepias sullivantii",0,0,4500,72000,0.10330578512396695,1.6528925619834711,"Early-Middle","erect single stem","yes","fair","D","N/A","low","D,DM, M,WM",38,null,"X","X","X","X"," ","X"," ","X","X"," "," "," "," "," "," "," "," "," "," "," "," "," "," ","X","N"]
["Prairie Parsley","Forb","Polytaenia nuttallii ",0,0,4000,64000,9.1827364554637275E-2,1.4692378328741964,"Early-Middle","erect single stem","yes","poor","D","N/A","low","D,DM,M, WM",6,null,"X","X","X","X"," ","X"," ","X","X"," "," "," "," "," "," "," "," "," "," "," "," "," "," ","X","N"]
["Prairie Phlox","Forb","Phlox pilosa",0,0,19000,304000,0.43617998163452709,6.9788797061524335,"Early-Middle","erect single stem","yes","fair","D","N/A","low","DM, M",38,null," ","X","X"," "," ","X"," ","X","X"," "," "," "," "," "," "," "," "," "," "," "," "," "," ","X","N"]
["Prairie Smoke","Forb","Geum triflorum",0,0,27000,432000,0.6198347107438017,9.9173553719008272,"Early","erct single stem, rhizomatous","yes","fair","D","N/A","low","D, DM",38,null,"X","X"," "," "," ","X"," ","X","X"," "," "," "," "," "," "," "," "," "," "," "," "," "," ","X","N"]
["Prairie Sunflower","Forb","Helianthus pauciflorus",0,0,4580,73280,0.10514233241505969,1.682277318640955,"Middle-Late","erect single stem","yes","good","D","N/A","low","D, DM, M",6,null,"X","X","X"," "," ","X"," ","X","X"," "," "," "," "," "," "," "," "," "," "," "," "," "," ","X","N"]
["Prairie Tickseed","Forb","Coreopsis palmata",0,0,11970,191520,0.27479338842975204,4.3966942148760326,"Middle-Late","erect stem,rhizomatous","yes","fair","D","N/A","low","D, DM",6,null,"X","X"," "," "," ","X"," ","X","X"," "," "," "," "," "," "," "," "," "," "," "," "," "," ","X","N",null,1]
["Prairie Violet","Forb","Viola pedatifida",0,0,28000,448000,0.64279155188246095,10.284664830119375,"Early-Late","erect stemless","yes","fair","D","N/A","low","D, DM, M",21,null,"X","X","X"," "," ","X"," ","X","X"," "," "," "," "," "," "," "," "," "," "," "," "," "," ","X","N"]
["Purple Coneflower","Forb","Echinacea purpurea",0,0,6600,105600,0.152,2.4319999999999999,"Middle","erect single stem unbranched","yes","fair","D","N/A","low","D, DM, M",21,null,"X","X","X"," "," ","X"," ","X","X"," "," "," "," "," "," "," "," "," "," "," "," "," "," ","X","N"]
["Purple Meadow-Rue","Forb","Thalictrum dasycarpum",0,0,11000,176000,0.2525,4.04,"Middle","erect stem","yes","fair","D","N/A","low","    M, WM, W",15,null," "," ","X","X","X","X"," ","X","X"," "," "," "," "," "," "," "," "," "," "," "," "," "," ","X","N"]
["Purple Prairie Clover ","Legume","Dalea purpurea",0,0,19950,319200,0.45798898071625344,7.327823691460055,"Early-Late","erect","yes","fair","D","N/A","low","D, DM, M",21,null,"X","X","X"," "," ","X"," ","X","X"," "," "," "," "," "," "," "," "," "," "," "," "," "," ","X","N"]
["Rattlesnake Master","Forb","Eryngium yuccifolium",0,0,7980,127680,0.18319559228650137,2.9311294765840219,"Middle-Late","bunched","yes","fair","D","N/A","low","    DM, M, WM",15,null," ","X","X","X"," ","X"," ","X","X"," "," "," "," "," "," "," "," "," "," "," "," "," "," ","X","N",null,1]
["Red Clover","Legume","Trifolium pratense",0,0,17187.5,275000,0.39450000000000002,6.3120000000000003,"Middle","single crown","yes","good","C","N/A","low","DM, M, WM",38,"1-9"," ","X","X","X"," ","X","X"," ","X","X","X","X","X","X","X","X","X","X","X"," "," "," "," ","X","I",10]
["Rosinweed","Forb","Silphium integrifolium",0,0,3990,63840,9.1597796143250684E-2,1.4655647382920109,"Middle-Late","erect single stem","yes","good","D","N/A","medium","DM, M, WM",6,null," ","X","X","X"," ","X"," ","X","X"," "," "," "," "," "," "," "," "," "," "," "," "," "," ","X","N",null,1]
["Rough Blazing Star","Forb","Liatris aspera",0,0,13470,215520,0.30922865013774103,4.9476584022038566,"Late","erect multi-stemmed","yes","fair","D","N/A","low","D, DM, M",21,null,"X","X","X"," "," ","X"," ","X","X"," "," "," "," "," "," "," "," "," "," "," "," "," "," ","X","N",null,1]
["Round-Headed Bushclover                       ","Legume","Lespedeza capitata",0,0,9960,159360,0.22865013774104684,3.6584022038567494,"Late","erect multi-stemmed","yes","fair","D","N/A","low","D, DM",12,null,"X","X"," "," "," ","X"," ","X","X"," "," "," "," "," "," "," "," "," "," "," "," "," "," ","X","N"]
["Sawtooth Sunflower","Forb","Helianthus grosseserratus",0,0,15000,240000,0.34435261707988979,5.5096418732782366,"Middle-Late","single erect stem, rhizomatous","yes","good","D","N/A","low","D, DM, M, WM, W",6,null,"X","X","X","X","X","X"," ","X","X"," "," "," "," "," "," "," "," "," "," "," "," "," "," ","X","N",null,1]
["Shootingstar","Forb","Dodecatheon",0,0,75000,1200000,1.722,27.552,"Early","single stem","yes","poor","D","N/A","low","D, DM, M, WM",38,null,"X","X","X","X"," ","X"," ","X","X"," "," "," "," "," "," "," "," "," "," "," "," "," "," ","X","N"]
["Showy Goldenrod","Forb","Solidago speciosa",0,0,95000,1520000,2.181,34.896000000000001,"Late","erect multi-stemmed","yes","good","D","N/A","low","D, DM, M",6,null,"X","X","X"," "," ","X"," ","X","X"," "," "," "," "," "," "," "," "," "," "," "," "," "," ","X","N",null,1]
["Showy Tick Trefoil    ","Legume","Desmodium canadense",0,0,4500,72000,0.10330578512396695,1.6528925619834711,"Middle-Late"," erect single  stem","yes","fair","D","N/A","low","M",41,null," "," ","X"," "," ","X"," ","X","X"," "," "," "," "," "," "," "," "," "," "," "," "," "," ","X","N"]
["Silky Aster","Forb","Symphyotrichum sericeum",0,0,56000,896000,1.2855000000000001,20.568000000000001,"Late","single erect branched wiry stem","yes","fair","D","N/A","low","D, DM",41,null,"X","X"," "," "," ","X"," ","X","X"," "," "," "," "," "," "," "," "," "," "," "," "," "," ","X","N"]
["Sky-Blue Aster","Forb","Symphyotrichum oolentangiense",0,0,82000,1312000,1.8824609733700643,30.11937557392103,"Late","erect single  stem","yes","fair","D","N/A","low","D, DM, M",41,null,"X","X","X"," "," ","X"," ","X","X"," "," "," "," "," "," "," "," "," "," "," "," "," "," ","X","N",null,1]
["Smooth Blue Aster","Forb","Symphyotrichum laeve",0,0,47830,765280,1.0980257116620753,17.568411386593205,"Late","erect stem, short rhizomes","yes","fair","D","N/A","low","DM, M, WM",41,null," ","X","X","X"," ","X"," ","X","X"," "," "," "," "," "," "," "," "," "," "," "," "," "," ","X","N",null,1]
["Sneezeweed","Forb","Helenium autumnale",0,0,130000,2080000,2.98,47.68,"Middle-Late","erect stem","yes","fair","D","N/A","low","WM, W",6,null," "," "," ","X","X","X"," ","X","X"," "," "," "," "," "," "," "," "," "," "," "," "," "," ","X","N"]
["Spiderwort","Forb","Tradescantia ohiensis",0,0,7980,127680,0.18319559228650137,2.9311294765840219,"Early-Middle","erect, multi-stemmed ","yes","fair","D","N/A","low","D, DM, M, WM",41,null,"X","X","X","X"," ","X"," ","X","X"," "," "," "," "," "," "," "," "," "," "," "," "," "," ","X","N"]
["Spotted Jewelweed","Forb","Impatiens capensis",0,0,1600,25600,3.6999999999999998E-2,0.59199999999999997,"Middle-Late","single crown","yes","fair","D","N/A","low","M,WM,W",44,null," "," ","X","X","X","X"," ","X","X"," "," "," "," "," "," "," "," "," "," "," "," "," "," ","X","N"]
["Spotted Mint","Forb","Monarda punctata",0,0,93700,1499200,2.1510560146923785,34.416896235078056,"Middle-Late","erect, single stem","yes","fair","D","N/A","low","D, DM",21,null,"X","X"," "," "," ","X"," ","X","X"," "," "," "," "," "," "," "," "," "," "," "," "," "," ","X","N",null,1]
["Stiff Goldenrod","Forb","Oligoneuron rigidum",0,0,45850,733600,1.0525711662075299,16.841138659320478,"Late","erect, single, clumps","yes","fair","D","N/A","low","D, DM, M",6,null,"X","X","X"," "," ","X"," ","X","X"," "," "," "," "," "," "," "," "," "," "," "," "," "," ","X","N",null,1]
["Sweet Black-Eyed Susan","Forb","Rudbeckia subtomentosa",0,0,45850,733600,1.0525711662075299,16.841138659320478,"Middle-Late","erect single stem","yes","fair","D","N/A","low","DM,M, WM",6,null," ","X","X","X"," ","X"," ","X","X"," "," "," "," "," "," "," "," "," "," "," "," "," "," ","X","N"]
["Tall Bellflower","Forb","Campanula americana",0,0,170000,2720000,3.9,62.4,"Middle-Late","erect, clustered stem","Yes","Good","D","N/A","low","M, WM",41,null," "," ","X","X"," ","X"," ","X","X"," "," "," "," "," "," "," "," "," "," "," "," "," "," ","X","N"]
["Thimbleweed","Forb","Anemone cylindrica",0,{"$f":"+D99*16","v":0},20000,320000,0.4591368227731864,{"$f":"+H99*16","v":7.3461891643709825},"Early-Middle","erect stem ","yes","poor","D","N/A","low","D, DM",15,null,"X","X"," "," "," ","X"," ","X","X"," "," "," "," "," "," "," "," "," "," "," "," "," "," ","X","N"]
["Turk's Cap Lily","Forb","Lilium superbum",0,0,5000,80000,0.115,1.84,"Middle","erect single stem","yes","fair","D","N/A","low","M, WM",44,null," "," ","X","X"," ","X"," ","X","X"," "," "," "," "," "," "," "," "," "," "," "," "," "," ","X","N"]
["Upland Boneset","Forb","Eupatorium sessilifolium",0,0,50000,800000,1.1478420569329659,18.365472910927455,"Late","erect single stem","yes","fair","D","N/A","low","M",15,null," "," ","X"," "," ","X"," ","X","X"," "," "," "," "," "," "," "," "," "," "," "," "," "," ","X","N"]
["White Ladino Clover","Legume","Trifolium repens",0,0,54478,871650,1.2505999999999999,20.009599999999999,"Middle","stoloniferous","yes","fair","D","N/A","low","DM, M, WM",15,"1,4,5,7,8,9"," ","X","X","X"," ","X","X"," ","X","X","X"," "," ","X","X"," ","X","X","X"," "," "," "," ","X","I",3]
["White Prairie Clover","Legume","Dalea candida",0,0,15850,253600,0.36386593204775025,5.821854912764004,"Middle","erect stem","yes","poor","D","N/A","low","D, DM, M",15,null,"X","X","X"," "," ","X"," ","X","X"," "," "," "," "," "," "," "," "," "," "," "," "," "," ","X","N",null,1]
["White Wild Indigo   ","Legume","Baptisia alba",0,0,1585,25360,3.6386593204775025E-2,0.5821854912764004,"Middle","erect stem branched","yes","good","D","N/A","low","DM, M, WM",15,null," ","X","X","X"," ","X"," ","X","X"," "," "," "," "," "," "," "," "," "," "," "," "," "," ","X","N"]
["Whorled Milkweed","Forb","Asclepias verticillata",0,0,4000,64000,9.1999999999999998E-2,1.472,"Middle-Late","erect unbranched stem","yes","fair","D","N/A","low","D, DM",15,null,"X","X"," "," "," ","X"," ","X","X"," "," "," "," "," "," "," "," "," "," "," "," "," "," ","X","N",null,1]
["Wild Garlic","Forb","Allium canadense",0,0,560,8960,1.2855831037649219E-2,0.2056932966023875,"Middle","erect stem unbranched","yes","poor","D","N/A","low","M, WM",15,null," "," ","X","X"," ","X"," ","X","X"," "," "," "," "," "," "," "," "," "," "," "," "," "," ","X","N"]
["Wild Lupine","Legume","Lupinus perennis",0,0,990,15840,2.2727272727272728E-2,0.36363636363636365,"Early-Middle","erect single stem","yes","fair","D","N/A","low","D, DM, M",41,null,"X","X","X"," "," ","X"," ","X","X"," "," "," "," "," "," "," "," "," "," "," "," "," "," ","X","N"]
["Wild Quinine","Forb","Parthenium auriculatum",0,0,6790,108640,0.15587695133149679,2.4940312213039486,"Middle-Late","erect stem","yes","fair","D","N/A","low","DM,M, WM",15,null," ","X","X","X"," ","X"," ","X","X"," "," "," "," "," "," "," "," "," "," "," "," "," "," ","X","N"]
["Winged Loosestrife","Forb","Lythrum alatum",0,0,3000000,48000000,68.870523415977956,1101.9283746556473,"Middle-Late","erect stem branched","yes","fair","D","N/A","low","WM,W",21,null," "," ","X","X"," ","X"," ","X","X"," "," "," "," "," "," "," "," "," "," "," "," "," "," ","X","N"]
["Wood Betony","Forb","Pedicularis canadensis",0,0,33000,528000,0.75757575757575757,12.121212121212121,"Early","erect, short rhizomes,clumpy","yes","fair","D","N/A","low","D,DM, M",6,null,"X","X","X"," "," ","X"," ","X","X"," "," "," "," "," "," "," "," "," "," "," "," "," "," ","X","N"]
["Yellow Coneflower","Forb","Ratibida pinnata",0,0,26940,431040,0.61799999999999999,9.8879999999999999,"Middle-Late","erect stem","yes","fair","D","N/A","low","D, DM, M, WM",6,null,"X","X","X","X"," ","X"," ","X","X"," "," "," "," "," "," "," "," "," "," "," "," "," "," ","X","N"]
["Yellow Star Grass","Forb","Hypoxis hirsuta",0,0,80000,1280000,1.8365472910927456,29.38475665748393,"Early-Late","single crown","yes","poor","D","N/A","low","DM, M, WM",6,null," ","X","X","X"," ","X"," ","X","X"," "," "," "," "," "," "," "," "," "," "," "," "," "," ","X","N"]
[null,null,null,null,{"$f":"+D113*16","v":0},null,{"$f":"+F113*16","v":0},null,{"$f":"+H113*16","v":0},null,null,null,null,null,null,null,null,null,null,null,null,null,null,null,null,null,null,null,null,null,null,null,null,null,null,null,null,null,null,null,null,null," ",{"$f":"IF(Z113=\"\",\"\",IF(Z113=\"X\",\"I\",\"N\"))","v":""}]
["FILTERED TABLE",null,null,null,0,null,null,null,null,null,null,null,null,null,null,null,null,null,null,null,null,null,null,null,null,null,null,null,null,null,null,null,null,null,null,null,null,null,null,null,null,null," ",""]
["Common Name","Scientific Name","Plant Type","Estimated Cost/oz","Estimated Cost/lb","Seeds/oz","Seeds/lb.","Seeds/sq ft @ 1oz/ac","Seeds/sq ft @ 1 lb./ac","Blooming period","Growth Form","Suitable For Pollinators","Wildlife Value","Retardance Capacity","Forage Productivity","Fertility Requirements","Moisture Regime","color code","Forage Suitablility Groups (FSG)","D","DM","M","WM","W","All","INTRO","NAT","BOTH","Pasture",1,2,3,4,5,6,7,8,9,10,"LOW","MED","HIGH","Pollinator"]
[null,null,null,null,null,null,null,null,null,null,null,null,null,null,null,null,null,null,null,{"$f":"IF(Calculator!$A$4=3,\"X\",\"\")","v":""},{"$f":"IF(Calculator!$A$4=5,\"X\",\"\")","v":""},{"$f":"IF(Calculator!$A$4=4,\"X\",\"\")","v":""},{"$f":"IF(Calculator!$A$4=6,\"X\",\"\")","v":""},{"$f":"IF(Calculator!$A$4=2,\"X\",\"\")","v":""},{"$f":"IF(Calculator!$A$4=1,\"X\",\"\")","v":""},{"$f":"IF(OR(Calculator!$A$6=2,Calculator!$A$10=1),\"X\",\"\")","v":""},{"$f":"IF(OR(Calculator!$A$6=3,Calculator!$A$10=2),\"X\",\"\")","v":""},{"$f":"IF(OR(Calculator!$A$10=3,Calculator!$A$6=1),\"X\",\"\")","v":""},{"$f":"IF(Calculator!$Z$2=3,\"X\",\"\")","v":""},{"$f":"IF(Calculator!$Y$2=1,\"X\",\"\")","v":""},{"$f":"IF(Calculator!$Y$2=2,\"X\",\"\")","v":""},{"$f":"IF(Calculator!$Y$2=3,\"X\",\"\")","v":""},{"$f":"IF(Calculator!$Y$2=4,\"X\",\"\")","v":""},{"$f":"IF(Calculator!$Y$2=5,\"X\",\"\")","v":""},{"$f":"IF(Calculator!$Y$2=6,\"X\",\"\")","v":""},{"$f":"IF(Calculator!$Y$2=7,\"X\",\"\")","v":""},{"$f":"IF(Calculator!$Y$2=8,\"X\",\"\")","v":""},{"$f":"IF(Calculator!$Y$2=9,\"X\",\"\")","v":""},null,null,null,null,{"$f":"IF(Calculator!A5=1,\"X\",\"\")","v":""}]
[]
[]
[]
[null,null,null,null,null,null,null,null,null,null,null,null,null,null,null,null,null,null,null,null,null,null,null,null,null,null,null,null,null,null,null,null,null,null,null,null,null,null,null,null,null,null,null,null,null,{"$f":"IF(A120=\"\",\"\",VLOOKUP(A120,$A$4:$AT$112,46))","v":""},{"$f":"IF(AT120=\"\",\"\",A120)","v":""},{"$f":"IF(OR(AT120=\"\",AT120=0),\"\",\"MONARCH\")","v":""}]
[null,null,null,null,null,null,null,null,null,null,null,null,null,null,null,null,null,null,null,null,null,null,null,null,null,null,null,null,null,null,null,null,null,null,null,null,null,null,null,null,null,null,null,null,null,0,{"$f":"IF(AT121=\"\",\"\",A121)","v":0},{"$f":"IF(OR(AT121=\"\",AT121=0),\"\",\"MONARCH\")","v":""}]
[null,null,null,null,null,null,null,null,null,null,null,null,null,null,null,null,null,null,null,null,null,null,null,null,null,null,null,null,null,null,null,null,null,null,null,null,null,null,null,null,null,null,null,null,null,"","",""]
[null,null,null,null,null,null,null,null,null,null,null,null,null,null,null,null,null,null,null,null,null,null,null,null,null,null,null,null,null,null,null,null,null,null,null,null,null,null,null,null,null,null,null,null,null,"","",{"$f":"IF(OR(AT123=\"\",AT123=0),\"\",\"MONARCH\")","v":""}]
[null,null,null,null,null,null,null,null,null,null,null,null,null,null,null,null,null,null,null,null,null,null,null,null,null,null,null,null,null,null,null,null,null,null,null,null,null,null,null,null,null,null,null,null,null,"",{"$f":"IF(AT124=\"\",\"\",A124)","v":""},{"$f":"IF(OR(AT124=\"\",AT124=0),\"\",\"MONARCH\")","v":""}]
[null,null,null,null,null,null,null,null,null,null,null,null,null,null,null,null,null,null,null,null,null,null,null,null,null,null,null,null,null,null,null,null,null,null,null,null,null,null,null,null,null,null,null,null,null,"",{"$f":"IF(AT125=\"\",\"\",A125)","v":""},{"$f":"IF(OR(AT125=\"\",AT125=0),\"\",\"MONARCH\")","v":""}]
[null,null,null,null,null,null,null,null,null,null,null,null,null,null,null,null,null,null,null,null,null,null,null,null,null,null,null,null,null,null,null,null,null,null,null,null,null,null,null,null,null,null,null,null,null,"","",""]
[null,null,null,null,null,null,null,null,null,null,null,null,null,null,null,null,null,null,null,null,null,null,null,null,null,null,null,null,null,null,null,null,null,null,null,null,null,null,null,null,null,null,null,null,null,"","",""]
[null,null,null,null,null,null,null,null,null,null,null,null,null,null,null,null,null,null,null,null,null,null,null,null,null,null,null,null,null,null,null,null,null,null,null,null,null,null,null,null,null,null,null,null,null,"","",""]
[null,null,null,null,null,null,null,null,null,null,null,null,null,null,null,null,null,null,null,null,null,null,null,null,null,null,null,null,null,null,null,null,null,null,null,null,null,null,null,null,null,null,null,null,null,"","",""]
[null,null,null,null,null,null,null,null,null,null,null,null,null,null,null,null,null,null,null,null,null,null,null,null,null,null,null,null,null,null,null,null,null,null,null,null,null,null,null,null,null,null,null,null,null,"","",""]
[null,null,null,null,null,null,null,null,null,null,null,null,null,null,null,null,null,null,null,null,null,null,null,null,null,null,null,null,null,null,null,null,null,null,null,null,null,null,null,null,null,null,null,null,null,"","",""]
[null,null,null,null,null,null,null,null,null,null,null,null,null,null,null,null,null,null,null,null,null,null,null,null,null,null,null,null,null,null,null,null,null,null,null,null,null,null,null,null,null,null,null,null,null,"","",""]
[null,null,null,null,null,null,null,null,null,null,null,null,null,null,null,null,null,null,null,null,null,null,null,null,null,null,null,null,null,null,null,null,null,null,null,null,null,null,null,null,null,null,null,null,null,"","",""]
[null,null,null,null,null,null,null,null,null,null,null,null,null,null,null,null,null,null,null,null,null,null,null,null,null,null,null,null,null,null,null,null,null,null,null,null,null,null,null,null,null,null,null,null,null,"","",""]
[null,null,null,null,null,null,null,null,null,null,null,null,null,null,null,null,null,null,null,null,null,null,null,null,null,null,null,null,null,null,null,null,null,null,null,null,null,null,null,null,null,null,null,null,null,"","",""]
[null,null,null,null,null,null,null,null,null,null,null,null,null,null,null,null,null,null,null,null,null,null,null,null,null,null,null,null,null,null,null,null,null,null,null,null,null,null,null,null,null,null,null,null,null,"","",""]
[null,null,null,null,null,null,null,null,null,null,null,null,null,null,null,null,null,null,null,null,null,null,null,null,null,null,null,null,null,null,null,null,null,null,null,null,null,null,null,null,null,null,null,null,null,"","",""]
[null,null,null,null,null,null,null,null,null,null,null,null,null,null,null,null,null,null,null,null,null,null,null,null,null,null,null,null,null,null,null,null,null,null,null,null,null,null,null,null,null,null,null,null,null,"","",""]
[null,null,null,null,null,null,null,null,null,null,null,null,null,null,null,null,null,null,null,null,null,null,null,null,null,null,null,null,null,null,null,null,null,null,null,null,null,null,null,null,null,null,null,null,null,"","",""]
[null,null,null,null,null,null,null,null,null,null,null,null,null,null,null,null,null,null,null,null,null,null,null,null,null,null,null,null,null,null,null,null,null,null,null,null,null,null,null,null,null,null,null,null,null,"","",""]
[null,null,null,null,null,null,null,null,null,null,null,null,null,null,null,null,null,null,null,null,null,null,null,null,null,null,null,null,null,null,null,null,null,null,null,null,null,null,null,null,null,null,null,null,null,"","",""]
[null,null,null,null,null,null,null,null,null,null,null,null,null,null,null,null,null,null,null,null,null,null,null,null,null,null,null,null,null,null,null,null,null,null,null,null,null,null,null,null,null,null,null,null,null,"","",""]
[null,null,null,null,null,null,null,null,null,null,null,null,null,null,null,null,null,null,null,null,null,null,null,null,null,null,null,null,null,null,null,null,null,null,null,null,null,null,null,null,null,null,null,null,null,"","",""]
[null,null,null,null,null,null,null,null,null,null,null,null,null,null,null,null,null,null,null,null,null,null,null,null,null,null,null,null,null,null,null,null,null,null,null,null,null,null,null,null,null,null,null,null,null,"","",""]
[null,null,null,null,null,null,null,null,null,null,null,null,null,null,null,null,null,null,null,null,null,null,null,null,null,null,null,null,null,null,null,null,null,null,null,null,null,null,null,null,null,null,null,null,null,"","",""]
[null,null,null,null,null,null,null,null,null,null,null,null,null,null,null,null,null,null,null,null,null,null,null,null,null,null,null,null,null,null,null,null,null,null,null,null,null,null,null,null,null,null,null,null,null,"","",""]
[null,null,null,null,null,null,null,null,null,null,null,null,null,null,null,null,null,null,null,null,null,null,null,null,null,null,null,null,null,null,null,null,null,null,null,null,null,null,null,null,null,null,null,null,null,"","",""]
[null,null,null,null,null,null,null,null,null,null,null,null,null,null,null,null,null,null,null,null,null,null,null,null,null,null,null,null,null,null,null,null,null,null,null,null,null,null,null,null,null,null,null,null,null,"","",""]
[null,null,null,null,null,null,null,null,null,null,null,null,null,null,null,null,null,null,null,null,null,null,null,null,null,null,null,null,null,null,null,null,null,null,null,null,null,null,null,null,null,null,null,null,null,"","",""]
[null,null,null,null,null,null,null,null,null,null,null,null,null,null,null,null,null,null,null,null,null,null,null,null,null,null,null,null,null,null,null,null,null,null,null,null,null,null,null,null,null,null,null,null,null,"","",""]
[null,null,null,null,null,null,null,null,null,null,null,null,null,null,null,null,null,null,null,null,null,null,null,null,null,null,null,null,null,null,null,null,null,null,null,null,null,null,null,null,null,null,null,null,null,"","",""]
[null,null,null,null,null,null,null,null,null,null,null,null,null,null,null,null,null,null,null,null,null,null,null,null,null,null,null,null,null,null,null,null,null,null,null,null,null,null,null,null,null,null,null,null,null,"","",""]
[null,null,null,null,null,null,null,null,null,null,null,null,null,null,null,null,null,null,null,null,null,null,null,null,null,null,null,null,null,null,null,null,null,null,null,null,null,null,null,null,null,null,null,null,null,"","",""]
[null,null,null,null,null,null,null,null,null,null,null,null,null,null,null,null,null,null,null,null,null,null,null,null,null,null,null,null,null,null,null,null,null,null,null,null,null,null,null,null,null,null,null,null,null,"","",""]
[null,null,null,null,null,null,null,null,null,null,null,null,null,null,null,null,null,null,null,null,null,null,null,null,null,null,null,null,null,null,null,null,null,null,null,null,null,null,null,null,null,null,null,null,null,"","",""]
[null,null,null,null,null,null,null,null,null,null,null,null,null,null,null,null,null,null,null,null,null,null,null,null,null,null,null,null,null,null,null,null,null,null,null,null,null,null,null,null,null,null,null,null,null,"","",""]
[null,null,null,null,null,null,null,null,null,null,null,null,null,null,null,null,null,null,null,null,null,null,null,null,null,null,null,null,null,null,null,null,null,null,null,null,null,null,null,null,null,null,null,null,null,"","",""]
[null,null,null,null,null,null,null,null,null,null,null,null,null,null,null,null,null,null,null,null,null,null,null,null,null,null,null,null,null,null,null,null,null,null,null,null,null,null,null,null,null,null,null,null,null,"","",""]
[null,null,null,null,null,null,null,null,null,null,null,null,null,null,null,null,null,null,null,null,null,null,null,null,null,null,null,null,null,null,null,null,null,null,null,null,null,null,null,null,null,null,null,null,null,"","",""]
[null,null,null,null,null,null,null,null,null,null,null,null,null,null,null,null,null,null,null,null,null,null,null,null,null,null,null,null,null,null,null,null,null,null,null,null,null,null,null,null,null,null,null,null,null,"","",""]
[null,null,null,null,null,null,null,null,null,null,null,null,null,null,null,null,null,null,null,null,null,null,null,null,null,null,null,null,null,null,null,null,null,null,null,null,null,null,null,null,null,null,null,null,null,"","",""]
[null,null,null,null,null,null,null,null,null,null,null,null,null,null,null,null,null,null,null,null,null,null,null,null,null,null,null,null,null,null,null,null,null,null,null,null,null,null,null,null,null,null,null,null,null,"","",""]
[null,null,null,null,null,null,null,null,null,null,null,null,null,null,null,null,null,null,null,null,null,null,null,null,null,null,null,null,null,null,null,null,null,null,null,null,null,null,null,null,null,null,null,null,null,"","",""]
[null,null,null,null,null,null,null,null,null,null,null,null,null,null,null,null,null,null,null,null,null,null,null,null,null,null,null,null,null,null,null,null,null,null,null,null,null,null,null,null,null,null,null,null,null,"","",""]
[null,null,null,null,null,null,null,null,null,null,null,null,null,null,null,null,null,null,null,null,null,null,null,null,null,null,null,null,null,null,null,null,null,null,null,null,null,null,null,null,null,null,null,null,null,"","",""]
[null,null,null,null,null,null,null,null,null,null,null,null,null,null,null,null,null,null,null,null,null,null,null,null,null,null,null,null,null,null,null,null,null,null,null,null,null,null,null,null,null,null,null,null,null,"","",""]
[null,null,null,null,null,null,null,null,null,null,null,null,null,null,null,null,null,null,null,null,null,null,null,null,null,null,null,null,null,null,null,null,null,null,null,null,null,null,null,null,null,null,null,null,null,"","",""]
[null,null,null,null,null,null,null,null,null,null,null,null,null,null,null,null,null,null,null,null,null,null,null,null,null,null,null,null,null,null,null,null,null,null,null,null,null,null,null,null,null,null,null,null,null,"","",""]
[null,null,null,null,null,null,null,null,null,null,null,null,null,null,null,null,null,null,null,null,null,null,null,null,null,null,null,null,null,null,null,null,null,null,null,null,null,null,null,null,null,null,null,null,null,"","",""]
[null,null,null,null,null,null,null,null,null,null,null,null,null,null,null,null,null,null,null,null,null,null,null,null,null,null,null,null,null,null,null,null,null,null,null,null,null,null,null,null,null,null,null,null,null,"","",""]
[null,null,null,null,null,null,null,null,null,null,null,null,null,null,null,null,null,null,null,null,null,null,null,null,null,null,null,null,null,null,null,null,null,null,null,null,null,null,null,null,null,null,null,null,null,"","",""]
[null,null,null,null,null,null,null,null,null,null,null,null,null,null,null,null,null,null,null,null,null,null,null,null,null,null,null,null,null,null,null,null,null,null,null,null,null,null,null,null,null,null,null,null,null,"","",""]
[null,null,null,null,null,null,null,null,null,null,null,null,null,null,null,null,null,null,null,null,null,null,null,null,null,null,null,null,null,null,null,null,null,null,null,null,null,null,null,null,null,null,null,null,null,"","",""]
[null,null,null,null,null,null,null,null,null,null,null,null,null,null,null,null,null,null,null,null,null,null,null,null,null,null,null,null,null,null,null,null,null,null,null,null,null,null,null,null,null,null,null,null,null,"","",""]
[null,null,null,null,null,null,null,null,null,null,null,null,null,null,null,null,null,null,null,null,null,null,null,null,null,null,null,null,null,null,null,null,null,null,null,null,null,null,null,null,null,null,null,null,null,"","",""]
[null,null,null,null,null,null,null,null,null,null,null,null,null,null,null,null,null,null,null,null,null,null,null,null,null,null,null,null,null,null,null,null,null,null,null,null,null,null,null,null,null,null,null,null,null,"","",""]
[null,null,null,null,null,null,null,null,null,null,null,null,null,null,null,null,null,null,null,null,null,null,null,null,null,null,null,null,null,null,null,null,null,null,null,null,null,null,null,null,null,null,null,null,null,"","",""]
[null,null,null,null,null,null,null,null,null,null,null,null,null,null,null,null,null,null,null,null,null,null,null,null,null,null,null,null,null,null,null,null,null,null,null,null,null,null,null,null,null,null,null,null,null,"","",""]
[null,null,null,null,null,null,null,null,null,null,null,null,null,null,null,null,null,null,null,null,null,null,null,null,null,null,null,null,null,null,null,null,null,null,null,null,null,null,null,null,null,null,null,null,null,"","",""]
[null,null,null,null,null,null,null,null,null,null,null,null,null,null,null,null,null,null,null,null,null,null,null,null,null,null,null,null,null,null,null,null,null,null,null,null,null,null,null,null,null,null,null,null,null,"","",""]
[null,null,null,null,null,null,null,null,null,null,null,null,null,null,null,null,null,null,null,null,null,null,null,null,null,null,null,null,null,null,null,null,null,null,null,null,null,null,null,null,null,null,null,null,null,"","",""]
[null,null,null,null,null,null,null,null,null,null,null,null,null,null,null,null,null,null,null,null,null,null,null,null,null,null,null,null,null,null,null,null,null,null,null,null,null,null,null,null,null,null,null,null,null,"","",""]
[null,null,null,null,null,null,null,null,null,null,null,null,null,null,null,null,null,null,null,null,null,null,null,null,null,null,null,null,null,null,null,null,null,null,null,null,null,null,null,null,null,null,null,null,null,"","",""]
[null,null,null,null,null,null,null,null,null,null,null,null,null,null,null,null,null,null,null,null,null,null,null,null,null,null,null,null,null,null,null,null,null,null,null,null,null,null,null,null,null,null,null,null,null,"","",""]
[null,null,null,null,null,null,null,null,null,null,null,null,null,null,null,null,null,null,null,null,null,null,null,null,null,null,null,null,null,null,null,null,null,null,null,null,null,null,null,null,null,null,null,null,null,{"$f":"IF(A185=\"\",\"\",VLOOKUP(A185,$A$4:$AT$112,46))","v":""},"",""]
[null,null,null,null,null,null,null,null,null,null,null,null,null,null,null,null,null,null,null,null,null,null,null,null,null,null,null,null,null,null,null,null,null,null,null,null,null,null,null,null,null,null,null,null,null,"","",""]
[null,null,null,null,null,null,null,null,null,null,null,null,null,null,null,null,null,null,null,null,null,null,null,null,null,null,null,null,null,null,null,null,null,null,null,null,null,null,null,null,null,null,null,null,null,"","",""]
[null,null,null,null,null,null,null,null,null,null,null,null,null,null,null,null,null,null,null,null,null,null,null,null,null,null,null,null,null,null,null,null,null,null,null,null,null,null,null,null,null,null,null,null,null,"","",""]
[null,null,null,null,null,null,null,null,null,null,null,null,null,null,null,null,null,null,null,null,null,null,null,null,null,null,null,null,null,null,null,null,null,null,null,null,null,null,null,null,null,null,null,null,null,"",{"$f":"IF(AT189=\"\",\"\",A189)","v":""},{"$f":"IF(OR(AT189=\"\",AT189=0),\"\",\"MONARCH\")","v":""}]
[null,null,null,null,null,null,null,null,null,null,null,null,null,null,null,null,null,null,null,null,null,null,null,null,null,null,null,null,null,null,null,null,null,null,null,null,null,null,null,null,null,null,null,null,null,"","",""]
[null,null,null,null,null,null,null,null,null,null,null,null,null,null,null,null,null,null,null,null,null,null,null,null,null,null,null,null,null,null,null,null,null,null,null,null,null,null,null,null,null,null,null,null,null,"","",""]
[null,null,null,null,null,null,null,null,null,null,null,null,null,null,null,null,null,null,null,null,null,null,null,null,null,null,null,null,null,null,null,null,null,null,null,null,null,null,null,null,null,null,null,null,null,"","",""]
[null,null,null,null,null,null,null,null,null,null,null,null,null,null,null,null,null,null,null,null,null,null,null,null,null,null,null,null,null,null,null,null,null,null,null,null,null,null,null,null,null,null,null,null,null,"","",""]
[null,null,null,null,null,null,null,null,null,null,null,null,null,null,null,null,null,null,null,null,null,null,null,null,null,null,null,null,null,null,null,null,null,null,null,null,null,null,null,null,null,null,null,null,null,"","",""]
[null,null,null,null,null,null,null,null,null,null,null,null,null,null,null,null,null,null,null,null,null,null,null,null,null,null,null,null,null,null,null,null,null,null,null,null,null,null,null,null,null,null,null,null,null,"","",""]
[null,null,null,null,null,null,null,null,null,null,null,null,null,null,null,null,null,null,null,null,null,null,null,null,null,null,null,null,null,null,null,null,null,null,null,null,null,null,null,null,null,null,null,null,null,"","",""]
[null,null,null,null,null,null,null,null,null,null,null,null,null,null,null,null,null,null,null,null,null,null,null,null,null,null,null,null,null,null,null,null,null,null,null,null,null,null,null,null,null,null,null,null,null,"","",""]
[null,null,null,null,null,null,null,null,null,null,null,null,null,null,null,null,null,null,null,null,null,null,null,null,null,null,null,null,null,null,null,null,null,null,null,null,null,null,null,null,null,null,null,null,null,"","",""]
[null,null,null,null,null,null,null,null,null,null,null,null,null,null,null,null,null,null,null,null,null,null,null,null,null,null,null,null,null,null,null,null,null,null,null,null,null,null,null,null,null,null,null,null,null,"","",""]
[null,null,null,null,null,null,null,null,null,null,null,null,null,null,null,null,null,null,null,null,null,null,null,null,null,null,null,null,null,null,null,null,null,null,null,null,null,null,null,null,null,null,null,null,null,"","",""]
[null,null,null,null,null,null,null,null,null,null,null,null,null,null,null,null,null,null,null,null,null,null,null,null,null,null,null,null,null,null,null,null,null,null,null,null,null,null,null,null,null,null,null,null,null,"","",""]
[null,null,null,null,null,null,null,null,null,null,null,null,null,null,null,null,null,null,null,null,null,null,null,null,null,null,null,null,null,null,null,null,null,null,null,null,null,null,null,null,null,null,null,null,null,"","",""]
[null,null,null,null,null,null,null,null,null,null,null,null,null,null,null,null,null,null,null,null,null,null,null,null,null,null,null,null,null,null,null,null,null,null,null,null,null,null,null,null,null,null,null,null,null,"","",""]
[null,null,null,null,null,null,null,null,null,null,null,null,null,null,null,null,null,null,null,null,null,null,null,null,null,null,null,null,null,null,null,null,null,null,null,null,null,null,null,null,null,null,null,null,null,"","",""]
[null,null,null,null,null,null,null,null,null,null,null,null,null,null,null,null,null,null,null,null,null,null,null,null,null,null,null,null,null,null,null,null,null,null,null,null,null,null,null,null,null,null,null,null,null,"","",""]
[null,null,null,null,null,null,null,null,null,null,null,null,null,null,null,null,null,null,null,null,null,null,null,null,null,null,null,null,null,null,null,null,null,null,null,null,null,null,null,null,null,null,null,null,null,"","",""]
[null,null,null,null,null,null,null,null,null,null,null,null,null,null,null,null,null,null,null,null,null,null,null,null,null,null,null,null,null,null,null,null,null,null,null,null,null,null,null,null,null,null,null,null,null,"","",""]
[null,null,null,null,null,null,null,null,null,null,null,null,null,null,null,null,null,null,null,null,null,null,null,null,null,null,null,null,null,null,null,null,null,null,null,null,null,null,null,null,null,null,null,null,null,"","",""]
[null,null,null,null,null,null,null,null,null,null,null,null,null,null,null,null,null,null,null,null,null,null,null,null,null,null,null,null,null,null,null,null,null,null,null,null,null,null,null,null,null,null,null,null,null,"","",""]
[null,null,null,null,null,null,null,null,null,null,null,null,null,null,null,null,null,null,null,null,null,null,null,null,null,null,null,null,null,null,null,null,null,null,null,null,null,null,null,null,null,null,null,null,null,"","",""]
[null,null,null,null,null,null,null,null,null,null,null,null,null,null,null,null,null,null,null,null,null,null,null,null,null,null,null,null,null,null,null,null,null,null,null,null,null,null,null,null,null,null,null,null,null,"","",""]
[null,null,null,null,null,null,null,null,null,null,null,null,null,null,null,null,null,null,null,null,null,null,null,null,null,null,null,null,null,null,null,null,null,null,null,null,null,null,null,null,null,null,null,null,null,"","",""]
[null,null,null,null,null,null,null,null,null,null,null,null,null,null,null,null,null,null,null,null,null,null,null,null,null,null,null,null,null,null,null,null,null,null,null,null,null,null,null,null,null,null,null,null,null,"","",""]
[null,null,null,null,null,null,null,null,null,null,null,null,null,null,null,null,null,null,null,null,null,null,null,null,null,null,null,null,null,null,null,null,null,null,null,null,null,null,null,null,null,null,null,null,null,"","",""]
[null,null,null,null,null,null,null,null,null,null,null,null,null,null,null,null,null,null,null,null,null,null,null,null,null,null,null,null,null,null,null,null,null,null,null,null,null,null,null,null,null,null,null,null,null,"","",""]
[null,null,null,null,null,null,null,null,null,null,null,null,null,null,null,null,null,null,null,null,null,null,null,null,null,null,null,null,null,null,null,null,null,null,null,null,null,null,null,null,null,null,null,null,null,"","",""]
[null,null,null,null,null,null,null,null,null,null,null,null,null,null,null,null,null,null,null,null,null,null,null,null,null,null,null,null,null,null,null,null,null,null,null,null,null,null,null,null,null,null,null,null,null,"","",""]
[null,null,null,null,null,null,null,null,null,null,null,null,null,null,null,null,null,null,null,null,null,null,null,null,null,null,null,null,null,null,null,null,null,null,null,null,null,null,null,null,null,null,null,null,null,"","",""]
[null,null,null,null,null,null,null,null,null,null,null,null,null,null,null,null,null,null,null,null,null,null,null,null,null,null,null,null,null,null,null,null,null,null,null,null,null,null,null,null,null,null,null,null,null,"","",""]
[null,null,null,null,null,null,null,null,null,null,null,null,null,null,null,null,null,null,null,null,null,null,null,null,null,null,null,null,null,null,null,null,null,null,null,null,null,null,null,null,null,null,null,null,null,"","",""]
[null,null,null,null,null,null,null,null,null,null,null,null,null,null,null,null,null,null,null,null,null,null,null,null,null,null,null,null,null,null,null,null,null,null,null,null,null,null,null,null,null,null,null,null,null,"","",""]
[null,null,null,null,null,null,null,null,null,null,null,null,null,null,null,null,null,null,null,null,null,null,null,null,null,null,null,null,null,null,null,null,null,null,null,null,null,null,null,null,null,null,null,null,null,"","",""]
[null,null,null,null,null,null,null,null,null,null,null,null,null,null,null,null,null,null,null,null,null,null,null,null,null,null,null,null,null,null,null,null,null,null,null,null,null,null,null,null,null,null,null,null,null,"","",""]
[null,null,null,null,null,null,null,null,null,null,null,null,null,null,null,null,null,null,null,null,null,null,null,null,null,null,null,null,null,null,null,null,null,null,null,null,null,null,null,null,null,null,null,null,null,"","",""]
[null,null,null,null,null,null,null,null,null,null,null,null,null,null,null,null,null,null,null,null,null,null,null,null,null,null,null,null,null,null,null,null,null,null,null,null,null,null,null,null,null,null,null,null,null,"","",""]
[null,null,null,null,null,null,null,null,null,null,null,null,null,null,null,null,null,null,null,null,null,null,null,null,null,null,null,null,null,null,null,null,null,null,null,null,null,null,null,null,null,null,null,null,null,"","",""]
[null,null,null,null,null,null,null,null,null,null,null,null,null,null,null,null,null,null,null,null,null,null,null,null,null,null,null,null,null,null,null,null,null,null,null,null,null,null,null,null,null,null,null,null,null,{"$f":"IF(A227=\"\",\"\",VLOOKUP(A227,$A$4:$AT$112,46))","v":""},"",""]
[null,null,null,null,null,null,null,null,null,null,null,null,null,null,null,null,null,null,null,null,null,null,null,null,null,null,null,null,null,null,null,null,null,null,null,null,null,null,null,null,null,null,null,null,null,{"$f":"IF(A228=\"\",\"\",VLOOKUP(A228,$A$4:$AT$112,46))","v":""},"",""]
[null,null,null,null,null,null,null,null,null,null,null,null,null,null,null,null,null,null,null,null,null,null,null,null,null,null,null,null,null,null,null,null,null,null,null,null,null,null,null,null,null,null,null,null,null,{"$f":"IF(A229=\"\",\"\",VLOOKUP(A229,$A$4:$AT$112,46))","v":""},"",""]
[null,null,null,null,null,null,null,null,null,null,null,null,null,null,null,null,null,null,null,null,null,null,null,null,null,null,null,null,null,null,null,null,null,null,null,null,null,null,null,null,null,null,null,null,null,"","",""]
[null,null,null,null,null,null,null,null,null,null,null,null,null,null,null,null,null,null,null,null,null,null,null,null,null,null,null,null,null,null,null,null,null,null,null,null,null,null,null,null,null,null,null,null,null,"","",""]
[null,null,null,null,null,null,null,null,null,null,null,null,null,null,null,null,null,null,null,null,null,null,null,null,null,null,null,null,null,null,null,null,null,null,null,null,null,null,null,null,null,null,null,null,null,"","",""]
[null,null,null,null,null,null,null,null,null,null,null,null,null,null,null,null,null,null,null,null,null,null,null,null,null,null,null,null,null,null,null,null,null,null,null,null,null,null,null,null,null,null,null,null,null,"","",""]
[null,null,null,null,null,null,null,null,null,null,null,null,null,null,null,null,null,null,null,null,null,null,null,null,null,null,null,null,null,null,null,null,null,null,null,null,null,null,null,null,null,null,null,null,null,"","",""]
[null,null,null,null,null,null,null,null,null,null,null,null,null,null,null,null,null,null,null,null,null,null,null,null,null,null,null,null,null,null,null,null,null,null,null,null,null,null,null,null,null,null,null,null,null,"","",""]
[null,null,null,null,null,null,null,null,null,null,null,null,null,null,null,null,null,null,null,null,null,null,null,null,null,null,null,null,null,null,null,null,null,null,null,null,null,null,null,null,null,null,null,null,null,"","",""]
[null,null,null,null,null,null,null,null,null,null,null,null,null,null,null,null,null,null,null,null,null,null,null,null,null,null,null,null,null,null,null,null,null,null,null,null,null,null,null,null,null,null,null,null,null,"","",""]
[null,null,null,null,null,null,null,null,null,null,null,null,null,null,null,null,null,null,null,null,null,null,null,null,null,null,null,null,null,null,null,null,null,null,null,null,null,null,null,null,null,null,null,null,null,"","",""]
[null,null,null,null,null,null,null,null,null,null,null,null,null,null,null,null,null,null,null,null,null,null,null,null,null,null,null,null,null,null,null,null,null,null,null,null,null,null,null,null,null,null,null,null,null,"","",""]
[null,null,null,null,null,null,null,null,null,null,null,null,null,null,null,null,null,null,null,null,null,null,null,null,null,null,null,null,null,null,null,null,null,null,null,null,null,null,null,null,null,null,null,null,null,"","",""]
[null,null,null,null,null,null,null,null,null,null,null,null,null,null,null,null,null,null,null,null,null,null,null,null,null,null,null,null,null,null,null,null,null,null,null,null,null,null,null,null,null,null,null,null,null,"","",""]
[null,null,null,null,null,null,null,null,null,null,null,null,null,null,null,null,null,null,null,null,null,null,null,null,null,null,null,null,null,null,null,null,null,null,null,null,null,null,null,null,null,null,null,null,null,"","",""]
[null,null,null,null,null,null,null,null,null,null,null,null,null,null,null,null,null,null,null,null,null,null,null,null,null,null,null,null,null,null,null,null,null,null,null,null,null,null,null,null,null,null,null,null,null,"","",""]
[null,null,null,null,null,null,null,null,null,null,null,null,null,null,null,null,null,null,null,null,null,null,null,null,null,null,null,null,null,null,null,null,null,null,null,null,null,null,null,null,null,null,null,null,null,"","",""]
[null,null,null,null,null,null,null,null,null,null,null,null,null,null,null,null,null,null,null,null,null,null,null,null,null,null,null,null,null,null,null,null,null,null,null,null,null,null,null,null,null,null,null,null,null,"","",""]
[null,null,null,null,null,null,null,null,null,null,null,null,null,null,null,null,null,null,null,null,null,null,null,null,null,null,null,null,null,null,null,null,null,null,null,null,null,null,null,null,null,null,null,null,null,"","",""]
[null,null,null,null,null,null,null,null,null,null,null,null,null,null,null,null,null,null,null,null,null,null,null,null,null,null,null,null,null,null,null,null,null,null,null,null,null,null,null,null,null,null,null,null,null,"","",""]
[null,null,null,null,null,null,null,null,null,null,null,null,null,null,null,null,null,null,null,null,null,null,null,null,null,null,null,null,null,null,null,null,null,null,null,null,null,null,null,null,null,null,null,null,null,"","",""]
[null,null,null,null,null,null,null,null,null,null,null,null,null,null,null,null,null,null,null,null,null,null,null,null,null,null,null,null,null,null,null,null,null,null,null,null,null,null,null,null,null,null,null,null,null,"","",""]
[null,null,null,null,null,null,null,null,null,null,null,null,null,null,null,null,null,null,null,null,null,null,null,null,null,null,null,null,null,null,null,null,null,null,null,null,null,null,null,null,null,null,null,null,null,"","",""]
[null,null,null,null,null,null,null,null,null,null,null,null,null,null,null,null,null,null,null,null,null,null,null,null,null,null,null,null,null,null,null,null,null,null,null,null,null,null,null,null,null,null,null,null,null,"","",""]
[null,null,null,null,null,null,null,null,null,null,null,null,null,null,null,null,null,null,null,null,null,null,null,null,null,null,null,null,null,null,null,null,null,null,null,null,null,null,null,null,null,null,null,null,null,"","",""]
[null,null,null,null,null,null,null,null,null,null,null,null,null,null,null,null,null,null,null,null,null,null,null,null,null,null,null,null,null,null,null,null,null,null,null,null,null,null,null,null,null,null,null,null,null,"",{"$f":"IF(AT253=\"\",\"\",A253)","v":""},{"$f":"IF(OR(AT253=\"\",AT253=0),\"\",\"MONARCH\")","v":""}]
[null,null,null,null,null,null,null,null,null,null,null,null,null,null,null,null,null,null,null,null,null,null,null,null,null,null,null,null,null,null,null,null,null,null,null,null,null,null,null,null,null,null,null,null,null,"","",""]
[null,null,null,null,null,null,null,null,null,null,null,null,null,null,null,null,null,null,null,null,null,null,null,null,null,null,null,null,null,null,null,null,null,null,null,null,null,null,null,null,null,null,null,null,null,"","",""]
[null,null,null,null,null,null,null,null,null,null,null,null,null,null,null,null,null,null,null,null,null,null,null,null,null,null,null,null,null,null,null,null,null,null,null,null,null,null,null,null,null,null,null,null,null,"","",""]
[null,null,null,null,null,null,null,null,null,null,null,null,null,null,null,null,null,null,null,null,null,null,null,null,null,null,null,null,null,null,null,null,null,null,null,null,null,null,null,null,null,null,null,null,null,"","",""]
[null,null,null,null,null,null,null,null,null,null,null,null,null,null,null,null,null,null,null,null,null,null,null,null,null,null,null,null,null,null,null,null,null,null,null,null,null,null,null,null,null,null,null,null,null,"","",""]
[null,null,null,null,null,null,null,null,null,null,null,null,null,null,null,null,null,null,null,null,null,null,null,null,null,null,null,null,null,null,null,null,null,null,null,null,null,null,null,null,null,null,null,null,null,"","",""]
[null,null,null,null,null,null,null,null,null,null,null,null,null,null,null,null,null,null,null,null,null,null,null,null,null,null,null,null,null,null,null,null,null,null,null,null,null,null,null,null,null,null,null,null,null,"","",""]
[null,null,null,null,null,null,null,null,null,null,null,null,null,null,null,null,null,null,null,null,null,null,null,null,null,null,null,null,null,null,null,null,null,null,null,null,null,null,null,null,null,null,null,null,null,"","",""]
[null,null,null,null,null,null,null,null,null,null,null,null,null,null,null,null,null,null,null,null,null,null,null,null,null,null,null,null,null,null,null,null,null,null,null,null,null,null,null,null,null,null,null,null,null,"","",""]
[null,null,null,null,null,null,null,null,null,null,null,null,null,null,null,null,null,null,null,null,null,null,null,null,null,null,null,null,null,null,null,null,null,null,null,null,null,null,null,null,null,null,null,null,null,"","",""]
[null,null,null,null,null,null,null,null,null,null,null,null,null,null,null,null,null,null,null,null,null,null,null,null,null,null,null,null,null,null,null,null,null,null,null,null,null,null,null,null,null,null,null,null,null,"","",""]
[null,null,null,null,null,null,null,null,null,null,null,null,null,null,null,null,null,null,null,null,null,null,null,null,null,null,null,null,null,null,null,null,null,null,null,null,null,null,null,null,null,null,null,null,null,"","",""]
[null,null,null,null,null,null,null,null,null,null,null,null,null,null,null,null,null,null,null,null,null,null,null,null,null,null,null,null,null,null,null,null,null,null,null,null,null,null,null,null,null,null,null,null,null,"","",""]
[null,null,null,null,null,null,null,null,null,null,null,null,null,null,null,null,null,null,null,null,null,null,null,null,null,null,null,null,null,null,null,null,null,null,null,null,null,null,null,null,null,null,null,null,null,"","",""]
[null,null,null,null,null,null,null,null,null,null,null,null,null,null,null,null,null,null,null,null,null,null,null,null,null,null,null,null,null,null,null,null,null,null,null,null,null,null,null,null,null,null,null,null,null,"","",""]
[null,null,null,null,null,null,null,null,null,null,null,null,null,null,null,null,null,null,null,null,null,null,null,null,null,null,null,null,null,null,null,null,null,null,null,null,null,null,null,null,null,null,null,null,null,"","",""]
[null,null,null,null,null,null,null,null,null,null,null,null,null,null,null,null,null,null,null,null,null,null,null,null,null,null,null,null,null,null,null,null,null,null,null,null,null,null,null,null,null,null,null,null,null,"","",""]
[null,null,null,null,null,null,null,null,null,null,null,null,null,null,null,null,null,null,null,null,null,null,null,null,null,null,null,null,null,null,null,null,null,null,null,null,null,null,null,null,null,null,null,null,null,"","",""]
[null,null,null,null,null,null,null,null,null,null,null,null,null,null,null,null,null,null,null,null,null,null,null,null,null,null,null,null,null,null,null,null,null,null,null,null,null,null,null,null,null,null,null,null,null,"","",""]
[null,null,null,null,null,null,null,null,null,null,null,null,null,null,null,null,null,null,null,null,null,null,null,null,null,null,null,null,null,null,null,null,null,null,null,null,null,null,null,null,null,null,null,null,null,"","",""]
[null,null,null,null,null,null,null,null,null,null,null,null,null,null,null,null,null,null,null,null,null,null,null,null,null,null,null,null,null,null,null,null,null,null,null,null,null,null,null,null,null,null,null,null,null,"","",""]
[null,null,null,null,null,null,null,null,null,null,null,null,null,null,null,null,null,null,null,null,null,null,null,null,null,null,null,null,null,null,null,null,null,null,null,null,null,null,null,null,null,null,null,null,null,"","",""]
[null,null,null,null,null,null,null,null,null,null,null,null,null,null,null,null,null,null,null,null,null,null,null,null,null,null,null,null,null,null,null,null,null,null,null,null,null,null,null,null,null,null,null,null,null,"","",""]
[null,null,null,null,null,null,null,null,null,null,null,null,null,null,null,null,null,null,null,null,null,null,null,null,null,null,null,null,null,null,null,null,null,null,null,null,null,null,null,null,null,null,null,null,null,"","",""]
[null,null,null,null,null,null,null,null,null,null,null,null,null,null,null,null,null,null,null,null,null,null,null,null,null,null,null,null,null,null,null,null,null,null,null,null,null,null,null,null,null,null,null,null,null,"","",""]
[null,null,null,null,null,null,null,null,null,null,null,null,null,null,null,null,null,null,null,null,null,null,null,null,null,null,null,null,null,null,null,null,null,null,null,null,null,null,null,null,null,null,null,null,null,"","",""]
[null,null,null,null,null,null,null,null,null,null,null,null,null,null,null,null,null,null,null,null,null,null,null,null,null,null,null,null,null,null,null,null,null,null,null,null,null,null,null,null,null,null,null,null,null,"","",""]
[null,null,null,null,null,null,null,null,null,null,null,null,null,null,null,null,null,null,null,null,null,null,null,null,null,null,null,null,null,null,null,null,null,null,null,null,null,null,null,null,null,null,null,null,null,"","",""]
[null,null,null,null,null,null,null,null,null,null,null,null,null,null,null,null,null,null,null,null,null,null,null,null,null,null,null,null,null,null,null,null,null,null,null,null,null,null,null,null,null,null,null,null,null,"","",""]
[null,null,null,null,null,null,null,null,null,null,null,null,null,null,null,null,null,null,null,null,null,null,null,null,null,null,null,null,null,null,null,null,null,null,null,null,null,null,null,null,null,null,null,null,null,"","",""]
[null,null,null,null,null,null,null,null,null,null,null,null,null,null,null,null,null,null,null,null,null,null,null,null,null,null,null,null,null,null,null,null,null,null,null,null,null,null,null,null,null,null,null,null,null,"","",""]
[null,null,null,null,null,null,null,null,null,null,null,null,null,null,null,null,null,null,null,null,null,null,null,null,null,null,null,null,null,null,null,null,null,null,null,null,null,null,null,null,null,null,null,null,null,"","",""]
[null,null,null,null,null,null,null,null,null,null,null,null,null,null,null,null,null,null,null,null,null,null,null,null,null,null,null,null,null,null,null,null,null,null,null,null,null,null,null,null,null,null,null,null,null,"","",""]
[null,null,null,null,null,null,null,null,null,null,null,null,null,null,null,null,null,null,null,null,null,null,null,null,null,null,null,null,null,null,null,null,null,null,null,null,null,null,null,null,null,null,null,null,null,"","",""]
[null,null,null,null,null,null,null,null,null,null,null,null,null,null,null,null,null,null,null,null,null,null,null,null,null,null,null,null,null,null,null,null,null,null,null,null,null,null,null,null,null,null,null,null,null,"","",""]
[null,null,null,null,null,null,null,null,null,null,null,null,null,null,null,null,null,null,null,null,null,null,null,null,null,null,null,null,null,null,null,null,null,null,null,null,null,null,null,null,null,null,null,null,null,"","",""]
[null,null,null,null,null,null,null,null,null,null,null,null,null,null,null,null,null,null,null,null,null,null,null,null,null,null,null,null,null,null,null,null,null,null,null,null,null,null,null,null,null,null,null,null,null,"","",""]
[null,null,null,null,null,null,null,null,null,null,null,null,null,null,null,null,null,null,null,null,null,null,null,null,null,null,null,null,null,null,null,null,null,null,null,null,null,null,null,null,null,null,null,null,null,"","",""]
[null,null,null,null,null,null,null,null,null,null,null,null,null,null,null,null,null,null,null,null,null,null,null,null,null,null,null,null,null,null,null,null,null,null,null,null,null,null,null,null,null,null,null,null,null,"","",""]
[null,null,null,null,null,null,null,null,null,null,null,null,null,null,null,null,null,null,null,null,null,null,null,null,null,null,null,null,null,null,null,null,null,null,null,null,null,null,null,null,null,null,null,null,null,{"$f":"IF(A293=\"\",\"\",VLOOKUP(A293,$A$4:$AT$112,46))","v":""},"",""]
[null,null,null,null,null,null,null,null,null,null,null,null,null,null,null,null,null,null,null,null,null,null,null,null,null,null,null,null,null,null,null,null,null,null,null,null,null,null,null,null,null,null,null,null,null,"","",""]
[null,null,null,null,null,null,null,null,null,null,null,null,null,null,null,null,null,null,null,null,null,null,null,null,null,null,null,null,null,null,null,null,null,null,null,null,null,null,null,null,null,null,null,null,null,"","",""]
[null,null,null,null,null,null,null,null,null,null,null,null,null,null,null,null,null,null,null,null,null,null,null,null,null,null,null,null,null,null,null,null,null,null,null,null,null,null,null,null,null,null,null,null,null,"","",""]
[null,null,null,null,null,null,null,null,null,null,null,null,null,null,null,null,null,null,null,null,null,null,null,null,null,null,null,null,null,null,null,null,null,null,null,null,null,null,null,null,null,null,null,null,null,"","",""]
[null,null,null,null,null,null,null,null,null,null,null,null,null,null,null,null,null,null,null,null,null,null,null,null,null,null,null,null,null,null,null,null,null,null,null,null,null,null,null,null,null,null,null,null,null,"","",""]
[null,null,null,null,null,null,null,null,null,null,null,null,null,null,null,null,null,null,null,null,null,null,null,null,null,null,null,null,null,null,null,null,null,null,null,null,null,null,null,null,null,null,null,null,null,"","",""]
[null,null,null,null,null,null,null,null,null,null,null,null,null,null,null,null,null,null,null,null,null,null,null,null,null,null,null,null,null,null,null,null,null,null,null,null,null,null,null,null,null,null,null,null,null,"","",""]
[null,null,null,null,null,null,null,null,null,null,null,null,null,null,null,null,null,null,null,null,null,null,null,null,null,null,null,null,null,null,null,null,null,null,null,null,null,null,null,null,null,null,null,null,null,"","",""]
[null,null,null,null,null,null,null,null,null,null,null,null,null,null,null,null,null,null,null,null,null,null,null,null,null,null,null,null,null,null,null,null,null,null,null,null,null,null,null,null,null,null,null,null,null,""]
[null,null,null,null,null,null,null,null,null,null,null,null,null,null,null,null,null,null,null,null,null,null,null,null,null,null,null,null,null,null,null,null,null,null,null,null,null,null,null,null,null,null,null,null,null,""]
[null,null,null,null,null,null,null,null,null,null,null,null,null,null,null,null,null,null,null,null,null,null,null,null,null,null,null,null,null,null,null,null,null,null,null,null,null,null,null,null,null,null,null,null,null,""]
[null,null,null,null,null,null,null,null,null,null,null,null,null,null,null,null,null,null,null,null,null,null,null,null,null,null,null,null,null,null,null,null,null,null,null,null,null,null,null,null,null,null,null,null,null,""]
[null,null,null,null,null,null,null,null,null,null,null,null,null,null,null,null,null,null,null,null,null,null,null,null,null,null,null,null,null,null,null,null,null,null,null,null,null,null,null,null,null,null,null,null,null,""]
[null,null,null,null,null,null,null,null,null,null,null,null,null,null,null,null,null,null,null,null,null,null,null,null,null,null,null,null,null,null,null,null,null,null,null,null,null,null,null,null,null,null,null,null,null,""]
[null,null,null,null,null,null,null,null,null,null,null,null,null,null,null,null,null,null,null,null,null,null,null,null,null,null,null,null,null,null,null,null,null,null,null,null,null,null,null,null,null,null,null,null,null,""]
[null,null,null,null,null,null,null,null,null,null,null,null,null,null,null,null,null,null,null,null,null,null,null,null,null,null,null,null,null,null,null,null,null,null,null,null,null,null,null,null,null,null,null,null,null,""]
[null,null,null,null,null,null,null,null,null,null,null,null,null,null,null,null,null,null,null,null,null,null,null,null,null,null,null,null,null,null,null,null,null,null,null,null,null,null,null,null,null,null,null,null,null,""]
[null,null,null,null,null,null,null,null,null,null,null,null,null,null,null,null,null,null,null,null,null,null,null,null,null,null,null,null,null,null,null,null,null,null,null,null,null,null,null,null,null,null,null,null,null,""]
[null,null,null,null,null,null,null,null,null,null,null,null,null,null,null,null,null,null,null,null,null,null,null,null,null,null,null,null,null,null,null,null,null,null,null,null,null,null,null,null,null,null,null,null,null,""]
[null,null,null,null,null,null,null,null,null,null,null,null,null,null,null,null,null,null,null,null,null,null,null,null,null,null,null,null,null,null,null,null,null,null,null,null,null,null,null,null,null,null,null,null,null,""]
[null,null,null,null,null,null,null,null,null,null,null,null,null,null,null,null,null,null,null,null,null,null,null,null,null,null,null,null,null,null,null,null,null,null,null,null,null,null,null,null,null,null,null,null,null,""]
[null,null,null,null,null,null,null,null,null,null,null,null,null,null,null,null,null,null,null,null,null,null,null,null,null,null,null,null,null,null,null,null,null,null,null,null,null,null,null,null,null,null,null,null,null,""]
[null,null,null,null,null,null,null,null,null,null,null,null,null,null,null,null,null,null,null,null,null,null,null,null,null,null,null,null,null,null,null,null,null,null,null,null,null,null,null,null,null,null,null,null,null,""]
[null,null,null,null,null,null,null,null,null,null,null,null,null,null,null,null,null,null,null,null,null,null,null,null,null,null,null,null,null,null,null,null,null,null,null,null,null,null,null,null,null,null,null,null,null,""]
[null,null,null,null,null,null,null,null,null,null,null,null,null,null,null,null,null,null,null,null,null,null,null,null,null,null,null,null,null,null,null,null,null,null,null,null,null,null,null,null,null,null,null,null,null,""]
[null,null,null,null,null,null,null,null,null,null,null,null,null,null,null,null,null,null,null,null,null,null,null,null,null,null,null,null,null,null,null,null,null,null,null,null,null,null,null,null,null,null,null,null,null,""]
[null,null,null,null,null,null,null,null,null,null,null,null,null,null,null,null,null,null,null,null,null,null,null,null,null,null,null,null,null,null,null,null,null,null,null,null,null,null,null,null,null,null,null,null,null,""]
[null,null,null,null,null,null,null,null,null,null,null,null,null,null,null,null,null,null,null,null,null,null,null,null,null,null,null,null,null,null,null,null,null,null,null,null,null,null,null,null,null,null,null,null,null,""]
[null,null,null,null,null,null,null,null,null,null,null,null,null,null,null,null,null,null,null,null,null,null,null,null,null,null,null,null,null,null,null,null,null,null,null,null,null,null,null,null,null,null,null,null,null,""]
[null,null,null,null,null,null,null,null,null,null,null,null,null,null,null,null,null,null,null,null,null,null,null,null,null,null,null,null,null,null,null,null,null,null,null,null,null,null,null,null,null,null,null,null,null,""]
[null,null,null,null,null,null,null,null,null,null,null,null,null,null,null,null,null,null,null,null,null,null,null,null,null,null,null,null,null,null,null,null,null,null,null,null,null,null,null,null,null,null,null,null,null,""]
[null,null,null,null,null,null,null,null,null,null,null,null,null,null,null,null,null,null,null,null,null,null,null,null,null,null,null,null,null,null,null,null,null,null,null,null,null,null,null,null,null,null,null,null,null,""]
[null,null,null,null,null,null,null,null,null,null,null,null,null,null,null,null,null,null,null,null,null,null,null,null,null,null,null,null,null,null,null,null,null,null,null,null,null,null,null,null,null,null,null,null,null,""]
[null,null,null,null,null,null,null,null,null,null,null,null,null,null,null,null,null,null,null,null,null,null,null,null,null,null,null,null,null,null,null,null,null,null,null,null,null,null,null,null,null,null,null,null,null,""]
[null,null,null,null,null,null,null,null,null,null,null,null,null,null,null,null,null,null,null,null,null,null,null,null,null,null,null,null,null,null,null,null,null,null,null,null,null,null,null,null,null,null,null,null,null,""]
[null,null,null,null,null,null,null,null,null,null,null,null,null,null,null,null,null,null,null,null,null,null,null,null,null,null,null,null,null,null,null,null,null,null,null,null,null,null,null,null,null,null,null,null,null,""]
[null,null,null,null,null,null,null,null,null,null,null,null,null,null,null,null,null,null,null,null,null,null,null,null,null,null,null,null,null,null,null,null,null,null,null,null,null,null,null,null,null,null,null,null,null,""]
[null,null,null,null,null,null,null,null,null,null,null,null,null,null,null,null,null,null,null,null,null,null,null,null,null,null,null,null,null,null,null,null,null,null,null,null,null,null,null,null,null,null,null,null,null,""]
[null,null,null,null,null,null,null,null,null,null,null,null,null,null,null,null,null,null,null,null,null,null,null,null,null,null,null,null,null,null,null,null,null,null,null,null,null,null,null,null,null,null,null,null,null,""]
[null,null,null,null,null,null,null,null,null,null,null,null,null,null,null,null,null,null,null,null,null,null,null,null,null,null,null,null,null,null,null,null,null,null,null,null,null,null,null,null,null,null,null,null,null,""]
[null,null,null,null,null,null,null,null,null,null,null,null,null,null,null,null,null,null,null,null,null,null,null,null,null,null,null,null,null,null,null,null,null,null,null,null,null,null,null,null,null,null,null,null,null,""]
[null,null,null,null,null,null,null,null,null,null,null,null,null,null,null,null,null,null,null,null,null,null,null,null,null,null,null,null,null,null,null,null,null,null,null,null,null,null,null,null,null,null,null,null,null,""]
[null,null,null,null,null,null,null,null,null,null,null,null,null,null,null,null,null,null,null,null,null,null,null,null,null,null,null,null,null,null,null,null,null,null,null,null,null,null,null,null,null,null,null,null,null,""]
[null,null,null,null,null,null,null,null,null,null,null,null,null,null,null,null,null,null,null,null,null,null,null,null,null,null,null,null,null,null,null,null,null,null,null,null,null,null,null,null,null,null,null,null,null,""]
[null,null,null,null,null,null,null,null,null,null,null,null,null,null,null,null,null,null,null,null,null,null,null,null,null,null,null,null,null,null,null,null,null,null,null,null,null,null,null,null,null,null,null,null,null,""]
[null,null,null,null,null,null,null,null,null,null,null,null,null,null,null,null,null,null,null,null,null,null,null,null,null,null,null,null,null,null,null,null,null,null,null,null,null,null,null,null,null,null,null,null,null,""]
[null,null,null,null,null,null,null,null,null,null,null,null,null,null,null,null,null,null,null,null,null,null,null,null,null,null,null,null,null,null,null,null,null,null,null,null,null,null,null,null,null,null,null,null,null,""]
[null,null,null,null,null,null,null,null,null,null,null,null,null,null,null,null,null,null,null,null,null,null,null,null,null,null,null,null,null,null,null,null,null,null,null,null,null,null,null,null,null,null,null,null,null,""]
[null,null,null,null,null,null,null,null,null,null,null,null,null,null,null,null,null,null,null,null,null,null,null,null,null,null,null,null,null,null,null,null,null,null,null,null,null,null,null,null,null,null,null,null,null,""]
[null,null,null,null,null,null,null,null,null,null,null,null,null,null,null,null,null,null,null,null,null,null,null,null,null,null,null,null,null,null,null,null,null,null,null,null,null,null,null,null,null,null,null,null,null,""]
[null,null,null,null,null,null,null,null,null,null,null,null,null,null,null,null,null,null,null,null,null,null,null,null,null,null,null,null,null,null,null,null,null,null,null,null,null,null,null,null,null,null,null,null,null,""]
[null,null,null,null,null,null,null,null,null,null,null,null,null,null,null,null,null,null,null,null,null,null,null,null,null,null,null,null,null,null,null,null,null,null,null,null,null,null,null,null,null,null,null,null,null,""]
[null,null,null,null,null,null,null,null,null,null,null,null,null,null,null,null,null,null,null,null,null,null,null,null,null,null,null,null,null,null,null,null,null,null,null,null,null,null,null,null,null,null,null,null,null,""]
[null,null,null,null,null,null,null,null,null,null,null,null,null,null,null,null,null,null,null,null,null,null,null,null,null,null,null,null,null,null,null,null,null,null,null,null,null,null,null,null,null,null,null,null,null,""]
[null,null,null,null,null,null,null,null,null,null,null,null,null,null,null,null,null,null,null,null,null,null,null,null,null,null,null,null,null,null,null,null,null,null,null,null,null,null,null,null,null,null,null,null,null,""]
[null,null,null,null,null,null,null,null,null,null,null,null,null,null,null,null,null,null,null,null,null,null,null,null,null,null,null,null,null,null,null,null,null,null,null,null,null,null,null,null,null,null,null,null,null,""]
[null,null,null,null,null,null,null,null,null,null,null,null,null,null,null,null,null,null,null,null,null,null,null,null,null,null,null,null,null,null,null,null,null,null,null,null,null,null,null,null,null,null,null,null,null,""]
[null,null,null,null,null,null,null,null,null,null,null,null,null,null,null,null,null,null,null,null,null,null,null,null,null,null,null,null,null,null,null,null,null,null,null,null,null,null,null,null,null,null,null,null,null,""]
[null,null,null,null,null,null,null,null,null,null,null,null,null,null,null,null,null,null,null,null,null,null,null,null,null,null,null,null,null,null,null,null,null,null,null,null,null,null,null,null,null,null,null,null,null,""]
[null,null,null,null,null,null,null,null,null,null,null,null,null,null,null,null,null,null,null,null,null,null,null,null,null,null,null,null,null,null,null,null,null,null,null,null,null,null,null,null,null,null,null,null,null,""]
[null,null,null,null,null,null,null,null,null,null,null,null,null,null,null,null,null,null,null,null,null,null,null,null,null,null,null,null,null,null,null,null,null,null,null,null,null,null,null,null,null,null,null,null,null,""]
[null,null,null,null,null,null,null,null,null,null,null,null,null,null,null,null,null,null,null,null,null,null,null,null,null,null,null,null,null,null,null,null,null,null,null,null,null,null,null,null,null,null,null,null,null,""]
[null,null,null,null,null,null,null,null,null,null,null,null,null,null,null,null,null,null,null,null,null,null,null,null,null,null,null,null,null,null,null,null,null,null,null,null,null,null,null,null,null,null,null,null,null,""]
[null,null,null,null,null,null,null,null,null,null,null,null,null,null,null,null,null,null,null,null,null,null,null,null,null,null,null,null,null,null,null,null,null,null,null,null,null,null,null,null,null,null,null,null,null,{"$f":"IF(A357=\"\",\"\",VLOOKUP(A357,$A$4:$AT$112,46))","v":""}]
[null,null,null,null,null,null,null,null,null,null,null,null,null,null,null,null,null,null,null,null,null,null,null,null,null,null,null,null,null,null,null,null,null,null,null,null,null,null,null,null,null,null,null,null,null,""]
[null,null,null,null,null,null,null,null,null,null,null,null,null,null,null,null,null,null,null,null,null,null,null,null,null,null,null,null,null,null,null,null,null,null,null,null,null,null,null,null,null,null,null,null,null,""]
[null,null,null,null,null,null,null,null,null,null,null,null,null,null,null,null,null,null,null,null,null,null,null,null,null,null,null,null,null,null,null,null,null,null,null,null,null,null,null,null,null,null,null,null,null,""]
[null,null,null,null,null,null,null,null,null,null,null,null,null,null,null,null,null,null,null,null,null,null,null,null,null,null,null,null,null,null,null,null,null,null,null,null,null,null,null,null,null,null,null,null,null,""]
[null,null,null,null,null,null,null,null,null,null,null,null,null,null,null,null,null,null,null,null,null,null,null,null,null,null,null,null,null,null,null,null,null,null,null,null,null,null,null,null,null,null,null,null,null,""]

{"sheet":"Instructions","index":4,"n_rows":32,"n_cols":15,"rows_kept":32,"cut":false,"hidden":false,"merged":[[0,12,1,13],[27,1,27,7],[3,0,3,8],[5,1,5,8],[7,1,7,8],[9,1,9,8],[22,1,22,8],[23,1,23,8],[11,1,11,8],[13,0,13,8],[15,0,15,8],[17,0,17,8],[19,0,19,8]]}
[null,null,null,null,null,null,null,null,null,null,null,null,"ADMINISTRATORS ONLY"]
[]
["THIS SPREADSHEET ORIGINATED FROM THE IOWA NRCS AND HAS BEEN SIGNIFICANTLY MODIFIED FOR USE IN WI.",null,null,null,null,null,null,null,null,null,null,null,"Table Names and Descriptions"]
[null,null,null,null,null,null,null,null,null,null,null,null,"Table Name","Description"]
[null,null,null,null,null,null,null,null,null,null,null,null,"Calculator","custom seed mix design page- SEE INSTRUCTIONS"]
[null,null,null,null,null,null,null,null,null,null,null,null,"SeedingPlan_Cust","seeding plan printout for custom designed mixes - SEE INSTRUCTIONS"]
[]
[null,null,null,null,null,null,null,null,null,null,null,null,"Grasses","Table of all native and introduced grasses that can be used in the NRCS Standards.  Sort by Common Name for lookups to work.  The calculator page uses this table to lookup species."]
[null,null,null,null,null,null,null,null,null,null,null,null,"ForbsLegumes","Table of all native and introduced forbs/legumes that can be used in the NRCS Standards.   Sort by Common Name for lookups to work.  The calculator page uses this table to lookup species."]
[]
[]
[null,null,null,null,null,null,null,null,null,null,null,null,"Counties","list of counties and seeding dates- counties have to be alphabetical for lookup to work.  If modifying column \"STD-REGION\", you must resort table by this column for lookups to work"]
[null,null,null,null,null,null,null,null,null,null,null,null,"Comp_temp","List of companion and temporary cover crops that can be used with NRCS mixes.  This info is referenced by both seeding plan sheets"]
[null,null,null,null,null,null,null,null,null,null,null,null,"mixcheck","Contains a summary of the 327, 342, and 512 standard requirements that are copied to the bottom of the calculator page to assist with mix design verification."]
[null,null,null,null,null,null,null,null,null,null,null,null,"Counties","all counties in the state and the seeding dates.  The counties and the seeding date table must be sorted alphabetically to allow lookups from other sheets to work."]
[]
[]
[]
[]
[]
[]
[]
[]
[]
[]
[]
[]
[]
[]
[]
[]
[null,null,null,null,null,null,null,null,null,null,null,null,null,null,{"$error":"#REF!"}]

{"sheet":"Counties","index":5,"n_rows":139,"n_cols":28,"rows_kept":139,"cut":false,"hidden":true,"merged":[[6,9,6,12],[0,9,0,13],[12,9,12,13],[12,4,12,7],[16,6,16,7],[15,6,15,7],[14,6,14,7],[13,6,13,7],[0,4,0,7],[6,4,6,7]]}
[1,null,null,null,null,null,null,null,null,null,null,null,null,null,null,"NRCS Standard","Region","STD-REGION\nsort by this column",null,null,"Spring Seeding","Late Summer","Fall Dormant Seeding","Frost Seeding Allowed?"]
[2,"ADAMS","CENTRAL",null,null,null,null,null,null,null,null,null,null,null,null,327,"Central",{"$f":"CONCATENATE(P2,\"-\",Q2)","v":"327-Central"},"i","INTRODUCED GRASSES & LEGUMES and COMPANION CROPS","4/15 - 6/1","8/1 - 8/21","11/1-Freeze up","Yes",null,null,"Agrostis gigantea","Redtop"]
[3,"ASHLAND","NORTH",null,null,null,null,null,null,null,null,null,null,null,null,327,"North","327-North","i","INTRODUCED GRASSES & LEGUMES and COMPANION CROPS","5/1 - 6/15","7/15 - 8/10","11/1-Freeze up","Yes",null,null,"Allium canadense","Wild Garlic"]
[4,"BARRON","CENTRAL",null,null,null,null,null,null,null,null,null,null,null,null,327,"South","327-South","i","INTRODUCED GRASSES & LEGUMES and COMPANION CROPS","4/1 - 5/15","8/7 - 8/29","11/1-Freeze up","Yes",null,null,"Allium cernuum","Nodding Wild Onion"]
[5,"BAYFIELD","NORTH",null,null,null,null,null,null,null,null,null,null,null,null,342,"Central","342-Central","i","INTRODUCED GRASSES & LEGUMES and COMPANION CROPS","4/15 - 6/1","8/1 - 8/21","11/1-Freeze up","No",null,null,"Amorpha canescens","Leadplant                 "]
[6,"BROWN","CENTRAL",null,null,null,null,null,null,null,null,null,null,null,null,342,"North","342-North","i","INTRODUCED GRASSES & LEGUMES and COMPANION CROPS","5/1 - 6/15","7/15 - 8/10","11/1-Freeze up","No",null,null,"Andropogon gerardii","Big Bluestem"]
[7,"BUFFALO","CENTRAL",null,null,null,null,null,null,null,null,null,null,null,null,342,"South","342-South","i","INTRODUCED GRASSES & LEGUMES and COMPANION CROPS","4/1 - 5/15","8/7 - 8/29","11/1-Freeze up","No",null,null,"Anemone canadensis","Meadow Anemone"]
[8,"BURNETT","NORTH",null,null,null,null,null,null,null,null,null,null,null,null,512,"Central","512-Central","i","INTRODUCED GRASSES & LEGUMES","4/15 - 6/1","8/1 - 8/21","N/A","Legumes Only",null,null,"Anemone cylindrica","Thimbleweed"]
[9,"CALUMET","CENTRAL",null,null,null,null,null,null,null,null,null,null,null,null,512,"North","512-North","i","INTRODUCED GRASSES & LEGUMES","5/1 - 6/15","7/15 - 8/10","N/A","Legumes Only",null,null,"Angelica atropurpurea","Angelica"]
[10,"CHIPPEWA","CENTRAL",null,null,null,null,null,null,null,null,null,null,null,null,512,"South","512-South","i","INTRODUCED GRASSES & LEGUMES","4/1 - 5/15","8/7 - 8/29","N/A","Legumes Only",null,null,"Asclepias incarnata","Marsh Milkweed"]
[11,"CLARK","CENTRAL",null,null,null,null,null,null,null,null,null,null,null,null,327,"Central","327-Central","n","NATIVE MIXTURES & COMPANION CROPS","Thaw – 6/30","N/A","10/15 – Freeze up","Yes",null,null,"Asclepias sullivantii","Prairie Milkweed"]
[12,"COLUMBIA","CENTRAL",null,null,null,null,null,null,null,null,null,null,null,null,327,"North","327-North","n","NATIVE MIXTURES & COMPANION CROPS","Thaw – 7/15","N/A","10/8 – Freeze up","Yes",null,null,"Asclepias tuberosa","Butterfly Milkweed"]
[13,"CRAWFORD","SOUTH",null,null,null,null,null,null,null,null,null,null,null,null,327,"South","327-South","n","NATIVE MIXTURES & COMPANION CROPS","Thaw – 6/30","N/A","10/20 – Freeze up","Yes",null,null,"Asclepias verticillata","Whorled Milkweed"]
[14,"DANE","SOUTH",null,null,null,null,null,null,null,null,null,null,null,null,342,"Central","342-Central","n","NATIVE MIXTURES & COMPANION CROPS","Thaw – 6/30","N/A","N/A","No",null,null,"Asclepias viridiflora","Green Milkweed"]
[15,"DODGE","CENTRAL",null,null,null,null,null,null,null,null,null,null,null,null,342,"North","342-North","n","NATIVE MIXTURES & COMPANION CROPS","Thaw – 7/15","N/A","N/A","No",null,null,"Astragalus canadensis","Canada Milkvetch"]
[16,"DOOR","CENTRAL",null,null,null,null,null,null,null,null,null,null,null,null,342,"South","342-South","n","NATIVE MIXTURES & COMPANION CROPS","Thaw – 6/30","N/A","N/A","No",null,null,"Baptisia alba","White Wild Indigo   "]
[17,"DOUGLAS","NORTH",null,null,null,null,null,null,null,null,null,null,null,null,512,"Central","512-Central","n","NATIVE WARM SEASON GRASSES","Thaw – 6/30","N/A","10/15 – Freeze up","Yes",null,null,"Baptisia bracteata","Cream Wild Indigo"]
[18,"DUNN","CENTRAL",null,null,null,null,null,null,null,null,null,null,null,null,512,"North","512-North","n","NATIVE WARM SEASON GRASSES","Thaw – 7/15","N/A","10/8 – Freeze up","Yes",null,null,"Bidens cernua","Nodding Beggartick"]
[19,"EAU CLAIRE","CENTRAL",null,null,null,null,null,null,null,null,null,null,null,null,512,"South","512-South","n","NATIVE WARM SEASON GRASSES","Thaw – 6/30","N/A","10/20 – Freeze up","Yes",null,null,"Blephilia ciliata ","Downy Wood Mint"]
[20,"FLORENCE","NORTH",null,null,null,null,null,null,null,null,null,null,null,null,"custom",null,null,null,null,null,null,null,null,null,null,"Bouteloua curtipendula","Sideoats Grama"]
[21,"FOND DU LAC","CENTRAL",null,null,null,null,null,null,null,null,null,null,null,"COUNTY",{"$f":"+SeedingPlan_CUST!B6","v":""},null,null,null,null,null,null,null,null,null,null,"Bouteloua hirsuta ","Hairy Grama"]
[22,"FOREST","NORTH",null,null,null,null,null,null,null,null,null,null,null,"ZONE",{"$f":"VLOOKUP(P21,$B$2:$C$74,2)","v":{"$error":"#N/A"}},null,null,null,null,null,null,null,null,null,null,"Brickellia eupatorioides","False Boneset "]
[23,"GRANT","SOUTH",null,null,null,null,null,null,null,null,null,null,null,"STANDARD",{"$f":"+SeedingPlan_CUST!F2","v":""},null,null,null,null,null,null,null,null,null,null,"Bromus inermis","Smooth Bromegrass"]
[24,"GREEN","SOUTH",null,null,null,null,null,null,null,null,null,null,null,null,{"$f":"CONCATENATE(P23,\"-\",P22)","v":{"$error":"#N/A"}},null,null,null,null,null,null,null,null,null,null,"Calamagrostis canadensis","Bluejoint"]
[25,"GREEN LAKE","CENTRAL",null,null,null,null,null,null,null,null,null,null,null,null,null,null,null,null,null,null,null,null,null,null,null,"Campanula rotundifolia","Harebell"]
[26,"IOWA","SOUTH",null,null,null,null,null,null,null,null,null,null,null,null,null,null,null,null,null,null,null,null,null,null,null,"Carex comosa","Longhair Sedge"]
[27,"IRON","NORTH",null,null,null,null,null,null,null,null,null,null,null,null,null,null,null,null,null,null,null,null,null,null,null,"Carex hystericina","Bottlebrush Sedge"]
[28,"JACKSON","CENTRAL",null,null,null,null,null,null,null,null,null,null,null,null,null,null,null,null,null,null,null,null,null,null,null,"Carex vulpinoidea","Fox Sedge"]
[29,"JEFFERSON","SOUTH",null,null,null,null,null,null,null,null,null,null,null,null,null,null,null,null,null,null,null,null,null,null,null,"Ceanothus americanus","New Jersey Tea"]
[30,"JUNEAU","CENTRAL",null,null,null,null,null,null,null,null,null,null,null,null,null,null,null,null,null,null,null,null,null,null,null,"Comandra umbellata","False Toadflax"]
[31,"KENOSHA","SOUTH",null,null,null,null,null,null,null,null,null,null,null,null,null,null,null,null,null,null,null,null,null,null,null,"Coreopsis palmata","Prairie Tickseed"]
[32,"KEWAUNEE","CENTRAL",null,null,null,null,null,null,null,null,null,null,null,{"$error":"#REF!"},null,null,null,null,null,null,null,null,null,null,null,"Dactylis glomerata L.","Orchardgrass"]
[33,"LACROSSE","CENTRAL",null,null,null,null,null,null,null,null,null,null,null,null,null,null,null,null,null,null,null,null,null,null,null,"Dalea candida","White Prairie Clover"]
[34,"LAFAYETTE","SOUTH",null,null,null,null,null,null,null,null,null,null,null,null,null,null,null,null,null,null,null,null,null,null,null,"Dalea purpurea","Purple Prairie Clover "]
[35,"LANGLADE","NORTH",null,null,null,null,null,null,null,null,null,null,null,null,null,null,null,null,null,null,null,null,null,null,null,"Desmodium canadense","Showy Tick Trefoil    "]
[36,"LINCOLN","NORTH",null,null,null,null,null,null,null,null,null,null,null,null,null,null,null,null,null,null,null,null,null,null,null,"Desmodium illinoense","Illinois Tick Trefoil"]
[37,"MANITOWOC","CENTRAL",null,null,null,null,null,null,null,null,null,null,null,null,null,null,null,null,null,null,null,null,null,null,null,"Dodecatheon","Shootingstar"]
[38,"MARATHON","CENTRAL",null,null,null,null,null,null,null,null,null,null,null,null,null,null,null,null,null,null,null,null,null,null,null,"Echinacea pallida","Pale Purple Coneflower"]
[39,"MARINETTE","NORTH",null,null,null,null,null,null,null,null,null,null,null,null,null,null,null,null,null,null,null,null,null,null,null,"Echinacea purpurea","Purple Coneflower"]
[40,"MARQUETTE","CENTRAL",null,null,null,null,null,null,null,null,null,null,null,null,null,null,null,null,null,null,null,null,null,null,null,"Elymus canadensis","Canada Wildrye"]
[41,"MENOMINEE","CENTRAL",null,null,null,null,null,null,null,null,null,null,null,null,null,null,null,null,null,null,null,null,null,null,null,"Elymus virginicus","Virginia Wildrye"]
[42,"MILWAUKEE","SOUTH",null,null,null,null,null,null,null,null,null,null,null,null,null,null,null,null,null,null,null,null,null,null,null,"Eryngium yuccifolium","Rattlesnake Master"]
[43,"MONROE","CENTRAL",null,null,null,null,null,null,null,null,null,null,null,null,null,null,null,null,null,null,null,null,null,null,null,"Eupatoriadelphus maculatus","Joe-Pye Weed"]
[44,"OCONTO","CENTRAL",null,null,null,null,null,null,null,null,null,null,null,null,null,null,null,null,null,null,null,null,null,null,null,"Eupatorium perfoliatum","Boneset"]
[45,"ONEIDA","NORTH",null,null,null,null,null,null,null,null,null,null,null,null,null,null,null,null,null,null,null,null,null,null,null,"Eupatorium perfoliatum","Boneset"]
[46,"OUTAGAMIE","CENTRAL",null,null,null,null,null,null,null,null,null,null,null,null,null,null,null,null,null,null,null,null,null,null,null,"Eupatorium sessilifolium","Upland Boneset"]
[47,"OZAUKEE","CENTRAL",null,null,null,null,null,null,null,null,null,null,null,null,null,null,null,null,null,null,null,null,null,null,null,"Euphorbia corollata","Flowering Spurge"]
[48,"PEPIN","CENTRAL",null,null,null,null,null,null,null,null,null,null,null,null,null,null,null,null,null,null,null,null,null,null,null,"Festuca arundinacea","Tall Fescue"]
[49,"PIERCE","CENTRAL",null,null,null,null,null,null,null,null,null,null,null,null,null,null,null,null,null,null,null,null,null,null,null,"Festuca rubra","Creeping Red Fescue"]
[50,"POLK","CENTRAL",null,null,null,null,null,null,null,null,null,null,null,null,null,null,null,null,null,null,null,null,null,null,null,"Festuca rubra L. ssp. fallax","Chewings Red Fescue"]
[51,"PORTAGE","CENTRAL",null,null,null,null,null,null,null,null,null,null,null,null,null,null,null,null,null,null,null,null,null,null,null,"Festuca x Lolium","Festulolium"]
[52,"PRICE","NORTH",null,null,null,null,null,null,null,null,null,null,null,null,null,null,null,null,null,null,null,null,null,null,null,"Gaura biennis","Biennial Beeblossom"]
[53,"RACINE","SOUTH",null,null,null,null,null,null,null,null,null,null,null,null,null,null,null,null,null,null,null,null,null,null,null,"Gentiana andrewsii","Bottle Gentian"]
[54,"RICHLAND","CENTRAL",null,null,null,null,null,null,null,null,null,null,null,null,null,null,null,null,null,null,null,null,null,null,null,"Gentiana puberulenta","Downy Gentian"]
[55,"ROCK","SOUTH",null,null,null,null,null,null,null,null,null,null,null,null,null,null,null,null,null,null,null,null,null,null,null,"Geum triflorum","Prairie Smoke"]
[56,"RUSK","NORTH",null,null,null,null,null,null,null,null,null,null,null,null,null,null,null,null,null,null,null,null,null,null,null,"Glyceria grandis","American Mannagrass"]
[57,"SAUK","CENTRAL",null,null,null,null,null,null,null,null,null,null,null,null,null,null,null,null,null,null,null,null,null,null,null,"Glyceria striata","Fowl Mannagrass"]
[58,"SAWYER","NORTH",null,null,null,null,null,null,null,null,null,null,null,null,null,null,null,null,null,null,null,null,null,null,null,"Helenium autumnale","Sneezeweed"]
[59,"SHAWANO","CENTRAL",null,null,null,null,null,null,null,null,null,null,null,null,null,null,null,null,null,null,null,null,null,null,null,"Helianthus grosseserratus","Sawtooth Sunflower"]
[60,"SHEBOYGAN","CENTRAL",null,null,null,null,null,null,null,null,null,null,null,null,null,null,null,null,null,null,null,null,null,null,null,"Helianthus occidentalis","Fewleaf Sunflower"]
[61,"ST. CROIX","CENTRAL",null,null,null,null,null,null,null,null,null,null,null,null,null,null,null,null,null,null,null,null,null,null,null,"Helianthus pauciflorus","Prairie Sunflower"]
[62,"TAYLOR","NORTH",null,null,null,null,null,null,null,null,null,null,null,null,null,null,null,null,null,null,null,null,null,null,null,"Heliopsis helianthoides","Ox-eye Sunflower"]
[63,"TREMPEALEAU","CENTRAL",null,null,null,null,null,null,null,null,null,null,null,null,null,null,null,null,null,null,null,null,null,null,null,"Hesperostipa spartea","Porcupinegrass"]
[64,"VERNON","CENTRAL",null,null,null,null,null,null,null,null,null,null,null,null,null,null,null,null,null,null,null,null,null,null,null,"Heuchera richardsonii","Prairie Alum-Root"]
[65,"VILAS","NORTH",null,null,null,null,null,null,null,null,null,null,null,null,null,null,null,null,null,null,null,null,null,null,null,"Hypericum ascyron","Great St. John's Wort"]
[66,"WALWORTH","SOUTH",null,null,null,null,null,null,null,null,null,null,null,null,null,null,null,null,null,null,null,null,null,null,null,"Hypoxis hirsuta","Yellow Star Grass"]
[67,"WASHBURN","NORTH",null,null,null,null,null,null,null,null,null,null,null,null,null,null,null,null,null,null,null,null,null,null,null,"Impatiens capensis","Spotted Jewelweed"]
[68,"WASHINGTON","CENTRAL",null,null,null,null,null,null,null,null,null,null,null,null,null,null,null,null,null,null,null,null,null,null,null,"Iris versicolor","Harlequin Blue Flag Iris"]
[69,"WAUKESHA","SOUTH",null,null,null,null,null,null,null,null,null,null,null,null,null,null,null,null,null,null,null,null,null,null,null,"Juncus effusus","Common Rush"]
[70,"WAUPACA","CENTRAL",null,null,null,null,null,null,null,null,null,null,null,null,null,null,null,null,null,null,null,null,null,null,null,"Koeleria macrantha","Prairie Junegrass"]
[71,"WAUSHARA","CENTRAL",null,null,null,null,null,null,null,null,null,null,null,null,null,null,null,null,null,null,null,null,null,null,null,"Lespedeza capitata","Round-Headed Bushclover                       "]
[72,"WINNEBAGO","CENTRAL",null,null,null,null,null,null,null,null,null,null,null,null,null,null,null,null,null,null,null,null,null,null,null,"Liatris aspera","Rough Blazing Star"]
[73,"WOOD","CENTRAL",null,null,null,null,null,null,null,null,null,null,null,null,null,null,null,null,null,null,null,null,null,null,null,"Liatris pycnostachya","Prairie Blazing Star"]
[null,null,null,null,null,null,null,null,null,null,null,null,null,null,null,null,null,null,null,null,null,null,null,null,null,null,"Lilium superbum","Turk's Cap Lily"]
[null,null,null,null,null,null,null,null,null,null,null,null,null,null,null,null,null,null,null,null,null,null,null,null,null,null,"Linum sulcatum","Grooved Yellow Flax"]
[null,null,null,null,null,null,null,null,null,null,null,null,null,null,null,null,null,null,null,null,null,null,null,null,null,null,"Lobelia cardinalis","Cardinal Flower"]
[null,null,null,null,null,null,null,null,null,null,null,null,null,null,null,null,null,null,null,null,null,null,null,null,null,null,"Lobelia siphilitica","Great Blue Lobelia"]
[null,null,null,null,null,null,null,null,null,null,null,null,null,null,null,null,null,null,null,null,null,null,null,null,null,null,"Lobelia spicata","Pale Spiked Lobelia"]
[null,null,null,null,null,null,null,null,null,null,null,null,null,null,null,null,null,null,null,null,null,null,null,null,null,null,"Lolium perenne","Perennial Ryegrass"]
[null,null,null,null,null,null,null,null,null,null,null,null,null,null,null,null,null,null,null,null,null,null,null,null,null,null,"Lolium perenne L. ssp. Multiflorum","Annual (Italian) Ryegrass"]
[null,null,null,null,null,null,null,null,null,null,null,null,null,null,null,null,null,null,null,null,null,null,null,null,null,null,"Lotus corniculatus","Birdsfoot Trefoil"]
[null,null,null,null,null,null,null,null,null,null,null,null,null,null,null,null,null,null,null,null,null,null,null,null,null,null,"Lupinus perennis","Wild Lupine"]
[null,null,null,null,null,null,null,null,null,null,null,null,null,null,null,null,null,null,null,null,null,null,null,null,null,null,"Lysimachia quadriflora","Prairie Loosestrife"]
[null,null,null,null,null,null,null,null,null,null,null,null,null,null,null,null,null,null,null,null,null,null,null,null,null,null,"Lythrum alatum","Winged Loosestrife"]
[null,null,null,null,null,null,null,null,null,null,null,null,null,null,null,null,null,null,null,null,null,null,null,null,null,null,"Medicago sativa","Alfalfa"]
[null,null,null,null,null,null,null,null,null,null,null,null,null,null,null,null,null,null,null,null,null,null,null,null,null,null,"Monarda fistulosa","Bergamot"]
[null,null,null,null,null,null,null,null,null,null,null,null,null,null,null,null,null,null,null,null,null,null,null,null,null,null,"Monarda punctata","Spotted Mint"]
[null,null,null,null,null,null,null,null,null,null,null,null,null,null,null,null,null,null,null,null,null,null,null,null,null,null,"Oenothera biennis","Evening Primrose"]
[null,null,null,null,null,null,null,null,null,null,null,null,null,null,null,null,null,null,null,null,null,null,null,null,null,null,"Oligoneuron rigidum","Stiff Goldenrod"]
[null,null,null,null,null,null,null,null,null,null,null,null,null,null,null,null,null,null,null,null,null,null,null,null,null,null,"Packera aurea","Golden Ragwort"]
[null,null,null,null,null,null,null,null,null,null,null,null,null,null,null,null,null,null,null,null,null,null,null,null,null,null,"Panicum virgatum","Switchgrass"]
[null,null,null,null,null,null,null,null,null,null,null,null,null,null,null,null,null,null,null,null,null,null,null,null,null,null,"Parthenium auriculatum","Wild Quinine"]
[null,null,null,null,null,null,null,null,null,null,null,null,null,null,null,null,null,null,null,null,null,null,null,null,null,null,"Pedicularis canadensis","Wood Betony"]
[null,null,null,null,null,null,null,null,null,null,null,null,null,null,null,null,null,null,null,null,null,null,null,null,null,null,"Penstemon digitalis","Foxglove Beardtongue"]
[null,null,null,null,null,null,null,null,null,null,null,null,null,null,null,null,null,null,null,null,null,null,null,null,null,null,"Penstemon grandiflorus","Large Beardtongue"]
[null,null,null,null,null,null,null,null,null,null,null,null,null,null,null,null,null,null,null,null,null,null,null,null,null,null,"Phleum pratense","Timothy"]
[null,null,null,null,null,null,null,null,null,null,null,null,null,null,null,null,null,null,null,null,null,null,null,null,null,null,"Phlox pilosa","Prairie Phlox"]
[null,null,null,null,null,null,null,null,null,null,null,null,null,null,null,null,null,null,null,null,null,null,null,null,null,null,"Poa pratensis","Kentucky Bluegrass"]
[null,null,null,null,null,null,null,null,null,null,null,null,null,null,null,null,null,null,null,null,null,null,null,null,null,null,"Polytaenia nuttallii ","Prairie Parsley"]
[null,null,null,null,null,null,null,null,null,null,null,null,null,null,null,null,null,null,null,null,null,null,null,null,null,null,"Potentilla arguta","Prairie Cinquefoil"]
[null,null,null,null,null,null,null,null,null,null,null,null,null,null,null,null,null,null,null,null,null,null,null,null,null,null,"Pulsatilla patens","Pasque Flower"]
[null,null,null,null,null,null,null,null,null,null,null,null,null,null,null,null,null,null,null,null,null,null,null,null,null,null,"Pycnanthemum virginianum","Mountain Mint"]
[null,null,null,null,null,null,null,null,null,null,null,null,null,null,null,null,null,null,null,null,null,null,null,null,null,null,"Ratibida pinnata","Yellow Coneflower"]
[null,null,null,null,null,null,null,null,null,null,null,null,null,null,null,null,null,null,null,null,null,null,null,null,null,null,"Rudbeckia hirta","Black-Eyed Susan"]
[null,null,null,null,null,null,null,null,null,null,null,null,null,null,null,null,null,null,null,null,null,null,null,null,null,null,"Rudbeckia subtomentosa","Sweet Black-Eyed Susan"]
[null,null,null,null,null,null,null,null,null,null,null,null,null,null,null,null,null,null,null,null,null,null,null,null,null,null,"Schedonorus pratensis ","Meadow Fescue"]
[null,null,null,null,null,null,null,null,null,null,null,null,null,null,null,null,null,null,null,null,null,null,null,null,null,null,"Schizachyrium scoparium","Little Bluestem"]
[null,null,null,null,null,null,null,null,null,null,null,null,null,null,null,null,null,null,null,null,null,null,null,null,null,null,"Schoenoplectus fluviatilis","River Bulrush"]
[null,null,null,null,null,null,null,null,null,null,null,null,null,null,null,null,null,null,null,null,null,null,null,null,null,null,"Schoenoplectus tabernaemontani","Softstem Bulrush"]
[null,null,null,null,null,null,null,null,null,null,null,null,null,null,null,null,null,null,null,null,null,null,null,null,null,null,"Scirpus atrovirens","Green Bulrush"]
[null,null,null,null,null,null,null,null,null,null,null,null,null,null,null,null,null,null,null,null,null,null,null,null,null,null,"Scirpus cyperinus","Woolgrass"]
[null,null,null,null,null,null,null,null,null,null,null,null,null,null,null,null,null,null,null,null,null,null,null,null,null,null,"Silphium integrifolium","Rosinweed"]
[null,null,null,null,null,null,null,null,null,null,null,null,null,null,null,null,null,null,null,null,null,null,null,null,null,null,"Silphium laciniatum","Compassplant"]
[null,null,null,null,null,null,null,null,null,null,null,null,null,null,null,null,null,null,null,null,null,null,null,null,null,null,"Silphium perfoliatum","Cupplant"]
[null,null,null,null,null,null,null,null,null,null,null,null,null,null,null,null,null,null,null,null,null,null,null,null,null,null,"Silphium terebinthinaceum","Prairie Dock"]
[null,null,null,null,null,null,null,null,null,null,null,null,null,null,null,null,null,null,null,null,null,null,null,null,null,null,"Sisyrinchium campestre","Blue-Eyed Grass"]
[null,null,null,null,null,null,null,null,null,null,null,null,null,null,null,null,null,null,null,null,null,null,null,null,null,null,"Solidago speciosa","Showy Goldenrod"]
[null,null,null,null,null,null,null,null,null,null,null,null,null,null,null,null,null,null,null,null,null,null,null,null,null,null,"Sorghastrum nutans","Indiangrass"]
[null,null,null,null,null,null,null,null,null,null,null,null,null,null,null,null,null,null,null,null,null,null,null,null,null,null,"Spartina pectinata","Prairie Cordgrass"]
[null,null,null,null,null,null,null,null,null,null,null,null,null,null,null,null,null,null,null,null,null,null,null,null,null,null,"Sporobolus cryptandrus","Sand Dropseed"]
[null,null,null,null,null,null,null,null,null,null,null,null,null,null,null,null,null,null,null,null,null,null,null,null,null,null,"Sporobolus heterolepis","Prairie Dropseed"]
[null,null,null,null,null,null,null,null,null,null,null,null,null,null,null,null,null,null,null,null,null,null,null,null,null,null,"Symphyotrichum ericoides","Heath Aster"]
[null,null,null,null,null,null,null,null,null,null,null,null,null,null,null,null,null,null,null,null,null,null,null,null,null,null,"Symphyotrichum laeve","Smooth Blue Aster"]
[null,null,null,null,null,null,null,null,null,null,null,null,null,null,null,null,null,null,null,null,null,null,null,null,null,null,"Symphyotrichum novae-angliae","New England Aster"]
[null,null,null,null,null,null,null,null,null,null,null,null,null,null,null,null,null,null,null,null,null,null,null,null,null,null,"Symphyotrichum oolentangiense","Sky-Blue Aster"]
[null,null,null,null,null,null,null,null,null,null,null,null,null,null,null,null,null,null,null,null,null,null,null,null,null,null,"Symphyotrichum sericeum","Silky Aster"]
[null,null,null,null,null,null,null,null,null,null,null,null,null,null,null,null,null,null,null,null,null,null,null,null,null,null,"Tephrosia virginiana","Goat's Rue"]
[null,null,null,null,null,null,null,null,null,null,null,null,null,null,null,null,null,null,null,null,null,null,null,null,null,null,"Thalictrum dasycarpum","Purple Meadow-Rue"]
[null,null,null,null,null,null,null,null,null,null,null,null,null,null,null,null,null,null,null,null,null,null,null,null,null,null,"Tradescantia ohiensis","Spiderwort"]
[null,null,null,null,null,null,null,null,null,null,null,null,null,null,null,null,null,null,null,null,null,null,null,null,null,null,"Trifolium hybridum","Alsike Clover"]
[null,null,null,null,null,null,null,null,null,null,null,null,null,null,null,null,null,null,null,null,null,null,null,null,null,null,"Trifolium pratense","Red Clover"]
[null,null,null,null,null,null,null,null,null,null,null,null,null,null,null,null,null,null,null,null,null,null,null,null,null,null,"Trifolium repens","White Ladino Clover"]
[null,null,null,null,null,null,null,null,null,null,null,null,null,null,null,null,null,null,null,null,null,null,null,null,null,null,"Verbena hastata","Blue Vervain"]
[null,null,null,null,null,null,null,null,null,null,null,null,null,null,null,null,null,null,null,null,null,null,null,null,null,null,"Verbena stricta","Hoary Vervain"]
[null,null,null,null,null,null,null,null,null,null,null,null,null,null,null,null,null,null,null,null,null,null,null,null,null,null,"Vernonia fasciculata","Common Ironweed"]
[null,null,null,null,null,null,null,null,null,null,null,null,null,null,null,null,null,null,null,null,null,null,null,null,null,null,"Veronicastrum virginicum","Culver's Root"]
[null,null,null,null,null,null,null,null,null,null,null,null,null,null,null,null,null,null,null,null,null,null,null,null,null,null,"Viola pedata","Bird's Foot Violet"]
[null,null,null,null,null,null,null,null,null,null,null,null,null,null,null,null,null,null,null,null,null,null,null,null,null,null,"Viola pedatifida","Prairie Violet"]
[null,null,null,null,null,null,null,null,null,null,null,null,null,null,null,null,null,null,null,null,null,null,null,null,null,null,"Zizia aurea","Golden Alexanders"]

{"sheet":"comp_temp","index":6,"n_rows":90,"n_cols":26,"rows_kept":90,"cut":false,"hidden":true,"merged":[[10,2,12,2],[10,7,12,7],[10,8,12,8],[13,2,17,2],[13,7,17,7],[13,8,17,8],[2,2,2,8],[3,2,3,8],[5,2,9,2],[5,7,9,7],[5,8,9,8],[18,2,23,2],[18,7,23,7],[18,8,23,8],[16,14,16,25],[17,22,17,25],[24,2,27,2],[24,7,27,7],[24,8,27,8],[28,2,30,2],[28,7,30,7],[28,8,30,8],[31,2,33,2],[31,7,33,7],[31,8,33,8],[34,2,38,2],[34,7,38,7],[34,8,38,8],[39,2,45,2],[39,7,45,7],[39,8,45,8],[46,2,51,2],[46,7,51,7],[46,8,51,8],[62,2,64,2],[62,7,64,7],[62,8,64,8],[52,2,57,2],[52,7,57,7],[52,8,57,8],[58,2,61,2],[58,7,61,7],[58,8,61,8],[3,14,14,14],[16,12,24,13],[4,19,10,19],[17,14,17,17],[17,18,17,21],[3,15,3,18]]}
[]
[]
[]
[null,null,null,null,null,null,null,null,null,null,null,null,null,null,"DATA ENTRY TABLE","TEMPORARY CROPS-same for all standards",null,null,null,null,"SPECIES","lbs/Bu"]
[null,null,null,null,null,null,null,null,null,null,null,null,null,null,null,"Species","lbs/A","Bu/A","lbs/Bu","DATA ENTRY TABLE","Annual (Italian) Ryegrass",22]
[null,null,null,null,null,null,null,null,null,null,null,null,null,null,null,"NONE",null,null,null,null,"Canada Wild Rye",26]
[null,null,null,null,null,null,null,null,null,null,null,null,null,null,null,"Annual (Italian) Ryegrass",20,{"$f":"ROUND(Q7/S7,1)","v":0.9},22,null,"Oats",32]
[null,null,null,null,null,null,null,null,null,null,null,null,null,null,null,"Forage Sorghum",20,{"$f":"ROUND(Q8/S8,1)","v":0.5},40,null,"Sideoats Grama",10]
[null,null,null,null,null,null,null,null,null,null,null,null,null,null,null,"Oats",64,2,32,null,"Spring Wheat",60]
[null,null,null,null,null,null,null,null,null,null,null,null,null,null,null,"Spring Wheat",120,2,60,null,"Virginia Wild Rye",16]
[null,null,null,null,null,null,null,null,null,null,null,null,null,null,null,"Sudangrass",40,1,40,null,"Winter Wheat",60]
[null,null,null,null,null,null,null,null,null,null,null,null,null,null,null,"Winter Cereal Rye",112,2,56]
[null,null,null,null,null,null,null,null,null,null,null,null,null,null,null,"Winter Wheat",120,2,60]
[]
[]
[]
[null,null,null,null,null,null,null,null,null,null,null,null,"DATA ENTRY TABLE",null,"COMPANION CROPS"]
[null,null,null,null,null,null,null,null,null,null,null,null,null,null,"STANDARDS 327, 342, CRP",null,null,null,"STANDARDS 327, 342, 512, 420, CRP",null,null,null,"STANDARD 512"]
[null,null,null,null,null,null,null,null,null,null,null,null,null,null,null,"Species","lbs/A","Bu/A",null,"Species","lbs/A","Bu/A",null,"Species","lbs/A","Bu/A"]
[null,null,null,null,null,null,null,null,null,null,null,null,null,null,"INT","Annual (Italian) Ryegrass",6,{"$f":"IF(P20=\"\",\"\",ROUND(Q20/(VLOOKUP(P20,$U$5:$V$11,2)),1))","v":0.3},"NAT","Oats",32,{"$f":"IF(T20=\"\",\"\",ROUND(U20/(VLOOKUP(T20,$U$5:$V$11,2)),1))","v":1},"INT","Annual (Italian) Ryegrass",6,{"$f":"IF(X20=\"\",\"\",ROUND(Y20/(VLOOKUP(X20,$U$5:$V$11,2)),1))","v":0.3}]
[null,null,null,null,null,null,null,null,null,null,null,null,null,null,"INT","Oats",32,{"$f":"IF(P21=\"\",\"\",ROUND(Q21/(VLOOKUP(P21,$U$5:$V$11,2)),1))","v":1},"NAT",null,null,{"$f":"IF(T21=\"\",\"\",ROUND(U21/(VLOOKUP(T21,$U$5:$V$11,2)),1))","v":""},"INT","Oats",64,{"$f":"IF(X21=\"\",\"\",ROUND(Y21/(VLOOKUP(X21,$U$5:$V$11,2)),1))","v":2}]
[null,null,null,null,null,null,null,null,null,null,null,null,null,null,"INT","Spring Wheat",60,1,"NAT",null,null,"","INT","Spring Wheat",60,1]
[null,null,null,null,null,null,null,null,null,null,null,null,null,null,"INT","Winter Wheat",60,1,"NAT",null,null,"","INT","Winter Wheat",60,1]
[null,null,null,null,null,null,null,null,null,null,null,null,null,null,"INT",null,null,"","NAT",null,null,"","INT",null,null,""]
[null,null,null,null,null,null,null,null,null,null,null,null,null,null,"INT",null,null,"","NAT",null,null,"","INT",null,null,""]
[]
[]
[]
[]
[null,null,null,null,null,null,null,null,null,null,null,{"$f":"IF(#REF!,K30,\"\")","v":{"$error":"#REF!"}},null,"DO NOT CHANGE THE TABLE BELOW - IT IS COPIED FROM ABOVE WHEN MACROS ARE RUN"]
[null,null,null,null,null,null,null,null,null,null,null,{"$f":"IF(#REF!,K31,\"\")","v":{"$error":"#REF!"}}]
[null,null,null,null,null,null,null,null,null,null,null,{"$f":"IF(#REF!,K32,\"\")","v":{"$error":"#REF!"}},null,{"$f":"IF(Calculator!$Z$2=1,327,IF(Calculator!$Z$2=2,342,512))","v":512},{"$f":"+SeedingPlan_CUST!$K$91","v":0},"NONE"]
[null,null,null,null,null,null,null,null,null,null,null,{"$f":"IF(#REF!,K33,\"\")","v":{"$error":"#REF!"}},null,null,null,"Annual (Italian) Ryegrass",6,{"$f":"IF(P33=\"\",\"\",ROUND(Q33/(VLOOKUP(P33,$U$5:$V$11,2)),1))","v":0.3}]
[null,null,null,null,null,null,null,null,null,null,null,{"$f":"IF(#REF!,K34,\"\")","v":{"$error":"#REF!"}},null,null,null,"Oats",32,1]
[null,null,null,null,null,null,null,null,null,null,null,{"$f":"IF(#REF!,K35,\"\")","v":{"$error":"#REF!"}},null,null,null,"Spring Wheat",60,1]
[null,null,null,null,null,null,null,null,null,null,null,{"$f":"IF(#REF!,K36,\"\")","v":{"$error":"#REF!"}},null,null,null,"Winter Wheat",60,1]
[null,null,null,null,null,null,null,null,null,null,null,{"$f":"IF(#REF!,K37,\"\")","v":{"$error":"#REF!"}},null,null,null,null,null,""]
[null,null,null,null,null,null,null,null,null,null,null,null,null,null,null,null,null,""]
[]
[null,null,null,null,null,null,null,null,null,null,null,{"$f":"IF(#REF!,K40,\"\")","v":{"$error":"#REF!"}}]
[null,null,null,null,null,null,null,null,null,null,null,{"$f":"IF(#REF!,K41,\"\")","v":{"$error":"#REF!"}}]
[null,null,null,null,null,null,null,null,null,null,null,{"$f":"IF(#REF!,K42,\"\")","v":{"$error":"#REF!"}}]
[]
[]
[]
[]
[]
[]
[]
[]
[]
[]
[]
[]
[]
[]
[]
[]
[]
[]
[]
[]
[]
[]
[]
[]
[]
[]
[]
[]
[]
[]
[]
[]
[]
[]
[]
[]
[]
[]
[]
[]
[]
[]
[]
[]
[]
[]
[]
[null,null,null,null,null,null,null,null,null,null,0]

{"sheet":"mixcheck","index":7,"n_rows":54,"n_cols":13,"rows_kept":54,"cut":false,"hidden":true,"merged":[[53,0,53,9],[0,0,0,9],[1,0,2,0],[1,1,1,9],[2,1,2,2],[2,3,2,4],[2,5,2,8],[2,9,3,9],[6,0,6,9],[7,0,7,9],[8,0,9,0],[8,1,8,9],[9,1,9,2],[9,3,9,4],[9,5,9,8],[9,9,10,9],[17,0,17,9],[15,0,15,8],[18,0,18,9],[19,0,19,8],[20,0,20,9],[21,0,22,0],[21,1,21,9],[22,1,22,2],[22,3,22,4],[22,5,22,8],[22,9,23,9],[26,0,26,8],[27,0,27,9],[28,0,29,0],[28,1,28,9],[29,1,29,2],[29,3,29,4],[29,5,29,8],[29,9,30,9],[33,0,33,8],[34,0,34,8],[36,0,36,9],[37,0,38,0],[37,1,37,9],[38,1,38,2],[38,3,38,4],[38,5,38,8],[49,0,49,9],[38,9,39,9],[41,1,41,4],[42,1,42,2],[42,3,42,4],[43,0,43,8],[44,0,45,0],[44,1,44,9],[45,1,45,2],[45,3,45,4],[45,5,45,8],[45,9,46,9]]}
["Conservation Cover (327)"]
[327,"Introduced Species",null,null,null,null,null,null,null,null,null,{"$f":"+Calculator!M148+Calculator!M152","v":0},"intro total"]
[null,"Grasses",null,"Legumesa",null,"Seeding Periods",null,null,null,"Notes",null,{"$f":"+Calculator!M149+Calculator!M151+Calculator!M153","v":0},"native total"]
["Mix Type","No. ","seeds/ft2","No.","seeds/ft2","Spring","Late Summer","Dormantb","Frostb",null,null,{"$f":"IF(Calculator!$Z$2=1,327,IF(Calculator!$Z$2=2,342,512))","v":512},"std"]
["Wildlife Habitat","³ 2","³ 70","³ 1","³ 30","X","X","X","X","Grasses must be at least 50% of mix.",null,{"$f":"IF(OR(Calculator!A6=1,Calculator!A10=3),\"B\",IF(OR(Calculator!A6=2,Calculator!A10=1),\"I\",\"N\"))","v":"N"},"intro/native/both"]
["Pollinator Habitat","1-2","≤ 30","³ 2","³ 40","X","X","X","X","Grasses must be bunch-type.",null,{"$f":"CONCATENATE(L4,\"-\",L5)","v":"512-N"}]
["(a) If more than 20% of legumes are hard seed, increase rate by % of hard seed.",null,null,null,null,null,null,null,null,null,null,{"$f":"IF(L6=\"327-N\",1,IF(L6=\"327-I\",2,IF(L6=\"327-B\",3,IF(L6=\"342-N\",4,IF(L6=\"342-I\",5,IF(L6=\"342-B\",6,IF(L6=\"512-N\",7,IF(L6=\"512-I\",8,IF(L6=\"512-B\",9,\"\")))))))))","v":7}]
["(b) Increase rate 15% for frost and dormant seedings"]
[327,"Native Species"]
[null,"Grassesa",null,"Forbs/Legumesb",null,"Seeding Periods",null,null,null,"Notes"]
["Mix Type","No.","seeds/ft2","No.","seeds/ft2","Spring","Late Summer","Dormantc","Frostc"]
["Basic Prairied","³ 3","³ 20","³ 3","³ 2","X","NR","X","X","Grasses must be at least 50% of mix."]
["Prairie Restorationd","³ 5","³ 15","³ 10","³ 8","X","NR","X","X","Grasses must be at least 50% of mix.  One forb must be a legume."]
["Pollinator Habitat","1-2","≤ 10","³ 9","³ 30","X","NR","X","X","Grasses must be bunch-type.  At least 3 early, 3 middle, and 3 late-blooming forbs."]
["Untested Local Genotype Seed","³ 5","³ 25","³ 10","³ 10","X","NR","X","X","Mix must be at least 50 seeds/sq. ft. total.  Grasses must be at least 50% of mix.  One forb must be a legume.  If a single species makes up more than 20% of mix, only count 20% towards the total seeds/ft2."]
["(a) Limit Canada Wildrye, Virginia Wildrye, and Sideoats Grama to no more than 20% of the total grasses."]
["(b) If more than 20% of legumes are hard seed, increase rate by % of hard seed."]
["(c) Increase rate 15% for frost and dormant seedings."]
["(d) Maximum rates/acre for the following species: Switchgrass (1 lb.), Junegrass (2 oz.), Black-eyed Susan (2 oz.), Bergamot (2 oz.), or Purple Coneflower (3 oz.)."]
[]
["Critical Area Planting (342)"]
[342,"Introduced Species"]
[null,"Grasses",null,"Legumesa",null,"Seeding Periods",null,null,null,"Notes"]
["Mix Type","No. ","seeds/ft2","No.","seeds/ft2","Spring","Late Summer","Dormantb","Frost"]
["Grasses Only","³ 1","³160",null,null,"X","X","X","NR","At least 25% of the total seeds must be sod-forming grasses."]
["Mixtures ","³ 1","³ 80","³ 1","See Notes","X","X","X","NR","Mix must be at least 160 seeds/ft2 total.  Grasses must be at least 50% of the mix.  At least 25% of the seeds in the mix must be sod-forming grasses. "]
["(a) If more than 20% of legumes are hard seed, increase rate by % of hard seed."]
["(b) Increase rate 15% for dormant seedings.  Seedings in concentrated flow areas must be mulched."]
[342,"Native Species"]
[null,"Grassesa",null,"Forbs/Legumesb",null,"Seeding Periods",null,null,null,"Notes"]
["Mix Type","No.","seeds/ft2","No.","seeds/ft2","Spring","Late Summer","Dormant","Frost"]
["Grasses Only","³ 1","³ 60",null,null,"X","NR","NR","NR"]
["Mixtures ","³ 1","³40","³ 1","³20","X","NR","NR","NR","Mix must be at least 60 seeds/ft2 total.  Grasses must be at least 50% of the mix."]
["(a) Limit Canada Wildrye, Virginia Wildrye, and Sideoats Grama to no more than 20% of the total grasses."]
["(b) If more than 20% of legumes are hard seed, increase rate by % of hard seed."]
[]
["Forage & Biomass Planting (512)"]
[512,"Introduced Species"]
[null,"Grasses",null,"Legumesa",null,"Seeding Periods",null,null,null,"Notes"]
["Mix Type","No. ","seeds/ft2","No.","seeds/ft2","Spring","Late Summer","Dormant","Frost"]
["Pasture","³ 1","See Notes","³ 1","See Notes","X","X","NR","NR","Mix must be at least 60 seeds/ft2 total.  Grasses must be at least 50% of the mix."]
["Hayland","Single species or mixture with ≥60 seeds/ft2",null,null,null,"X","X","NR","NR"]
["Interseeding","See Notes",null,"See Notes",null,"X","X","NR","Legumes Only","Use 1/2 the pure stand rate for spring or late summer seeding of grasses and/or legumes. Use 2/3 pure stand rate for frost seeding legumes."]
["(a) If more than 20% of legumes are hard seed, increase rate by % of hard seed."]
[512,"Native Species"]
[null,"Grasses",null,"Forbs/Legumes",null,"Seeding Periods",null,null,null,"Notes"]
["Mix Type","No.","seeds/ft2","No.","seeds/ft2","Spring","Late Summer","Dormanta","Frosta"]
["Pasture/Hayland",1,"See Notes","NR","NR","X","NR","X","X","Big Bluestem - ≥42 seeds/ft2; Indiangrass - ≥44 seeds/ft2; Switchgrass - ≥63 seeds/ft2"]
["Biomass Seeding",1,"³ 60","NR","NR","X","NR","X","X","Only Switchgrass is approved."]
["(a) Increase rate 15% for frost and dormant seedings."]
[]
[]
[]
["CRITICAL MIX CRITERIA TO MEET STANDARD"]

{"sheet":"modifications","index":8,"n_rows":100,"n_cols":3,"rows_kept":100,"cut":false,"hidden":false,"merged":[]}
[]
["date","by","Mod"]
["2014-12-14","janet vosberg","added giant sunflower, partridge pea, panicled aster, common milkweed, gian hyssop, and tall bellflower to forbsLegumes tab.  Also changed the scientific name of Joe-Pye Weed to Eutrochium maculatum"]
["2015-04-08","janet vosberg","fixed formula on seeding plan sheet to bring acres over from calculator page and set acres decimal to hundredths place for CRP use"]
["2015-04-30","janet vosberg","Changed 9 grasses to \"yes\" for pollinators and made sure there is an \"X\" in the pollinator table.  Fixed Great St. John's Wort so it now shows up as a pollinator."]
["2017-03-14","janet vosberg","Added Lance Leaf Coriospis and Northern Plains/Meadow Blazing Star to ForbsLegumes.  Added Forbs (MONARCH) total to bottom of calculator page that only shows if Monarch forbs are selected.  Added \"MONARCH\" to Forbs species that are Monarch friendly and now shows in the calculator dropdown.  All changes made per Steve Bertjens direction.  Added Monarch butterfly column to seeding plan"]
["2017-04-06","Janet vosberg","modified seeding dates so if any introduced species in mix, it will always pick the introduced seeding dates.  Unprotected cell D85 and G85 to add companion crop amounts on seeding sheet.  Temporarily deleted the Hide/Unhide rows button from calculator page as it was rendering the combo boxes for species selection unusable.  Will fix in future.  Changed OATS companion crop rate to 1 bushel/acre for natives."]
["2020-06-30","janet vosberg","modified the hide/unhide button on the seedingPlan_Cust sheet so it shows all rows if a user deletes a species in between rows on calculator page (Added formula to column M, revised formulas in columns I and J, changed count of rows to Max of I and J in cells I7 and I8 which are used in macro)"]
["2021-03-10","janet vosberg","Changed \"% of Mix\" Column format in Calculator tab to display to the nearest hundredth.  The summary table at the bottom will display to the nearest tenth, Per BH."]
["2023-03-02","michelle komiskey","updated rounding to hundredths pounds, changed seeding rate of oats for companion crop to 1bu/ac rather than 2bu/ac, removed outdated seed costs."]
[{"$f":"IF(B11=\"\",\"\",A10)","v":""},{"$f":"IF(C11=\"\",\"\",B10)","v":""}]
["",""]
["",""]
["",""]
["",""]
["",""]
["",""]
["",""]
["",""]
["",""]
["",""]
["",""]
["",""]
["",""]
["",""]
["",""]
["",""]
["",""]
["",""]
["",""]
["",""]
["",""]
["",""]
["",""]
["",""]
["",""]
["",""]
["",""]
["",""]
["",""]
["",""]
["",""]
["",""]
["",""]
["",""]
["",""]
["",""]
["",""]
["",""]
["",""]
["",""]
["",""]
["",""]
["",""]
["",""]
["",""]
["",""]
["",""]
["",""]
["",""]
["",""]
["",""]
["",""]
["",""]
["",""]
["",""]
["",""]
["",""]
["",""]
[{"$f":"IF(B70=\"\",\"\",A69)","v":""},{"$f":"IF(C70=\"\",\"\",B69)","v":""}]
["",""]
["",""]
["",""]
["",""]
["",""]
["",""]
["",""]
["",""]
["",""]
["",""]
["",""]
["",""]
["",""]
["",""]
["",""]
["",""]
["",""]
["",""]
["",""]
["",""]
["",""]
["",""]
["",""]
["",""]
["",""]
["",""]
["",""]
["",""]
["",""]
["",""]

{"sheet":"border","index":9,"n_rows":10,"n_cols":12,"rows_kept":10,"cut":false,"hidden":true,"merged":[[5,3,6,12],[7,3,8,12],[9,11,9,12]]}
[]
[]
[]
[]
[]
[null,null,null,"Seeding Plan"]
[]
[null,null,null,"Custom Mix"]
[]
[null,null,null,null,null,null,null,null,null,null,null,"Ver. 2/2013"]